{"text_format":"1","workbook":"xlsx","n_sheets":21,"sheets":["Cover","Checklist","PP1(LP)","PP2","PP3","PP4","PP5","Project identification","T1-PPs","T2-B(PP1)","T2-B(PP2)","T2-B(PP3)","T2-B(PP4)","T2-B(PP5)","Table 2-total","Table 3-summary","Table 4 PP`BL","Table 5-Sources","Statements","Summary","Named_ranges"],"not_rendered":{"charts":0,"images":2,"macros":1,"external_links":0,"defined_names":10760,"comments":0,"pivot_tables":0},"unopened":[],"bounds":{"document_bytes":16777216,"sheet_cells":100000,"rows_first":2000,"rows_last":500,"rows_between":2000,"halvings":0,"cell_chars":16384,"cell_head_chars":4096},"cells_cut":0,"cells_raw":0,"read":"whole","date_system":"1900"}

{"sheet":"Cover","index":0,"n_rows":49,"n_cols":18,"rows_kept":49,"cut":false,"hidden":false,"merged":[[42,2,42,9],[30,2,30,9],[32,2,32,9],[34,2,34,9],[36,2,36,9],[40,2,40,9],[38,2,38,9],[16,0,16,10],[8,0,8,10],[9,0,9,10],[10,0,10,10],[11,0,11,9],[15,0,15,10],[3,1,3,9],[1,1,1,3],[1,4,1,6],[1,7,1,9],[2,1,2,3],[2,4,2,6],[2,7,2,9],[17,0,17,8],[18,0,18,10],[21,1,21,9],[24,1,24,9],[27,1,27,9]]}
[]
[]
[null,"Signature (Chairperson)",null,null,"Signature (Secretary)",null,null,"Project number"]
[null,"(filled in by the Joint Secretariat)"]
[]
[]
[]
[]
["Managing Authority",null,null,null,null,null,null,null,null,null,null,null,null,"Environment",null,"1.1. Preventing and mitigating the consequences of natural and man-made disasters in the cross-border area",3,1]
["Directorate General Territorial Cooperation Management",null,null,null,null,null,null,null,null,null,null,null,null,"Tourism",null,"1.2. Improving the capacity for nature protection, sustainable use and management of common natural resources through cooperation initiatives in the  cross-border area",3,2]
["Ministry of Regional Development and Public Works",null,null,null,null,null,null,null,null,null,null,null,null,null,null,"2.1. Increasing the touristic attractiveness of the cross-border area through better utilisation of natural, cultural and historical heritage and related infrastructure",2,3]
[" of the Republic of Bulgaria ",null,null,null,null,null,null,null,null,null,null,null,null,null,null,"2.2. Increasing the cross-border tourism potential by developing common destinations",1,4]
[null,null,null,null,null,null,null,null,null,null,null,null,null,null,null,"2.3. Increasing networking for development of sustainable tourism through cross-border cooperation initiatives",1,5]
[]
[null,null,null,null,null,null,null,null,null,null,null,null,null,{"$f":"VLOOKUP(C35,P9:Q13,2)","v":{"$error":"#N/A"}},"Soft","Investment","Investment"]
["INTERREG-IPA Cross-Border Cooperation Bulgaria-Turkey Programme",null,null,null,null,null,null,null,null,null,null,null,null,null,null,null,"Soft"]
["Application Form "]
[]
["Call No: 2014TC16I5CB005 – 2015 –1"]
[]
[null,"Project title"]
[null,"sadasd"]
[]
[null,"Lead Partner - Instiution"]
[null,"asdasdasdasdsadsudhn kashd saidh aui   asud a iausd hkawhd klkkdsjfu oiasdnm l  ow oos  skdj  oiasd ooapoid o"]
[]
[null,"Legal  representative – name, signature, stamp"]
[null,"sjfkdjhgskjdgfb"]
[]
[]
[null,"Project title:",null,null,null,null,null,null,null,null,null,null,null,"Environment",null,"1.1. Preventing and mitigating the consequences of natural and man-made disasters in the cross-border area",3,1]
[null,null,null,null,null,null,null,null,null,null,null,null,null,"Tourism",null,"1.2. Improving the capacity for nature protection, sustainable use and management of common natural resources through cooperation initiatives in the  cross-border area",3,2]
[null,"Priority Axis",null,null,null,null,null,null,null,null,null,null,null,null,null,"2.1. Increasing the touristic attractiveness of the cross-border area through better utilisation of natural, cultural and historical heritage and related infrastructure",2,3]
[null,null,null,null,null,null,null,null,null,null,null,null,null,null,null,"2.2. Increasing the cross-border tourism potential by developing common destinations",1,4]
[null,"Specific Objective",null,null,null,null,null,null,null,null,null,null,null,null,null,"2.3. Increasing networking for development of sustainable tourism through cross-border cooperation initiatives",1,5]
[]
[null,"Type of project",null,null,null,null,null,null,null,null,null,null,null,{"$f":"VLOOKUP(C35,P31:Q35,2)","v":{"$error":"#N/A"}},"Soft","Investment","Investment"]
[]
[null,"Intervention field"]
[null,null,null,null,null,null,null,null,null,null,null,null,null,null,null,null,"Soft"]
[null,"Lead Partner Organization"]
[]
[null,"Legal  representative – name, signature, stamp",null,null,null,null,null,null,null,null,null,null,null,{"$f":"C33","v":0},{"$f":"CONCATENATE(N43,\"1\")","v":"01"}]
[null,null,null,null,null,null,null,null,null,null,null,null,null,"085 Protection and enhancement of biodiversity, nature protection and green infrastructure","075 Development and promotion of tourism services in or for SMEs"]
[null,null,null,null,null,null,null,null,null,null,null,null,null,"087 Adaptation to climate change measures and prevention and management of climate related risks e.g. erosion, fires, flooding, storms and drought, including awareness raising, civil protection and disaster management systems and infrastructures","079 Access to public sector information (including open data e-Tourism)"]
[null,null,null,null,null,null,null,null,null,null,null,null,null,null,"090 Cycle tracks and footpaths"]
[null,null,null,null,null,null,null,null,null,null,null,null,null,null,"092 Protection, development and promotion of public tourism assets"]
[null,null,null,null,null,null,null,null,null,null,null,null,null,null,"094 Protection, development and promotion of public cultural and heritage assets"]
[null,null,null,null,null,null,null,null,null,null,null,null,null,null,"095 Development and promotion of public cultural and heritage services"]

{"sheet":"Checklist","index":1,"n_rows":77,"n_cols":11,"rows_kept":77,"cut":false,"hidden":false,"merged":[[0,1,1,7]]}
[null,"Application Form\nINTERREG-IPA Cross-Border Cooperation \nBulgaria-Turkey Programme\n\n     \n     \n     \n"]
[]
[]
[]
[]
[null,"Project partner 1 (Lead Beneficiery)"]
[null,null,"1.1.Detailed information",null,null,null,null,"x",null,{"$f":"'PP1(LP)'!J35","v":false}]
[null,null,"1.2. Partner profile",null,null,null,null,"x",null,{"$f":"'PP1(LP)'!J39","v":false}]
[null,null,"1.3. Partner experience",null,null,null,null,"x",null,true]
[]
[null,null,"2.1. Detailed information",null,null,null,null,"x",null,{"$f":"'PP1(LP)'!J68","v":false}]
[null,null,"2.2. Financial status, capacity and equipment",null,null,null,null,"x",null,{"$f":"'PP1(LP)'!J76","v":false}]
[]
[null,"Project partner 2"]
[null,null,"1.1.Detailed information",null,null,null,null,"x",null,{"$f":"'PP2'!$J$35","v":false}]
[null,null,"1.2. Partner profile",null,null,null,null,"x",null,{"$f":"'PP2'!J$39","v":false}]
[null,null,"1.3. Partner experience",null,null,null,null,"x",null,true]
[]
[null,null,"2.1. Detailed information",null,null,null,null,"x",null,{"$f":"'PP2'!J$68","v":false}]
[null,null,"2.2. Financial status, capacity and equipment",null,null,null,null,"x",null,{"$f":"'PP2'!J$76","v":false}]
[]
[null,"Project partner 3",null,"x",null,null,null,null,null,null,"x"]
[null,null,"1.1.Detailed information",null,null,null,null,"x",null,{"$f":"'PP3'!$J$35","v":false}]
[null,null,"1.2. Partner profile",null,null,null,null,"x",null,{"$f":"'PP3'!J$39","v":false}]
[null,null,"1.3. Partner experience",null,null,null,null,"x",null,true]
[]
[null,null,"2.1. Detailed information",null,null,null,null,"x",null,{"$f":"'PP3'!J$68","v":false}]
[null,null,"2.2. Financial status, capacity and equipment",null,null,null,null,"x",null,{"$f":"'PP3'!J$76","v":false}]
[]
[null,"Project partner 4",null,"x"]
[null,null,"1.1.Detailed information",null,null,null,null,"x",null,{"$f":"'PP4'!$J$35","v":false}]
[null,null,"1.2. Partner profile",null,null,null,null,"x",null,{"$f":"'PP4'!J$39","v":false}]
[null,null,"1.3. Partner experience",null,null,null,null,"x",null,true]
[]
[null,null,"2.1. Detailed information",null,null,null,null,"x",null,{"$f":"'PP4'!J$68","v":false}]
[null,null,"2.2. Financial status, capacity and equipment",null,null,null,null,"x",null,{"$f":"'PP4'!J$76","v":false}]
[]
[null,"Project partner 5",null,"x"]
[null,null,"1.1.Detailed information",null,null,null,null,"x",null,{"$f":"'PP5'!$J$35","v":false}]
[null,null,"1.2. Partner profile",null,null,null,null,"x",null,{"$f":"'PP5'!J$39","v":false}]
[null,null,"1.3. Partner experience",null,null,null,null,"x",null,true]
[]
[null,null,"2.1. Detailed information",null,null,null,null,"x",null,{"$f":"'PP5'!J$68","v":false}]
[null,null,"2.2. Financial status, capacity and equipment",null,null,null,null,"x",null,{"$f":"'PP5'!J$76","v":false}]
[]
[null,"Project Identification"]
[null,"1. Project Identity"]
[null,null,"1.1. Project Identity",null,null,null,null,"x",null,{"$f":"'Project identification'!L16","v":true}]
[null,null,"1.2. Project duration",null,null,null,null,"x",null,{"$f":"'Project identification'!L19","v":false}]
[null,null,"1.3 Cooperation criteria",null,null,null,null,"x",null,{"$f":"'Project identification'!O26","v":false}]
[null,null,"1.4 Cross-border impact and benefits of the project",null,null,null,null,"x",null,{"$f":"'Project identification'!P37","v":false}]
[]
[null,"2. Financial information - Project budget (EUR)"]
[null,null,"2.1. Sources of financing (EUR)",null,null,null,null,"x",null,true]
[null,null,"2.2. Breakdown of eligible expenditure (EUR)",null,null,null,null,"x",null,true]
[]
[null,"3. Project description"]
[null,null,"3.1. Background and demand for the project proposal ",null,null,null,null,"x",null,{"$f":"NOT('Project identification'!L68)","v":false}]
[null,null,"3.2. Consistency with the Programme specific objective",null,null,null,null,"x",null,{"$f":"'Project identification'!M72","v":false}]
[null,null,"3.3. Consistency with the Programme overall aim",null,null,null,null,"x",null,{"$f":"'Project identification'!M76","v":false}]
[null,null,"3.4. Description of the target groups and beneficiaries",null,null,null,null,"x",null,{"$f":"'Project identification'!P83","v":false}]
[null,null,"3.5. Project activities ",null,null,null,null,"x",null,true]
[null,null,"3.6. Project activities outside the eligible border area ",null,null,null,null,"x",null,{"$f":"'Project identification'!N288","v":false}]
[null,null,"3.7.Communication and visibility",null,null,null,null,"x",null,{"$f":"'Project identification'!L296","v":false}]
[null,null,"3.8. Duration and action plan",null,null,null,null,"x",null,{"$f":"'Project identification'!L322","v":false}]
[]
[null,"4. Management of the project and reporting ",null,null,null,null,null,"x",null,{"$f":"'Project identification'!L330","v":false}]
[]
[null,"5. Monitoring of the project "]
[null,null,"5.1. Expected outputs",null,null,null,null,"x",null,{"$f":"'Project identification'!AB340","v":false}]
[null,null,"5.2. Multiplier effect",null,null,null,null,"x",null,{"$f":"'Project identification'!L351","v":false}]
[null,null,"5.3. Sustainability",null,null,null,null,"x",null,{"$f":"'Project identification'!L356","v":false}]
[]
[null,"6. Project coherence with:"]
[null,null,"6.1. Other strategies",null,null,null,null,"x",null,{"$f":"'Project identification'!L364","v":false}]
[null,null,"6.2. Other projects ",null,null,null,null,"x",null,{"$f":"'Project identification'!L369","v":false}]
[null,null,"6.3. Horizontal themes",null,null,null,null,"x",null,{"$f":"'Project identification'!M374","v":false}]

{"sheet":"PP1(LP)","index":2,"n_rows":79,"n_cols":22,"rows_kept":79,"cut":false,"hidden":false,"merged":[[48,2,48,5],[56,2,56,5],[40,1,40,5],[61,2,61,4],[60,2,60,7],[50,2,50,7],[51,2,51,7],[52,2,52,7],[54,6,54,7],[53,6,53,7],[53,2,53,4],[54,2,54,4],[61,6,61,7],[58,2,58,7],[59,2,59,7],[41,1,41,7],[62,2,62,4],[62,6,62,7],[75,5,75,7],[69,2,69,7],[71,2,71,7],[74,1,74,7],[65,1,65,7],[28,2,28,7],[26,2,26,7],[24,2,24,7],[6,2,6,7],[8,2,8,7],[0,1,1,7],[4,1,4,7],[22,2,22,7],[20,2,20,7],[18,2,18,7],[16,2,16,7],[14,2,14,7],[76,5,76,7],[77,5,77,7],[78,5,78,7],[41,16,45,16],[10,2,10,7],[45,6,45,7],[46,6,46,7],[44,2,44,7],[42,2,42,7],[43,2,43,7],[45,2,45,4],[46,2,46,4],[37,1,38,7],[36,1,36,7],[32,2,32,7],[30,2,30,7]]}
[null,"Application Form\nINTERREG-IPA Cross-Border Cooperation \nBulgaria-Turkey Programme\nPART I\n     \n     \n     \n"]
[]
[null,"PROJECT PARTNER No 1"]
[]
[null,"1. Identity"]
[null,"1.1.Detailed information"]
[null,"Organization:",{"$f":"IF(Cover!C41=\"\",\"\",Cover!C41)","v":""},null,null,null,null,null,null,{"$f":"ISBLANK(C7)","v":false}]
[]
[null,"Organization (in mother tongue):",null,null,null,null,null,null,null,{"$f":"ISBLANK(C9)","v":true}]
[null,null,null,null,null,null,null,null,null,null,null,null,null,null,null,null,null,null,null,null,null,"Administration of protected area/s"]
[null,"Type of organization",null,null,null,null,null,null,null,{"$f":"ISBLANK(C11)","v":true},null,null,null,null,null,null,null,null,null,null,null,"Association of local/regional authorities or other organisations"]
[null,null,null,null,null,null,null,null,null,null,null,null,null,null,null,null,null,null,null,null,null,"Business support institution/organisation"]
[null,"Country:",null,null,null,null,null,null,null,null,null,null,null,null,null,null,null,null,null,null,null,"Central/Regional/Local office or structure of government institution/ administration"]
[null,null,null,null,null,null,null,null,null,null,1,null,null,null,{"$f":"VLOOKUP('Project identification'!C13,'Project identification'!P9:R13,3)","v":{"$error":"#N/A"}},null,null,null,null,null,null,"Educational/Training institution or organisation"]
[null,"District/NUTS III",null,null,null,null,null,null,null,{"$f":"ISBLANK(C15)","v":true},null,"Bourgas","Edirne",null,null,null,null,null,null,null,null,"Euro region or other joint cross-border structure or institution"]
[null,null,null,null,null,null,null,null,null,null,null,"Yambol","Kirklareli",null,null,null,null,null,null,null,null,"Local/Regional authority"]
[null,"Town/city:",null,null,null,null,null,null,null,{"$f":"ISBLANK(C17)","v":true},null,"Haskovo","Other",null,"Local/Regional authority","Local/Regional authority","Local/Regional authority","Local/Regional authority","Local/Regional authority",null,null,"Non-Governmental organisation"]
[null,null,null,null,null,null,null,null,null,null,null,"Other",null,null,"Central/Regional office or structure of national/governmental institution/administration","Association of local/regional authorities or other organisations","Regional/Sector development agency","Central/Regional/Local office or structure of government institution/ administration","Central/Regional/Local office or structure of government institution/ administration",null,null,"Non-Governmental organisation in the field of tourism"]
[null,"Address:",null,null,null,null,null,null,null,{"$f":"ISBLANK(C19)","v":true},null,null,null,null,"Regional/Sector development agency","Central/Regional office or structure of central government institution/ administration","Central/Regional/Local office or structure of government institution/ administration","Administration of protected area/s","Administration of protected area/s",null,null,"Public cultural institute"]
[null,null,null,null,null,null,null,null,null,null,null,null,null,null,null,"Administration of protected area/s","Public cultural institute","Non-Governmental organisation in the field of tourism","Non-Governmental organisation",null,null,"Regional touristic association"]
[null,"Postal Code:",null,null,null,null,null,null,null,{"$f":"ISBLANK(C21)","v":true},null,null,null,null,null,"Euro region or other joint cross-border structure or institution","Regional touristic association","Business support institution/organisation","Business support institution or organisation",null,null,"Regional/Sector development agency"]
[null,null,null,null,null,null,null,null,null,null,null,null,null,null,null,"University/Scientific institution","Business support institution/organisation","Tourist board or association","Tourist board or association;",null,null,"Tourist board or association"]
[null,"Legal representative (Name):",{"$f":"IF(Cover!C43=\"\",\"\",Cover!C43)","v":""},null,null,null,null,null,null,{"$f":"ISBLANK(C23)","v":false},null,null,null,null,null,"Educational/Training institution or organisation","Non-Governmental organisation","Educational/Training institution/organization","Educational/Training institution/organization",null,null,"University/Scientific institution"]
[null,null,null,null,null,null,null,null,null,null,null,null,null,null,null,"Business support institution/organisation","Educational/Training institution or organizations","University/Scientific institution","University/Scientific organization",null,null,"Youth’s organization"]
[null,"Legal representative (Position):",null,null,null,null,null,null,null,{"$f":"ISBLANK(C25)","v":true},null,null,null,null,null,"Non-Governmental organisation","University/Scientific institution","Public cultural institute","Community organization/institution involved in development of civil society/promotion of education, culture and sports"]
[null,null,null,null,null,null,null,null,null,null,null,null,null,null,null,"Youth’s organization",null,null,"Youth’s organization"]
[null,"Telephone:"]
[]
[null,"Fax:"]
[]
[null,"E-mail:"]
[]
[null,"Website:"]
[null,null,null,null,null,null,null,null,null,{"$f":"J25+J23+J21+J19+J17+J15+J11+J9+J7","v":7}]
[null,"1.2. Partner profile",null,null,null,null,null,null,null,{"$f":"J34=0","v":false}]
[]
[null,"Please describe the organization's background and scope of competences and activities.(max 2500 chars)"]
[]
[null,null,null,null,null,null,null,null,null,{"$f":"LEN(B38)>0","v":false},{"$f":"LEN(B38)>2500","v":false}]
[null,"1.3. Partner experience"]
[null,"Have you ever received financing from European funds? ",null,null,null,null,null,null,null,null,null,null,null,null,null,null,null,null,null,null,null,"Administration of protected area/s"]
[null,"If Yes, please fill in the table below brief description for the most relevant successfully implemented project(s) - (maximum three projects for each project partner):",null,null,null,null,null,null,null,null,"hidden until Yes on G36",null,null,null,null,null,"global check if \"yes\" inG39",null,null,null,null,"Non-Governmental organisation"]
[null,"Initiative/Programme",null,null,null,null,null,null,null,null,null,null,null,null,null,null,null,null,null,null,null,"Business support institution or organisation"]
[null,"Project title  and reference number",null,null,null,null,null,null,null,null,null,null,null,null,null,null,null,null,null,null,null,"Tourist board or association;"]
[null,"Short description including project objectives and activities \n(max. 500 characters)",null,null,null,null,null,null,null,null,null,null,null,null,null,null,null,null,null,null,null,"Educational/Training institution/organization"]
[null,"Total eligible value in euro for the project partner (for finalized projects: total eligible value after project implementation - financial execution; for ongoing projects: total contract eligible value)",null,null,null,"Grant amount:",null,null,null,null,null,null,null,null,null,null,null,null,null,null,null,"University/Scientific organization"]
[null,"Organization’s role in the project (lead partner, partner etc.)and other partners involved in the project",null,null,null,"Start date and end date of the project ",null,null,null,null,"Add button",null,null,null,null,null,null,null,null,null,null,"Community organization/institution involved in development of civil society/promotion of education, culture and sports"]
[null,null,null,null,null,null,null,null,null,null,null,null,null,null,null,null,null,null,null,null,null,"Youth’s organization"]
[null,null,"Add new project information",null,null,null,null,null,null,null,"No",null,1,null,null,null,null,null,null,null,null,"Administration of protected area/s"]
[null,null,null,null,null,null,null,null,null,null,"Visible after \"add\"",null,null,null,null,null,null,null,null,null,null,"Non-Governmental organisation"]
[null,"Initiative/Programme",null,null,null,null,null,null,null,null,null,null,null,null,null,null,null,null,null,null,null,"Business support institution or organisation"]
[null,"Project title  and reference number",null,null,null,null,null,null,null,null,null,null,null,null,null,null,null,null,null,null,null,"Tourist board or association;"]
[null,"Short description including project objectives and activities \n(max. 500 characters)",null,null,null,null,null,null,null,null,null,null,null,null,null,null,null,null,null,null,null,"Educational/Training institution/organization"]
[null,"Total eligible value in euro for the project partner (for finalized projects: total eligible value after project implementation - financial execution; for ongoing projects: total contract eligible value)",null,null,null,"Grant amount:"]
[null,"Organization’s role in the project (lead partner, partner etc.)and other partners involved in the project",null,null,null,"Start date and end date of the project ",null,null,null,null,"Add button"]
[]
[null,null,"Add new project information",null,null,null,null,null,null,null,"No",null,1,null,null,null,null,null,null,null,null,"Administration of protected area/s"]
[null,null,null,null,null,null,null,null,null,null,"Visible after \"add\"",null,null,null,null,null,null,null,null,null,null,"Non-Governmental organisation"]
[null,"Initiative/Programme",null,null,null,null,null,null,null,null,null,null,null,null,null,null,null,null,null,null,null,"Business support institution or organisation"]
[null,"Project title  and reference number",null,null,null,null,null,null,null,null,null,null,null,null,null,null,null,null,null,null,null,"Tourist board or association;"]
[null,"Short description including project objectives and activities \n(max. 500 characters)",null,null,null,null,null,null,null,null,null,null,null,null,null,null,null,null,null,null,null,"Educational/Training institution/organization"]
[null,"Total eligible value in euro for the project partner (for finalized projects: total eligible value after project implementation - financial execution; for ongoing projects: total contract eligible value)",null,null,null,"Grant amount:"]
[null,"Organization’s role in the project (lead partner, partner etc.)and other partners involved in the project",null,null,null,"Start date and end date of the project ",null,null,null,null,"Add button"]
[]
[]
[null,"2. Financial Data"]
[]
[null,"2.1. Detailed information",null,null,null,null,null,null,null,{"$f":"J73=0","v":false}]
[]
[null,"National registration code:",null,null,null,null,null,null,null,{"$f":"ISBLANK(C70)","v":true}]
[]
[null,"VAT registration (type N/A if not applicable)::",null,null,null,null,null,null,null,{"$f":"ISBLANK(C72)","v":true}]
[null,null,null,null,null,null,null,null,null,{"$f":"J72+J70","v":2}]
[null,"2.2. Financial status, capacity and equipment"]
[null,"Please provide the following information on the basis of the Profit and loss account and Balance sheet of your organization  and any information related to the staff and technical capacity for the past 3 (three) years."]
[null,"Year","Turnover or equivalent\n(in EUR)","Number of full-time staff","Number of part-time staff","Number of offices, equipment and vehiclse (describe, if applicable)",null,null,null,{"$f":"N76=0","v":false},null,null,null,{"$f":"SUM(N77:N79)","v":9}]
[null,2014,null,null,null,null,null,null,null,null,{"$f":"ISBLANK(C77)","v":true},{"$f":"ISBLANK(D77)","v":true},true,{"$f":"K77+L77+M77","v":3}]
[null,2013,null,null,null,null,null,null,null,null,{"$f":"ISBLANK(C78)","v":true},{"$f":"ISBLANK(D78)","v":true},{"$f":"ISBLANK(E78)","v":true},{"$f":"K78+L78+M78","v":3}]
[null,2012,null,null,null,null,null,null,null,null,true,true,true,3]

{"sheet":"PP2","index":3,"n_rows":79,"n_cols":22,"rows_kept":79,"cut":false,"hidden":false,"merged":[[77,5,77,7],[78,5,78,7],[65,1,65,7],[69,2,69,7],[71,2,71,7],[74,1,74,7],[75,5,75,7],[76,5,76,7],[59,2,59,7],[60,2,60,7],[61,2,61,4],[61,6,61,7],[62,2,62,4],[62,6,62,7],[58,2,58,7],[46,2,46,4],[46,6,46,7],[48,2,48,5],[50,2,50,7],[51,2,51,7],[52,2,52,7],[53,2,53,4],[53,6,53,7],[54,2,54,4],[54,6,54,7],[56,2,56,5],[41,1,41,7],[41,16,45,16],[42,2,42,7],[43,2,43,7],[44,2,44,7],[45,2,45,4],[45,6,45,7],[40,1,40,5],[16,2,16,7],[18,2,18,7],[20,2,20,7],[22,2,22,7],[24,2,24,7],[26,2,26,7],[28,2,28,7],[30,2,30,7],[32,2,32,7],[36,1,36,7],[37,1,38,7],[14,2,14,7],[0,1,1,7],[4,1,4,7],[6,2,6,7],[8,2,8,7],[10,2,10,7]]}
[null,"Application Form\nINTERREG-IPA Cross-Border Cooperation \nBulgaria-Turkey Programme\nPART I\n     \n     \n     \n"]
[]
[null,"PROJECT PARTNER No 2"]
[]
[null,"1. Identity"]
[null,"1.1.Detailed information"]
[null,"Organization:",null,null,null,null,null,null,null,{"$f":"ISBLANK(C7)","v":true}]
[]
[null,"Organization (in mother tongue):",null,null,null,null,null,null,null,{"$f":"ISBLANK(C9)","v":true}]
[]
[null,"Type of organization",null,null,null,null,null,null,null,{"$f":"ISBLANK(C11)","v":true}]
[]
[null,"Country:"]
[null,null,null,null,null,null,null,null,null,null,1,null,null,null,{"$f":"VLOOKUP('Project identification'!C13,'Project identification'!P9:R13,3)","v":{"$error":"#N/A"}}]
[null,"District/NUTS III",null,null,null,null,null,null,null,{"$f":"ISBLANK(C15)","v":true},null,"Bourgas","Edirne"]
[null,null,null,null,null,null,null,null,null,null,null,"Yambol","Kirklareli"]
[null,"Town/city:",null,null,null,null,null,null,null,{"$f":"ISBLANK(C17)","v":true},null,"Haskovo","Other",null,"Local/Regional authority","Local/Regional authority","Local/Regional authority","Local/Regional authority","Local/Regional authority"]
[null,null,null,null,null,null,null,null,null,null,null,"Other",null,null,"Central/Regional office or structure of national/governmental institution/administration","Association of local/regional authorities or other organisations","Regional/Sector development agency","Central/Regional/Local office or structure of government institution/ administration","Central/Regional/Local office or structure of government institution/ administration"]
[null,"Address:",null,null,null,null,null,null,null,{"$f":"ISBLANK(C19)","v":true},null,null,null,null,"Regional/Sector development agency","Central/Regional office or structure of central government institution/ administration","Central/Regional/Local office or structure of government institution/ administration","Administration of protected area/s","Administration of protected area/s"]
[null,null,null,null,null,null,null,null,null,null,null,null,null,null,null,"Administration of protected area/s","Public cultural institute","Non-Governmental organisation in the field of tourism","Non-Governmental organisation"]
[null,"Postal Code:",null,null,null,null,null,null,null,{"$f":"ISBLANK(C21)","v":true},null,null,null,null,null,"Euro region or other joint cross-border structure or institution","Regional touristic association","Business support institution/organisation","Business support institution or organisation"]
[null,null,null,null,null,null,null,null,null,null,null,null,null,null,null,"University/Scientific institution","Business support institution/organisation","Tourist board or association","Tourist board or association;"]
[null,"Legal representative (Name):",null,null,null,null,null,null,null,{"$f":"ISBLANK(C23)","v":true},null,null,null,null,null,"Educational/Training institution or organisation","Non-Governmental organisation","Educational/Training institution/organization","Educational/Training institution/organization"]
[null,null,null,null,null,null,null,null,null,null,null,null,null,null,null,"Business support institution/organisation","Educational/Training institution or organizations","University/Scientific institution","University/Scientific organization"]
[null,"Legal representative (Position):",null,null,null,null,null,null,null,{"$f":"ISBLANK(C25)","v":true},null,null,null,null,null,"Non-Governmental organisation","University/Scientific institution","Public cultural institute","Community organization/institution involved in development of civil society/promotion of education, culture and sports"]
[null,null,null,null,null,null,null,null,null,null,null,null,null,null,null,"Youth’s organization",null,null,"Youth’s organization"]
[null,"Telephone:"]
[]
[null,"Fax:"]
[]
[null,"E-mail:"]
[]
[null,"Website:"]
[null,null,null,null,null,null,null,null,null,{"$f":"J25+J23+J21+J19+J17+J15+J11+J9+J7","v":9}]
[null,"1.2. Partner profile",null,null,null,null,null,null,null,{"$f":"J34=0","v":false}]
[]
[null,"Please describe the organization's background and scope of competences and activities.(max 2500 chars)"]
[]
[null,null,null,null,null,null,null,null,null,{"$f":"LEN(B38)>0","v":false},{"$f":"LEN(B38)>2500","v":false}]
[null,"1.3. Partner experience"]
[null,"Have you ever received financing from European funds? "]
[null,"If Yes, please fill in the table below brief description for the most relevant successfully implemented project(s) - (maximum three projects for each project partner):",null,null,null,null,null,null,null,null,"hidden until Yes on G36",null,null,null,null,null,"global check if \"yes\" inG39"]
[null,"Initiative/Programme",null,null,null,null,null,null,null,null,null,null,null,null,null,null,null,null,null,null,null,"Administration of protected area/s"]
[null,"Project title  and reference number",null,null,null,null,null,null,null,null,null,null,null,null,null,null,null,null,null,null,null,"Non-Governmental organisation"]
[null,"Short description including project objectives and activities \n(max. 500 characters)",null,null,null,null,null,null,null,null,null,null,null,null,null,null,null,null,null,null,null,"Business support institution or organisation"]
[null,"Total eligible value in euro for the project partner (for finalized projects: total eligible value after project implementation - financial execution; for ongoing projects: total contract eligible value)",null,null,null,"Grant amount:",null,null,null,null,null,null,null,null,null,null,null,null,null,null,null,"Tourist board or association;"]
[null,"Organization’s role in the project (lead partner, partner etc.)and other partners involved in the project",null,null,null,"Start date and end date of the project ",null,null,null,null,"Add button",null,null,null,null,null,null,null,null,null,null,"Educational/Training institution/organization"]
[]
[null,null,"Add new project information",null,null,null,null,null,null,null,"No",null,1]
[null,null,null,null,null,null,null,null,null,null,"Visible after \"add\""]
[null,"Initiative/Programme",null,null,null,null,null,null,null,null,null,null,null,null,null,null,null,null,null,null,null,"Administration of protected area/s"]
[null,"Project title  and reference number",null,null,null,null,null,null,null,null,null,null,null,null,null,null,null,null,null,null,null,"Non-Governmental organisation"]
[null,"Short description including project objectives and activities \n(max. 500 characters)",null,null,null,null,null,null,null,null,null,null,null,null,null,null,null,null,null,null,null,"Business support institution or organisation"]
[null,"Total eligible value in euro for the project partner (for finalized projects: total eligible value after project implementation - financial execution; for ongoing projects: total contract eligible value)",null,null,null,"Grant amount:",null,null,null,null,null,null,null,null,null,null,null,null,null,null,null,"Tourist board or association;"]
[null,"Organization’s role in the project (lead partner, partner etc.)and other partners involved in the project",null,null,null,"Start date and end date of the project ",null,null,null,null,"Add button",null,null,null,null,null,null,null,null,null,null,"Educational/Training institution/organization"]
[]
[null,null,"Add new project information",null,null,null,null,null,null,null,"No",null,1]
[null,null,null,null,null,null,null,null,null,null,"Visible after \"add\""]
[null,"Initiative/Programme",null,null,null,null,null,null,null,null,null,null,null,null,null,null,null,null,null,null,null,"Administration of protected area/s"]
[null,"Project title  and reference number",null,null,null,null,null,null,null,null,null,null,null,null,null,null,null,null,null,null,null,"Non-Governmental organisation"]
[null,"Short description including project objectives and activities \n(max. 500 characters)",null,null,null,null,null,null,null,null,null,null,null,null,null,null,null,null,null,null,null,"Business support institution or organisation"]
[null,"Total eligible value in euro for the project partner (for finalized projects: total eligible value after project implementation - financial execution; for ongoing projects: total contract eligible value)",null,null,null,"Grant amount:",null,null,null,null,null,null,null,null,null,null,null,null,null,null,null,"Tourist board or association;"]
[null,"Organization’s role in the project (lead partner, partner etc.)and other partners involved in the project",null,null,null,"Start date and end date of the project ",null,null,null,null,"Add button",null,null,null,null,null,null,null,null,null,null,"Educational/Training institution/organization"]
[]
[]
[null,"2. Financial Data"]
[]
[null,"2.1. Detailed information",null,null,null,null,null,null,null,{"$f":"J73=0","v":false}]
[]
[null,"National registration code:",null,null,null,null,null,null,null,{"$f":"ISBLANK(C70)","v":true}]
[]
[null,"VAT registration (type N/A if not applicable)::",null,null,null,null,null,null,null,{"$f":"ISBLANK(C72)","v":true}]
[null,null,null,null,null,null,null,null,null,{"$f":"J72+J70","v":2}]
[null,"2.2. Financial status, capacity and equipment"]
[null,"Please provide the following information on the basis of the Profit and loss account and Balance sheet of your organization  and any information related to the staff and technical capacity for the past 3 (three) years."]
[null,"Year","Turnover or equivalent\n(in EUR)","Number of full-time staff","Number of part-time staff","Number of offices, equipment and vehiclse (describe, if applicable)",null,null,null,{"$f":"N76=0","v":false},null,null,null,{"$f":"SUM(N77:N79)","v":9},null,false,false,true,2]
[null,2014,null,null,null,null,null,null,null,null,{"$f":"ISBLANK(C77)","v":true},{"$f":"ISBLANK(D77)","v":true},true,{"$f":"K77+L77+M77","v":3},null,false,false,true,2]
[null,2013,null,null,null,null,null,null,null,null,{"$f":"ISBLANK(C78)","v":true},true,true,{"$f":"K78+L78+M78","v":3},null,false,false,true,2,true]
[null,2012,null,null,null,null,null,null,null,null,true,true,true,3]

{"sheet":"PP3","index":4,"n_rows":79,"n_cols":22,"rows_kept":79,"cut":false,"hidden":false,"merged":[[77,5,77,7],[78,5,78,7],[65,1,65,7],[69,2,69,7],[71,2,71,7],[74,1,74,7],[75,5,75,7],[76,5,76,7],[59,2,59,7],[60,2,60,7],[61,2,61,4],[61,6,61,7],[62,2,62,4],[62,6,62,7],[58,2,58,7],[46,2,46,4],[46,6,46,7],[48,2,48,5],[50,2,50,7],[51,2,51,7],[52,2,52,7],[53,2,53,4],[53,6,53,7],[54,2,54,4],[54,6,54,7],[56,2,56,5],[41,1,41,7],[41,16,45,16],[42,2,42,7],[43,2,43,7],[44,2,44,7],[45,2,45,4],[45,6,45,7],[40,1,40,5],[16,2,16,7],[18,2,18,7],[20,2,20,7],[22,2,22,7],[24,2,24,7],[26,2,26,7],[28,2,28,7],[30,2,30,7],[32,2,32,7],[36,1,36,7],[37,1,38,7],[14,2,14,7],[0,1,1,7],[4,1,4,7],[6,2,6,7],[8,2,8,7],[10,2,10,7]]}
[null,"Application Form\nINTERREG-IPA Cross-Border Cooperation \nBulgaria-Turkey Programme\nPART I\n     \n     \n     \n"]
[]
[null,"PROJECT PARTNER No 3"]
[]
[null,"1. Identity"]
[null,"1.1.Detailed information"]
[null,"Organization:",null,null,null,null,null,null,null,{"$f":"ISBLANK(C7)","v":true}]
[]
[null,"Organization (in mother tongue):",null,null,null,null,null,null,null,{"$f":"ISBLANK(C9)","v":true}]
[]
[null,"Type of organization",null,null,null,null,null,null,null,{"$f":"ISBLANK(C11)","v":true}]
[]
[null,"Country:"]
[null,null,null,null,null,null,null,null,null,null,1,null,null,null,{"$f":"VLOOKUP('Project identification'!C13,'Project identification'!P9:R13,3)","v":{"$error":"#N/A"}}]
[null,"District/NUTS III",null,null,null,null,null,null,null,{"$f":"ISBLANK(C15)","v":true},null,"Bourgas","Edirne"]
[null,null,null,null,null,null,null,null,null,null,null,"Yambol","Kirklareli"]
[null,"Town/city:",null,null,null,null,null,null,null,{"$f":"ISBLANK(C17)","v":true},null,"Haskovo","Other",null,"Local/Regional authority","Local/Regional authority","Local/Regional authority","Local/Regional authority","Local/Regional authority"]
[null,null,null,null,null,null,null,null,null,null,null,"Other",null,null,"Central/Regional office or structure of national/governmental institution/administration","Association of local/regional authorities or other organisations","Regional/Sector development agency","Central/Regional/Local office or structure of government institution/ administration","Central/Regional/Local office or structure of government institution/ administration"]
[null,"Address:",null,null,null,null,null,null,null,{"$f":"ISBLANK(C19)","v":true},null,null,null,null,"Regional/Sector development agency","Central/Regional office or structure of central government institution/ administration","Central/Regional/Local office or structure of government institution/ administration","Administration of protected area/s","Administration of protected area/s"]
[null,null,null,null,null,null,null,null,null,null,null,null,null,null,null,"Administration of protected area/s","Public cultural institute","Non-Governmental organisation in the field of tourism","Non-Governmental organisation"]
[null,"Postal Code:",null,null,null,null,null,null,null,{"$f":"ISBLANK(C21)","v":true},null,null,null,null,null,"Euro region or other joint cross-border structure or institution","Regional touristic association","Business support institution/organisation","Business support institution or organisation"]
[null,null,null,null,null,null,null,null,null,null,null,null,null,null,null,"University/Scientific institution","Business support institution/organisation","Tourist board or association","Tourist board or association;"]
[null,"Legal representative (Name):",null,null,null,null,null,null,null,{"$f":"ISBLANK(C23)","v":true},null,null,null,null,null,"Educational/Training institution or organisation","Non-Governmental organisation","Educational/Training institution/organization","Educational/Training institution/organization"]
[null,null,null,null,null,null,null,null,null,null,null,null,null,null,null,"Business support institution/organisation","Educational/Training institution or organizations","University/Scientific institution","University/Scientific organization"]
[null,"Legal representative (Position):",null,null,null,null,null,null,null,{"$f":"ISBLANK(C25)","v":true},null,null,null,null,null,"Non-Governmental organisation","University/Scientific institution","Public cultural institute","Community organization/institution involved in development of civil society/promotion of education, culture and sports"]
[null,null,null,null,null,null,null,null,null,null,null,null,null,null,null,"Youth’s organization",null,null,"Youth’s organization"]
[null,"Telephone:"]
[]
[null,"Fax:"]
[]
[null,"E-mail:"]
[]
[null,"Website:"]
[null,null,null,null,null,null,null,null,null,{"$f":"J25+J23+J21+J19+J17+J15+J11+J9+J7","v":9}]
[null,"1.2. Partner profile",null,null,null,null,null,null,null,{"$f":"J34=0","v":false}]
[]
[null,"Please describe the organization's background and scope of competences and activities.(max 2500 chars)"]
[]
[null,null,null,null,null,null,null,null,null,{"$f":"LEN(B38)>0","v":false},{"$f":"LEN(B38)>2500","v":false}]
[null,"1.3. Partner experience"]
[null,"Have you ever received financing from European funds? "]
[null,"If Yes, please fill in the table below brief description for the most relevant successfully implemented project(s) - (maximum three projects for each project partner):",null,null,null,null,null,null,null,null,"hidden until Yes on G36",null,null,null,null,null,"global check if \"yes\" inG39"]
[null,"Initiative/Programme",null,null,null,null,null,null,null,null,null,null,null,null,null,null,null,null,null,null,null,"Administration of protected area/s"]
[null,"Project title  and reference number",null,null,null,null,null,null,null,null,null,null,null,null,null,null,null,null,null,null,null,"Non-Governmental organisation"]
[null,"Short description including project objectives and activities \n(max. 500 characters)",null,null,null,null,null,null,null,null,null,null,null,null,null,null,null,null,null,null,null,"Business support institution or organisation"]
[null,"Total eligible value in euro for the project partner (for finalized projects: total eligible value after project implementation - financial execution; for ongoing projects: total contract eligible value)",null,null,null,"Grant amount:",null,null,null,null,null,null,null,null,null,null,null,null,null,null,null,"Tourist board or association;"]
[null,"Organization’s role in the project (lead partner, partner etc.)and other partners involved in the project",null,null,null,"Start date and end date of the project ",null,null,null,null,"Add button",null,null,null,null,null,null,null,null,null,null,"Educational/Training institution/organization"]
[]
[null,null,"Add new project information",null,null,null,null,null,null,null,"No",null,1]
[null,null,null,null,null,null,null,null,null,null,"Visible after \"add\""]
[null,"Initiative/Programme",null,null,null,null,null,null,null,null,null,null,null,null,null,null,null,null,null,null,null,"Administration of protected area/s"]
[null,"Project title  and reference number",null,null,null,null,null,null,null,null,null,null,null,null,null,null,null,null,null,null,null,"Non-Governmental organisation"]
[null,"Short description including project objectives and activities \n(max. 500 characters)",null,null,null,null,null,null,null,null,null,null,null,null,null,null,null,null,null,null,null,"Business support institution or organisation"]
[null,"Total eligible value in euro for the project partner (for finalized projects: total eligible value after project implementation - financial execution; for ongoing projects: total contract eligible value)",null,null,null,"Grant amount:",null,null,null,null,null,null,null,null,null,null,null,null,null,null,null,"Tourist board or association;"]
[null,"Organization’s role in the project (lead partner, partner etc.)and other partners involved in the project",null,null,null,"Start date and end date of the project ",null,null,null,null,"Add button",null,null,null,null,null,null,null,null,null,null,"Educational/Training institution/organization"]
[]
[null,null,"Add new project information",null,null,null,null,null,null,null,"No",null,1]
[null,null,null,null,null,null,null,null,null,null,"Visible after \"add\""]
[null,"Initiative/Programme",null,null,null,null,null,null,null,null,null,null,null,null,null,null,null,null,null,null,null,"Administration of protected area/s"]
[null,"Project title  and reference number",null,null,null,null,null,null,null,null,null,null,null,null,null,null,null,null,null,null,null,"Non-Governmental organisation"]
[null,"Short description including project objectives and activities \n(max. 500 characters)",null,null,null,null,null,null,null,null,null,null,null,null,null,null,null,null,null,null,null,"Business support institution or organisation"]
[null,"Total eligible value in euro for the project partner (for finalized projects: total eligible value after project implementation - financial execution; for ongoing projects: total contract eligible value)",null,null,null,"Grant amount:",null,null,null,null,null,null,null,null,null,null,null,null,null,null,null,"Tourist board or association;"]
[null,"Organization’s role in the project (lead partner, partner etc.)and other partners involved in the project",null,null,null,"Start date and end date of the project ",null,null,null,null,"Add button",null,null,null,null,null,null,null,null,null,null,"Educational/Training institution/organization"]
[]
[]
[null,"2. Financial Data"]
[]
[null,"2.1. Detailed information",null,null,null,null,null,null,null,{"$f":"J73=0","v":false}]
[]
[null,"National registration code:",null,null,null,null,null,null,null,{"$f":"ISBLANK(C70)","v":true}]
[]
[null,"VAT registration (type N/A if not applicable)::",null,null,null,null,null,null,null,{"$f":"ISBLANK(C72)","v":true}]
[null,null,null,null,null,null,null,null,null,{"$f":"J72+J70","v":2}]
[null,"2.2. Financial status, capacity and equipment"]
[null,"Please provide the following information on the basis of the Profit and loss account and Balance sheet of your organization  and any information related to the staff and technical capacity for the past 3 (three) years."]
[null,"Year","Turnover or equivalent\n(in EUR)","Number of full-time staff","Number of part-time staff","Number of offices, equipment and vehiclse (describe, if applicable)",null,null,null,{"$f":"N76=0","v":false},null,null,null,{"$f":"SUM(N77:N79)","v":9},null,false,false,true,2]
[null,2014,null,null,null,null,null,null,null,null,{"$f":"ISBLANK(C77)","v":true},{"$f":"ISBLANK(D77)","v":true},true,{"$f":"K77+L77+M77","v":3},null,false,false,true,2]
[null,2013,null,null,null,null,null,null,null,null,{"$f":"ISBLANK(C78)","v":true},true,true,{"$f":"K78+L78+M78","v":3},null,false,false,true,2,true]
[null,2012,null,null,null,null,null,null,null,null,true,true,true,3]

{"sheet":"PP4","index":5,"n_rows":79,"n_cols":22,"rows_kept":79,"cut":false,"hidden":false,"merged":[[77,5,77,7],[78,5,78,7],[65,1,65,7],[69,2,69,7],[71,2,71,7],[74,1,74,7],[75,5,75,7],[76,5,76,7],[59,2,59,7],[60,2,60,7],[61,2,61,4],[61,6,61,7],[62,2,62,4],[62,6,62,7],[58,2,58,7],[46,2,46,4],[46,6,46,7],[48,2,48,5],[50,2,50,7],[51,2,51,7],[52,2,52,7],[53,2,53,4],[53,6,53,7],[54,2,54,4],[54,6,54,7],[56,2,56,5],[41,1,41,7],[41,16,45,16],[42,2,42,7],[43,2,43,7],[44,2,44,7],[45,2,45,4],[45,6,45,7],[40,1,40,5],[16,2,16,7],[18,2,18,7],[20,2,20,7],[22,2,22,7],[24,2,24,7],[26,2,26,7],[28,2,28,7],[30,2,30,7],[32,2,32,7],[36,1,36,7],[37,1,38,7],[14,2,14,7],[0,1,1,7],[4,1,4,7],[6,2,6,7],[8,2,8,7],[10,2,10,7]]}
[null,"Application Form\nINTERREG-IPA Cross-Border Cooperation \nBulgaria-Turkey Programme\nPART I\n     \n     \n     \n"]
[]
[null,"PROJECT PARTNER No 4"]
[]
[null,"1. Identity"]
[null,"1.1.Detailed information"]
[null,"Organization:",null,null,null,null,null,null,null,{"$f":"ISBLANK(C7)","v":true}]
[]
[null,"Organization (in mother tongue):",null,null,null,null,null,null,null,{"$f":"ISBLANK(C9)","v":true}]
[]
[null,"Type of organization",null,null,null,null,null,null,null,{"$f":"ISBLANK(C11)","v":true}]
[]
[null,"Country:"]
[null,null,null,null,null,null,null,null,null,null,1,null,null,null,{"$f":"VLOOKUP('Project identification'!C13,'Project identification'!P9:R13,3)","v":{"$error":"#N/A"}}]
[null,"District/NUTS III",null,null,null,null,null,null,null,{"$f":"ISBLANK(C15)","v":true},null,"Bourgas","Edirne"]
[null,null,null,null,null,null,null,null,null,null,null,"Yambol","Kirklareli"]
[null,"Town/city:",null,null,null,null,null,null,null,{"$f":"ISBLANK(C17)","v":true},null,"Haskovo","Other",null,"Local/Regional authority","Local/Regional authority","Local/Regional authority","Local/Regional authority","Local/Regional authority"]
[null,null,null,null,null,null,null,null,null,null,null,"Other",null,null,"Central/Regional office or structure of national/governmental institution/administration","Association of local/regional authorities or other organisations","Regional/Sector development agency","Central/Regional/Local office or structure of government institution/ administration","Central/Regional/Local office or structure of government institution/ administration"]
[null,"Address:",null,null,null,null,null,null,null,{"$f":"ISBLANK(C19)","v":true},null,null,null,null,"Regional/Sector development agency","Central/Regional office or structure of central government institution/ administration","Central/Regional/Local office or structure of government institution/ administration","Administration of protected area/s","Administration of protected area/s"]
[null,null,null,null,null,null,null,null,null,null,null,null,null,null,null,"Administration of protected area/s","Public cultural institute","Non-Governmental organisation in the field of tourism","Non-Governmental organisation"]
[null,"Postal Code:",null,null,null,null,null,null,null,{"$f":"ISBLANK(C21)","v":true},null,null,null,null,null,"Euro region or other joint cross-border structure or institution","Regional touristic association","Business support institution/organisation","Business support institution or organisation"]
[null,null,null,null,null,null,null,null,null,null,null,null,null,null,null,"University/Scientific institution","Business support institution/organisation","Tourist board or association","Tourist board or association;"]
[null,"Legal representative (Name):",null,null,null,null,null,null,null,{"$f":"ISBLANK(C23)","v":true},null,null,null,null,null,"Educational/Training institution or organisation","Non-Governmental organisation","Educational/Training institution/organization","Educational/Training institution/organization"]
[null,null,null,null,null,null,null,null,null,null,null,null,null,null,null,"Business support institution/organisation","Educational/Training institution or organizations","University/Scientific institution","University/Scientific organization"]
[null,"Legal representative (Position):",null,null,null,null,null,null,null,{"$f":"ISBLANK(C25)","v":true},null,null,null,null,null,"Non-Governmental organisation","University/Scientific institution","Public cultural institute","Community organization/institution involved in development of civil society/promotion of education, culture and sports"]
[null,null,null,null,null,null,null,null,null,null,null,null,null,null,null,"Youth’s organization",null,null,"Youth’s organization"]
[null,"Telephone:"]
[]
[null,"Fax:"]
[]
[null,"E-mail:"]
[]
[null,"Website:"]
[null,null,null,null,null,null,null,null,null,{"$f":"J25+J23+J21+J19+J17+J15+J11+J9+J7","v":9}]
[null,"1.2. Partner profile",null,null,null,null,null,null,null,{"$f":"J34=0","v":false}]
[]
[null,"Please describe the organization's background and scope of competences and activities.(max 2500 chars)"]
[]
[null,null,null,null,null,null,null,null,null,{"$f":"LEN(B38)>0","v":false},{"$f":"LEN(B38)>2500","v":false}]
[null,"1.3. Partner experience"]
[null,"Have you ever received financing from European funds? "]
[null,"If Yes, please fill in the table below brief description for the most relevant successfully implemented project(s) - (maximum three projects for each project partner):",null,null,null,null,null,null,null,null,"hidden until Yes on G36",null,null,null,null,null,"global check if \"yes\" inG39"]
[null,"Initiative/Programme",null,null,null,null,null,null,null,null,null,null,null,null,null,null,null,null,null,null,null,"Administration of protected area/s"]
[null,"Project title  and reference number",null,null,null,null,null,null,null,null,null,null,null,null,null,null,null,null,null,null,null,"Non-Governmental organisation"]
[null,"Short description including project objectives and activities \n(max. 500 characters)",null,null,null,null,null,null,null,null,null,null,null,null,null,null,null,null,null,null,null,"Business support institution or organisation"]
[null,"Total eligible value in euro for the project partner (for finalized projects: total eligible value after project implementation - financial execution; for ongoing projects: total contract eligible value)",null,null,null,"Grant amount:",null,null,null,null,null,null,null,null,null,null,null,null,null,null,null,"Tourist board or association;"]
[null,"Organization’s role in the project (lead partner, partner etc.)and other partners involved in the project",null,null,null,"Start date and end date of the project ",null,null,null,null,"Add button",null,null,null,null,null,null,null,null,null,null,"Educational/Training institution/organization"]
[]
[null,null,"Add new project information",null,null,null,null,null,null,null,"No",null,1]
[null,null,null,null,null,null,null,null,null,null,"Visible after \"add\""]
[null,"Initiative/Programme",null,null,null,null,null,null,null,null,null,null,null,null,null,null,null,null,null,null,null,"Administration of protected area/s"]
[null,"Project title  and reference number",null,null,null,null,null,null,null,null,null,null,null,null,null,null,null,null,null,null,null,"Non-Governmental organisation"]
[null,"Short description including project objectives and activities \n(max. 500 characters)",null,null,null,null,null,null,null,null,null,null,null,null,null,null,null,null,null,null,null,"Business support institution or organisation"]
[null,"Total eligible value in euro for the project partner (for finalized projects: total eligible value after project implementation - financial execution; for ongoing projects: total contract eligible value)",null,null,null,"Grant amount:",null,null,null,null,null,null,null,null,null,null,null,null,null,null,null,"Tourist board or association;"]
[null,"Organization’s role in the project (lead partner, partner etc.)and other partners involved in the project",null,null,null,"Start date and end date of the project ",null,null,null,null,"Add button",null,null,null,null,null,null,null,null,null,null,"Educational/Training institution/organization"]
[]
[null,null,"Add new project information",null,null,null,null,null,null,null,"No",null,1]
[null,null,null,null,null,null,null,null,null,null,"Visible after \"add\""]
[null,"Initiative/Programme",null,null,null,null,null,null,null,null,null,null,null,null,null,null,null,null,null,null,null,"Administration of protected area/s"]
[null,"Project title  and reference number",null,null,null,null,null,null,null,null,null,null,null,null,null,null,null,null,null,null,null,"Non-Governmental organisation"]
[null,"Short description including project objectives and activities \n(max. 500 characters)",null,null,null,null,null,null,null,null,null,null,null,null,null,null,null,null,null,null,null,"Business support institution or organisation"]
[null,"Total eligible value in euro for the project partner (for finalized projects: total eligible value after project implementation - financial execution; for ongoing projects: total contract eligible value)",null,null,null,"Grant amount:",null,null,null,null,null,null,null,null,null,null,null,null,null,null,null,"Tourist board or association;"]
[null,"Organization’s role in the project (lead partner, partner etc.)and other partners involved in the project",null,null,null,"Start date and end date of the project ",null,null,null,null,"Add button",null,null,null,null,null,null,null,null,null,null,"Educational/Training institution/organization"]
[]
[]
[null,"2. Financial Data"]
[]
[null,"2.1. Detailed information",null,null,null,null,null,null,null,{"$f":"J73=0","v":false}]
[]
[null,"National registration code:",null,null,null,null,null,null,null,{"$f":"ISBLANK(C70)","v":true}]
[]
[null,"VAT registration (type N/A if not applicable)::",null,null,null,null,null,null,null,{"$f":"ISBLANK(C72)","v":true}]
[null,null,null,null,null,null,null,null,null,{"$f":"J72+J70","v":2}]
[null,"2.2. Financial status, capacity and equipment"]
[null,"Please provide the following information on the basis of the Profit and loss account and Balance sheet of your organization  and any information related to the staff and technical capacity for the past 3 (three) years."]
[null,"Year","Turnover or equivalent\n(in EUR)","Number of full-time staff","Number of part-time staff","Number of offices, equipment and vehiclse (describe, if applicable)",null,null,null,{"$f":"N76=0","v":false},null,null,null,{"$f":"SUM(N77:N79)","v":9},null,false,false,true,2]
[null,2014,null,null,null,null,null,null,null,null,{"$f":"ISBLANK(C77)","v":true},{"$f":"ISBLANK(D77)","v":true},true,{"$f":"K77+L77+M77","v":3},null,false,false,true,2]
[null,2013,null,null,null,null,null,null,null,null,{"$f":"ISBLANK(C78)","v":true},true,true,{"$f":"K78+L78+M78","v":3},null,false,false,true,2,true]
[null,2012,null,null,null,null,null,null,null,null,true,true,true,3]

{"sheet":"PP5","index":6,"n_rows":79,"n_cols":22,"rows_kept":79,"cut":false,"hidden":false,"merged":[[77,5,77,7],[78,5,78,7],[65,1,65,7],[69,2,69,7],[71,2,71,7],[74,1,74,7],[75,5,75,7],[76,5,76,7],[59,2,59,7],[60,2,60,7],[61,2,61,4],[61,6,61,7],[62,2,62,4],[62,6,62,7],[58,2,58,7],[46,2,46,4],[46,6,46,7],[48,2,48,5],[50,2,50,7],[51,2,51,7],[52,2,52,7],[53,2,53,4],[53,6,53,7],[54,2,54,4],[54,6,54,7],[56,2,56,5],[41,1,41,7],[41,16,45,16],[42,2,42,7],[43,2,43,7],[44,2,44,7],[45,2,45,4],[45,6,45,7],[40,1,40,5],[16,2,16,7],[18,2,18,7],[20,2,20,7],[22,2,22,7],[24,2,24,7],[26,2,26,7],[28,2,28,7],[30,2,30,7],[32,2,32,7],[36,1,36,7],[37,1,38,7],[14,2,14,7],[0,1,1,7],[4,1,4,7],[6,2,6,7],[8,2,8,7],[10,2,10,7]]}
[null,"Application Form\nINTERREG-IPA Cross-Border Cooperation \nBulgaria-Turkey Programme\nPART I\n     \n     \n     \n"]
[]
[null,"PROJECT PARTNER No 5"]
[]
[null,"1. Identity"]
[null,"1.1.Detailed information"]
[null,"Organization:",null,null,null,null,null,null,null,{"$f":"ISBLANK(C7)","v":true}]
[]
[null,"Organization (in mother tongue):",null,null,null,null,null,null,null,{"$f":"ISBLANK(C9)","v":true}]
[]
[null,"Type of organization",null,null,null,null,null,null,null,{"$f":"ISBLANK(C11)","v":true}]
[]
[null,"Country:"]
[null,null,null,null,null,null,null,null,null,null,1,null,null,null,{"$f":"VLOOKUP('Project identification'!C13,'Project identification'!P9:R13,3)","v":{"$error":"#N/A"}}]
[null,"District/NUTS III",null,null,null,null,null,null,null,{"$f":"ISBLANK(C15)","v":true},null,"Bourgas","Edirne"]
[null,null,null,null,null,null,null,null,null,null,null,"Yambol","Kirklareli"]
[null,"Town/city:",null,null,null,null,null,null,null,{"$f":"ISBLANK(C17)","v":true},null,"Haskovo","Other",null,"Local/Regional authority","Local/Regional authority","Local/Regional authority","Local/Regional authority","Local/Regional authority"]
[null,null,null,null,null,null,null,null,null,null,null,"Other",null,null,"Central/Regional office or structure of national/governmental institution/administration","Association of local/regional authorities or other organisations","Regional/Sector development agency","Central/Regional/Local office or structure of government institution/ administration","Central/Regional/Local office or structure of government institution/ administration"]
[null,"Address:",null,null,null,null,null,null,null,{"$f":"ISBLANK(C19)","v":true},null,null,null,null,"Regional/Sector development agency","Central/Regional office or structure of central government institution/ administration","Central/Regional/Local office or structure of government institution/ administration","Administration of protected area/s","Administration of protected area/s"]
[null,null,null,null,null,null,null,null,null,null,null,null,null,null,null,"Administration of protected area/s","Public cultural institute","Non-Governmental organisation in the field of tourism","Non-Governmental organisation"]
[null,"Postal Code:",null,null,null,null,null,null,null,{"$f":"ISBLANK(C21)","v":true},null,null,null,null,null,"Euro region or other joint cross-border structure or institution","Regional touristic association","Business support institution/organisation","Business support institution or organisation"]
[null,null,null,null,null,null,null,null,null,null,null,null,null,null,null,"University/Scientific institution","Business support institution/organisation","Tourist board or association","Tourist board or association;"]
[null,"Legal representative (Name):",null,null,null,null,null,null,null,{"$f":"ISBLANK(C23)","v":true},null,null,null,null,null,"Educational/Training institution or organisation","Non-Governmental organisation","Educational/Training institution/organization","Educational/Training institution/organization"]
[null,null,null,null,null,null,null,null,null,null,null,null,null,null,null,"Business support institution/organisation","Educational/Training institution or organizations","University/Scientific institution","University/Scientific organization"]
[null,"Legal representative (Position):",null,null,null,null,null,null,null,{"$f":"ISBLANK(C25)","v":true},null,null,null,null,null,"Non-Governmental organisation","University/Scientific institution","Public cultural institute","Community organization/institution involved in development of civil society/promotion of education, culture and sports"]
[null,null,null,null,null,null,null,null,null,null,null,null,null,null,null,"Youth’s organization",null,null,"Youth’s organization"]
[null,"Telephone:"]
[]
[null,"Fax:"]
[]
[null,"E-mail:"]
[]
[null,"Website:"]
[null,null,null,null,null,null,null,null,null,{"$f":"J25+J23+J21+J19+J17+J15+J11+J9+J7","v":9}]
[null,"1.2. Partner profile",null,null,null,null,null,null,null,{"$f":"J34=0","v":false}]
[]
[null,"Please describe the organization's background and scope of competences and activities.(max 2500 chars)"]
[]
[null,null,null,null,null,null,null,null,null,{"$f":"LEN(B38)>0","v":false},{"$f":"LEN(B38)>2500","v":false}]
[null,"1.3. Partner experience"]
[null,"Have you ever received financing from European funds? "]
[null,"If Yes, please fill in the table below brief description for the most relevant successfully implemented project(s) - (maximum three projects for each project partner):",null,null,null,null,null,null,null,null,"hidden until Yes on G36",null,null,null,null,null,"global check if \"yes\" inG39"]
[null,"Initiative/Programme",null,null,null,null,null,null,null,null,null,null,null,null,null,null,null,null,null,null,null,"Administration of protected area/s"]
[null,"Project title  and reference number",null,null,null,null,null,null,null,null,null,null,null,null,null,null,null,null,null,null,null,"Non-Governmental organisation"]
[null,"Short description including project objectives and activities \n(max. 500 characters)",null,null,null,null,null,null,null,null,null,null,null,null,null,null,null,null,null,null,null,"Business support institution or organisation"]
[null,"Total eligible value in euro for the project partner (for finalized projects: total eligible value after project implementation - financial execution; for ongoing projects: total contract eligible value)",null,null,null,"Grant amount:",null,null,null,null,null,null,null,null,null,null,null,null,null,null,null,"Tourist board or association;"]
[null,"Organization’s role in the project (lead partner, partner etc.)and other partners involved in the project",null,null,null,"Start date and end date of the project ",null,null,null,null,"Add button",null,null,null,null,null,null,null,null,null,null,"Educational/Training institution/organization"]
[]
[null,null,"Add new project information",null,null,null,null,null,null,null,"No",null,1]
[null,null,null,null,null,null,null,null,null,null,"Visible after \"add\""]
[null,"Initiative/Programme",null,null,null,null,null,null,null,null,null,null,null,null,null,null,null,null,null,null,null,"Administration of protected area/s"]
[null,"Project title  and reference number",null,null,null,null,null,null,null,null,null,null,null,null,null,null,null,null,null,null,null,"Non-Governmental organisation"]
[null,"Short description including project objectives and activities \n(max. 500 characters)",null,null,null,null,null,null,null,null,null,null,null,null,null,null,null,null,null,null,null,"Business support institution or organisation"]
[null,"Total eligible value in euro for the project partner (for finalized projects: total eligible value after project implementation - financial execution; for ongoing projects: total contract eligible value)",null,null,null,"Grant amount:",null,null,null,null,null,null,null,null,null,null,null,null,null,null,null,"Tourist board or association;"]
[null,"Organization’s role in the project (lead partner, partner etc.)and other partners involved in the project",null,null,null,"Start date and end date of the project ",null,null,null,null,"Add button",null,null,null,null,null,null,null,null,null,null,"Educational/Training institution/organization"]
[]
[null,null,"Add new project information",null,null,null,null,null,null,null,"No",null,1]
[null,null,null,null,null,null,null,null,null,null,"Visible after \"add\""]
[null,"Initiative/Programme",null,null,null,null,null,null,null,null,null,null,null,null,null,null,null,null,null,null,null,"Administration of protected area/s"]
[null,"Project title  and reference number",null,null,null,null,null,null,null,null,null,null,null,null,null,null,null,null,null,null,null,"Non-Governmental organisation"]
[null,"Short description including project objectives and activities \n(max. 500 characters)",null,null,null,null,null,null,null,null,null,null,null,null,null,null,null,null,null,null,null,"Business support institution or organisation"]
[null,"Total eligible value in euro for the project partner (for finalized projects: total eligible value after project implementation - financial execution; for ongoing projects: total contract eligible value)",null,null,null,"Grant amount:",null,null,null,null,null,null,null,null,null,null,null,null,null,null,null,"Tourist board or association;"]
[null,"Organization’s role in the project (lead partner, partner etc.)and other partners involved in the project",null,null,null,"Start date and end date of the project ",null,null,null,null,"Add button",null,null,null,null,null,null,null,null,null,null,"Educational/Training institution/organization"]
[]
[]
[null,"2. Financial Data"]
[]
[null,"2.1. Detailed information",null,null,null,null,null,null,null,{"$f":"J73=0","v":false}]
[]
[null,"National registration code:",null,null,null,null,null,null,null,{"$f":"ISBLANK(C70)","v":true}]
[]
[null,"VAT registration (type N/A if not applicable)::",null,null,null,null,null,null,null,{"$f":"ISBLANK(C72)","v":true}]
[null,null,null,null,null,null,null,null,null,{"$f":"J72+J70","v":2}]
[null,"2.2. Financial status, capacity and equipment"]
[null,"Please provide the following information on the basis of the Profit and loss account and Balance sheet of your organization  and any information related to the staff and technical capacity for the past 3 (three) years."]
[null,"Year","Turnover or equivalent\n(in EUR)","Number of full-time staff","Number of part-time staff","Number of offices, equipment and vehiclse (describe, if applicable)",null,null,null,{"$f":"N76=0","v":false},null,null,null,{"$f":"SUM(N77:N79)","v":9},null,false,false,true,2]
[null,2014,null,null,null,null,null,null,null,null,{"$f":"ISBLANK(C77)","v":true},{"$f":"ISBLANK(D77)","v":true},true,{"$f":"K77+L77+M77","v":3},null,false,false,true,2]
[null,2013,null,null,null,null,null,null,null,null,{"$f":"ISBLANK(C78)","v":true},true,true,{"$f":"K78+L78+M78","v":3},null,false,false,true,2,true]
[null,2012,null,null,null,null,null,null,null,null,true,true,true,3]

{"sheet":"Project identification","index":7,"n_rows":376,"n_cols":32,"rows_kept":376,"cut":false,"hidden":false,"merged":[[339,4,339,8],[341,4,341,8],[342,4,342,8],[343,4,343,8],[344,4,344,8],[338,4,338,8],[340,4,340,8],[373,2,373,9],[374,2,374,9],[338,2,338,3],[355,1,355,9],[359,1,359,9],[349,1,349,9],[350,1,350,9],[354,1,354,9],[368,1,368,9],[363,1,363,9],[361,1,361,9],[362,1,362,9],[367,1,367,9],[372,1,372,9],[60,8,60,9],[289,1,289,9],[286,1,286,9],[294,1,294,9],[321,1,321,2],[326,1,326,9],[329,1,329,9],[335,1,335,9],[336,1,336,9],[60,4,60,5],[324,1,324,9],[64,1,64,9],[60,6,60,7],[98,1,98,9],[295,1,295,9],[300,3,300,4],[300,1,300,2],[299,8,299,9],[299,5,299,7],[226,1,226,9],[228,1,228,9],[300,5,300,7],[300,8,300,9],[301,1,301,2],[59,2,59,3],[299,3,299,4],[60,2,60,3],[81,4,81,7],[81,2,81,3],[82,2,82,3],[82,4,82,7],[299,1,299,2],[188,1,188,9],[250,1,250,9],[252,1,252,9],[254,1,254,9],[244,2,244,9],[245,2,245,9],[246,2,246,9],[59,4,59,5],[238,1,238,9],[278,1,278,9],[240,1,240,9],[237,1,237,9],[239,1,239,9],[270,2,270,9],[271,2,271,9],[66,1,66,9],[52,4,52,5],[53,4,53,5],[54,4,54,5],[55,4,55,5],[56,4,56,5],[57,4,57,5],[58,4,58,5],[52,2,52,3],[53,2,53,3],[54,2,54,3],[55,2,55,3],[56,2,56,3],[57,2,57,3],[58,2,58,3],[31,2,31,3],[31,4,31,9],[25,2,25,3],[25,4,25,9],[27,2,27,3],[27,4,27,9],[28,1,28,9],[47,1,47,3],[48,1,48,3],[32,1,32,9],[36,1,36,9],[35,1,35,9],[29,2,29,3],[29,4,29,9],[30,1,30,9],[44,8,44,9],[45,8,45,9],[46,8,46,9],[47,8,47,9],[48,8,48,9],[44,4,44,7],[45,4,45,7],[46,4,46,7],[47,4,47,7],[49,1,49,3],[48,4,48,7],[49,4,49,7],[49,8,49,9],[39,1,39,9],[44,1,44,3],[45,1,45,3],[46,1,46,3],[43,8,43,9],[43,4,43,7],[0,1,1,9],[4,1,4,9],[14,2,14,9],[8,2,8,9],[10,2,10,9],[12,2,12,9],[18,2,18,9],[22,1,22,9],[26,1,26,9],[24,2,24,3],[24,4,24,9],[57,8,57,9],[58,8,58,9],[59,8,59,9],[57,6,57,7],[58,6,58,7],[52,8,52,9],[55,6,55,7],[56,6,56,7],[53,8,53,9],[54,8,54,9],[55,8,55,9],[56,8,56,9],[59,6,59,7],[54,6,54,7],[52,6,52,7],[53,6,53,7],[301,3,301,4],[301,5,301,7],[301,8,301,9],[272,2,272,9],[339,2,339,3],[340,2,340,3],[247,1,247,9],[248,1,248,9],[249,1,249,9],[251,1,251,9],[253,1,253,9],[302,1,302,2],[302,3,302,4],[302,5,302,7],[302,8,302,9],[265,1,265,9],[267,1,267,9],[276,1,276,9],[273,1,273,9],[263,1,263,9],[257,2,257,9],[258,2,258,9],[259,2,259,9],[266,1,266,9],[67,1,67,9],[70,1,70,9],[71,1,71,9],[74,1,74,9],[75,1,75,9],[82,8,82,9],[83,8,83,9],[84,8,84,9],[81,8,81,9],[83,2,83,3],[83,4,83,7],[84,2,84,3],[84,4,84,7],[68,1,68,9],[333,1,333,9],[186,1,186,9],[187,1,187,9],[105,1,105,9],[341,2,341,3],[342,2,342,3],[343,2,343,3],[344,2,344,3],[345,2,345,3],[241,1,241,9],[279,1,279,9],[280,1,280,9],[281,1,281,9],[262,1,262,9],[264,1,264,9],[148,1,148,9],[150,1,150,9],[110,1,110,9],[117,1,117,9],[127,2,127,9],[128,2,128,9],[124,1,124,9],[131,1,131,9],[141,2,141,9],[375,2,375,9],[172,1,172,9],[119,1,119,9],[121,1,121,9],[123,1,123,9],[133,1,133,9],[132,1,132,9],[145,1,145,9],[147,1,147,9],[149,1,149,9],[163,1,163,9],[169,1,169,9],[129,2,129,9],[166,2,166,9],[167,2,167,9],[168,2,168,9],[157,1,157,9],[159,1,159,9],[161,1,161,9],[170,1,170,9],[130,1,130,9],[120,1,120,9],[122,1,122,9],[146,1,146,9],[142,2,142,9],[144,1,144,9],[134,1,134,9],[136,1,136,9],[140,2,140,9],[143,1,143,9],[135,1,135,9],[137,1,137,9],[108,1,108,9],[106,1,106,9],[102,2,102,9],[101,2,101,9],[103,2,103,9],[114,2,114,9],[115,2,115,9],[116,2,116,9],[179,2,179,9],[153,2,153,9],[154,2,154,9],[156,1,156,9],[158,1,158,9],[160,1,160,9],[162,1,162,9],[155,2,155,9],[171,1,171,9],[173,1,173,9],[174,1,174,9],[175,1,175,9],[107,1,107,9],[109,1,109,9],[111,1,111,9],[118,1,118,9],[104,1,104,9],[224,1,224,9],[196,1,196,9],[202,1,202,9],[201,1,201,9],[205,2,205,9],[206,2,206,9],[208,1,208,9],[214,1,214,9],[220,2,220,9],[221,1,221,9],[222,1,222,9],[198,1,198,9],[199,1,199,9],[218,2,218,9],[219,2,219,9],[207,2,207,9],[209,1,209,9],[210,1,210,9],[211,1,211,9],[212,1,212,9],[213,1,213,9],[215,1,215,9],[223,1,223,9],[192,2,192,9],[193,2,193,9],[194,2,194,9],[195,1,195,9],[197,1,197,9],[176,1,176,9],[183,1,183,9],[185,1,185,9],[200,1,200,9],[184,1,184,9],[182,1,182,9],[189,1,189,9],[180,2,180,9],[181,2,181,9],[277,1,277,9],[225,1,225,9],[227,1,227,9],[231,2,231,9],[232,2,232,9],[233,2,233,9],[234,1,234,9],[235,1,235,9],[236,1,236,9],[260,1,260,9],[261,1,261,9],[274,1,274,9],[275,1,275,9],[88,2,88,9],[89,2,89,9],[90,2,90,9],[91,1,91,9],[93,1,93,9],[87,1,87,9],[92,1,92,9],[95,1,95,9],[97,1,97,9],[94,1,94,9],[96,1,96,9]]}
[null,"Application Form\nINTERREG-IPA Cross-Border Cooperation \nBulgaria-Turkey Programme\nPART II\n     \n     \n     \n"]
[]
[null,"PROJECT IDENTIFICATION"]
[null,null,null,null,null,null,null,null,null,null,null,null,null,null,{"$f":"Cover!C37","v":0},8,15]
[null,"1. Project Identity",null,null,null,null,null,null,null,null,null,null,null,null,null,12,24]
[]
[null,"1.1. Project Identity"]
[]
[null,"Project title:",{"$f":"IF(Cover!C31=\"\",\"\",Cover!C31)","v":""},null,null,null,null,null,null,null,null,{"$f":"ISBLANK(C9)","v":false},null,"Environment",null,"1.1. Preventing and mitigating the consequences of natural and man-made disasters in the cross-border area",3,1]
[null,null,null,null,null,null,null,null,null,null,null,null,null,"Tourism",null,"1.2. Improving the capacity for nature protection, sustainable use and management of common natural resources through cooperation initiatives in the  cross-border area",3,2]
[null,"Priority Axis",{"$f":"IF(Cover!C33=\"\",\"\",Cover!C33)","v":""},null,null,null,null,null,null,null,null,{"$f":"ISBLANK(C11)","v":false},null,null,null,"2.1. Increasing the touristic attractiveness of the cross-border area through better utilisation of natural, cultural and historical heritage and related infrastructure",2,3]
[null,null,null,null,null,null,null,null,null,null,null,null,null,null,null,"2.2. Increasing the cross-border tourism potential by developing common destinations",1,4]
[null,"Specific Objective",{"$f":"IF(Cover!C35=\"\",\"\",Cover!C35)","v":""},null,null,null,null,null,null,null,null,{"$f":"ISBLANK(C13)","v":false},null,null,null,"2.3. Increasing networking for development of sustainable tourism through cross-border cooperation initiatives",1,5]
[]
[null,"Type of project",{"$f":"IF(Cover!C37=\"\",\"\",Cover!C37)","v":""},null,null,null,null,null,null,null,null,{"$f":"ISBLANK(C15)","v":false},null,{"$f":"VLOOKUP(C13,P9:Q13,2)","v":{"$error":"#N/A"}},"Soft","Investment","Investment"]
[null,null,null,null,null,null,null,null,null,null,null,{"$f":"(L15+L13+L11+L9)=0","v":true},null,null,null,null,"Soft"]
[null,"1.2. Project duration"]
[null,null,null,null,null,null,null,null,null,null,null,{"$f":"L19=0","v":false}]
[null,"Duration in months",null,null,null,null,null,null,null,null,null,{"$f":"NOT(ISBLANK(C19))","v":false}]
[]
[]
[null,"1.3. Cooperation criteria"]
[null,"Please indicate and justify which of the following classifications applies to the \nactivities of the project (minimum three, first and second are compulsory)"]
[]
[null,"Criteria","Applicable"]
[null,"Joint Development",null,null,"Description",null,null,null,null,null,null,false,{"$f":"L26+L27","v":0},{"$f":"M26=2","v":false},{"$f":"(N26+N28+N30+N32)>2","v":false}]
[null,null,null,null,null,null,null,null,null,null,null,{"$f":"B27<>\"\"","v":false}]
[null,"Joint Implementation",null,null,"Description",null,null,null,null,null,null,false,{"$f":"L28+L29","v":0},{"$f":"M28=2","v":false}]
[null,null,null,null,null,null,null,null,null,null,null,{"$f":"B29<>\"\"","v":false}]
[null,"Joint Staffing",null,null,"Description",null,null,null,null,null,null,false,{"$f":"L30+L31","v":0},{"$f":"M30=2","v":false}]
[null,null,null,null,null,null,null,null,null,null,null,{"$f":"B31<>\"\"","v":false}]
[null,"Joint Financing",null,null,"Description",null,null,null,null,null,null,false,{"$f":"L32+L33","v":0},{"$f":"M32=2","v":false}]
[null,null,null,null,null,null,null,null,null,null,null,{"$f":"B33<>\"\"","v":false}]
[]
[null,"1.4 Cross-border impact and benefits of the project"]
[null,"Please describe what the impact of the project on the cross-border area will be (minimum 500 - maximum 1500 characters):"]
[null,null,null,null,null,null,null,null,null,null,null,{"$f":"LEN(B37)","v":0},{"$f":"L37<500","v":true},{"$f":"LEN(B37)>1500","v":false},{"$f":"M37+N37","v":1},{"$f":"O37=0","v":false}]
[]
[]
[null,"2. Financial information - Project budget (EUR)"]
[]
[null,"2.1. Sources of financing (EUR)"]
[]
[null,null,null,null,"Amount",null,null,null,"% of eligible expenditure"]
[null,"Total Value, of which",null,null,{"$f":"'Table 5-Sources'!G5","v":0}]
[null,"EU funding",null,null,{"$f":"'Table 5-Sources'!G10","v":0},null,null,null,{"$f":"E46/$E$45","v":{"$error":"#DIV/0!"}}]
[null,"National Co-financing, of which",null,null,{"$f":"'Table 5-Sources'!G6","v":0},null,null,null,{"$f":"E47/$E$45","v":{"$error":"#DIV/0!"}}]
[null,"State Budgets Contribution",null,null,{"$f":"'Table 5-Sources'!G7","v":0},null,null,null,{"$error":"#DIV/0!"}]
[null,"Own Contribution",null,null,{"$f":"'Table 5-Sources'!G8","v":0},null,null,null,{"$error":"#DIV/0!"}]
[null,"Others "]
[]
[null,"2.2. Breakdown of eligible expenditure (EUR)"]
[null,"Type of eligible expenditure","Expenditures in the eligible area",null,"Expenditures outside of the eligible area",null,"Total",null,"% from the total"]
[null,"Staff costs",{"$f":"'Table 2-total'!D4","v":0},null,"N/A",null,{"$f":"C54","v":0},null,{"$f":"G54/$G$61","v":{"$error":"#DIV/0!"}}]
[null,"Office and administrative costs",{"$f":"'Table 2-total'!D7","v":0},null,"N/A",null,{"$f":"C55","v":0},null,{"$f":"G55/$G$61","v":{"$error":"#DIV/0!"}}]
[null,"Travel and accommodation",{"$f":"'Table 2-total'!B14","v":0},null,{"$f":"'Table 2-total'!C14","v":0},null,{"$f":"SUM(C56:F56)","v":0},null,{"$error":"#DIV/0!"}]
[null,"External expertise and services",{"$f":"'Table 2-total'!B31","v":0},null,{"$f":"'Table 2-total'!C31","v":0},null,{"$f":"SUM(C57:F57)","v":0},null,{"$error":"#DIV/0!"}]
[null,"Equipment and works",{"$f":"'Table 2-total'!B36","v":0},null,"N/A",null,0,null,{"$error":"#DIV/0!"}]
[null,"Project preparation",{"$f":"'Table 2-total'!B39","v":0},null,"N/A",null,0,null,{"$error":"#DIV/0!"}]
[null,"Eligible VAT"]
[null,"TOTAL",{"$f":"SUM(C54:D59)","v":0},null,{"$f":"SUM(E56:F57)","v":0},null,{"$f":"SUM(G54:H59)","v":0}]
[]
[]
[]
[null,"3. Project description\n"]
[null,"3.1. Background and demand for the project proposal "]
[null,"Please provide brief information about the project background, stating the concrete needs, strengths, weaknesses and constraints of the target group(s) and target region(s) that you focus on and the proposed strategy concerning these issues (maximum 4000 characters)"]
[null,null,null,null,null,null,null,null,null,null,null,{"$f":"ISBLANK(pi_pd_back1)","v":true}]
[]
[null,"3.2. Consistency with the Programme specific objective"]
[null,"Project partners should specify the project objectives and should explain how the project’s own objectives comply with and contribute to the achievement of the selected Programme Specific objective (maximum 1000 characters):"]
[null,null,null,null,null,null,null,null,null,null,null,{"$f":"LEN(B72)","v":0},{"$f":"L72>0","v":false},"check text size"]
[]
[null,"3.3. Consistency with the Programme overall aim"]
[null,"Describe how the project contributes towards achieving the overal aim of the Programme (maximum 1000 characters)"]
[null,null,null,null,null,null,null,null,null,null,null,{"$f":"LEN(B76)","v":0},{"$f":"L76>0","v":false}]
[]
[null,"3.4. Description of the target groups and beneficiaries (estimated numbers):"]
[null,"“Target groups” are the groups/entities who will be positively affected by the project "]
[null,"“Final beneficiaries” are those who will benefit from the project in a long term "]
[]
[null,null,"Type",null,"Description/ specification",null,null,null,"Indicative Number"]
[null,"Target groups",null,null,null,null,null,null,null,null,null,{"$f":"C83<>\"\"","v":false},{"$f":"E83<>\"\"","v":false},{"$f":"I83<>\"\"","v":false},{"$f":"N83+M83+L83+L84+M84+N84+L85+M85+N85","v":0},{"$f":"O83=6","v":false}]
[null,"Direct beneficiaries",null,null,null,null,null,null,null,null,null,{"$f":"C84<>\"\"","v":false},{"$f":"E84<>\"\"","v":false},{"$f":"I84<>\"\"","v":false}]
[null,"Final beneficiaries",null,null,null,null,null,null,null,null,null,false,{"$f":"E85<>\"\"","v":false},false,"Prio 3","q  SMEs and other businesses in the region"]
[null,null,null,null,null,null,null,null,null,null,null,null,null,null,null,"q  Economically active population of the region "]
[null,"3.5. Project activities - description and methods of implementation",null,null,null,null,null,null,null,null,null,null,null,null,null,"q  Research and development, education and training institutions"]
[null,"(Minimum 500 and maximum 1500 characters per activity)\nPlease multiply the table below for each additional activity!",null,null,null,null,null,null,null,null,null,null,null,null,null,"q  Regional and local authorities"]
[null,"Activity No",1,null,null,null,null,null,null,null,null,null,null,"Autonumber",null,"q  Education and training institutions"]
[null,"Title of activity:",null,null,null,null,null,null,null,null,null,null,null,null,null,"q  Regional and local authorities, their subsidiary structures and associations of local authorities"]
[null,"Location",null,null,null,null,null,null,null,null,null,null,null,null,null,"q  Small and medium enterprises (SMEs) in tourism"]
[null,"1. Brief description of the activity:",null,null,null,null,null,null,null,null,null,null,null,null,null,"q  Tourist operators"]
[null,null,null,null,null,null,null,null,null,null,null,null,"Bourgas",null,null,"q  Tourist information centres (points) "]
[null,"2. Who will be the reponsible partner for implementation and reporting of the activity?",null,null,null,null,null,null,null,null,null,null,"Haskovo",null,"Prio 1","-       Population in the region"]
[null,"dasdasd",null,null,null,null,null,null,null,null,null,null,"Yambol",null,null,"-       Regional and local authorities, their subsidiary structures and associations of local authorities"]
[null,"3. What methods / resources will be used for impementation of the activity? ",null,null,null,null,null,null,null,null,null,null,"Edirne",null,null,"-       Regional structures of central public authorities (including protected areas administration and those dealing with emergency situations and nature / environment protection)"]
[null,"asdasdasdsad",null,null,null,null,null,null,null,null,null,null,"Kirklareli",null,null,"-       Euro regions and other joint cross border structures"]
[null,"4. What will be the output(s) of the activity?",null,null,null,null,null,null,null,null,null,null,null,null,null,"-       Research, education and training institutions"]
[null,"asdasdsad"]
[null,"Add new activity?"]
[]
[null,"Activity No",2,null,null,null,null,null,null,null,null,null,null,"Autonumber",null,"q  Education and training institutions"]
[null,"Title of activity:",null,null,null,null,null,null,null,null,null,null,null,null,null,"q  Regional and local authorities, their subsidiary structures and associations of local authorities"]
[null,"Location",null,null,null,null,null,null,null,null,null,null,null,null,null,"q  Small and medium enterprises (SMEs) in tourism"]
[null,"1. Brief description of the activity:",null,null,null,null,null,null,null,null,null,null,null,null,null,"q  Tourist operators"]
[null,null,null,null,null,null,null,null,null,null,null,null,null,null,null,"q  Tourist information centres (points) "]
[null,"2. Who will be the reponsible partner for implementation and reporting of the activity?",null,null,null,null,null,null,null,null,null,null,null,null,"Prio 1","-       Population in the region"]
[null,"asdasdas",null,null,null,null,null,null,null,null,null,null,null,null,null,"-       Regional and local authorities, their subsidiary structures and associations of local authorities"]
[null,"3. What methods / resources will be used for impementation of the activity? ",null,null,null,null,null,null,null,null,null,null,null,null,null,"-       Regional structures of central public authorities (including protected areas administration and those dealing with emergency situations and nature / environment protection)"]
[null,null,null,null,null,null,null,null,null,null,null,null,null,null,null,"-       Euro regions and other joint cross border structures"]
[null,"4. What will be the output(s) of the activity?",null,null,null,null,null,null,null,null,null,null,null,null,null,"-       Research, education and training institutions"]
[]
[null,"Add new activity?"]
[]
[null,"Activity No",3]
[null,"Title of activity:"]
[null,"Location"]
[null,"1. Brief description of the activity:"]
[]
[null,"2. Who will be the reponsible partner for implementation and reporting of the activity?"]
[null,null,null,null,null,null,null,null,null,null,null,null,null,null,null,"-       Regional and local authorities, their subsidiary structures and associations of local authorities"]
[null,"3. What methods / resources will be used for impementation of the activity? ",null,null,null,null,null,null,null,null,null,null,null,null,null,"-       Regional structures of central public authorities (including protected areas administration and those dealing with emergency situations and nature / environment protection)"]
[null,null,null,null,null,null,null,null,null,null,null,null,null,null,null,"-       Euro regions and other joint cross border structures"]
[null,"4. What will be the output(s) of the activity?",null,null,null,null,null,null,null,null,null,null,null,null,null,"-       Research, education and training institutions"]
[]
[null,"Add new activity?"]
[]
[null,"Activity No",4]
[null,"Title of activity:"]
[null,"Location"]
[null,"1. Brief description of the activity:"]
[]
[null,"2. Who will be the reponsible partner for implementation and reporting of the activity?"]
[null,null,null,null,null,null,null,null,null,null,null,null,null,null,null,"-       Regional and local authorities, their subsidiary structures and associations of local authorities"]
[null,"3. What methods / resources will be used for impementation of the activity? ",null,null,null,null,null,null,null,null,null,null,null,null,null,"-       Regional structures of central public authorities (including protected areas administration and those dealing with emergency situations and nature / environment protection)"]
[null,null,null,null,null,null,null,null,null,null,null,null,null,null,null,"-       Euro regions and other joint cross border structures"]
[null,"4. What will be the output(s) of the activity?",null,null,null,null,null,null,null,null,null,null,null,null,null,"-       Research, education and training institutions"]
[]
[null,"Add new activity?"]
[]
[null,"Activity No",5]
[null,"Title of activity:"]
[null,"Location"]
[null,"1. Brief description of the activity:"]
[]
[null,"2. Who will be the reponsible partner for implementation and reporting of the activity?"]
[null,null,null,null,null,null,null,null,null,null,null,null,null,null,null,"-       Regional and local authorities, their subsidiary structures and associations of local authorities"]
[null,"3. What methods / resources will be used for impementation of the activity? ",null,null,null,null,null,null,null,null,null,null,null,null,null,"-       Regional structures of central public authorities (including protected areas administration and those dealing with emergency situations and nature / environment protection)"]
[null,null,null,null,null,null,null,null,null,null,null,null,null,null,null,"-       Euro regions and other joint cross border structures"]
[null,"4. What will be the output(s) of the activity?",null,null,null,null,null,null,null,null,null,null,null,null,null,"-       Research, education and training institutions"]
[]
[null,"Add new activity?"]
[]
[null,"Activity No",6]
[null,"Title of activity:"]
[null,"Location"]
[null,"1. Brief description of the activity:"]
[]
[null,"2. Who will be the reponsible partner for implementation and reporting of the activity?"]
[null,null,null,null,null,null,null,null,null,null,null,null,null,null,null,"-       Regional and local authorities, their subsidiary structures and associations of local authorities"]
[null,"3. What methods / resources will be used for impementation of the activity? ",null,null,null,null,null,null,null,null,null,null,null,null,null,"-       Regional structures of central public authorities (including protected areas administration and those dealing with emergency situations and nature / environment protection)"]
[null,null,null,null,null,null,null,null,null,null,null,null,null,null,null,"-       Euro regions and other joint cross border structures"]
[null,"4. What will be the output(s) of the activity?",null,null,null,null,null,null,null,null,null,null,null,null,null,"-       Research, education and training institutions"]
[]
[null,"Add new activity?"]
[]
[null,"Activity No",7]
[null,"Title of activity:"]
[null,"Location"]
[null,"1. Brief description of the activity:"]
[]
[null,"2. Who will be the reponsible partner for implementation and reporting of the activity?"]
[null,null,null,null,null,null,null,null,null,null,null,null,null,null,null,"-       Regional and local authorities, their subsidiary structures and associations of local authorities"]
[null,"3. What methods / resources will be used for impementation of the activity? ",null,null,null,null,null,null,null,null,null,null,null,null,null,"-       Regional structures of central public authorities (including protected areas administration and those dealing with emergency situations and nature / environment protection)"]
[null,null,null,null,null,null,null,null,null,null,null,null,null,null,null,"-       Euro regions and other joint cross border structures"]
[null,"4. What will be the output(s) of the activity?",null,null,null,null,null,null,null,null,null,null,null,null,null,"-       Research, education and training institutions"]
[]
[null,"Add new activity?"]
[]
[null,"Activity No",8]
[null,"Title of activity:"]
[null,"Location"]
[null,"1. Brief description of the activity:"]
[]
[null,"2. Who will be the reponsible partner for implementation and reporting of the activity?"]
[null,null,null,null,null,null,null,null,null,null,null,null,null,null,null,"-       Regional and local authorities, their subsidiary structures and associations of local authorities"]
[null,"3. What methods / resources will be used for impementation of the activity? ",null,null,null,null,null,null,null,null,null,null,null,null,null,"-       Regional structures of central public authorities (including protected areas administration and those dealing with emergency situations and nature / environment protection)"]
[null,null,null,null,null,null,null,null,null,null,null,null,null,null,null,"-       Euro regions and other joint cross border structures"]
[null,"4. What will be the output(s) of the activity?",null,null,null,null,null,null,null,null,null,null,null,null,null,"-       Research, education and training institutions"]
[]
[null,"Add new activity?"]
[]
[null,"Activity No",9]
[null,"Title of activity:"]
[null,"Location"]
[null,"1. Brief description of the activity:"]
[]
[null,"2. Who will be the reponsible partner for implementation and reporting of the activity?"]
[]
[null,"3. What methods / resources will be used for impementation of the activity? "]
[]
[null,"4. What will be the output(s) of the activity?"]
[]
[null,"Add new activity?"]
[]
[null,"Activity No",10]
[null,"Title of activity:"]
[null,"Location"]
[null,"1. Brief description of the activity:"]
[]
[null,"2. Who will be the reponsible partner for implementation and reporting of the activity?"]
[]
[null,"3. What methods / resources will be used for impementation of the activity? "]
[]
[null,"4. What will be the output(s) of the activity?"]
[]
[null,"Add new activity?"]
[]
[null,"Activity No",11]
[null,"Title of activity:"]
[null,"Location"]
[null,"1. Brief description of the activity:"]
[]
[null,"2. Who will be the reponsible partner for implementation and reporting of the activity?"]
[]
[null,"3. What methods / resources will be used for impementation of the activity? "]
[]
[null,"4. What will be the output(s) of the activity?"]
[]
[null,"Add new activity?"]
[]
[null,"Activity No",12]
[null,"Title of activity:"]
[null,"Location"]
[null,"1. Brief description of the activity:"]
[]
[null,"2. Who will be the reponsible partner for implementation and reporting of the activity?"]
[]
[null,"3. What methods / resources will be used for impementation of the activity? "]
[]
[null,"4. What will be the output(s) of the activity?"]
[]
[null,"Add new activity?"]
[]
[null,"Activity No",13]
[null,"Title of activity:"]
[null,"Location"]
[null,"1. Brief description of the activity:"]
[]
[null,"2. Who will be the reponsible partner for implementation and reporting of the activity?"]
[]
[null,"3. What methods / resources will be used for impementation of the activity? "]
[]
[null,"4. What will be the output(s) of the activity?"]
[]
[null,"Add new activity?"]
[]
[null,"Activity No",14]
[null,"Title of activity:"]
[null,"Location"]
[null,"1. Brief description of the activity:"]
[]
[null,"2. Who will be the reponsible partner for implementation and reporting of the activity?"]
[]
[null,"3. What methods / resources will be used for impementation of the activity? "]
[]
[null,"4. What will be the output(s) of the activity?"]
[]
[null,"Add new activity?"]
[]
[null,"Activity No",15]
[null,"Title of activity:"]
[null,"Location"]
[null,"1. Brief description of the activity:"]
[]
[null,"2. Who will be the reponsible partner for implementation and reporting of the activity?"]
[]
[null,"3. What methods / resources will be used for impementation of the activity? "]
[]
[null,"4. What will be the output(s) of the activity?"]
[]
[]
[]
[]
[]
[null,"3.6. Project activities outside the eligible border area (if applicable)"]
[null,"Please discribe the activity/ies that will be implemented outside the eligible border area  of the Programme as set in Applicant's Guide (type,place,involve actors,output  and justification how activity/ies will benefit the programme area)"]
[null,"Applicable",null,null,null,null,null,null,null,null,null,false,{"$f":"L288+L290","v":0},{"$f":"M288=2","v":false}]
[]
[null,null,null,null,null,null,null,null,null,null,null,{"$f":"B290<>\"\"","v":false},null,"active if H284 = yes"]
[]
[]
[null,"3.7.Communication and visibility"]
[null,"3.7.1.Communication strategy "]
[null,"Please summarize the communication and visibility activities that you foresee in your project proposal (max 1500 )"]
[null,null,null,null,null,null,null,null,null,null,null,{"$f":"B296<>\"\"","v":false},{"$f":"LEN(B296)>1500","v":false},"Check text size"]
[]
[null,"3.7.2.Communication tools "]
[null,"Please describe what communication tools will be used to fulfill the strategy "]
[null,"Type of communication tools/materials",null,"Responsible partner",null,"Target groups",null,null,"Number of persons to be reached"]
[null,null,null,null,null,null,null,null,null,null,null,null,null,{"$f":"ISBLANK(pi_comm_tool1)","v":true},{"$f":"ISBLANK(pi_comm_tool2)","v":true},{"$f":"ISBLANK(pi_comm_tool3)","v":true},{"$f":"ISBLANK(pi_comm_tool4)","v":true},{"$f":"N301+O301+P301+Q301","v":4},{"$f":"R301=0","v":false},{"$f":"(S301+S302+S303)=3","v":false}]
[null,null,null,null,null,null,null,null,null,null,null,null,null,{"$f":"ISBLANK(pi_comm_tool1_1)","v":true},{"$f":"ISBLANK(pi_comm_tool2_1)","v":true},{"$f":"ISBLANK(pi_comm_tool3_1)","v":true},{"$f":"ISBLANK(pi_comm_tool4_1)","v":true},{"$f":"N302+O302+P302+Q302","v":4},{"$f":"R302=0","v":false}]
[null,null,null,null,null,null,null,null,null,null,null,null,null,{"$f":"ISBLANK(pi_comm_tool1_1_1)","v":true},{"$f":"ISBLANK(pi_comm_tool2_1_1)","v":true},{"$f":"ISBLANK(pi_comm_tool3_1_1)","v":true},{"$f":"ISBLANK(pi_comm_tool4_1_1)","v":true},4,false]
[null,"3.8. Duration and action plan:"]
[null,"Duration in trimesters",null,null,null,null,null,null,null,null,null,null,null,"empty","full"]
[null,"Activity","1st","2nd","3rd","4th","5th","6th","7th","8th",null,null,{"$f":"ROUNDUP(C19/3,0)","v":0},null,"x",null,"x"]
[null,{"$f":"CONCATENATE(\"1.\",C90)","v":"1."},null,null,null,null,null,null,null,null,null,null,{"$f":"B307<>0","v":true},{"$f":"IF((($N$322/$M$306<1.01)+(M307)=2),\"OK\",\"BAD\")","v":{"$error":"#DIV/0!"}},{"$f":"IF((($O$322/$M$306<1.01)+(M307)=2),\"OK\",\"BAD\")","v":{"$error":"#DIV/0!"}},{"$f":"IF(((P$322/$M$306<1.01)+($M$307)=2),\"OK\",\"BAD\")","v":{"$error":"#DIV/0!"}},{"$f":"IF(((Q$322/$M$306<1.3)+($M307)=2),\"OK\",\"BAD\")","v":{"$error":"#DIV/0!"}},{"$f":"IF(((R$322/$M$306<1.01)+(M307)=2),\"OK\",\"BAD\")","v":{"$error":"#DIV/0!"}},{"$f":"IF(((S$322/$M$306<1.1)+(M307)=2),\"OK\",\"BAD\")","v":{"$error":"#DIV/0!"}},{"$f":"IF(((T$322/$M$306<1.11)+(M307)=2),\"OK\",\"BAD\")","v":{"$error":"#DIV/0!"}},{"$f":"IF(((U$322/$M$306<1.11)+(M307)=2),\"OK\",\"BAD\")","v":{"$error":"#DIV/0!"}},null,null,{"$f":"C307=\"x\"","v":false},false,false,false,false,false,false,false]
[null,{"$f":"CONCATENATE(\"2.\",C103)","v":"2."},null,null,null,null,null,null,null,null,null,null,{"$f":"B308<>0","v":true},{"$f":"IF(((N$322/$M$306<1.01)+($M308)=2),\"OK\",\"BAD\")","v":{"$error":"#DIV/0!"}},{"$f":"IF(((O$322/$M$306<1.01)+($M308)=2),\"OK\",\"BAD\")","v":{"$error":"#DIV/0!"}},{"$error":"#DIV/0!"},{"$error":"#DIV/0!"},{"$error":"#DIV/0!"},{"$error":"#DIV/0!"},{"$error":"#DIV/0!"},{"$f":"IF(((U$322/$M$306<1.11)+(M308)=2),\"OK\",\"BAD\")","v":{"$error":"#DIV/0!"}},null,null,{"$f":"C308=\"x\"","v":false},false,false,false,false,false,false,false]
[null,{"$f":"CONCATENATE(\"3.\",C116)","v":"3."},null,null,null,null,null,null,null,null,null,null,{"$f":"B309<>0","v":true},{"$f":"IF(((N$322/$M$306<1.01)+($M309)=2),\"OK\",\"BAD\")","v":{"$error":"#DIV/0!"}},{"$error":"#DIV/0!"},{"$error":"#DIV/0!"},{"$error":"#DIV/0!"},{"$error":"#DIV/0!"},{"$error":"#DIV/0!"},{"$error":"#DIV/0!"},{"$error":"#DIV/0!"},null,null,false,false,false,false,false,false,false,false]
[null,{"$f":"CONCATENATE(\"4.\",C129)","v":"4."},null,null,null,null,null,null,null,null,null,null,{"$f":"B310<>0","v":true},{"$error":"#DIV/0!"},{"$error":"#DIV/0!"},{"$error":"#DIV/0!"},{"$error":"#DIV/0!"},{"$error":"#DIV/0!"},{"$error":"#DIV/0!"},{"$error":"#DIV/0!"},{"$error":"#DIV/0!"},null,null,false,false,false,false,false,false,false,false]
[null,{"$f":"CONCATENATE(\"5.\",C142)","v":"5."},null,null,null,null,null,null,null,null,null,null,true,{"$error":"#DIV/0!"},{"$error":"#DIV/0!"},{"$error":"#DIV/0!"},{"$error":"#DIV/0!"},{"$error":"#DIV/0!"},{"$error":"#DIV/0!"},{"$error":"#DIV/0!"},{"$error":"#DIV/0!"},null,null,false,false,false,false,false,false,false,false]
[null,{"$f":"CONCATENATE(\"6.\",C155)","v":"6."},null,null,null,null,null,null,null,null,null,null,true,{"$error":"#DIV/0!"},{"$error":"#DIV/0!"},{"$error":"#DIV/0!"},{"$error":"#DIV/0!"},{"$error":"#DIV/0!"},{"$error":"#DIV/0!"},{"$error":"#DIV/0!"},{"$error":"#DIV/0!"},null,"x",false,false,false,false,false,false,false,false]
[null,{"$f":"CONCATENATE(\"7.\",C168)","v":"7."},null,null,null,null,null,null,null,null,null,null,true,{"$error":"#DIV/0!"},{"$error":"#DIV/0!"},{"$error":"#DIV/0!"},{"$error":"#DIV/0!"},{"$error":"#DIV/0!"},{"$error":"#DIV/0!"},{"$error":"#DIV/0!"},{"$error":"#DIV/0!"},null,null,false,false,false,false,false,false,false,false]
[null,{"$f":"CONCATENATE(\"8.\",C181)","v":"8."},null,null,null,null,null,null,null,null,null,null,true,{"$error":"#DIV/0!"},{"$error":"#DIV/0!"},{"$error":"#DIV/0!"},{"$error":"#DIV/0!"},{"$error":"#DIV/0!"},{"$error":"#DIV/0!"},{"$error":"#DIV/0!"},{"$error":"#DIV/0!"},null,null,false,false,false,false,false,false,false,false]
[null,{"$f":"CONCATENATE(\"9.\",C194)","v":"9."},null,null,null,null,null,null,null,null,null,null,true,{"$error":"#DIV/0!"},{"$error":"#DIV/0!"},{"$error":"#DIV/0!"},{"$error":"#DIV/0!"},{"$error":"#DIV/0!"},{"$error":"#DIV/0!"},{"$error":"#DIV/0!"},{"$error":"#DIV/0!"},null,null,false,false,false,false,false,false,false,false]
[null,{"$f":"CONCATENATE(\"10.\",C207)","v":"10."},null,null,null,null,null,null,null,null,null,null,true,{"$error":"#DIV/0!"},{"$error":"#DIV/0!"},{"$error":"#DIV/0!"},{"$f":"IF(((Q$322/$M$306<1.1)+($M316)=2),\"OK\",\"BAD\")","v":{"$error":"#DIV/0!"}},{"$error":"#DIV/0!"},{"$error":"#DIV/0!"},{"$error":"#DIV/0!"},{"$error":"#DIV/0!"},null,null,false,false,false,false,false,false,false,false]
[null,{"$f":"CONCATENATE(\"11.\",C220)","v":"11."},null,null,null,null,null,null,null,null,null,null,true,{"$error":"#DIV/0!"},{"$error":"#DIV/0!"},{"$error":"#DIV/0!"},{"$error":"#DIV/0!"},{"$error":"#DIV/0!"},{"$error":"#DIV/0!"},{"$error":"#DIV/0!"},{"$error":"#DIV/0!"},null,null,false,false,false,false,false,false,false,false]
[null,{"$f":"CONCATENATE(\"12.\",C233)","v":"12."},null,null,null,null,null,null,null,null,null,null,true,{"$error":"#DIV/0!"},{"$error":"#DIV/0!"},{"$error":"#DIV/0!"},{"$error":"#DIV/0!"},{"$error":"#DIV/0!"},{"$error":"#DIV/0!"},{"$error":"#DIV/0!"},{"$error":"#DIV/0!"},null,null,false,false,false,false,false,false,false,false]
[null,{"$f":"CONCATENATE(\"13.\",C246)","v":"13."},null,null,null,null,null,null,null,null,null,null,true,{"$error":"#DIV/0!"},{"$error":"#DIV/0!"},{"$error":"#DIV/0!"},{"$error":"#DIV/0!"},{"$error":"#DIV/0!"},{"$error":"#DIV/0!"},{"$error":"#DIV/0!"},{"$error":"#DIV/0!"},null,null,false,false,false,false,false,false,false,false]
[null,{"$f":"CONCATENATE(\"14.\",C259)","v":"14."},null,null,null,null,null,null,null,null,null,null,true,{"$error":"#DIV/0!"},{"$error":"#DIV/0!"},{"$error":"#DIV/0!"},{"$error":"#DIV/0!"},{"$error":"#DIV/0!"},{"$error":"#DIV/0!"},{"$error":"#DIV/0!"},{"$error":"#DIV/0!"},null,null,false,false,false,false,false,false,false,false]
[null,{"$f":"CONCATENATE(\"15.\",C272)","v":"15."},null,null,null,null,null,null,null,null,null,null,true,{"$error":"#DIV/0!"},{"$error":"#DIV/0!"},{"$error":"#DIV/0!"},{"$error":"#DIV/0!"},{"$error":"#DIV/0!"},{"$error":"#DIV/0!"},{"$error":"#DIV/0!"},{"$error":"#DIV/0!"},null,null,false,false,false,false,false,false,false,false]
[null,null,null,null,null,null,null,null,null,null,null,{"$f":"AF322>0","v":false},null,1,2,3,4,5,6,7,8,null,null,{"$f":"X321+X320+X319+X318+X317+X316+X315+X314+X313+X312+X311+X310+X309+X307+X308","v":0},0,0,0,0,0,0,0,{"$f":"SUM(X322:AE322)","v":0}]
[]
[]
[null,"4. Management of the project and reporting "]
[null,"Please briefly describe (maximum 1500 characters):"]
[null,"The reponsibilities of each project partner in view of the overall project implementation and reporting;"]
[null,"The structure of the project team (both Bulgarian and Turkish members); "]
[null,"The reponsibilities of each member of the project team;"]
[null,null,null,null,null,null,null,null,null,null,null,{"$f":"LEN(B330)>0","v":false},null,"text size check"]
[]
[]
[]
[null,"5. Monitoring of the project "]
[null,"5.1. Expected outputs"]
[null,"Please specify to which of the programme output indicators the project contributes:"]
[null,"Only indicators relevant to the speciffic objective under which the project applies should be quantified and justified!"]
[]
[null,"Output indicators","Quantity",null,"Justification",null,null,null,null,"New indicator\n(Y/N)",null,null,null,null,"LINK TO PRIORITY AND SPECIFIC OBJECTIVE SELECTION"]
[null,null,null,null,null,null,null,null,null,null,null,false,"Y",{"$f":"VLOOKUP(C13,P9:R13,3)","v":{"$error":"#N/A"}},null,null,null,null,null,null,{"$f":"ISBLANK(B340)","v":true},{"$f":"ISBLANK(C340)","v":true},{"$f":"ISBLANK(E340)","v":true},{"$f":"U340+V340+W340+Z340","v":4},{"$f":"IF(X340=0,TRUE,FALSE)","v":false},{"$f":"J340<>\"Y\"","v":true},null,{"$f":"(U340+V340+W340)=0","v":false}]
[null,null,null,null,null,null,null,null,null,null,null,false,"N","OI 1.1.1","Number of interventions related to risk prevention and  management of natural and man-made hazards and disasters ",null,null,null,null,null,{"$f":"ISBLANK(B341)","v":true},{"$f":"ISBLANK(C341)","v":true},{"$f":"ISBLANK(E341)","v":true},4,{"$f":"IF(X341=0,TRUE,FALSE)","v":false},{"$f":"J341<>\"Y\"","v":true}]
[null,null,null,null,null,null,null,null,null,null,null,true,null,"OI 1.1.2","Number of joint strategies / common guidelines, trainings, public awareness campaigns, exchange of experience for risk prevention and  management of natural and man-made hazards and disasters",null,null,null,null,null,true,true,true,4,false,{"$f":"J342<>\"Y\"","v":true}]
[null,null,null,null,null,null,null,null,null,null,null,false,null,"OI 1.1.3","Population benefiting from flood protection measures",null,null,null,null,null,true,true,true,4,false,true]
[null,null,null,null,null,null,null,null,null,null,null,null,null,"OI 1.1.4","Population benefiting from forest fire protection measure",null,null,null,null,null,true,true,true,4,false,true]
[null,null,null,null,null,null,null,null,null,null,null,null,null,"OI 1.2.1","Number of  nature protected areas addressed by  interventions  ",null,null,null,null,null,{"$f":"ISBLANK(B345)","v":true},{"$f":"ISBLANK(C345)","v":true},{"$f":"ISBLANK(E345)","v":true},4,false,true]
[null,null,null,null,null,null,null,null,null,null,null,null,null,"OI 1.2.2","Number of capacity building / awareness activities related to nature protection, sustainable use and management of common natural resources",null,null,null,null,null,null,true,true,null,true]
[null,null,null,null,null,null,null,null,null,null,null,{"$f":"LEN(pi_monit_justf)","v":0},null,"OI 1.2.3","Number of people involved in training and capacity building activities in the field of nature protection"]
[null,null,null,null,null,null,null,null,null,null,null,null,null,"OI 1.2.4","Number of joint initiatives addressing preservation of marine and coastal environment (incl. litter reduction)"]
[null,"5.2. Multiplier effect"]
[null,"Please describe the possibilities for further development of the project idea in a subsequent project (maximum 1200 characters)",null,null,null,null,null,null,null,null,null,null,null,"OI 1.2.5","Number of joint management plans/ coordinated specific conservation activities for protected areas"]
[null,null,null,null,null,null,null,null,null,null,null,{"$f":"LEN(B351)>0","v":false},null,"OI-2.1-1","Total length of reconstructed or upgraded access roads to natural, cultural and historic tourism sites"]
[null,null,null,null,null,null,null,null,null,null,null,null,null,"OI-2.1-2","Total length of newly built, reconstructed or upgraded cycling routes / walking paths"]
[null,null,null,null,null,null,null,null,null,null,null,null,null,"OI-2.1-3","Number of newly built / reconstructed facilities in / leading to touristic sites "]
[null,"5.3. Sustainability",null,null,null,null,null,null,null,null,null,null,null,"OI-2.1-4","Number of reconstructed / restored cultural and historical touristic sites "]
[null,"Please describe how you intend to maintain the sustainability of the project results 5 (five) years - for investment activities and 2 (two) years - for \"soft measures\" after the end of the project. Which activities will be continued, in which way and who will be the responsible partner? (maximum 2000 characters).",null,null,null,null,null,null,null,null,null,null,null,"OI-2.2-1","Number of  sustainable tourism strategies/action plans of common tourist destinations"]
[null,null,null,null,null,null,null,null,null,null,null,{"$f":"LEN(B356)>0","v":false},null,"OI-2.2-2","Number of marketing and promotional initiatives/events, addressing cross-border tourism products & services "]
[null,null,null,null,null,null,null,null,null,null,null,null,null,"OI-2.2-3","Number of tools developed and/or implemented for promotion of sustainable touristic potential "]
[null,null,null,null,null,null,null,null,null,null,null,null,null,"OI-2.2-4","Number of trainings and consultancy services in sustainable use of natural, historical  and cultural heritage and resources"]
[null,null,null,null,null,null,null,null,null,null,null,null,null,"OI-2.2-5","Number of people involved in training and capacity building activities in the field of sustainable tourism"]
[null,"6. Project coherence with:",null,null,null,null,null,null,null,null,null,null,null,"OI-2.3-1","Number of networking events"]
[null,"6.1. Other strategies",null,null,null,null,null,null,null,null,null,null,null,"OI-2.3-2","Number of public awareness initiatives promoting sustainable use of natural, historical and cultural heritage and resources"]
[null,"The project partners should describe how the project proposal fits the larger European Union strategies concerning the Programme (please see the Programme document, Section 1, for a list of relevant policy frameworks and strategies) ",null,null,null,null,null,null,null,null,null,null,null,"OI-2.3-3","Number of public awareness initiatives promoting alternative forms of tourism "]
[null,"Please indicate the potential synergy of the project with other initiatives/ programmes/ strategies at national level. (Maximum 1500 characters)"]
[null,null,null,null,null,null,null,null,null,null,null,{"$f":"LEN(B364)>0","v":false}]
[null,null,null,null,null,null,null,null,null,null,null,null,null,"text size check"]
[]
[null,"6.2. Other projects "]
[null,"If your project proposal is part of a bigger project or connected to another project(s), please indicate in which way. (Maximum 1200 characters)"]
[null,null,null,null,null,null,null,null,null,null,null,{"$f":"LEN(B369)>0","v":false}]
[]
[]
[null,"6.3. Horizontal themes"]
[null,"Please indicate which type of the following horizontal themes applies to your project and justify (maximum 500 characters for each field):"]
[null,"Sustainable development",null,null,null,null,null,null,null,null,null,{"$f":"ISBLANK(C374)","v":true},{"$f":"(L374+L375+L376)<3","v":false}]
[null,"Equal opportunities and non-discrimination",null,null,null,null,null,null,null,null,null,{"$f":"ISBLANK(C375)","v":true}]
[null,"Equality between men and women ",null,null,null,null,null,null,null,null,null,true]

{"sheet":"T1-PPs","index":8,"n_rows":11,"n_cols":8,"rows_kept":11,"cut":false,"hidden":false,"merged":[]}
[]
[null,"TABLE 1 - TOTAL BUDGET PER PROJECT PARTNERS"]
[]
[]
[null,"PROJECT PARTNERS","Organization","Country","Total financial contribution (sum of EU and national co-financing)  in EUR"]
[null,"PP1 LP",{"$f":"IF(Cover!C41=\"\",\"\",Cover!C41)","v":""},{"$f":"IF(H6=1,\"BG\",IF(H6=2,\"TR\",\"\"))","v":"BG"},{"$f":"'T2-B(PP1)'!J263","v":0},null,null,{"$f":"'PP1(LP)'!K14","v":1}]
[null,"PP2",{"$f":"IF('PP2'!$C$7=\"\",\"\",'PP2'!$C$7)","v":""},{"$f":"IF(H7=1,\"BG\",IF(H7=2,\"TR\",\"\"))","v":"BG"},{"$f":"'T2-B(PP2)'!J263","v":0},null,null,{"$f":"'PP2'!K14","v":1}]
[null,"PP3",{"$f":"IF('PP3'!$C$7=\"\",\"\",'PP3'!$C$7)","v":""},"BG",{"$f":"'T2-B(PP3)'!J263","v":0},null,null,{"$f":"'PP3'!K14","v":1}]
[null,"PP4",{"$f":"IF('PP4'!$C$7=\"\",\"\",'PP4'!$C$7)","v":""},"BG",{"$f":"'T2-B(PP4)'!J263","v":0},null,null,{"$f":"'PP4'!K14","v":1}]
[null,"PP5",{"$f":"IF('PP5'!$C$7=\"\",\"\",'PP5'!$C$7)","v":""},"BG",{"$f":"'T2-B(PP5)'!J263","v":0},null,null,{"$f":"'PP5'!K14","v":1}]
[null,"Total",null,null,{"$f":"SUM(E6:E10)","v":0}]

{"sheet":"T2-B(PP1)","index":9,"n_rows":265,"n_cols":18,"rows_kept":265,"cut":false,"hidden":false,"merged":[[259,8,259,9],[259,1,259,4],[5,8,5,9],[4,1,4,5],[5,1,5,7],[10,8,10,9],[7,6,7,7],[8,6,8,7],[9,1,9,5],[9,8,9,9],[7,1,8,5],[7,8,8,9],[10,1,10,7],[9,6,9,7],[218,9,219,9],[12,9,13,9],[3,6,3,7],[4,6,4,7],[4,8,4,9],[2,1,3,5],[2,8,3,9],[2,6,2,7],[60,1,61,1],[60,2,61,2],[218,2,219,2],[60,9,61,9],[12,1,13,1],[12,2,13,2],[12,3,12,5],[12,6,12,8],[60,3,60,5],[60,6,60,8],[216,1,216,4],[216,6,216,7],[218,3,218,5],[218,1,219,1],[217,3,217,9],[244,9,245,9],[256,1,256,4],[256,6,256,7],[218,6,218,8],[262,1,262,4],[261,6,261,8],[262,6,262,8],[242,1,242,4],[242,6,242,7],[258,1,258,4],[261,1,261,4],[244,1,245,1],[244,2,245,2],[244,3,244,5],[244,6,244,8],[258,8,258,9]]}
[null,"TABLE 2 - DETAILED BREAKDOWN OF BUDGET LINES - PP1/LP",null,null,null,null,null,null,null,null,null,null,null,null,null,null,null,true]
[null,null,null,null,null,null,null,null,null,null,null,null,null,null,null,null,null,true]
[null,"BL1 - STAFF COSTS",null,null,null,null,"Flat rate",null,"TOTAL",null,null,null,null,null,null,null,null,true]
[null,null,null,null,null,null,"%",null,null,null,null,null,null,null,null,null,null,true]
[null,{"$f":"M5","v":" project"},null,null,null,null,null,null,{"$f":"G5*J262/100","v":0},null,null,"visible/hidden depending on project identification",{"$f":"CONCATENATE('Project identification'!C15,\" project\")","v":" project"},null,null,null,10,true]
[null,"TOTAL",null,null,null,null,null,null,{"$f":"I5","v":0},null,null,null,null,null,{"$f":"IF(M8=\"Soft\",15,10)","v":10},null,15,true]
[null,null,null,null,null,null,null,null,null,null,null,null,null,null,null,null,null,true]
[null,"BL2 - OFFICE AND ADMINISTRATIVE COSTS",null,null,null,null,"Flat rate",null,"TOTAL",null,null,null,{"$f":"'Project identification'!C15","v":""},null,null,null,null,true]
[null,null,null,null,null,null,"%",null,null,null,null,null,null,null,null,null,null,true]
[null,{"$f":"M5","v":" project"},null,null,null,null,null,null,{"$f":"G10*I5/100","v":0},null,null,"visible/hidden depending on project identification",null,null,null,null,2,true]
[null,"TOTAL",null,null,null,null,null,null,{"$f":"I10","v":0},null,null,null,null,null,{"$f":"IF(M8=\"Soft\",15,15)","v":15},null,5,true]
[null,null,null,null,null,null,null,null,null,null,null,null,null,null,null,null,null,true]
[null,"BL3 - TRAVEL AND ACCOMMODATION","Unit","Expenditures in the eligible area",null,null,"Expenditures outside of the eligible area",null,null,"TOTAL",null,null,null,null,null,null,null,true]
[null,null,null,"Units","Unit rate","TOTAL","Units","Unit rate","TOTAL",null,null,null,null,null,null,null,null,true]
[null,"3.1 Travel costs",null,null,null,{"$f":"SUM(F16:F25)","v":0},null,null,{"$f":"SUM(I16:I25)","v":0},{"$f":"SUM(J16:J25)","v":0},null,"Add",null,null,null,null,null,true]
[null,null,null,null,null,{"$f":"ROUND(D16*E16,2)","v":0},null,null,{"$f":"ROUND(G16*H16,2)","v":0},{"$f":"F16+I16","v":0},null,null,{"$f":"ISBLANK(B16)","v":true},{"$f":"ISBLANK(C16)","v":true},true,true,{"$f":"M16+N16+O16+P16","v":4},{"$f":"IF(Q16=0,TRUE,FALSE)","v":false}]
[null,null,null,null,null,{"$f":"ROUND(D17*E17,2)","v":0},null,null,{"$f":"ROUND(G17*H17,2)","v":0},{"$f":"F17+I17","v":0},null,null,{"$f":"ISBLANK(B17)","v":true},{"$f":"ISBLANK(C17)","v":true},{"$f":"ISBLANK(D17)","v":true},{"$f":"ISBLANK(E17)","v":true},{"$f":"M17+N17+O17+P17","v":4},{"$f":"IF(Q17=0,TRUE,FALSE)","v":false}]
[null,null,null,null,null,0,null,null,0,0,null,null,true,true,true,true,4,false]
[null,null,null,null,null,0,null,null,0,0,null,null,true,true,true,true,4,false]
[null,null,null,null,null,0,null,null,0,0,null,null,true,true,true,true,4,false]
[null,null,null,null,null,0,null,null,0,0,null,null,true,true,true,true,4,false]
[null,null,null,null,null,0,null,null,0,0,null,null,true,true,true,true,4,false]
[null,null,null,null,null,0,null,null,0,0,null,null,true,true,true,true,4,false]
[null,null,null,null,null,0,null,null,0,0,null,null,true,true,true,true,4,false]
[null,null,null,null,null,0,null,null,0,0,null,null,true,true,true,true,4,true]
[null,"3.2 Daily allowances",null,null,null,{"$f":"SUM(F27:F36)","v":0},null,null,{"$f":"SUM(I27:I36)","v":0},{"$f":"SUM(J27:J36)","v":0},null,"add (10 items)",null,null,null,null,null,true]
[null,null,null,null,null,{"$f":"ROUND(D27*E27,2)","v":0},null,null,{"$f":"ROUND(G27*H27,2)","v":0},{"$f":"F27+I27","v":0},null,null,{"$f":"ISBLANK(B27)","v":true},{"$f":"ISBLANK(C27)","v":true},{"$f":"ISBLANK(D27)","v":true},{"$f":"ISBLANK(E27)","v":true},{"$f":"M27+N27+O27+P27","v":4},{"$f":"IF(Q27=0,TRUE,FALSE)","v":false}]
[null,null,null,null,null,{"$f":"ROUND(D28*E28,2)","v":0},null,null,0,{"$f":"F28+I28","v":0},null,null,{"$f":"ISBLANK(B28)","v":true},true,true,true,{"$f":"M28+N28+O28+P28","v":4},{"$f":"IF(Q28=0,TRUE,FALSE)","v":false}]
[null,null,null,null,null,0,null,null,0,0,null,null,true,true,true,true,4,false]
[null,null,null,null,null,0,null,null,0,0,null,null,true,true,true,true,4,false]
[null,null,null,null,null,0,null,null,0,0,null,null,true,true,true,true,4,false]
[null,null,null,null,null,0,null,null,0,0,null,null,true,true,true,true,4,false]
[null,null,null,null,null,0,null,null,0,0,null,null,true,true,true,true,4,false]
[null,null,null,null,null,0,null,null,0,0,null,null,true,true,true,true,4,false]
[null,null,null,null,null,0,null,null,0,0,null,null,true,true,true,true,4,false]
[null,null,null,null,null,0,null,null,0,0,null,null,true,true,true,true,4,true]
[null,"3.3 Accommodation costs",null,null,null,{"$f":"SUM(F38:F47)","v":0},null,null,{"$f":"SUM(I38:I47)","v":0},{"$f":"SUM(J38:J47)","v":0},null,null,null,null,null,null,null,true]
[null,null,null,null,null,{"$f":"ROUND(D38*E38,2)","v":0},null,null,{"$f":"ROUND(G38*H38,2)","v":0},{"$f":"F38+I38","v":0},null,null,{"$f":"ISBLANK(B38)","v":true},{"$f":"ISBLANK(C38)","v":true},{"$f":"ISBLANK(D38)","v":true},{"$f":"ISBLANK(E38)","v":true},{"$f":"M38+N38+O38+P38","v":4},{"$f":"IF(Q38=0,TRUE,FALSE)","v":false}]
[null,null,null,null,null,{"$f":"ROUND(D39*E39,2)","v":0},null,null,0,{"$f":"F39+I39","v":0},null,null,{"$f":"ISBLANK(B39)","v":true},true,true,true,{"$f":"M39+N39+O39+P39","v":4},{"$f":"IF(Q39=0,TRUE,FALSE)","v":false}]
[null,null,null,null,null,0,null,null,0,0,null,null,true,true,true,true,4,false]
[null,null,null,null,null,0,null,null,0,0,null,null,true,true,true,true,4,false]
[null,null,null,null,null,0,null,null,0,0,null,null,true,true,true,true,4,false]
[null,null,null,null,null,0,null,null,0,0,null,null,true,true,true,true,4,false]
[null,null,null,null,null,0,null,null,0,0,null,null,true,true,true,true,4,false]
[null,null,null,null,null,0,null,null,0,0,null,null,true,true,true,true,4,false]
[null,null,null,null,null,0,null,null,0,0,null,null,true,true,true,true,4,false]
[null,null,null,null,null,0,null,null,0,0,null,null,true,true,true,true,4,true]
[null,"3.4 Visa costs",null,null,null,{"$f":"SUM(F49:F58)","v":0},null,null,{"$f":"SUM(I49:I58)","v":0},{"$f":"SUM(J49:J58)","v":0},null,null,null,null,null,null,null,true]
[null,null,null,null,null,{"$f":"ROUND(D49*E49,2)","v":0},null,null,{"$f":"ROUND(G49*H49,2)","v":0},{"$f":"F49+I49","v":0},null,null,{"$f":"ISBLANK(B49)","v":true},{"$f":"ISBLANK(C49)","v":true},{"$f":"ISBLANK(D49)","v":true},{"$f":"ISBLANK(E49)","v":true},{"$f":"M49+N49+O49+P49","v":4},{"$f":"IF(Q49=0,TRUE,FALSE)","v":false}]
[null,null,null,null,null,{"$f":"ROUND(D50*E50,2)","v":0},null,null,0,{"$f":"F50+I50","v":0},null,null,{"$f":"ISBLANK(B50)","v":true},true,true,true,{"$f":"M50+N50+O50+P50","v":4},{"$f":"IF(Q50=0,TRUE,FALSE)","v":false}]
[null,null,null,null,null,0,null,null,0,0,null,null,true,true,true,true,4,false]
[null,null,null,null,null,0,null,null,0,0,null,null,true,true,true,true,4,false]
[null,null,null,null,null,0,null,null,0,0,null,null,true,true,true,true,4,false]
[null,null,null,null,null,0,null,null,0,0,null,null,true,true,true,true,4,false]
[null,null,null,null,null,0,null,null,0,0,null,null,true,true,true,true,4,false]
[null,null,null,null,null,0,null,null,0,0,null,null,true,true,true,true,4,false]
[null,null,null,null,null,0,null,null,0,0,null,null,true,true,true,true,4,false]
[null,null,null,null,null,0,null,null,0,0,null,null,true,true,true,true,4,true]
[null,"TOTAL",null,null,null,{"$f":"F48+F37+F26+F15","v":0},null,null,{"$f":"I48+I37+I26+I15","v":0},{"$f":"J48+J37+J26+J15","v":0},null,null,null,null,null,null,null,true]
[null,null,null,null,null,null,null,null,null,null,null,null,null,null,null,null,null,true]
[null,"BL4 - EXTERNAL EXPERTISE AND SERVICES COSTS","Unit","Expenditures in the eligible area",null,null,"Expenditures outside of the eligible area",null,null,"TOTAL",null,null,null,null,null,null,null,true]
[null,null,null,"Units","Unit rate","TOTAL","Units","Unit rate","TOTAL",null,null,null,null,null,null,null,null,true]
[null,"4.1 Rent of hall",null,null,null,{"$f":"SUM(F64:F73)","v":0},null,null,{"$f":"SUM(I64:I73)","v":0},{"$f":"SUM(J64:J73)","v":0},null,null,null,null,null,null,null,true]
[null,null,null,null,null,{"$f":"ROUND(D64*E64,2)","v":0},null,null,{"$f":"ROUND(G64*H64,2)","v":0},{"$f":"F64+I64","v":0},null,null,{"$f":"ISBLANK(B64)","v":true},{"$f":"ISBLANK(C64)","v":true},{"$f":"ISBLANK(D64)","v":true},{"$f":"ISBLANK(E64)","v":true},{"$f":"M64+N64+O64+P64","v":4},{"$f":"IF(Q64=0,TRUE,FALSE)","v":false}]
[null,null,null,null,null,{"$f":"ROUND(D65*E65,2)","v":0},null,null,0,{"$f":"F65+I65","v":0},null,null,{"$f":"ISBLANK(B65)","v":true},true,true,true,{"$f":"M65+N65+O65+P65","v":4},{"$f":"IF(Q65=0,TRUE,FALSE)","v":false}]
[null,null,null,null,null,0,null,null,0,0,null,null,true,true,true,true,4,false]
[null,null,null,null,null,0,null,null,0,0,null,null,true,true,true,true,4,false]
[null,null,null,null,null,0,null,null,0,0,null,null,true,true,true,true,4,false]
[null,null,null,null,null,0,null,null,0,0,null,null,true,true,true,true,4,false]
[null,null,null,null,null,0,null,null,0,0,null,null,true,true,true,true,4,false]
[null,null,null,null,null,0,null,null,0,0,null,null,true,true,true,true,4,false]
[null,null,null,null,null,0,null,null,0,0,null,null,true,true,true,true,4,false]
[null,null,null,null,null,0,null,null,0,0,null,null,true,true,true,true,4,true]
[null,"4.2 Rent of equipment",null,null,null,{"$f":"SUM(F75:F84)","v":0},null,null,{"$f":"SUM(I75:I84)","v":0},{"$f":"SUM(J75:J84)","v":0},null,null,null,null,null,null,null,true]
[null,null,null,null,null,{"$f":"ROUND(D75*E75,2)","v":0},null,null,{"$f":"ROUND(G75*H75,2)","v":0},{"$f":"F75+I75","v":0},null,null,{"$f":"ISBLANK(B75)","v":true},{"$f":"ISBLANK(C75)","v":true},{"$f":"ISBLANK(D75)","v":true},{"$f":"ISBLANK(E75)","v":true},{"$f":"M75+N75+O75+P75","v":4},{"$f":"IF(Q75=0,TRUE,FALSE)","v":false}]
[null,null,null,null,null,{"$f":"ROUND(D76*E76,2)","v":0},null,null,0,{"$f":"F76+I76","v":0},null,null,{"$f":"ISBLANK(B76)","v":true},true,true,true,{"$f":"M76+N76+O76+P76","v":4},{"$f":"IF(Q76=0,TRUE,FALSE)","v":false}]
[null,null,null,null,null,0,null,null,0,0,null,null,true,true,true,true,4,false]
[null,null,null,null,null,0,null,null,0,0,null,null,true,true,true,true,4,false]
[null,null,null,null,null,0,null,null,0,0,null,null,true,true,true,true,4,false]
[null,null,null,null,null,0,null,null,0,0,null,null,true,true,true,true,4,false]
[null,null,null,null,null,0,null,null,0,0,null,null,true,true,true,true,4,false]
[null,null,null,null,null,0,null,null,0,0,null,null,true,true,true,true,4,false]
[null,null,null,null,null,0,null,null,0,0,null,null,true,true,true,true,4,false]
[null,null,null,null,null,0,null,null,0,0,null,null,true,true,true,true,4,true]
[null,"4.3 Coffee breaks …..",null,null,null,{"$f":"SUM(F86:F95)","v":0},null,null,{"$f":"SUM(I86:I95)","v":0},{"$f":"SUM(J86:J95)","v":0},null,null,null,null,null,null,null,true]
[null,null,null,null,null,{"$f":"ROUND(D86*E86,2)","v":0},null,null,{"$f":"ROUND(G86*H86,2)","v":0},{"$f":"F86+I86","v":0},null,null,{"$f":"ISBLANK(B86)","v":true},{"$f":"ISBLANK(C86)","v":true},{"$f":"ISBLANK(D86)","v":true},{"$f":"ISBLANK(E86)","v":true},{"$f":"M86+N86+O86+P86","v":4},{"$f":"IF(Q86=0,TRUE,FALSE)","v":false}]
[null,null,null,null,null,{"$f":"ROUND(D87*E87,2)","v":0},null,null,0,{"$f":"F87+I87","v":0},null,null,{"$f":"ISBLANK(B87)","v":true},true,true,true,{"$f":"M87+N87+O87+P87","v":4},{"$f":"IF(Q87=0,TRUE,FALSE)","v":false}]
[null,null,null,null,null,0,null,null,0,0,null,null,true,true,true,true,4,false]
[null,null,null,null,null,0,null,null,0,0,null,null,true,true,true,true,4,false]
[null,null,null,null,null,0,null,null,0,0,null,null,true,true,true,true,4,false]
[null,null,null,null,null,0,null,null,0,0,null,null,true,true,true,true,4,false]
[null,null,null,null,null,0,null,null,0,0,null,null,true,true,true,true,4,false]
[null,null,null,null,null,0,null,null,0,0,null,null,true,true,true,true,4,false]
[null,null,null,null,null,0,null,null,0,0,null,null,true,true,true,true,4,false]
[null,null,null,null,null,0,null,null,0,0,null,null,true,true,true,true,4,true]
[null,"4.4 Preparation of materials",null,null,null,{"$f":"SUM(F97:F106)","v":0},null,null,{"$f":"SUM(I97:I106)","v":0},{"$f":"SUM(J97:J106)","v":0},null,null,null,null,null,null,null,true]
[null,null,null,null,null,{"$f":"ROUND(D97*E97,2)","v":0},null,null,{"$f":"ROUND(G97*H97,2)","v":0},{"$f":"F97+I97","v":0},null,null,{"$f":"ISBLANK(B97)","v":true},{"$f":"ISBLANK(C97)","v":true},{"$f":"ISBLANK(D97)","v":true},{"$f":"ISBLANK(E97)","v":true},{"$f":"M97+N97+O97+P97","v":4},{"$f":"IF(Q97=0,TRUE,FALSE)","v":false}]
[null,null,null,null,null,{"$f":"ROUND(D98*E98,2)","v":0},null,null,0,{"$f":"F98+I98","v":0},null,null,{"$f":"ISBLANK(B98)","v":true},true,true,true,{"$f":"M98+N98+O98+P98","v":4},{"$f":"IF(Q98=0,TRUE,FALSE)","v":false}]
[null,null,null,null,null,0,null,null,0,0,null,null,true,true,true,true,4,false]
[null,null,null,null,null,0,null,null,0,0,null,null,true,true,true,true,4,false]
[null,null,null,null,null,0,null,null,0,0,null,null,true,true,true,true,4,false]
[null,null,null,null,null,0,null,null,0,0,null,null,true,true,true,true,4,false]
[null,null,null,null,null,0,null,null,0,0,null,null,true,true,true,true,4,false]
[null,null,null,null,null,0,null,null,0,0,null,null,true,true,true,true,4,false]
[null,null,null,null,null,0,null,null,0,0,null,null,true,true,true,true,4,false]
[null,null,null,null,null,0,null,null,0,0,null,null,true,true,true,true,4,true]
[null,"4.5 Consumables",null,null,null,{"$f":"SUM(F108:F117)","v":0},null,null,{"$f":"SUM(I108:I117)","v":0},{"$f":"SUM(J108:J117)","v":0},null,null,null,null,null,null,null,true]
[null,null,null,null,null,{"$f":"ROUND(D108*E108,2)","v":0},null,null,{"$f":"ROUND(G108*H108,2)","v":0},{"$f":"F108+I108","v":0},null,null,{"$f":"ISBLANK(B108)","v":true},{"$f":"ISBLANK(C108)","v":true},{"$f":"ISBLANK(D108)","v":true},{"$f":"ISBLANK(E108)","v":true},{"$f":"M108+N108+O108+P108","v":4},{"$f":"IF(Q108=0,TRUE,FALSE)","v":false}]
[null,null,null,null,null,{"$f":"ROUND(D109*E109,2)","v":0},null,null,0,{"$f":"F109+I109","v":0},null,null,{"$f":"ISBLANK(B109)","v":true},true,true,true,{"$f":"M109+N109+O109+P109","v":4},{"$f":"IF(Q109=0,TRUE,FALSE)","v":false}]
[null,null,null,null,null,0,null,null,0,0,null,null,true,true,true,true,4,false]
[null,null,null,null,null,0,null,null,0,0,null,null,true,true,true,true,4,false]
[null,null,null,null,null,0,null,null,0,0,null,null,true,true,true,true,4,false]
[null,null,null,null,null,0,null,null,0,0,null,null,true,true,true,true,4,false]
[null,null,null,null,null,0,null,null,0,0,null,null,true,true,true,true,4,false]
[null,null,null,null,null,0,null,null,0,0,null,null,true,true,true,true,4,false]
[null,null,null,null,null,0,null,null,0,0,null,null,true,true,true,true,4,false]
[null,null,null,null,null,0,null,null,0,0,null,null,true,true,true,true,4,true]
[null,"4.6 Rent of vehicle for event",null,null,null,{"$f":"SUM(F119:F128)","v":0},null,null,{"$f":"SUM(I119:I128)","v":0},{"$f":"SUM(J119:J128)","v":0},null,null,null,null,null,null,null,true]
[null,null,null,null,null,{"$f":"ROUND(D119*E119,2)","v":0},null,null,{"$f":"ROUND(G119*H119,2)","v":0},{"$f":"F119+I119","v":0},null,null,{"$f":"ISBLANK(B119)","v":true},{"$f":"ISBLANK(C119)","v":true},{"$f":"ISBLANK(D119)","v":true},{"$f":"ISBLANK(E119)","v":true},{"$f":"M119+N119+O119+P119","v":4},{"$f":"IF(Q119=0,TRUE,FALSE)","v":false}]
[null,null,null,null,null,{"$f":"ROUND(D120*E120,2)","v":0},null,null,0,{"$f":"F120+I120","v":0},null,null,{"$f":"ISBLANK(B120)","v":true},true,true,true,{"$f":"M120+N120+O120+P120","v":4},{"$f":"IF(Q120=0,TRUE,FALSE)","v":false}]
[null,null,null,null,null,0,null,null,0,0,null,null,true,true,true,true,4,false]
[null,null,null,null,null,0,null,null,0,0,null,null,true,true,true,true,4,false]
[null,null,null,null,null,0,null,null,0,0,null,null,true,true,true,true,4,false]
[null,null,null,null,null,0,null,null,0,0,null,null,true,true,true,true,4,false]
[null,null,null,null,null,0,null,null,0,0,null,null,true,true,true,true,4,false]
[null,null,null,null,null,0,null,null,0,0,null,null,true,true,true,true,4,false]
[null,null,null,null,null,0,null,null,0,0,null,null,true,true,true,true,4,false]
[null,null,null,null,null,0,null,null,0,0,null,null,true,true,true,true,4,true]
[null,"4.7 Accommodations for participants in the events ",null,null,null,{"$f":"SUM(F130:F139)","v":0},null,null,{"$f":"SUM(I130:I139)","v":0},{"$f":"SUM(J130:J139)","v":0},null,null,null,null,null,null,null,true]
[null,null,null,null,null,{"$f":"ROUND(D130*E130,2)","v":0},null,null,{"$f":"ROUND(G130*H130,2)","v":0},{"$f":"F130+I130","v":0},null,null,{"$f":"ISBLANK(B130)","v":true},{"$f":"ISBLANK(C130)","v":true},{"$f":"ISBLANK(D130)","v":true},{"$f":"ISBLANK(E130)","v":true},{"$f":"M130+N130+O130+P130","v":4},{"$f":"IF(Q130=0,TRUE,FALSE)","v":false}]
[null,null,null,null,null,{"$f":"ROUND(D131*E131,2)","v":0},null,null,0,{"$f":"F131+I131","v":0},null,null,{"$f":"ISBLANK(B131)","v":true},true,true,true,{"$f":"M131+N131+O131+P131","v":4},{"$f":"IF(Q131=0,TRUE,FALSE)","v":false}]
[null,null,null,null,null,0,null,null,0,0,null,null,true,true,true,true,4,false]
[null,null,null,null,null,0,null,null,0,0,null,null,true,true,true,true,4,false]
[null,null,null,null,null,0,null,null,0,0,null,null,true,true,true,true,4,false]
[null,null,null,null,null,0,null,null,0,0,null,null,true,true,true,true,4,false]
[null,null,null,null,null,0,null,null,0,0,null,null,true,true,true,true,4,false]
[null,null,null,null,null,0,null,null,0,0,null,null,true,true,true,true,4,false]
[null,null,null,null,null,0,null,null,0,0,null,null,true,true,true,true,4,false]
[null,null,null,null,null,0,null,null,0,0,null,null,true,true,true,true,4,true]
[null,"4.8 Purchase of advertising materials",null,null,null,{"$f":"SUM(F141:F150)","v":0},null,null,{"$f":"SUM(I141:I150)","v":0},{"$f":"SUM(J141:J150)","v":0},null,null,null,null,null,null,null,true]
[null,null,null,null,null,{"$f":"ROUND(D141*E141,2)","v":0},null,null,{"$f":"ROUND(G141*H141,2)","v":0},{"$f":"F141+I141","v":0},null,null,{"$f":"ISBLANK(B141)","v":true},{"$f":"ISBLANK(C141)","v":true},{"$f":"ISBLANK(D141)","v":true},{"$f":"ISBLANK(E141)","v":true},{"$f":"M141+N141+O141+P141","v":4},{"$f":"IF(Q141=0,TRUE,FALSE)","v":false}]
[null,null,null,null,null,{"$f":"ROUND(D142*E142,2)","v":0},null,null,0,{"$f":"F142+I142","v":0},null,null,{"$f":"ISBLANK(B142)","v":true},true,true,true,{"$f":"M142+N142+O142+P142","v":4},{"$f":"IF(Q142=0,TRUE,FALSE)","v":false}]
[null,null,null,null,null,0,null,null,0,0,null,null,true,true,true,true,4,false]
[null,null,null,null,null,0,null,null,0,0,null,null,true,true,true,true,4,false]
[null,null,null,null,null,0,null,null,0,0,null,null,true,true,true,true,4,false]
[null,null,null,null,null,0,null,null,0,0,null,null,true,true,true,true,4,false]
[null,null,null,null,null,0,null,null,0,0,null,null,true,true,true,true,4,false]
[null,null,null,null,null,0,null,null,0,0,null,null,true,true,true,true,4,false]
[null,null,null,null,null,0,null,null,0,0,null,null,true,true,true,true,4,false]
[null,null,null,null,null,0,null,null,0,0,null,null,true,true,true,true,4,true]
[null,"4.9 Elaboration, design etc.",null,null,null,{"$f":"SUM(F152:F161)","v":0},null,null,{"$f":"SUM(I152:I161)","v":0},{"$f":"SUM(J152:J161)","v":0},null,null,null,null,null,null,null,true]
[null,null,null,null,null,{"$f":"ROUND(D152*E152,2)","v":0},null,null,{"$f":"ROUND(G152*H152,2)","v":0},{"$f":"F152+I152","v":0},null,null,{"$f":"ISBLANK(B152)","v":true},{"$f":"ISBLANK(C152)","v":true},{"$f":"ISBLANK(D152)","v":true},{"$f":"ISBLANK(E152)","v":true},{"$f":"M152+N152+O152+P152","v":4},{"$f":"IF(Q152=0,TRUE,FALSE)","v":false}]
[null,null,null,null,null,{"$f":"ROUND(D153*E153,2)","v":0},null,null,0,{"$f":"F153+I153","v":0},null,null,{"$f":"ISBLANK(B153)","v":true},true,true,true,{"$f":"M153+N153+O153+P153","v":4},{"$f":"IF(Q153=0,TRUE,FALSE)","v":false}]
[null,null,null,null,null,0,null,null,0,0,null,null,true,true,true,true,4,false]
[null,null,null,null,null,0,null,null,0,0,null,null,true,true,true,true,4,false]
[null,null,null,null,null,0,null,null,0,0,null,null,true,true,true,true,4,false]
[null,null,null,null,null,0,null,null,0,0,null,null,true,true,true,true,4,false]
[null,null,null,null,null,0,null,null,0,0,null,null,true,true,true,true,4,false]
[null,null,null,null,null,0,null,null,0,0,null,null,true,true,true,true,4,false]
[null,null,null,null,null,0,null,null,0,0,null,null,true,true,true,true,4,false]
[null,null,null,null,null,0,null,null,0,0,null,null,true,true,true,true,4,true]
[null,"4.10 Publications in mass-media",null,null,null,{"$f":"SUM(F163:F172)","v":0},null,null,{"$f":"SUM(I163:I172)","v":0},{"$f":"SUM(J163:J172)","v":0},null,null,null,null,null,null,null,true]
[null,null,null,null,null,{"$f":"ROUND(D163*E163,2)","v":0},null,null,{"$f":"ROUND(G163*H163,2)","v":0},{"$f":"F163+I163","v":0},null,null,{"$f":"ISBLANK(B163)","v":true},{"$f":"ISBLANK(C163)","v":true},{"$f":"ISBLANK(D163)","v":true},{"$f":"ISBLANK(E163)","v":true},{"$f":"M163+N163+O163+P163","v":4},{"$f":"IF(Q163=0,TRUE,FALSE)","v":false}]
[null,null,null,null,null,{"$f":"ROUND(D164*E164,2)","v":0},null,null,0,{"$f":"F164+I164","v":0},null,null,{"$f":"ISBLANK(B164)","v":true},true,true,true,{"$f":"M164+N164+O164+P164","v":4},{"$f":"IF(Q164=0,TRUE,FALSE)","v":false}]
[null,null,null,null,null,0,null,null,0,0,null,null,true,true,true,true,4,false]
[null,null,null,null,null,0,null,null,0,0,null,null,true,true,true,true,4,false]
[null,null,null,null,null,0,null,null,0,0,null,null,true,true,true,true,4,false]
[null,null,null,null,null,0,null,null,0,0,null,null,true,true,true,true,4,false]
[null,null,null,null,null,0,null,null,0,0,null,null,true,true,true,true,4,false]
[null,null,null,null,null,0,null,null,0,0,null,null,true,true,true,true,4,false]
[null,null,null,null,null,0,null,null,0,0,null,null,true,true,true,true,4,false]
[null,null,null,null,null,0,null,null,0,0,null,null,true,true,true,true,4,true]
[null,"4.11 Consultancy, studies,designs etc.",null,null,null,{"$f":"SUM(F174:F183)","v":0},null,null,{"$f":"SUM(I174:I183)","v":0},{"$f":"SUM(J174:J183)","v":0},null,null,null,null,null,null,null,true]
[null,null,null,null,null,{"$f":"ROUND(D174*E174,2)","v":0},null,null,{"$f":"ROUND(G174*H174,2)","v":0},{"$f":"F174+I174","v":0},null,null,{"$f":"ISBLANK(B174)","v":true},{"$f":"ISBLANK(C174)","v":true},{"$f":"ISBLANK(D174)","v":true},{"$f":"ISBLANK(E174)","v":true},{"$f":"M174+N174+O174+P174","v":4},{"$f":"IF(Q174=0,TRUE,FALSE)","v":false}]
[null,null,null,null,null,{"$f":"ROUND(D175*E175,2)","v":0},null,null,0,{"$f":"F175+I175","v":0},null,null,{"$f":"ISBLANK(B175)","v":true},true,true,true,{"$f":"M175+N175+O175+P175","v":4},{"$f":"IF(Q175=0,TRUE,FALSE)","v":false}]
[null,null,null,null,null,0,null,null,0,0,null,null,true,true,true,true,4,false]
[null,null,null,null,null,0,null,null,0,0,null,null,true,true,true,true,4,false]
[null,null,null,null,null,0,null,null,0,0,null,null,true,true,true,true,4,false]
[null,null,null,null,null,0,null,null,0,0,null,null,true,true,true,true,4,false]
[null,null,null,null,null,0,null,null,0,0,null,null,true,true,true,true,4,false]
[null,null,null,null,null,0,null,null,0,0,null,null,true,true,true,true,4,false]
[null,null,null,null,null,0,null,null,0,0,null,null,true,true,true,true,4,false]
[null,null,null,null,null,0,null,null,0,0,null,null,true,true,true,true,4,true]
[null,"4.12 Authorizations, certificates",null,null,null,{"$f":"SUM(F185:F194)","v":0},null,null,{"$f":"SUM(I185:I194)","v":0},{"$f":"SUM(J185:J194)","v":0},null,null,null,null,null,null,null,true]
[null,null,null,null,null,{"$f":"ROUND(D185*E185,2)","v":0},null,null,{"$f":"ROUND(G185*H185,2)","v":0},{"$f":"F185+I185","v":0},null,null,{"$f":"ISBLANK(B185)","v":true},{"$f":"ISBLANK(C185)","v":true},{"$f":"ISBLANK(D185)","v":true},{"$f":"ISBLANK(E185)","v":true},{"$f":"M185+N185+O185+P185","v":4},{"$f":"IF(Q185=0,TRUE,FALSE)","v":false}]
[null,null,null,null,null,{"$f":"ROUND(D186*E186,2)","v":0},null,null,0,{"$f":"F186+I186","v":0},null,null,{"$f":"ISBLANK(B186)","v":true},true,true,true,{"$f":"M186+N186+O186+P186","v":4},{"$f":"IF(Q186=0,TRUE,FALSE)","v":false}]
[null,null,null,null,null,0,null,null,0,0,null,null,true,true,true,true,4,false]
[null,null,null,null,null,0,null,null,0,0,null,null,true,true,true,true,4,false]
[null,null,null,null,null,0,null,null,0,0,null,null,true,true,true,true,4,false]
[null,null,null,null,null,0,null,null,0,0,null,null,true,true,true,true,4,false]
[null,null,null,null,null,0,null,null,0,0,null,null,true,true,true,true,4,false]
[null,null,null,null,null,0,null,null,0,0,null,null,true,true,true,true,4,false]
[null,null,null,null,null,0,null,null,0,0,null,null,true,true,true,true,4,false]
[null,null,null,null,null,0,null,null,0,0,null,null,true,true,true,true,4,true]
[null,"4.13 Interpreters, lecturers, trainers",null,null,null,{"$f":"SUM(F196:F205)","v":0},null,null,{"$f":"SUM(I196:I205)","v":0},{"$f":"SUM(J196:J205)","v":0},null,null,null,null,null,null,null,true]
[null,null,null,null,null,{"$f":"ROUND(D196*E196,2)","v":0},null,null,{"$f":"ROUND(G196*H196,2)","v":0},{"$f":"F196+I196","v":0},null,null,{"$f":"ISBLANK(B196)","v":true},{"$f":"ISBLANK(C196)","v":true},{"$f":"ISBLANK(D196)","v":true},{"$f":"ISBLANK(E196)","v":true},{"$f":"M196+N196+O196+P196","v":4},{"$f":"IF(Q196=0,TRUE,FALSE)","v":false}]
[null,null,null,null,null,{"$f":"ROUND(D197*E197,2)","v":0},null,null,0,{"$f":"F197+I197","v":0},null,null,{"$f":"ISBLANK(B197)","v":true},true,true,true,{"$f":"M197+N197+O197+P197","v":4},{"$f":"IF(Q197=0,TRUE,FALSE)","v":false}]
[null,null,null,null,null,0,null,null,0,0,null,null,true,true,true,true,4,false]
[null,null,null,null,null,0,null,null,0,0,null,null,true,true,true,true,4,false]
[null,null,null,null,null,0,null,null,0,0,null,null,true,true,true,true,4,false]
[null,null,null,null,null,0,null,null,0,0,null,null,true,true,true,true,4,false]
[null,null,null,null,null,0,null,null,0,0,null,null,true,true,true,true,4,false]
[null,null,null,null,null,0,null,null,0,0,null,null,true,true,true,true,4,false]
[null,null,null,null,null,0,null,null,0,0,null,null,true,true,true,true,4,false]
[null,null,null,null,null,0,null,null,0,0,null,null,true,true,true,true,4,true]
[null,"4.14 Others",null,null,null,{"$f":"SUM(F207:F216)","v":0},null,null,{"$f":"SUM(I207:I216)","v":0},{"$f":"SUM(J207:J216)","v":0},null,null,null,null,null,null,null,true]
[null,null,null,null,null,{"$f":"ROUND(D207*E207,2)","v":0},null,null,{"$f":"ROUND(G207*H207,2)","v":0},{"$f":"F207+I207","v":0},null,null,{"$f":"ISBLANK(B207)","v":true},{"$f":"ISBLANK(C207)","v":true},{"$f":"ISBLANK(D207)","v":true},{"$f":"ISBLANK(E207)","v":true},{"$f":"M207+N207+O207+P207","v":4},{"$f":"IF(Q207=0,TRUE,FALSE)","v":false}]
[null,null,null,null,null,{"$f":"ROUND(D208*E208,2)","v":0},null,null,0,{"$f":"F208+I208","v":0},null,null,{"$f":"ISBLANK(B208)","v":true},true,true,true,{"$f":"M208+N208+O208+P208","v":4},{"$f":"IF(Q208=0,TRUE,FALSE)","v":false}]
[null,null,null,null,null,0,null,null,0,0,null,null,true,true,true,true,4,false]
[null,null,null,null,null,0,null,null,0,0,null,null,true,true,true,true,4,false]
[null,null,null,null,null,0,null,null,0,0,null,null,true,true,true,true,4,false]
[null,null,null,null,null,0,null,null,0,0,null,null,true,true,true,true,4,false]
[null,null,null,null,null,0,null,null,0,0,null,null,true,true,true,true,4,false]
[null,null,null,null,null,0,null,null,0,0,null,null,true,true,true,true,4,false]
[null,null,null,null,null,0,null,null,0,0,null,null,true,true,true,true,4,false]
[null,null,null,null,null,0,null,null,0,0,null,null,true,true,true,true,4,true]
[null,"TOTAL",null,null,null,{"$f":"F206+F195+F184+F173+F162+F151+F140+F129+F118+F107+F96+F85+F74+F63","v":0},null,null,{"$f":"I206+I195+I184+I173+I162+I151+I140+I129+I118+I107+I96+I85+I74+I63","v":0},{"$f":"J206+J195+J184+J173+J162+J151+J140+J129+J118+J107+J96+J85+J74+J63","v":0},null,null,null,null,null,null,null,true]
[null,null,null,"Small scale constructions are not allowed for Soft project!!!!",null,null,null,null,null,null,null,null,{"$f":"O222+P222+N218","v":2},{"$f":"M8=\"Soft\"","v":false},null,null,null,true]
[null,"BL5 - EQUIPMENT AND WORKS","Unit","Expenditures in the eligible area",null,null,"N/A",null,null,"TOTAL",null,null,null,null,null,null,null,true]
[null,null,null,"Units","Unit rate","TOTAL","Units","Unit rate","TOTAL",null,null,null,null,null,null,null,null,true]
[null,"5.1 Small scale construction",null,null,null,{"$f":"SUM(F222:F231)","v":0},null,null,{"$f":"SUM(I222:I231)","v":0},{"$f":"SUM(J222:J231)","v":0},null,null,null,null,null,null,null,true]
[null,null,null,null,null,{"$f":"ROUND(D222*E222,2)","v":0},null,null,{"$f":"ROUND(G222*H222,2)","v":0},{"$f":"F222+I222","v":0},null,null,{"$f":"ISBLANK(B222)","v":true},{"$f":"ISBLANK(C222)","v":true},{"$f":"ISBLANK(D222)","v":true},{"$f":"ISBLANK(E222)","v":true},{"$f":"M222+N222+O222+P222","v":4},{"$f":"IF(Q222=0,TRUE,FALSE)","v":false}]
[null,null,null,null,null,{"$f":"ROUND(D223*E223,2)","v":0},null,null,0,{"$f":"F223+I223","v":0},null,null,{"$f":"ISBLANK(B223)","v":true},true,true,true,{"$f":"M223+N223+O223+P223","v":4},{"$f":"IF(Q223=0,TRUE,FALSE)","v":false}]
[null,null,null,null,null,0,null,null,0,0,null,null,true,true,true,true,4,false]
[null,null,null,null,null,0,null,null,0,0,null,null,true,true,true,true,4,false]
[null,null,null,null,null,0,null,null,0,0,null,null,true,true,true,true,4,false]
[null,null,null,null,null,0,null,null,0,0,null,null,true,true,true,true,4,false]
[null,null,null,null,null,0,null,null,0,0,null,null,true,true,true,true,4,false]
[null,null,null,null,null,0,null,null,0,0,null,null,true,true,true,true,4,false]
[null,null,null,null,null,0,null,null,0,0,null,null,true,true,true,true,4,false]
[null,null,null,null,null,0,null,null,0,0,null,null,true,true,true,true,4,true]
[null,"5.2 Supply",null,null,null,{"$f":"SUM(F233:F242)","v":0},null,null,{"$f":"SUM(I233:I242)","v":0},{"$f":"SUM(J233:J242)","v":0},null,null,null,null,null,null,null,true]
[null,null,null,null,null,{"$f":"ROUND(D233*E233,2)","v":0},null,null,{"$f":"ROUND(G233*H233,2)","v":0},{"$f":"F233+I233","v":0},null,null,{"$f":"ISBLANK(B233)","v":true},{"$f":"ISBLANK(C233)","v":true},{"$f":"ISBLANK(D233)","v":true},{"$f":"ISBLANK(E233)","v":true},{"$f":"M233+N233+O233+P233","v":4},{"$f":"IF(Q233=0,TRUE,FALSE)","v":false}]
[null,null,null,null,null,{"$f":"ROUND(D234*E234,2)","v":0},null,null,0,{"$f":"F234+I234","v":0},null,null,{"$f":"ISBLANK(B234)","v":true},true,true,true,{"$f":"M234+N234+O234+P234","v":4},{"$f":"IF(Q234=0,TRUE,FALSE)","v":false}]
[null,null,null,null,null,0,null,null,0,0,null,null,true,true,true,true,4,false]
[null,null,null,null,null,0,null,null,0,0,null,null,true,true,true,true,4,false]
[null,null,null,null,null,0,null,null,0,0,null,null,true,true,true,true,4,false]
[null,null,null,null,null,0,null,null,0,0,null,null,true,true,true,true,4,false]
[null,null,null,null,null,0,null,null,0,0,null,null,true,true,true,true,4,false]
[null,null,null,null,null,0,null,null,0,0,null,null,true,true,true,true,4,false]
[null,null,null,null,null,0,null,null,0,0,null,null,true,true,true,true,4,false]
[null,null,null,null,null,0,null,null,0,0,null,null,true,true,true,true,4,true]
[null,"TOTAL",null,null,null,{"$f":"F232+F221","v":0},null,null,{"$f":"I232+I221","v":0},{"$f":"J232+J221","v":0},null,null,null,null,null,null,null,true]
[null,null,null,null,null,null,null,null,null,null,null,null,null,null,null,null,null,true]
[null,"BL6 - PROJECT PREPARATION","Unit","Expenditures in the eligible area",null,null,"N/A",null,null,"TOTAL",null,null,null,null,null,null,null,true]
[null,null,null,"Units","Unit rate","TOTAL","Units","Unit rate","TOTAL",null,null,null,null,null,null,null,null,true]
[null,null,null,null,null,{"$f":"ROUND(D247*E247,2)","v":0},null,null,{"$f":"ROUND(G247*H247,2)","v":0},{"$f":"F247+I247","v":0},null,null,{"$f":"ISBLANK(B247)","v":true},{"$f":"ISBLANK(C247)","v":true},{"$f":"ISBLANK(D247)","v":true},{"$f":"ISBLANK(E247)","v":true},{"$f":"M247+N247+O247+P247","v":4},{"$f":"IF(Q247=0,TRUE,FALSE)","v":false}]
[null,null,null,null,null,{"$f":"ROUND(D248*E248,2)","v":0},null,null,0,{"$f":"F248+I248","v":0},null,null,{"$f":"ISBLANK(B248)","v":true},true,true,true,{"$f":"M248+N248+O248+P248","v":4},{"$f":"IF(Q248=0,TRUE,FALSE)","v":false}]
[null,null,null,null,null,0,null,null,0,0,null,null,true,true,true,true,4,false]
[null,null,null,null,null,0,null,null,0,0,null,null,true,true,true,true,4,false]
[null,null,null,null,null,0,null,null,0,0,null,null,true,true,true,true,4,false]
[null,null,null,null,null,0,null,null,0,0,null,null,true,true,true,true,4,false]
[null,null,null,null,null,0,null,null,0,0,null,null,true,true,true,true,4,false]
[null,null,null,null,null,0,null,null,0,0,null,null,true,true,true,true,4,false]
[null,null,null,null,null,0,null,null,0,0,null,null,true,true,true,true,4,false]
[null,null,null,null,null,0,null,null,0,0,null,null,true,true,true,true,4,true]
[null,"TOTAL",null,null,null,{"$f":"SUM(F247:F256)","v":0},null,null,{"$f":"SUM(I247:I256)","v":0},{"$f":"SUM(J247:J256)","v":0},null,null,null,null,null,null,null,true]
[null,null,null,null,null,null,null,null,null,null,null,null,null,null,null,null,null,true]
[null,"Own Contribution",null,null,null,"Unit","Units","Unit rate","TOTAL",null,null,null,null,null,null,null,null,true]
[null,null,null,null,null,null,null,null,{"$f":"G260*H260","v":0},null,null,null,null,null,null,null,null,true]
[null,null,null,"Expenditures outside the eligible area exceed 20 %! Reconsider budget distribution!",null,null,null,null,null,null,null,null,null,null,null,null,null,true]
[null,"Total direct project costs VAT incl. (BL3+BL4+BL5)",null,null,null,{"$f":"F243+F217+F59","v":0},{"$f":"I243+I59+I217","v":0},null,null,{"$f":"J243+J217+J59","v":0},null,null,null,null,null,null,null,true]
[null,"TOTAL PROJECT COSTS",null,null,null,{"$f":"F262+F257+I6+I11+I260","v":0},{"$f":"G262+I257","v":0},null,null,{"$f":"F263+G263","v":0},null,null,null,null,null,null,null,true]
[]
[null,null,null,null,null,null,null,null,null,null,null,null,null,{"$f":"G263/F263>0.2","v":{"$error":"#DIV/0!"}}]

{"sheet":"T2-B(PP2)","index":10,"n_rows":263,"n_cols":18,"rows_kept":263,"cut":false,"hidden":false,"merged":[[244,9,245,9],[261,1,261,4],[261,6,261,8],[262,1,262,4],[262,6,262,8],[256,1,256,4],[256,6,256,7],[258,1,258,4],[258,8,258,9],[259,1,259,4],[259,8,259,9],[242,1,242,4],[242,6,242,7],[244,1,245,1],[244,2,245,2],[244,3,244,5],[244,6,244,8],[216,1,216,4],[216,6,216,7],[218,1,219,1],[218,2,219,2],[218,3,218,5],[218,6,218,8],[217,3,217,9],[218,9,219,9],[60,1,61,1],[60,2,61,2],[60,3,60,5],[60,6,60,8],[60,9,61,9],[9,8,9,9],[10,1,10,7],[10,8,10,9],[12,1,13,1],[12,2,13,2],[12,3,12,5],[12,6,12,8],[12,9,13,9],[9,1,9,5],[9,6,9,7],[2,1,3,5],[2,6,2,7],[2,8,3,9],[3,6,3,7],[4,1,4,5],[4,6,4,7],[4,8,4,9],[5,1,5,7],[5,8,5,9],[7,1,8,5],[7,6,7,7],[7,8,8,9],[8,6,8,7]]}
[null,"TABLE 2 - DETAILED BREAKDOWN OF BUDGET LINES - PP2",null,null,null,null,null,null,null,null,null,null,null,null,null,null,null,true]
[null,null,null,null,null,null,null,null,null,null,null,null,null,null,null,null,null,true]
[null,"BL1 - STAFF COSTS",null,null,null,null,"Flat rate",null,"TOTAL",null,null,null,null,null,null,null,null,true]
[null,null,null,null,null,null,"%",null,null,null,null,null,null,null,null,null,null,true]
[null,{"$f":"M5","v":" project"},null,null,null,null,null,null,{"$f":"G5*J262/100","v":0},null,null,"visible/hidden depending on project identification",{"$f":"CONCATENATE('Project identification'!C15,\" project\")","v":" project"},null,null,null,10,true]
[null,"TOTAL",null,null,null,null,null,null,{"$f":"I5","v":0},null,null,null,null,null,{"$f":"IF(M8=\"Soft\",15,10)","v":10},null,15,true]
[null,null,null,null,null,null,null,null,null,null,null,null,null,null,null,null,null,true]
[null,"BL2 - OFFICE AND ADMINISTRATIVE COSTS",null,null,null,null,"Flat rate",null,"TOTAL",null,null,null,{"$f":"'Project identification'!C15","v":""},null,null,null,null,true]
[null,null,null,null,null,null,"%",null,null,null,null,null,null,null,null,null,null,true]
[null,{"$f":"M5","v":" project"},null,null,null,null,null,null,{"$f":"G10*I5/100","v":0},null,null,"visible/hidden depending on project identification",null,null,null,null,2,true]
[null,"TOTAL",null,null,null,null,null,null,{"$f":"I10","v":0},null,null,null,null,null,{"$f":"IF(M8=\"Soft\",20,15)","v":15},null,5,true]
[null,null,null,null,null,null,null,null,null,null,null,null,null,null,null,null,null,true]
[null,"BL3 - TRAVEL AND ACCOMMODATION","Unit","Expenditures in the eligible area",null,null,"Expenditures outside of the eligible area",null,null,"TOTAL",null,null,null,null,null,null,null,true]
[null,null,null,"Units","Unit rate","TOTAL","Units","Unit rate","TOTAL",null,null,null,null,null,null,null,null,true]
[null,"3.1 Travel costs",null,null,null,{"$f":"SUM(F16:F25)","v":0},null,null,{"$f":"SUM(I16:I25)","v":0},{"$f":"SUM(J16:J25)","v":0},null,"Add",null,null,null,null,null,true]
[null,null,null,null,null,{"$f":"ROUND(D16*E16,2)","v":0},null,null,{"$f":"ROUND(G16*H16,2)","v":0},{"$f":"F16+I16","v":0},null,null,{"$f":"ISBLANK(B16)","v":true},{"$f":"ISBLANK(C16)","v":true},true,true,{"$f":"M16+N16+O16+P16","v":4},{"$f":"IF(Q16=0,TRUE,FALSE)","v":false}]
[null,null,null,null,null,{"$f":"ROUND(D17*E17,2)","v":0},null,null,0,{"$f":"F17+I17","v":0},null,null,{"$f":"ISBLANK(B17)","v":true},true,true,true,{"$f":"M17+N17+O17+P17","v":4},{"$f":"IF(Q17=0,TRUE,FALSE)","v":false}]
[null,null,null,null,null,0,null,null,0,0,null,null,true,true,true,true,4,false]
[null,null,null,null,null,0,null,null,0,0,null,null,true,true,true,true,4,false]
[null,null,null,null,null,0,null,null,0,0,null,null,true,true,true,true,4,false]
[null,null,null,null,null,0,null,null,0,0,null,null,true,true,true,true,4,false]
[null,null,null,null,null,0,null,null,0,0,null,null,true,true,true,true,4,false]
[null,null,null,null,null,0,null,null,0,0,null,null,true,true,true,true,4,false]
[null,null,null,null,null,0,null,null,0,0,null,null,true,true,true,true,4,false]
[null,null,null,null,null,0,null,null,0,0,null,null,true,true,true,true,4,true]
[null,"3.2 Daily allowances",null,null,null,{"$f":"SUM(F27:F36)","v":0},null,null,{"$f":"SUM(I27:I36)","v":0},{"$f":"SUM(J27:J36)","v":0},null,"add (10 items)",null,null,null,null,null,true]
[null,null,null,null,null,{"$f":"ROUND(D27*E27,2)","v":0},null,null,{"$f":"ROUND(G27*H27,2)","v":0},{"$f":"F27+I27","v":0},null,null,{"$f":"ISBLANK(B27)","v":true},{"$f":"ISBLANK(C27)","v":true},true,true,{"$f":"M27+N27+O27+P27","v":4},{"$f":"IF(Q27=0,TRUE,FALSE)","v":false}]
[null,null,null,null,null,{"$f":"ROUND(D28*E28,2)","v":0},null,null,0,{"$f":"F28+I28","v":0},null,null,{"$f":"ISBLANK(B28)","v":true},true,true,true,{"$f":"M28+N28+O28+P28","v":4},{"$f":"IF(Q28=0,TRUE,FALSE)","v":false}]
[null,null,null,null,null,0,null,null,0,0,null,null,true,true,true,true,4,false]
[null,null,null,null,null,0,null,null,0,0,null,null,true,true,true,true,4,false]
[null,null,null,null,null,0,null,null,0,0,null,null,true,true,true,true,4,false]
[null,null,null,null,null,0,null,null,0,0,null,null,true,true,true,true,4,false]
[null,null,null,null,null,0,null,null,0,0,null,null,true,true,true,true,4,false]
[null,null,null,null,null,0,null,null,0,0,null,null,true,true,true,true,4,false]
[null,null,null,null,null,0,null,null,0,0,null,null,true,true,true,true,4,false]
[null,null,null,null,null,0,null,null,0,0,null,null,true,true,true,true,4,true]
[null,"3.3 Accommodation costs",null,null,null,{"$f":"SUM(F38:F47)","v":0},null,null,{"$f":"SUM(I38:I47)","v":0},{"$f":"SUM(J38:J47)","v":0},null,null,null,null,null,null,null,true]
[null,null,null,null,null,{"$f":"ROUND(D38*E38,2)","v":0},null,null,{"$f":"ROUND(G38*H38,2)","v":0},{"$f":"F38+I38","v":0},null,null,{"$f":"ISBLANK(B38)","v":true},{"$f":"ISBLANK(C38)","v":true},true,true,{"$f":"M38+N38+O38+P38","v":4},{"$f":"IF(Q38=0,TRUE,FALSE)","v":false}]
[null,null,null,null,null,{"$f":"ROUND(D39*E39,2)","v":0},null,null,0,{"$f":"F39+I39","v":0},null,null,{"$f":"ISBLANK(B39)","v":true},true,true,true,{"$f":"M39+N39+O39+P39","v":4},{"$f":"IF(Q39=0,TRUE,FALSE)","v":false}]
[null,null,null,null,null,0,null,null,0,0,null,null,true,true,true,true,4,false]
[null,null,null,null,null,0,null,null,0,0,null,null,true,true,true,true,4,false]
[null,null,null,null,null,0,null,null,0,0,null,null,true,true,true,true,4,false]
[null,null,null,null,null,0,null,null,0,0,null,null,true,true,true,true,4,false]
[null,null,null,null,null,0,null,null,0,0,null,null,true,true,true,true,4,false]
[null,null,null,null,null,0,null,null,0,0,null,null,true,true,true,true,4,false]
[null,null,null,null,null,0,null,null,0,0,null,null,true,true,true,true,4,false]
[null,null,null,null,null,0,null,null,0,0,null,null,true,true,true,true,4,true]
[null,"3.4 Visa costs",null,null,null,{"$f":"SUM(F49:F58)","v":0},null,null,{"$f":"SUM(I49:I58)","v":0},{"$f":"SUM(J49:J58)","v":0},null,null,null,null,null,null,null,true]
[null,null,null,null,null,{"$f":"ROUND(D49*E49,2)","v":0},null,null,{"$f":"ROUND(G49*H49,2)","v":0},{"$f":"F49+I49","v":0},null,null,{"$f":"ISBLANK(B49)","v":true},{"$f":"ISBLANK(C49)","v":true},true,true,{"$f":"M49+N49+O49+P49","v":4},{"$f":"IF(Q49=0,TRUE,FALSE)","v":false}]
[null,null,null,null,null,{"$f":"ROUND(D50*E50,2)","v":0},null,null,0,{"$f":"F50+I50","v":0},null,null,{"$f":"ISBLANK(B50)","v":true},true,true,true,{"$f":"M50+N50+O50+P50","v":4},{"$f":"IF(Q50=0,TRUE,FALSE)","v":false}]
[null,null,null,null,null,0,null,null,0,0,null,null,true,true,true,true,4,false]
[null,null,null,null,null,0,null,null,0,0,null,null,true,true,true,true,4,false]
[null,null,null,null,null,0,null,null,0,0,null,null,true,true,true,true,4,false]
[null,null,null,null,null,0,null,null,0,0,null,null,true,true,true,true,4,false]
[null,null,null,null,null,0,null,null,0,0,null,null,true,true,true,true,4,false]
[null,null,null,null,null,0,null,null,0,0,null,null,true,true,true,true,4,false]
[null,null,null,null,null,0,null,null,0,0,null,null,true,true,true,true,4,false]
[null,null,null,null,null,0,null,null,0,0,null,null,true,true,true,true,4,true]
[null,"TOTAL",null,null,null,{"$f":"F48+F37+F26+F15","v":0},null,null,{"$f":"I48+I37+I26+I15","v":0},{"$f":"J48+J37+J26+J15","v":0},null,null,null,null,null,null,null,true]
[null,null,null,null,null,null,null,null,null,null,null,null,null,null,null,null,null,true]
[null,"BL4 - EXTERNAL EXPERTISE AND SERVICES COSTS","Unit","Expenditures in the eligible area",null,null,"Expenditures outside of the eligible area",null,null,"TOTAL",null,null,null,null,null,null,null,true]
[null,null,null,"Units","Unit rate","TOTAL","Units","Unit rate","TOTAL",null,null,null,null,null,null,null,null,true]
[null,"4.1 Rent of hall",null,null,null,{"$f":"SUM(F64:F73)","v":0},null,null,{"$f":"SUM(I64:I73)","v":0},{"$f":"SUM(J64:J73)","v":0},null,null,null,null,null,null,null,true]
[null,null,null,null,null,{"$f":"ROUND(D64*E64,2)","v":0},null,null,{"$f":"ROUND(G64*H64,2)","v":0},{"$f":"F64+I64","v":0},null,null,{"$f":"ISBLANK(B64)","v":true},{"$f":"ISBLANK(C64)","v":true},true,true,{"$f":"M64+N64+O64+P64","v":4},{"$f":"IF(Q64=0,TRUE,FALSE)","v":false}]
[null,null,null,null,null,{"$f":"ROUND(D65*E65,2)","v":0},null,null,0,{"$f":"F65+I65","v":0},null,null,{"$f":"ISBLANK(B65)","v":true},true,true,true,{"$f":"M65+N65+O65+P65","v":4},{"$f":"IF(Q65=0,TRUE,FALSE)","v":false}]
[null,null,null,null,null,0,null,null,0,0,null,null,true,true,true,true,4,false]
[null,null,null,null,null,0,null,null,0,0,null,null,true,true,true,true,4,false]
[null,null,null,null,null,0,null,null,0,0,null,null,true,true,true,true,4,false]
[null,null,null,null,null,0,null,null,0,0,null,null,true,true,true,true,4,false]
[null,null,null,null,null,0,null,null,0,0,null,null,true,true,true,true,4,false]
[null,null,null,null,null,0,null,null,0,0,null,null,true,true,true,true,4,false]
[null,null,null,null,null,0,null,null,0,0,null,null,true,true,true,true,4,false]
[null,null,null,null,null,0,null,null,0,0,null,null,true,true,true,true,4,true]
[null,"4.2 Rent of equipment",null,null,null,{"$f":"SUM(F75:F84)","v":0},null,null,{"$f":"SUM(I75:I84)","v":0},{"$f":"SUM(J75:J84)","v":0},null,null,null,null,null,null,null,true]
[null,null,null,null,null,{"$f":"ROUND(D75*E75,2)","v":0},null,null,{"$f":"ROUND(G75*H75,2)","v":0},{"$f":"F75+I75","v":0},null,null,{"$f":"ISBLANK(B75)","v":true},{"$f":"ISBLANK(C75)","v":true},true,true,{"$f":"M75+N75+O75+P75","v":4},{"$f":"IF(Q75=0,TRUE,FALSE)","v":false}]
[null,null,null,null,null,{"$f":"ROUND(D76*E76,2)","v":0},null,null,0,{"$f":"F76+I76","v":0},null,null,{"$f":"ISBLANK(B76)","v":true},true,true,true,{"$f":"M76+N76+O76+P76","v":4},{"$f":"IF(Q76=0,TRUE,FALSE)","v":false}]
[null,null,null,null,null,0,null,null,0,0,null,null,true,true,true,true,4,false]
[null,null,null,null,null,0,null,null,0,0,null,null,true,true,true,true,4,false]
[null,null,null,null,null,0,null,null,0,0,null,null,true,true,true,true,4,false]
[null,null,null,null,null,0,null,null,0,0,null,null,true,true,true,true,4,false]
[null,null,null,null,null,0,null,null,0,0,null,null,true,true,true,true,4,false]
[null,null,null,null,null,0,null,null,0,0,null,null,true,true,true,true,4,false]
[null,null,null,null,null,0,null,null,0,0,null,null,true,true,true,true,4,false]
[null,null,null,null,null,0,null,null,0,0,null,null,true,true,true,true,4,true]
[null,"4.3 Coffee breaks …..",null,null,null,{"$f":"SUM(F86:F95)","v":0},null,null,{"$f":"SUM(I86:I95)","v":0},{"$f":"SUM(J86:J95)","v":0},null,null,null,null,null,null,null,true]
[null,null,null,null,null,{"$f":"ROUND(D86*E86,2)","v":0},null,null,{"$f":"ROUND(G86*H86,2)","v":0},{"$f":"F86+I86","v":0},null,null,{"$f":"ISBLANK(B86)","v":true},{"$f":"ISBLANK(C86)","v":true},true,true,{"$f":"M86+N86+O86+P86","v":4},{"$f":"IF(Q86=0,TRUE,FALSE)","v":false}]
[null,null,null,null,null,{"$f":"ROUND(D87*E87,2)","v":0},null,null,0,{"$f":"F87+I87","v":0},null,null,{"$f":"ISBLANK(B87)","v":true},true,true,true,{"$f":"M87+N87+O87+P87","v":4},{"$f":"IF(Q87=0,TRUE,FALSE)","v":false}]
[null,null,null,null,null,0,null,null,0,0,null,null,true,true,true,true,4,false]
[null,null,null,null,null,0,null,null,0,0,null,null,true,true,true,true,4,false]
[null,null,null,null,null,0,null,null,0,0,null,null,true,true,true,true,4,false]
[null,null,null,null,null,0,null,null,0,0,null,null,true,true,true,true,4,false]
[null,null,null,null,null,0,null,null,0,0,null,null,true,true,true,true,4,false]
[null,null,null,null,null,0,null,null,0,0,null,null,true,true,true,true,4,false]
[null,null,null,null,null,0,null,null,0,0,null,null,true,true,true,true,4,false]
[null,null,null,null,null,0,null,null,0,0,null,null,true,true,true,true,4,true]
[null,"4.4 Preparation of materials",null,null,null,{"$f":"SUM(F97:F106)","v":0},null,null,{"$f":"SUM(I97:I106)","v":0},{"$f":"SUM(J97:J106)","v":0},null,null,null,null,null,null,null,true]
[null,null,null,null,null,{"$f":"ROUND(D97*E97,2)","v":0},null,null,{"$f":"ROUND(G97*H97,2)","v":0},{"$f":"F97+I97","v":0},null,null,{"$f":"ISBLANK(B97)","v":true},{"$f":"ISBLANK(C97)","v":true},true,true,{"$f":"M97+N97+O97+P97","v":4},{"$f":"IF(Q97=0,TRUE,FALSE)","v":false}]
[null,null,null,null,null,{"$f":"ROUND(D98*E98,2)","v":0},null,null,0,{"$f":"F98+I98","v":0},null,null,{"$f":"ISBLANK(B98)","v":true},true,true,true,{"$f":"M98+N98+O98+P98","v":4},{"$f":"IF(Q98=0,TRUE,FALSE)","v":false}]
[null,null,null,null,null,0,null,null,0,0,null,null,true,true,true,true,4,false]
[null,null,null,null,null,0,null,null,0,0,null,null,true,true,true,true,4,false]
[null,null,null,null,null,0,null,null,0,0,null,null,true,true,true,true,4,false]
[null,null,null,null,null,0,null,null,0,0,null,null,true,true,true,true,4,false]
[null,null,null,null,null,0,null,null,0,0,null,null,true,true,true,true,4,false]
[null,null,null,null,null,0,null,null,0,0,null,null,true,true,true,true,4,false]
[null,null,null,null,null,0,null,null,0,0,null,null,true,true,true,true,4,false]
[null,null,null,null,null,0,null,null,0,0,null,null,true,true,true,true,4,true]
[null,"4.5 Consumables",null,null,null,{"$f":"SUM(F108:F117)","v":0},null,null,{"$f":"SUM(I108:I117)","v":0},{"$f":"SUM(J108:J117)","v":0},null,null,null,null,null,null,null,true]
[null,null,null,null,null,{"$f":"ROUND(D108*E108,2)","v":0},null,null,{"$f":"ROUND(G108*H108,2)","v":0},{"$f":"F108+I108","v":0},null,null,{"$f":"ISBLANK(B108)","v":true},{"$f":"ISBLANK(C108)","v":true},true,true,{"$f":"M108+N108+O108+P108","v":4},{"$f":"IF(Q108=0,TRUE,FALSE)","v":false}]
[null,null,null,null,null,{"$f":"ROUND(D109*E109,2)","v":0},null,null,0,{"$f":"F109+I109","v":0},null,null,{"$f":"ISBLANK(B109)","v":true},true,true,true,{"$f":"M109+N109+O109+P109","v":4},{"$f":"IF(Q109=0,TRUE,FALSE)","v":false}]
[null,null,null,null,null,0,null,null,0,0,null,null,true,true,true,true,4,false]
[null,null,null,null,null,0,null,null,0,0,null,null,true,true,true,true,4,false]
[null,null,null,null,null,0,null,null,0,0,null,null,true,true,true,true,4,false]
[null,null,null,null,null,0,null,null,0,0,null,null,true,true,true,true,4,false]
[null,null,null,null,null,0,null,null,0,0,null,null,true,true,true,true,4,false]
[null,null,null,null,null,0,null,null,0,0,null,null,true,true,true,true,4,false]
[null,null,null,null,null,0,null,null,0,0,null,null,true,true,true,true,4,false]
[null,null,null,null,null,0,null,null,0,0,null,null,true,true,true,true,4,true]
[null,"4.6 Rent of vehicle for event",null,null,null,{"$f":"SUM(F119:F128)","v":0},null,null,{"$f":"SUM(I119:I128)","v":0},{"$f":"SUM(J119:J128)","v":0},null,null,null,null,null,null,null,true]
[null,null,null,null,null,{"$f":"ROUND(D119*E119,2)","v":0},null,null,{"$f":"ROUND(G119*H119,2)","v":0},{"$f":"F119+I119","v":0},null,null,{"$f":"ISBLANK(B119)","v":true},{"$f":"ISBLANK(C119)","v":true},true,true,{"$f":"M119+N119+O119+P119","v":4},{"$f":"IF(Q119=0,TRUE,FALSE)","v":false}]
[null,null,null,null,null,{"$f":"ROUND(D120*E120,2)","v":0},null,null,0,{"$f":"F120+I120","v":0},null,null,{"$f":"ISBLANK(B120)","v":true},true,true,true,{"$f":"M120+N120+O120+P120","v":4},{"$f":"IF(Q120=0,TRUE,FALSE)","v":false}]
[null,null,null,null,null,0,null,null,0,0,null,null,true,true,true,true,4,false]
[null,null,null,null,null,0,null,null,0,0,null,null,true,true,true,true,4,false]
[null,null,null,null,null,0,null,null,0,0,null,null,true,true,true,true,4,false]
[null,null,null,null,null,0,null,null,0,0,null,null,true,true,true,true,4,false]
[null,null,null,null,null,0,null,null,0,0,null,null,true,true,true,true,4,false]
[null,null,null,null,null,0,null,null,0,0,null,null,true,true,true,true,4,false]
[null,null,null,null,null,0,null,null,0,0,null,null,true,true,true,true,4,false]
[null,null,null,null,null,0,null,null,0,0,null,null,true,true,true,true,4,true]
[null,"4.7 Accommodations for participants in the events ",null,null,null,{"$f":"SUM(F130:F139)","v":0},null,null,{"$f":"SUM(I130:I139)","v":0},{"$f":"SUM(J130:J139)","v":0},null,null,null,null,null,null,null,true]
[null,null,null,null,null,{"$f":"ROUND(D130*E130,2)","v":0},null,null,{"$f":"ROUND(G130*H130,2)","v":0},{"$f":"F130+I130","v":0},null,null,{"$f":"ISBLANK(B130)","v":true},{"$f":"ISBLANK(C130)","v":true},true,true,{"$f":"M130+N130+O130+P130","v":4},{"$f":"IF(Q130=0,TRUE,FALSE)","v":false}]
[null,null,null,null,null,{"$f":"ROUND(D131*E131,2)","v":0},null,null,0,{"$f":"F131+I131","v":0},null,null,{"$f":"ISBLANK(B131)","v":true},true,true,true,{"$f":"M131+N131+O131+P131","v":4},{"$f":"IF(Q131=0,TRUE,FALSE)","v":false}]
[null,null,null,null,null,0,null,null,0,0,null,null,true,true,true,true,4,false]
[null,null,null,null,null,0,null,null,0,0,null,null,true,true,true,true,4,false]
[null,null,null,null,null,0,null,null,0,0,null,null,true,true,true,true,4,false]
[null,null,null,null,null,0,null,null,0,0,null,null,true,true,true,true,4,false]
[null,null,null,null,null,0,null,null,0,0,null,null,true,true,true,true,4,false]
[null,null,null,null,null,0,null,null,0,0,null,null,true,true,true,true,4,false]
[null,null,null,null,null,0,null,null,0,0,null,null,true,true,true,true,4,false]
[null,null,null,null,null,0,null,null,0,0,null,null,true,true,true,true,4,true]
[null,"4.8 Purchase of advertising materials",null,null,null,{"$f":"SUM(F141:F150)","v":0},null,null,{"$f":"SUM(I141:I150)","v":0},{"$f":"SUM(J141:J150)","v":0},null,null,null,null,null,null,null,true]
[null,null,null,null,null,{"$f":"ROUND(D141*E141,2)","v":0},null,null,{"$f":"ROUND(G141*H141,2)","v":0},{"$f":"F141+I141","v":0},null,null,{"$f":"ISBLANK(B141)","v":true},{"$f":"ISBLANK(C141)","v":true},true,true,{"$f":"M141+N141+O141+P141","v":4},{"$f":"IF(Q141=0,TRUE,FALSE)","v":false}]
[null,null,null,null,null,{"$f":"ROUND(D142*E142,2)","v":0},null,null,0,{"$f":"F142+I142","v":0},null,null,{"$f":"ISBLANK(B142)","v":true},true,true,true,{"$f":"M142+N142+O142+P142","v":4},{"$f":"IF(Q142=0,TRUE,FALSE)","v":false}]
[null,null,null,null,null,0,null,null,0,0,null,null,true,true,true,true,4,false]
[null,null,null,null,null,0,null,null,0,0,null,null,true,true,true,true,4,false]
[null,null,null,null,null,0,null,null,0,0,null,null,true,true,true,true,4,false]
[null,null,null,null,null,0,null,null,0,0,null,null,true,true,true,true,4,false]
[null,null,null,null,null,0,null,null,0,0,null,null,true,true,true,true,4,false]
[null,null,null,null,null,0,null,null,0,0,null,null,true,true,true,true,4,false]
[null,null,null,null,null,0,null,null,0,0,null,null,true,true,true,true,4,false]
[null,null,null,null,null,0,null,null,0,0,null,null,true,true,true,true,4,false]
[null,"4.9 Elaboration, design etc.",null,null,null,{"$f":"SUM(F152:F161)","v":0},null,null,{"$f":"SUM(I152:I161)","v":0},{"$f":"SUM(J152:J161)","v":0},null,null,null,null,null,null,null,true]
[null,null,null,null,null,{"$f":"ROUND(D152*E152,2)","v":0},null,null,{"$f":"ROUND(G152*H152,2)","v":0},{"$f":"F152+I152","v":0},null,null,{"$f":"ISBLANK(B152)","v":true},{"$f":"ISBLANK(C152)","v":true},true,true,{"$f":"M152+N152+O152+P152","v":4},{"$f":"IF(Q152=0,TRUE,FALSE)","v":false}]
[null,null,null,null,null,{"$f":"ROUND(D153*E153,2)","v":0},null,null,0,{"$f":"F153+I153","v":0},null,null,{"$f":"ISBLANK(B153)","v":true},true,true,true,{"$f":"M153+N153+O153+P153","v":4},{"$f":"IF(Q153=0,TRUE,FALSE)","v":false}]
[null,null,null,null,null,0,null,null,0,0,null,null,true,true,true,true,4,false]
[null,null,null,null,null,0,null,null,0,0,null,null,true,true,true,true,4,false]
[null,null,null,null,null,0,null,null,0,0,null,null,true,true,true,true,4,false]
[null,null,null,null,null,0,null,null,0,0,null,null,true,true,true,true,4,false]
[null,null,null,null,null,0,null,null,0,0,null,null,true,true,true,true,4,false]
[null,null,null,null,null,0,null,null,0,0,null,null,true,true,true,true,4,false]
[null,null,null,null,null,0,null,null,0,0,null,null,true,true,true,true,4,false]
[null,null,null,null,null,0,null,null,0,0,null,null,true,true,true,true,4,true]
[null,"4.10 Publications in mass-media",null,null,null,{"$f":"SUM(F163:F172)","v":0},null,null,{"$f":"SUM(I163:I172)","v":0},{"$f":"SUM(J163:J172)","v":0},null,null,null,null,null,null,null,true]
[null,null,null,null,null,{"$f":"ROUND(D163*E163,2)","v":0},null,null,{"$f":"ROUND(G163*H163,2)","v":0},{"$f":"F163+I163","v":0},null,null,{"$f":"ISBLANK(B163)","v":true},{"$f":"ISBLANK(C163)","v":true},true,true,{"$f":"M163+N163+O163+P163","v":4},{"$f":"IF(Q163=0,TRUE,FALSE)","v":false}]
[null,null,null,null,null,{"$f":"ROUND(D164*E164,2)","v":0},null,null,0,{"$f":"F164+I164","v":0},null,null,{"$f":"ISBLANK(B164)","v":true},true,true,true,{"$f":"M164+N164+O164+P164","v":4},{"$f":"IF(Q164=0,TRUE,FALSE)","v":false}]
[null,null,null,null,null,0,null,null,0,0,null,null,true,true,true,true,4,false]
[null,null,null,null,null,0,null,null,0,0,null,null,true,true,true,true,4,false]
[null,null,null,null,null,0,null,null,0,0,null,null,true,true,true,true,4,false]
[null,null,null,null,null,0,null,null,0,0,null,null,true,true,true,true,4,false]
[null,null,null,null,null,0,null,null,0,0,null,null,true,true,true,true,4,false]
[null,null,null,null,null,0,null,null,0,0,null,null,true,true,true,true,4,false]
[null,null,null,null,null,0,null,null,0,0,null,null,true,true,true,true,4,false]
[null,null,null,null,null,0,null,null,0,0,null,null,true,true,true,true,4,true]
[null,"4.11 Consultancy, studies,designs etc.",null,null,null,{"$f":"SUM(F174:F183)","v":0},null,null,{"$f":"SUM(I174:I183)","v":0},{"$f":"SUM(J174:J183)","v":0},null,null,null,null,null,null,null,true]
[null,null,null,null,null,{"$f":"ROUND(D174*E174,2)","v":0},null,null,{"$f":"ROUND(G174*H174,2)","v":0},{"$f":"F174+I174","v":0},null,null,{"$f":"ISBLANK(B174)","v":true},{"$f":"ISBLANK(C174)","v":true},true,true,{"$f":"M174+N174+O174+P174","v":4},{"$f":"IF(Q174=0,TRUE,FALSE)","v":false}]
[null,null,null,null,null,{"$f":"ROUND(D175*E175,2)","v":0},null,null,0,{"$f":"F175+I175","v":0},null,null,{"$f":"ISBLANK(B175)","v":true},true,true,true,{"$f":"M175+N175+O175+P175","v":4},{"$f":"IF(Q175=0,TRUE,FALSE)","v":false}]
[null,null,null,null,null,0,null,null,0,0,null,null,true,true,true,true,4,false]
[null,null,null,null,null,0,null,null,0,0,null,null,true,true,true,true,4,false]
[null,null,null,null,null,0,null,null,0,0,null,null,true,true,true,true,4,false]
[null,null,null,null,null,0,null,null,0,0,null,null,true,true,true,true,4,false]
[null,null,null,null,null,0,null,null,0,0,null,null,true,true,true,true,4,false]
[null,null,null,null,null,0,null,null,0,0,null,null,true,true,true,true,4,false]
[null,null,null,null,null,0,null,null,0,0,null,null,true,true,true,true,4,false]
[null,null,null,null,null,0,null,null,0,0,null,null,true,true,true,true,4,true]
[null,"4.12 Authorizations, certificates",null,null,null,{"$f":"SUM(F185:F194)","v":0},null,null,{"$f":"SUM(I185:I194)","v":0},{"$f":"SUM(J185:J194)","v":0},null,null,null,null,null,null,null,true]
[null,null,null,null,null,{"$f":"ROUND(D185*E185,2)","v":0},null,null,{"$f":"ROUND(G185*H185,2)","v":0},{"$f":"F185+I185","v":0},null,null,{"$f":"ISBLANK(B185)","v":true},{"$f":"ISBLANK(C185)","v":true},true,true,{"$f":"M185+N185+O185+P185","v":4},{"$f":"IF(Q185=0,TRUE,FALSE)","v":false}]
[null,null,null,null,null,{"$f":"ROUND(D186*E186,2)","v":0},null,null,0,{"$f":"F186+I186","v":0},null,null,{"$f":"ISBLANK(B186)","v":true},true,true,true,{"$f":"M186+N186+O186+P186","v":4},{"$f":"IF(Q186=0,TRUE,FALSE)","v":false}]
[null,null,null,null,null,0,null,null,0,0,null,null,true,true,true,true,4,false]
[null,null,null,null,null,0,null,null,0,0,null,null,true,true,true,true,4,false]
[null,null,null,null,null,0,null,null,0,0,null,null,true,true,true,true,4,false]
[null,null,null,null,null,0,null,null,0,0,null,null,true,true,true,true,4,false]
[null,null,null,null,null,0,null,null,0,0,null,null,true,true,true,true,4,false]
[null,null,null,null,null,0,null,null,0,0,null,null,true,true,true,true,4,false]
[null,null,null,null,null,0,null,null,0,0,null,null,true,true,true,true,4,false]
[null,null,null,null,null,0,null,null,0,0,null,null,true,true,true,true,4,true]
[null,"4.13 Interpreters, lecturers, trainers",null,null,null,{"$f":"SUM(F196:F205)","v":0},null,null,{"$f":"SUM(I196:I205)","v":0},{"$f":"SUM(J196:J205)","v":0},null,null,null,null,null,null,null,true]
[null,null,null,null,null,{"$f":"ROUND(D196*E196,2)","v":0},null,null,{"$f":"ROUND(G196*H196,2)","v":0},{"$f":"F196+I196","v":0},null,null,{"$f":"ISBLANK(B196)","v":true},{"$f":"ISBLANK(C196)","v":true},true,true,{"$f":"M196+N196+O196+P196","v":4},{"$f":"IF(Q196=0,TRUE,FALSE)","v":false}]
[null,null,null,null,null,{"$f":"ROUND(D197*E197,2)","v":0},null,null,0,{"$f":"F197+I197","v":0},null,null,{"$f":"ISBLANK(B197)","v":true},true,true,true,{"$f":"M197+N197+O197+P197","v":4},{"$f":"IF(Q197=0,TRUE,FALSE)","v":false}]
[null,null,null,null,null,0,null,null,0,0,null,null,true,true,true,true,4,false]
[null,null,null,null,null,0,null,null,0,0,null,null,true,true,true,true,4,false]
[null,null,null,null,null,0,null,null,0,0,null,null,true,true,true,true,4,false]
[null,null,null,null,null,0,null,null,0,0,null,null,true,true,true,true,4,false]
[null,null,null,null,null,0,null,null,0,0,null,null,true,true,true,true,4,false]
[null,null,null,null,null,0,null,null,0,0,null,null,true,true,true,true,4,false]
[null,null,null,null,null,0,null,null,0,0,null,null,true,true,true,true,4,false]
[null,null,null,null,null,0,null,null,0,0,null,null,true,true,true,true,4,true]
[null,"4.14 Others",null,null,null,{"$f":"SUM(F207:F216)","v":0},null,null,{"$f":"SUM(I207:I216)","v":0},{"$f":"SUM(J207:J216)","v":0},null,null,null,null,null,null,null,true]
[null,null,null,null,null,{"$f":"ROUND(D207*E207,2)","v":0},null,null,{"$f":"ROUND(G207*H207,2)","v":0},{"$f":"F207+I207","v":0},null,null,{"$f":"ISBLANK(B207)","v":true},{"$f":"ISBLANK(C207)","v":true},true,true,{"$f":"M207+N207+O207+P207","v":4},{"$f":"IF(Q207=0,TRUE,FALSE)","v":false}]
[null,null,null,null,null,{"$f":"ROUND(D208*E208,2)","v":0},null,null,0,{"$f":"F208+I208","v":0},null,null,{"$f":"ISBLANK(B208)","v":true},true,true,true,{"$f":"M208+N208+O208+P208","v":4},{"$f":"IF(Q208=0,TRUE,FALSE)","v":false}]
[null,null,null,null,null,0,null,null,0,0,null,null,true,true,true,true,4,false]
[null,null,null,null,null,0,null,null,0,0,null,null,true,true,true,true,4,false]
[null,null,null,null,null,0,null,null,0,0,null,null,true,true,true,true,4,false]
[null,null,null,null,null,0,null,null,0,0,null,null,true,true,true,true,4,false]
[null,null,null,null,null,0,null,null,0,0,null,null,true,true,true,true,4,false]
[null,null,null,null,null,0,null,null,0,0,null,null,true,true,true,true,4,false]
[null,null,null,null,null,0,null,null,0,0,null,null,true,true,true,true,4,false]
[null,null,null,null,null,0,null,null,0,0,null,null,true,true,true,true,4,true]
[null,"TOTAL",null,null,null,{"$f":"F206+F195+F184+F173+F162+F151+F140+F129+F118+F107+F96+F85+F74+F63","v":0},null,null,{"$f":"I206+I195+I184+I173+I162+I151+I140+I129+I118+I107+I96+I85+I74+I63","v":0},{"$f":"J206+J195+J184+J173+J162+J151+J140+J129+J118+J107+J96+J85+J74+J63","v":0},null,null,null,null,null,null,null,true]
[null,null,null,"Small scale constructions are not allowed for Soft project!!!!",null,null,null,null,null,null,null,null,{"$f":"O222+P222+N218","v":2},{"$f":"M8=\"Soft\"","v":false},null,null,null,true]
[null,"BL5 - EQUIPMENT AND WORKS","Unit","Expenditures in the eligible area",null,null,"N/A",null,null,"TOTAL",null,null,null,null,null,null,null,true]
[null,null,null,"Units","Unit rate","TOTAL","Units","Unit rate","TOTAL",null,null,null,null,null,null,null,null,true]
[null,"5.1 Small scale construction",null,null,null,{"$f":"SUM(F222:F231)","v":0},null,null,{"$f":"SUM(I222:I231)","v":0},{"$f":"SUM(J222:J231)","v":0},null,null,null,null,null,null,null,true]
[null,null,null,null,null,{"$f":"ROUND(D222*E222,2)","v":0},null,null,{"$f":"ROUND(G222*H222,2)","v":0},{"$f":"F222+I222","v":0},null,null,{"$f":"ISBLANK(B222)","v":true},{"$f":"ISBLANK(C222)","v":true},true,true,{"$f":"M222+N222+O222+P222","v":4},{"$f":"IF(Q222=0,TRUE,FALSE)","v":false}]
[null,null,null,null,null,{"$f":"ROUND(D223*E223,2)","v":0},null,null,0,{"$f":"F223+I223","v":0},null,null,{"$f":"ISBLANK(B223)","v":true},true,true,true,{"$f":"M223+N223+O223+P223","v":4},{"$f":"IF(Q223=0,TRUE,FALSE)","v":false}]
[null,null,null,null,null,0,null,null,0,0,null,null,true,true,true,true,4,false]
[null,null,null,null,null,0,null,null,0,0,null,null,true,true,true,true,4,false]
[null,null,null,null,null,0,null,null,0,0,null,null,true,true,true,true,4,false]
[null,null,null,null,null,0,null,null,0,0,null,null,true,true,true,true,4,false]
[null,null,null,null,null,0,null,null,0,0,null,null,true,true,true,true,4,false]
[null,null,null,null,null,0,null,null,0,0,null,null,true,true,true,true,4,false]
[null,null,null,null,null,0,null,null,0,0,null,null,true,true,true,true,4,false]
[null,null,null,null,null,0,null,null,0,0,null,null,true,true,true,true,4,true]
[null,"5.2 Supply",null,null,null,{"$f":"SUM(F233:F242)","v":0},null,null,{"$f":"SUM(I233:I242)","v":0},{"$f":"SUM(J233:J242)","v":0},null,null,null,null,null,null,null,true]
[null,null,null,null,null,{"$f":"ROUND(D233*E233,2)","v":0},null,null,{"$f":"ROUND(G233*H233,2)","v":0},{"$f":"F233+I233","v":0},null,null,{"$f":"ISBLANK(B233)","v":true},{"$f":"ISBLANK(C233)","v":true},true,true,{"$f":"M233+N233+O233+P233","v":4},{"$f":"IF(Q233=0,TRUE,FALSE)","v":false}]
[null,null,null,null,null,{"$f":"ROUND(D234*E234,2)","v":0},null,null,0,{"$f":"F234+I234","v":0},null,null,{"$f":"ISBLANK(B234)","v":true},true,true,true,{"$f":"M234+N234+O234+P234","v":4},{"$f":"IF(Q234=0,TRUE,FALSE)","v":false}]
[null,null,null,null,null,0,null,null,0,0,null,null,true,true,true,true,4,false]
[null,null,null,null,null,0,null,null,0,0,null,null,true,true,true,true,4,false]
[null,null,null,null,null,0,null,null,0,0,null,null,true,true,true,true,4,false]
[null,null,null,null,null,0,null,null,0,0,null,null,true,true,true,true,4,false]
[null,null,null,null,null,0,null,null,0,0,null,null,true,true,true,true,4,false]
[null,null,null,null,null,0,null,null,0,0,null,null,true,true,true,true,4,false]
[null,null,null,null,null,0,null,null,0,0,null,null,true,true,true,true,4,false]
[null,null,null,null,null,0,null,null,0,0,null,null,true,true,true,true,4,true]
[null,"TOTAL",null,null,null,{"$f":"F232+F221","v":0},null,null,{"$f":"I232+I221","v":0},{"$f":"J232+J221","v":0},null,null,null,null,null,null,null,true]
[null,null,null,null,null,null,null,null,null,null,null,null,null,null,null,null,null,true]
[null,"BL6 - PROJECT PREPARATION","Unit","Expenditures in the eligible area",null,null,"N/A",null,null,"TOTAL",null,null,null,null,null,null,null,true]
[null,null,null,"Units","Unit rate","TOTAL","Units","Unit rate","TOTAL",null,null,null,null,null,null,null,null,true]
[null,null,null,null,null,{"$f":"ROUND(D247*E247,2)","v":0},null,null,{"$f":"ROUND(G247*H247,2)","v":0},{"$f":"F247+I247","v":0},null,null,{"$f":"ISBLANK(B247)","v":true},{"$f":"ISBLANK(C247)","v":true},true,true,{"$f":"M247+N247+O247+P247","v":4},{"$f":"IF(Q247=0,TRUE,FALSE)","v":false}]
[null,null,null,null,null,{"$f":"ROUND(D248*E248,2)","v":0},null,null,0,{"$f":"F248+I248","v":0},null,null,{"$f":"ISBLANK(B248)","v":true},true,true,true,{"$f":"M248+N248+O248+P248","v":4},{"$f":"IF(Q248=0,TRUE,FALSE)","v":false}]
[null,null,null,null,null,0,null,null,0,0,null,null,true,true,true,true,4,false]
[null,null,null,null,null,0,null,null,0,0,null,null,true,true,true,true,4,false]
[null,null,null,null,null,0,null,null,0,0,null,null,true,true,true,true,4,false]
[null,null,null,null,null,0,null,null,0,0,null,null,true,true,true,true,4,false]
[null,null,null,null,null,0,null,null,0,0,null,null,true,true,true,true,4,false]
[null,null,null,null,null,0,null,null,0,0,null,null,true,true,true,true,4,false]
[null,null,null,null,null,0,null,null,0,0,null,null,true,true,true,true,4,false]
[null,null,null,null,null,0,null,null,0,0,null,null,true,true,true,true,4,true]
[null,"TOTAL",null,null,null,{"$f":"SUM(F247:F256)","v":0},null,null,{"$f":"SUM(I247:I256)","v":0},{"$f":"SUM(J247:J256)","v":0},null,null,null,null,null,null,null,true]
[null,null,null,null,null,null,null,null,null,null,null,null,null,null,null,null,null,true]
[null,"Own Contribution",null,null,null,"Unit","Units","Unit rate","TOTAL",null,null,null,null,null,null,null,null,true]
[null,null,null,null,null,null,null,null,{"$f":"G260*H260","v":0},null,null,null,null,null,null,null,null,true]
[null,null,null,null,"Expenditures outside the eligible area exceed 20 %! Reconsider budget distribution!",null,null,null,null,null,null,null,{"$f":"G263/F263>0.2","v":{"$error":"#DIV/0!"}},null,null,null,null,true]
[null,"Total direct project costs VAT incl. (BL3+BL4+BL5)",null,null,null,{"$f":"F243+F217+F59","v":0},{"$f":"I243+I59+I217","v":0},null,null,{"$f":"J243+J217+J59","v":0},null,null,null,null,null,null,null,true]
[null,"TOTAL PROJECT COSTS",null,null,null,{"$f":"F262+F257+I6+I11+I260","v":0},{"$f":"G262+I257","v":0},null,null,{"$f":"F263+G263","v":0},null,null,null,null,null,null,null,true]

{"sheet":"T2-B(PP3)","index":11,"n_rows":263,"n_cols":18,"rows_kept":263,"cut":false,"hidden":false,"merged":[[244,9,245,9],[261,1,261,4],[261,6,261,8],[262,1,262,4],[262,6,262,8],[256,1,256,4],[256,6,256,7],[258,1,258,4],[258,8,258,9],[259,1,259,4],[259,8,259,9],[242,1,242,4],[242,6,242,7],[244,1,245,1],[244,2,245,2],[244,3,244,5],[244,6,244,8],[216,1,216,4],[216,6,216,7],[218,1,219,1],[218,2,219,2],[218,3,218,5],[218,6,218,8],[217,3,217,9],[218,9,219,9],[60,1,61,1],[60,2,61,2],[60,3,60,5],[60,6,60,8],[60,9,61,9],[9,8,9,9],[10,1,10,7],[10,8,10,9],[12,1,13,1],[12,2,13,2],[12,3,12,5],[12,6,12,8],[12,9,13,9],[9,1,9,5],[9,6,9,7],[2,1,3,5],[2,6,2,7],[2,8,3,9],[3,6,3,7],[4,1,4,5],[4,6,4,7],[4,8,4,9],[5,1,5,7],[5,8,5,9],[7,1,8,5],[7,6,7,7],[7,8,8,9],[8,6,8,7]]}
[null,"TABLE 2 - DETAILED BREAKDOWN OF BUDGET LINES - PP3",null,null,null,null,null,null,null,null,null,null,null,null,null,null,null,true]
[null,null,null,null,null,null,null,null,null,null,null,null,null,null,null,null,null,true]
[null,"BL1 - STAFF COSTS",null,null,null,null,"Flat rate",null,"TOTAL",null,null,null,null,null,null,null,null,true]
[null,null,null,null,null,null,"%",null,null,null,null,null,null,null,null,null,null,true]
[null,{"$f":"M5","v":" project"},null,null,null,null,null,null,{"$f":"G5*J262/100","v":0},null,null,"visible/hidden depending on project identification",{"$f":"CONCATENATE('Project identification'!C15,\" project\")","v":" project"},null,null,null,10,true]
[null,"TOTAL",null,null,null,null,null,null,{"$f":"I5","v":0},null,null,null,null,null,{"$f":"IF(M8=\"Soft\",15,10)","v":10},null,15,true]
[null,null,null,null,null,null,null,null,null,null,null,null,null,null,null,null,null,true]
[null,"BL2 - OFFICE AND ADMINISTRATIVE COSTS",null,null,null,null,"Flat rate",null,"TOTAL",null,null,null,{"$f":"'Project identification'!C15","v":""},null,null,null,null,true]
[null,null,null,null,null,null,"%",null,null,null,null,null,null,null,null,null,null,true]
[null,{"$f":"M5","v":" project"},null,null,null,null,null,null,{"$f":"G10*I5/100","v":0},null,null,"visible/hidden depending on project identification",null,null,null,null,2,true]
[null,"TOTAL",null,null,null,null,null,null,{"$f":"I10","v":0},null,null,null,null,null,{"$f":"IF(M8=\"Soft\",20,15)","v":15},null,5,true]
[null,null,null,null,null,null,null,null,null,null,null,null,null,null,null,null,null,true]
[null,"BL3 - TRAVEL AND ACCOMMODATION","Unit","Expenditures in the eligible area",null,null,"Expenditures outside of the eligible area",null,null,"TOTAL",null,null,null,null,null,null,null,true]
[null,null,null,"Units","Unit rate","TOTAL","Units","Unit rate","TOTAL",null,null,null,null,null,null,null,null,true]
[null,"3.1 Travel costs",null,null,null,{"$f":"SUM(F16:F25)","v":0},null,null,{"$f":"SUM(I16:I25)","v":0},{"$f":"SUM(J16:J25)","v":0},null,"Add",null,null,null,null,null,true]
[null,null,null,null,null,{"$f":"ROUND(D16*E16,2)","v":0},null,null,{"$f":"ROUND(G16*H16,2)","v":0},{"$f":"F16+I16","v":0},null,null,{"$f":"ISBLANK(B16)","v":true},{"$f":"ISBLANK(C16)","v":true},{"$f":"ISBLANK(D16)","v":true},{"$f":"ISBLANK(E16)","v":true},{"$f":"M16+N16+O16+P16","v":4},{"$f":"IF(Q16=0,TRUE,FALSE)","v":false}]
[null,null,null,null,null,0,null,null,0,0,null,null,true,true,true,true,4,false]
[null,null,null,null,null,0,null,null,0,0,null,null,true,true,true,true,4,false]
[null,null,null,null,null,0,null,null,0,0,null,null,true,true,true,true,4,false]
[null,null,null,null,null,0,null,null,0,0,null,null,true,true,true,true,4,false]
[null,null,null,null,null,0,null,null,0,0,null,null,true,true,true,true,4,false]
[null,null,null,null,null,0,null,null,0,0,null,null,true,true,true,true,4,false]
[null,null,null,null,null,0,null,null,0,0,null,null,true,true,true,true,4,false]
[null,null,null,null,null,0,null,null,0,0,null,null,true,true,true,true,4,false]
[null,null,null,null,null,0,null,null,0,0,null,null,true,true,true,true,4,false]
[null,"3.2 Daily allowances",null,null,null,{"$f":"SUM(F27:F36)","v":0},null,null,{"$f":"SUM(I27:I36)","v":0},{"$f":"SUM(J27:J36)","v":0},null,"add (10 items)",null,null,null,null,null,true]
[null,null,null,null,null,{"$f":"ROUND(D27*E27,2)","v":0},null,null,{"$f":"ROUND(G27*H27,2)","v":0},{"$f":"F27+I27","v":0},null,null,{"$f":"ISBLANK(B27)","v":true},{"$f":"ISBLANK(C27)","v":true},true,true,{"$f":"M27+N27+O27+P27","v":4},{"$f":"IF(Q27=0,TRUE,FALSE)","v":false}]
[null,null,null,null,null,{"$f":"ROUND(D28*E28,2)","v":0},null,null,0,{"$f":"F28+I28","v":0},null,null,{"$f":"ISBLANK(B28)","v":true},true,true,true,{"$f":"M28+N28+O28+P28","v":4},{"$f":"IF(Q28=0,TRUE,FALSE)","v":false}]
[null,null,null,null,null,0,null,null,0,0,null,null,true,true,true,true,4,false]
[null,null,null,null,null,0,null,null,0,0,null,null,true,true,true,true,4,false]
[null,null,null,null,null,0,null,null,0,0,null,null,true,true,true,true,4,false]
[null,null,null,null,null,0,null,null,0,0,null,null,true,true,true,true,4,false]
[null,null,null,null,null,0,null,null,0,0,null,null,true,true,true,true,4,false]
[null,null,null,null,null,0,null,null,0,0,null,null,true,true,true,true,4,false]
[null,null,null,null,null,0,null,null,0,0,null,null,true,true,true,true,4,false]
[null,null,null,null,null,0,null,null,0,0,null,null,true,true,true,true,4,true]
[null,"3.3 Accommodation costs",null,null,null,{"$f":"SUM(F38:F47)","v":0},null,null,{"$f":"SUM(I38:I47)","v":0},{"$f":"SUM(J38:J47)","v":0},null,null,null,null,null,null,null,true]
[null,null,null,null,null,{"$f":"ROUND(D38*E38,2)","v":0},null,null,{"$f":"ROUND(G38*H38,2)","v":0},{"$f":"F38+I38","v":0},null,null,{"$f":"ISBLANK(B38)","v":true},{"$f":"ISBLANK(C38)","v":true},true,true,{"$f":"M38+N38+O38+P38","v":4},{"$f":"IF(Q38=0,TRUE,FALSE)","v":false}]
[null,null,null,null,null,{"$f":"ROUND(D39*E39,2)","v":0},null,null,0,{"$f":"F39+I39","v":0},null,null,{"$f":"ISBLANK(B39)","v":true},true,true,true,{"$f":"M39+N39+O39+P39","v":4},{"$f":"IF(Q39=0,TRUE,FALSE)","v":false}]
[null,null,null,null,null,0,null,null,0,0,null,null,true,true,true,true,4,false]
[null,null,null,null,null,0,null,null,0,0,null,null,true,true,true,true,4,false]
[null,null,null,null,null,0,null,null,0,0,null,null,true,true,true,true,4,false]
[null,null,null,null,null,0,null,null,0,0,null,null,true,true,true,true,4,false]
[null,null,null,null,null,0,null,null,0,0,null,null,true,true,true,true,4,false]
[null,null,null,null,null,0,null,null,0,0,null,null,true,true,true,true,4,false]
[null,null,null,null,null,0,null,null,0,0,null,null,true,true,true,true,4,false]
[null,null,null,null,null,0,null,null,0,0,null,null,true,true,true,true,4,true]
[null,"3.4 Visa costs",null,null,null,{"$f":"SUM(F49:F58)","v":0},null,null,{"$f":"SUM(I49:I58)","v":0},{"$f":"SUM(J49:J58)","v":0},null,null,null,null,null,null,null,true]
[null,null,null,null,null,{"$f":"ROUND(D49*E49,2)","v":0},null,null,{"$f":"ROUND(G49*H49,2)","v":0},{"$f":"F49+I49","v":0},null,null,{"$f":"ISBLANK(B49)","v":true},{"$f":"ISBLANK(C49)","v":true},true,true,{"$f":"M49+N49+O49+P49","v":4},{"$f":"IF(Q49=0,TRUE,FALSE)","v":false}]
[null,null,null,null,null,{"$f":"ROUND(D50*E50,2)","v":0},null,null,0,{"$f":"F50+I50","v":0},null,null,{"$f":"ISBLANK(B50)","v":true},true,true,true,{"$f":"M50+N50+O50+P50","v":4},{"$f":"IF(Q50=0,TRUE,FALSE)","v":false}]
[null,null,null,null,null,0,null,null,0,0,null,null,true,true,true,true,4,false]
[null,null,null,null,null,0,null,null,0,0,null,null,true,true,true,true,4,false]
[null,null,null,null,null,0,null,null,0,0,null,null,true,true,true,true,4,false]
[null,null,null,null,null,0,null,null,0,0,null,null,true,true,true,true,4,false]
[null,null,null,null,null,0,null,null,0,0,null,null,true,true,true,true,4,false]
[null,null,null,null,null,0,null,null,0,0,null,null,true,true,true,true,4,false]
[null,null,null,null,null,0,null,null,0,0,null,null,true,true,true,true,4,false]
[null,null,null,null,null,0,null,null,0,0,null,null,true,true,true,true,4,true]
[null,"TOTAL",null,null,null,{"$f":"F48+F37+F26+F15","v":0},null,null,{"$f":"I48+I37+I26+I15","v":0},{"$f":"J48+J37+J26+J15","v":0},null,null,null,null,null,null,null,true]
[null,null,null,null,null,null,null,null,null,null,null,null,null,null,null,null,null,true]
[null,"BL4 - EXTERNAL EXPERTISE AND SERVICES COSTS","Unit","Expenditures in the eligible area",null,null,"Expenditures outside of the eligible area",null,null,"TOTAL",null,null,null,null,null,null,null,true]
[null,null,null,"Units","Unit rate","TOTAL","Units","Unit rate","TOTAL",null,null,null,null,null,null,null,null,true]
[null,"4.1 Rent of hall",null,null,null,{"$f":"SUM(F64:F73)","v":0},null,null,{"$f":"SUM(I64:I73)","v":0},{"$f":"SUM(J64:J73)","v":0},null,null,null,null,null,null,null,true]
[null,null,null,null,null,{"$f":"ROUND(D64*E64,2)","v":0},null,null,{"$f":"ROUND(G64*H64,2)","v":0},{"$f":"F64+I64","v":0},null,null,{"$f":"ISBLANK(B64)","v":true},{"$f":"ISBLANK(C64)","v":true},true,true,{"$f":"M64+N64+O64+P64","v":4},{"$f":"IF(Q64=0,TRUE,FALSE)","v":false}]
[null,null,null,null,null,{"$f":"ROUND(D65*E65,2)","v":0},null,null,0,{"$f":"F65+I65","v":0},null,null,{"$f":"ISBLANK(B65)","v":true},true,true,true,{"$f":"M65+N65+O65+P65","v":4},{"$f":"IF(Q65=0,TRUE,FALSE)","v":false}]
[null,null,null,null,null,0,null,null,0,0,null,null,true,true,true,true,4,false]
[null,null,null,null,null,0,null,null,0,0,null,null,true,true,true,true,4,false]
[null,null,null,null,null,0,null,null,0,0,null,null,true,true,true,true,4,false]
[null,null,null,null,null,0,null,null,0,0,null,null,true,true,true,true,4,false]
[null,null,null,null,null,0,null,null,0,0,null,null,true,true,true,true,4,false]
[null,null,null,null,null,0,null,null,0,0,null,null,true,true,true,true,4,false]
[null,null,null,null,null,0,null,null,0,0,null,null,true,true,true,true,4,false]
[null,null,null,null,null,0,null,null,0,0,null,null,true,true,true,true,4,true]
[null,"4.2 Rent of equipment",null,null,null,{"$f":"SUM(F75:F84)","v":0},null,null,{"$f":"SUM(I75:I84)","v":0},{"$f":"SUM(J75:J84)","v":0},null,null,null,null,null,null,null,true]
[null,null,null,null,null,{"$f":"ROUND(D75*E75,2)","v":0},null,null,{"$f":"ROUND(G75*H75,2)","v":0},{"$f":"F75+I75","v":0},null,null,{"$f":"ISBLANK(B75)","v":true},{"$f":"ISBLANK(C75)","v":true},true,true,{"$f":"M75+N75+O75+P75","v":4},{"$f":"IF(Q75=0,TRUE,FALSE)","v":false}]
[null,null,null,null,null,{"$f":"ROUND(D76*E76,2)","v":0},null,null,0,{"$f":"F76+I76","v":0},null,null,{"$f":"ISBLANK(B76)","v":true},true,true,true,{"$f":"M76+N76+O76+P76","v":4},{"$f":"IF(Q76=0,TRUE,FALSE)","v":false}]
[null,null,null,null,null,0,null,null,0,0,null,null,true,true,true,true,4,false]
[null,null,null,null,null,0,null,null,0,0,null,null,true,true,true,true,4,false]
[null,null,null,null,null,0,null,null,0,0,null,null,true,true,true,true,4,false]
[null,null,null,null,null,0,null,null,0,0,null,null,true,true,true,true,4,false]
[null,null,null,null,null,0,null,null,0,0,null,null,true,true,true,true,4,false]
[null,null,null,null,null,0,null,null,0,0,null,null,true,true,true,true,4,false]
[null,null,null,null,null,0,null,null,0,0,null,null,true,true,true,true,4,false]
[null,null,null,null,null,0,null,null,0,0,null,null,true,true,true,true,4,true]
[null,"4.3 Coffee breaks …..",null,null,null,{"$f":"SUM(F86:F95)","v":0},null,null,{"$f":"SUM(I86:I95)","v":0},{"$f":"SUM(J86:J95)","v":0},null,null,null,null,null,null,null,true]
[null,null,null,null,null,{"$f":"ROUND(D86*E86,2)","v":0},null,null,{"$f":"ROUND(G86*H86,2)","v":0},{"$f":"F86+I86","v":0},null,null,{"$f":"ISBLANK(B86)","v":true},{"$f":"ISBLANK(C86)","v":true},true,true,{"$f":"M86+N86+O86+P86","v":4},{"$f":"IF(Q86=0,TRUE,FALSE)","v":false}]
[null,null,null,null,null,{"$f":"ROUND(D87*E87,2)","v":0},null,null,0,{"$f":"F87+I87","v":0},null,null,{"$f":"ISBLANK(B87)","v":true},true,true,true,{"$f":"M87+N87+O87+P87","v":4},{"$f":"IF(Q87=0,TRUE,FALSE)","v":false}]
[null,null,null,null,null,0,null,null,0,0,null,null,true,true,true,true,4,false]
[null,null,null,null,null,0,null,null,0,0,null,null,true,true,true,true,4,false]
[null,null,null,null,null,0,null,null,0,0,null,null,true,true,true,true,4,false]
[null,null,null,null,null,0,null,null,0,0,null,null,true,true,true,true,4,false]
[null,null,null,null,null,0,null,null,0,0,null,null,true,true,true,true,4,false]
[null,null,null,null,null,0,null,null,0,0,null,null,true,true,true,true,4,false]
[null,null,null,null,null,0,null,null,0,0,null,null,true,true,true,true,4,false]
[null,null,null,null,null,0,null,null,0,0,null,null,true,true,true,true,4,true]
[null,"4.4 Preparation of materials",null,null,null,{"$f":"SUM(F97:F106)","v":0},null,null,{"$f":"SUM(I97:I106)","v":0},{"$f":"SUM(J97:J106)","v":0},null,null,null,null,null,null,null,true]
[null,null,null,null,null,{"$f":"ROUND(D97*E97,2)","v":0},null,null,{"$f":"ROUND(G97*H97,2)","v":0},{"$f":"F97+I97","v":0},null,null,{"$f":"ISBLANK(B97)","v":true},{"$f":"ISBLANK(C97)","v":true},true,true,{"$f":"M97+N97+O97+P97","v":4},{"$f":"IF(Q97=0,TRUE,FALSE)","v":false}]
[null,null,null,null,null,{"$f":"ROUND(D98*E98,2)","v":0},null,null,0,{"$f":"F98+I98","v":0},null,null,{"$f":"ISBLANK(B98)","v":true},true,true,true,{"$f":"M98+N98+O98+P98","v":4},{"$f":"IF(Q98=0,TRUE,FALSE)","v":false}]
[null,null,null,null,null,0,null,null,0,0,null,null,true,true,true,true,4,false]
[null,null,null,null,null,0,null,null,0,0,null,null,true,true,true,true,4,false]
[null,null,null,null,null,0,null,null,0,0,null,null,true,true,true,true,4,false]
[null,null,null,null,null,0,null,null,0,0,null,null,true,true,true,true,4,false]
[null,null,null,null,null,0,null,null,0,0,null,null,true,true,true,true,4,false]
[null,null,null,null,null,0,null,null,0,0,null,null,true,true,true,true,4,false]
[null,null,null,null,null,0,null,null,0,0,null,null,true,true,true,true,4,false]
[null,null,null,null,null,0,null,null,0,0,null,null,true,true,true,true,4,true]
[null,"4.5 Consumables",null,null,null,{"$f":"SUM(F108:F117)","v":0},null,null,{"$f":"SUM(I108:I117)","v":0},{"$f":"SUM(J108:J117)","v":0},null,null,null,null,null,null,null,true]
[null,null,null,null,null,{"$f":"ROUND(D108*E108,2)","v":0},null,null,{"$f":"ROUND(G108*H108,2)","v":0},{"$f":"F108+I108","v":0},null,null,{"$f":"ISBLANK(B108)","v":true},{"$f":"ISBLANK(C108)","v":true},true,true,{"$f":"M108+N108+O108+P108","v":4},{"$f":"IF(Q108=0,TRUE,FALSE)","v":false}]
[null,null,null,null,null,{"$f":"ROUND(D109*E109,2)","v":0},null,null,0,{"$f":"F109+I109","v":0},null,null,{"$f":"ISBLANK(B109)","v":true},true,true,true,{"$f":"M109+N109+O109+P109","v":4},{"$f":"IF(Q109=0,TRUE,FALSE)","v":false}]
[null,null,null,null,null,0,null,null,0,0,null,null,true,true,true,true,4,false]
[null,null,null,null,null,0,null,null,0,0,null,null,true,true,true,true,4,false]
[null,null,null,null,null,0,null,null,0,0,null,null,true,true,true,true,4,false]
[null,null,null,null,null,0,null,null,0,0,null,null,true,true,true,true,4,false]
[null,null,null,null,null,0,null,null,0,0,null,null,true,true,true,true,4,false]
[null,null,null,null,null,0,null,null,0,0,null,null,true,true,true,true,4,false]
[null,null,null,null,null,0,null,null,0,0,null,null,true,true,true,true,4,false]
[null,null,null,null,null,0,null,null,0,0,null,null,true,true,true,true,4,true]
[null,"4.6 Rent of vehicle for event",null,null,null,{"$f":"SUM(F119:F128)","v":0},null,null,{"$f":"SUM(I119:I128)","v":0},{"$f":"SUM(J119:J128)","v":0},null,null,null,null,null,null,null,true]
[null,null,null,null,null,{"$f":"ROUND(D119*E119,2)","v":0},null,null,{"$f":"ROUND(G119*H119,2)","v":0},{"$f":"F119+I119","v":0},null,null,{"$f":"ISBLANK(B119)","v":true},{"$f":"ISBLANK(C119)","v":true},true,true,{"$f":"M119+N119+O119+P119","v":4},{"$f":"IF(Q119=0,TRUE,FALSE)","v":false}]
[null,null,null,null,null,{"$f":"ROUND(D120*E120,2)","v":0},null,null,0,{"$f":"F120+I120","v":0},null,null,{"$f":"ISBLANK(B120)","v":true},true,true,true,{"$f":"M120+N120+O120+P120","v":4},{"$f":"IF(Q120=0,TRUE,FALSE)","v":false}]
[null,null,null,null,null,0,null,null,0,0,null,null,true,true,true,true,4,false]
[null,null,null,null,null,0,null,null,0,0,null,null,true,true,true,true,4,false]
[null,null,null,null,null,0,null,null,0,0,null,null,true,true,true,true,4,false]
[null,null,null,null,null,0,null,null,0,0,null,null,true,true,true,true,4,false]
[null,null,null,null,null,0,null,null,0,0,null,null,true,true,true,true,4,false]
[null,null,null,null,null,0,null,null,0,0,null,null,true,true,true,true,4,false]
[null,null,null,null,null,0,null,null,0,0,null,null,true,true,true,true,4,false]
[null,null,null,null,null,0,null,null,0,0,null,null,true,true,true,true,4,true]
[null,"4.7 Accommodations for participants in the events ",null,null,null,{"$f":"SUM(F130:F139)","v":0},null,null,{"$f":"SUM(I130:I139)","v":0},{"$f":"SUM(J130:J139)","v":0},null,null,null,null,null,null,null,true]
[null,null,null,null,null,{"$f":"ROUND(D130*E130,2)","v":0},null,null,{"$f":"ROUND(G130*H130,2)","v":0},{"$f":"F130+I130","v":0},null,null,{"$f":"ISBLANK(B130)","v":true},{"$f":"ISBLANK(C130)","v":true},true,true,{"$f":"M130+N130+O130+P130","v":4},{"$f":"IF(Q130=0,TRUE,FALSE)","v":false}]
[null,null,null,null,null,{"$f":"ROUND(D131*E131,2)","v":0},null,null,0,{"$f":"F131+I131","v":0},null,null,{"$f":"ISBLANK(B131)","v":true},true,true,true,{"$f":"M131+N131+O131+P131","v":4},{"$f":"IF(Q131=0,TRUE,FALSE)","v":false}]
[null,null,null,null,null,0,null,null,0,0,null,null,true,true,true,true,4,false]
[null,null,null,null,null,0,null,null,0,0,null,null,true,true,true,true,4,false]
[null,null,null,null,null,0,null,null,0,0,null,null,true,true,true,true,4,false]
[null,null,null,null,null,0,null,null,0,0,null,null,true,true,true,true,4,false]
[null,null,null,null,null,0,null,null,0,0,null,null,true,true,true,true,4,false]
[null,null,null,null,null,0,null,null,0,0,null,null,true,true,true,true,4,false]
[null,null,null,null,null,0,null,null,0,0,null,null,true,true,true,true,4,false]
[null,null,null,null,null,0,null,null,0,0,null,null,true,true,true,true,4,true]
[null,"4.8 Purchase of advertising materials",null,null,null,{"$f":"SUM(F141:F150)","v":0},null,null,{"$f":"SUM(I141:I150)","v":0},{"$f":"SUM(J141:J150)","v":0},null,null,null,null,null,null,null,true]
[null,null,null,null,null,{"$f":"ROUND(D141*E141,2)","v":0},null,null,{"$f":"ROUND(G141*H141,2)","v":0},{"$f":"F141+I141","v":0},null,null,{"$f":"ISBLANK(B141)","v":true},{"$f":"ISBLANK(C141)","v":true},true,true,{"$f":"M141+N141+O141+P141","v":4},{"$f":"IF(Q141=0,TRUE,FALSE)","v":false}]
[null,null,null,null,null,{"$f":"ROUND(D142*E142,2)","v":0},null,null,0,{"$f":"F142+I142","v":0},null,null,{"$f":"ISBLANK(B142)","v":true},true,true,true,{"$f":"M142+N142+O142+P142","v":4},{"$f":"IF(Q142=0,TRUE,FALSE)","v":false}]
[null,null,null,null,null,0,null,null,0,0,null,null,true,true,true,true,4,false]
[null,null,null,null,null,0,null,null,0,0,null,null,true,true,true,true,4,false]
[null,null,null,null,null,0,null,null,0,0,null,null,true,true,true,true,4,false]
[null,null,null,null,null,0,null,null,0,0,null,null,true,true,true,true,4,false]
[null,null,null,null,null,0,null,null,0,0,null,null,true,true,true,true,4,false]
[null,null,null,null,null,0,null,null,0,0,null,null,true,true,true,true,4,false]
[null,null,null,null,null,0,null,null,0,0,null,null,true,true,true,true,4,false]
[null,null,null,null,null,0,null,null,0,0,null,null,true,true,true,true,4,true]
[null,"4.9 Elaboration, design etc.",null,null,null,{"$f":"SUM(F152:F161)","v":0},null,null,{"$f":"SUM(I152:I161)","v":0},{"$f":"SUM(J152:J161)","v":0},null,null,null,null,null,null,null,true]
[null,null,null,null,null,{"$f":"ROUND(D152*E152,2)","v":0},null,null,{"$f":"ROUND(G152*H152,2)","v":0},{"$f":"F152+I152","v":0},null,null,{"$f":"ISBLANK(B152)","v":true},{"$f":"ISBLANK(C152)","v":true},true,true,{"$f":"M152+N152+O152+P152","v":4},{"$f":"IF(Q152=0,TRUE,FALSE)","v":false}]
[null,null,null,null,null,{"$f":"ROUND(D153*E153,2)","v":0},null,null,0,{"$f":"F153+I153","v":0},null,null,{"$f":"ISBLANK(B153)","v":true},true,true,true,{"$f":"M153+N153+O153+P153","v":4},{"$f":"IF(Q153=0,TRUE,FALSE)","v":false}]
[null,null,null,null,null,0,null,null,0,0,null,null,true,true,true,true,4,false]
[null,null,null,null,null,0,null,null,0,0,null,null,true,true,true,true,4,false]
[null,null,null,null,null,0,null,null,0,0,null,null,true,true,true,true,4,false]
[null,null,null,null,null,0,null,null,0,0,null,null,true,true,true,true,4,false]
[null,null,null,null,null,0,null,null,0,0,null,null,true,true,true,true,4,false]
[null,null,null,null,null,0,null,null,0,0,null,null,true,true,true,true,4,false]
[null,null,null,null,null,0,null,null,0,0,null,null,true,true,true,true,4,false]
[null,null,null,null,null,0,null,null,0,0,null,null,true,true,true,true,4,true]
[null,"4.10 Publications in mass-media",null,null,null,{"$f":"SUM(F163:F172)","v":0},null,null,{"$f":"SUM(I163:I172)","v":0},{"$f":"SUM(J163:J172)","v":0},null,null,null,null,null,null,null,true]
[null,null,null,null,null,{"$f":"ROUND(D163*E163,2)","v":0},null,null,{"$f":"ROUND(G163*H163,2)","v":0},{"$f":"F163+I163","v":0},null,null,{"$f":"ISBLANK(B163)","v":true},{"$f":"ISBLANK(C163)","v":true},true,true,{"$f":"M163+N163+O163+P163","v":4},{"$f":"IF(Q163=0,TRUE,FALSE)","v":false}]
[null,null,null,null,null,{"$f":"ROUND(D164*E164,2)","v":0},null,null,0,{"$f":"F164+I164","v":0},null,null,{"$f":"ISBLANK(B164)","v":true},true,true,true,{"$f":"M164+N164+O164+P164","v":4},{"$f":"IF(Q164=0,TRUE,FALSE)","v":false}]
[null,null,null,null,null,0,null,null,0,0,null,null,true,true,true,true,4,false]
[null,null,null,null,null,0,null,null,0,0,null,null,true,true,true,true,4,false]
[null,null,null,null,null,0,null,null,0,0,null,null,true,true,true,true,4,false]
[null,null,null,null,null,0,null,null,0,0,null,null,true,true,true,true,4,false]
[null,null,null,null,null,0,null,null,0,0,null,null,true,true,true,true,4,false]
[null,null,null,null,null,0,null,null,0,0,null,null,true,true,true,true,4,false]
[null,null,null,null,null,0,null,null,0,0,null,null,true,true,true,true,4,false]
[null,null,null,null,null,0,null,null,0,0,null,null,true,true,true,true,4,true]
[null,"4.11 Consultancy, studies,designs etc.",null,null,null,{"$f":"SUM(F174:F183)","v":0},null,null,{"$f":"SUM(I174:I183)","v":0},{"$f":"SUM(J174:J183)","v":0},null,null,null,null,null,null,null,true]
[null,null,null,null,null,{"$f":"ROUND(D174*E174,2)","v":0},null,null,{"$f":"ROUND(G174*H174,2)","v":0},{"$f":"F174+I174","v":0},null,null,{"$f":"ISBLANK(B174)","v":true},{"$f":"ISBLANK(C174)","v":true},true,true,{"$f":"M174+N174+O174+P174","v":4},{"$f":"IF(Q174=0,TRUE,FALSE)","v":false}]
[null,null,null,null,null,{"$f":"ROUND(D175*E175,2)","v":0},null,null,0,{"$f":"F175+I175","v":0},null,null,{"$f":"ISBLANK(B175)","v":true},true,true,true,{"$f":"M175+N175+O175+P175","v":4},{"$f":"IF(Q175=0,TRUE,FALSE)","v":false}]
[null,null,null,null,null,0,null,null,0,0,null,null,true,true,true,true,4,false]
[null,null,null,null,null,0,null,null,0,0,null,null,true,true,true,true,4,false]
[null,null,null,null,null,0,null,null,0,0,null,null,true,true,true,true,4,false]
[null,null,null,null,null,0,null,null,0,0,null,null,true,true,true,true,4,false]
[null,null,null,null,null,0,null,null,0,0,null,null,true,true,true,true,4,false]
[null,null,null,null,null,0,null,null,0,0,null,null,true,true,true,true,4,false]
[null,null,null,null,null,0,null,null,0,0,null,null,true,true,true,true,4,false]
[null,null,null,null,null,0,null,null,0,0,null,null,true,true,true,true,4,true]
[null,"4.12 Authorizations, certificates",null,null,null,{"$f":"SUM(F185:F194)","v":0},null,null,{"$f":"SUM(I185:I194)","v":0},{"$f":"SUM(J185:J194)","v":0},null,null,null,null,null,null,null,true]
[null,null,null,null,null,{"$f":"ROUND(D185*E185,2)","v":0},null,null,{"$f":"ROUND(G185*H185,2)","v":0},{"$f":"F185+I185","v":0},null,null,{"$f":"ISBLANK(B185)","v":true},{"$f":"ISBLANK(C185)","v":true},true,true,{"$f":"M185+N185+O185+P185","v":4},{"$f":"IF(Q185=0,TRUE,FALSE)","v":false}]
[null,null,null,null,null,{"$f":"ROUND(D186*E186,2)","v":0},null,null,0,{"$f":"F186+I186","v":0},null,null,{"$f":"ISBLANK(B186)","v":true},true,true,true,{"$f":"M186+N186+O186+P186","v":4},{"$f":"IF(Q186=0,TRUE,FALSE)","v":false}]
[null,null,null,null,null,0,null,null,0,0,null,null,true,true,true,true,4,false]
[null,null,null,null,null,0,null,null,0,0,null,null,true,true,true,true,4,false]
[null,null,null,null,null,0,null,null,0,0,null,null,true,true,true,true,4,false]
[null,null,null,null,null,0,null,null,0,0,null,null,true,true,true,true,4,false]
[null,null,null,null,null,0,null,null,0,0,null,null,true,true,true,true,4,false]
[null,null,null,null,null,0,null,null,0,0,null,null,true,true,true,true,4,false]
[null,null,null,null,null,0,null,null,0,0,null,null,true,true,true,true,4,false]
[null,null,null,null,null,0,null,null,0,0,null,null,true,true,true,true,4,true]
[null,"4.13 Interpreters, lecturers, trainers",null,null,null,{"$f":"SUM(F196:F205)","v":0},null,null,{"$f":"SUM(I196:I205)","v":0},{"$f":"SUM(J196:J205)","v":0},null,null,null,null,null,null,null,true]
[null,null,null,null,null,{"$f":"ROUND(D196*E196,2)","v":0},null,null,{"$f":"ROUND(G196*H196,2)","v":0},{"$f":"F196+I196","v":0},null,null,{"$f":"ISBLANK(B196)","v":true},{"$f":"ISBLANK(C196)","v":true},true,true,{"$f":"M196+N196+O196+P196","v":4},{"$f":"IF(Q196=0,TRUE,FALSE)","v":false}]
[null,null,null,null,null,{"$f":"ROUND(D197*E197,2)","v":0},null,null,0,{"$f":"F197+I197","v":0},null,null,{"$f":"ISBLANK(B197)","v":true},true,true,true,{"$f":"M197+N197+O197+P197","v":4},{"$f":"IF(Q197=0,TRUE,FALSE)","v":false}]
[null,null,null,null,null,0,null,null,0,0,null,null,true,true,true,true,4,false]
[null,null,null,null,null,0,null,null,0,0,null,null,true,true,true,true,4,false]
[null,null,null,null,null,0,null,null,0,0,null,null,true,true,true,true,4,false]
[null,null,null,null,null,0,null,null,0,0,null,null,true,true,true,true,4,false]
[null,null,null,null,null,0,null,null,0,0,null,null,true,true,true,true,4,false]
[null,null,null,null,null,0,null,null,0,0,null,null,true,true,true,true,4,false]
[null,null,null,null,null,0,null,null,0,0,null,null,true,true,true,true,4,false]
[null,null,null,null,null,0,null,null,0,0,null,null,true,true,true,true,4,true]
[null,"4.14 Others",null,null,null,{"$f":"SUM(F207:F216)","v":0},null,null,{"$f":"SUM(I207:I216)","v":0},{"$f":"SUM(J207:J216)","v":0},null,null,null,null,null,null,null,true]
[null,null,null,null,null,{"$f":"ROUND(D207*E207,2)","v":0},null,null,{"$f":"ROUND(G207*H207,2)","v":0},{"$f":"F207+I207","v":0},null,null,{"$f":"ISBLANK(B207)","v":true},{"$f":"ISBLANK(C207)","v":true},true,true,{"$f":"M207+N207+O207+P207","v":4},{"$f":"IF(Q207=0,TRUE,FALSE)","v":false}]
[null,null,null,null,null,{"$f":"ROUND(D208*E208,2)","v":0},null,null,0,{"$f":"F208+I208","v":0},null,null,{"$f":"ISBLANK(B208)","v":true},true,true,true,{"$f":"M208+N208+O208+P208","v":4},{"$f":"IF(Q208=0,TRUE,FALSE)","v":false}]
[null,null,null,null,null,0,null,null,0,0,null,null,true,true,true,true,4,false]
[null,null,null,null,null,0,null,null,0,0,null,null,true,true,true,true,4,false]
[null,null,null,null,null,0,null,null,0,0,null,null,true,true,true,true,4,false]
[null,null,null,null,null,0,null,null,0,0,null,null,true,true,true,true,4,false]
[null,null,null,null,null,0,null,null,0,0,null,null,true,true,true,true,4,false]
[null,null,null,null,null,0,null,null,0,0,null,null,true,true,true,true,4,false]
[null,null,null,null,null,0,null,null,0,0,null,null,true,true,true,true,4,false]
[null,null,null,null,null,0,null,null,0,0,null,null,true,true,true,true,4,true]
[null,"TOTAL",null,null,null,{"$f":"F206+F195+F184+F173+F162+F151+F140+F129+F118+F107+F96+F85+F74+F63","v":0},null,null,{"$f":"I206+I195+I184+I173+I162+I151+I140+I129+I118+I107+I96+I85+I74+I63","v":0},{"$f":"J206+J195+J184+J173+J162+J151+J140+J129+J118+J107+J96+J85+J74+J63","v":0},null,null,null,null,null,null,null,true]
[null,null,null,"Small scale constructions are not allowed for Soft project!!!!",null,null,null,null,null,null,null,null,{"$f":"O222+P222+N218","v":2},{"$f":"M8=\"Soft\"","v":false},null,null,null,true]
[null,"BL5 - EQUIPMENT AND WORKS","Unit","Expenditures in the eligible area",null,null,"N/A",null,null,"TOTAL",null,null,null,null,null,null,null,true]
[null,null,null,"Units","Unit rate","TOTAL","Units","Unit rate","TOTAL",null,null,null,null,null,null,null,null,true]
[null,"5.1 Small scale construction",null,null,null,{"$f":"SUM(F222:F231)","v":0},null,null,{"$f":"SUM(I222:I231)","v":0},{"$f":"SUM(J222:J231)","v":0},null,null,null,null,null,null,null,true]
[null,null,null,null,null,{"$f":"ROUND(D222*E222,2)","v":0},null,null,{"$f":"ROUND(G222*H222,2)","v":0},{"$f":"F222+I222","v":0},null,null,{"$f":"ISBLANK(B222)","v":true},{"$f":"ISBLANK(C222)","v":true},true,true,{"$f":"M222+N222+O222+P222","v":4},{"$f":"IF(Q222=0,TRUE,FALSE)","v":false}]
[null,null,null,null,null,{"$f":"ROUND(D223*E223,2)","v":0},null,null,0,{"$f":"F223+I223","v":0},null,null,{"$f":"ISBLANK(B223)","v":true},true,true,true,{"$f":"M223+N223+O223+P223","v":4},{"$f":"IF(Q223=0,TRUE,FALSE)","v":false}]
[null,null,null,null,null,0,null,null,0,0,null,null,true,true,true,true,4,false]
[null,null,null,null,null,0,null,null,0,0,null,null,true,true,true,true,4,false]
[null,null,null,null,null,0,null,null,0,0,null,null,true,true,true,true,4,false]
[null,null,null,null,null,0,null,null,0,0,null,null,true,true,true,true,4,false]
[null,null,null,null,null,0,null,null,0,0,null,null,true,true,true,true,4,false]
[null,null,null,null,null,0,null,null,0,0,null,null,true,true,true,true,4,false]
[null,null,null,null,null,0,null,null,0,0,null,null,true,true,true,true,4,false]
[null,null,null,null,null,0,null,null,0,0,null,null,true,true,true,true,4,true]
[null,"5.2 Supply",null,null,null,{"$f":"SUM(F233:F242)","v":0},null,null,{"$f":"SUM(I233:I242)","v":0},{"$f":"SUM(J233:J242)","v":0},null,null,null,null,null,null,null,true]
[null,null,null,null,null,{"$f":"ROUND(D233*E233,2)","v":0},null,null,{"$f":"ROUND(G233*H233,2)","v":0},{"$f":"F233+I233","v":0},null,null,{"$f":"ISBLANK(B233)","v":true},{"$f":"ISBLANK(C233)","v":true},true,true,{"$f":"M233+N233+O233+P233","v":4},{"$f":"IF(Q233=0,TRUE,FALSE)","v":false}]
[null,null,null,null,null,{"$f":"ROUND(D234*E234,2)","v":0},null,null,0,{"$f":"F234+I234","v":0},null,null,{"$f":"ISBLANK(B234)","v":true},true,true,true,{"$f":"M234+N234+O234+P234","v":4},{"$f":"IF(Q234=0,TRUE,FALSE)","v":false}]
[null,null,null,null,null,0,null,null,0,0,null,null,true,true,true,true,4,false]
[null,null,null,null,null,0,null,null,0,0,null,null,true,true,true,true,4,false]
[null,null,null,null,null,0,null,null,0,0,null,null,true,true,true,true,4,false]
[null,null,null,null,null,0,null,null,0,0,null,null,true,true,true,true,4,false]
[null,null,null,null,null,0,null,null,0,0,null,null,true,true,true,true,4,false]
[null,null,null,null,null,0,null,null,0,0,null,null,true,true,true,true,4,false]
[null,null,null,null,null,0,null,null,0,0,null,null,true,true,true,true,4,false]
[null,null,null,null,null,0,null,null,0,0,null,null,true,true,true,true,4,true]
[null,"TOTAL",null,null,null,{"$f":"F232+F221","v":0},null,null,{"$f":"I232+I221","v":0},{"$f":"J232+J221","v":0},null,null,null,null,null,null,null,true]
[null,null,null,null,null,null,null,null,null,null,null,null,null,null,null,null,null,true]
[null,"BL6 - PROJECT PREPARATION","Unit","Expenditures in the eligible area",null,null,"N/A",null,null,"TOTAL",null,null,null,null,null,null,null,true]
[null,null,null,"Units","Unit rate","TOTAL","Units","Unit rate","TOTAL",null,null,null,null,null,null,null,null,true]
[null,null,null,null,null,{"$f":"ROUND(D247*E247,2)","v":0},null,null,{"$f":"ROUND(G247*H247,2)","v":0},{"$f":"F247+I247","v":0},null,null,{"$f":"ISBLANK(B247)","v":true},{"$f":"ISBLANK(C247)","v":true},true,true,{"$f":"M247+N247+O247+P247","v":4},{"$f":"IF(Q247=0,TRUE,FALSE)","v":false}]
[null,null,null,null,null,{"$f":"ROUND(D248*E248,2)","v":0},null,null,0,{"$f":"F248+I248","v":0},null,null,{"$f":"ISBLANK(B248)","v":true},true,true,true,{"$f":"M248+N248+O248+P248","v":4},{"$f":"IF(Q248=0,TRUE,FALSE)","v":false}]
[null,null,null,null,null,0,null,null,0,0,null,null,true,true,true,true,4,false]
[null,null,null,null,null,0,null,null,0,0,null,null,true,true,true,true,4,false]
[null,null,null,null,null,0,null,null,0,0,null,null,true,true,true,true,4,false]
[null,null,null,null,null,0,null,null,0,0,null,null,true,true,true,true,4,false]
[null,null,null,null,null,0,null,null,0,0,null,null,true,true,true,true,4,false]
[null,null,null,null,null,0,null,null,0,0,null,null,true,true,true,true,4,false]
[null,null,null,null,null,0,null,null,0,0,null,null,true,true,true,true,4,false]
[null,null,null,null,null,0,null,null,0,0,null,null,true,true,true,true,4,true]
[null,"TOTAL",null,null,null,{"$f":"SUM(F247:F256)","v":0},null,null,{"$f":"SUM(I247:I256)","v":0},{"$f":"SUM(J247:J256)","v":0},null,null,null,null,null,null,null,true]
[null,null,null,null,null,null,null,null,null,null,null,null,null,null,null,null,null,true]
[null,"Own Contribution",null,null,null,"Unit","Units","Unit rate","TOTAL",null,null,null,null,null,null,null,null,true]
[null,null,null,null,null,null,null,null,{"$f":"G260*H260","v":0},null,null,null,null,null,null,null,null,true]
[null,null,null,null,"Expenditures outside the eligible area exceed 20 %! Reconsider budget distribution!",null,null,null,null,null,null,null,null,null,null,null,null,true]
[null,"Total direct project costs VAT incl. (BL3+BL4+BL5)",null,null,null,{"$f":"F243+F217+F59","v":0},{"$f":"I243+I59+I217","v":0},null,null,{"$f":"J243+J217+J59","v":0},null,null,null,null,null,null,null,true]
[null,"TOTAL PROJECT COSTS",null,null,null,{"$f":"F262+F257+I6+I11+I260","v":0},{"$f":"G262+I257","v":0},null,null,{"$f":"F263+G263","v":0},null,null,null,null,null,null,null,true]

{"sheet":"T2-B(PP4)","index":12,"n_rows":263,"n_cols":18,"rows_kept":263,"cut":false,"hidden":false,"merged":[[244,9,245,9],[261,1,261,4],[261,6,261,8],[262,1,262,4],[262,6,262,8],[256,1,256,4],[256,6,256,7],[258,1,258,4],[258,8,258,9],[259,1,259,4],[259,8,259,9],[242,1,242,4],[242,6,242,7],[244,1,245,1],[244,2,245,2],[244,3,244,5],[244,6,244,8],[216,1,216,4],[216,6,216,7],[218,1,219,1],[218,2,219,2],[218,3,218,5],[218,6,218,8],[217,3,217,9],[218,9,219,9],[60,1,61,1],[60,2,61,2],[60,3,60,5],[60,6,60,8],[60,9,61,9],[9,8,9,9],[10,1,10,7],[10,8,10,9],[12,1,13,1],[12,2,13,2],[12,3,12,5],[12,6,12,8],[12,9,13,9],[9,1,9,5],[9,6,9,7],[2,1,3,5],[2,6,2,7],[2,8,3,9],[3,6,3,7],[4,1,4,5],[4,6,4,7],[4,8,4,9],[5,1,5,7],[5,8,5,9],[7,1,8,5],[7,6,7,7],[7,8,8,9],[8,6,8,7]]}
[null,"TABLE 2 - DETAILED BREAKDOWN OF BUDGET LINES - PP4",null,null,null,null,null,null,null,null,null,null,null,null,null,null,null,true]
[null,null,null,null,null,null,null,null,null,null,null,null,null,null,null,null,null,true]
[null,"BL1 - STAFF COSTS",null,null,null,null,"Flat rate",null,"TOTAL",null,null,null,null,null,null,null,null,true]
[null,null,null,null,null,null,"%",null,null,null,null,null,null,null,null,null,null,true]
[null,{"$f":"M5","v":" project"},null,null,null,null,null,null,{"$f":"G5*J262/100","v":0},null,null,"visible/hidden depending on project identification",{"$f":"CONCATENATE('Project identification'!C15,\" project\")","v":" project"},null,null,null,10,true]
[null,"TOTAL",null,null,null,null,null,null,{"$f":"I5","v":0},null,null,null,null,null,{"$f":"IF(M8=\"Soft\",15,10)","v":10},null,15,true]
[null,null,null,null,null,null,null,null,null,null,null,null,null,null,null,null,null,true]
[null,"BL2 - OFFICE AND ADMINISTRATIVE COSTS",null,null,null,null,"Flat rate",null,"TOTAL",null,null,null,{"$f":"'Project identification'!C15","v":""},null,null,null,null,true]
[null,null,null,null,null,null,"%",null,null,null,null,null,null,null,null,null,null,true]
[null,{"$f":"M5","v":" project"},null,null,null,null,null,null,{"$f":"G10*I5/100","v":0},null,null,"visible/hidden depending on project identification",null,null,null,null,2,true]
[null,"TOTAL",null,null,null,null,null,null,{"$f":"I10","v":0},null,null,null,null,null,{"$f":"IF(M8=\"Soft\",20,15)","v":15},null,5,true]
[null,null,null,null,null,null,null,null,null,null,null,null,null,null,null,null,null,true]
[null,"BL3 - TRAVEL AND ACCOMMODATION","Unit","Expenditures in the eligible area",null,null,"Expenditures outside of the eligible area",null,null,"TOTAL",null,null,null,null,null,null,null,true]
[null,null,null,"Units","Unit rate","TOTAL","Units","Unit rate","TOTAL",null,null,null,null,null,null,null,null,true]
[null,"3.1 Travel costs",null,null,null,{"$f":"SUM(F16:F25)","v":0},null,null,{"$f":"SUM(I16:I25)","v":0},{"$f":"SUM(J16:J25)","v":0},null,"Add",null,null,null,null,null,true]
[null,null,null,null,null,{"$f":"ROUND(D16*E16,2)","v":0},null,null,{"$f":"ROUND(G16*H16,2)","v":0},{"$f":"F16+I16","v":0},null,null,{"$f":"ISBLANK(B16)","v":true},{"$f":"ISBLANK(C16)","v":true},true,true,{"$f":"M16+N16+O16+P16","v":4},{"$f":"IF(Q16=0,TRUE,FALSE)","v":false}]
[null,null,null,null,null,{"$f":"ROUND(D17*E17,2)","v":0},null,null,0,{"$f":"F17+I17","v":0},null,null,{"$f":"ISBLANK(B17)","v":true},true,true,true,{"$f":"M17+N17+O17+P17","v":4},{"$f":"IF(Q17=0,TRUE,FALSE)","v":false}]
[null,null,null,null,null,0,null,null,0,0,null,null,true,true,true,true,4,false]
[null,null,null,null,null,0,null,null,0,0,null,null,true,true,true,true,4,false]
[null,null,null,null,null,0,null,null,0,0,null,null,true,true,true,true,4,false]
[null,null,null,null,null,0,null,null,0,0,null,null,true,true,true,true,4,false]
[null,null,null,null,null,0,null,null,0,0,null,null,true,true,true,true,4,false]
[null,null,null,null,null,0,null,null,0,0,null,null,true,true,true,true,4,false]
[null,null,null,null,null,0,null,null,0,0,null,null,true,true,true,true,4,false]
[null,null,null,null,null,0,null,null,0,0,null,null,true,true,true,true,4,true]
[null,"3.2 Daily allowances",null,null,null,{"$f":"SUM(F27:F36)","v":0},null,null,{"$f":"SUM(I27:I36)","v":0},{"$f":"SUM(J27:J36)","v":0},null,"add (10 items)",null,null,null,null,null,true]
[null,null,null,null,null,{"$f":"ROUND(D27*E27,2)","v":0},null,null,{"$f":"ROUND(G27*H27,2)","v":0},{"$f":"F27+I27","v":0},null,null,{"$f":"ISBLANK(B27)","v":true},{"$f":"ISBLANK(C27)","v":true},true,true,{"$f":"M27+N27+O27+P27","v":4},{"$f":"IF(Q27=0,TRUE,FALSE)","v":false}]
[null,null,null,null,null,{"$f":"ROUND(D28*E28,2)","v":0},null,null,0,{"$f":"F28+I28","v":0},null,null,{"$f":"ISBLANK(B28)","v":true},true,true,true,{"$f":"M28+N28+O28+P28","v":4},{"$f":"IF(Q28=0,TRUE,FALSE)","v":false}]
[null,null,null,null,null,0,null,null,0,0,null,null,true,true,true,true,4,false]
[null,null,null,null,null,0,null,null,0,0,null,null,true,true,true,true,4,false]
[null,null,null,null,null,0,null,null,0,0,null,null,true,true,true,true,4,false]
[null,null,null,null,null,0,null,null,0,0,null,null,true,true,true,true,4,false]
[null,null,null,null,null,0,null,null,0,0,null,null,true,true,true,true,4,false]
[null,null,null,null,null,0,null,null,0,0,null,null,true,true,true,true,4,false]
[null,null,null,null,null,0,null,null,0,0,null,null,true,true,true,true,4,false]
[null,null,null,null,null,0,null,null,0,0,null,null,true,true,true,true,4,true]
[null,"3.3 Accommodation costs",null,null,null,{"$f":"SUM(F38:F47)","v":0},null,null,{"$f":"SUM(I38:I47)","v":0},{"$f":"SUM(J38:J47)","v":0},null,null,null,null,null,null,null,true]
[null,null,null,null,null,{"$f":"ROUND(D38*E38,2)","v":0},null,null,{"$f":"ROUND(G38*H38,2)","v":0},{"$f":"F38+I38","v":0},null,null,{"$f":"ISBLANK(B38)","v":true},{"$f":"ISBLANK(C38)","v":true},true,true,{"$f":"M38+N38+O38+P38","v":4},{"$f":"IF(Q38=0,TRUE,FALSE)","v":false}]
[null,null,null,null,null,{"$f":"ROUND(D39*E39,2)","v":0},null,null,0,{"$f":"F39+I39","v":0},null,null,{"$f":"ISBLANK(B39)","v":true},true,true,true,{"$f":"M39+N39+O39+P39","v":4},{"$f":"IF(Q39=0,TRUE,FALSE)","v":false}]
[null,null,null,null,null,0,null,null,0,0,null,null,true,true,true,true,4,false]
[null,null,null,null,null,0,null,null,0,0,null,null,true,true,true,true,4,false]
[null,null,null,null,null,0,null,null,0,0,null,null,true,true,true,true,4,false]
[null,null,null,null,null,0,null,null,0,0,null,null,true,true,true,true,4,false]
[null,null,null,null,null,0,null,null,0,0,null,null,true,true,true,true,4,false]
[null,null,null,null,null,0,null,null,0,0,null,null,true,true,true,true,4,false]
[null,null,null,null,null,0,null,null,0,0,null,null,true,true,true,true,4,false]
[null,null,null,null,null,0,null,null,0,0,null,null,true,true,true,true,4,true]
[null,"3.4 Visa costs",null,null,null,{"$f":"SUM(F49:F58)","v":0},null,null,{"$f":"SUM(I49:I58)","v":0},{"$f":"SUM(J49:J58)","v":0},null,null,null,null,null,null,null,true]
[null,null,null,null,null,{"$f":"ROUND(D49*E49,2)","v":0},null,null,{"$f":"ROUND(G49*H49,2)","v":0},{"$f":"F49+I49","v":0},null,null,{"$f":"ISBLANK(B49)","v":true},{"$f":"ISBLANK(C49)","v":true},true,true,{"$f":"M49+N49+O49+P49","v":4},{"$f":"IF(Q49=0,TRUE,FALSE)","v":false}]
[null,null,null,null,null,{"$f":"ROUND(D50*E50,2)","v":0},null,null,0,{"$f":"F50+I50","v":0},null,null,{"$f":"ISBLANK(B50)","v":true},true,true,true,{"$f":"M50+N50+O50+P50","v":4},{"$f":"IF(Q50=0,TRUE,FALSE)","v":false}]
[null,null,null,null,null,0,null,null,0,0,null,null,true,true,true,true,4,false]
[null,null,null,null,null,0,null,null,0,0,null,null,true,true,true,true,4,false]
[null,null,null,null,null,0,null,null,0,0,null,null,true,true,true,true,4,false]
[null,null,null,null,null,0,null,null,0,0,null,null,true,true,true,true,4,false]
[null,null,null,null,null,0,null,null,0,0,null,null,true,true,true,true,4,false]
[null,null,null,null,null,0,null,null,0,0,null,null,true,true,true,true,4,false]
[null,null,null,null,null,0,null,null,0,0,null,null,true,true,true,true,4,false]
[null,null,null,null,null,0,null,null,0,0,null,null,true,true,true,true,4,true]
[null,"TOTAL",null,null,null,{"$f":"F48+F37+F26+F15","v":0},null,null,{"$f":"I48+I37+I26+I15","v":0},{"$f":"J48+J37+J26+J15","v":0},null,null,null,null,null,null,null,true]
[null,null,null,null,null,null,null,null,null,null,null,null,null,null,null,null,null,true]
[null,"BL4 - EXTERNAL EXPERTISE AND SERVICES COSTS","Unit","Expenditures in the eligible area",null,null,"Expenditures outside of the eligible area",null,null,"TOTAL",null,null,null,null,null,null,null,true]
[null,null,null,"Units","Unit rate","TOTAL","Units","Unit rate","TOTAL",null,null,null,null,null,null,null,null,true]
[null,"4.1 Rent of hall",null,null,null,{"$f":"SUM(F64:F73)","v":0},null,null,{"$f":"SUM(I64:I73)","v":0},{"$f":"SUM(J64:J73)","v":0},null,null,null,null,null,null,null,true]
[null,null,null,null,null,{"$f":"ROUND(D64*E64,2)","v":0},null,null,{"$f":"ROUND(G64*H64,2)","v":0},{"$f":"F64+I64","v":0},null,null,{"$f":"ISBLANK(B64)","v":true},{"$f":"ISBLANK(C64)","v":true},true,true,{"$f":"M64+N64+O64+P64","v":4},{"$f":"IF(Q64=0,TRUE,FALSE)","v":false}]
[null,null,null,null,null,{"$f":"ROUND(D65*E65,2)","v":0},null,null,0,{"$f":"F65+I65","v":0},null,null,{"$f":"ISBLANK(B65)","v":true},true,true,true,{"$f":"M65+N65+O65+P65","v":4},{"$f":"IF(Q65=0,TRUE,FALSE)","v":false}]
[null,null,null,null,null,0,null,null,0,0,null,null,true,true,true,true,4,false]
[null,null,null,null,null,0,null,null,0,0,null,null,true,true,true,true,4,false]
[null,null,null,null,null,0,null,null,0,0,null,null,true,true,true,true,4,false]
[null,null,null,null,null,0,null,null,0,0,null,null,true,true,true,true,4,false]
[null,null,null,null,null,0,null,null,0,0,null,null,true,true,true,true,4,false]
[null,null,null,null,null,0,null,null,0,0,null,null,true,true,true,true,4,false]
[null,null,null,null,null,0,null,null,0,0,null,null,true,true,true,true,4,false]
[null,null,null,null,null,0,null,null,0,0,null,null,true,true,true,true,4,true]
[null,"4.2 Rent of equipment",null,null,null,{"$f":"SUM(F75:F84)","v":0},null,null,{"$f":"SUM(I75:I84)","v":0},{"$f":"SUM(J75:J84)","v":0},null,null,null,null,null,null,null,true]
[null,null,null,null,null,{"$f":"ROUND(D75*E75,2)","v":0},null,null,{"$f":"ROUND(G75*H75,2)","v":0},{"$f":"F75+I75","v":0},null,null,{"$f":"ISBLANK(B75)","v":true},{"$f":"ISBLANK(C75)","v":true},true,true,{"$f":"M75+N75+O75+P75","v":4},{"$f":"IF(Q75=0,TRUE,FALSE)","v":false}]
[null,null,null,null,null,{"$f":"ROUND(D76*E76,2)","v":0},null,null,0,{"$f":"F76+I76","v":0},null,null,{"$f":"ISBLANK(B76)","v":true},true,true,true,{"$f":"M76+N76+O76+P76","v":4},{"$f":"IF(Q76=0,TRUE,FALSE)","v":false}]
[null,null,null,null,null,0,null,null,0,0,null,null,true,true,true,true,4,false]
[null,null,null,null,null,0,null,null,0,0,null,null,true,true,true,true,4,false]
[null,null,null,null,null,0,null,null,0,0,null,null,true,true,true,true,4,false]
[null,null,null,null,null,0,null,null,0,0,null,null,true,true,true,true,4,false]
[null,null,null,null,null,0,null,null,0,0,null,null,true,true,true,true,4,false]
[null,null,null,null,null,0,null,null,0,0,null,null,true,true,true,true,4,false]
[null,null,null,null,null,0,null,null,0,0,null,null,true,true,true,true,4,false]
[null,null,null,null,null,0,null,null,0,0,null,null,true,true,true,true,4,true]
[null,"4.3 Coffee breaks …..",null,null,null,{"$f":"SUM(F86:F95)","v":0},null,null,{"$f":"SUM(I86:I95)","v":0},{"$f":"SUM(J86:J95)","v":0},null,null,null,null,null,null,null,true]
[null,null,null,null,null,{"$f":"ROUND(D86*E86,2)","v":0},null,null,{"$f":"ROUND(G86*H86,2)","v":0},{"$f":"F86+I86","v":0},null,null,{"$f":"ISBLANK(B86)","v":true},{"$f":"ISBLANK(C86)","v":true},true,true,{"$f":"M86+N86+O86+P86","v":4},{"$f":"IF(Q86=0,TRUE,FALSE)","v":false}]
[null,null,null,null,null,{"$f":"ROUND(D87*E87,2)","v":0},null,null,0,{"$f":"F87+I87","v":0},null,null,{"$f":"ISBLANK(B87)","v":true},true,true,true,{"$f":"M87+N87+O87+P87","v":4},{"$f":"IF(Q87=0,TRUE,FALSE)","v":false}]
[null,null,null,null,null,0,null,null,0,0,null,null,true,true,true,true,4,false]
[null,null,null,null,null,0,null,null,0,0,null,null,true,true,true,true,4,false]
[null,null,null,null,null,0,null,null,0,0,null,null,true,true,true,true,4,false]
[null,null,null,null,null,0,null,null,0,0,null,null,true,true,true,true,4,false]
[null,null,null,null,null,0,null,null,0,0,null,null,true,true,true,true,4,false]
[null,null,null,null,null,0,null,null,0,0,null,null,true,true,true,true,4,false]
[null,null,null,null,null,0,null,null,0,0,null,null,true,true,true,true,4,false]
[null,null,null,null,null,0,null,null,0,0,null,null,true,true,true,true,4,true]
[null,"4.4 Preparation of materials",null,null,null,{"$f":"SUM(F97:F106)","v":0},null,null,{"$f":"SUM(I97:I106)","v":0},{"$f":"SUM(J97:J106)","v":0},null,null,null,null,null,null,null,true]
[null,null,null,null,null,{"$f":"ROUND(D97*E97,2)","v":0},null,null,{"$f":"ROUND(G97*H97,2)","v":0},{"$f":"F97+I97","v":0},null,null,{"$f":"ISBLANK(B97)","v":true},{"$f":"ISBLANK(C97)","v":true},true,true,{"$f":"M97+N97+O97+P97","v":4},{"$f":"IF(Q97=0,TRUE,FALSE)","v":false}]
[null,null,null,null,null,{"$f":"ROUND(D98*E98,2)","v":0},null,null,0,{"$f":"F98+I98","v":0},null,null,{"$f":"ISBLANK(B98)","v":true},true,true,true,{"$f":"M98+N98+O98+P98","v":4},{"$f":"IF(Q98=0,TRUE,FALSE)","v":false}]
[null,null,null,null,null,0,null,null,0,0,null,null,true,true,true,true,4,false]
[null,null,null,null,null,0,null,null,0,0,null,null,true,true,true,true,4,false]
[null,null,null,null,null,0,null,null,0,0,null,null,true,true,true,true,4,false]
[null,null,null,null,null,0,null,null,0,0,null,null,true,true,true,true,4,false]
[null,null,null,null,null,0,null,null,0,0,null,null,true,true,true,true,4,false]
[null,null,null,null,null,0,null,null,0,0,null,null,true,true,true,true,4,false]
[null,null,null,null,null,0,null,null,0,0,null,null,true,true,true,true,4,false]
[null,null,null,null,null,0,null,null,0,0,null,null,true,true,true,true,4,true]
[null,"4.5 Consumables",null,null,null,{"$f":"SUM(F108:F117)","v":0},null,null,{"$f":"SUM(I108:I117)","v":0},{"$f":"SUM(J108:J117)","v":0},null,null,null,null,null,null,null,true]
[null,null,null,null,null,{"$f":"ROUND(D108*E108,2)","v":0},null,null,{"$f":"ROUND(G108*H108,2)","v":0},{"$f":"F108+I108","v":0},null,null,{"$f":"ISBLANK(B108)","v":true},{"$f":"ISBLANK(C108)","v":true},true,true,{"$f":"M108+N108+O108+P108","v":4},{"$f":"IF(Q108=0,TRUE,FALSE)","v":false}]
[null,null,null,null,null,{"$f":"ROUND(D109*E109,2)","v":0},null,null,0,{"$f":"F109+I109","v":0},null,null,{"$f":"ISBLANK(B109)","v":true},true,true,true,{"$f":"M109+N109+O109+P109","v":4},{"$f":"IF(Q109=0,TRUE,FALSE)","v":false}]
[null,null,null,null,null,0,null,null,0,0,null,null,true,true,true,true,4,false]
[null,null,null,null,null,0,null,null,0,0,null,null,true,true,true,true,4,false]
[null,null,null,null,null,0,null,null,0,0,null,null,true,true,true,true,4,false]
[null,null,null,null,null,0,null,null,0,0,null,null,true,true,true,true,4,false]
[null,null,null,null,null,0,null,null,0,0,null,null,true,true,true,true,4,false]
[null,null,null,null,null,0,null,null,0,0,null,null,true,true,true,true,4,false]
[null,null,null,null,null,0,null,null,0,0,null,null,true,true,true,true,4,false]
[null,null,null,null,null,0,null,null,0,0,null,null,true,true,true,true,4,true]
[null,"4.6 Rent of vehicle for event",null,null,null,{"$f":"SUM(F119:F128)","v":0},null,null,{"$f":"SUM(I119:I128)","v":0},{"$f":"SUM(J119:J128)","v":0},null,null,null,null,null,null,null,true]
[null,null,null,null,null,{"$f":"ROUND(D119*E119,2)","v":0},null,null,{"$f":"ROUND(G119*H119,2)","v":0},{"$f":"F119+I119","v":0},null,null,{"$f":"ISBLANK(B119)","v":true},{"$f":"ISBLANK(C119)","v":true},true,true,{"$f":"M119+N119+O119+P119","v":4},{"$f":"IF(Q119=0,TRUE,FALSE)","v":false}]
[null,null,null,null,null,{"$f":"ROUND(D120*E120,2)","v":0},null,null,0,{"$f":"F120+I120","v":0},null,null,{"$f":"ISBLANK(B120)","v":true},true,true,true,{"$f":"M120+N120+O120+P120","v":4},{"$f":"IF(Q120=0,TRUE,FALSE)","v":false}]
[null,null,null,null,null,0,null,null,0,0,null,null,true,true,true,true,4,false]
[null,null,null,null,null,0,null,null,0,0,null,null,true,true,true,true,4,false]
[null,null,null,null,null,0,null,null,0,0,null,null,true,true,true,true,4,false]
[null,null,null,null,null,0,null,null,0,0,null,null,true,true,true,true,4,false]
[null,null,null,null,null,0,null,null,0,0,null,null,true,true,true,true,4,false]
[null,null,null,null,null,0,null,null,0,0,null,null,true,true,true,true,4,false]
[null,null,null,null,null,0,null,null,0,0,null,null,true,true,true,true,4,false]
[null,null,null,null,null,0,null,null,0,0,null,null,true,true,true,true,4,true]
[null,"4.7 Accommodations for participants in the events ",null,null,null,{"$f":"SUM(F130:F139)","v":0},null,null,{"$f":"SUM(I130:I139)","v":0},{"$f":"SUM(J130:J139)","v":0},null,null,null,null,null,null,null,true]
[null,null,null,null,null,{"$f":"ROUND(D130*E130,2)","v":0},null,null,{"$f":"ROUND(G130*H130,2)","v":0},{"$f":"F130+I130","v":0},null,null,{"$f":"ISBLANK(B130)","v":true},{"$f":"ISBLANK(C130)","v":true},true,true,{"$f":"M130+N130+O130+P130","v":4},{"$f":"IF(Q130=0,TRUE,FALSE)","v":false}]
[null,null,null,null,null,{"$f":"ROUND(D131*E131,2)","v":0},null,null,0,{"$f":"F131+I131","v":0},null,null,{"$f":"ISBLANK(B131)","v":true},true,true,true,{"$f":"M131+N131+O131+P131","v":4},{"$f":"IF(Q131=0,TRUE,FALSE)","v":false}]
[null,null,null,null,null,0,null,null,0,0,null,null,true,true,true,true,4,false]
[null,null,null,null,null,0,null,null,0,0,null,null,true,true,true,true,4,false]
[null,null,null,null,null,0,null,null,0,0,null,null,true,true,true,true,4,false]
[null,null,null,null,null,0,null,null,0,0,null,null,true,true,true,true,4,false]
[null,null,null,null,null,0,null,null,0,0,null,null,true,true,true,true,4,false]
[null,null,null,null,null,0,null,null,0,0,null,null,true,true,true,true,4,false]
[null,null,null,null,null,0,null,null,0,0,null,null,true,true,true,true,4,false]
[null,null,null,null,null,0,null,null,0,0,null,null,true,true,true,true,4,true]
[null,"4.8 Purchase of advertising materials",null,null,null,{"$f":"SUM(F141:F150)","v":0},null,null,{"$f":"SUM(I141:I150)","v":0},{"$f":"SUM(J141:J150)","v":0},null,null,null,null,null,null,null,true]
[null,null,null,null,null,{"$f":"ROUND(D141*E141,2)","v":0},null,null,{"$f":"ROUND(G141*H141,2)","v":0},{"$f":"F141+I141","v":0},null,null,{"$f":"ISBLANK(B141)","v":true},{"$f":"ISBLANK(C141)","v":true},true,true,{"$f":"M141+N141+O141+P141","v":4},{"$f":"IF(Q141=0,TRUE,FALSE)","v":false}]
[null,null,null,null,null,{"$f":"ROUND(D142*E142,2)","v":0},null,null,0,{"$f":"F142+I142","v":0},null,null,{"$f":"ISBLANK(B142)","v":true},true,true,true,{"$f":"M142+N142+O142+P142","v":4},{"$f":"IF(Q142=0,TRUE,FALSE)","v":false}]
[null,null,null,null,null,0,null,null,0,0,null,null,true,true,true,true,4,false]
[null,null,null,null,null,0,null,null,0,0,null,null,true,true,true,true,4,false]
[null,null,null,null,null,0,null,null,0,0,null,null,true,true,true,true,4,false]
[null,null,null,null,null,0,null,null,0,0,null,null,true,true,true,true,4,false]
[null,null,null,null,null,0,null,null,0,0,null,null,true,true,true,true,4,false]
[null,null,null,null,null,0,null,null,0,0,null,null,true,true,true,true,4,false]
[null,null,null,null,null,0,null,null,0,0,null,null,true,true,true,true,4,false]
[null,null,null,null,null,0,null,null,0,0,null,null,true,true,true,true,4,true]
[null,"4.9 Elaboration, design etc.",null,null,null,{"$f":"SUM(F152:F161)","v":0},null,null,{"$f":"SUM(I152:I161)","v":0},{"$f":"SUM(J152:J161)","v":0},null,null,null,null,null,null,null,true]
[null,null,null,null,null,{"$f":"ROUND(D152*E152,2)","v":0},null,null,{"$f":"ROUND(G152*H152,2)","v":0},{"$f":"F152+I152","v":0},null,null,{"$f":"ISBLANK(B152)","v":true},{"$f":"ISBLANK(C152)","v":true},true,true,{"$f":"M152+N152+O152+P152","v":4},{"$f":"IF(Q152=0,TRUE,FALSE)","v":false}]
[null,null,null,null,null,{"$f":"ROUND(D153*E153,2)","v":0},null,null,0,{"$f":"F153+I153","v":0},null,null,{"$f":"ISBLANK(B153)","v":true},true,true,true,{"$f":"M153+N153+O153+P153","v":4},{"$f":"IF(Q153=0,TRUE,FALSE)","v":false}]
[null,null,null,null,null,0,null,null,0,0,null,null,true,true,true,true,4,false]
[null,null,null,null,null,0,null,null,0,0,null,null,true,true,true,true,4,false]
[null,null,null,null,null,0,null,null,0,0,null,null,true,true,true,true,4,false]
[null,null,null,null,null,0,null,null,0,0,null,null,true,true,true,true,4,false]
[null,null,null,null,null,0,null,null,0,0,null,null,true,true,true,true,4,false]
[null,null,null,null,null,0,null,null,0,0,null,null,true,true,true,true,4,false]
[null,null,null,null,null,0,null,null,0,0,null,null,true,true,true,true,4,false]
[null,null,null,null,null,0,null,null,0,0,null,null,true,true,true,true,4,true]
[null,"4.10 Publications in mass-media",null,null,null,{"$f":"SUM(F163:F172)","v":0},null,null,{"$f":"SUM(I163:I172)","v":0},{"$f":"SUM(J163:J172)","v":0},null,null,null,null,null,null,null,true]
[null,null,null,null,null,{"$f":"ROUND(D163*E163,2)","v":0},null,null,{"$f":"ROUND(G163*H163,2)","v":0},{"$f":"F163+I163","v":0},null,null,{"$f":"ISBLANK(B163)","v":true},{"$f":"ISBLANK(C163)","v":true},true,true,{"$f":"M163+N163+O163+P163","v":4},{"$f":"IF(Q163=0,TRUE,FALSE)","v":false}]
[null,null,null,null,null,{"$f":"ROUND(D164*E164,2)","v":0},null,null,0,{"$f":"F164+I164","v":0},null,null,{"$f":"ISBLANK(B164)","v":true},true,true,true,{"$f":"M164+N164+O164+P164","v":4},{"$f":"IF(Q164=0,TRUE,FALSE)","v":false}]
[null,null,null,null,null,0,null,null,0,0,null,null,true,true,true,true,4,false]
[null,null,null,null,null,0,null,null,0,0,null,null,true,true,true,true,4,false]
[null,null,null,null,null,0,null,null,0,0,null,null,true,true,true,true,4,false]
[null,null,null,null,null,0,null,null,0,0,null,null,true,true,true,true,4,false]
[null,null,null,null,null,0,null,null,0,0,null,null,true,true,true,true,4,false]
[null,null,null,null,null,0,null,null,0,0,null,null,true,true,true,true,4,false]
[null,null,null,null,null,0,null,null,0,0,null,null,true,true,true,true,4,false]
[null,null,null,null,null,0,null,null,0,0,null,null,true,true,true,true,4,true]
[null,"4.11 Consultancy, studies,designs etc.",null,null,null,{"$f":"SUM(F174:F183)","v":0},null,null,{"$f":"SUM(I174:I183)","v":0},{"$f":"SUM(J174:J183)","v":0},null,null,null,null,null,null,null,true]
[null,null,null,null,null,{"$f":"ROUND(D174*E174,2)","v":0},null,null,{"$f":"ROUND(G174*H174,2)","v":0},{"$f":"F174+I174","v":0},null,null,{"$f":"ISBLANK(B174)","v":true},{"$f":"ISBLANK(C174)","v":true},true,true,{"$f":"M174+N174+O174+P174","v":4},{"$f":"IF(Q174=0,TRUE,FALSE)","v":false}]
[null,null,null,null,null,{"$f":"ROUND(D175*E175,2)","v":0},null,null,0,{"$f":"F175+I175","v":0},null,null,{"$f":"ISBLANK(B175)","v":true},true,true,true,{"$f":"M175+N175+O175+P175","v":4},{"$f":"IF(Q175=0,TRUE,FALSE)","v":false}]
[null,null,null,null,null,0,null,null,0,0,null,null,true,true,true,true,4,false]
[null,null,null,null,null,0,null,null,0,0,null,null,true,true,true,true,4,false]
[null,null,null,null,null,0,null,null,0,0,null,null,true,true,true,true,4,false]
[null,null,null,null,null,0,null,null,0,0,null,null,true,true,true,true,4,false]
[null,null,null,null,null,0,null,null,0,0,null,null,true,true,true,true,4,false]
[null,null,null,null,null,0,null,null,0,0,null,null,true,true,true,true,4,false]
[null,null,null,null,null,0,null,null,0,0,null,null,true,true,true,true,4,false]
[null,null,null,null,null,0,null,null,0,0,null,null,true,true,true,true,4,true]
[null,"4.12 Authorizations, certificates",null,null,null,{"$f":"SUM(F185:F194)","v":0},null,null,{"$f":"SUM(I185:I194)","v":0},{"$f":"SUM(J185:J194)","v":0},null,null,null,null,null,null,null,true]
[null,null,null,null,null,{"$f":"ROUND(D185*E185,2)","v":0},null,null,{"$f":"ROUND(G185*H185,2)","v":0},{"$f":"F185+I185","v":0},null,null,{"$f":"ISBLANK(B185)","v":true},{"$f":"ISBLANK(C185)","v":true},true,true,{"$f":"M185+N185+O185+P185","v":4},{"$f":"IF(Q185=0,TRUE,FALSE)","v":false}]
[null,null,null,null,null,{"$f":"ROUND(D186*E186,2)","v":0},null,null,0,{"$f":"F186+I186","v":0},null,null,{"$f":"ISBLANK(B186)","v":true},true,true,true,{"$f":"M186+N186+O186+P186","v":4},{"$f":"IF(Q186=0,TRUE,FALSE)","v":false}]
[null,null,null,null,null,0,null,null,0,0,null,null,true,true,true,true,4,false]
[null,null,null,null,null,0,null,null,0,0,null,null,true,true,true,true,4,false]
[null,null,null,null,null,0,null,null,0,0,null,null,true,true,true,true,4,false]
[null,null,null,null,null,0,null,null,0,0,null,null,true,true,true,true,4,false]
[null,null,null,null,null,0,null,null,0,0,null,null,true,true,true,true,4,false]
[null,null,null,null,null,0,null,null,0,0,null,null,true,true,true,true,4,false]
[null,null,null,null,null,0,null,null,0,0,null,null,true,true,true,true,4,false]
[null,null,null,null,null,0,null,null,0,0,null,null,true,true,true,true,4,true]
[null,"4.13 Interpreters, lecturers, trainers",null,null,null,{"$f":"SUM(F196:F205)","v":0},null,null,{"$f":"SUM(I196:I205)","v":0},{"$f":"SUM(J196:J205)","v":0},null,null,null,null,null,null,null,true]
[null,null,null,null,null,{"$f":"ROUND(D196*E196,2)","v":0},null,null,{"$f":"ROUND(G196*H196,2)","v":0},{"$f":"F196+I196","v":0},null,null,{"$f":"ISBLANK(B196)","v":true},{"$f":"ISBLANK(C196)","v":true},true,true,{"$f":"M196+N196+O196+P196","v":4},{"$f":"IF(Q196=0,TRUE,FALSE)","v":false}]
[null,null,null,null,null,{"$f":"ROUND(D197*E197,2)","v":0},null,null,0,{"$f":"F197+I197","v":0},null,null,{"$f":"ISBLANK(B197)","v":true},true,true,true,{"$f":"M197+N197+O197+P197","v":4},{"$f":"IF(Q197=0,TRUE,FALSE)","v":false}]
[null,null,null,null,null,0,null,null,0,0,null,null,true,true,true,true,4,false]
[null,null,null,null,null,0,null,null,0,0,null,null,true,true,true,true,4,false]
[null,null,null,null,null,0,null,null,0,0,null,null,true,true,true,true,4,false]
[null,null,null,null,null,0,null,null,0,0,null,null,true,true,true,true,4,false]
[null,null,null,null,null,0,null,null,0,0,null,null,true,true,true,true,4,false]
[null,null,null,null,null,0,null,null,0,0,null,null,true,true,true,true,4,false]
[null,null,null,null,null,0,null,null,0,0,null,null,true,true,true,true,4,false]
[null,null,null,null,null,0,null,null,0,0,null,null,true,true,true,true,4,true]
[null,"4.14 Others",null,null,null,{"$f":"SUM(F207:F216)","v":0},null,null,{"$f":"SUM(I207:I216)","v":0},{"$f":"SUM(J207:J216)","v":0},null,null,null,null,null,null,null,true]
[null,null,null,null,null,{"$f":"ROUND(D207*E207,2)","v":0},null,null,{"$f":"ROUND(G207*H207,2)","v":0},{"$f":"F207+I207","v":0},null,null,{"$f":"ISBLANK(B207)","v":true},{"$f":"ISBLANK(C207)","v":true},true,true,{"$f":"M207+N207+O207+P207","v":4},{"$f":"IF(Q207=0,TRUE,FALSE)","v":false}]
[null,null,null,null,null,{"$f":"ROUND(D208*E208,2)","v":0},null,null,0,{"$f":"F208+I208","v":0},null,null,{"$f":"ISBLANK(B208)","v":true},true,true,true,{"$f":"M208+N208+O208+P208","v":4},{"$f":"IF(Q208=0,TRUE,FALSE)","v":false}]
[null,null,null,null,null,0,null,null,0,0,null,null,true,true,true,true,4,false]
[null,null,null,null,null,0,null,null,0,0,null,null,true,true,true,true,4,false]
[null,null,null,null,null,0,null,null,0,0,null,null,true,true,true,true,4,false]
[null,null,null,null,null,0,null,null,0,0,null,null,true,true,true,true,4,false]
[null,null,null,null,null,0,null,null,0,0,null,null,true,true,true,true,4,false]
[null,null,null,null,null,0,null,null,0,0,null,null,true,true,true,true,4,false]
[null,null,null,null,null,0,null,null,0,0,null,null,true,true,true,true,4,false]
[null,null,null,null,null,0,null,null,0,0,null,null,true,true,true,true,4,true]
[null,"TOTAL",null,null,null,{"$f":"F206+F195+F184+F173+F162+F151+F140+F129+F118+F107+F96+F85+F74+F63","v":0},null,null,{"$f":"I206+I195+I184+I173+I162+I151+I140+I129+I118+I107+I96+I85+I74+I63","v":0},{"$f":"J206+J195+J184+J173+J162+J151+J140+J129+J118+J107+J96+J85+J74+J63","v":0},null,null,null,null,null,null,null,true]
[null,null,null,"Small scale constructions are not allowed for Soft project!!!!",null,null,null,null,null,null,null,null,{"$f":"O222+P222+N218","v":2},{"$f":"M8=\"Soft\"","v":false},null,null,null,true]
[null,"BL5 - EQUIPMENT AND WORKS","Unit","Expenditures in the eligible area",null,null,"N/A",null,null,"TOTAL",null,null,null,null,null,null,null,true]
[null,null,null,"Units","Unit rate","TOTAL","Units","Unit rate","TOTAL",null,null,null,null,null,null,null,null,true]
[null,"5.1 Small scale construction",null,null,null,{"$f":"SUM(F222:F231)","v":0},null,null,{"$f":"SUM(I222:I231)","v":0},{"$f":"SUM(J222:J231)","v":0},null,null,null,null,null,null,null,true]
[null,null,null,null,null,{"$f":"ROUND(D222*E222,2)","v":0},null,null,{"$f":"ROUND(G222*H222,2)","v":0},{"$f":"F222+I222","v":0},null,null,{"$f":"ISBLANK(B222)","v":true},{"$f":"ISBLANK(C222)","v":true},true,true,{"$f":"M222+N222+O222+P222","v":4},{"$f":"IF(Q222=0,TRUE,FALSE)","v":false}]
[null,null,null,null,null,{"$f":"ROUND(D223*E223,2)","v":0},null,null,0,{"$f":"F223+I223","v":0},null,null,{"$f":"ISBLANK(B223)","v":true},true,true,true,{"$f":"M223+N223+O223+P223","v":4},{"$f":"IF(Q223=0,TRUE,FALSE)","v":false}]
[null,null,null,null,null,0,null,null,0,0,null,null,true,true,true,true,4,false]
[null,null,null,null,null,0,null,null,0,0,null,null,true,true,true,true,4,false]
[null,null,null,null,null,0,null,null,0,0,null,null,true,true,true,true,4,false]
[null,null,null,null,null,0,null,null,0,0,null,null,true,true,true,true,4,false]
[null,null,null,null,null,0,null,null,0,0,null,null,true,true,true,true,4,false]
[null,null,null,null,null,0,null,null,0,0,null,null,true,true,true,true,4,false]
[null,null,null,null,null,0,null,null,0,0,null,null,true,true,true,true,4,false]
[null,null,null,null,null,0,null,null,0,0,null,null,true,true,true,true,4,true]
[null,"5.2 Supply",null,null,null,{"$f":"SUM(F233:F242)","v":0},null,null,{"$f":"SUM(I233:I242)","v":0},{"$f":"SUM(J233:J242)","v":0},null,null,null,null,null,null,null,true]
[null,null,null,null,null,{"$f":"ROUND(D233*E233,2)","v":0},null,null,{"$f":"ROUND(G233*H233,2)","v":0},{"$f":"F233+I233","v":0},null,null,{"$f":"ISBLANK(B233)","v":true},{"$f":"ISBLANK(C233)","v":true},true,true,{"$f":"M233+N233+O233+P233","v":4},{"$f":"IF(Q233=0,TRUE,FALSE)","v":false}]
[null,null,null,null,null,{"$f":"ROUND(D234*E234,2)","v":0},null,null,0,{"$f":"F234+I234","v":0},null,null,{"$f":"ISBLANK(B234)","v":true},true,true,true,{"$f":"M234+N234+O234+P234","v":4},{"$f":"IF(Q234=0,TRUE,FALSE)","v":false}]
[null,null,null,null,null,0,null,null,0,0,null,null,true,true,true,true,4,false]
[null,null,null,null,null,0,null,null,0,0,null,null,true,true,true,true,4,false]
[null,null,null,null,null,0,null,null,0,0,null,null,true,true,true,true,4,false]
[null,null,null,null,null,0,null,null,0,0,null,null,true,true,true,true,4,false]
[null,null,null,null,null,0,null,null,0,0,null,null,true,true,true,true,4,false]
[null,null,null,null,null,0,null,null,0,0,null,null,true,true,true,true,4,false]
[null,null,null,null,null,0,null,null,0,0,null,null,true,true,true,true,4,false]
[null,null,null,null,null,0,null,null,0,0,null,null,true,true,true,true,4,true]
[null,"TOTAL",null,null,null,{"$f":"F232+F221","v":0},null,null,{"$f":"I232+I221","v":0},{"$f":"J232+J221","v":0},null,null,null,null,null,null,null,true]
[null,null,null,null,null,null,null,null,null,null,null,null,null,null,null,null,null,true]
[null,"BL6 - PROJECT PREPARATION","Unit","Expenditures in the eligible area",null,null,"N/A",null,null,"TOTAL",null,null,null,null,null,null,null,true]
[null,null,null,"Units","Unit rate","TOTAL","Units","Unit rate","TOTAL",null,null,null,null,null,null,null,null,true]
[null,null,null,null,null,{"$f":"ROUND(D247*E247,2)","v":0},null,null,{"$f":"ROUND(G247*H247,2)","v":0},{"$f":"F247+I247","v":0},null,null,{"$f":"ISBLANK(B247)","v":true},{"$f":"ISBLANK(C247)","v":true},true,true,{"$f":"M247+N247+O247+P247","v":4},{"$f":"IF(Q247=0,TRUE,FALSE)","v":false}]
[null,null,null,null,null,{"$f":"ROUND(D248*E248,2)","v":0},null,null,0,{"$f":"F248+I248","v":0},null,null,{"$f":"ISBLANK(B248)","v":true},true,true,true,{"$f":"M248+N248+O248+P248","v":4},{"$f":"IF(Q248=0,TRUE,FALSE)","v":false}]
[null,null,null,null,null,0,null,null,0,0,null,null,true,true,true,true,4,false]
[null,null,null,null,null,0,null,null,0,0,null,null,true,true,true,true,4,false]
[null,null,null,null,null,0,null,null,0,0,null,null,true,true,true,true,4,false]
[null,null,null,null,null,0,null,null,0,0,null,null,true,true,true,true,4,false]
[null,null,null,null,null,0,null,null,0,0,null,null,true,true,true,true,4,false]
[null,null,null,null,null,0,null,null,0,0,null,null,true,true,true,true,4,false]
[null,null,null,null,null,0,null,null,0,0,null,null,true,true,true,true,4,false]
[null,null,null,null,null,0,null,null,0,0,null,null,true,true,true,true,4,true]
[null,"TOTAL",null,null,null,{"$f":"SUM(F247:F256)","v":0},null,null,{"$f":"SUM(I247:I256)","v":0},{"$f":"SUM(J247:J256)","v":0},null,null,null,null,null,null,null,true]
[null,null,null,null,null,null,null,null,null,null,null,null,null,null,null,null,null,true]
[null,"Own Contribution",null,null,null,"Unit","Units","Unit rate","TOTAL",null,null,null,null,null,null,null,null,true]
[null,null,null,null,null,null,null,null,{"$f":"G260*H260","v":0},null,null,null,null,null,null,null,null,true]
[null,null,null,null,"Expenditures outside the eligible area exceed 20 %! Reconsider budget distribution!",null,null,null,null,null,null,null,null,null,null,null,null,true]
[null,"Total direct project costs VAT incl. (BL3+BL4+BL5)",null,null,null,{"$f":"F243+F217+F59","v":0},{"$f":"I243+I59+I217","v":0},null,null,{"$f":"J243+J217+J59","v":0},null,null,null,null,null,null,null,true]
[null,"TOTAL PROJECT COSTS",null,null,null,{"$f":"F262+F257+I6+I11+I260","v":0},{"$f":"G262+I257","v":0},null,null,{"$f":"F263+G263","v":0},null,null,null,null,null,null,null,true]

{"sheet":"T2-B(PP5)","index":13,"n_rows":263,"n_cols":18,"rows_kept":263,"cut":false,"hidden":false,"merged":[[244,9,245,9],[261,1,261,4],[261,6,261,8],[262,1,262,4],[262,6,262,8],[256,1,256,4],[256,6,256,7],[258,1,258,4],[258,8,258,9],[259,1,259,4],[259,8,259,9],[242,1,242,4],[242,6,242,7],[244,1,245,1],[244,2,245,2],[244,3,244,5],[244,6,244,8],[216,1,216,4],[216,6,216,7],[218,1,219,1],[218,2,219,2],[218,3,218,5],[218,6,218,8],[217,3,217,9],[218,9,219,9],[60,1,61,1],[60,2,61,2],[60,3,60,5],[60,6,60,8],[60,9,61,9],[9,8,9,9],[10,1,10,7],[10,8,10,9],[12,1,13,1],[12,2,13,2],[12,3,12,5],[12,6,12,8],[12,9,13,9],[9,1,9,5],[9,6,9,7],[2,1,3,5],[2,6,2,7],[2,8,3,9],[3,6,3,7],[4,1,4,5],[4,6,4,7],[4,8,4,9],[5,1,5,7],[5,8,5,9],[7,1,8,5],[7,6,7,7],[7,8,8,9],[8,6,8,7]]}
[null,"TABLE 2 - DETAILED BREAKDOWN OF BUDGET LINES - PP5",null,null,null,null,null,null,null,null,null,null,null,null,null,null,null,true]
[null,null,null,null,null,null,null,null,null,null,null,null,null,null,null,null,null,true]
[null,"BL1 - STAFF COSTS",null,null,null,null,"Flat rate",null,"TOTAL",null,null,null,null,null,null,null,null,true]
[null,null,null,null,null,null,"%",null,null,null,null,null,null,null,null,null,null,true]
[null,{"$f":"M5","v":" project"},null,null,null,null,null,null,{"$f":"G5*J262/100","v":0},null,null,"visible/hidden depending on project identification",{"$f":"CONCATENATE('Project identification'!C15,\" project\")","v":" project"},null,null,null,10,true]
[null,"TOTAL",null,null,null,null,null,null,{"$f":"I5","v":0},null,null,null,null,null,{"$f":"IF(M8=\"Soft\",15,10)","v":10},null,15,true]
[null,null,null,null,null,null,null,null,null,null,null,null,null,null,null,null,null,true]
[null,"BL2 - OFFICE AND ADMINISTRATIVE COSTS",null,null,null,null,"Flat rate",null,"TOTAL",null,null,null,{"$f":"'Project identification'!C15","v":""},null,null,null,null,true]
[null,null,null,null,null,null,"%",null,null,null,null,null,null,null,null,null,null,true]
[null,{"$f":"M5","v":" project"},null,null,null,null,null,null,{"$f":"G10*I5/100","v":0},null,null,"visible/hidden depending on project identification",null,null,null,null,2,true]
[null,"TOTAL",null,null,null,null,null,null,{"$f":"I10","v":0},null,null,null,null,null,{"$f":"IF(M8=\"Soft\",15,15)","v":15},null,5,true]
[null,null,null,null,null,null,null,null,null,null,null,null,null,null,null,null,null,true]
[null,"BL3 - TRAVEL AND ACCOMMODATION","Unit","Expenditures in the eligible area",null,null,"Expenditures outside of the eligible area",null,null,"TOTAL",null,null,null,null,null,null,null,true]
[null,null,null,"Units","Unit rate","TOTAL","Units","Unit rate","TOTAL",null,null,null,null,null,null,null,null,true]
[null,"3.1 Travel costs",null,null,null,{"$f":"SUM(F16:F25)","v":0},null,null,{"$f":"SUM(I16:I25)","v":0},{"$f":"SUM(J16:J25)","v":0},null,"Add",null,null,null,null,null,true]
[null,null,null,null,null,{"$f":"ROUND(D16*E16,2)","v":0},null,null,{"$f":"ROUND(G16*H16,2)","v":0},{"$f":"F16+I16","v":0},null,null,{"$f":"ISBLANK(B16)","v":true},{"$f":"ISBLANK(C16)","v":true},true,true,{"$f":"M16+N16+O16+P16","v":4},{"$f":"IF(Q16=0,TRUE,FALSE)","v":false}]
[null,null,null,null,null,{"$f":"ROUND(D17*E17,2)","v":0},null,null,0,{"$f":"F17+I17","v":0},null,null,{"$f":"ISBLANK(B17)","v":true},true,true,true,{"$f":"M17+N17+O17+P17","v":4},{"$f":"IF(Q17=0,TRUE,FALSE)","v":false}]
[null,null,null,null,null,0,null,null,0,0,null,null,true,true,true,true,4,false]
[null,null,null,null,null,0,null,null,0,0,null,null,true,true,true,true,4,false]
[null,null,null,null,null,0,null,null,0,0,null,null,true,true,true,true,4,false]
[null,null,null,null,null,0,null,null,0,0,null,null,true,true,true,true,4,false]
[null,null,null,null,null,0,null,null,0,0,null,null,true,true,true,true,4,false]
[null,null,null,null,null,0,null,null,0,0,null,null,true,true,true,true,4,false]
[null,null,null,null,null,0,null,null,0,0,null,null,true,true,true,true,4,false]
[null,null,null,null,null,0,null,null,0,0,null,null,true,true,true,true,4,true]
[null,"3.2 Daily allowances",null,null,null,{"$f":"SUM(F27:F36)","v":0},null,null,{"$f":"SUM(I27:I36)","v":0},{"$f":"SUM(J27:J36)","v":0},null,"add (10 items)",null,null,null,null,null,true]
[null,null,null,null,null,{"$f":"ROUND(D27*E27,2)","v":0},null,null,{"$f":"ROUND(G27*H27,2)","v":0},{"$f":"F27+I27","v":0},null,null,{"$f":"ISBLANK(B27)","v":true},{"$f":"ISBLANK(C27)","v":true},true,true,{"$f":"M27+N27+O27+P27","v":4},{"$f":"IF(Q27=0,TRUE,FALSE)","v":false}]
[null,null,null,null,null,{"$f":"ROUND(D28*E28,2)","v":0},null,null,0,{"$f":"F28+I28","v":0},null,null,{"$f":"ISBLANK(B28)","v":true},true,true,true,{"$f":"M28+N28+O28+P28","v":4},{"$f":"IF(Q28=0,TRUE,FALSE)","v":false}]
[null,null,null,null,null,0,null,null,0,0,null,null,true,true,true,true,4,false]
[null,null,null,null,null,0,null,null,0,0,null,null,true,true,true,true,4,false]
[null,null,null,null,null,0,null,null,0,0,null,null,true,true,true,true,4,false]
[null,null,null,null,null,0,null,null,0,0,null,null,true,true,true,true,4,false]
[null,null,null,null,null,0,null,null,0,0,null,null,true,true,true,true,4,false]
[null,null,null,null,null,0,null,null,0,0,null,null,true,true,true,true,4,false]
[null,null,null,null,null,0,null,null,0,0,null,null,true,true,true,true,4,false]
[null,null,null,null,null,0,null,null,0,0,null,null,true,true,true,true,4,true]
[null,"3.3 Accommodation costs",null,null,null,{"$f":"SUM(F38:F47)","v":0},null,null,{"$f":"SUM(I38:I47)","v":0},{"$f":"SUM(J38:J47)","v":0},null,null,null,null,null,null,null,true]
[null,null,null,null,null,{"$f":"ROUND(D38*E38,2)","v":0},null,null,{"$f":"ROUND(G38*H38,2)","v":0},{"$f":"F38+I38","v":0},null,null,{"$f":"ISBLANK(B38)","v":true},{"$f":"ISBLANK(C38)","v":true},true,true,{"$f":"M38+N38+O38+P38","v":4},{"$f":"IF(Q38=0,TRUE,FALSE)","v":false}]
[null,null,null,null,null,{"$f":"ROUND(D39*E39,2)","v":0},null,null,0,{"$f":"F39+I39","v":0},null,null,{"$f":"ISBLANK(B39)","v":true},true,true,true,{"$f":"M39+N39+O39+P39","v":4},{"$f":"IF(Q39=0,TRUE,FALSE)","v":false}]
[null,null,null,null,null,0,null,null,0,0,null,null,true,true,true,true,4,false]
[null,null,null,null,null,0,null,null,0,0,null,null,true,true,true,true,4,false]
[null,null,null,null,null,0,null,null,0,0,null,null,true,true,true,true,4,false]
[null,null,null,null,null,0,null,null,0,0,null,null,true,true,true,true,4,false]
[null,null,null,null,null,0,null,null,0,0,null,null,true,true,true,true,4,false]
[null,null,null,null,null,0,null,null,0,0,null,null,true,true,true,true,4,false]
[null,null,null,null,null,0,null,null,0,0,null,null,true,true,true,true,4,false]
[null,null,null,null,null,0,null,null,0,0,null,null,true,true,true,true,4,true]
[null,"3.4 Visa costs",null,null,null,{"$f":"SUM(F49:F58)","v":0},null,null,{"$f":"SUM(I49:I58)","v":0},{"$f":"SUM(J49:J58)","v":0},null,null,null,null,null,null,null,true]
[null,null,null,null,null,{"$f":"ROUND(D49*E49,2)","v":0},null,null,{"$f":"ROUND(G49*H49,2)","v":0},{"$f":"F49+I49","v":0},null,null,{"$f":"ISBLANK(B49)","v":true},{"$f":"ISBLANK(C49)","v":true},true,true,{"$f":"M49+N49+O49+P49","v":4},{"$f":"IF(Q49=0,TRUE,FALSE)","v":false}]
[null,null,null,null,null,{"$f":"ROUND(D50*E50,2)","v":0},null,null,0,{"$f":"F50+I50","v":0},null,null,{"$f":"ISBLANK(B50)","v":true},true,true,true,{"$f":"M50+N50+O50+P50","v":4},{"$f":"IF(Q50=0,TRUE,FALSE)","v":false}]
[null,null,null,null,null,0,null,null,0,0,null,null,true,true,true,true,4,false]
[null,null,null,null,null,0,null,null,0,0,null,null,true,true,true,true,4,false]
[null,null,null,null,null,0,null,null,0,0,null,null,true,true,true,true,4,false]
[null,null,null,null,null,0,null,null,0,0,null,null,true,true,true,true,4,false]
[null,null,null,null,null,0,null,null,0,0,null,null,true,true,true,true,4,false]
[null,null,null,null,null,0,null,null,0,0,null,null,true,true,true,true,4,false]
[null,null,null,null,null,0,null,null,0,0,null,null,true,true,true,true,4,false]
[null,null,null,null,null,0,null,null,0,0,null,null,true,true,true,true,4,true]
[null,"TOTAL",null,null,null,{"$f":"F48+F37+F26+F15","v":0},null,null,{"$f":"I48+I37+I26+I15","v":0},{"$f":"J48+J37+J26+J15","v":0},null,null,null,null,null,null,null,true]
[null,null,null,null,null,null,null,null,null,null,null,null,null,null,null,null,null,true]
[null,"BL4 - EXTERNAL EXPERTISE AND SERVICES COSTS","Unit","Expenditures in the eligible area",null,null,"Expenditures outside of the eligible area",null,null,"TOTAL",null,null,null,null,null,null,null,true]
[null,null,null,"Units","Unit rate","TOTAL","Units","Unit rate","TOTAL",null,null,null,null,null,null,null,null,true]
[null,"4.1 Rent of hall",null,null,null,{"$f":"SUM(F64:F73)","v":0},null,null,{"$f":"SUM(I64:I73)","v":0},{"$f":"SUM(J64:J73)","v":0},null,null,null,null,null,null,null,true]
[null,null,null,null,null,{"$f":"ROUND(D64*E64,2)","v":0},null,null,{"$f":"ROUND(G64*H64,2)","v":0},{"$f":"F64+I64","v":0},null,null,{"$f":"ISBLANK(B64)","v":true},{"$f":"ISBLANK(C64)","v":true},true,true,{"$f":"M64+N64+O64+P64","v":4},{"$f":"IF(Q64=0,TRUE,FALSE)","v":false}]
[null,null,null,null,null,{"$f":"ROUND(D65*E65,2)","v":0},null,null,0,{"$f":"F65+I65","v":0},null,null,{"$f":"ISBLANK(B65)","v":true},true,true,true,{"$f":"M65+N65+O65+P65","v":4},{"$f":"IF(Q65=0,TRUE,FALSE)","v":false}]
[null,null,null,null,null,0,null,null,0,0,null,null,true,true,true,true,4,false]
[null,null,null,null,null,0,null,null,0,0,null,null,true,true,true,true,4,false]
[null,null,null,null,null,0,null,null,0,0,null,null,true,true,true,true,4,false]
[null,null,null,null,null,0,null,null,0,0,null,null,true,true,true,true,4,false]
[null,null,null,null,null,0,null,null,0,0,null,null,true,true,true,true,4,false]
[null,null,null,null,null,0,null,null,0,0,null,null,true,true,true,true,4,false]
[null,null,null,null,null,0,null,null,0,0,null,null,true,true,true,true,4,false]
[null,null,null,null,null,0,null,null,0,0,null,null,true,true,true,true,4,true]
[null,"4.2 Rent of equipment",null,null,null,{"$f":"SUM(F75:F84)","v":0},null,null,{"$f":"SUM(I75:I84)","v":0},{"$f":"SUM(J75:J84)","v":0},null,null,null,null,null,null,null,true]
[null,null,null,null,null,{"$f":"ROUND(D75*E75,2)","v":0},null,null,{"$f":"ROUND(G75*H75,2)","v":0},{"$f":"F75+I75","v":0},null,null,{"$f":"ISBLANK(B75)","v":true},{"$f":"ISBLANK(C75)","v":true},true,true,{"$f":"M75+N75+O75+P75","v":4},{"$f":"IF(Q75=0,TRUE,FALSE)","v":false}]
[null,null,null,null,null,{"$f":"ROUND(D76*E76,2)","v":0},null,null,0,{"$f":"F76+I76","v":0},null,null,{"$f":"ISBLANK(B76)","v":true},true,true,true,{"$f":"M76+N76+O76+P76","v":4},{"$f":"IF(Q76=0,TRUE,FALSE)","v":false}]
[null,null,null,null,null,0,null,null,0,0,null,null,true,true,true,true,4,false]
[null,null,null,null,null,0,null,null,0,0,null,null,true,true,true,true,4,false]
[null,null,null,null,null,0,null,null,0,0,null,null,true,true,true,true,4,false]
[null,null,null,null,null,0,null,null,0,0,null,null,true,true,true,true,4,false]
[null,null,null,null,null,0,null,null,0,0,null,null,true,true,true,true,4,false]
[null,null,null,null,null,0,null,null,0,0,null,null,true,true,true,true,4,false]
[null,null,null,null,null,0,null,null,0,0,null,null,true,true,true,true,4,false]
[null,null,null,null,null,0,null,null,0,0,null,null,true,true,true,true,4,true]
[null,"4.3 Coffee breaks …..",null,null,null,{"$f":"SUM(F86:F95)","v":0},null,null,{"$f":"SUM(I86:I95)","v":0},{"$f":"SUM(J86:J95)","v":0},null,null,null,null,null,null,null,true]
[null,null,null,null,null,{"$f":"ROUND(D86*E86,2)","v":0},null,null,{"$f":"ROUND(G86*H86,2)","v":0},{"$f":"F86+I86","v":0},null,null,{"$f":"ISBLANK(B86)","v":true},{"$f":"ISBLANK(C86)","v":true},true,true,{"$f":"M86+N86+O86+P86","v":4},{"$f":"IF(Q86=0,TRUE,FALSE)","v":false}]
[null,null,null,null,null,{"$f":"ROUND(D87*E87,2)","v":0},null,null,0,{"$f":"F87+I87","v":0},null,null,{"$f":"ISBLANK(B87)","v":true},true,true,true,{"$f":"M87+N87+O87+P87","v":4},{"$f":"IF(Q87=0,TRUE,FALSE)","v":false}]
[null,null,null,null,null,0,null,null,0,0,null,null,true,true,true,true,4,false]
[null,null,null,null,null,0,null,null,0,0,null,null,true,true,true,true,4,false]
[null,null,null,null,null,0,null,null,0,0,null,null,true,true,true,true,4,false]
[null,null,null,null,null,0,null,null,0,0,null,null,true,true,true,true,4,false]
[null,null,null,null,null,0,null,null,0,0,null,null,true,true,true,true,4,false]
[null,null,null,null,null,0,null,null,0,0,null,null,true,true,true,true,4,false]
[null,null,null,null,null,0,null,null,0,0,null,null,true,true,true,true,4,false]
[null,null,null,null,null,0,null,null,0,0,null,null,true,true,true,true,4,true]
[null,"4.4 Preparation of materials",null,null,null,{"$f":"SUM(F97:F106)","v":0},null,null,{"$f":"SUM(I97:I106)","v":0},{"$f":"SUM(J97:J106)","v":0},null,null,null,null,null,null,null,true]
[null,null,null,null,null,{"$f":"ROUND(D97*E97,2)","v":0},null,null,{"$f":"ROUND(G97*H97,2)","v":0},{"$f":"F97+I97","v":0},null,null,{"$f":"ISBLANK(B97)","v":true},{"$f":"ISBLANK(C97)","v":true},true,true,{"$f":"M97+N97+O97+P97","v":4},{"$f":"IF(Q97=0,TRUE,FALSE)","v":false}]
[null,null,null,null,null,{"$f":"ROUND(D98*E98,2)","v":0},null,null,0,{"$f":"F98+I98","v":0},null,null,{"$f":"ISBLANK(B98)","v":true},true,true,true,{"$f":"M98+N98+O98+P98","v":4},{"$f":"IF(Q98=0,TRUE,FALSE)","v":false}]
[null,null,null,null,null,0,null,null,0,0,null,null,true,true,true,true,4,false]
[null,null,null,null,null,0,null,null,0,0,null,null,true,true,true,true,4,false]
[null,null,null,null,null,0,null,null,0,0,null,null,true,true,true,true,4,false]
[null,null,null,null,null,0,null,null,0,0,null,null,true,true,true,true,4,false]
[null,null,null,null,null,0,null,null,0,0,null,null,true,true,true,true,4,false]
[null,null,null,null,null,0,null,null,0,0,null,null,true,true,true,true,4,false]
[null,null,null,null,null,0,null,null,0,0,null,null,true,true,true,true,4,false]
[null,null,null,null,null,0,null,null,0,0,null,null,true,true,true,true,4,true]
[null,"4.5 Consumables",null,null,null,{"$f":"SUM(F108:F117)","v":0},null,null,{"$f":"SUM(I108:I117)","v":0},{"$f":"SUM(J108:J117)","v":0},null,null,null,null,null,null,null,true]
[null,null,null,null,null,{"$f":"ROUND(D108*E108,2)","v":0},null,null,{"$f":"ROUND(G108*H108,2)","v":0},{"$f":"F108+I108","v":0},null,null,{"$f":"ISBLANK(B108)","v":true},{"$f":"ISBLANK(C108)","v":true},true,true,{"$f":"M108+N108+O108+P108","v":4},{"$f":"IF(Q108=0,TRUE,FALSE)","v":false}]
[null,null,null,null,null,{"$f":"ROUND(D109*E109,2)","v":0},null,null,0,{"$f":"F109+I109","v":0},null,null,{"$f":"ISBLANK(B109)","v":true},true,true,true,{"$f":"M109+N109+O109+P109","v":4},{"$f":"IF(Q109=0,TRUE,FALSE)","v":false}]
[null,null,null,null,null,0,null,null,0,0,null,null,true,true,true,true,4,false]
[null,null,null,null,null,0,null,null,0,0,null,null,true,true,true,true,4,false]
[null,null,null,null,null,0,null,null,0,0,null,null,true,true,true,true,4,false]
[null,null,null,null,null,0,null,null,0,0,null,null,true,true,true,true,4,false]
[null,null,null,null,null,0,null,null,0,0,null,null,true,true,true,true,4,false]
[null,null,null,null,null,0,null,null,0,0,null,null,true,true,true,true,4,false]
[null,null,null,null,null,0,null,null,0,0,null,null,true,true,true,true,4,false]
[null,null,null,null,null,0,null,null,0,0,null,null,true,true,true,true,4,true]
[null,"4.6 Rent of vehicle for event",null,null,null,{"$f":"SUM(F119:F128)","v":0},null,null,{"$f":"SUM(I119:I128)","v":0},{"$f":"SUM(J119:J128)","v":0},null,null,null,null,null,null,null,true]
[null,null,null,null,null,{"$f":"ROUND(D119*E119,2)","v":0},null,null,{"$f":"ROUND(G119*H119,2)","v":0},{"$f":"F119+I119","v":0},null,null,{"$f":"ISBLANK(B119)","v":true},{"$f":"ISBLANK(C119)","v":true},true,true,{"$f":"M119+N119+O119+P119","v":4},{"$f":"IF(Q119=0,TRUE,FALSE)","v":false}]
[null,null,null,null,null,{"$f":"ROUND(D120*E120,2)","v":0},null,null,0,{"$f":"F120+I120","v":0},null,null,{"$f":"ISBLANK(B120)","v":true},true,true,true,{"$f":"M120+N120+O120+P120","v":4},{"$f":"IF(Q120=0,TRUE,FALSE)","v":false}]
[null,null,null,null,null,0,null,null,0,0,null,null,true,true,true,true,4,false]
[null,null,null,null,null,0,null,null,0,0,null,null,true,true,true,true,4,false]
[null,null,null,null,null,0,null,null,0,0,null,null,true,true,true,true,4,false]
[null,null,null,null,null,0,null,null,0,0,null,null,true,true,true,true,4,false]
[null,null,null,null,null,0,null,null,0,0,null,null,true,true,true,true,4,false]
[null,null,null,null,null,0,null,null,0,0,null,null,true,true,true,true,4,false]
[null,null,null,null,null,0,null,null,0,0,null,null,true,true,true,true,4,false]
[null,null,null,null,null,0,null,null,0,0,null,null,true,true,true,true,4,true]
[null,"4.7 Accommodations for participants in the events ",null,null,null,{"$f":"SUM(F130:F139)","v":0},null,null,{"$f":"SUM(I130:I139)","v":0},{"$f":"SUM(J130:J139)","v":0},null,null,null,null,null,null,null,true]
[null,null,null,null,null,{"$f":"ROUND(D130*E130,2)","v":0},null,null,{"$f":"ROUND(G130*H130,2)","v":0},{"$f":"F130+I130","v":0},null,null,{"$f":"ISBLANK(B130)","v":true},{"$f":"ISBLANK(C130)","v":true},true,true,{"$f":"M130+N130+O130+P130","v":4},{"$f":"IF(Q130=0,TRUE,FALSE)","v":false}]
[null,null,null,null,null,{"$f":"ROUND(D131*E131,2)","v":0},null,null,0,{"$f":"F131+I131","v":0},null,null,{"$f":"ISBLANK(B131)","v":true},true,true,true,{"$f":"M131+N131+O131+P131","v":4},{"$f":"IF(Q131=0,TRUE,FALSE)","v":false}]
[null,null,null,null,null,0,null,null,0,0,null,null,true,true,true,true,4,false]
[null,null,null,null,null,0,null,null,0,0,null,null,true,true,true,true,4,false]
[null,null,null,null,null,0,null,null,0,0,null,null,true,true,true,true,4,false]
[null,null,null,null,null,0,null,null,0,0,null,null,true,true,true,true,4,false]
[null,null,null,null,null,0,null,null,0,0,null,null,true,true,true,true,4,false]
[null,null,null,null,null,0,null,null,0,0,null,null,true,true,true,true,4,false]
[null,null,null,null,null,0,null,null,0,0,null,null,true,true,true,true,4,false]
[null,null,null,null,null,0,null,null,0,0,null,null,true,true,true,true,4,true]
[null,"4.8 Purchase of advertising materials",null,null,null,{"$f":"SUM(F141:F150)","v":0},null,null,{"$f":"SUM(I141:I150)","v":0},{"$f":"SUM(J141:J150)","v":0},null,null,null,null,null,null,null,true]
[null,null,null,null,null,{"$f":"ROUND(D141*E141,2)","v":0},null,null,{"$f":"ROUND(G141*H141,2)","v":0},{"$f":"F141+I141","v":0},null,null,{"$f":"ISBLANK(B141)","v":true},{"$f":"ISBLANK(C141)","v":true},true,true,{"$f":"M141+N141+O141+P141","v":4},{"$f":"IF(Q141=0,TRUE,FALSE)","v":false}]
[null,null,null,null,null,{"$f":"ROUND(D142*E142,2)","v":0},null,null,0,{"$f":"F142+I142","v":0},null,null,{"$f":"ISBLANK(B142)","v":true},true,true,true,{"$f":"M142+N142+O142+P142","v":4},{"$f":"IF(Q142=0,TRUE,FALSE)","v":false}]
[null,null,null,null,null,0,null,null,0,0,null,null,true,true,true,true,4,false]
[null,null,null,null,null,0,null,null,0,0,null,null,true,true,true,true,4,false]
[null,null,null,null,null,0,null,null,0,0,null,null,true,true,true,true,4,false]
[null,null,null,null,null,0,null,null,0,0,null,null,true,true,true,true,4,false]
[null,null,null,null,null,0,null,null,0,0,null,null,true,true,true,true,4,false]
[null,null,null,null,null,0,null,null,0,0,null,null,true,true,true,true,4,false]
[null,null,null,null,null,0,null,null,0,0,null,null,true,true,true,true,4,false]
[null,null,null,null,null,0,null,null,0,0,null,null,true,true,true,true,4,true]
[null,"4.9 Elaboration, design etc.",null,null,null,{"$f":"SUM(F152:F161)","v":0},null,null,{"$f":"SUM(I152:I161)","v":0},{"$f":"SUM(J152:J161)","v":0},null,null,null,null,null,null,null,true]
[null,null,null,null,null,{"$f":"ROUND(D152*E152,2)","v":0},null,null,{"$f":"ROUND(G152*H152,2)","v":0},{"$f":"F152+I152","v":0},null,null,{"$f":"ISBLANK(B152)","v":true},{"$f":"ISBLANK(C152)","v":true},true,true,{"$f":"M152+N152+O152+P152","v":4},{"$f":"IF(Q152=0,TRUE,FALSE)","v":false}]
[null,null,null,null,null,{"$f":"ROUND(D153*E153,2)","v":0},null,null,0,{"$f":"F153+I153","v":0},null,null,{"$f":"ISBLANK(B153)","v":true},true,true,true,{"$f":"M153+N153+O153+P153","v":4},{"$f":"IF(Q153=0,TRUE,FALSE)","v":false}]
[null,null,null,null,null,0,null,null,0,0,null,null,true,true,true,true,4,false]
[null,null,null,null,null,0,null,null,0,0,null,null,true,true,true,true,4,false]
[null,null,null,null,null,0,null,null,0,0,null,null,true,true,true,true,4,false]
[null,null,null,null,null,0,null,null,0,0,null,null,true,true,true,true,4,false]
[null,null,null,null,null,0,null,null,0,0,null,null,true,true,true,true,4,false]
[null,null,null,null,null,0,null,null,0,0,null,null,true,true,true,true,4,false]
[null,null,null,null,null,0,null,null,0,0,null,null,true,true,true,true,4,false]
[null,null,null,null,null,0,null,null,0,0,null,null,true,true,true,true,4,true]
[null,"4.10 Publications in mass-media",null,null,null,{"$f":"SUM(F163:F172)","v":0},null,null,{"$f":"SUM(I163:I172)","v":0},{"$f":"SUM(J163:J172)","v":0},null,null,null,null,null,null,null,true]
[null,null,null,null,null,{"$f":"ROUND(D163*E163,2)","v":0},null,null,{"$f":"ROUND(G163*H163,2)","v":0},{"$f":"F163+I163","v":0},null,null,{"$f":"ISBLANK(B163)","v":true},{"$f":"ISBLANK(C163)","v":true},true,true,{"$f":"M163+N163+O163+P163","v":4},{"$f":"IF(Q163=0,TRUE,FALSE)","v":false}]
[null,null,null,null,null,{"$f":"ROUND(D164*E164,2)","v":0},null,null,0,{"$f":"F164+I164","v":0},null,null,{"$f":"ISBLANK(B164)","v":true},true,true,true,{"$f":"M164+N164+O164+P164","v":4},{"$f":"IF(Q164=0,TRUE,FALSE)","v":false}]
[null,null,null,null,null,0,null,null,0,0,null,null,true,true,true,true,4,false]
[null,null,null,null,null,0,null,null,0,0,null,null,true,true,true,true,4,false]
[null,null,null,null,null,0,null,null,0,0,null,null,true,true,true,true,4,false]
[null,null,null,null,null,0,null,null,0,0,null,null,true,true,true,true,4,false]
[null,null,null,null,null,0,null,null,0,0,null,null,true,true,true,true,4,false]
[null,null,null,null,null,0,null,null,0,0,null,null,true,true,true,true,4,false]
[null,null,null,null,null,0,null,null,0,0,null,null,true,true,true,true,4,false]
[null,null,null,null,null,0,null,null,0,0,null,null,true,true,true,true,4,true]
[null,"4.11 Consultancy, studies,designs etc.",null,null,null,{"$f":"SUM(F174:F183)","v":0},null,null,{"$f":"SUM(I174:I183)","v":0},{"$f":"SUM(J174:J183)","v":0},null,null,null,null,null,null,null,true]
[null,null,null,null,null,{"$f":"ROUND(D174*E174,2)","v":0},null,null,{"$f":"ROUND(G174*H174,2)","v":0},{"$f":"F174+I174","v":0},null,null,{"$f":"ISBLANK(B174)","v":true},{"$f":"ISBLANK(C174)","v":true},true,true,{"$f":"M174+N174+O174+P174","v":4},{"$f":"IF(Q174=0,TRUE,FALSE)","v":false}]
[null,null,null,null,null,{"$f":"ROUND(D175*E175,2)","v":0},null,null,0,{"$f":"F175+I175","v":0},null,null,{"$f":"ISBLANK(B175)","v":true},true,true,true,{"$f":"M175+N175+O175+P175","v":4},{"$f":"IF(Q175=0,TRUE,FALSE)","v":false}]
[null,null,null,null,null,0,null,null,0,0,null,null,true,true,true,true,4,false]
[null,null,null,null,null,0,null,null,0,0,null,null,true,true,true,true,4,false]
[null,null,null,null,null,0,null,null,0,0,null,null,true,true,true,true,4,false]
[null,null,null,null,null,0,null,null,0,0,null,null,true,true,true,true,4,false]
[null,null,null,null,null,0,null,null,0,0,null,null,true,true,true,true,4,false]
[null,null,null,null,null,0,null,null,0,0,null,null,true,true,true,true,4,false]
[null,null,null,null,null,0,null,null,0,0,null,null,true,true,true,true,4,false]
[null,null,null,null,null,0,null,null,0,0,null,null,true,true,true,true,4,true]
[null,"4.12 Authorizations, certificates",null,null,null,{"$f":"SUM(F185:F194)","v":0},null,null,{"$f":"SUM(I185:I194)","v":0},{"$f":"SUM(J185:J194)","v":0},null,null,null,null,null,null,null,true]
[null,null,null,null,null,{"$f":"ROUND(D185*E185,2)","v":0},null,null,{"$f":"ROUND(G185*H185,2)","v":0},{"$f":"F185+I185","v":0},null,null,{"$f":"ISBLANK(B185)","v":true},{"$f":"ISBLANK(C185)","v":true},true,true,{"$f":"M185+N185+O185+P185","v":4},{"$f":"IF(Q185=0,TRUE,FALSE)","v":false}]
[null,null,null,null,null,{"$f":"ROUND(D186*E186,2)","v":0},null,null,0,{"$f":"F186+I186","v":0},null,null,{"$f":"ISBLANK(B186)","v":true},true,true,true,{"$f":"M186+N186+O186+P186","v":4},{"$f":"IF(Q186=0,TRUE,FALSE)","v":false}]
[null,null,null,null,null,0,null,null,0,0,null,null,true,true,true,true,4,false]
[null,null,null,null,null,0,null,null,0,0,null,null,true,true,true,true,4,false]
[null,null,null,null,null,0,null,null,0,0,null,null,true,true,true,true,4,false]
[null,null,null,null,null,0,null,null,0,0,null,null,true,true,true,true,4,false]
[null,null,null,null,null,0,null,null,0,0,null,null,true,true,true,true,4,false]
[null,null,null,null,null,0,null,null,0,0,null,null,true,true,true,true,4,false]
[null,null,null,null,null,0,null,null,0,0,null,null,true,true,true,true,4,false]
[null,null,null,null,null,0,null,null,0,0,null,null,true,true,true,true,4,true]
[null,"4.13 Interpreters, lecturers, trainers",null,null,null,{"$f":"SUM(F196:F205)","v":0},null,null,{"$f":"SUM(I196:I205)","v":0},{"$f":"SUM(J196:J205)","v":0},null,null,null,null,null,null,null,true]
[null,null,null,null,null,{"$f":"ROUND(D196*E196,2)","v":0},null,null,{"$f":"ROUND(G196*H196,2)","v":0},{"$f":"F196+I196","v":0},null,null,{"$f":"ISBLANK(B196)","v":true},{"$f":"ISBLANK(C196)","v":true},true,true,{"$f":"M196+N196+O196+P196","v":4},{"$f":"IF(Q196=0,TRUE,FALSE)","v":false}]
[null,null,null,null,null,{"$f":"ROUND(D197*E197,2)","v":0},null,null,0,{"$f":"F197+I197","v":0},null,null,{"$f":"ISBLANK(B197)","v":true},true,true,true,{"$f":"M197+N197+O197+P197","v":4},{"$f":"IF(Q197=0,TRUE,FALSE)","v":false}]
[null,null,null,null,null,0,null,null,0,0,null,null,true,true,true,true,4,false]
[null,null,null,null,null,0,null,null,0,0,null,null,true,true,true,true,4,false]
[null,null,null,null,null,0,null,null,0,0,null,null,true,true,true,true,4,false]
[null,null,null,null,null,0,null,null,0,0,null,null,true,true,true,true,4,false]
[null,null,null,null,null,0,null,null,0,0,null,null,true,true,true,true,4,false]
[null,null,null,null,null,0,null,null,0,0,null,null,true,true,true,true,4,false]
[null,null,null,null,null,0,null,null,0,0,null,null,true,true,true,true,4,false]
[null,null,null,null,null,0,null,null,0,0,null,null,true,true,true,true,4,true]
[null,"4.14 Others",null,null,null,{"$f":"SUM(F207:F216)","v":0},null,null,{"$f":"SUM(I207:I216)","v":0},{"$f":"SUM(J207:J216)","v":0},null,null,null,null,null,null,null,true]
[null,null,null,null,null,{"$f":"ROUND(D207*E207,2)","v":0},null,null,{"$f":"ROUND(G207*H207,2)","v":0},{"$f":"F207+I207","v":0},null,null,{"$f":"ISBLANK(B207)","v":true},{"$f":"ISBLANK(C207)","v":true},true,true,{"$f":"M207+N207+O207+P207","v":4},{"$f":"IF(Q207=0,TRUE,FALSE)","v":false}]
[null,null,null,null,null,{"$f":"ROUND(D208*E208,2)","v":0},null,null,0,{"$f":"F208+I208","v":0},null,null,{"$f":"ISBLANK(B208)","v":true},true,true,true,{"$f":"M208+N208+O208+P208","v":4},{"$f":"IF(Q208=0,TRUE,FALSE)","v":false}]
[null,null,null,null,null,0,null,null,0,0,null,null,true,true,true,true,4,false]
[null,null,null,null,null,0,null,null,0,0,null,null,true,true,true,true,4,false]
[null,null,null,null,null,0,null,null,0,0,null,null,true,true,true,true,4,false]
[null,null,null,null,null,0,null,null,0,0,null,null,true,true,true,true,4,false]
[null,null,null,null,null,0,null,null,0,0,null,null,true,true,true,true,4,false]
[null,null,null,null,null,0,null,null,0,0,null,null,true,true,true,true,4,false]
[null,null,null,null,null,0,null,null,0,0,null,null,true,true,true,true,4,false]
[null,null,null,null,null,0,null,null,0,0,null,null,true,true,true,true,4,true]
[null,"TOTAL",null,null,null,{"$f":"F206+F195+F184+F173+F162+F151+F140+F129+F118+F107+F96+F85+F74+F63","v":0},null,null,{"$f":"I206+I195+I184+I173+I162+I151+I140+I129+I118+I107+I96+I85+I74+I63","v":0},{"$f":"J206+J195+J184+J173+J162+J151+J140+J129+J118+J107+J96+J85+J74+J63","v":0},null,null,null,null,null,null,null,true]
[null,null,null,"Small scale constructions are not allowed for Soft project!!!!",null,null,null,null,null,null,null,null,{"$f":"O222+P222+N218","v":2},{"$f":"M8=\"Soft\"","v":false},null,null,null,true]
[null,"BL5 - EQUIPMENT AND WORKS","Unit","Expenditures in the eligible area",null,null,"N/A",null,null,"TOTAL",null,null,null,null,null,null,null,true]
[null,null,null,"Units","Unit rate","TOTAL","Units","Unit rate","TOTAL",null,null,null,null,null,null,null,null,true]
[null,"5.1 Small scale construction",null,null,null,{"$f":"SUM(F222:F231)","v":0},null,null,{"$f":"SUM(I222:I231)","v":0},{"$f":"SUM(J222:J231)","v":0},null,null,null,null,null,null,null,true]
[null,null,null,null,null,{"$f":"ROUND(D222*E222,2)","v":0},null,null,{"$f":"ROUND(G222*H222,2)","v":0},{"$f":"F222+I222","v":0},null,null,{"$f":"ISBLANK(B222)","v":true},{"$f":"ISBLANK(C222)","v":true},true,true,{"$f":"M222+N222+O222+P222","v":4},{"$f":"IF(Q222=0,TRUE,FALSE)","v":false}]
[null,null,null,null,null,{"$f":"ROUND(D223*E223,2)","v":0},null,null,0,{"$f":"F223+I223","v":0},null,null,{"$f":"ISBLANK(B223)","v":true},true,true,true,{"$f":"M223+N223+O223+P223","v":4},{"$f":"IF(Q223=0,TRUE,FALSE)","v":false}]
[null,null,null,null,null,0,null,null,0,0,null,null,true,true,true,true,4,false]
[null,null,null,null,null,0,null,null,0,0,null,null,true,true,true,true,4,false]
[null,null,null,null,null,0,null,null,0,0,null,null,true,true,true,true,4,false]
[null,null,null,null,null,0,null,null,0,0,null,null,true,true,true,true,4,false]
[null,null,null,null,null,0,null,null,0,0,null,null,true,true,true,true,4,false]
[null,null,null,null,null,0,null,null,0,0,null,null,true,true,true,true,4,false]
[null,null,null,null,null,0,null,null,0,0,null,null,true,true,true,true,4,false]
[null,null,null,null,null,0,null,null,0,0,null,null,true,true,true,true,4,true]
[null,"5.2 Supply",null,null,null,{"$f":"SUM(F233:F242)","v":0},null,null,{"$f":"SUM(I233:I242)","v":0},{"$f":"SUM(J233:J242)","v":0},null,null,null,null,null,null,null,true]
[null,null,null,null,null,{"$f":"ROUND(D233*E233,2)","v":0},null,null,{"$f":"ROUND(G233*H233,2)","v":0},{"$f":"F233+I233","v":0},null,null,{"$f":"ISBLANK(B233)","v":true},{"$f":"ISBLANK(C233)","v":true},true,true,{"$f":"M233+N233+O233+P233","v":4},{"$f":"IF(Q233=0,TRUE,FALSE)","v":false}]
[null,null,null,null,null,{"$f":"ROUND(D234*E234,2)","v":0},null,null,0,{"$f":"F234+I234","v":0},null,null,{"$f":"ISBLANK(B234)","v":true},true,true,true,{"$f":"M234+N234+O234+P234","v":4},{"$f":"IF(Q234=0,TRUE,FALSE)","v":false}]
[null,null,null,null,null,0,null,null,0,0,null,null,true,true,true,true,4,false]
[null,null,null,null,null,0,null,null,0,0,null,null,true,true,true,true,4,false]
[null,null,null,null,null,0,null,null,0,0,null,null,true,true,true,true,4,false]
[null,null,null,null,null,0,null,null,0,0,null,null,true,true,true,true,4,false]
[null,null,null,null,null,0,null,null,0,0,null,null,true,true,true,true,4,false]
[null,null,null,null,null,0,null,null,0,0,null,null,true,true,true,true,4,false]
[null,null,null,null,null,0,null,null,0,0,null,null,true,true,true,true,4,false]
[null,null,null,null,null,0,null,null,0,0,null,null,true,true,true,true,4,true]
[null,"TOTAL",null,null,null,{"$f":"F232+F221","v":0},null,null,{"$f":"I232+I221","v":0},{"$f":"J232+J221","v":0},null,null,null,null,null,null,null,true]
[null,null,null,null,null,null,null,null,null,null,null,null,null,null,null,null,null,true]
[null,"BL6 - PROJECT PREPARATION","Unit","Expenditures in the eligible area",null,null,"N/A",null,null,"TOTAL",null,null,null,null,null,null,null,true]
[null,null,null,"Units","Unit rate","TOTAL","Units","Unit rate","TOTAL",null,null,null,null,null,null,null,null,true]
[null,null,null,null,null,{"$f":"ROUND(D247*E247,2)","v":0},null,null,{"$f":"ROUND(G247*H247,2)","v":0},{"$f":"F247+I247","v":0},null,null,{"$f":"ISBLANK(B247)","v":true},{"$f":"ISBLANK(C247)","v":true},true,true,{"$f":"M247+N247+O247+P247","v":4},{"$f":"IF(Q247=0,TRUE,FALSE)","v":false}]
[null,null,null,null,null,{"$f":"ROUND(D248*E248,2)","v":0},null,null,0,{"$f":"F248+I248","v":0},null,null,{"$f":"ISBLANK(B248)","v":true},true,true,true,{"$f":"M248+N248+O248+P248","v":4},{"$f":"IF(Q248=0,TRUE,FALSE)","v":false}]
[null,null,null,null,null,0,null,null,0,0,null,null,true,true,true,true,4,false]
[null,null,null,null,null,0,null,null,0,0,null,null,true,true,true,true,4,false]
[null,null,null,null,null,0,null,null,0,0,null,null,true,true,true,true,4,false]
[null,null,null,null,null,0,null,null,0,0,null,null,true,true,true,true,4,false]
[null,null,null,null,null,0,null,null,0,0,null,null,true,true,true,true,4,false]
[null,null,null,null,null,0,null,null,0,0,null,null,true,true,true,true,4,false]
[null,null,null,null,null,0,null,null,0,0,null,null,true,true,true,true,4,false]
[null,null,null,null,null,0,null,null,0,0,null,null,true,true,true,true,4,true]
[null,"TOTAL",null,null,null,{"$f":"SUM(F247:F256)","v":0},null,null,{"$f":"SUM(I247:I256)","v":0},{"$f":"SUM(J247:J256)","v":0},null,null,null,null,null,null,null,true]
[null,null,null,null,null,null,null,null,null,null,null,null,null,null,null,null,null,true]
[null,"Own Contribution",null,null,null,"Unit","Units","Unit rate","TOTAL",null,null,null,null,null,null,null,null,true]
[null,null,null,null,null,null,null,null,{"$f":"G260*H260","v":0},null,null,null,null,null,null,null,null,true]
[null,null,null,null,"Expenditures outside the eligible area exceed 20 %! Reconsider budget distribution!",null,null,null,null,null,null,null,null,null,null,null,null,true]
[null,"Total direct project costs VAT incl. (BL3+BL4+BL5)",null,null,null,{"$f":"F243+F217+F59","v":0},{"$f":"I243+I59+I217","v":0},null,null,{"$f":"J243+J217+J59","v":0},null,null,null,null,null,null,null,true]
[null,"TOTAL PROJECT COSTS",null,null,null,{"$f":"F262+F257+I6+I11+I260","v":0},{"$f":"G262+I257","v":0},null,null,{"$f":"F263+G263","v":0},null,null,null,null,null,null,null,true]

{"sheet":"Table 2-total","index":14,"n_rows":45,"n_cols":5,"rows_kept":45,"cut":false,"hidden":false,"merged":[[2,0,3,2],[5,0,6,2],[40,1,40,3]]}
["TABLE 2 - DETAILED BREAKDOWN OF BUDGET LINES - TOTAL"]
[]
["BL1 - STAFF COSTS",null,null,"TOTAL","%"]
[null,null,null,{"$f":"'T2-B(PP1)'!I6+'T2-B(PP2)'!I6+'T2-B(PP3)'!I6+'T2-B(PP4)'!I6+'T2-B(PP5)'!I6","v":0},{"$f":"D4/$D$45","v":{"$error":"#DIV/0!"}}]
[]
["BL2 - OFFICE AND ADMINISTRATIVE COSTS",null,null,"TOTAL","TOTAL"]
[null,null,null,{"$f":"'T2-B(PP1)'!I11+'T2-B(PP2)'!I11+'T2-B(PP3)'!I11+'T2-B(PP4)'!I11+'T2-B(PP5)'!I11","v":0},{"$f":"D7/$D$45","v":{"$error":"#DIV/0!"}}]
[]
["BL3 - TRAVEL AND ACCOMMODATION","Eligible area","Outside eligible area","TOTAL","%"]
["Travel costs",{"$f":"'T2-B(PP1)'!F15+'T2-B(PP2)'!F15+'T2-B(PP3)'!F15+'T2-B(PP4)'!F15+'T2-B(PP5)'!F15","v":0},{"$f":"'T2-B(PP1)'!I15+'T2-B(PP2)'!I15+'T2-B(PP3)'!I15+'T2-B(PP4)'!I15+'T2-B(PP5)'!I15","v":0},{"$f":"B10+C10","v":0},{"$f":"D10/$D$45","v":{"$error":"#DIV/0!"}}]
["Daily allowances",{"$f":"'T2-B(PP1)'!F26+'T2-B(PP2)'!F26+'T2-B(PP3)'!F26+'T2-B(PP4)'!F26+'T2-B(PP5)'!F26","v":0},{"$f":"'T2-B(PP1)'!I26+'T2-B(PP2)'!I26+'T2-B(PP3)'!I26+'T2-B(PP4)'!I26+'T2-B(PP5)'!I26","v":0},{"$f":"B11+C11","v":0},{"$f":"D11/$D$45","v":{"$error":"#DIV/0!"}}]
["Accommodation costs",{"$f":"'T2-B(PP1)'!F37+'T2-B(PP2)'!F37+'T2-B(PP3)'!F37+'T2-B(PP4)'!F37+'T2-B(PP5)'!F37","v":0},{"$f":"'T2-B(PP1)'!I37+'T2-B(PP2)'!I37+'T2-B(PP3)'!I37+'T2-B(PP4)'!I37+'T2-B(PP5)'!I37","v":0},0,{"$error":"#DIV/0!"}]
["Visa costs",{"$f":"'T2-B(PP1)'!F48+'T2-B(PP2)'!F48+'T2-B(PP3)'!F48+'T2-B(PP4)'!F48+'T2-B(PP5)'!F48","v":0},{"$f":"'T2-B(PP1)'!I48+'T2-B(PP2)'!I48+'T2-B(PP3)'!I48+'T2-B(PP4)'!I48+'T2-B(PP5)'!I48","v":0},0,{"$error":"#DIV/0!"}]
["TOTAL",{"$f":"SUM(B10:B13)","v":0},{"$f":"SUM(C10:C13)","v":0},{"$f":"SUM(D10:D13)","v":0},{"$f":"D14/$D$45","v":{"$error":"#DIV/0!"}}]
[]
["BL4 - EXTERNAL EXPERTISE AND SERVICES COSTS","Eligible area","Outside eligible area","TOTAL","%"]
["Rent of hall",{"$f":"'T2-B(PP1)'!F63+'T2-B(PP2)'!F63+'T2-B(PP3)'!F63+'T2-B(PP4)'!F63+'T2-B(PP5)'!F63","v":0},{"$f":"'T2-B(PP1)'!I63+'T2-B(PP2)'!I63+'T2-B(PP3)'!I63+'T2-B(PP4)'!I63+'T2-B(PP5)'!I63","v":0},{"$f":"B17+C17","v":0},{"$f":"D17/$D$45","v":{"$error":"#DIV/0!"}}]
["Rent of equipment",{"$f":"'T2-B(PP1)'!F74+'T2-B(PP2)'!F74+'T2-B(PP3)'!F74+'T2-B(PP4)'!F74+'T2-B(PP5)'!F74","v":0},{"$f":"'T2-B(PP1)'!I74+'T2-B(PP2)'!I74+'T2-B(PP3)'!I74+'T2-B(PP4)'!I74+'T2-B(PP5)'!I74","v":0},{"$f":"B18+C18","v":0},{"$f":"D18/$D$45","v":{"$error":"#DIV/0!"}}]
["Coffee breaks …..",{"$f":"'T2-B(PP1)'!F85+'T2-B(PP2)'!F85+'T2-B(PP3)'!F85+'T2-B(PP4)'!F85+'T2-B(PP5)'!F85","v":0},{"$f":"'T2-B(PP1)'!I85+'T2-B(PP2)'!I85+'T2-B(PP3)'!I85+'T2-B(PP4)'!I85+'T2-B(PP5)'!I85","v":0},0,{"$error":"#DIV/0!"}]
["Preparation of materials",{"$f":"'T2-B(PP1)'!F96+'T2-B(PP2)'!F96+'T2-B(PP3)'!F96+'T2-B(PP4)'!F96+'T2-B(PP5)'!F96","v":0},{"$f":"'T2-B(PP1)'!I96+'T2-B(PP2)'!I96+'T2-B(PP3)'!I96+'T2-B(PP4)'!I96+'T2-B(PP5)'!I96","v":0},0,{"$error":"#DIV/0!"}]
["Consumables",{"$f":"'T2-B(PP1)'!F107+'T2-B(PP2)'!F107+'T2-B(PP3)'!F107+'T2-B(PP4)'!F107+'T2-B(PP5)'!F107","v":0},{"$f":"'T2-B(PP1)'!I107+'T2-B(PP2)'!I107+'T2-B(PP3)'!I107+'T2-B(PP4)'!I107+'T2-B(PP5)'!I107","v":0},0,{"$error":"#DIV/0!"}]
["Rent of vehicle for event",{"$f":"'T2-B(PP1)'!F118+'T2-B(PP2)'!F118+'T2-B(PP3)'!F118+'T2-B(PP4)'!F118+'T2-B(PP5)'!F118","v":0},{"$f":"'T2-B(PP1)'!I118+'T2-B(PP2)'!I118+'T2-B(PP3)'!I118+'T2-B(PP4)'!I118+'T2-B(PP5)'!I118","v":0},0,{"$error":"#DIV/0!"}]
["Accommodations for participants in the events ",{"$f":"'T2-B(PP1)'!F129+'T2-B(PP2)'!F129+'T2-B(PP3)'!F129+'T2-B(PP4)'!F129+'T2-B(PP5)'!F129","v":0},{"$f":"'T2-B(PP1)'!I129+'T2-B(PP2)'!I129+'T2-B(PP3)'!I129+'T2-B(PP4)'!I129+'T2-B(PP5)'!I129","v":0},0,{"$error":"#DIV/0!"}]
["Purchase of advertising materials",{"$f":"'T2-B(PP1)'!F140+'T2-B(PP2)'!F140+'T2-B(PP3)'!F140+'T2-B(PP4)'!F140+'T2-B(PP5)'!F140","v":0},{"$f":"'T2-B(PP1)'!I140+'T2-B(PP2)'!I140+'T2-B(PP3)'!I140+'T2-B(PP4)'!I140+'T2-B(PP5)'!I140","v":0},0,{"$error":"#DIV/0!"}]
["Elaboration, design etc.",{"$f":"'T2-B(PP1)'!F151+'T2-B(PP2)'!F151+'T2-B(PP3)'!F151+'T2-B(PP4)'!F151+'T2-B(PP5)'!F151","v":0},{"$f":"'T2-B(PP1)'!I151+'T2-B(PP2)'!I151+'T2-B(PP3)'!I151+'T2-B(PP4)'!I151+'T2-B(PP5)'!I151","v":0},0,{"$error":"#DIV/0!"}]
["Publications in mass-media",{"$f":"'T2-B(PP1)'!F162+'T2-B(PP2)'!F162+'T2-B(PP3)'!F162+'T2-B(PP4)'!F162+'T2-B(PP5)'!F162","v":0},{"$f":"'T2-B(PP1)'!I162+'T2-B(PP2)'!I162+'T2-B(PP3)'!I162+'T2-B(PP4)'!I162+'T2-B(PP5)'!I162","v":0},0,{"$error":"#DIV/0!"}]
["Consultancy,studies,designs etc.",{"$f":"'T2-B(PP1)'!F173+'T2-B(PP2)'!F173+'T2-B(PP3)'!F173+'T2-B(PP4)'!F173+'T2-B(PP5)'!F173","v":0},{"$f":"'T2-B(PP1)'!I173+'T2-B(PP2)'!I173+'T2-B(PP3)'!I173+'T2-B(PP4)'!I173+'T2-B(PP5)'!I173","v":0},0,{"$error":"#DIV/0!"}]
["Authorizations, certificates",{"$f":"'T2-B(PP1)'!F184+'T2-B(PP2)'!F184+'T2-B(PP3)'!F184+'T2-B(PP4)'!F184+'T2-B(PP5)'!F184","v":0},{"$f":"'T2-B(PP1)'!I184+'T2-B(PP2)'!I184+'T2-B(PP3)'!I184+'T2-B(PP4)'!I184+'T2-B(PP5)'!I184","v":0},0,{"$error":"#DIV/0!"}]
["Interpreters, lecturers, trainers",{"$f":"'T2-B(PP1)'!F195+'T2-B(PP2)'!F195+'T2-B(PP3)'!F195+'T2-B(PP4)'!F195+'T2-B(PP5)'!F195","v":0},{"$f":"'T2-B(PP1)'!I195+'T2-B(PP2)'!I195+'T2-B(PP3)'!I195+'T2-B(PP4)'!I195+'T2-B(PP5)'!I195","v":0},0,{"$error":"#DIV/0!"}]
["Others",{"$f":"'T2-B(PP1)'!F206+'T2-B(PP2)'!F206+'T2-B(PP3)'!F206+'T2-B(PP4)'!F206+'T2-B(PP5)'!F206","v":0},{"$f":"'T2-B(PP1)'!I206+'T2-B(PP2)'!I206+'T2-B(PP3)'!I206+'T2-B(PP4)'!I206+'T2-B(PP5)'!I206","v":0},{"$f":"B30+C30","v":0},{"$error":"#DIV/0!"}]
["TOTAL",{"$f":"SUM(B17:B30)","v":0},{"$f":"SUM(C17:C30)","v":0},0,{"$f":"D31/$D$45","v":{"$error":"#DIV/0!"}}]
[]
["BL5 -EQUIPMENT AND WORKS","Eligible area","N/A","TOTAL","%"]
["Small scale construction",{"$f":"'T2-B(PP1)'!F221+'T2-B(PP2)'!F221+'T2-B(PP3)'!F221+'T2-B(PP4)'!F221+'T2-B(PP5)'!F221","v":0},{"$f":"'T2-B(PP1)'!I221+'T2-B(PP2)'!I221+'T2-B(PP3)'!I221+'T2-B(PP4)'!I221+'T2-B(PP5)'!I221","v":0},{"$f":"B34+C34","v":0},{"$f":"D34/$D$45","v":{"$error":"#DIV/0!"}}]
["Supply",{"$f":"'T2-B(PP1)'!F232+'T2-B(PP2)'!F232+'T2-B(PP3)'!F232+'T2-B(PP4)'!F232+'T2-B(PP5)'!F232","v":0},{"$f":"'T2-B(PP1)'!I232+'T2-B(PP2)'!I232+'T2-B(PP3)'!I232+'T2-B(PP4)'!I232+'T2-B(PP5)'!I232","v":0},0,{"$error":"#DIV/0!"}]
["TOTAL",{"$f":"SUM(B34:B35)","v":0},{"$f":"SUM(C34:C35)","v":0},0,{"$f":"D36/$D$45","v":{"$error":"#DIV/0!"}}]
[]
["BL6 - PROJECT PREPARATION","Eligible area","N/A","TOTAL","%"]
["Project preparation",{"$f":"'T2-B(PP1)'!F257+'T2-B(PP2)'!F257+'T2-B(PP3)'!F257+'T2-B(PP4)'!F257+'T2-B(PP5)'!F257","v":0},{"$f":"'T2-B(PP1)'!I257+'T2-B(PP2)'!I257+'T2-B(PP3)'!I257+'T2-B(PP4)'!I257+'T2-B(PP5)'!I257","v":0},{"$f":"B39+C39","v":0},{"$f":"D39/$D$45","v":{"$error":"#DIV/0!"}}]
[]
["Own contribution",{"$f":"'T2-B(PP1)'!I260+'T2-B(PP2)'!I260+'T2-B(PP3)'!I260+'T2-B(PP4)'!I260+'T2-B(PP5)'!I260","v":0},null,null,{"$f":"D41/$D$45","v":{"$error":"#DIV/0!"}}]
[]
["Total direct project costs (BL3+BL4+BL5)",{"$f":"B31+B14+B36","v":0},{"$f":"C36+C31+C14","v":0},{"$f":"B43+C43","v":0},{"$f":"D43/$D$45","v":{"$error":"#DIV/0!"}}]
[]
["TOTAL PROJECT COSTS",{"$f":"B43+B41+D7+D4+B39","v":0},{"$f":"C43+C36","v":0},{"$f":"SUM(B45:C45)","v":0}]

{"sheet":"Table 3-summary","index":15,"n_rows":27,"n_cols":15,"rows_kept":27,"cut":false,"hidden":false,"merged":[[2,9,2,10],[10,0,10,1],[14,0,14,1],[16,1,16,5],[2,0,3,0],[2,1,3,1],[2,2,3,2],[2,4,3,4],[2,5,3,5],[2,3,5,3]]}
["TABLE 3 - SUMMARY BREAKDOWN OF BUDGET LINES"]
[]
["No","BUDGET LINE","Expenditures in the eligible area","Expenditures outside of the eligible area","TOTAL"," % of total project costs",null,null,0,"Limits"]
[null,null,null,null,null,null,null,null,"Line","Lower","Upper"]
["BL 1","Staff costs",{"$f":"'Table 2-total'!D4","v":0},null,{"$f":"C5","v":0},{"$f":"E5/$E$15","v":{"$error":"#DIV/0!"}},null,null,"Administrative costs",0,0.15,{"$error":"#REF!"},{"$error":"#REF!"},{"$error":"#REF!"}]
["BL 2 ","Ofiice and administrative costs",{"$f":"'Table 2-total'!D7","v":0},null,{"$f":"C6","v":0},{"$f":"E6/$E$15","v":{"$error":"#DIV/0!"}},null,null,"Travel & Accomodation",0,0.1,{"$error":"#REF!"},{"$error":"#REF!"},{"$error":"#REF!"}]
["BL 3 ","Travel and accomodation",{"$f":"'Table 2-total'!B14","v":0},{"$f":"'Table 2-total'!C14","v":0},{"$f":"SUM(C7:D7)","v":0},{"$error":"#DIV/0!"}]
["BL 4 ","External expertise and services",{"$f":"'Table 2-total'!B31","v":0},{"$f":"'Table 2-total'!C31","v":0},{"$f":"SUM(C8:D8)","v":0},{"$error":"#DIV/0!"}]
["BL 5 ","Equipment and works",{"$f":"'Table 2-total'!B36","v":0},null,0,{"$error":"#DIV/0!"},null,null,{"$f":"'Table 5-Sources'!G8","v":0}]
["BL 6","Project preparation",{"$f":"'Table 2-total'!D39","v":0},null,{"$f":"C10","v":0},{"$error":"#DIV/0!"}]
["TOTAL ",null,{"$f":"SUM(C5:C10)","v":0},{"$f":"SUM(D5:D10)","v":0},0]
[null,null,null,null,null,null,null,null,"Define Errors"]
[null,"Own contribution",{"$f":"'Table 2-total'!B41:D41","v":0},null,{"$f":"C13","v":0},0,null,null,{"$error":"#REF!"}]
[null,null,null,null,null,null,null,null,{"$error":"#REF!"}]
["TOTAL PROJECT",null,{"$f":"SUM(C11+C13)","v":0},{"$f":"SUM(D7:D9)","v":0},{"$f":"SUM(E11+E13)","v":0},null,null,null,"Errors on page"]
[null,null,null,null,null,null,null,null,{"$error":"#REF!"}]
[null,null,null,null,null,null,null,null,{"$error":"#REF!"},null,{"$f":"C9/E11","v":{"$error":"#DIV/0!"}},{"$f":"IF(J26=\"Soft\",K17>0.5,K17<0.7)","v":{"$error":"#DIV/0!"}}]
[null,{"$f":"IF(L22,CONCATENATE(\"Your preparation cost [\",ROUND(C10/K20*100,2),\" %] exceed the 3 % limit!\"),\"\")","v":{"$error":"#DIV/0!"}}]
[null,{"$f":"N22","v":{"$error":"#REF!"}},null,null,null,null,null,null,true]
[null,{"$f":"IF(L17,CONCATENATE(\"Your BL5 is not within the limits for \",J26,\" project.\"),\"\")","v":{"$error":"#DIV/0!"}},null,null,null,null,null,null,null,"Total direct",{"$f":"SUM(C7:D8)+C9","v":0}]
[]
[null,null,null,null,null,null,null,null,"Project Preparation",0,0.03,{"$f":"C10/K20>0.03","v":{"$error":"#DIV/0!"}},null,{"$f":"CONCATENATE(O23,O24,O25)","v":{"$error":"#REF!"}}]
[null,null,null,null,null,null,null,null,"Other specific costs",0,0.02,null,null,{"$f":"(N24+N25)=0","v":{"$error":"#REF!"}},{"$f":"IF(N23,\"\",\"Your budget is \")","v":{"$error":"#REF!"}}]
[null,null,null,null,null,null,null,null,"Lower limit","Upper limit",null,"Error margin low",{"$f":"IF(L27<>21,I25,#REF!)","v":{"$error":"#REF!"}},{"$f":"(E15-I9)<M24","v":{"$error":"#REF!"}},{"$f":"IF(N24,CONCATENATE(\"lower than limit of \",M24,\" euro.\"),\"\")","v":{"$error":"#REF!"}}]
[null,null,null,null,null,null,null,null,{"$f":"IF(L27<>11,VLOOKUP(L27,#REF!,2),VLOOKUP(L27,K27:M27,2))","v":{"$error":"#REF!"}},{"$f":"IF(L27<>11,VLOOKUP(L27,#REF!,3),VLOOKUP(L27,K27:M27,3))","v":{"$error":"#REF!"}},null,"Error margin up",{"$f":"IF(L27<>21,J25,#REF!)","v":{"$error":"#REF!"}},{"$f":"(E15-I9)>M25","v":{"$error":"#REF!"}},{"$f":"IF(N25,CONCATENATE(\"higher than limit of \",M25,\" euro.\"),\"\")","v":{"$error":"#REF!"}}]
[null,null,null,null,null,null,null,null,{"$f":"Cover!C35","v":0},{"$f":"Cover!C37","v":0},null,{"$f":"VLOOKUP(I26,#REF!,2)","v":{"$error":"#REF!"}},{"$f":"IF(J26=\"Soft\",0,1)","v":1}]
[null,null,null,null,null,null,null,null,null,null,null,{"$f":"L26*10+M26","v":{"$error":"#REF!"}}]

{"sheet":"Table 4 PP`BL","index":16,"n_rows":18,"n_cols":8,"rows_kept":18,"cut":false,"hidden":false,"merged":[[10,0,10,1],[11,0,11,1]]}
["TABLE 4 - SUMMARY BREAKDOWN OF BUDGET LINES PER PROJECT PARTNERS"]
[]
["No","BUDGET LINE","PP1 LP","PP2","PP3","PP4","PP5","Total"]
["BL 1","Staff costs",{"$f":"'T2-B(PP1)'!I6","v":0},{"$f":"'T2-B(PP2)'!I6","v":0},{"$f":"'T2-B(PP3)'!I6","v":0},{"$f":"'T2-B(PP4)'!I6","v":0},{"$f":"'T2-B(PP5)'!I6","v":0},{"$f":"SUM(C4:G4)","v":0}]
["BL 2 ","Ofiice and administrative costs",{"$f":"'T2-B(PP1)'!I10","v":0},{"$f":"'T2-B(PP2)'!I10","v":0},{"$f":"'T2-B(PP3)'!I10","v":0},{"$f":"'T2-B(PP4)'!I10","v":0},{"$f":"'T2-B(PP5)'!I10","v":0},{"$f":"SUM(C5:G5)","v":0}]
["BL 3 ","Travel and accomodation",{"$f":"'T2-B(PP1)'!J59","v":0},{"$f":"'T2-B(PP2)'!J59","v":0},{"$f":"'T2-B(PP3)'!J59","v":0},{"$f":"'T2-B(PP4)'!J59","v":0},{"$f":"'T2-B(PP5)'!J59","v":0},0]
["BL 4 ","External expertise and services",{"$f":"'T2-B(PP1)'!J217","v":0},{"$f":"'T2-B(PP2)'!J217","v":0},{"$f":"'T2-B(PP3)'!J217","v":0},{"$f":"'T2-B(PP4)'!J217","v":0},{"$f":"'T2-B(PP5)'!J217","v":0},0]
["BL 5 ","Equipment and works",{"$f":"'T2-B(PP1)'!J243","v":0},{"$f":"'T2-B(PP2)'!J243","v":0},{"$f":"'T2-B(PP3)'!J243","v":0},{"$f":"'T2-B(PP4)'!J243","v":0},{"$f":"'T2-B(PP5)'!J243","v":0},0]
["BL 6","Project preparation",{"$f":"'T2-B(PP1)'!J257","v":0},{"$f":"'T2-B(PP2)'!J257","v":0},{"$f":"'T2-B(PP3)'!J257","v":0},{"$f":"'T2-B(PP4)'!J257","v":0},{"$f":"'T2-B(PP5)'!J257","v":0},0]
[null,"Own contribution",{"$f":"'T2-B(PP1)'!J260","v":0},{"$f":"'T2-B(PP2)'!J260","v":0},{"$f":"'T2-B(PP3)'!J260","v":0},{"$f":"'T2-B(PP4)'!J260","v":0},{"$f":"'T2-B(PP5)'!J260","v":0},0]
["TOTAL ",null,{"$f":"SUM(C4:C10)","v":0},{"$f":"SUM(D4:D10)","v":0},0,0,0,{"$f":"SUM(H4:H10)","v":0}]
["% from TOTAL ",null,{"$f":"C11/$H$11","v":{"$error":"#DIV/0!"}},{"$f":"D11/$H$11","v":{"$error":"#DIV/0!"}},{"$error":"#DIV/0!"},{"$error":"#DIV/0!"},{"$error":"#DIV/0!"}]
[]
[null,"Eligible area",null,null,null,null,null,0]
[null,"%",null,null,null,null,null,{"$error":"#DIV/0!"}]
[null,"Adjacent area",null,null,null,null,null,0]
[null,"%",null,null,null,null,null,{"$error":"#DIV/0!"}]
[null,"TOTAL",null,null,null,null,null,0]

{"sheet":"Table 5-Sources","index":17,"n_rows":24,"n_cols":13,"rows_kept":24,"cut":false,"hidden":false,"merged":[]}
["TABLE 5 - PROJECT SOURCES / PARTNERS' CONTRIBUTION"]
[]
["Project partners","PP1 LP","PP2","PP3","PP4","PP5","Total"]
["Country (code)","","","","","",null,null,null,"Proper Axis","Type"]
["Total partner's contribution             (including EU + national co-financing)",{"$f":"'Table 4 PP`BL'!C11","v":0},{"$f":"'Table 4 PP`BL'!D11","v":0},{"$f":"'Table 4 PP`BL'!E11","v":0},{"$f":"'Table 4 PP`BL'!F11","v":0},{"$f":"'Table 4 PP`BL'!G11","v":0},{"$f":"SUM(B5:F5)","v":0},null,null,{"$error":"#REF!"},0]
["National co-financing",{"$f":"B7+B8","v":0},{"$f":"C7+C8","v":0},0,0,0,{"$f":"SUM(B6:F6)","v":0},null,null,null,"Min","Max","match"]
[" Thereof state co-financing",{"$f":"ROUNDUP((B5-B8)*0.15,2)","v":0},{"$f":"ROUNDUP((C5-C8)*0.15,2)","v":0},0,0,0,{"$f":"SUM(B7:F7)","v":0},null,null,"Soft",50000,150000,false]
["Own co-finanacing",null,null,null,null,null,{"$f":"SUM(B8:F8)","v":0}]
["EU co-financing rate",{"$f":"B10/B5","v":{"$error":"#DIV/0!"}},{"$f":"C10/C5","v":{"$error":"#DIV/0!"}},{"$error":"#DIV/0!"},{"$error":"#DIV/0!"},{"$error":"#DIV/0!"},{"$f":"G10/G5","v":{"$error":"#DIV/0!"}},null,null,"Soft",50000,150000,false]
["EU subsidy",{"$f":"B5-B6","v":0},{"$f":"C5-C6","v":0},0,0,0,{"$f":"SUM(B10:F10)","v":0},null,null,null,50000,150000]
[]
[null,"Wrong choice of Priority/Area of Intervention",null,null,null,null,null,null,null,false]
[{"$error":"#REF!"},null,null,null,null,null,null,null,null,false]
[null,null,null,null,null,null,null,null,null,"Errors on page"]
[null,null,null,null,null,null,null,null,null,{"$error":"#REF!"}]
[null,null,null,null,null,null,null,null,null,{"$error":"#REF!"}]
[]
[]
[]
[]
[]
[]
[]
[null,null," "]

{"sheet":"Statements","index":18,"n_rows":180,"n_cols":7,"rows_kept":180,"cut":false,"hidden":false,"merged":[[63,0,63,1],[128,1,128,3],[165,1,165,3],[136,0,136,1],[137,0,137,1],[153,0,153,8],[158,0,158,8],[168,0,168,8],[170,0,170,4],[159,0,159,8],[172,0,172,4],[173,0,173,1],[174,0,174,1],[79,0,79,8],[84,0,84,8],[121,0,121,8],[131,0,131,8],[133,0,133,4],[91,1,91,3],[135,0,135,4],[85,0,85,8],[122,0,122,8],[94,0,94,8],[96,0,96,4],[98,0,98,4],[99,0,99,1],[100,0,100,1],[116,0,116,8],[10,0,10,8],[5,0,5,8],[26,0,26,1],[42,0,42,8],[25,0,25,1],[20,0,20,8],[24,0,24,4],[22,0,22,4],[17,1,17,3],[47,0,47,8],[57,0,57,8],[59,0,59,4],[61,0,61,4],[62,0,62,1],[54,1,54,3],[48,0,48,8]]}
[]
[]
["                      PARTNERSHIP AND CO-FINANCING STATEMENT"]
[]
[]
[{"$f":"IF(Cover!C31=\"\",\"\",Cover!C31)","v":""}]
["(Project Title)"]
[]
[]
["In the case of approval of the above mentioned project, applying for assistance from the "]
["INTERREG-IPA CBC Bulgaria-Turkey Programme we hereby declare that "]
[{"$f":"IF(Cover!C41=\"\",\"\",Cover!C41)","v":""}]
["(Name of Institution)"]
[]
["listed as PP 1 / LP in Table 1 of the Application form - Part 3,"]
["has examined and agreed on his tasks and activities described in the Application form - Part 2,"]
["undertakes to comply with the principles of good partnership practice and to provide"]
["EUR",{"$f":"'Table 5-Sources'!B8","v":0}]
["as own contribution and/or other sources to the INTERREG-IPA CBC Bulgaria-Turkey project budget."]
["We furthermore confirm that any project expenditure related to the above mentioned project"]
["will not be funded by any other EU programme."]
[]
[{"$f":"'PP1(LP)'!C23","v":""}]
["(Name of the legal representative of the Project Partner)"]
[{"$f":"'PP1(LP)'!C25","v":0}]
["(Position)"]
[]
["(Date)"]
[]
[]
[null,null,null,null,null,null,"(Signature)"]
[null,null,null,null,null,null,"(Official Stamp of Project Partner)"]
[]
[]
[]
[]
[]
[]
[]
["                      PARTNERSHIP AND CO-FINANCING STATEMENT"]
[]
[]
[{"$f":"Cover!C31","v":0}]
["(Project Title)"]
[]
[]
["In the case of approval of the above mentioned project, applying for assistance from the "]
["INTERREG-IPA CBC Bulgaria-Turkey Programme we hereby declare that "]
[{"$f":"'PP2'!C7","v":0}]
["(Name of Institution)"]
[]
["listed as PP 2 in Table 1 of the Application form - Part 3,"]
["has examined and agreed on his tasks and activities described in the Application form - Part 2,"]
["undertakes to comply with the principles of good partnership practice and to provide"]
["EUR",{"$f":"'Table 5-Sources'!C8","v":0}]
["as own contribution and/or other sources to the INTERREG-IPA CBC Bulgaria-Turkey project budget."]
["We furthermore confirm that any project expenditure related to the above mentioned project"]
["will not be funded by any other EU programme."]
[]
[{"$f":"'PP2'!C23","v":0}]
["(Name of the legal representative of the Project Partner)"]
[{"$f":"'PP2'!C25","v":0}]
["(Position)"]
[]
["(Date)"]
[]
[]
[null,null,null,null,null,null,"(Signature)"]
[null,null,null,null,null,null,"(Official Stamp of Project Partner)"]
[]
[]
[]
[]
[]
[]
[]
["                      PARTNERSHIP AND CO-FINANCING STATEMENT"]
[]
[]
[{"$f":"A43","v":0}]
["(Project Title)"]
[]
[]
["In the case of approval of the above mentioned project, applying for assistance from the "]
["INTERREG-IPA CBC Bulgaria-Turkey Programme we hereby declare that "]
[{"$f":"'PP3'!C7","v":0}]
["(Name of Institution)"]
[]
["listed as PP 3 in Table 1 of the Application form - Part 3,"]
["has examined and agreed on his tasks and activities described in the Application form - Part 2,"]
["undertakes to comply with the principles of good partnership practice and to provide"]
["EUR",{"$f":"'Table 5-Sources'!D8","v":0}]
["as own contribution and/or other sources to the INTERREG-IPA CBC Bulgaria-Turkey project budget."]
["We furthermore confirm that any project expenditure related to the above mentioned project"]
["will not be funded by any other EU programme."]
[]
[{"$f":"'PP3'!C23","v":0}]
["(Name of the legal representative of the Project Partner)"]
[{"$f":"'PP3'!C25","v":0}]
["(Position)"]
[]
["(Date)"]
[]
[]
[null,null,null,null,null,null,"(Signature)"]
[null,null,null,null,null,null,"(Official Stamp of Project Partner)"]
[]
[]
[]
[]
[]
[]
[]
["                      PARTNERSHIP AND CO-FINANCING STATEMENT"]
[]
[]
[{"$f":"A80","v":0}]
["(Project Title)"]
[]
[]
["In the case of approval of the above mentioned project, applying for assistance from the "]
["INTERREG-IPA CBC Bulgaria-Turkey Programme we hereby declare that "]
[{"$f":"'PP4'!C7","v":0}]
["(Name of Institution)"]
[]
["listed as PP 4 in Table 1 of the Application form - Part 3,"]
["has examined and agreed on his tasks and activities described in the Application form - Part 2,"]
["undertakes to comply with the principles of good partnership practice and to provide"]
["EUR",{"$f":"'Table 5-Sources'!E8","v":0}]
["as own contribution and/or other sources to the INTERREG-IPA CBC Bulgaria-Turkey project budget."]
["We furthermore confirm that any project expenditure related to the above mentioned project"]
["will not be funded by any other EU programme."]
[]
[{"$f":"'PP4'!C23","v":0}]
["(Name of the legal representative of the Project Partner)"]
[{"$f":"'PP4'!C25","v":0}]
["(Position)"]
[]
["(Date)"]
[]
[]
[null,null,null,null,null,null,"(Signature)"]
[null,null,null,null,null,null,"(Official Stamp of Project Partner)"]
[]
[]
[]
[]
[]
[]
[]
["                      PARTNERSHIP AND CO-FINANCING STATEMENT"]
[]
[]
[{"$f":"A117","v":0}]
["(Project Title)"]
[]
[]
["In the case of approval of the above mentioned project, applying for assistance from the "]
["INTERREG-IPA CBC Bulgaria-Turkey Programme we hereby declare that "]
[{"$f":"'PP5'!C7","v":0}]
["(Name of Institution)"]
[]
["listed as PP 5 in Table 1 of the Application form - Part 3,"]
["has examined and agreed on his tasks and activities described in the Application form - Part 2,"]
["undertakes to comply with the principles of good partnership practice and to provide"]
["EUR",{"$f":"'Table 5-Sources'!F8","v":0}]
["as own contribution and/or other sources to the INTERREG-IPA CBC Bulgaria-Turkey project budget."]
["We furthermore confirm that any project expenditure related to the above mentioned project"]
["will not be funded by any other EU programme."]
[]
[{"$f":"'PP5'!C23","v":0}]
["(Name of the legal representative of the Project Partner)"]
[{"$f":"'PP5'!C25","v":0}]
["(Position)"]
[]
["(Date)"]
[]
[]
[null,null,null,null,null,null,"(Signature)"]
[null,null,null,null,null,null,"(Official Stamp of Project Partner)"]

{"sheet":"Summary","index":19,"n_rows":55,"n_cols":1,"rows_kept":55,"cut":false,"hidden":false,"merged":[[10,1,11,1],[12,1,13,1],[14,1,16,1],[40,1,41,1],[45,1,46,1],[31,1,32,1],[33,1,35,1],[18,0,18,1],[49,1,50,1],[51,1,52,1],[53,1,54,1],[25,1,26,1],[27,1,28,1]]}
["Project summary"]
[]
["Project title"]
["Lead Partner (name/country)"]
["Partners "]
["Priority axis"]
["Specific objective"]
["Duration (in months)"]
["Total budget (in €)"]
["Project Objectives"]
["Project Activities"]
["(Provide a brief description of the major activities that will be done under the project   - what, where and how for each major activity)"]
["Project Results"]
["(describe results/benefits to be achieved  by  this project)"]
["Target Groups"]
["(describe main target groups that will benefit from project results and outputs)"]
[]
[]
["РЕЗЮМЕ НА ПРОЕКТА"]
[]
["Заглавие на проекта"]
["Водещ партньор (име/ държава) "]
["Проектни партньори"]
["Приоритетна ос"]
["Специфична цел"]
["Продължителност"]
["(в месеци) "]
["Общ бюджет "]
["(в евро) "]
["Цели на проекта"]
["Дейности по проекта (Моля, опишете на кратко основните дейности, които ще бъдат извършени в рамките на проекта - какво, къде и как за всяка основна дейност)"]
["Резултати по проекта"]
["(Моля, опишете какви резултати/ ползи ще се постигнат с реализацията на проекта)"]
["Целеви групи"]
["(Моля, опишете основните целеви групи, които ще се възползват от резултатите и продуктите по проекта)"]
[]
[]
["PROJE ÖZETİ"]
[]
["Proje Adı"]
["Ana Yararlanıcı "]
["(Ad/Ülke)"]
["Proje Ortakları"]
["Öncelik Alanı"]
["Özel Amaç"]
["Süre "]
["(Ay cinsinden)"]
["Toplam Bütçe (Avro)"]
["Proje Amaçları"]
["Proje Faaliyetleri"]
["(Proje kapsamında uygulanacak olan ana faaliyetleri kısaca açıklayınız – açıklama, her bir ana faaliyet için ne, nerede ve nasıl sorularına cevaplar içermelidir.)"]
["Proje Sonuçları"]
["(Bu projeyle elde edilecek olan sonuç/faydaları açıklayınız.)"]
["Hedef Gruplar"]
["(Proje çıktı ve sonuçlarından faydalanacak olan ana grupları açıklayınız.)"]

{"sheet":"Named_ranges","index":20,"n_rows":10760,"n_cols":3,"rows_kept":10760,"cut":false,"hidden":true,"merged":[]}
["action_plan_actv_1",{"$f":"'Project identification'!$B$307","v":"1."},"#'Project identification'!$B$307"]
["action_plan_actv_1_1",{"$f":"'Project identification'!$C$307","v":0},"#'Project identification'!$C$307"]
["action_plan_actv_1_2",{"$f":"'Project identification'!$D$307","v":0},"#'Project identification'!$D$307"]
["action_plan_actv_1_3",{"$f":"'Project identification'!$E$307","v":0},"#'Project identification'!$E$307"]
["action_plan_actv_1_4",{"$f":"'Project identification'!$G$307","v":0},"#'Project identification'!$G$307"]
["action_plan_actv_1_5",{"$f":"'Project identification'!$H$307","v":0},"#'Project identification'!$H$307"]
["action_plan_actv_1_6",{"$f":"'Project identification'!$F$307","v":0},"#'Project identification'!$F$307"]
["action_plan_actv_1_7",{"$f":"'Project identification'!$I$307","v":0},"#'Project identification'!$I$307"]
["action_plan_actv_1_8",{"$f":"'Project identification'!$J$307","v":0},"#'Project identification'!$J$307"]
["action_plan_actv_10",{"$f":"'Project identification'!$B$316","v":"10."},"#'Project identification'!$B$316"]
["action_plan_actv_10_1",{"$f":"'Project identification'!$C$316","v":0},"#'Project identification'!$C$316"]
["action_plan_actv_10_2",{"$f":"'Project identification'!$D$316","v":0},"#'Project identification'!$D$316"]
["action_plan_actv_10_3",{"$f":"'Project identification'!$E$316","v":0},"#'Project identification'!$E$316"]
["action_plan_actv_10_4",{"$f":"'Project identification'!$G$316","v":0},"#'Project identification'!$G$316"]
["action_plan_actv_10_5",{"$f":"'Project identification'!$H$316","v":0},"#'Project identification'!$H$316"]
["action_plan_actv_10_6",{"$f":"'Project identification'!$F$316","v":0},"#'Project identification'!$F$316"]
["action_plan_actv_10_7",{"$f":"'Project identification'!$I$316","v":0},"#'Project identification'!$I$316"]
["action_plan_actv_10_8",{"$f":"'Project identification'!$J$316","v":0},"#'Project identification'!$J$316"]
["action_plan_actv_11",{"$f":"'Project identification'!$B$317","v":"11."},"#'Project identification'!$B$317"]
["action_plan_actv_11_1",{"$f":"'Project identification'!$C$317","v":0},"#'Project identification'!$C$317"]
["action_plan_actv_11_2",{"$f":"'Project identification'!$D$317","v":0},"#'Project identification'!$D$317"]
["action_plan_actv_11_3",{"$f":"'Project identification'!$E$317","v":0},"#'Project identification'!$E$317"]
["action_plan_actv_11_4",{"$f":"'Project identification'!$G$317","v":0},"#'Project identification'!$G$317"]
["action_plan_actv_11_5",{"$f":"'Project identification'!$H$317","v":0},"#'Project identification'!$H$317"]
["action_plan_actv_11_6",{"$f":"'Project identification'!$F$317","v":0},"#'Project identification'!$F$317"]
["action_plan_actv_11_7",{"$f":"'Project identification'!$I$317","v":0},"#'Project identification'!$I$317"]
["action_plan_actv_11_8",{"$f":"'Project identification'!$J$317","v":0},"#'Project identification'!$J$317"]
["action_plan_actv_12",{"$f":"'Project identification'!$B$318","v":"12."},"#'Project identification'!$B$318"]
["action_plan_actv_12_1",{"$f":"'Project identification'!$C$318","v":0},"#'Project identification'!$C$318"]
["action_plan_actv_12_2",{"$f":"'Project identification'!$D$318","v":0},"#'Project identification'!$D$318"]
["action_plan_actv_12_3",{"$f":"'Project identification'!$E$318","v":0},"#'Project identification'!$E$318"]
["action_plan_actv_12_4",{"$f":"'Project identification'!$G$318","v":0},"#'Project identification'!$G$318"]
["action_plan_actv_12_5",{"$f":"'Project identification'!$H$318","v":0},"#'Project identification'!$H$318"]
["action_plan_actv_12_6",{"$f":"'Project identification'!$F$318","v":0},"#'Project identification'!$F$318"]
["action_plan_actv_12_7",{"$f":"'Project identification'!$I$318","v":0},"#'Project identification'!$I$318"]
["action_plan_actv_12_8",{"$f":"'Project identification'!$J$318","v":0},"#'Project identification'!$J$318"]
["action_plan_actv_13",{"$f":"'Project identification'!$B$319","v":"13."},"#'Project identification'!$B$319"]
["action_plan_actv_13_1",{"$f":"'Project identification'!$C$319","v":0},"#'Project identification'!$C$319"]
["action_plan_actv_13_2",{"$f":"'Project identification'!$D$319","v":0},"#'Project identification'!$D$319"]
["action_plan_actv_13_3",{"$f":"'Project identification'!$E$319","v":0},"#'Project identification'!$E$319"]
["action_plan_actv_13_4",{"$f":"'Project identification'!$G$319","v":0},"#'Project identification'!$G$319"]
["action_plan_actv_13_5",{"$f":"'Project identification'!$H$319","v":0},"#'Project identification'!$H$319"]
["action_plan_actv_13_6",{"$f":"'Project identification'!$F$319","v":0},"#'Project identification'!$F$319"]
["action_plan_actv_13_7",{"$f":"'Project identification'!$I$319","v":0},"#'Project identification'!$I$319"]
["action_plan_actv_13_8",{"$f":"'Project identification'!$J$319","v":0},"#'Project identification'!$J$319"]
["action_plan_actv_14",{"$f":"'Project identification'!$B$320","v":"14."},"#'Project identification'!$B$320"]
["action_plan_actv_14_1",{"$f":"'Project identification'!$C$320","v":0},"#'Project identification'!$C$320"]
["action_plan_actv_14_2",{"$f":"'Project identification'!$D$320","v":0},"#'Project identification'!$D$320"]
["action_plan_actv_14_3",{"$f":"'Project identification'!$E$320","v":0},"#'Project identification'!$E$320"]
["action_plan_actv_14_4",{"$f":"'Project identification'!$G$320","v":0},"#'Project identification'!$G$320"]
["action_plan_actv_14_5",{"$f":"'Project identification'!$H$320","v":0},"#'Project identification'!$H$320"]
["action_plan_actv_14_6",{"$f":"'Project identification'!$F$320","v":0},"#'Project identification'!$F$320"]
["action_plan_actv_14_7",{"$f":"'Project identification'!$I$320","v":0},"#'Project identification'!$I$320"]
["action_plan_actv_14_8",{"$f":"'Project identification'!$J$320","v":0},"#'Project identification'!$J$320"]
["action_plan_actv_15",{"$f":"'Project identification'!$B$321","v":"15."},"#'Project identification'!$B$321"]
["action_plan_actv_15_1",{"$f":"'Project identification'!$C$321","v":0},"#'Project identification'!$C$321"]
["action_plan_actv_15_2",{"$f":"'Project identification'!$D$321","v":0},"#'Project identification'!$D$321"]
["action_plan_actv_15_3",{"$f":"'Project identification'!$E$321","v":0},"#'Project identification'!$E$321"]
["action_plan_actv_15_4",{"$f":"'Project identification'!$G$321","v":0},"#'Project identification'!$G$321"]
["action_plan_actv_15_5",{"$f":"'Project identification'!$H$321","v":0},"#'Project identification'!$H$321"]
["action_plan_actv_15_6",{"$f":"'Project identification'!$F$321","v":0},"#'Project identification'!$F$321"]
["action_plan_actv_15_7",{"$f":"'Project identification'!$I$321","v":0},"#'Project identification'!$I$321"]
["action_plan_actv_15_8",{"$f":"'Project identification'!$J$321","v":0},"#'Project identification'!$J$321"]
["action_plan_actv_2",{"$f":"'Project identification'!$B$308","v":"2."},"#'Project identification'!$B$308"]
["action_plan_actv_2_1",{"$f":"'Project identification'!$C$308","v":0},"#'Project identification'!$C$308"]
["action_plan_actv_2_2",{"$f":"'Project identification'!$D$308","v":0},"#'Project identification'!$D$308"]
["action_plan_actv_2_3",{"$f":"'Project identification'!$E$308","v":0},"#'Project identification'!$E$308"]
["action_plan_actv_2_4",{"$f":"'Project identification'!$G$308","v":0},"#'Project identification'!$G$308"]
["action_plan_actv_2_5",{"$f":"'Project identification'!$H$308","v":0},"#'Project identification'!$H$308"]
["action_plan_actv_2_6",{"$f":"'Project identification'!$F$308","v":0},"#'Project identification'!$F$308"]
["action_plan_actv_2_7",{"$f":"'Project identification'!$I$308","v":0},"#'Project identification'!$I$308"]
["action_plan_actv_2_8",{"$f":"'Project identification'!$J$308","v":0},"#'Project identification'!$J$308"]
["action_plan_actv_3",{"$f":"'Project identification'!$B$309","v":"3."},"#'Project identification'!$B$309"]
["action_plan_actv_3_1",{"$f":"'Project identification'!$C$309","v":0},"#'Project identification'!$C$309"]
["action_plan_actv_3_2",{"$f":"'Project identification'!$D$309","v":0},"#'Project identification'!$D$309"]
["action_plan_actv_3_3",{"$f":"'Project identification'!$E$309","v":0},"#'Project identification'!$E$309"]
["action_plan_actv_3_4",{"$f":"'Project identification'!$G$309","v":0},"#'Project identification'!$G$309"]
["action_plan_actv_3_5",{"$f":"'Project identification'!$H$309","v":0},"#'Project identification'!$H$309"]
["action_plan_actv_3_6",{"$f":"'Project identification'!$F$309","v":0},"#'Project identification'!$F$309"]
["action_plan_actv_3_7",{"$f":"'Project identification'!$I$309","v":0},"#'Project identification'!$I$309"]
["action_plan_actv_3_8",{"$f":"'Project identification'!$J$309","v":0},"#'Project identification'!$J$309"]
["action_plan_actv_4",{"$f":"'Project identification'!$B$310","v":"4."},"#'Project identification'!$B$310"]
["action_plan_actv_4_1",{"$f":"'Project identification'!$C$310","v":0},"#'Project identification'!$C$310"]
["action_plan_actv_4_2",{"$f":"'Project identification'!$D$310","v":0},"#'Project identification'!$D$310"]
["action_plan_actv_4_3",{"$f":"'Project identification'!$E$310","v":0},"#'Project identification'!$E$310"]
["action_plan_actv_4_4",{"$f":"'Project identification'!$G$310","v":0},"#'Project identification'!$G$310"]
["action_plan_actv_4_5",{"$f":"'Project identification'!$H$310","v":0},"#'Project identification'!$H$310"]
["action_plan_actv_4_6",{"$f":"'Project identification'!$F$310","v":0},"#'Project identification'!$F$310"]
["action_plan_actv_4_7",{"$f":"'Project identification'!$I$310","v":0},"#'Project identification'!$I$310"]
["action_plan_actv_4_8",{"$f":"'Project identification'!$J$310","v":0},"#'Project identification'!$J$310"]
["action_plan_actv_5",{"$f":"'Project identification'!$B$311","v":"5."},"#'Project identification'!$B$311"]
["action_plan_actv_5_1",{"$f":"'Project identification'!$C$311","v":0},"#'Project identification'!$C$311"]
["action_plan_actv_5_2",{"$f":"'Project identification'!$D$311","v":0},"#'Project identification'!$D$311"]
["action_plan_actv_5_3",{"$f":"'Project identification'!$E$311","v":0},"#'Project identification'!$E$311"]
["action_plan_actv_5_4",{"$f":"'Project identification'!$G$311","v":0},"#'Project identification'!$G$311"]
["action_plan_actv_5_5",{"$f":"'Project identification'!$H$311","v":0},"#'Project identification'!$H$311"]
["action_plan_actv_5_6",{"$f":"'Project identification'!$F$311","v":0},"#'Project identification'!$F$311"]
["action_plan_actv_5_7",{"$f":"'Project identification'!$I$311","v":0},"#'Project identification'!$I$311"]
["action_plan_actv_5_8",{"$f":"'Project identification'!$J$311","v":0},"#'Project identification'!$J$311"]
["action_plan_actv_6",{"$f":"'Project identification'!$B$312","v":"6."},"#'Project identification'!$B$312"]
["action_plan_actv_6_1",{"$f":"'Project identification'!$C$312","v":0},"#'Project identification'!$C$312"]
["action_plan_actv_6_2",{"$f":"'Project identification'!$D$312","v":0},"#'Project identification'!$D$312"]
["action_plan_actv_6_3",{"$f":"'Project identification'!$E$312","v":0},"#'Project identification'!$E$312"]
["action_plan_actv_6_4",{"$f":"'Project identification'!$G$312","v":0},"#'Project identification'!$G$312"]
["action_plan_actv_6_5",{"$f":"'Project identification'!$H$312","v":0},"#'Project identification'!$H$312"]
["action_plan_actv_6_6",{"$f":"'Project identification'!$F$312","v":0},"#'Project identification'!$F$312"]
["action_plan_actv_6_7",{"$f":"'Project identification'!$I$312","v":0},"#'Project identification'!$I$312"]
["action_plan_actv_6_8",{"$f":"'Project identification'!$J$312","v":0},"#'Project identification'!$J$312"]
["action_plan_actv_7",{"$f":"'Project identification'!$B$313","v":"7."},"#'Project identification'!$B$313"]
["action_plan_actv_7_1",{"$f":"'Project identification'!$C$313","v":0},"#'Project identification'!$C$313"]
["action_plan_actv_7_2",{"$f":"'Project identification'!$D$313","v":0},"#'Project identification'!$D$313"]
["action_plan_actv_7_3",{"$f":"'Project identification'!$E$313","v":0},"#'Project identification'!$E$313"]
["action_plan_actv_7_4",{"$f":"'Project identification'!$G$313","v":0},"#'Project identification'!$G$313"]
["action_plan_actv_7_5",{"$f":"'Project identification'!$H$313","v":0},"#'Project identification'!$H$313"]
["action_plan_actv_7_6",{"$f":"'Project identification'!$F$313","v":0},"#'Project identification'!$F$313"]
["action_plan_actv_7_7",{"$f":"'Project identification'!$I$313","v":0},"#'Project identification'!$I$313"]
["action_plan_actv_7_8",{"$f":"'Project identification'!$J$313","v":0},"#'Project identification'!$J$313"]
["action_plan_actv_8",{"$f":"'Project identification'!$B$314","v":"8."},"#'Project identification'!$B$314"]
["action_plan_actv_8_1",{"$f":"'Project identification'!$C$314","v":0},"#'Project identification'!$C$314"]
["action_plan_actv_8_2",{"$f":"'Project identification'!$D$314","v":0},"#'Project identification'!$D$314"]
["action_plan_actv_8_3",{"$f":"'Project identification'!$E$314","v":0},"#'Project identification'!$E$314"]
["action_plan_actv_8_4",{"$f":"'Project identification'!$G$314","v":0},"#'Project identification'!$G$314"]
["action_plan_actv_8_5",{"$f":"'Project identification'!$H$314","v":0},"#'Project identification'!$H$314"]
["action_plan_actv_8_6",{"$f":"'Project identification'!$F$314","v":0},"#'Project identification'!$F$314"]
["action_plan_actv_8_7",{"$f":"'Project identification'!$I$314","v":0},"#'Project identification'!$I$314"]
["action_plan_actv_8_8",{"$f":"'Project identification'!$J$314","v":0},"#'Project identification'!$J$314"]
["action_plan_actv_9",{"$f":"'Project identification'!$B$315","v":"9."},"#'Project identification'!$B$315"]
["action_plan_actv_9_1",{"$f":"'Project identification'!$C$315","v":0},"#'Project identification'!$C$315"]
["action_plan_actv_9_2",{"$f":"'Project identification'!$D$315","v":0},"#'Project identification'!$D$315"]
["action_plan_actv_9_3",{"$f":"'Project identification'!$E$315","v":0},"#'Project identification'!$E$315"]
["action_plan_actv_9_4",{"$f":"'Project identification'!$G$315","v":0},"#'Project identification'!$G$315"]
["action_plan_actv_9_5",{"$f":"'Project identification'!$H$315","v":0},"#'Project identification'!$H$315"]
["action_plan_actv_9_6",{"$f":"'Project identification'!$F$315","v":0},"#'Project identification'!$F$315"]
["action_plan_actv_9_7",{"$f":"'Project identification'!$I$315","v":0},"#'Project identification'!$I$315"]
["action_plan_actv_9_8",{"$f":"'Project identification'!$J$315","v":0},"#'Project identification'!$J$315"]
["Project identification'!BAD",{"$f":"'Project identification'!$R$306","v":0},"#'Project identification'!$R$306"]
["duration_project",{"$f":"'Project identification'!$C$19","v":0},"#'Project identification'!$C$19"]
["Cover!Environment",{"$f":"Cover!$P$31:$P$32","v":{"$error":"#VALUE!"}},"#Cover!$P$31:$P$32"]
["Environment",{"$f":"'Project identification'!$P$9:$P$10","v":{"$error":"#VALUE!"}},"#'Project identification'!$P$9:$P$10"]
["Cover!Environment1",{"$f":"Cover!$N$44:$N$45","v":{"$error":"#VALUE!"}},"#Cover!$N$44:$N$45"]
["Indicators1",{"$f":"'Project identification'!$O$341:$O$344","v":{"$error":"#VALUE!"}},"#'Project identification'!$O$341:$O$344"]
["Indicators2",{"$f":"'Project identification'!$O$345:$O$350","v":{"$error":"#VALUE!"}},"#'Project identification'!$O$345:$O$350"]
["Indicators3",{"$f":"'Project identification'!$O$351:$O$354","v":{"$error":"#VALUE!"}},"#'Project identification'!$O$351:$O$354"]
["Indicators4",{"$f":"'Project identification'!$O$355:$O$359","v":{"$error":"#VALUE!"}},"#'Project identification'!$O$355:$O$359"]
["Indicators5",{"$f":"'Project identification'!$O$360:$O$362","v":{"$error":"#VALUE!"}},"#'Project identification'!$O$360:$O$362"]
["invention_fild",{"$f":"Cover!$C$39","v":0},"#Cover!$C$39"]
["is_pp3",{"$f":"Checklist!$D$22","v":"x"},"#Checklist!$D$22"]
["is_pp4",{"$f":"Checklist!$D$30","v":"x"},"#Checklist!$D$30"]
["is_pp5",{"$f":"Checklist!$D$38","v":"x"},"#Checklist!$D$38"]
["Locations",{"$f":"'Project identification'!$M$93:$M$97","v":{"$error":"#VALUE!"}},"#'Project identification'!$M$93:$M$97"]
["OK",{"$f":"'Project identification'!$W$312:$W$313","v":{"$error":"#VALUE!"}},"#'Project identification'!$W$312:$W$313"]
["PP2'!Organ1",{"$f":"'PP2'!$O$17:$O$19","v":{"$error":"#VALUE!"}},"#'PP2'!$O$17:$O$19"]
["PP3'!Organ1",{"$f":"'PP3'!$O$17:$O$19","v":{"$error":"#VALUE!"}},"#'PP3'!$O$17:$O$19"]
["PP4'!Organ1",{"$f":"'PP4'!$O$17:$O$19","v":{"$error":"#VALUE!"}},"#'PP4'!$O$17:$O$19"]
["PP5'!Organ1",{"$f":"'PP5'!$O$17:$O$19","v":{"$error":"#VALUE!"}},"#'PP5'!$O$17:$O$19"]
["Organ1",{"$f":"'PP1(LP)'!$O$17:$O$19","v":{"$error":"#VALUE!"}},"#'PP1(LP)'!$O$17:$O$19"]
["PP2'!Organ2",{"$f":"'PP2'!$P$17:$P$26","v":{"$error":"#VALUE!"}},"#'PP2'!$P$17:$P$26"]
["PP3'!Organ2",{"$f":"'PP3'!$P$17:$P$26","v":{"$error":"#VALUE!"}},"#'PP3'!$P$17:$P$26"]
["PP4'!Organ2",{"$f":"'PP4'!$P$17:$P$26","v":{"$error":"#VALUE!"}},"#'PP4'!$P$17:$P$26"]
["PP5'!Organ2",{"$f":"'PP5'!$P$17:$P$26","v":{"$error":"#VALUE!"}},"#'PP5'!$P$17:$P$26"]
["Organ2",{"$f":"'PP1(LP)'!$P$17:$P$26","v":{"$error":"#VALUE!"}},"#'PP1(LP)'!$P$17:$P$26"]
["PP2'!Organ3",{"$f":"'PP2'!$Q$17:$Q$25","v":{"$error":"#VALUE!"}},"#'PP2'!$Q$17:$Q$25"]
["PP3'!Organ3",{"$f":"'PP3'!$Q$17:$Q$25","v":{"$error":"#VALUE!"}},"#'PP3'!$Q$17:$Q$25"]
["PP4'!Organ3",{"$f":"'PP4'!$Q$17:$Q$25","v":{"$error":"#VALUE!"}},"#'PP4'!$Q$17:$Q$25"]
["PP5'!Organ3",{"$f":"'PP5'!$Q$17:$Q$25","v":{"$error":"#VALUE!"}},"#'PP5'!$Q$17:$Q$25"]
["Organ3",{"$f":"'PP1(LP)'!$Q$17:$Q$25","v":{"$error":"#VALUE!"}},"#'PP1(LP)'!$Q$17:$Q$25"]
["PP2'!Organ4",{"$f":"'PP2'!$R$17:$R$24","v":{"$error":"#VALUE!"}},"#'PP2'!$R$17:$R$24"]
["PP3'!Organ4",{"$f":"'PP3'!$R$17:$R$24","v":{"$error":"#VALUE!"}},"#'PP3'!$R$17:$R$24"]
["PP4'!Organ4",{"$f":"'PP4'!$R$17:$R$24","v":{"$error":"#VALUE!"}},"#'PP4'!$R$17:$R$24"]
["PP5'!Organ4",{"$f":"'PP5'!$R$17:$R$24","v":{"$error":"#VALUE!"}},"#'PP5'!$R$17:$R$24"]
["Organ4",{"$f":"'PP1(LP)'!$R$17:$R$24","v":{"$error":"#VALUE!"}},"#'PP1(LP)'!$R$17:$R$24"]
["PP2'!Organ5",{"$f":"'PP2'!$S$17:$S$26","v":{"$error":"#VALUE!"}},"#'PP2'!$S$17:$S$26"]
["PP3'!Organ5",{"$f":"'PP3'!$S$17:$S$26","v":{"$error":"#VALUE!"}},"#'PP3'!$S$17:$S$26"]
["PP4'!Organ5",{"$f":"'PP4'!$S$17:$S$26","v":{"$error":"#VALUE!"}},"#'PP4'!$S$17:$S$26"]
["PP5'!Organ5",{"$f":"'PP5'!$S$17:$S$26","v":{"$error":"#VALUE!"}},"#'PP5'!$S$17:$S$26"]
["Organ5",{"$f":"'PP1(LP)'!$S$17:$S$26","v":{"$error":"#VALUE!"}},"#'PP1(LP)'!$S$17:$S$26"]
["Organization",{"$f":"'PP1(LP)'!$V$10:$V$24","v":{"$error":"#VALUE!"}},"#'PP1(LP)'!$V$10:$V$24"]
["pi_act_1_descrp",{"$f":"'Project identification'!$B$93","v":0},"#'Project identification'!$B$93"]
["pi_act_1_location",{"$f":"'Project identification'!$C$91","v":0},"#'Project identification'!$C$91"]
["pi_act_1_metod",{"$f":"'Project identification'!$B$97","v":"asdasdasdsad"},"#'Project identification'!$B$97"]
["pi_act_1_output",{"$f":"'Project identification'!$B$99","v":"asdasdsad"},"#'Project identification'!$B$99"]
["pi_act_1_report",{"$f":"'Project identification'!$B$95","v":"dasdasd"},"#'Project identification'!$B$95"]
["pi_act_1_title",{"$f":"'Project identification'!$C$90","v":0},"#'Project identification'!$C$90"]
["pi_act_10_descrp",{"$f":"'Project identification'!$B$210","v":0},"#'Project identification'!$B$210"]
["pi_act_10_location",{"$f":"'Project identification'!$C$208","v":0},"#'Project identification'!$C$208"]
["pi_act_10_metod",{"$f":"'Project identification'!$B$214","v":0},"#'Project identification'!$B$214"]
["pi_act_10_output",{"$f":"'Project identification'!$B$216","v":0},"#'Project identification'!$B$216"]
["pi_act_10_report",{"$f":"'Project identification'!$B$212","v":0},"#'Project identification'!$B$212"]
["pi_act_10_title",{"$f":"'Project identification'!$C$207","v":0},"#'Project identification'!$C$207"]
["pi_act_11_descrp",{"$f":"'Project identification'!$B$223","v":0},"#'Project identification'!$B$223"]
["pi_act_11_location",{"$f":"'Project identification'!$C$221","v":0},"#'Project identification'!$C$221"]
["pi_act_11_metod",{"$f":"'Project identification'!$B$227","v":0},"#'Project identification'!$B$227"]
["pi_act_11_output",{"$f":"'Project identification'!$B$229","v":0},"#'Project identification'!$B$229"]
["pi_act_11_report",{"$f":"'Project identification'!$B$225","v":0},"#'Project identification'!$B$225"]
["pi_act_11_title",{"$f":"'Project identification'!$C$220","v":0},"#'Project identification'!$C$220"]
["pi_act_12_descrp",{"$f":"'Project identification'!$B$236","v":0},"#'Project identification'!$B$236"]
["pi_act_12_location",{"$f":"'Project identification'!$C$234","v":0},"#'Project identification'!$C$234"]
["pi_act_12_metod",{"$f":"'Project identification'!$B$240","v":0},"#'Project identification'!$B$240"]
["pi_act_12_output",{"$f":"'Project identification'!$B$242","v":0},"#'Project identification'!$B$242"]
["pi_act_12_report",{"$f":"'Project identification'!$B$238","v":0},"#'Project identification'!$B$238"]
["pi_act_12_title",{"$f":"'Project identification'!$C$233","v":0},"#'Project identification'!$C$233"]
["pi_act_13_descrp",{"$f":"'Project identification'!$B$249","v":0},"#'Project identification'!$B$249"]
["pi_act_13_location",{"$f":"'Project identification'!$C$247","v":0},"#'Project identification'!$C$247"]
["pi_act_13_metod",{"$f":"'Project identification'!$B$253","v":0},"#'Project identification'!$B$253"]
["pi_act_13_output",{"$f":"'Project identification'!$B$255","v":0},"#'Project identification'!$B$255"]
["pi_act_13_report",{"$f":"'Project identification'!$B$251","v":0},"#'Project identification'!$B$251"]
["pi_act_13_title",{"$f":"'Project identification'!$C$246","v":0},"#'Project identification'!$C$246"]
["pi_act_14_descrp",{"$f":"'Project identification'!$B$262","v":0},"#'Project identification'!$B$262"]
["pi_act_14_location",{"$f":"'Project identification'!$C$260","v":0},"#'Project identification'!$C$260"]
["pi_act_14_metod",{"$f":"'Project identification'!$B$266","v":0},"#'Project identification'!$B$266"]
["pi_act_14_output",{"$f":"'Project identification'!$B$268","v":0},"#'Project identification'!$B$268"]
["pi_act_14_report",{"$f":"'Project identification'!$B$264","v":0},"#'Project identification'!$B$264"]
["pi_act_14_title",{"$f":"'Project identification'!$C$259","v":0},"#'Project identification'!$C$259"]
["pi_act_15_descrp",{"$f":"'Project identification'!$B$275","v":0},"#'Project identification'!$B$275"]
["pi_act_15_location",{"$f":"'Project identification'!$C$273","v":0},"#'Project identification'!$C$273"]
["pi_act_15_metod",{"$f":"'Project identification'!$B$279","v":0},"#'Project identification'!$B$279"]
["pi_act_15_output",{"$f":"'Project identification'!$B$281","v":0},"#'Project identification'!$B$281"]
["pi_act_15_report",{"$f":"'Project identification'!$B$277","v":0},"#'Project identification'!$B$277"]
["pi_act_15_title",{"$f":"'Project identification'!$C$272","v":0},"#'Project identification'!$C$272"]
["pi_act_2_descrp",{"$f":"'Project identification'!$B$106","v":0},"#'Project identification'!$B$106"]
["pi_act_2_location",{"$f":"'Project identification'!$C$104","v":0},"#'Project identification'!$C$104"]
["pi_act_2_metod",{"$f":"'Project identification'!$B$110","v":0},"#'Project identification'!$B$110"]
["pi_act_2_output",{"$f":"'Project identification'!$B$112","v":0},"#'Project identification'!$B$112"]
["pi_act_2_report",{"$f":"'Project identification'!$B$108","v":"asdasdas"},"#'Project identification'!$B$108"]
["pi_act_2_title",{"$f":"'Project identification'!$C$103","v":0},"#'Project identification'!$C$103"]
["pi_act_3_descrp",{"$f":"'Project identification'!$B$119","v":0},"#'Project identification'!$B$119"]
["pi_act_3_location",{"$f":"'Project identification'!$C$117","v":0},"#'Project identification'!$C$117"]
["pi_act_3_metod",{"$f":"'Project identification'!$B$123","v":0},"#'Project identification'!$B$123"]
["pi_act_3_output",{"$f":"'Project identification'!$B$125","v":0},"#'Project identification'!$B$125"]
["pi_act_3_report",{"$f":"'Project identification'!$B$121","v":0},"#'Project identification'!$B$121"]
["pi_act_3_title",{"$f":"'Project identification'!$C$116","v":0},"#'Project identification'!$C$116"]
["pi_act_4_descrp",{"$f":"'Project identification'!$B$132","v":0},"#'Project identification'!$B$132"]
["pi_act_4_location",{"$f":"'Project identification'!$C$130","v":0},"#'Project identification'!$C$130"]
["pi_act_4_metod",{"$f":"'Project identification'!$B$136","v":0},"#'Project identification'!$B$136"]
["pi_act_4_output",{"$f":"'Project identification'!$B$138","v":0},"#'Project identification'!$B$138"]
["pi_act_4_report",{"$f":"'Project identification'!$B$134","v":0},"#'Project identification'!$B$134"]
["pi_act_4_title",{"$f":"'Project identification'!$C$129","v":0},"#'Project identification'!$C$129"]
["pi_act_5_descrp",{"$f":"'Project identification'!$B$145","v":0},"#'Project identification'!$B$145"]
["pi_act_5_location",{"$f":"'Project identification'!$C$143","v":0},"#'Project identification'!$C$143"]
["pi_act_5_metod",{"$f":"'Project identification'!$B$149","v":0},"#'Project identification'!$B$149"]
["pi_act_5_output",{"$f":"'Project identification'!$B$151","v":0},"#'Project identification'!$B$151"]
["pi_act_5_report",{"$f":"'Project identification'!$B$147","v":0},"#'Project identification'!$B$147"]
["pi_act_5_title",{"$f":"'Project identification'!$C$142","v":0},"#'Project identification'!$C$142"]
["pi_act_6_descrp",{"$f":"'Project identification'!$B$158","v":0},"#'Project identification'!$B$158"]
["pi_act_6_location",{"$f":"'Project identification'!$C$156","v":0},"#'Project identification'!$C$156"]
["pi_act_6_metod",{"$f":"'Project identification'!$B$162","v":0},"#'Project identification'!$B$162"]
["pi_act_6_output",{"$f":"'Project identification'!$B$164","v":0},"#'Project identification'!$B$164"]
["pi_act_6_report",{"$f":"'Project identification'!$B$160","v":0},"#'Project identification'!$B$160"]
["pi_act_6_title",{"$f":"'Project identification'!$C$155","v":0},"#'Project identification'!$C$155"]
["pi_act_7_descrp",{"$f":"'Project identification'!$B$171","v":0},"#'Project identification'!$B$171"]
["pi_act_7_location",{"$f":"'Project identification'!$C$169","v":0},"#'Project identification'!$C$169"]
["pi_act_7_metod",{"$f":"'Project identification'!$B$175","v":0},"#'Project identification'!$B$175"]
["pi_act_7_output",{"$f":"'Project identification'!$B$177","v":0},"#'Project identification'!$B$177"]
["pi_act_7_report",{"$f":"'Project identification'!$B$173","v":0},"#'Project identification'!$B$173"]
["pi_act_7_title",{"$f":"'Project identification'!$C$168","v":0},"#'Project identification'!$C$168"]
["pi_act_8_descrp",{"$f":"'Project identification'!$B$184","v":0},"#'Project identification'!$B$184"]
["pi_act_8_location",{"$f":"'Project identification'!$C$182","v":0},"#'Project identification'!$C$182"]
["pi_act_8_metod",{"$f":"'Project identification'!$B$188","v":0},"#'Project identification'!$B$188"]
["pi_act_8_output",{"$f":"'Project identification'!$B$190","v":0},"#'Project identification'!$B$190"]
["pi_act_8_report",{"$f":"'Project identification'!$B$186","v":0},"#'Project identification'!$B$186"]
["pi_act_8_title",{"$f":"'Project identification'!$C$181","v":0},"#'Project identification'!$C$181"]
["pi_act_9_descrp",{"$f":"'Project identification'!$B$197","v":0},"#'Project identification'!$B$197"]
["pi_act_9_location",{"$f":"'Project identification'!$C$195","v":0},"#'Project identification'!$C$195"]
["pi_act_9_metod",{"$f":"'Project identification'!$B$201","v":0},"#'Project identification'!$B$201"]
["pi_act_9_output",{"$f":"'Project identification'!$B$203","v":0},"#'Project identification'!$B$203"]
["pi_act_9_report",{"$f":"'Project identification'!$B$199","v":0},"#'Project identification'!$B$199"]
["pi_act_9_title",{"$f":"'Project identification'!$C$194","v":0},"#'Project identification'!$C$194"]
["pi_comm_str",{"$f":"'Project identification'!$B$296","v":0},"#'Project identification'!$B$296"]
["pi_comm_tool1",{"$f":"'Project identification'!$B$301","v":0},"#'Project identification'!$B$301"]
["pi_comm_tool1_1",{"$f":"'Project identification'!$B$302","v":0},"#'Project identification'!$B$302"]
["pi_comm_tool1_1_1",{"$f":"'Project identification'!$B$303","v":0},"#'Project identification'!$B$303"]
["pi_comm_tool2",{"$f":"'Project identification'!$D$301","v":0},"#'Project identification'!$D$301"]
["pi_comm_tool2_1",{"$f":"'Project identification'!$D$302","v":0},"#'Project identification'!$D$302"]
["pi_comm_tool2_1_1",{"$f":"'Project identification'!$D$303","v":0},"#'Project identification'!$D$303"]
["pi_comm_tool3",{"$f":"'Project identification'!$F$301","v":0},"#'Project identification'!$F$301"]
["pi_comm_tool3_1",{"$f":"'Project identification'!$F$302","v":0},"#'Project identification'!$F$302"]
["pi_comm_tool3_1_1",{"$f":"'Project identification'!$F$303","v":0},"#'Project identification'!$F$303"]
["pi_comm_tool4",{"$f":"'Project identification'!$I$301","v":0},"#'Project identification'!$I$301"]
["pi_comm_tool4_1",{"$f":"'Project identification'!$I$302","v":0},"#'Project identification'!$I$302"]
["pi_comm_tool4_1_1",{"$f":"'Project identification'!$I$303","v":0},"#'Project identification'!$I$303"]
["pi_coop_crit1_check",{"$f":"'Project identification'!$C$26","v":0},"#'Project identification'!$C$26"]
["pi_coop_crit1_descr",{"$f":"'Project identification'!$B$27","v":0},"#'Project identification'!$B$27"]
["pi_coop_crit2_check",{"$f":"'Project identification'!$C$28","v":0},"#'Project identification'!$C$28"]
["pi_coop_crit2_descr",{"$f":"'Project identification'!$B$29","v":0},"#'Project identification'!$B$29"]
["pi_coop_crit3_check",{"$f":"'Project identification'!$C$30","v":0},"#'Project identification'!$C$30"]
["pi_coop_crit3_descr",{"$f":"'Project identification'!$B$31","v":0},"#'Project identification'!$B$31"]
["pi_coop_crit4_check",{"$f":"'Project identification'!$C$32","v":0},"#'Project identification'!$C$32"]
["pi_coop_crit4_descr",{"$f":"'Project identification'!$B$33","v":0},"#'Project identification'!$B$33"]
["pi_correspondence",{"$f":"'Project identification'!$B$76","v":0},"#'Project identification'!$B$76"]
["pi_cross_border_impact",{"$f":"'Project identification'!$B$37","v":0},"#'Project identification'!$B$37"]
["pi_efect",{"$f":"'Project identification'!$B$351","v":0},"#'Project identification'!$B$351"]
["pi_hrz_1",{"$f":"'Project identification'!$C$374","v":0},"#'Project identification'!$C$374"]
["pi_hrz_2",{"$f":"'Project identification'!$C$375","v":0},"#'Project identification'!$C$375"]
["pi_hrz_3",{"$f":"'Project identification'!$C$376","v":0},"#'Project identification'!$C$376"]
["pi_management",{"$f":"'Project identification'!$B$330","v":0},"#'Project identification'!$B$330"]
["pi_monit_justf",{"$f":"'Project identification'!$E$340","v":0},"#'Project identification'!$E$340"]
["pi_monit_quant",{"$f":"'Project identification'!$C$340","v":0},"#'Project identification'!$C$340"]
["pi_new_indicator",{"$f":"'Project identification'!$J$340","v":0},"#'Project identification'!$J$340"]
["pi_other_prj",{"$f":"'Project identification'!$B$369","v":0},"#'Project identification'!$B$369"]
["pi_other_str",{"$f":"'Project identification'!$B$364","v":0},"#'Project identification'!$B$364"]
["pi_out_indicator2",{"$f":"'Project identification'!$B$341","v":0},"#'Project identification'!$B$341"]
["pi_out_indicator3",{"$f":"'Project identification'!$B$342","v":0},"#'Project identification'!$B$342"]
["pi_out_indicator4",{"$f":"'Project identification'!$B$343","v":0},"#'Project identification'!$B$343"]
["pi_out_indicator5",{"$f":"'Project identification'!$B$344","v":0},"#'Project identification'!$B$344"]
["pi_out_indicator6",{"$f":"'Project identification'!$B$345","v":0},"#'Project identification'!$B$345"]
["pi_out_indicators",{"$f":"'Project identification'!$B$340","v":0},"#'Project identification'!$B$340"]
["pi_pd_back1",{"$f":"'Project identification'!$B$68","v":0},"#'Project identification'!$B$68"]
["pi_pd_back2",{"$f":"'Project identification'!$B$69","v":0},"#'Project identification'!$B$69"]
["pi_pd_c83",{"$f":"'Project identification'!$C$83","v":0},"#'Project identification'!$C$83"]
["pi_pd_c85",{"$f":"'Project identification'!$C$85","v":0},"#'Project identification'!$C$85"]
["pi_pd_const",{"$f":"'Project identification'!$B$72","v":0},"#'Project identification'!$B$72"]
["pi_pd_e83",{"$f":"'Project identification'!$E$83","v":0},"#'Project identification'!$E$83"]
["pi_pd_e85",{"$f":"'Project identification'!$E$85","v":0},"#'Project identification'!$E$85"]
["pi_pd_i83",{"$f":"'Project identification'!$I$83","v":0},"#'Project identification'!$I$83"]
["pi_pd_i85",{"$f":"'Project identification'!$I$85","v":0},"#'Project identification'!$I$85"]
["pi_sustainability",{"$f":"'Project identification'!$B$356","v":0},"#'Project identification'!$B$356"]
["pp_1_bl1_1_name",{"$f":"'T2-B(PP1)'!$B$5","v":" project"},"#'T2-B(PP1)'!$B$5"]
["pp_1_bl1_1_perc",{"$f":"'T2-B(PP1)'!$G$5","v":0},"#'T2-B(PP1)'!$G$5"]
["pp_1_bl1_1_total",{"$f":"'T2-B(PP1)'!$I$5","v":0},"#'T2-B(PP1)'!$I$5"]
["pp_1_bl1_total",{"$f":"'T2-B(PP1)'!$I$6","v":0},"#'T2-B(PP1)'!$I$6"]
["pp_1_bl2_1_name",{"$f":"'T2-B(PP1)'!$B$10","v":" project"},"#'T2-B(PP1)'!$B$10"]
["pp_1_bl2_1_perc",{"$f":"'T2-B(PP1)'!$G$10","v":0},"#'T2-B(PP1)'!$G$10"]
["pp_1_bl2_1_total",{"$f":"'T2-B(PP1)'!$I$10","v":0},"#'T2-B(PP1)'!$I$10"]
["pp_1_bl2_total",{"$f":"'T2-B(PP1)'!$I$11","v":0},"#'T2-B(PP1)'!$I$11"]
["pp_1_proj_direct_total",{"$f":"'T2-B(PP1)'!$J$262","v":0},"#'T2-B(PP1)'!$J$262"]
["pp_1_proj_direct_total_in",{"$f":"'T2-B(PP1)'!$F$262","v":0},"#'T2-B(PP1)'!$F$262"]
["pp_1_proj_direct_total_out",{"$f":"'T2-B(PP1)'!$G$262","v":0},"#'T2-B(PP1)'!$G$262"]
["pp_1_proj_total",{"$f":"'T2-B(PP1)'!$J$263","v":0},"#'T2-B(PP1)'!$J$263"]
["pp_1_proj_total_in",{"$f":"'T2-B(PP1)'!$F$263","v":0},"#'T2-B(PP1)'!$F$263"]
["pp_1_proj_total_out",{"$f":"'T2-B(PP1)'!$G$263","v":0},"#'T2-B(PP1)'!$G$263"]
["pp_2_bl1_1_name",{"$f":"'T2-B(PP2)'!$B$5","v":" project"},"#'T2-B(PP2)'!$B$5"]
["pp_2_bl1_1_perc",{"$f":"'T2-B(PP2)'!$G$5","v":0},"#'T2-B(PP2)'!$G$5"]
["pp_2_bl1_1_total",{"$f":"'T2-B(PP2)'!$I$5","v":0},"#'T2-B(PP2)'!$I$5"]
["pp_2_bl1_total",{"$f":"'T2-B(PP2)'!$I$6","v":0},"#'T2-B(PP2)'!$I$6"]
["pp_2_bl2_1_name",{"$f":"'T2-B(PP2)'!$B$10","v":" project"},"#'T2-B(PP2)'!$B$10"]
["pp_2_bl2_1_perc",{"$f":"'T2-B(PP2)'!$G$10","v":0},"#'T2-B(PP2)'!$G$10"]
["pp_2_bl2_1_total",{"$f":"'T2-B(PP2)'!$I$10","v":0},"#'T2-B(PP2)'!$I$10"]
["pp_2_bl2_total",{"$f":"'T2-B(PP2)'!$I$11","v":0},"#'T2-B(PP2)'!$I$11"]
["pp_2_proj_direct_total",{"$f":"'T2-B(PP2)'!$J$262","v":0},"#'T2-B(PP2)'!$J$262"]
["pp_2_proj_direct_total_in",{"$f":"'T2-B(PP2)'!$F$262","v":0},"#'T2-B(PP2)'!$F$262"]
["pp_2_proj_direct_total_out",{"$f":"'T2-B(PP2)'!$G$262","v":0},"#'T2-B(PP2)'!$G$262"]
["pp_2_proj_total",{"$f":"'T2-B(PP2)'!$J$263","v":0},"#'T2-B(PP2)'!$J$263"]
["pp_2_proj_total_in",{"$f":"'T2-B(PP2)'!$F$263","v":0},"#'T2-B(PP2)'!$F$263"]
["pp_2_proj_total_out",{"$f":"'T2-B(PP2)'!$G$263","v":0},"#'T2-B(PP2)'!$G$263"]
["pp_3_bl1_1_name",{"$f":"'T2-B(PP3)'!$B$5","v":" project"},"#'T2-B(PP3)'!$B$5"]
["pp_3_bl1_1_perc",{"$f":"'T2-B(PP3)'!$G$5","v":0},"#'T2-B(PP3)'!$G$5"]
["pp_3_bl1_1_total",{"$f":"'T2-B(PP3)'!$I$5","v":0},"#'T2-B(PP3)'!$I$5"]
["pp_3_bl1_total",{"$f":"'T2-B(PP3)'!$I$6","v":0},"#'T2-B(PP3)'!$I$6"]
["pp_3_bl2_1_name",{"$f":"'T2-B(PP3)'!$B$10","v":" project"},"#'T2-B(PP3)'!$B$10"]
["pp_3_bl2_1_perc",{"$f":"'T2-B(PP3)'!$G$10","v":0},"#'T2-B(PP3)'!$G$10"]
["pp_3_bl2_1_total",{"$f":"'T2-B(PP3)'!$I$10","v":0},"#'T2-B(PP3)'!$I$10"]
["pp_3_bl2_total",{"$f":"'T2-B(PP3)'!$I$11","v":0},"#'T2-B(PP3)'!$I$11"]
["pp_3_proj_direct_total",{"$f":"'T2-B(PP3)'!$J$262","v":0},"#'T2-B(PP3)'!$J$262"]
["pp_3_proj_direct_total_in",{"$f":"'T2-B(PP3)'!$F$262","v":0},"#'T2-B(PP3)'!$F$262"]
["pp_3_proj_direct_total_out",{"$f":"'T2-B(PP3)'!$G$262","v":0},"#'T2-B(PP3)'!$G$262"]
["pp_3_proj_total",{"$f":"'T2-B(PP3)'!$J$263","v":0},"#'T2-B(PP3)'!$J$263"]
["pp_3_proj_total_in",{"$f":"'T2-B(PP3)'!$F$263","v":0},"#'T2-B(PP3)'!$F$263"]
["pp_3_proj_total_out",{"$f":"'T2-B(PP3)'!$G$263","v":0},"#'T2-B(PP3)'!$G$263"]
["pp_4_bl1_1_name",{"$f":"'T2-B(PP4)'!$B$5","v":" project"},"#'T2-B(PP4)'!$B$5"]
["pp_4_bl1_1_perc",{"$f":"'T2-B(PP4)'!$G$5","v":0},"#'T2-B(PP4)'!$G$5"]
["pp_4_bl1_1_total",{"$f":"'T2-B(PP4)'!$I$5","v":0},"#'T2-B(PP4)'!$I$5"]
["pp_4_bl1_total",{"$f":"'T2-B(PP4)'!$I$6","v":0},"#'T2-B(PP4)'!$I$6"]
["pp_4_bl2_1_name",{"$f":"'T2-B(PP4)'!$B$10","v":" project"},"#'T2-B(PP4)'!$B$10"]
["pp_4_bl2_1_perc",{"$f":"'T2-B(PP4)'!$G$10","v":0},"#'T2-B(PP4)'!$G$10"]
["pp_4_bl2_1_total",{"$f":"'T2-B(PP4)'!$I$10","v":0},"#'T2-B(PP4)'!$I$10"]
["pp_4_bl2_total",{"$f":"'T2-B(PP4)'!$I$11","v":0},"#'T2-B(PP4)'!$I$11"]
["pp_4_proj_direct_total",{"$f":"'T2-B(PP4)'!$J$262","v":0},"#'T2-B(PP4)'!$J$262"]
["pp_4_proj_direct_total_in",{"$f":"'T2-B(PP4)'!$F$262","v":0},"#'T2-B(PP4)'!$F$262"]
["pp_4_proj_direct_total_out",{"$f":"'T2-B(PP4)'!$G$262","v":0},"#'T2-B(PP4)'!$G$262"]
["pp_4_proj_total",{"$f":"'T2-B(PP4)'!$J$263","v":0},"#'T2-B(PP4)'!$J$263"]
["pp_4_proj_total_in",{"$f":"'T2-B(PP4)'!$F$263","v":0},"#'T2-B(PP4)'!$F$263"]
["pp_4_proj_total_out",{"$f":"'T2-B(PP4)'!$G$263","v":0},"#'T2-B(PP4)'!$G$263"]
["pp_5_bl1_1_name",{"$f":"'T2-B(PP5)'!$B$5","v":" project"},"#'T2-B(PP5)'!$B$5"]
["pp_5_bl1_1_perc",{"$f":"'T2-B(PP5)'!$G$5","v":0},"#'T2-B(PP5)'!$G$5"]
["pp_5_bl1_1_total",{"$f":"'T2-B(PP5)'!$I$5","v":0},"#'T2-B(PP5)'!$I$5"]
["pp_5_bl1_total",{"$f":"'T2-B(PP5)'!$I$6","v":0},"#'T2-B(PP5)'!$I$6"]
["pp_5_bl2_1_name",{"$f":"'T2-B(PP5)'!$B$10","v":" project"},"#'T2-B(PP5)'!$B$10"]
["pp_5_bl2_1_perc",{"$f":"'T2-B(PP5)'!$G$10","v":0},"#'T2-B(PP5)'!$G$10"]
["pp_5_bl2_1_total",{"$f":"'T2-B(PP5)'!$I$10","v":0},"#'T2-B(PP5)'!$I$10"]
["pp_5_bl2_total",{"$f":"'T2-B(PP5)'!$I$11","v":0},"#'T2-B(PP5)'!$I$11"]
["pp_5_proj_direct_total",{"$f":"'T2-B(PP5)'!$J$262","v":0},"#'T2-B(PP5)'!$J$262"]
["pp_5_proj_direct_total_in",{"$f":"'T2-B(PP5)'!$F$262","v":0},"#'T2-B(PP5)'!$F$262"]
["pp_5_proj_direct_total_out",{"$f":"'T2-B(PP5)'!$G$262","v":0},"#'T2-B(PP5)'!$G$262"]
["pp_5_proj_total",{"$f":"'T2-B(PP5)'!$J$263","v":0},"#'T2-B(PP5)'!$J$263"]
["pp_5_proj_total_in",{"$f":"'T2-B(PP5)'!$F$263","v":0},"#'T2-B(PP5)'!$F$263"]
["pp_5_proj_total_out",{"$f":"'T2-B(PP5)'!$G$263","v":0},"#'T2-B(PP5)'!$G$263"]
["pp1_2012_fulltime_staff",{"$f":"'PP1(LP)'!$D$79","v":0},"#'PP1(LP)'!$D$79"]
["pp1_2012_offices",{"$f":"'PP1(LP)'!$F$79","v":0},"#'PP1(LP)'!$F$79"]
["pp1_2012_parttime_staff",{"$f":"'PP1(LP)'!$E$79","v":0},"#'PP1(LP)'!$E$79"]
["pp1_2012_turnover",{"$f":"'PP1(LP)'!$C$79","v":0},"#'PP1(LP)'!$C$79"]
["pp1_2013_fulltime_staff",{"$f":"'PP1(LP)'!$D$78","v":0},"#'PP1(LP)'!$D$78"]
["pp1_2013_offices",{"$f":"'PP1(LP)'!$F$78","v":0},"#'PP1(LP)'!$F$78"]
["pp1_2013_parttime_staff",{"$f":"'PP1(LP)'!$E$78","v":0},"#'PP1(LP)'!$E$78"]
["pp1_2013_turnover",{"$f":"'PP1(LP)'!$C$78","v":0},"#'PP1(LP)'!$C$78"]
["pp1_2014_fulltime_staff",{"$f":"'PP1(LP)'!$D$77","v":0},"#'PP1(LP)'!$D$77"]
["pp1_2014_offices",{"$f":"'PP1(LP)'!$F$77","v":0},"#'PP1(LP)'!$F$77"]
["pp1_2014_parttime_staff",{"$f":"'PP1(LP)'!$E$77","v":0},"#'PP1(LP)'!$E$77"]
["pp1_2014_turnover",{"$f":"'PP1(LP)'!$C$77","v":0},"#'PP1(LP)'!$C$77"]
["pp1_address",{"$f":"'PP1(LP)'!$C$19","v":0},"#'PP1(LP)'!$C$19"]
["pp1_bl3_1_1_name",{"$f":"'T2-B(PP1)'!$B$16","v":0},"#'T2-B(PP1)'!$B$16"]
["pp1_bl3_1_1_rate_in",{"$f":"'T2-B(PP1)'!$E$16","v":0},"#'T2-B(PP1)'!$E$16"]
["pp1_bl3_1_1_rate_out",{"$f":"'T2-B(PP1)'!$H$16","v":0},"#'T2-B(PP1)'!$H$16"]
["pp1_bl3_1_1_total",{"$f":"'T2-B(PP1)'!$J$16","v":0},"#'T2-B(PP1)'!$J$16"]
["pp1_bl3_1_1_total_in",{"$f":"'T2-B(PP1)'!$F$16","v":0},"#'T2-B(PP1)'!$F$16"]
["pp1_bl3_1_1_total_out",{"$f":"'T2-B(PP1)'!$I$16","v":0},"#'T2-B(PP1)'!$I$16"]
["pp1_bl3_1_1_unit",{"$f":"'T2-B(PP1)'!$C$16","v":0},"#'T2-B(PP1)'!$C$16"]
["pp1_bl3_1_1_unit_in",{"$f":"'T2-B(PP1)'!$D$16","v":0},"#'T2-B(PP1)'!$D$16"]
["pp1_bl3_1_1_units_out",{"$f":"'T2-B(PP1)'!$G$16","v":0},"#'T2-B(PP1)'!$G$16"]
["pp1_bl3_1_10_name",{"$f":"'T2-B(PP1)'!$B$25","v":0},"#'T2-B(PP1)'!$B$25"]
["pp1_bl3_1_10_rate_in",{"$f":"'T2-B(PP1)'!$E$25","v":0},"#'T2-B(PP1)'!$E$25"]
["pp1_bl3_1_10_rate_out",{"$f":"'T2-B(PP1)'!$H$25","v":0},"#'T2-B(PP1)'!$H$25"]
["pp1_bl3_1_10_total",{"$f":"'T2-B(PP1)'!$J$25","v":0},"#'T2-B(PP1)'!$J$25"]
["pp1_bl3_1_10_total_in",{"$f":"'T2-B(PP1)'!$F$25","v":0},"#'T2-B(PP1)'!$F$25"]
["pp1_bl3_1_10_total_out",{"$f":"'T2-B(PP1)'!$I$25","v":0},"#'T2-B(PP1)'!$I$25"]
["pp1_bl3_1_10_unit",{"$f":"'T2-B(PP1)'!$C$25","v":0},"#'T2-B(PP1)'!$C$25"]
["pp1_bl3_1_10_unit_in",{"$f":"'T2-B(PP1)'!$D$25","v":0},"#'T2-B(PP1)'!$D$25"]
["pp1_bl3_1_10_units_out",{"$f":"'T2-B(PP1)'!$G$25","v":0},"#'T2-B(PP1)'!$G$25"]
["pp1_bl3_1_2_name",{"$f":"'T2-B(PP1)'!$B$17","v":0},"#'T2-B(PP1)'!$B$17"]
["pp1_bl3_1_2_rate_in",{"$f":"'T2-B(PP1)'!$E$17","v":0},"#'T2-B(PP1)'!$E$17"]
["pp1_bl3_1_2_rate_out",{"$f":"'T2-B(PP1)'!$H$17","v":0},"#'T2-B(PP1)'!$H$17"]
["pp1_bl3_1_2_total",{"$f":"'T2-B(PP1)'!$J$17","v":0},"#'T2-B(PP1)'!$J$17"]
["pp1_bl3_1_2_total_in",{"$f":"'T2-B(PP1)'!$F$17","v":0},"#'T2-B(PP1)'!$F$17"]
["pp1_bl3_1_2_total_out",{"$f":"'T2-B(PP1)'!$I$17","v":0},"#'T2-B(PP1)'!$I$17"]
["pp1_bl3_1_2_unit",{"$f":"'T2-B(PP1)'!$C$17","v":0},"#'T2-B(PP1)'!$C$17"]
["pp1_bl3_1_2_unit_in",{"$f":"'T2-B(PP1)'!$D$17","v":0},"#'T2-B(PP1)'!$D$17"]
["pp1_bl3_1_2_units_out",{"$f":"'T2-B(PP1)'!$G$17","v":0},"#'T2-B(PP1)'!$G$17"]
["pp1_bl3_1_3_name",{"$f":"'T2-B(PP1)'!$B$18","v":0},"#'T2-B(PP1)'!$B$18"]
["pp1_bl3_1_3_rate_in",{"$f":"'T2-B(PP1)'!$E$18","v":0},"#'T2-B(PP1)'!$E$18"]
["pp1_bl3_1_3_rate_out",{"$f":"'T2-B(PP1)'!$H$18","v":0},"#'T2-B(PP1)'!$H$18"]
["pp1_bl3_1_3_total",{"$f":"'T2-B(PP1)'!$J$18","v":0},"#'T2-B(PP1)'!$J$18"]
["pp1_bl3_1_3_total_in",{"$f":"'T2-B(PP1)'!$F$18","v":0},"#'T2-B(PP1)'!$F$18"]
["pp1_bl3_1_3_total_out",{"$f":"'T2-B(PP1)'!$I$18","v":0},"#'T2-B(PP1)'!$I$18"]
["pp1_bl3_1_3_unit",{"$f":"'T2-B(PP1)'!$C$18","v":0},"#'T2-B(PP1)'!$C$18"]
["pp1_bl3_1_3_unit_in",{"$f":"'T2-B(PP1)'!$D$18","v":0},"#'T2-B(PP1)'!$D$18"]
["pp1_bl3_1_3_units_out",{"$f":"'T2-B(PP1)'!$G$18","v":0},"#'T2-B(PP1)'!$G$18"]
["pp1_bl3_1_4_name",{"$f":"'T2-B(PP1)'!$B$19","v":0},"#'T2-B(PP1)'!$B$19"]
["pp1_bl3_1_4_rate_in",{"$f":"'T2-B(PP1)'!$E$19","v":0},"#'T2-B(PP1)'!$E$19"]
["pp1_bl3_1_4_rate_out",{"$f":"'T2-B(PP1)'!$H$19","v":0},"#'T2-B(PP1)'!$H$19"]
["pp1_bl3_1_4_total",{"$f":"'T2-B(PP1)'!$J$19","v":0},"#'T2-B(PP1)'!$J$19"]
["pp1_bl3_1_4_total_in",{"$f":"'T2-B(PP1)'!$F$19","v":0},"#'T2-B(PP1)'!$F$19"]
["pp1_bl3_1_4_total_out",{"$f":"'T2-B(PP1)'!$I$19","v":0},"#'T2-B(PP1)'!$I$19"]
["pp1_bl3_1_4_unit",{"$f":"'T2-B(PP1)'!$C$19","v":0},"#'T2-B(PP1)'!$C$19"]
["pp1_bl3_1_4_unit_in",{"$f":"'T2-B(PP1)'!$D$19","v":0},"#'T2-B(PP1)'!$D$19"]
["pp1_bl3_1_4_units_out",{"$f":"'T2-B(PP1)'!$G$19","v":0},"#'T2-B(PP1)'!$G$19"]
["pp1_bl3_1_5_name",{"$f":"'T2-B(PP1)'!$B$20","v":0},"#'T2-B(PP1)'!$B$20"]
["pp1_bl3_1_5_rate_in",{"$f":"'T2-B(PP1)'!$E$20","v":0},"#'T2-B(PP1)'!$E$20"]
["pp1_bl3_1_5_rate_out",{"$f":"'T2-B(PP1)'!$H$20","v":0},"#'T2-B(PP1)'!$H$20"]
["pp1_bl3_1_5_total",{"$f":"'T2-B(PP1)'!$J$20","v":0},"#'T2-B(PP1)'!$J$20"]
["pp1_bl3_1_5_total_in",{"$f":"'T2-B(PP1)'!$F$20","v":0},"#'T2-B(PP1)'!$F$20"]
["pp1_bl3_1_5_total_out",{"$f":"'T2-B(PP1)'!$I$20","v":0},"#'T2-B(PP1)'!$I$20"]
["pp1_bl3_1_5_unit",{"$f":"'T2-B(PP1)'!$C$20","v":0},"#'T2-B(PP1)'!$C$20"]
["pp1_bl3_1_5_unit_in",{"$f":"'T2-B(PP1)'!$D$20","v":0},"#'T2-B(PP1)'!$D$20"]
["pp1_bl3_1_5_units_out",{"$f":"'T2-B(PP1)'!$G$20","v":0},"#'T2-B(PP1)'!$G$20"]
["pp1_bl3_1_6_name",{"$f":"'T2-B(PP1)'!$B$21","v":0},"#'T2-B(PP1)'!$B$21"]
["pp1_bl3_1_6_rate_in",{"$f":"'T2-B(PP1)'!$E$21","v":0},"#'T2-B(PP1)'!$E$21"]
["pp1_bl3_1_6_rate_out",{"$f":"'T2-B(PP1)'!$H$21","v":0},"#'T2-B(PP1)'!$H$21"]
["pp1_bl3_1_6_total",{"$f":"'T2-B(PP1)'!$J$21","v":0},"#'T2-B(PP1)'!$J$21"]
["pp1_bl3_1_6_total_in",{"$f":"'T2-B(PP1)'!$F$21","v":0},"#'T2-B(PP1)'!$F$21"]
["pp1_bl3_1_6_total_out",{"$f":"'T2-B(PP1)'!$I$21","v":0},"#'T2-B(PP1)'!$I$21"]
["pp1_bl3_1_6_unit",{"$f":"'T2-B(PP1)'!$C$21","v":0},"#'T2-B(PP1)'!$C$21"]
["pp1_bl3_1_6_unit_in",{"$f":"'T2-B(PP1)'!$D$21","v":0},"#'T2-B(PP1)'!$D$21"]
["pp1_bl3_1_6_units_out",{"$f":"'T2-B(PP1)'!$G$21","v":0},"#'T2-B(PP1)'!$G$21"]
["pp1_bl3_1_7_name",{"$f":"'T2-B(PP1)'!$B$22","v":0},"#'T2-B(PP1)'!$B$22"]
["pp1_bl3_1_7_rate_in",{"$f":"'T2-B(PP1)'!$E$22","v":0},"#'T2-B(PP1)'!$E$22"]
["pp1_bl3_1_7_rate_out",{"$f":"'T2-B(PP1)'!$H$22","v":0},"#'T2-B(PP1)'!$H$22"]
["pp1_bl3_1_7_total",{"$f":"'T2-B(PP1)'!$J$22","v":0},"#'T2-B(PP1)'!$J$22"]
["pp1_bl3_1_7_total_in",{"$f":"'T2-B(PP1)'!$F$22","v":0},"#'T2-B(PP1)'!$F$22"]
["pp1_bl3_1_7_total_out",{"$f":"'T2-B(PP1)'!$I$22","v":0},"#'T2-B(PP1)'!$I$22"]
["pp1_bl3_1_7_unit",{"$f":"'T2-B(PP1)'!$C$22","v":0},"#'T2-B(PP1)'!$C$22"]
["pp1_bl3_1_7_unit_in",{"$f":"'T2-B(PP1)'!$D$22","v":0},"#'T2-B(PP1)'!$D$22"]
["pp1_bl3_1_7_units_out",{"$f":"'T2-B(PP1)'!$G$22","v":0},"#'T2-B(PP1)'!$G$22"]
["pp1_bl3_1_8_name",{"$f":"'T2-B(PP1)'!$B$23","v":0},"#'T2-B(PP1)'!$B$23"]
["pp1_bl3_1_8_rate_in",{"$f":"'T2-B(PP1)'!$E$23","v":0},"#'T2-B(PP1)'!$E$23"]
["pp1_bl3_1_8_rate_out",{"$f":"'T2-B(PP1)'!$H$23","v":0},"#'T2-B(PP1)'!$H$23"]
["pp1_bl3_1_8_total",{"$f":"'T2-B(PP1)'!$J$23","v":0},"#'T2-B(PP1)'!$J$23"]
["pp1_bl3_1_8_total_in",{"$f":"'T2-B(PP1)'!$F$23","v":0},"#'T2-B(PP1)'!$F$23"]
["pp1_bl3_1_8_total_out",{"$f":"'T2-B(PP1)'!$I$23","v":0},"#'T2-B(PP1)'!$I$23"]
["pp1_bl3_1_8_unit",{"$f":"'T2-B(PP1)'!$C$23","v":0},"#'T2-B(PP1)'!$C$23"]
["pp1_bl3_1_8_unit_in",{"$f":"'T2-B(PP1)'!$D$23","v":0},"#'T2-B(PP1)'!$D$23"]
["pp1_bl3_1_8_units_out",{"$f":"'T2-B(PP1)'!$G$23","v":0},"#'T2-B(PP1)'!$G$23"]
["pp1_bl3_1_9_name",{"$f":"'T2-B(PP1)'!$B$24","v":0},"#'T2-B(PP1)'!$B$24"]
["pp1_bl3_1_9_rate_in",{"$f":"'T2-B(PP1)'!$E$24","v":0},"#'T2-B(PP1)'!$E$24"]
["pp1_bl3_1_9_rate_out",{"$f":"'T2-B(PP1)'!$H$24","v":0},"#'T2-B(PP1)'!$H$24"]
["pp1_bl3_1_9_total",{"$f":"'T2-B(PP1)'!$J$24","v":0},"#'T2-B(PP1)'!$J$24"]
["pp1_bl3_1_9_total_in",{"$f":"'T2-B(PP1)'!$F$24","v":0},"#'T2-B(PP1)'!$F$24"]
["pp1_bl3_1_9_total_out",{"$f":"'T2-B(PP1)'!$I$24","v":0},"#'T2-B(PP1)'!$I$24"]
["pp1_bl3_1_9_unit",{"$f":"'T2-B(PP1)'!$C$24","v":0},"#'T2-B(PP1)'!$C$24"]
["pp1_bl3_1_9_unit_in",{"$f":"'T2-B(PP1)'!$D$24","v":0},"#'T2-B(PP1)'!$D$24"]
["pp1_bl3_1_9_units_out",{"$f":"'T2-B(PP1)'!$G$24","v":0},"#'T2-B(PP1)'!$G$24"]
["pp1_bl3_1_total",{"$f":"'T2-B(PP1)'!$J$15","v":0},"#'T2-B(PP1)'!$J$15"]
["pp1_bl3_1_total_in",{"$f":"'T2-B(PP1)'!$F$15","v":0},"#'T2-B(PP1)'!$F$15"]
["pp1_bl3_1_total_out",{"$f":"'T2-B(PP1)'!$I$15","v":0},"#'T2-B(PP1)'!$I$15"]
["pp1_bl3_2_1_name",{"$f":"'T2-B(PP1)'!$B$27","v":0},"#'T2-B(PP1)'!$B$27"]
["pp1_bl3_2_1_rate_in",{"$f":"'T2-B(PP1)'!$E$27","v":0},"#'T2-B(PP1)'!$E$27"]
["pp1_bl3_2_1_rate_out",{"$f":"'T2-B(PP1)'!$H$27","v":0},"#'T2-B(PP1)'!$H$27"]
["pp1_bl3_2_1_total",{"$f":"'T2-B(PP1)'!$J$27","v":0},"#'T2-B(PP1)'!$J$27"]
["pp1_bl3_2_1_total_in",{"$f":"'T2-B(PP1)'!$F$27","v":0},"#'T2-B(PP1)'!$F$27"]
["pp1_bl3_2_1_total_out",{"$f":"'T2-B(PP1)'!$I$27","v":0},"#'T2-B(PP1)'!$I$27"]
["pp1_bl3_2_1_unit",{"$f":"'T2-B(PP1)'!$C$27","v":0},"#'T2-B(PP1)'!$C$27"]
["pp1_bl3_2_1_unit_in",{"$f":"'T2-B(PP1)'!$D$27","v":0},"#'T2-B(PP1)'!$D$27"]
["pp1_bl3_2_1_units_out",{"$f":"'T2-B(PP1)'!$G$27","v":0},"#'T2-B(PP1)'!$G$27"]
["pp1_bl3_2_10_name",{"$f":"'T2-B(PP1)'!$B$36","v":0},"#'T2-B(PP1)'!$B$36"]
["pp1_bl3_2_10_rate_in",{"$f":"'T2-B(PP1)'!$E$36","v":0},"#'T2-B(PP1)'!$E$36"]
["pp1_bl3_2_10_rate_out",{"$f":"'T2-B(PP1)'!$H$36","v":0},"#'T2-B(PP1)'!$H$36"]
["pp1_bl3_2_10_total",{"$f":"'T2-B(PP1)'!$J$36","v":0},"#'T2-B(PP1)'!$J$36"]
["pp1_bl3_2_10_total_in",{"$f":"'T2-B(PP1)'!$F$36","v":0},"#'T2-B(PP1)'!$F$36"]
["pp1_bl3_2_10_total_out",{"$f":"'T2-B(PP1)'!$I$36","v":0},"#'T2-B(PP1)'!$I$36"]
["pp1_bl3_2_10_unit",{"$f":"'T2-B(PP1)'!$C$36","v":0},"#'T2-B(PP1)'!$C$36"]
["pp1_bl3_2_10_unit_in",{"$f":"'T2-B(PP1)'!$D$36","v":0},"#'T2-B(PP1)'!$D$36"]
["pp1_bl3_2_10_units_out",{"$f":"'T2-B(PP1)'!$G$36","v":0},"#'T2-B(PP1)'!$G$36"]
["pp1_bl3_2_2_name",{"$f":"'T2-B(PP1)'!$B$28","v":0},"#'T2-B(PP1)'!$B$28"]
["pp1_bl3_2_2_rate_in",{"$f":"'T2-B(PP1)'!$E$28","v":0},"#'T2-B(PP1)'!$E$28"]
["pp1_bl3_2_2_rate_out",{"$f":"'T2-B(PP1)'!$H$28","v":0},"#'T2-B(PP1)'!$H$28"]
["pp1_bl3_2_2_total",{"$f":"'T2-B(PP1)'!$J$28","v":0},"#'T2-B(PP1)'!$J$28"]
["pp1_bl3_2_2_total_in",{"$f":"'T2-B(PP1)'!$F$28","v":0},"#'T2-B(PP1)'!$F$28"]
["pp1_bl3_2_2_total_out",{"$f":"'T2-B(PP1)'!$I$28","v":0},"#'T2-B(PP1)'!$I$28"]
["pp1_bl3_2_2_unit",{"$f":"'T2-B(PP1)'!$C$28","v":0},"#'T2-B(PP1)'!$C$28"]
["pp1_bl3_2_2_unit_in",{"$f":"'T2-B(PP1)'!$D$28","v":0},"#'T2-B(PP1)'!$D$28"]
["pp1_bl3_2_2_units_out",{"$f":"'T2-B(PP1)'!$G$28","v":0},"#'T2-B(PP1)'!$G$28"]
["pp1_bl3_2_3_name",{"$f":"'T2-B(PP1)'!$B$29","v":0},"#'T2-B(PP1)'!$B$29"]
["pp1_bl3_2_3_rate_in",{"$f":"'T2-B(PP1)'!$E$29","v":0},"#'T2-B(PP1)'!$E$29"]
["pp1_bl3_2_3_rate_out",{"$f":"'T2-B(PP1)'!$H$29","v":0},"#'T2-B(PP1)'!$H$29"]
["pp1_bl3_2_3_total",{"$f":"'T2-B(PP1)'!$J$29","v":0},"#'T2-B(PP1)'!$J$29"]
["pp1_bl3_2_3_total_in",{"$f":"'T2-B(PP1)'!$F$29","v":0},"#'T2-B(PP1)'!$F$29"]
["pp1_bl3_2_3_total_out",{"$f":"'T2-B(PP1)'!$I$29","v":0},"#'T2-B(PP1)'!$I$29"]
["pp1_bl3_2_3_unit",{"$f":"'T2-B(PP1)'!$C$29","v":0},"#'T2-B(PP1)'!$C$29"]
["pp1_bl3_2_3_unit_in",{"$f":"'T2-B(PP1)'!$D$29","v":0},"#'T2-B(PP1)'!$D$29"]
["pp1_bl3_2_3_units_out",{"$f":"'T2-B(PP1)'!$G$29","v":0},"#'T2-B(PP1)'!$G$29"]
["pp1_bl3_2_4_name",{"$f":"'T2-B(PP1)'!$B$30","v":0},"#'T2-B(PP1)'!$B$30"]
["pp1_bl3_2_4_rate_in",{"$f":"'T2-B(PP1)'!$E$30","v":0},"#'T2-B(PP1)'!$E$30"]
["pp1_bl3_2_4_rate_out",{"$f":"'T2-B(PP1)'!$H$30","v":0},"#'T2-B(PP1)'!$H$30"]
["pp1_bl3_2_4_total",{"$f":"'T2-B(PP1)'!$J$30","v":0},"#'T2-B(PP1)'!$J$30"]
["pp1_bl3_2_4_total_in",{"$f":"'T2-B(PP1)'!$F$30","v":0},"#'T2-B(PP1)'!$F$30"]
["pp1_bl3_2_4_total_out",{"$f":"'T2-B(PP1)'!$I$30","v":0},"#'T2-B(PP1)'!$I$30"]
["pp1_bl3_2_4_unit",{"$f":"'T2-B(PP1)'!$C$30","v":0},"#'T2-B(PP1)'!$C$30"]
["pp1_bl3_2_4_unit_in",{"$f":"'T2-B(PP1)'!$D$30","v":0},"#'T2-B(PP1)'!$D$30"]
["pp1_bl3_2_4_units_out",{"$f":"'T2-B(PP1)'!$G$30","v":0},"#'T2-B(PP1)'!$G$30"]
["pp1_bl3_2_5_name",{"$f":"'T2-B(PP1)'!$B$31","v":0},"#'T2-B(PP1)'!$B$31"]
["pp1_bl3_2_5_rate_in",{"$f":"'T2-B(PP1)'!$E$31","v":0},"#'T2-B(PP1)'!$E$31"]
["pp1_bl3_2_5_rate_out",{"$f":"'T2-B(PP1)'!$H$31","v":0},"#'T2-B(PP1)'!$H$31"]
["pp1_bl3_2_5_total",{"$f":"'T2-B(PP1)'!$J$31","v":0},"#'T2-B(PP1)'!$J$31"]
["pp1_bl3_2_5_total_in",{"$f":"'T2-B(PP1)'!$F$31","v":0},"#'T2-B(PP1)'!$F$31"]
["pp1_bl3_2_5_total_out",{"$f":"'T2-B(PP1)'!$I$31","v":0},"#'T2-B(PP1)'!$I$31"]
["pp1_bl3_2_5_unit",{"$f":"'T2-B(PP1)'!$C$31","v":0},"#'T2-B(PP1)'!$C$31"]
["pp1_bl3_2_5_unit_in",{"$f":"'T2-B(PP1)'!$D$31","v":0},"#'T2-B(PP1)'!$D$31"]
["pp1_bl3_2_5_units_out",{"$f":"'T2-B(PP1)'!$G$31","v":0},"#'T2-B(PP1)'!$G$31"]
["pp1_bl3_2_6_name",{"$f":"'T2-B(PP1)'!$B$32","v":0},"#'T2-B(PP1)'!$B$32"]
["pp1_bl3_2_6_rate_in",{"$f":"'T2-B(PP1)'!$E$32","v":0},"#'T2-B(PP1)'!$E$32"]
["pp1_bl3_2_6_rate_out",{"$f":"'T2-B(PP1)'!$H$32","v":0},"#'T2-B(PP1)'!$H$32"]
["pp1_bl3_2_6_total",{"$f":"'T2-B(PP1)'!$J$32","v":0},"#'T2-B(PP1)'!$J$32"]
["pp1_bl3_2_6_total_in",{"$f":"'T2-B(PP1)'!$F$32","v":0},"#'T2-B(PP1)'!$F$32"]
["pp1_bl3_2_6_total_out",{"$f":"'T2-B(PP1)'!$I$32","v":0},"#'T2-B(PP1)'!$I$32"]
["pp1_bl3_2_6_unit",{"$f":"'T2-B(PP1)'!$C$32","v":0},"#'T2-B(PP1)'!$C$32"]
["pp1_bl3_2_6_unit_in",{"$f":"'T2-B(PP1)'!$D$32","v":0},"#'T2-B(PP1)'!$D$32"]
["pp1_bl3_2_6_units_out",{"$f":"'T2-B(PP1)'!$G$32","v":0},"#'T2-B(PP1)'!$G$32"]
["pp1_bl3_2_7_name",{"$f":"'T2-B(PP1)'!$B$33","v":0},"#'T2-B(PP1)'!$B$33"]
["pp1_bl3_2_7_rate_in",{"$f":"'T2-B(PP1)'!$E$33","v":0},"#'T2-B(PP1)'!$E$33"]
["pp1_bl3_2_7_rate_out",{"$f":"'T2-B(PP1)'!$H$33","v":0},"#'T2-B(PP1)'!$H$33"]
["pp1_bl3_2_7_total",{"$f":"'T2-B(PP1)'!$J$33","v":0},"#'T2-B(PP1)'!$J$33"]
["pp1_bl3_2_7_total_in",{"$f":"'T2-B(PP1)'!$F$33","v":0},"#'T2-B(PP1)'!$F$33"]
["pp1_bl3_2_7_total_out",{"$f":"'T2-B(PP1)'!$I$33","v":0},"#'T2-B(PP1)'!$I$33"]
["pp1_bl3_2_7_unit",{"$f":"'T2-B(PP1)'!$C$33","v":0},"#'T2-B(PP1)'!$C$33"]
["pp1_bl3_2_7_unit_in",{"$f":"'T2-B(PP1)'!$D$33","v":0},"#'T2-B(PP1)'!$D$33"]
["pp1_bl3_2_7_units_out",{"$f":"'T2-B(PP1)'!$G$33","v":0},"#'T2-B(PP1)'!$G$33"]
["pp1_bl3_2_8_name",{"$f":"'T2-B(PP1)'!$B$34","v":0},"#'T2-B(PP1)'!$B$34"]
["pp1_bl3_2_8_rate_in",{"$f":"'T2-B(PP1)'!$E$34","v":0},"#'T2-B(PP1)'!$E$34"]
["pp1_bl3_2_8_rate_out",{"$f":"'T2-B(PP1)'!$H$34","v":0},"#'T2-B(PP1)'!$H$34"]
["pp1_bl3_2_8_total",{"$f":"'T2-B(PP1)'!$J$34","v":0},"#'T2-B(PP1)'!$J$34"]
["pp1_bl3_2_8_total_in",{"$f":"'T2-B(PP1)'!$F$34","v":0},"#'T2-B(PP1)'!$F$34"]
["pp1_bl3_2_8_total_out",{"$f":"'T2-B(PP1)'!$I$34","v":0},"#'T2-B(PP1)'!$I$34"]
["pp1_bl3_2_8_unit",{"$f":"'T2-B(PP1)'!$C$34","v":0},"#'T2-B(PP1)'!$C$34"]
["pp1_bl3_2_8_unit_in",{"$f":"'T2-B(PP1)'!$D$34","v":0},"#'T2-B(PP1)'!$D$34"]
["pp1_bl3_2_8_units_out",{"$f":"'T2-B(PP1)'!$G$34","v":0},"#'T2-B(PP1)'!$G$34"]
["pp1_bl3_2_9_name",{"$f":"'T2-B(PP1)'!$B$35","v":0},"#'T2-B(PP1)'!$B$35"]
["pp1_bl3_2_9_rate_in",{"$f":"'T2-B(PP1)'!$E$35","v":0},"#'T2-B(PP1)'!$E$35"]
["pp1_bl3_2_9_rate_out",{"$f":"'T2-B(PP1)'!$H$35","v":0},"#'T2-B(PP1)'!$H$35"]
["pp1_bl3_2_9_total",{"$f":"'T2-B(PP1)'!$J$35","v":0},"#'T2-B(PP1)'!$J$35"]
["pp1_bl3_2_9_total_in",{"$f":"'T2-B(PP1)'!$F$35","v":0},"#'T2-B(PP1)'!$F$35"]
["pp1_bl3_2_9_total_out",{"$f":"'T2-B(PP1)'!$I$35","v":0},"#'T2-B(PP1)'!$I$35"]
["pp1_bl3_2_9_unit",{"$f":"'T2-B(PP1)'!$C$35","v":0},"#'T2-B(PP1)'!$C$35"]
["pp1_bl3_2_9_unit_in",{"$f":"'T2-B(PP1)'!$D$35","v":0},"#'T2-B(PP1)'!$D$35"]
["pp1_bl3_2_9_units_out",{"$f":"'T2-B(PP1)'!$G$35","v":0},"#'T2-B(PP1)'!$G$35"]
["pp1_bl3_2_total",{"$f":"'T2-B(PP1)'!$J$26","v":0},"#'T2-B(PP1)'!$J$26"]
["pp1_bl3_2_total_in",{"$f":"'T2-B(PP1)'!$F$26","v":0},"#'T2-B(PP1)'!$F$26"]
["pp1_bl3_2_total_out",{"$f":"'T2-B(PP1)'!$I$26","v":0},"#'T2-B(PP1)'!$I$26"]
["pp1_bl3_3_1_name",{"$f":"'T2-B(PP1)'!$B$38","v":0},"#'T2-B(PP1)'!$B$38"]
["pp1_bl3_3_1_rate_in",{"$f":"'T2-B(PP1)'!$E$38","v":0},"#'T2-B(PP1)'!$E$38"]
["pp1_bl3_3_1_rate_out",{"$f":"'T2-B(PP1)'!$H$38","v":0},"#'T2-B(PP1)'!$H$38"]
["pp1_bl3_3_1_total",{"$f":"'T2-B(PP1)'!$J$38","v":0},"#'T2-B(PP1)'!$J$38"]
["pp1_bl3_3_1_total_in",{"$f":"'T2-B(PP1)'!$F$38","v":0},"#'T2-B(PP1)'!$F$38"]
["pp1_bl3_3_1_total_out",{"$f":"'T2-B(PP1)'!$I$38","v":0},"#'T2-B(PP1)'!$I$38"]
["pp1_bl3_3_1_unit",{"$f":"'T2-B(PP1)'!$C$38","v":0},"#'T2-B(PP1)'!$C$38"]
["pp1_bl3_3_1_unit_in",{"$f":"'T2-B(PP1)'!$D$38","v":0},"#'T2-B(PP1)'!$D$38"]
["pp1_bl3_3_1_units_out",{"$f":"'T2-B(PP1)'!$G$38","v":0},"#'T2-B(PP1)'!$G$38"]
["pp1_bl3_3_10_name",{"$f":"'T2-B(PP1)'!$B$47","v":0},"#'T2-B(PP1)'!$B$47"]
["pp1_bl3_3_10_rate_in",{"$f":"'T2-B(PP1)'!$E$47","v":0},"#'T2-B(PP1)'!$E$47"]
["pp1_bl3_3_10_rate_out",{"$f":"'T2-B(PP1)'!$H$47","v":0},"#'T2-B(PP1)'!$H$47"]
["pp1_bl3_3_10_total",{"$f":"'T2-B(PP1)'!$J$47","v":0},"#'T2-B(PP1)'!$J$47"]
["pp1_bl3_3_10_total_in",{"$f":"'T2-B(PP1)'!$F$47","v":0},"#'T2-B(PP1)'!$F$47"]
["pp1_bl3_3_10_total_out",{"$f":"'T2-B(PP1)'!$I$47","v":0},"#'T2-B(PP1)'!$I$47"]
["pp1_bl3_3_10_unit",{"$f":"'T2-B(PP1)'!$C$47","v":0},"#'T2-B(PP1)'!$C$47"]
["pp1_bl3_3_10_unit_in",{"$f":"'T2-B(PP1)'!$D$47","v":0},"#'T2-B(PP1)'!$D$47"]
["pp1_bl3_3_10_units_out",{"$f":"'T2-B(PP1)'!$G$47","v":0},"#'T2-B(PP1)'!$G$47"]
["pp1_bl3_3_2_name",{"$f":"'T2-B(PP1)'!$B$39","v":0},"#'T2-B(PP1)'!$B$39"]
["pp1_bl3_3_2_rate_in",{"$f":"'T2-B(PP1)'!$E$39","v":0},"#'T2-B(PP1)'!$E$39"]
["pp1_bl3_3_2_rate_out",{"$f":"'T2-B(PP1)'!$H$39","v":0},"#'T2-B(PP1)'!$H$39"]
["pp1_bl3_3_2_total",{"$f":"'T2-B(PP1)'!$J$39","v":0},"#'T2-B(PP1)'!$J$39"]
["pp1_bl3_3_2_total_in",{"$f":"'T2-B(PP1)'!$F$39","v":0},"#'T2-B(PP1)'!$F$39"]
["pp1_bl3_3_2_total_out",{"$f":"'T2-B(PP1)'!$I$39","v":0},"#'T2-B(PP1)'!$I$39"]
["pp1_bl3_3_2_unit",{"$f":"'T2-B(PP1)'!$C$39","v":0},"#'T2-B(PP1)'!$C$39"]
["pp1_bl3_3_2_unit_in",{"$f":"'T2-B(PP1)'!$D$39","v":0},"#'T2-B(PP1)'!$D$39"]
["pp1_bl3_3_2_units_out",{"$f":"'T2-B(PP1)'!$G$39","v":0},"#'T2-B(PP1)'!$G$39"]
["pp1_bl3_3_3_name",{"$f":"'T2-B(PP1)'!$B$40","v":0},"#'T2-B(PP1)'!$B$40"]
["pp1_bl3_3_3_rate_in",{"$f":"'T2-B(PP1)'!$E$40","v":0},"#'T2-B(PP1)'!$E$40"]
["pp1_bl3_3_3_rate_out",{"$f":"'T2-B(PP1)'!$H$40","v":0},"#'T2-B(PP1)'!$H$40"]
["pp1_bl3_3_3_total",{"$f":"'T2-B(PP1)'!$J$40","v":0},"#'T2-B(PP1)'!$J$40"]
["pp1_bl3_3_3_total_in",{"$f":"'T2-B(PP1)'!$F$40","v":0},"#'T2-B(PP1)'!$F$40"]
["pp1_bl3_3_3_total_out",{"$f":"'T2-B(PP1)'!$I$40","v":0},"#'T2-B(PP1)'!$I$40"]
["pp1_bl3_3_3_unit",{"$f":"'T2-B(PP1)'!$C$40","v":0},"#'T2-B(PP1)'!$C$40"]
["pp1_bl3_3_3_unit_in",{"$f":"'T2-B(PP1)'!$D$40","v":0},"#'T2-B(PP1)'!$D$40"]
["pp1_bl3_3_3_units_out",{"$f":"'T2-B(PP1)'!$G$40","v":0},"#'T2-B(PP1)'!$G$40"]
["pp1_bl3_3_4_name",{"$f":"'T2-B(PP1)'!$B$41","v":0},"#'T2-B(PP1)'!$B$41"]
["pp1_bl3_3_4_rate_in",{"$f":"'T2-B(PP1)'!$E$41","v":0},"#'T2-B(PP1)'!$E$41"]
["pp1_bl3_3_4_rate_out",{"$f":"'T2-B(PP1)'!$H$41","v":0},"#'T2-B(PP1)'!$H$41"]
["pp1_bl3_3_4_total",{"$f":"'T2-B(PP1)'!$J$41","v":0},"#'T2-B(PP1)'!$J$41"]
["pp1_bl3_3_4_total_in",{"$f":"'T2-B(PP1)'!$F$41","v":0},"#'T2-B(PP1)'!$F$41"]
["pp1_bl3_3_4_total_out",{"$f":"'T2-B(PP1)'!$I$41","v":0},"#'T2-B(PP1)'!$I$41"]
["pp1_bl3_3_4_unit",{"$f":"'T2-B(PP1)'!$C$41","v":0},"#'T2-B(PP1)'!$C$41"]
["pp1_bl3_3_4_unit_in",{"$f":"'T2-B(PP1)'!$D$41","v":0},"#'T2-B(PP1)'!$D$41"]
["pp1_bl3_3_4_units_out",{"$f":"'T2-B(PP1)'!$G$41","v":0},"#'T2-B(PP1)'!$G$41"]
["pp1_bl3_3_5_name",{"$f":"'T2-B(PP1)'!$B$42","v":0},"#'T2-B(PP1)'!$B$42"]
["pp1_bl3_3_5_rate_in",{"$f":"'T2-B(PP1)'!$E$42","v":0},"#'T2-B(PP1)'!$E$42"]
["pp1_bl3_3_5_rate_out",{"$f":"'T2-B(PP1)'!$H$42","v":0},"#'T2-B(PP1)'!$H$42"]
["pp1_bl3_3_5_total",{"$f":"'T2-B(PP1)'!$J$42","v":0},"#'T2-B(PP1)'!$J$42"]
["pp1_bl3_3_5_total_in",{"$f":"'T2-B(PP1)'!$F$42","v":0},"#'T2-B(PP1)'!$F$42"]
["pp1_bl3_3_5_total_out",{"$f":"'T2-B(PP1)'!$I$42","v":0},"#'T2-B(PP1)'!$I$42"]
["pp1_bl3_3_5_unit",{"$f":"'T2-B(PP1)'!$C$42","v":0},"#'T2-B(PP1)'!$C$42"]
["pp1_bl3_3_5_unit_in",{"$f":"'T2-B(PP1)'!$D$42","v":0},"#'T2-B(PP1)'!$D$42"]
["pp1_bl3_3_5_units_out",{"$f":"'T2-B(PP1)'!$G$42","v":0},"#'T2-B(PP1)'!$G$42"]
["pp1_bl3_3_6_name",{"$f":"'T2-B(PP1)'!$B$43","v":0},"#'T2-B(PP1)'!$B$43"]
["pp1_bl3_3_6_rate_in",{"$f":"'T2-B(PP1)'!$E$43","v":0},"#'T2-B(PP1)'!$E$43"]
["pp1_bl3_3_6_rate_out",{"$f":"'T2-B(PP1)'!$H$43","v":0},"#'T2-B(PP1)'!$H$43"]
["pp1_bl3_3_6_total",{"$f":"'T2-B(PP1)'!$J$43","v":0},"#'T2-B(PP1)'!$J$43"]
["pp1_bl3_3_6_total_in",{"$f":"'T2-B(PP1)'!$F$43","v":0},"#'T2-B(PP1)'!$F$43"]
["pp1_bl3_3_6_total_out",{"$f":"'T2-B(PP1)'!$I$43","v":0},"#'T2-B(PP1)'!$I$43"]
["pp1_bl3_3_6_unit",{"$f":"'T2-B(PP1)'!$C$43","v":0},"#'T2-B(PP1)'!$C$43"]
["pp1_bl3_3_6_unit_in",{"$f":"'T2-B(PP1)'!$D$43","v":0},"#'T2-B(PP1)'!$D$43"]
["pp1_bl3_3_6_units_out",{"$f":"'T2-B(PP1)'!$G$43","v":0},"#'T2-B(PP1)'!$G$43"]
["pp1_bl3_3_7_name",{"$f":"'T2-B(PP1)'!$B$44","v":0},"#'T2-B(PP1)'!$B$44"]
["pp1_bl3_3_7_rate_in",{"$f":"'T2-B(PP1)'!$E$44","v":0},"#'T2-B(PP1)'!$E$44"]
["pp1_bl3_3_7_rate_out",{"$f":"'T2-B(PP1)'!$H$44","v":0},"#'T2-B(PP1)'!$H$44"]
["pp1_bl3_3_7_total",{"$f":"'T2-B(PP1)'!$J$44","v":0},"#'T2-B(PP1)'!$J$44"]
["pp1_bl3_3_7_total_in",{"$f":"'T2-B(PP1)'!$F$44","v":0},"#'T2-B(PP1)'!$F$44"]
["pp1_bl3_3_7_total_out",{"$f":"'T2-B(PP1)'!$I$44","v":0},"#'T2-B(PP1)'!$I$44"]
["pp1_bl3_3_7_unit",{"$f":"'T2-B(PP1)'!$C$44","v":0},"#'T2-B(PP1)'!$C$44"]
["pp1_bl3_3_7_unit_in",{"$f":"'T2-B(PP1)'!$D$44","v":0},"#'T2-B(PP1)'!$D$44"]
["pp1_bl3_3_7_units_out",{"$f":"'T2-B(PP1)'!$G$44","v":0},"#'T2-B(PP1)'!$G$44"]
["pp1_bl3_3_8_name",{"$f":"'T2-B(PP1)'!$B$45","v":0},"#'T2-B(PP1)'!$B$45"]
["pp1_bl3_3_8_rate_in",{"$f":"'T2-B(PP1)'!$E$45","v":0},"#'T2-B(PP1)'!$E$45"]
["pp1_bl3_3_8_rate_out",{"$f":"'T2-B(PP1)'!$H$45","v":0},"#'T2-B(PP1)'!$H$45"]
["pp1_bl3_3_8_total",{"$f":"'T2-B(PP1)'!$J$45","v":0},"#'T2-B(PP1)'!$J$45"]
["pp1_bl3_3_8_total_in",{"$f":"'T2-B(PP1)'!$F$45","v":0},"#'T2-B(PP1)'!$F$45"]
["pp1_bl3_3_8_total_out",{"$f":"'T2-B(PP1)'!$I$45","v":0},"#'T2-B(PP1)'!$I$45"]
["pp1_bl3_3_8_unit",{"$f":"'T2-B(PP1)'!$C$45","v":0},"#'T2-B(PP1)'!$C$45"]
["pp1_bl3_3_8_unit_in",{"$f":"'T2-B(PP1)'!$D$45","v":0},"#'T2-B(PP1)'!$D$45"]
["pp1_bl3_3_8_units_out",{"$f":"'T2-B(PP1)'!$G$45","v":0},"#'T2-B(PP1)'!$G$45"]
["pp1_bl3_3_9_name",{"$f":"'T2-B(PP1)'!$B$46","v":0},"#'T2-B(PP1)'!$B$46"]
["pp1_bl3_3_9_rate_in",{"$f":"'T2-B(PP1)'!$E$46","v":0},"#'T2-B(PP1)'!$E$46"]
["pp1_bl3_3_9_rate_out",{"$f":"'T2-B(PP1)'!$H$46","v":0},"#'T2-B(PP1)'!$H$46"]
["pp1_bl3_3_9_total",{"$f":"'T2-B(PP1)'!$J$46","v":0},"#'T2-B(PP1)'!$J$46"]
["pp1_bl3_3_9_total_in",{"$f":"'T2-B(PP1)'!$F$46","v":0},"#'T2-B(PP1)'!$F$46"]
["pp1_bl3_3_9_total_out",{"$f":"'T2-B(PP1)'!$I$46","v":0},"#'T2-B(PP1)'!$I$46"]
["pp1_bl3_3_9_unit",{"$f":"'T2-B(PP1)'!$C$46","v":0},"#'T2-B(PP1)'!$C$46"]
["pp1_bl3_3_9_unit_in",{"$f":"'T2-B(PP1)'!$D$46","v":0},"#'T2-B(PP1)'!$D$46"]
["pp1_bl3_3_9_units_out",{"$f":"'T2-B(PP1)'!$G$46","v":0},"#'T2-B(PP1)'!$G$46"]
["pp1_bl3_3_total",{"$f":"'T2-B(PP1)'!$J$37","v":0},"#'T2-B(PP1)'!$J$37"]
["pp1_bl3_3_total_in",{"$f":"'T2-B(PP1)'!$F$37","v":0},"#'T2-B(PP1)'!$F$37"]
["pp1_bl3_3_total_out",{"$f":"'T2-B(PP1)'!$I$37","v":0},"#'T2-B(PP1)'!$I$37"]
["pp1_bl3_4_1_name",{"$f":"'T2-B(PP1)'!$B$49","v":0},"#'T2-B(PP1)'!$B$49"]
["pp1_bl3_4_1_rate_in",{"$f":"'T2-B(PP1)'!$E$49","v":0},"#'T2-B(PP1)'!$E$49"]
["pp1_bl3_4_1_rate_out",{"$f":"'T2-B(PP1)'!$H$49","v":0},"#'T2-B(PP1)'!$H$49"]
["pp1_bl3_4_1_total",{"$f":"'T2-B(PP1)'!$J$49","v":0},"#'T2-B(PP1)'!$J$49"]
["pp1_bl3_4_1_total_in",{"$f":"'T2-B(PP1)'!$F$49","v":0},"#'T2-B(PP1)'!$F$49"]
["pp1_bl3_4_1_total_out",{"$f":"'T2-B(PP1)'!$I$49","v":0},"#'T2-B(PP1)'!$I$49"]
["pp1_bl3_4_1_unit",{"$f":"'T2-B(PP1)'!$C$49","v":0},"#'T2-B(PP1)'!$C$49"]
["pp1_bl3_4_1_unit_in",{"$f":"'T2-B(PP1)'!$D$49","v":0},"#'T2-B(PP1)'!$D$49"]
["pp1_bl3_4_1_units_out",{"$f":"'T2-B(PP1)'!$G$49","v":0},"#'T2-B(PP1)'!$G$49"]
["pp1_bl3_4_10_name",{"$f":"'T2-B(PP1)'!$B$58","v":0},"#'T2-B(PP1)'!$B$58"]
["pp1_bl3_4_10_rate_in",{"$f":"'T2-B(PP1)'!$E$58","v":0},"#'T2-B(PP1)'!$E$58"]
["pp1_bl3_4_10_rate_out",{"$f":"'T2-B(PP1)'!$H$58","v":0},"#'T2-B(PP1)'!$H$58"]
["pp1_bl3_4_10_total",{"$f":"'T2-B(PP1)'!$J$58","v":0},"#'T2-B(PP1)'!$J$58"]
["pp1_bl3_4_10_total_in",{"$f":"'T2-B(PP1)'!$F$58","v":0},"#'T2-B(PP1)'!$F$58"]
["pp1_bl3_4_10_total_out",{"$f":"'T2-B(PP1)'!$I$58","v":0},"#'T2-B(PP1)'!$I$58"]
["pp1_bl3_4_10_unit",{"$f":"'T2-B(PP1)'!$C$58","v":0},"#'T2-B(PP1)'!$C$58"]
["pp1_bl3_4_10_unit_in",{"$f":"'T2-B(PP1)'!$D$58","v":0},"#'T2-B(PP1)'!$D$58"]
["pp1_bl3_4_10_units_out",{"$f":"'T2-B(PP1)'!$G$58","v":0},"#'T2-B(PP1)'!$G$58"]
["pp1_bl3_4_2_name",{"$f":"'T2-B(PP1)'!$B$50","v":0},"#'T2-B(PP1)'!$B$50"]
["pp1_bl3_4_2_rate_in",{"$f":"'T2-B(PP1)'!$E$50","v":0},"#'T2-B(PP1)'!$E$50"]
["pp1_bl3_4_2_rate_out",{"$f":"'T2-B(PP1)'!$H$50","v":0},"#'T2-B(PP1)'!$H$50"]
["pp1_bl3_4_2_total",{"$f":"'T2-B(PP1)'!$J$50","v":0},"#'T2-B(PP1)'!$J$50"]
["pp1_bl3_4_2_total_in",{"$f":"'T2-B(PP1)'!$F$50","v":0},"#'T2-B(PP1)'!$F$50"]
["pp1_bl3_4_2_total_out",{"$f":"'T2-B(PP1)'!$I$50","v":0},"#'T2-B(PP1)'!$I$50"]
["pp1_bl3_4_2_unit",{"$f":"'T2-B(PP1)'!$C$50","v":0},"#'T2-B(PP1)'!$C$50"]
["pp1_bl3_4_2_unit_in",{"$f":"'T2-B(PP1)'!$D$50","v":0},"#'T2-B(PP1)'!$D$50"]
["pp1_bl3_4_2_units_out",{"$f":"'T2-B(PP1)'!$G$50","v":0},"#'T2-B(PP1)'!$G$50"]
["pp1_bl3_4_3_name",{"$f":"'T2-B(PP1)'!$B$51","v":0},"#'T2-B(PP1)'!$B$51"]
["pp1_bl3_4_3_rate_in",{"$f":"'T2-B(PP1)'!$E$51","v":0},"#'T2-B(PP1)'!$E$51"]
["pp1_bl3_4_3_rate_out",{"$f":"'T2-B(PP1)'!$H$51","v":0},"#'T2-B(PP1)'!$H$51"]
["pp1_bl3_4_3_total",{"$f":"'T2-B(PP1)'!$J$51","v":0},"#'T2-B(PP1)'!$J$51"]
["pp1_bl3_4_3_total_in",{"$f":"'T2-B(PP1)'!$F$51","v":0},"#'T2-B(PP1)'!$F$51"]
["pp1_bl3_4_3_total_out",{"$f":"'T2-B(PP1)'!$I$51","v":0},"#'T2-B(PP1)'!$I$51"]
["pp1_bl3_4_3_unit",{"$f":"'T2-B(PP1)'!$C$51","v":0},"#'T2-B(PP1)'!$C$51"]
["pp1_bl3_4_3_unit_in",{"$f":"'T2-B(PP1)'!$D$51","v":0},"#'T2-B(PP1)'!$D$51"]
["pp1_bl3_4_3_units_out",{"$f":"'T2-B(PP1)'!$G$51","v":0},"#'T2-B(PP1)'!$G$51"]
["pp1_bl3_4_4_name",{"$f":"'T2-B(PP1)'!$B$52","v":0},"#'T2-B(PP1)'!$B$52"]
["pp1_bl3_4_4_rate_in",{"$f":"'T2-B(PP1)'!$E$52","v":0},"#'T2-B(PP1)'!$E$52"]
["pp1_bl3_4_4_rate_out",{"$f":"'T2-B(PP1)'!$H$52","v":0},"#'T2-B(PP1)'!$H$52"]
["pp1_bl3_4_4_total",{"$f":"'T2-B(PP1)'!$J$52","v":0},"#'T2-B(PP1)'!$J$52"]
["pp1_bl3_4_4_total_in",{"$f":"'T2-B(PP1)'!$F$52","v":0},"#'T2-B(PP1)'!$F$52"]
["pp1_bl3_4_4_total_out",{"$f":"'T2-B(PP1)'!$I$52","v":0},"#'T2-B(PP1)'!$I$52"]
["pp1_bl3_4_4_unit",{"$f":"'T2-B(PP1)'!$C$52","v":0},"#'T2-B(PP1)'!$C$52"]
["pp1_bl3_4_4_unit_in",{"$f":"'T2-B(PP1)'!$D$52","v":0},"#'T2-B(PP1)'!$D$52"]
["pp1_bl3_4_4_units_out",{"$f":"'T2-B(PP1)'!$G$52","v":0},"#'T2-B(PP1)'!$G$52"]
["pp1_bl3_4_5_name",{"$f":"'T2-B(PP1)'!$B$53","v":0},"#'T2-B(PP1)'!$B$53"]
["pp1_bl3_4_5_rate_in",{"$f":"'T2-B(PP1)'!$E$53","v":0},"#'T2-B(PP1)'!$E$53"]
["pp1_bl3_4_5_rate_out",{"$f":"'T2-B(PP1)'!$H$53","v":0},"#'T2-B(PP1)'!$H$53"]
["pp1_bl3_4_5_total",{"$f":"'T2-B(PP1)'!$J$53","v":0},"#'T2-B(PP1)'!$J$53"]
["pp1_bl3_4_5_total_in",{"$f":"'T2-B(PP1)'!$F$53","v":0},"#'T2-B(PP1)'!$F$53"]
["pp1_bl3_4_5_total_out",{"$f":"'T2-B(PP1)'!$I$53","v":0},"#'T2-B(PP1)'!$I$53"]
["pp1_bl3_4_5_unit",{"$f":"'T2-B(PP1)'!$C$53","v":0},"#'T2-B(PP1)'!$C$53"]
["pp1_bl3_4_5_unit_in",{"$f":"'T2-B(PP1)'!$D$53","v":0},"#'T2-B(PP1)'!$D$53"]
["pp1_bl3_4_5_units_out",{"$f":"'T2-B(PP1)'!$G$53","v":0},"#'T2-B(PP1)'!$G$53"]
["pp1_bl3_4_6_name",{"$f":"'T2-B(PP1)'!$B$54","v":0},"#'T2-B(PP1)'!$B$54"]
["pp1_bl3_4_6_rate_in",{"$f":"'T2-B(PP1)'!$E$54","v":0},"#'T2-B(PP1)'!$E$54"]
["pp1_bl3_4_6_rate_out",{"$f":"'T2-B(PP1)'!$H$54","v":0},"#'T2-B(PP1)'!$H$54"]
["pp1_bl3_4_6_total",{"$f":"'T2-B(PP1)'!$J$54","v":0},"#'T2-B(PP1)'!$J$54"]
["pp1_bl3_4_6_total_in",{"$f":"'T2-B(PP1)'!$F$54","v":0},"#'T2-B(PP1)'!$F$54"]
["pp1_bl3_4_6_total_out",{"$f":"'T2-B(PP1)'!$I$54","v":0},"#'T2-B(PP1)'!$I$54"]
["pp1_bl3_4_6_unit",{"$f":"'T2-B(PP1)'!$C$54","v":0},"#'T2-B(PP1)'!$C$54"]
["pp1_bl3_4_6_unit_in",{"$f":"'T2-B(PP1)'!$D$54","v":0},"#'T2-B(PP1)'!$D$54"]
["pp1_bl3_4_6_units_out",{"$f":"'T2-B(PP1)'!$G$54","v":0},"#'T2-B(PP1)'!$G$54"]
["pp1_bl3_4_7_name",{"$f":"'T2-B(PP1)'!$B$55","v":0},"#'T2-B(PP1)'!$B$55"]
["pp1_bl3_4_7_rate_in",{"$f":"'T2-B(PP1)'!$E$55","v":0},"#'T2-B(PP1)'!$E$55"]
["pp1_bl3_4_7_rate_out",{"$f":"'T2-B(PP1)'!$H$55","v":0},"#'T2-B(PP1)'!$H$55"]
["pp1_bl3_4_7_total",{"$f":"'T2-B(PP1)'!$J$55","v":0},"#'T2-B(PP1)'!$J$55"]
["pp1_bl3_4_7_total_in",{"$f":"'T2-B(PP1)'!$F$55","v":0},"#'T2-B(PP1)'!$F$55"]
["pp1_bl3_4_7_total_out",{"$f":"'T2-B(PP1)'!$I$55","v":0},"#'T2-B(PP1)'!$I$55"]
["pp1_bl3_4_7_unit",{"$f":"'T2-B(PP1)'!$C$55","v":0},"#'T2-B(PP1)'!$C$55"]
["pp1_bl3_4_7_unit_in",{"$f":"'T2-B(PP1)'!$D$55","v":0},"#'T2-B(PP1)'!$D$55"]
["pp1_bl3_4_7_units_out",{"$f":"'T2-B(PP1)'!$G$55","v":0},"#'T2-B(PP1)'!$G$55"]
["pp1_bl3_4_8_name",{"$f":"'T2-B(PP1)'!$B$56","v":0},"#'T2-B(PP1)'!$B$56"]
["pp1_bl3_4_8_rate_in",{"$f":"'T2-B(PP1)'!$E$56","v":0},"#'T2-B(PP1)'!$E$56"]
["pp1_bl3_4_8_rate_out",{"$f":"'T2-B(PP1)'!$H$56","v":0},"#'T2-B(PP1)'!$H$56"]
["pp1_bl3_4_8_total",{"$f":"'T2-B(PP1)'!$J$56","v":0},"#'T2-B(PP1)'!$J$56"]
["pp1_bl3_4_8_total_in",{"$f":"'T2-B(PP1)'!$F$56","v":0},"#'T2-B(PP1)'!$F$56"]
["pp1_bl3_4_8_total_out",{"$f":"'T2-B(PP1)'!$I$56","v":0},"#'T2-B(PP1)'!$I$56"]
["pp1_bl3_4_8_unit",{"$f":"'T2-B(PP1)'!$C$56","v":0},"#'T2-B(PP1)'!$C$56"]
["pp1_bl3_4_8_unit_in",{"$f":"'T2-B(PP1)'!$D$56","v":0},"#'T2-B(PP1)'!$D$56"]
["pp1_bl3_4_8_units_out",{"$f":"'T2-B(PP1)'!$G$56","v":0},"#'T2-B(PP1)'!$G$56"]
["pp1_bl3_4_9_name",{"$f":"'T2-B(PP1)'!$B$57","v":0},"#'T2-B(PP1)'!$B$57"]
["pp1_bl3_4_9_rate_in",{"$f":"'T2-B(PP1)'!$E$57","v":0},"#'T2-B(PP1)'!$E$57"]
["pp1_bl3_4_9_rate_out",{"$f":"'T2-B(PP1)'!$H$57","v":0},"#'T2-B(PP1)'!$H$57"]
["pp1_bl3_4_9_total",{"$f":"'T2-B(PP1)'!$J$57","v":0},"#'T2-B(PP1)'!$J$57"]
["pp1_bl3_4_9_total_in",{"$f":"'T2-B(PP1)'!$F$57","v":0},"#'T2-B(PP1)'!$F$57"]
["pp1_bl3_4_9_total_out",{"$f":"'T2-B(PP1)'!$I$57","v":0},"#'T2-B(PP1)'!$I$57"]
["pp1_bl3_4_9_unit",{"$f":"'T2-B(PP1)'!$C$57","v":0},"#'T2-B(PP1)'!$C$57"]
["pp1_bl3_4_9_unit_in",{"$f":"'T2-B(PP1)'!$D$57","v":0},"#'T2-B(PP1)'!$D$57"]
["pp1_bl3_4_9_units_out",{"$f":"'T2-B(PP1)'!$G$57","v":0},"#'T2-B(PP1)'!$G$57"]
["pp1_bl3_4_total",{"$f":"'T2-B(PP1)'!$J$48","v":0},"#'T2-B(PP1)'!$J$48"]
["pp1_bl3_4_total_in",{"$f":"'T2-B(PP1)'!$F$48","v":0},"#'T2-B(PP1)'!$F$48"]
["pp1_bl3_4_total_out",{"$f":"'T2-B(PP1)'!$I$48","v":0},"#'T2-B(PP1)'!$I$48"]
["pp1_bl3_total",{"$f":"'T2-B(PP1)'!$J$59","v":0},"#'T2-B(PP1)'!$J$59"]
["pp1_bl3_total_in",{"$f":"'T2-B(PP1)'!$F$59","v":0},"#'T2-B(PP1)'!$F$59"]
["pp1_bl3_total_out",{"$f":"'T2-B(PP1)'!$I$59","v":0},"#'T2-B(PP1)'!$I$59"]
["pp1_bl4_1_1_name",{"$f":"'T2-B(PP1)'!$B$64","v":0},"#'T2-B(PP1)'!$B$64"]
["pp1_bl4_1_1_rate_in",{"$f":"'T2-B(PP1)'!$E$64","v":0},"#'T2-B(PP1)'!$E$64"]
["pp1_bl4_1_1_rate_out",{"$f":"'T2-B(PP1)'!$H$64","v":0},"#'T2-B(PP1)'!$H$64"]
["pp1_bl4_1_1_total",{"$f":"'T2-B(PP1)'!$J$64","v":0},"#'T2-B(PP1)'!$J$64"]
["pp1_bl4_1_1_total_in",{"$f":"'T2-B(PP1)'!$F$64","v":0},"#'T2-B(PP1)'!$F$64"]
["pp1_bl4_1_1_total_out",{"$f":"'T2-B(PP1)'!$I$64","v":0},"#'T2-B(PP1)'!$I$64"]
["pp1_bl4_1_1_unit",{"$f":"'T2-B(PP1)'!$C$64","v":0},"#'T2-B(PP1)'!$C$64"]
["pp1_bl4_1_1_unit_in",{"$f":"'T2-B(PP1)'!$D$64","v":0},"#'T2-B(PP1)'!$D$64"]
["pp1_bl4_1_1_units_out",{"$f":"'T2-B(PP1)'!$G$64","v":0},"#'T2-B(PP1)'!$G$64"]
["pp1_bl4_1_10_name",{"$f":"'T2-B(PP1)'!$B$73","v":0},"#'T2-B(PP1)'!$B$73"]
["pp1_bl4_1_10_rate_in",{"$f":"'T2-B(PP1)'!$E$73","v":0},"#'T2-B(PP1)'!$E$73"]
["pp1_bl4_1_10_rate_out",{"$f":"'T2-B(PP1)'!$H$73","v":0},"#'T2-B(PP1)'!$H$73"]
["pp1_bl4_1_10_total",{"$f":"'T2-B(PP1)'!$J$73","v":0},"#'T2-B(PP1)'!$J$73"]
["pp1_bl4_1_10_total_in",{"$f":"'T2-B(PP1)'!$F$73","v":0},"#'T2-B(PP1)'!$F$73"]
["pp1_bl4_1_10_total_out",{"$f":"'T2-B(PP1)'!$I$73","v":0},"#'T2-B(PP1)'!$I$73"]
["pp1_bl4_1_10_unit",{"$f":"'T2-B(PP1)'!$C$73","v":0},"#'T2-B(PP1)'!$C$73"]
["pp1_bl4_1_10_unit_in",{"$f":"'T2-B(PP1)'!$D$73","v":0},"#'T2-B(PP1)'!$D$73"]
["pp1_bl4_1_10_units_out",{"$f":"'T2-B(PP1)'!$G$73","v":0},"#'T2-B(PP1)'!$G$73"]
["pp1_bl4_1_2_name",{"$f":"'T2-B(PP1)'!$B$65","v":0},"#'T2-B(PP1)'!$B$65"]
["pp1_bl4_1_2_rate_in",{"$f":"'T2-B(PP1)'!$E$65","v":0},"#'T2-B(PP1)'!$E$65"]
["pp1_bl4_1_2_rate_out",{"$f":"'T2-B(PP1)'!$H$65","v":0},"#'T2-B(PP1)'!$H$65"]
["pp1_bl4_1_2_total",{"$f":"'T2-B(PP1)'!$J$65","v":0},"#'T2-B(PP1)'!$J$65"]
["pp1_bl4_1_2_total_in",{"$f":"'T2-B(PP1)'!$F$65","v":0},"#'T2-B(PP1)'!$F$65"]
["pp1_bl4_1_2_total_out",{"$f":"'T2-B(PP1)'!$I$65","v":0},"#'T2-B(PP1)'!$I$65"]
["pp1_bl4_1_2_unit",{"$f":"'T2-B(PP1)'!$C$65","v":0},"#'T2-B(PP1)'!$C$65"]
["pp1_bl4_1_2_unit_in",{"$f":"'T2-B(PP1)'!$D$65","v":0},"#'T2-B(PP1)'!$D$65"]
["pp1_bl4_1_2_units_out",{"$f":"'T2-B(PP1)'!$G$65","v":0},"#'T2-B(PP1)'!$G$65"]
["pp1_bl4_1_3_name",{"$f":"'T2-B(PP1)'!$B$66","v":0},"#'T2-B(PP1)'!$B$66"]
["pp1_bl4_1_3_rate_in",{"$f":"'T2-B(PP1)'!$E$66","v":0},"#'T2-B(PP1)'!$E$66"]
["pp1_bl4_1_3_rate_out",{"$f":"'T2-B(PP1)'!$H$66","v":0},"#'T2-B(PP1)'!$H$66"]
["pp1_bl4_1_3_total",{"$f":"'T2-B(PP1)'!$J$66","v":0},"#'T2-B(PP1)'!$J$66"]
["pp1_bl4_1_3_total_in",{"$f":"'T2-B(PP1)'!$F$66","v":0},"#'T2-B(PP1)'!$F$66"]
["pp1_bl4_1_3_total_out",{"$f":"'T2-B(PP1)'!$I$66","v":0},"#'T2-B(PP1)'!$I$66"]
["pp1_bl4_1_3_unit",{"$f":"'T2-B(PP1)'!$C$66","v":0},"#'T2-B(PP1)'!$C$66"]
["pp1_bl4_1_3_unit_in",{"$f":"'T2-B(PP1)'!$D$66","v":0},"#'T2-B(PP1)'!$D$66"]
["pp1_bl4_1_3_units_out",{"$f":"'T2-B(PP1)'!$G$66","v":0},"#'T2-B(PP1)'!$G$66"]
["pp1_bl4_1_4_name",{"$f":"'T2-B(PP1)'!$B$67","v":0},"#'T2-B(PP1)'!$B$67"]
["pp1_bl4_1_4_rate_in",{"$f":"'T2-B(PP1)'!$E$67","v":0},"#'T2-B(PP1)'!$E$67"]
["pp1_bl4_1_4_rate_out",{"$f":"'T2-B(PP1)'!$H$67","v":0},"#'T2-B(PP1)'!$H$67"]
["pp1_bl4_1_4_total",{"$f":"'T2-B(PP1)'!$J$67","v":0},"#'T2-B(PP1)'!$J$67"]
["pp1_bl4_1_4_total_in",{"$f":"'T2-B(PP1)'!$F$67","v":0},"#'T2-B(PP1)'!$F$67"]
["pp1_bl4_1_4_total_out",{"$f":"'T2-B(PP1)'!$I$67","v":0},"#'T2-B(PP1)'!$I$67"]
["pp1_bl4_1_4_unit",{"$f":"'T2-B(PP1)'!$C$67","v":0},"#'T2-B(PP1)'!$C$67"]
["pp1_bl4_1_4_unit_in",{"$f":"'T2-B(PP1)'!$D$67","v":0},"#'T2-B(PP1)'!$D$67"]
["pp1_bl4_1_4_units_out",{"$f":"'T2-B(PP1)'!$G$67","v":0},"#'T2-B(PP1)'!$G$67"]
["pp1_bl4_1_5_name",{"$f":"'T2-B(PP1)'!$B$68","v":0},"#'T2-B(PP1)'!$B$68"]
["pp1_bl4_1_5_rate_in",{"$f":"'T2-B(PP1)'!$E$68","v":0},"#'T2-B(PP1)'!$E$68"]
["pp1_bl4_1_5_rate_out",{"$f":"'T2-B(PP1)'!$H$68","v":0},"#'T2-B(PP1)'!$H$68"]
["pp1_bl4_1_5_total",{"$f":"'T2-B(PP1)'!$J$68","v":0},"#'T2-B(PP1)'!$J$68"]
["pp1_bl4_1_5_total_in",{"$f":"'T2-B(PP1)'!$F$68","v":0},"#'T2-B(PP1)'!$F$68"]
["pp1_bl4_1_5_total_out",{"$f":"'T2-B(PP1)'!$I$68","v":0},"#'T2-B(PP1)'!$I$68"]
["pp1_bl4_1_5_unit",{"$f":"'T2-B(PP1)'!$C$68","v":0},"#'T2-B(PP1)'!$C$68"]
["pp1_bl4_1_5_unit_in",{"$f":"'T2-B(PP1)'!$D$68","v":0},"#'T2-B(PP1)'!$D$68"]
["pp1_bl4_1_5_units_out",{"$f":"'T2-B(PP1)'!$G$68","v":0},"#'T2-B(PP1)'!$G$68"]
["pp1_bl4_1_6_name",{"$f":"'T2-B(PP1)'!$B$69","v":0},"#'T2-B(PP1)'!$B$69"]
["pp1_bl4_1_6_rate_in",{"$f":"'T2-B(PP1)'!$E$69","v":0},"#'T2-B(PP1)'!$E$69"]
["pp1_bl4_1_6_rate_out",{"$f":"'T2-B(PP1)'!$H$69","v":0},"#'T2-B(PP1)'!$H$69"]
["pp1_bl4_1_6_total",{"$f":"'T2-B(PP1)'!$J$69","v":0},"#'T2-B(PP1)'!$J$69"]
["pp1_bl4_1_6_total_in",{"$f":"'T2-B(PP1)'!$F$69","v":0},"#'T2-B(PP1)'!$F$69"]
["pp1_bl4_1_6_total_out",{"$f":"'T2-B(PP1)'!$I$69","v":0},"#'T2-B(PP1)'!$I$69"]
["pp1_bl4_1_6_unit",{"$f":"'T2-B(PP1)'!$C$69","v":0},"#'T2-B(PP1)'!$C$69"]
["pp1_bl4_1_6_unit_in",{"$f":"'T2-B(PP1)'!$D$69","v":0},"#'T2-B(PP1)'!$D$69"]
["pp1_bl4_1_6_units_out",{"$f":"'T2-B(PP1)'!$G$69","v":0},"#'T2-B(PP1)'!$G$69"]
["pp1_bl4_1_7_name",{"$f":"'T2-B(PP1)'!$B$70","v":0},"#'T2-B(PP1)'!$B$70"]
["pp1_bl4_1_7_rate_in",{"$f":"'T2-B(PP1)'!$E$70","v":0},"#'T2-B(PP1)'!$E$70"]
["pp1_bl4_1_7_rate_out",{"$f":"'T2-B(PP1)'!$H$70","v":0},"#'T2-B(PP1)'!$H$70"]
["pp1_bl4_1_7_total",{"$f":"'T2-B(PP1)'!$J$70","v":0},"#'T2-B(PP1)'!$J$70"]
["pp1_bl4_1_7_total_in",{"$f":"'T2-B(PP1)'!$F$70","v":0},"#'T2-B(PP1)'!$F$70"]
["pp1_bl4_1_7_total_out",{"$f":"'T2-B(PP1)'!$I$70","v":0},"#'T2-B(PP1)'!$I$70"]
["pp1_bl4_1_7_unit",{"$f":"'T2-B(PP1)'!$C$70","v":0},"#'T2-B(PP1)'!$C$70"]
["pp1_bl4_1_7_unit_in",{"$f":"'T2-B(PP1)'!$D$70","v":0},"#'T2-B(PP1)'!$D$70"]
["pp1_bl4_1_7_units_out",{"$f":"'T2-B(PP1)'!$G$70","v":0},"#'T2-B(PP1)'!$G$70"]
["pp1_bl4_1_8_name",{"$f":"'T2-B(PP1)'!$B$71","v":0},"#'T2-B(PP1)'!$B$71"]
["pp1_bl4_1_8_rate_in",{"$f":"'T2-B(PP1)'!$E$71","v":0},"#'T2-B(PP1)'!$E$71"]
["pp1_bl4_1_8_rate_out",{"$f":"'T2-B(PP1)'!$H$71","v":0},"#'T2-B(PP1)'!$H$71"]
["pp1_bl4_1_8_total",{"$f":"'T2-B(PP1)'!$J$71","v":0},"#'T2-B(PP1)'!$J$71"]
["pp1_bl4_1_8_total_in",{"$f":"'T2-B(PP1)'!$F$71","v":0},"#'T2-B(PP1)'!$F$71"]
["pp1_bl4_1_8_total_out",{"$f":"'T2-B(PP1)'!$I$71","v":0},"#'T2-B(PP1)'!$I$71"]
["pp1_bl4_1_8_unit",{"$f":"'T2-B(PP1)'!$C$71","v":0},"#'T2-B(PP1)'!$C$71"]
["pp1_bl4_1_8_unit_in",{"$f":"'T2-B(PP1)'!$D$71","v":0},"#'T2-B(PP1)'!$D$71"]
["pp1_bl4_1_8_units_out",{"$f":"'T2-B(PP1)'!$G$71","v":0},"#'T2-B(PP1)'!$G$71"]
["pp1_bl4_1_9_name",{"$f":"'T2-B(PP1)'!$B$72","v":0},"#'T2-B(PP1)'!$B$72"]
["pp1_bl4_1_9_rate_in",{"$f":"'T2-B(PP1)'!$E$72","v":0},"#'T2-B(PP1)'!$E$72"]
["pp1_bl4_1_9_rate_out",{"$f":"'T2-B(PP1)'!$H$72","v":0},"#'T2-B(PP1)'!$H$72"]
["pp1_bl4_1_9_total",{"$f":"'T2-B(PP1)'!$J$72","v":0},"#'T2-B(PP1)'!$J$72"]
["pp1_bl4_1_9_total_in",{"$f":"'T2-B(PP1)'!$F$72","v":0},"#'T2-B(PP1)'!$F$72"]
["pp1_bl4_1_9_total_out",{"$f":"'T2-B(PP1)'!$I$72","v":0},"#'T2-B(PP1)'!$I$72"]
["pp1_bl4_1_9_unit",{"$f":"'T2-B(PP1)'!$C$72","v":0},"#'T2-B(PP1)'!$C$72"]
["pp1_bl4_1_9_unit_in",{"$f":"'T2-B(PP1)'!$D$72","v":0},"#'T2-B(PP1)'!$D$72"]
["pp1_bl4_1_9_units_out",{"$f":"'T2-B(PP1)'!$G$72","v":0},"#'T2-B(PP1)'!$G$72"]
["pp1_bl4_1_total",{"$f":"'T2-B(PP1)'!$J$63","v":0},"#'T2-B(PP1)'!$J$63"]
["pp1_bl4_1_total_in",{"$f":"'T2-B(PP1)'!$F$63","v":0},"#'T2-B(PP1)'!$F$63"]
["pp1_bl4_1_total_out",{"$f":"'T2-B(PP1)'!$I$63","v":0},"#'T2-B(PP1)'!$I$63"]
["pp1_bl4_10_1_name",{"$f":"'T2-B(PP1)'!$B$163","v":0},"#'T2-B(PP1)'!$B$163"]
["pp1_bl4_10_1_rate_in",{"$f":"'T2-B(PP1)'!$E$163","v":0},"#'T2-B(PP1)'!$E$163"]
["pp1_bl4_10_1_rate_out",{"$f":"'T2-B(PP1)'!$H$163","v":0},"#'T2-B(PP1)'!$H$163"]
["pp1_bl4_10_1_total",{"$f":"'T2-B(PP1)'!$J$163","v":0},"#'T2-B(PP1)'!$J$163"]
["pp1_bl4_10_1_total_in",{"$f":"'T2-B(PP1)'!$F$163","v":0},"#'T2-B(PP1)'!$F$163"]
["pp1_bl4_10_1_total_out",{"$f":"'T2-B(PP1)'!$I$163","v":0},"#'T2-B(PP1)'!$I$163"]
["pp1_bl4_10_1_unit",{"$f":"'T2-B(PP1)'!$C$163","v":0},"#'T2-B(PP1)'!$C$163"]
["pp1_bl4_10_1_unit_in",{"$f":"'T2-B(PP1)'!$D$163","v":0},"#'T2-B(PP1)'!$D$163"]
["pp1_bl4_10_1_units_out",{"$f":"'T2-B(PP1)'!$G$163","v":0},"#'T2-B(PP1)'!$G$163"]
["pp1_bl4_10_10_name",{"$f":"'T2-B(PP1)'!$B$172","v":0},"#'T2-B(PP1)'!$B$172"]
["pp1_bl4_10_10_rate_in",{"$f":"'T2-B(PP1)'!$E$172","v":0},"#'T2-B(PP1)'!$E$172"]
["pp1_bl4_10_10_rate_out",{"$f":"'T2-B(PP1)'!$H$172","v":0},"#'T2-B(PP1)'!$H$172"]
["pp1_bl4_10_10_total",{"$f":"'T2-B(PP1)'!$J$172","v":0},"#'T2-B(PP1)'!$J$172"]
["pp1_bl4_10_10_total_in",{"$f":"'T2-B(PP1)'!$F$172","v":0},"#'T2-B(PP1)'!$F$172"]
["pp1_bl4_10_10_total_out",{"$f":"'T2-B(PP1)'!$I$172","v":0},"#'T2-B(PP1)'!$I$172"]
["pp1_bl4_10_10_unit",{"$f":"'T2-B(PP1)'!$C$172","v":0},"#'T2-B(PP1)'!$C$172"]
["pp1_bl4_10_10_unit_in",{"$f":"'T2-B(PP1)'!$D$172","v":0},"#'T2-B(PP1)'!$D$172"]
["pp1_bl4_10_10_units_out",{"$f":"'T2-B(PP1)'!$G$172","v":0},"#'T2-B(PP1)'!$G$172"]
["pp1_bl4_10_2_name",{"$f":"'T2-B(PP1)'!$B$164","v":0},"#'T2-B(PP1)'!$B$164"]
["pp1_bl4_10_2_rate_in",{"$f":"'T2-B(PP1)'!$E$164","v":0},"#'T2-B(PP1)'!$E$164"]
["pp1_bl4_10_2_rate_out",{"$f":"'T2-B(PP1)'!$H$164","v":0},"#'T2-B(PP1)'!$H$164"]
["pp1_bl4_10_2_total",{"$f":"'T2-B(PP1)'!$J$164","v":0},"#'T2-B(PP1)'!$J$164"]
["pp1_bl4_10_2_total_in",{"$f":"'T2-B(PP1)'!$F$164","v":0},"#'T2-B(PP1)'!$F$164"]
["pp1_bl4_10_2_total_out",{"$f":"'T2-B(PP1)'!$I$164","v":0},"#'T2-B(PP1)'!$I$164"]
["pp1_bl4_10_2_unit",{"$f":"'T2-B(PP1)'!$C$164","v":0},"#'T2-B(PP1)'!$C$164"]
["pp1_bl4_10_2_unit_in",{"$f":"'T2-B(PP1)'!$D$164","v":0},"#'T2-B(PP1)'!$D$164"]
["pp1_bl4_10_2_units_out",{"$f":"'T2-B(PP1)'!$G$164","v":0},"#'T2-B(PP1)'!$G$164"]
["pp1_bl4_10_3_name",{"$f":"'T2-B(PP1)'!$B$165","v":0},"#'T2-B(PP1)'!$B$165"]
["pp1_bl4_10_3_rate_in",{"$f":"'T2-B(PP1)'!$E$165","v":0},"#'T2-B(PP1)'!$E$165"]
["pp1_bl4_10_3_rate_out",{"$f":"'T2-B(PP1)'!$H$165","v":0},"#'T2-B(PP1)'!$H$165"]
["pp1_bl4_10_3_total",{"$f":"'T2-B(PP1)'!$J$165","v":0},"#'T2-B(PP1)'!$J$165"]
["pp1_bl4_10_3_total_in",{"$f":"'T2-B(PP1)'!$F$165","v":0},"#'T2-B(PP1)'!$F$165"]
["pp1_bl4_10_3_total_out",{"$f":"'T2-B(PP1)'!$I$165","v":0},"#'T2-B(PP1)'!$I$165"]
["pp1_bl4_10_3_unit",{"$f":"'T2-B(PP1)'!$C$165","v":0},"#'T2-B(PP1)'!$C$165"]
["pp1_bl4_10_3_unit_in",{"$f":"'T2-B(PP1)'!$D$165","v":0},"#'T2-B(PP1)'!$D$165"]
["pp1_bl4_10_3_units_out",{"$f":"'T2-B(PP1)'!$G$165","v":0},"#'T2-B(PP1)'!$G$165"]
["pp1_bl4_10_4_name",{"$f":"'T2-B(PP1)'!$B$166","v":0},"#'T2-B(PP1)'!$B$166"]
["pp1_bl4_10_4_rate_in",{"$f":"'T2-B(PP1)'!$E$166","v":0},"#'T2-B(PP1)'!$E$166"]
["pp1_bl4_10_4_rate_out",{"$f":"'T2-B(PP1)'!$H$166","v":0},"#'T2-B(PP1)'!$H$166"]
["pp1_bl4_10_4_total",{"$f":"'T2-B(PP1)'!$J$166","v":0},"#'T2-B(PP1)'!$J$166"]
["pp1_bl4_10_4_total_in",{"$f":"'T2-B(PP1)'!$F$166","v":0},"#'T2-B(PP1)'!$F$166"]
["pp1_bl4_10_4_total_out",{"$f":"'T2-B(PP1)'!$I$166","v":0},"#'T2-B(PP1)'!$I$166"]
["pp1_bl4_10_4_unit",{"$f":"'T2-B(PP1)'!$C$166","v":0},"#'T2-B(PP1)'!$C$166"]
["pp1_bl4_10_4_unit_in",{"$f":"'T2-B(PP1)'!$D$166","v":0},"#'T2-B(PP1)'!$D$166"]
["pp1_bl4_10_4_units_out",{"$f":"'T2-B(PP1)'!$G$166","v":0},"#'T2-B(PP1)'!$G$166"]
["pp1_bl4_10_5_name",{"$f":"'T2-B(PP1)'!$B$167","v":0},"#'T2-B(PP1)'!$B$167"]
["pp1_bl4_10_5_rate_in",{"$f":"'T2-B(PP1)'!$E$167","v":0},"#'T2-B(PP1)'!$E$167"]
["pp1_bl4_10_5_rate_out",{"$f":"'T2-B(PP1)'!$H$167","v":0},"#'T2-B(PP1)'!$H$167"]
["pp1_bl4_10_5_total",{"$f":"'T2-B(PP1)'!$J$167","v":0},"#'T2-B(PP1)'!$J$167"]
["pp1_bl4_10_5_total_in",{"$f":"'T2-B(PP1)'!$F$167","v":0},"#'T2-B(PP1)'!$F$167"]
["pp1_bl4_10_5_total_out",{"$f":"'T2-B(PP1)'!$I$167","v":0},"#'T2-B(PP1)'!$I$167"]
["pp1_bl4_10_5_unit",{"$f":"'T2-B(PP1)'!$C$167","v":0},"#'T2-B(PP1)'!$C$167"]
["pp1_bl4_10_5_unit_in",{"$f":"'T2-B(PP1)'!$D$167","v":0},"#'T2-B(PP1)'!$D$167"]
["pp1_bl4_10_5_units_out",{"$f":"'T2-B(PP1)'!$G$167","v":0},"#'T2-B(PP1)'!$G$167"]
["pp1_bl4_10_6_name",{"$f":"'T2-B(PP1)'!$B$168","v":0},"#'T2-B(PP1)'!$B$168"]
["pp1_bl4_10_6_rate_in",{"$f":"'T2-B(PP1)'!$E$168","v":0},"#'T2-B(PP1)'!$E$168"]
["pp1_bl4_10_6_rate_out",{"$f":"'T2-B(PP1)'!$H$168","v":0},"#'T2-B(PP1)'!$H$168"]
["pp1_bl4_10_6_total",{"$f":"'T2-B(PP1)'!$J$168","v":0},"#'T2-B(PP1)'!$J$168"]
["pp1_bl4_10_6_total_in",{"$f":"'T2-B(PP1)'!$F$168","v":0},"#'T2-B(PP1)'!$F$168"]
["pp1_bl4_10_6_total_out",{"$f":"'T2-B(PP1)'!$I$168","v":0},"#'T2-B(PP1)'!$I$168"]
["pp1_bl4_10_6_unit",{"$f":"'T2-B(PP1)'!$C$168","v":0},"#'T2-B(PP1)'!$C$168"]
["pp1_bl4_10_6_unit_in",{"$f":"'T2-B(PP1)'!$D$168","v":0},"#'T2-B(PP1)'!$D$168"]
["pp1_bl4_10_6_units_out",{"$f":"'T2-B(PP1)'!$G$168","v":0},"#'T2-B(PP1)'!$G$168"]
["pp1_bl4_10_7_name",{"$f":"'T2-B(PP1)'!$B$169","v":0},"#'T2-B(PP1)'!$B$169"]
["pp1_bl4_10_7_rate_in",{"$f":"'T2-B(PP1)'!$E$169","v":0},"#'T2-B(PP1)'!$E$169"]
["pp1_bl4_10_7_rate_out",{"$f":"'T2-B(PP1)'!$H$169","v":0},"#'T2-B(PP1)'!$H$169"]
["pp1_bl4_10_7_total",{"$f":"'T2-B(PP1)'!$J$169","v":0},"#'T2-B(PP1)'!$J$169"]
["pp1_bl4_10_7_total_in",{"$f":"'T2-B(PP1)'!$F$169","v":0},"#'T2-B(PP1)'!$F$169"]
["pp1_bl4_10_7_total_out",{"$f":"'T2-B(PP1)'!$I$169","v":0},"#'T2-B(PP1)'!$I$169"]
["pp1_bl4_10_7_unit",{"$f":"'T2-B(PP1)'!$C$169","v":0},"#'T2-B(PP1)'!$C$169"]
["pp1_bl4_10_7_unit_in",{"$f":"'T2-B(PP1)'!$D$169","v":0},"#'T2-B(PP1)'!$D$169"]
["pp1_bl4_10_7_units_out",{"$f":"'T2-B(PP1)'!$G$169","v":0},"#'T2-B(PP1)'!$G$169"]
["pp1_bl4_10_8_name",{"$f":"'T2-B(PP1)'!$B$170","v":0},"#'T2-B(PP1)'!$B$170"]
["pp1_bl4_10_8_rate_in",{"$f":"'T2-B(PP1)'!$E$170","v":0},"#'T2-B(PP1)'!$E$170"]
["pp1_bl4_10_8_rate_out",{"$f":"'T2-B(PP1)'!$H$170","v":0},"#'T2-B(PP1)'!$H$170"]
["pp1_bl4_10_8_total",{"$f":"'T2-B(PP1)'!$J$170","v":0},"#'T2-B(PP1)'!$J$170"]
["pp1_bl4_10_8_total_in",{"$f":"'T2-B(PP1)'!$F$170","v":0},"#'T2-B(PP1)'!$F$170"]
["pp1_bl4_10_8_total_out",{"$f":"'T2-B(PP1)'!$I$170","v":0},"#'T2-B(PP1)'!$I$170"]
["pp1_bl4_10_8_unit",{"$f":"'T2-B(PP1)'!$C$170","v":0},"#'T2-B(PP1)'!$C$170"]
["pp1_bl4_10_8_unit_in",{"$f":"'T2-B(PP1)'!$D$170","v":0},"#'T2-B(PP1)'!$D$170"]
["pp1_bl4_10_8_units_out",{"$f":"'T2-B(PP1)'!$G$170","v":0},"#'T2-B(PP1)'!$G$170"]
["pp1_bl4_10_9_name",{"$f":"'T2-B(PP1)'!$B$171","v":0},"#'T2-B(PP1)'!$B$171"]
["pp1_bl4_10_9_rate_in",{"$f":"'T2-B(PP1)'!$E$171","v":0},"#'T2-B(PP1)'!$E$171"]
["pp1_bl4_10_9_rate_out",{"$f":"'T2-B(PP1)'!$H$171","v":0},"#'T2-B(PP1)'!$H$171"]
["pp1_bl4_10_9_total",{"$f":"'T2-B(PP1)'!$J$171","v":0},"#'T2-B(PP1)'!$J$171"]
["pp1_bl4_10_9_total_in",{"$f":"'T2-B(PP1)'!$F$171","v":0},"#'T2-B(PP1)'!$F$171"]
["pp1_bl4_10_9_total_out",{"$f":"'T2-B(PP1)'!$I$171","v":0},"#'T2-B(PP1)'!$I$171"]
["pp1_bl4_10_9_unit",{"$f":"'T2-B(PP1)'!$C$171","v":0},"#'T2-B(PP1)'!$C$171"]
["pp1_bl4_10_9_unit_in",{"$f":"'T2-B(PP1)'!$D$171","v":0},"#'T2-B(PP1)'!$D$171"]
["pp1_bl4_10_9_units_out",{"$f":"'T2-B(PP1)'!$G$171","v":0},"#'T2-B(PP1)'!$G$171"]
["pp1_bl4_10_total",{"$f":"'T2-B(PP1)'!$J$162","v":0},"#'T2-B(PP1)'!$J$162"]
["pp1_bl4_10_total_in",{"$f":"'T2-B(PP1)'!$F$162","v":0},"#'T2-B(PP1)'!$F$162"]
["pp1_bl4_10_total_out",{"$f":"'T2-B(PP1)'!$I$162","v":0},"#'T2-B(PP1)'!$I$162"]
["pp1_bl4_11_1_name",{"$f":"'T2-B(PP1)'!$B$174","v":0},"#'T2-B(PP1)'!$B$174"]
["pp1_bl4_11_1_rate_in",{"$f":"'T2-B(PP1)'!$E$174","v":0},"#'T2-B(PP1)'!$E$174"]
["pp1_bl4_11_1_rate_out",{"$f":"'T2-B(PP1)'!$H$174","v":0},"#'T2-B(PP1)'!$H$174"]
["pp1_bl4_11_1_total",{"$f":"'T2-B(PP1)'!$J$174","v":0},"#'T2-B(PP1)'!$J$174"]
["pp1_bl4_11_1_total_in",{"$f":"'T2-B(PP1)'!$F$174","v":0},"#'T2-B(PP1)'!$F$174"]
["pp1_bl4_11_1_total_out",{"$f":"'T2-B(PP1)'!$I$174","v":0},"#'T2-B(PP1)'!$I$174"]
["pp1_bl4_11_1_unit",{"$f":"'T2-B(PP1)'!$C$174","v":0},"#'T2-B(PP1)'!$C$174"]
["pp1_bl4_11_1_unit_in",{"$f":"'T2-B(PP1)'!$D$174","v":0},"#'T2-B(PP1)'!$D$174"]
["pp1_bl4_11_1_units_out",{"$f":"'T2-B(PP1)'!$G$174","v":0},"#'T2-B(PP1)'!$G$174"]
["pp1_bl4_11_10_name",{"$f":"'T2-B(PP1)'!$B$183","v":0},"#'T2-B(PP1)'!$B$183"]
["pp1_bl4_11_10_rate_in",{"$f":"'T2-B(PP1)'!$E$183","v":0},"#'T2-B(PP1)'!$E$183"]
["pp1_bl4_11_10_rate_out",{"$f":"'T2-B(PP1)'!$H$183","v":0},"#'T2-B(PP1)'!$H$183"]
["pp1_bl4_11_10_total",{"$f":"'T2-B(PP1)'!$J$183","v":0},"#'T2-B(PP1)'!$J$183"]
["pp1_bl4_11_10_total_in",{"$f":"'T2-B(PP1)'!$F$183","v":0},"#'T2-B(PP1)'!$F$183"]
["pp1_bl4_11_10_total_out",{"$f":"'T2-B(PP1)'!$I$183","v":0},"#'T2-B(PP1)'!$I$183"]
["pp1_bl4_11_10_unit",{"$f":"'T2-B(PP1)'!$C$183","v":0},"#'T2-B(PP1)'!$C$183"]
["pp1_bl4_11_10_unit_in",{"$f":"'T2-B(PP1)'!$D$183","v":0},"#'T2-B(PP1)'!$D$183"]
["pp1_bl4_11_10_units_out",{"$f":"'T2-B(PP1)'!$G$183","v":0},"#'T2-B(PP1)'!$G$183"]
["pp1_bl4_11_2_name",{"$f":"'T2-B(PP1)'!$B$175","v":0},"#'T2-B(PP1)'!$B$175"]
["pp1_bl4_11_2_rate_in",{"$f":"'T2-B(PP1)'!$E$175","v":0},"#'T2-B(PP1)'!$E$175"]
["pp1_bl4_11_2_rate_out",{"$f":"'T2-B(PP1)'!$H$175","v":0},"#'T2-B(PP1)'!$H$175"]
["pp1_bl4_11_2_total",{"$f":"'T2-B(PP1)'!$J$175","v":0},"#'T2-B(PP1)'!$J$175"]
["pp1_bl4_11_2_total_in",{"$f":"'T2-B(PP1)'!$F$175","v":0},"#'T2-B(PP1)'!$F$175"]
["pp1_bl4_11_2_total_out",{"$f":"'T2-B(PP1)'!$I$175","v":0},"#'T2-B(PP1)'!$I$175"]
["pp1_bl4_11_2_unit",{"$f":"'T2-B(PP1)'!$C$175","v":0},"#'T2-B(PP1)'!$C$175"]
["pp1_bl4_11_2_unit_in",{"$f":"'T2-B(PP1)'!$D$175","v":0},"#'T2-B(PP1)'!$D$175"]
["pp1_bl4_11_2_units_out",{"$f":"'T2-B(PP1)'!$G$175","v":0},"#'T2-B(PP1)'!$G$175"]
["pp1_bl4_11_3_name",{"$f":"'T2-B(PP1)'!$B$176","v":0},"#'T2-B(PP1)'!$B$176"]
["pp1_bl4_11_3_rate_in",{"$f":"'T2-B(PP1)'!$E$176","v":0},"#'T2-B(PP1)'!$E$176"]
["pp1_bl4_11_3_rate_out",{"$f":"'T2-B(PP1)'!$H$176","v":0},"#'T2-B(PP1)'!$H$176"]
["pp1_bl4_11_3_total",{"$f":"'T2-B(PP1)'!$J$176","v":0},"#'T2-B(PP1)'!$J$176"]
["pp1_bl4_11_3_total_in",{"$f":"'T2-B(PP1)'!$F$176","v":0},"#'T2-B(PP1)'!$F$176"]
["pp1_bl4_11_3_total_out",{"$f":"'T2-B(PP1)'!$I$176","v":0},"#'T2-B(PP1)'!$I$176"]
["pp1_bl4_11_3_unit",{"$f":"'T2-B(PP1)'!$C$176","v":0},"#'T2-B(PP1)'!$C$176"]
["pp1_bl4_11_3_unit_in",{"$f":"'T2-B(PP1)'!$D$176","v":0},"#'T2-B(PP1)'!$D$176"]
["pp1_bl4_11_3_units_out",{"$f":"'T2-B(PP1)'!$G$176","v":0},"#'T2-B(PP1)'!$G$176"]
["pp1_bl4_11_4_name",{"$f":"'T2-B(PP1)'!$B$177","v":0},"#'T2-B(PP1)'!$B$177"]
["pp1_bl4_11_4_rate_in",{"$f":"'T2-B(PP1)'!$E$177","v":0},"#'T2-B(PP1)'!$E$177"]
["pp1_bl4_11_4_rate_out",{"$f":"'T2-B(PP1)'!$H$177","v":0},"#'T2-B(PP1)'!$H$177"]
["pp1_bl4_11_4_total",{"$f":"'T2-B(PP1)'!$J$177","v":0},"#'T2-B(PP1)'!$J$177"]
["pp1_bl4_11_4_total_in",{"$f":"'T2-B(PP1)'!$F$177","v":0},"#'T2-B(PP1)'!$F$177"]
["pp1_bl4_11_4_total_out",{"$f":"'T2-B(PP1)'!$I$177","v":0},"#'T2-B(PP1)'!$I$177"]
["pp1_bl4_11_4_unit",{"$f":"'T2-B(PP1)'!$C$177","v":0},"#'T2-B(PP1)'!$C$177"]
["pp1_bl4_11_4_unit_in",{"$f":"'T2-B(PP1)'!$D$177","v":0},"#'T2-B(PP1)'!$D$177"]
["pp1_bl4_11_4_units_out",{"$f":"'T2-B(PP1)'!$G$177","v":0},"#'T2-B(PP1)'!$G$177"]
["pp1_bl4_11_5_name",{"$f":"'T2-B(PP1)'!$B$178","v":0},"#'T2-B(PP1)'!$B$178"]
["pp1_bl4_11_5_rate_in",{"$f":"'T2-B(PP1)'!$E$178","v":0},"#'T2-B(PP1)'!$E$178"]
["pp1_bl4_11_5_rate_out",{"$f":"'T2-B(PP1)'!$H$178","v":0},"#'T2-B(PP1)'!$H$178"]
["pp1_bl4_11_5_total",{"$f":"'T2-B(PP1)'!$J$178","v":0},"#'T2-B(PP1)'!$J$178"]
["pp1_bl4_11_5_total_in",{"$f":"'T2-B(PP1)'!$F$178","v":0},"#'T2-B(PP1)'!$F$178"]
["pp1_bl4_11_5_total_out",{"$f":"'T2-B(PP1)'!$I$178","v":0},"#'T2-B(PP1)'!$I$178"]
["pp1_bl4_11_5_unit",{"$f":"'T2-B(PP1)'!$C$178","v":0},"#'T2-B(PP1)'!$C$178"]
["pp1_bl4_11_5_unit_in",{"$f":"'T2-B(PP1)'!$D$178","v":0},"#'T2-B(PP1)'!$D$178"]
["pp1_bl4_11_5_units_out",{"$f":"'T2-B(PP1)'!$G$178","v":0},"#'T2-B(PP1)'!$G$178"]
["pp1_bl4_11_6_name",{"$f":"'T2-B(PP1)'!$B$179","v":0},"#'T2-B(PP1)'!$B$179"]
["pp1_bl4_11_6_rate_in",{"$f":"'T2-B(PP1)'!$E$179","v":0},"#'T2-B(PP1)'!$E$179"]
["pp1_bl4_11_6_rate_out",{"$f":"'T2-B(PP1)'!$H$179","v":0},"#'T2-B(PP1)'!$H$179"]
["pp1_bl4_11_6_total",{"$f":"'T2-B(PP1)'!$J$179","v":0},"#'T2-B(PP1)'!$J$179"]
["pp1_bl4_11_6_total_in",{"$f":"'T2-B(PP1)'!$F$179","v":0},"#'T2-B(PP1)'!$F$179"]
["pp1_bl4_11_6_total_out",{"$f":"'T2-B(PP1)'!$I$179","v":0},"#'T2-B(PP1)'!$I$179"]
["pp1_bl4_11_6_unit",{"$f":"'T2-B(PP1)'!$C$179","v":0},"#'T2-B(PP1)'!$C$179"]
["pp1_bl4_11_6_unit_in",{"$f":"'T2-B(PP1)'!$D$179","v":0},"#'T2-B(PP1)'!$D$179"]
["pp1_bl4_11_6_units_out",{"$f":"'T2-B(PP1)'!$G$179","v":0},"#'T2-B(PP1)'!$G$179"]
["pp1_bl4_11_7_name",{"$f":"'T2-B(PP1)'!$B$180","v":0},"#'T2-B(PP1)'!$B$180"]
["pp1_bl4_11_7_rate_in",{"$f":"'T2-B(PP1)'!$E$180","v":0},"#'T2-B(PP1)'!$E$180"]
["pp1_bl4_11_7_rate_out",{"$f":"'T2-B(PP1)'!$H$180","v":0},"#'T2-B(PP1)'!$H$180"]
["pp1_bl4_11_7_total",{"$f":"'T2-B(PP1)'!$J$180","v":0},"#'T2-B(PP1)'!$J$180"]
["pp1_bl4_11_7_total_in",{"$f":"'T2-B(PP1)'!$F$180","v":0},"#'T2-B(PP1)'!$F$180"]
["pp1_bl4_11_7_total_out",{"$f":"'T2-B(PP1)'!$I$180","v":0},"#'T2-B(PP1)'!$I$180"]
["pp1_bl4_11_7_unit",{"$f":"'T2-B(PP1)'!$C$180","v":0},"#'T2-B(PP1)'!$C$180"]
["pp1_bl4_11_7_unit_in",{"$f":"'T2-B(PP1)'!$D$180","v":0},"#'T2-B(PP1)'!$D$180"]
["pp1_bl4_11_7_units_out",{"$f":"'T2-B(PP1)'!$G$180","v":0},"#'T2-B(PP1)'!$G$180"]
["pp1_bl4_11_8_name",{"$f":"'T2-B(PP1)'!$B$181","v":0},"#'T2-B(PP1)'!$B$181"]
["pp1_bl4_11_8_rate_in",{"$f":"'T2-B(PP1)'!$E$181","v":0},"#'T2-B(PP1)'!$E$181"]
["pp1_bl4_11_8_rate_out",{"$f":"'T2-B(PP1)'!$H$181","v":0},"#'T2-B(PP1)'!$H$181"]
["pp1_bl4_11_8_total",{"$f":"'T2-B(PP1)'!$J$181","v":0},"#'T2-B(PP1)'!$J$181"]
["pp1_bl4_11_8_total_in",{"$f":"'T2-B(PP1)'!$F$181","v":0},"#'T2-B(PP1)'!$F$181"]
["pp1_bl4_11_8_total_out",{"$f":"'T2-B(PP1)'!$I$181","v":0},"#'T2-B(PP1)'!$I$181"]
["pp1_bl4_11_8_unit",{"$f":"'T2-B(PP1)'!$C$181","v":0},"#'T2-B(PP1)'!$C$181"]
["pp1_bl4_11_8_unit_in",{"$f":"'T2-B(PP1)'!$D$181","v":0},"#'T2-B(PP1)'!$D$181"]
["pp1_bl4_11_8_units_out",{"$f":"'T2-B(PP1)'!$G$181","v":0},"#'T2-B(PP1)'!$G$181"]
["pp1_bl4_11_9_name",{"$f":"'T2-B(PP1)'!$B$182","v":0},"#'T2-B(PP1)'!$B$182"]
["pp1_bl4_11_9_rate_in",{"$f":"'T2-B(PP1)'!$E$182","v":0},"#'T2-B(PP1)'!$E$182"]
["pp1_bl4_11_9_rate_out",{"$f":"'T2-B(PP1)'!$H$182","v":0},"#'T2-B(PP1)'!$H$182"]
["pp1_bl4_11_9_total",{"$f":"'T2-B(PP1)'!$J$182","v":0},"#'T2-B(PP1)'!$J$182"]
["pp1_bl4_11_9_total_in",{"$f":"'T2-B(PP1)'!$F$182","v":0},"#'T2-B(PP1)'!$F$182"]
["pp1_bl4_11_9_total_out",{"$f":"'T2-B(PP1)'!$I$182","v":0},"#'T2-B(PP1)'!$I$182"]
["pp1_bl4_11_9_unit",{"$f":"'T2-B(PP1)'!$C$182","v":0},"#'T2-B(PP1)'!$C$182"]
["pp1_bl4_11_9_unit_in",{"$f":"'T2-B(PP1)'!$D$182","v":0},"#'T2-B(PP1)'!$D$182"]
["pp1_bl4_11_9_units_out",{"$f":"'T2-B(PP1)'!$G$182","v":0},"#'T2-B(PP1)'!$G$182"]
["pp1_bl4_11_total",{"$f":"'T2-B(PP1)'!$J$173","v":0},"#'T2-B(PP1)'!$J$173"]
["pp1_bl4_11_total_in",{"$f":"'T2-B(PP1)'!$F$173","v":0},"#'T2-B(PP1)'!$F$173"]
["pp1_bl4_11_total_out",{"$f":"'T2-B(PP1)'!$I$173","v":0},"#'T2-B(PP1)'!$I$173"]
["pp1_bl4_12_1_name",{"$f":"'T2-B(PP1)'!$B$185","v":0},"#'T2-B(PP1)'!$B$185"]
["pp1_bl4_12_1_rate_in",{"$f":"'T2-B(PP1)'!$E$185","v":0},"#'T2-B(PP1)'!$E$185"]
["pp1_bl4_12_1_rate_out",{"$f":"'T2-B(PP1)'!$H$185","v":0},"#'T2-B(PP1)'!$H$185"]
["pp1_bl4_12_1_total",{"$f":"'T2-B(PP1)'!$J$185","v":0},"#'T2-B(PP1)'!$J$185"]
["pp1_bl4_12_1_total_in",{"$f":"'T2-B(PP1)'!$F$185","v":0},"#'T2-B(PP1)'!$F$185"]
["pp1_bl4_12_1_total_out",{"$f":"'T2-B(PP1)'!$I$185","v":0},"#'T2-B(PP1)'!$I$185"]
["pp1_bl4_12_1_unit",{"$f":"'T2-B(PP1)'!$C$185","v":0},"#'T2-B(PP1)'!$C$185"]
["pp1_bl4_12_1_unit_in",{"$f":"'T2-B(PP1)'!$D$185","v":0},"#'T2-B(PP1)'!$D$185"]
["pp1_bl4_12_1_units_out",{"$f":"'T2-B(PP1)'!$G$185","v":0},"#'T2-B(PP1)'!$G$185"]
["pp1_bl4_12_10_name",{"$f":"'T2-B(PP1)'!$B$194","v":0},"#'T2-B(PP1)'!$B$194"]
["pp1_bl4_12_10_rate_in",{"$f":"'T2-B(PP1)'!$E$194","v":0},"#'T2-B(PP1)'!$E$194"]
["pp1_bl4_12_10_rate_out",{"$f":"'T2-B(PP1)'!$H$194","v":0},"#'T2-B(PP1)'!$H$194"]
["pp1_bl4_12_10_total",{"$f":"'T2-B(PP1)'!$J$194","v":0},"#'T2-B(PP1)'!$J$194"]
["pp1_bl4_12_10_total_in",{"$f":"'T2-B(PP1)'!$F$194","v":0},"#'T2-B(PP1)'!$F$194"]
["pp1_bl4_12_10_total_out",{"$f":"'T2-B(PP1)'!$I$194","v":0},"#'T2-B(PP1)'!$I$194"]
["pp1_bl4_12_10_unit",{"$f":"'T2-B(PP1)'!$C$194","v":0},"#'T2-B(PP1)'!$C$194"]
["pp1_bl4_12_10_unit_in",{"$f":"'T2-B(PP1)'!$D$194","v":0},"#'T2-B(PP1)'!$D$194"]
["pp1_bl4_12_10_units_out",{"$f":"'T2-B(PP1)'!$G$194","v":0},"#'T2-B(PP1)'!$G$194"]
["pp1_bl4_12_2_name",{"$f":"'T2-B(PP1)'!$B$186","v":0},"#'T2-B(PP1)'!$B$186"]
["pp1_bl4_12_2_rate_in",{"$f":"'T2-B(PP1)'!$E$186","v":0},"#'T2-B(PP1)'!$E$186"]
["pp1_bl4_12_2_rate_out",{"$f":"'T2-B(PP1)'!$H$186","v":0},"#'T2-B(PP1)'!$H$186"]
["pp1_bl4_12_2_total",{"$f":"'T2-B(PP1)'!$J$186","v":0},"#'T2-B(PP1)'!$J$186"]
["pp1_bl4_12_2_total_in",{"$f":"'T2-B(PP1)'!$F$186","v":0},"#'T2-B(PP1)'!$F$186"]
["pp1_bl4_12_2_total_out",{"$f":"'T2-B(PP1)'!$I$186","v":0},"#'T2-B(PP1)'!$I$186"]
["pp1_bl4_12_2_unit",{"$f":"'T2-B(PP1)'!$C$186","v":0},"#'T2-B(PP1)'!$C$186"]
["pp1_bl4_12_2_unit_in",{"$f":"'T2-B(PP1)'!$D$186","v":0},"#'T2-B(PP1)'!$D$186"]
["pp1_bl4_12_2_units_out",{"$f":"'T2-B(PP1)'!$G$186","v":0},"#'T2-B(PP1)'!$G$186"]
["pp1_bl4_12_3_name",{"$f":"'T2-B(PP1)'!$B$187","v":0},"#'T2-B(PP1)'!$B$187"]
["pp1_bl4_12_3_rate_in",{"$f":"'T2-B(PP1)'!$E$187","v":0},"#'T2-B(PP1)'!$E$187"]
["pp1_bl4_12_3_rate_out",{"$f":"'T2-B(PP1)'!$H$187","v":0},"#'T2-B(PP1)'!$H$187"]
["pp1_bl4_12_3_total",{"$f":"'T2-B(PP1)'!$J$187","v":0},"#'T2-B(PP1)'!$J$187"]
["pp1_bl4_12_3_total_in",{"$f":"'T2-B(PP1)'!$F$187","v":0},"#'T2-B(PP1)'!$F$187"]
["pp1_bl4_12_3_total_out",{"$f":"'T2-B(PP1)'!$I$187","v":0},"#'T2-B(PP1)'!$I$187"]
["pp1_bl4_12_3_unit",{"$f":"'T2-B(PP1)'!$C$187","v":0},"#'T2-B(PP1)'!$C$187"]
["pp1_bl4_12_3_unit_in",{"$f":"'T2-B(PP1)'!$D$187","v":0},"#'T2-B(PP1)'!$D$187"]
["pp1_bl4_12_3_units_out",{"$f":"'T2-B(PP1)'!$G$187","v":0},"#'T2-B(PP1)'!$G$187"]
["pp1_bl4_12_4_name",{"$f":"'T2-B(PP1)'!$B$188","v":0},"#'T2-B(PP1)'!$B$188"]
["pp1_bl4_12_4_rate_in",{"$f":"'T2-B(PP1)'!$E$188","v":0},"#'T2-B(PP1)'!$E$188"]
["pp1_bl4_12_4_rate_out",{"$f":"'T2-B(PP1)'!$H$188","v":0},"#'T2-B(PP1)'!$H$188"]
["pp1_bl4_12_4_total",{"$f":"'T2-B(PP1)'!$J$188","v":0},"#'T2-B(PP1)'!$J$188"]
["pp1_bl4_12_4_total_in",{"$f":"'T2-B(PP1)'!$F$188","v":0},"#'T2-B(PP1)'!$F$188"]
["pp1_bl4_12_4_total_out",{"$f":"'T2-B(PP1)'!$I$188","v":0},"#'T2-B(PP1)'!$I$188"]
["pp1_bl4_12_4_unit",{"$f":"'T2-B(PP1)'!$C$188","v":0},"#'T2-B(PP1)'!$C$188"]
["pp1_bl4_12_4_unit_in",{"$f":"'T2-B(PP1)'!$D$188","v":0},"#'T2-B(PP1)'!$D$188"]
["pp1_bl4_12_4_units_out",{"$f":"'T2-B(PP1)'!$G$188","v":0},"#'T2-B(PP1)'!$G$188"]
["pp1_bl4_12_5_name",{"$f":"'T2-B(PP1)'!$B$189","v":0},"#'T2-B(PP1)'!$B$189"]
["pp1_bl4_12_5_rate_in",{"$f":"'T2-B(PP1)'!$E$189","v":0},"#'T2-B(PP1)'!$E$189"]
["pp1_bl4_12_5_rate_out",{"$f":"'T2-B(PP1)'!$H$189","v":0},"#'T2-B(PP1)'!$H$189"]
["pp1_bl4_12_5_total",{"$f":"'T2-B(PP1)'!$J$189","v":0},"#'T2-B(PP1)'!$J$189"]
["pp1_bl4_12_5_total_in",{"$f":"'T2-B(PP1)'!$F$189","v":0},"#'T2-B(PP1)'!$F$189"]
["pp1_bl4_12_5_total_out",{"$f":"'T2-B(PP1)'!$I$189","v":0},"#'T2-B(PP1)'!$I$189"]
["pp1_bl4_12_5_unit",{"$f":"'T2-B(PP1)'!$C$189","v":0},"#'T2-B(PP1)'!$C$189"]
["pp1_bl4_12_5_unit_in",{"$f":"'T2-B(PP1)'!$D$189","v":0},"#'T2-B(PP1)'!$D$189"]
["pp1_bl4_12_5_units_out",{"$f":"'T2-B(PP1)'!$G$189","v":0},"#'T2-B(PP1)'!$G$189"]
["pp1_bl4_12_6_name",{"$f":"'T2-B(PP1)'!$B$190","v":0},"#'T2-B(PP1)'!$B$190"]
["pp1_bl4_12_6_rate_in",{"$f":"'T2-B(PP1)'!$E$190","v":0},"#'T2-B(PP1)'!$E$190"]
["pp1_bl4_12_6_rate_out",{"$f":"'T2-B(PP1)'!$H$190","v":0},"#'T2-B(PP1)'!$H$190"]
["pp1_bl4_12_6_total",{"$f":"'T2-B(PP1)'!$J$190","v":0},"#'T2-B(PP1)'!$J$190"]
["pp1_bl4_12_6_total_in",{"$f":"'T2-B(PP1)'!$F$190","v":0},"#'T2-B(PP1)'!$F$190"]
["pp1_bl4_12_6_total_out",{"$f":"'T2-B(PP1)'!$I$190","v":0},"#'T2-B(PP1)'!$I$190"]
["pp1_bl4_12_6_unit",{"$f":"'T2-B(PP1)'!$C$190","v":0},"#'T2-B(PP1)'!$C$190"]
["pp1_bl4_12_6_unit_in",{"$f":"'T2-B(PP1)'!$D$190","v":0},"#'T2-B(PP1)'!$D$190"]
["pp1_bl4_12_6_units_out",{"$f":"'T2-B(PP1)'!$G$190","v":0},"#'T2-B(PP1)'!$G$190"]
["pp1_bl4_12_7_name",{"$f":"'T2-B(PP1)'!$B$191","v":0},"#'T2-B(PP1)'!$B$191"]
["pp1_bl4_12_7_rate_in",{"$f":"'T2-B(PP1)'!$E$191","v":0},"#'T2-B(PP1)'!$E$191"]
["pp1_bl4_12_7_rate_out",{"$f":"'T2-B(PP1)'!$H$191","v":0},"#'T2-B(PP1)'!$H$191"]
["pp1_bl4_12_7_total",{"$f":"'T2-B(PP1)'!$J$191","v":0},"#'T2-B(PP1)'!$J$191"]
["pp1_bl4_12_7_total_in",{"$f":"'T2-B(PP1)'!$F$191","v":0},"#'T2-B(PP1)'!$F$191"]
["pp1_bl4_12_7_total_out",{"$f":"'T2-B(PP1)'!$I$191","v":0},"#'T2-B(PP1)'!$I$191"]
["pp1_bl4_12_7_unit",{"$f":"'T2-B(PP1)'!$C$191","v":0},"#'T2-B(PP1)'!$C$191"]
["pp1_bl4_12_7_unit_in",{"$f":"'T2-B(PP1)'!$D$191","v":0},"#'T2-B(PP1)'!$D$191"]
["pp1_bl4_12_7_units_out",{"$f":"'T2-B(PP1)'!$G$191","v":0},"#'T2-B(PP1)'!$G$191"]
["pp1_bl4_12_8_name",{"$f":"'T2-B(PP1)'!$B$192","v":0},"#'T2-B(PP1)'!$B$192"]
["pp1_bl4_12_8_rate_in",{"$f":"'T2-B(PP1)'!$E$192","v":0},"#'T2-B(PP1)'!$E$192"]
["pp1_bl4_12_8_rate_out",{"$f":"'T2-B(PP1)'!$H$192","v":0},"#'T2-B(PP1)'!$H$192"]
["pp1_bl4_12_8_total",{"$f":"'T2-B(PP1)'!$J$192","v":0},"#'T2-B(PP1)'!$J$192"]
["pp1_bl4_12_8_total_in",{"$f":"'T2-B(PP1)'!$F$192","v":0},"#'T2-B(PP1)'!$F$192"]
["pp1_bl4_12_8_total_out",{"$f":"'T2-B(PP1)'!$I$192","v":0},"#'T2-B(PP1)'!$I$192"]
["pp1_bl4_12_8_unit",{"$f":"'T2-B(PP1)'!$C$192","v":0},"#'T2-B(PP1)'!$C$192"]
["pp1_bl4_12_8_unit_in",{"$f":"'T2-B(PP1)'!$D$192","v":0},"#'T2-B(PP1)'!$D$192"]
["pp1_bl4_12_8_units_out",{"$f":"'T2-B(PP1)'!$G$192","v":0},"#'T2-B(PP1)'!$G$192"]
["pp1_bl4_12_9_name",{"$f":"'T2-B(PP1)'!$B$193","v":0},"#'T2-B(PP1)'!$B$193"]
["pp1_bl4_12_9_rate_in",{"$f":"'T2-B(PP1)'!$E$193","v":0},"#'T2-B(PP1)'!$E$193"]
["pp1_bl4_12_9_rate_out",{"$f":"'T2-B(PP1)'!$H$193","v":0},"#'T2-B(PP1)'!$H$193"]
["pp1_bl4_12_9_total",{"$f":"'T2-B(PP1)'!$J$193","v":0},"#'T2-B(PP1)'!$J$193"]
["pp1_bl4_12_9_total_in",{"$f":"'T2-B(PP1)'!$F$193","v":0},"#'T2-B(PP1)'!$F$193"]
["pp1_bl4_12_9_total_out",{"$f":"'T2-B(PP1)'!$I$193","v":0},"#'T2-B(PP1)'!$I$193"]
["pp1_bl4_12_9_unit",{"$f":"'T2-B(PP1)'!$C$193","v":0},"#'T2-B(PP1)'!$C$193"]
["pp1_bl4_12_9_unit_in",{"$f":"'T2-B(PP1)'!$D$193","v":0},"#'T2-B(PP1)'!$D$193"]
["pp1_bl4_12_9_units_out",{"$f":"'T2-B(PP1)'!$G$193","v":0},"#'T2-B(PP1)'!$G$193"]
["pp1_bl4_12_total",{"$f":"'T2-B(PP1)'!$J$184","v":0},"#'T2-B(PP1)'!$J$184"]
["pp1_bl4_12_total_in",{"$f":"'T2-B(PP1)'!$F$184","v":0},"#'T2-B(PP1)'!$F$184"]
["pp1_bl4_12_total_out",{"$f":"'T2-B(PP1)'!$I$184","v":0},"#'T2-B(PP1)'!$I$184"]
["pp1_bl4_13_1_name",{"$f":"'T2-B(PP1)'!$B$196","v":0},"#'T2-B(PP1)'!$B$196"]
["pp1_bl4_13_1_rate_in",{"$f":"'T2-B(PP1)'!$E$196","v":0},"#'T2-B(PP1)'!$E$196"]
["pp1_bl4_13_1_rate_out",{"$f":"'T2-B(PP1)'!$H$196","v":0},"#'T2-B(PP1)'!$H$196"]
["pp1_bl4_13_1_total",{"$f":"'T2-B(PP1)'!$J$196","v":0},"#'T2-B(PP1)'!$J$196"]
["pp1_bl4_13_1_total_in",{"$f":"'T2-B(PP1)'!$F$196","v":0},"#'T2-B(PP1)'!$F$196"]
["pp1_bl4_13_1_total_out",{"$f":"'T2-B(PP1)'!$I$196","v":0},"#'T2-B(PP1)'!$I$196"]
["pp1_bl4_13_1_unit",{"$f":"'T2-B(PP1)'!$C$196","v":0},"#'T2-B(PP1)'!$C$196"]
["pp1_bl4_13_1_unit_in",{"$f":"'T2-B(PP1)'!$D$196","v":0},"#'T2-B(PP1)'!$D$196"]
["pp1_bl4_13_1_units_out",{"$f":"'T2-B(PP1)'!$G$196","v":0},"#'T2-B(PP1)'!$G$196"]
["pp1_bl4_13_10_name",{"$f":"'T2-B(PP1)'!$B$205","v":0},"#'T2-B(PP1)'!$B$205"]
["pp1_bl4_13_10_rate_in",{"$f":"'T2-B(PP1)'!$E$205","v":0},"#'T2-B(PP1)'!$E$205"]
["pp1_bl4_13_10_rate_out",{"$f":"'T2-B(PP1)'!$H$205","v":0},"#'T2-B(PP1)'!$H$205"]
["pp1_bl4_13_10_total",{"$f":"'T2-B(PP1)'!$J$205","v":0},"#'T2-B(PP1)'!$J$205"]
["pp1_bl4_13_10_total_in",{"$f":"'T2-B(PP1)'!$F$205","v":0},"#'T2-B(PP1)'!$F$205"]
["pp1_bl4_13_10_total_out",{"$f":"'T2-B(PP1)'!$I$205","v":0},"#'T2-B(PP1)'!$I$205"]
["pp1_bl4_13_10_unit",{"$f":"'T2-B(PP1)'!$C$205","v":0},"#'T2-B(PP1)'!$C$205"]
["pp1_bl4_13_10_unit_in",{"$f":"'T2-B(PP1)'!$D$205","v":0},"#'T2-B(PP1)'!$D$205"]
["pp1_bl4_13_10_units_out",{"$f":"'T2-B(PP1)'!$G$205","v":0},"#'T2-B(PP1)'!$G$205"]
["pp1_bl4_13_2_name",{"$f":"'T2-B(PP1)'!$B$197","v":0},"#'T2-B(PP1)'!$B$197"]
["pp1_bl4_13_2_rate_in",{"$f":"'T2-B(PP1)'!$E$197","v":0},"#'T2-B(PP1)'!$E$197"]
["pp1_bl4_13_2_rate_out",{"$f":"'T2-B(PP1)'!$H$197","v":0},"#'T2-B(PP1)'!$H$197"]
["pp1_bl4_13_2_total",{"$f":"'T2-B(PP1)'!$J$197","v":0},"#'T2-B(PP1)'!$J$197"]
["pp1_bl4_13_2_total_in",{"$f":"'T2-B(PP1)'!$F$197","v":0},"#'T2-B(PP1)'!$F$197"]
["pp1_bl4_13_2_total_out",{"$f":"'T2-B(PP1)'!$I$197","v":0},"#'T2-B(PP1)'!$I$197"]
["pp1_bl4_13_2_unit",{"$f":"'T2-B(PP1)'!$C$197","v":0},"#'T2-B(PP1)'!$C$197"]
["pp1_bl4_13_2_unit_in",{"$f":"'T2-B(PP1)'!$D$197","v":0},"#'T2-B(PP1)'!$D$197"]
["pp1_bl4_13_2_units_out",{"$f":"'T2-B(PP1)'!$G$197","v":0},"#'T2-B(PP1)'!$G$197"]
["pp1_bl4_13_3_name",{"$f":"'T2-B(PP1)'!$B$198","v":0},"#'T2-B(PP1)'!$B$198"]
["pp1_bl4_13_3_rate_in",{"$f":"'T2-B(PP1)'!$E$198","v":0},"#'T2-B(PP1)'!$E$198"]
["pp1_bl4_13_3_rate_out",{"$f":"'T2-B(PP1)'!$H$198","v":0},"#'T2-B(PP1)'!$H$198"]
["pp1_bl4_13_3_total",{"$f":"'T2-B(PP1)'!$J$198","v":0},"#'T2-B(PP1)'!$J$198"]
["pp1_bl4_13_3_total_in",{"$f":"'T2-B(PP1)'!$F$198","v":0},"#'T2-B(PP1)'!$F$198"]
["pp1_bl4_13_3_total_out",{"$f":"'T2-B(PP1)'!$I$198","v":0},"#'T2-B(PP1)'!$I$198"]
["pp1_bl4_13_3_unit",{"$f":"'T2-B(PP1)'!$C$198","v":0},"#'T2-B(PP1)'!$C$198"]
["pp1_bl4_13_3_unit_in",{"$f":"'T2-B(PP1)'!$D$198","v":0},"#'T2-B(PP1)'!$D$198"]
["pp1_bl4_13_3_units_out",{"$f":"'T2-B(PP1)'!$G$198","v":0},"#'T2-B(PP1)'!$G$198"]
["pp1_bl4_13_4_name",{"$f":"'T2-B(PP1)'!$B$199","v":0},"#'T2-B(PP1)'!$B$199"]
["pp1_bl4_13_4_rate_in",{"$f":"'T2-B(PP1)'!$E$199","v":0},"#'T2-B(PP1)'!$E$199"]
["pp1_bl4_13_4_rate_out",{"$f":"'T2-B(PP1)'!$H$199","v":0},"#'T2-B(PP1)'!$H$199"]
["pp1_bl4_13_4_total",{"$f":"'T2-B(PP1)'!$J$199","v":0},"#'T2-B(PP1)'!$J$199"]
["pp1_bl4_13_4_total_in",{"$f":"'T2-B(PP1)'!$F$199","v":0},"#'T2-B(PP1)'!$F$199"]
["pp1_bl4_13_4_total_out",{"$f":"'T2-B(PP1)'!$I$199","v":0},"#'T2-B(PP1)'!$I$199"]
["pp1_bl4_13_4_unit",{"$f":"'T2-B(PP1)'!$C$199","v":0},"#'T2-B(PP1)'!$C$199"]
["pp1_bl4_13_4_unit_in",{"$f":"'T2-B(PP1)'!$D$199","v":0},"#'T2-B(PP1)'!$D$199"]
["pp1_bl4_13_4_units_out",{"$f":"'T2-B(PP1)'!$G$199","v":0},"#'T2-B(PP1)'!$G$199"]
["pp1_bl4_13_5_name",{"$f":"'T2-B(PP1)'!$B$200","v":0},"#'T2-B(PP1)'!$B$200"]
["pp1_bl4_13_5_rate_in",{"$f":"'T2-B(PP1)'!$E$200","v":0},"#'T2-B(PP1)'!$E$200"]
["pp1_bl4_13_5_rate_out",{"$f":"'T2-B(PP1)'!$H$200","v":0},"#'T2-B(PP1)'!$H$200"]
["pp1_bl4_13_5_total",{"$f":"'T2-B(PP1)'!$J$200","v":0},"#'T2-B(PP1)'!$J$200"]
["pp1_bl4_13_5_total_in",{"$f":"'T2-B(PP1)'!$F$200","v":0},"#'T2-B(PP1)'!$F$200"]
["pp1_bl4_13_5_total_out",{"$f":"'T2-B(PP1)'!$I$200","v":0},"#'T2-B(PP1)'!$I$200"]
["pp1_bl4_13_5_unit",{"$f":"'T2-B(PP1)'!$C$200","v":0},"#'T2-B(PP1)'!$C$200"]
["pp1_bl4_13_5_unit_in",{"$f":"'T2-B(PP1)'!$D$200","v":0},"#'T2-B(PP1)'!$D$200"]
["pp1_bl4_13_5_units_out",{"$f":"'T2-B(PP1)'!$G$200","v":0},"#'T2-B(PP1)'!$G$200"]
["pp1_bl4_13_6_name",{"$f":"'T2-B(PP1)'!$B$201","v":0},"#'T2-B(PP1)'!$B$201"]
["pp1_bl4_13_6_rate_in",{"$f":"'T2-B(PP1)'!$E$201","v":0},"#'T2-B(PP1)'!$E$201"]
["pp1_bl4_13_6_rate_out",{"$f":"'T2-B(PP1)'!$H$201","v":0},"#'T2-B(PP1)'!$H$201"]
["pp1_bl4_13_6_total",{"$f":"'T2-B(PP1)'!$J$201","v":0},"#'T2-B(PP1)'!$J$201"]
["pp1_bl4_13_6_total_in",{"$f":"'T2-B(PP1)'!$F$201","v":0},"#'T2-B(PP1)'!$F$201"]
["pp1_bl4_13_6_total_out",{"$f":"'T2-B(PP1)'!$I$201","v":0},"#'T2-B(PP1)'!$I$201"]
["pp1_bl4_13_6_unit",{"$f":"'T2-B(PP1)'!$C$201","v":0},"#'T2-B(PP1)'!$C$201"]
["pp1_bl4_13_6_unit_in",{"$f":"'T2-B(PP1)'!$D$201","v":0},"#'T2-B(PP1)'!$D$201"]
["pp1_bl4_13_6_units_out",{"$f":"'T2-B(PP1)'!$G$201","v":0},"#'T2-B(PP1)'!$G$201"]
["pp1_bl4_13_7_name",{"$f":"'T2-B(PP1)'!$B$202","v":0},"#'T2-B(PP1)'!$B$202"]
["pp1_bl4_13_7_rate_in",{"$f":"'T2-B(PP1)'!$E$202","v":0},"#'T2-B(PP1)'!$E$202"]
["pp1_bl4_13_7_rate_out",{"$f":"'T2-B(PP1)'!$H$202","v":0},"#'T2-B(PP1)'!$H$202"]
["pp1_bl4_13_7_total",{"$f":"'T2-B(PP1)'!$J$202","v":0},"#'T2-B(PP1)'!$J$202"]
["pp1_bl4_13_7_total_in",{"$f":"'T2-B(PP1)'!$F$202","v":0},"#'T2-B(PP1)'!$F$202"]
["pp1_bl4_13_7_total_out",{"$f":"'T2-B(PP1)'!$I$202","v":0},"#'T2-B(PP1)'!$I$202"]
["pp1_bl4_13_7_unit",{"$f":"'T2-B(PP1)'!$C$202","v":0},"#'T2-B(PP1)'!$C$202"]
["pp1_bl4_13_7_unit_in",{"$f":"'T2-B(PP1)'!$D$202","v":0},"#'T2-B(PP1)'!$D$202"]
["pp1_bl4_13_7_units_out",{"$f":"'T2-B(PP1)'!$G$202","v":0},"#'T2-B(PP1)'!$G$202"]
["pp1_bl4_13_8_name",{"$f":"'T2-B(PP1)'!$B$203","v":0},"#'T2-B(PP1)'!$B$203"]
["pp1_bl4_13_8_rate_in",{"$f":"'T2-B(PP1)'!$E$203","v":0},"#'T2-B(PP1)'!$E$203"]
["pp1_bl4_13_8_rate_out",{"$f":"'T2-B(PP1)'!$H$203","v":0},"#'T2-B(PP1)'!$H$203"]
["pp1_bl4_13_8_total",{"$f":"'T2-B(PP1)'!$J$203","v":0},"#'T2-B(PP1)'!$J$203"]
["pp1_bl4_13_8_total_in",{"$f":"'T2-B(PP1)'!$F$203","v":0},"#'T2-B(PP1)'!$F$203"]
["pp1_bl4_13_8_total_out",{"$f":"'T2-B(PP1)'!$I$203","v":0},"#'T2-B(PP1)'!$I$203"]
["pp1_bl4_13_8_unit",{"$f":"'T2-B(PP1)'!$C$203","v":0},"#'T2-B(PP1)'!$C$203"]
["pp1_bl4_13_8_unit_in",{"$f":"'T2-B(PP1)'!$D$203","v":0},"#'T2-B(PP1)'!$D$203"]
["pp1_bl4_13_8_units_out",{"$f":"'T2-B(PP1)'!$G$203","v":0},"#'T2-B(PP1)'!$G$203"]
["pp1_bl4_13_9_name",{"$f":"'T2-B(PP1)'!$B$204","v":0},"#'T2-B(PP1)'!$B$204"]
["pp1_bl4_13_9_rate_in",{"$f":"'T2-B(PP1)'!$E$204","v":0},"#'T2-B(PP1)'!$E$204"]
["pp1_bl4_13_9_rate_out",{"$f":"'T2-B(PP1)'!$H$204","v":0},"#'T2-B(PP1)'!$H$204"]
["pp1_bl4_13_9_total",{"$f":"'T2-B(PP1)'!$J$204","v":0},"#'T2-B(PP1)'!$J$204"]
["pp1_bl4_13_9_total_in",{"$f":"'T2-B(PP1)'!$F$204","v":0},"#'T2-B(PP1)'!$F$204"]
["pp1_bl4_13_9_total_out",{"$f":"'T2-B(PP1)'!$I$204","v":0},"#'T2-B(PP1)'!$I$204"]
["pp1_bl4_13_9_unit",{"$f":"'T2-B(PP1)'!$C$204","v":0},"#'T2-B(PP1)'!$C$204"]
["pp1_bl4_13_9_unit_in",{"$f":"'T2-B(PP1)'!$D$204","v":0},"#'T2-B(PP1)'!$D$204"]
["pp1_bl4_13_9_units_out",{"$f":"'T2-B(PP1)'!$G$204","v":0},"#'T2-B(PP1)'!$G$204"]
["pp1_bl4_13_total",{"$f":"'T2-B(PP1)'!$J$195","v":0},"#'T2-B(PP1)'!$J$195"]
["pp1_bl4_13_total_in",{"$f":"'T2-B(PP1)'!$F$195","v":0},"#'T2-B(PP1)'!$F$195"]
["pp1_bl4_13_total_out",{"$f":"'T2-B(PP1)'!$I$195","v":0},"#'T2-B(PP1)'!$I$195"]
["pp1_bl4_14_1_name",{"$f":"'T2-B(PP1)'!$B$207","v":0},"#'T2-B(PP1)'!$B$207"]
["pp1_bl4_14_1_rate_in",{"$f":"'T2-B(PP1)'!$E$207","v":0},"#'T2-B(PP1)'!$E$207"]
["pp1_bl4_14_1_rate_out",{"$f":"'T2-B(PP1)'!$H$207","v":0},"#'T2-B(PP1)'!$H$207"]
["pp1_bl4_14_1_total",{"$f":"'T2-B(PP1)'!$J$207","v":0},"#'T2-B(PP1)'!$J$207"]
["pp1_bl4_14_1_total_in",{"$f":"'T2-B(PP1)'!$F$207","v":0},"#'T2-B(PP1)'!$F$207"]
["pp1_bl4_14_1_total_out",{"$f":"'T2-B(PP1)'!$I$207","v":0},"#'T2-B(PP1)'!$I$207"]
["pp1_bl4_14_1_unit",{"$f":"'T2-B(PP1)'!$C$207","v":0},"#'T2-B(PP1)'!$C$207"]
["pp1_bl4_14_1_unit_in",{"$f":"'T2-B(PP1)'!$D$207","v":0},"#'T2-B(PP1)'!$D$207"]
["pp1_bl4_14_1_units_out",{"$f":"'T2-B(PP1)'!$G$207","v":0},"#'T2-B(PP1)'!$G$207"]
["pp1_bl4_14_10_name",{"$f":"'T2-B(PP1)'!$B$216","v":0},"#'T2-B(PP1)'!$B$216"]
["pp1_bl4_14_10_rate_in",{"$f":"'T2-B(PP1)'!$E$216","v":0},"#'T2-B(PP1)'!$E$216"]
["pp1_bl4_14_10_rate_out",{"$f":"'T2-B(PP1)'!$H$216","v":0},"#'T2-B(PP1)'!$H$216"]
["pp1_bl4_14_10_total",{"$f":"'T2-B(PP1)'!$J$216","v":0},"#'T2-B(PP1)'!$J$216"]
["pp1_bl4_14_10_total_in",{"$f":"'T2-B(PP1)'!$F$216","v":0},"#'T2-B(PP1)'!$F$216"]
["pp1_bl4_14_10_total_out",{"$f":"'T2-B(PP1)'!$I$216","v":0},"#'T2-B(PP1)'!$I$216"]
["pp1_bl4_14_10_unit",{"$f":"'T2-B(PP1)'!$C$216","v":0},"#'T2-B(PP1)'!$C$216"]
["pp1_bl4_14_10_unit_in",{"$f":"'T2-B(PP1)'!$D$216","v":0},"#'T2-B(PP1)'!$D$216"]
["pp1_bl4_14_10_units_out",{"$f":"'T2-B(PP1)'!$G$216","v":0},"#'T2-B(PP1)'!$G$216"]
["pp1_bl4_14_2_name",{"$f":"'T2-B(PP1)'!$B$208","v":0},"#'T2-B(PP1)'!$B$208"]
["pp1_bl4_14_2_rate_in",{"$f":"'T2-B(PP1)'!$E$208","v":0},"#'T2-B(PP1)'!$E$208"]
["pp1_bl4_14_2_rate_out",{"$f":"'T2-B(PP1)'!$H$208","v":0},"#'T2-B(PP1)'!$H$208"]
["pp1_bl4_14_2_total",{"$f":"'T2-B(PP1)'!$J$208","v":0},"#'T2-B(PP1)'!$J$208"]
["pp1_bl4_14_2_total_in",{"$f":"'T2-B(PP1)'!$F$208","v":0},"#'T2-B(PP1)'!$F$208"]
["pp1_bl4_14_2_total_out",{"$f":"'T2-B(PP1)'!$I$208","v":0},"#'T2-B(PP1)'!$I$208"]
["pp1_bl4_14_2_unit",{"$f":"'T2-B(PP1)'!$C$208","v":0},"#'T2-B(PP1)'!$C$208"]
["pp1_bl4_14_2_unit_in",{"$f":"'T2-B(PP1)'!$D$208","v":0},"#'T2-B(PP1)'!$D$208"]
["pp1_bl4_14_2_units_out",{"$f":"'T2-B(PP1)'!$G$208","v":0},"#'T2-B(PP1)'!$G$208"]
["pp1_bl4_14_3_name",{"$f":"'T2-B(PP1)'!$B$209","v":0},"#'T2-B(PP1)'!$B$209"]
["pp1_bl4_14_3_rate_in",{"$f":"'T2-B(PP1)'!$E$209","v":0},"#'T2-B(PP1)'!$E$209"]
["pp1_bl4_14_3_rate_out",{"$f":"'T2-B(PP1)'!$H$209","v":0},"#'T2-B(PP1)'!$H$209"]
["pp1_bl4_14_3_total",{"$f":"'T2-B(PP1)'!$J$209","v":0},"#'T2-B(PP1)'!$J$209"]
["pp1_bl4_14_3_total_in",{"$f":"'T2-B(PP1)'!$F$209","v":0},"#'T2-B(PP1)'!$F$209"]
["pp1_bl4_14_3_total_out",{"$f":"'T2-B(PP1)'!$I$209","v":0},"#'T2-B(PP1)'!$I$209"]
["pp1_bl4_14_3_unit",{"$f":"'T2-B(PP1)'!$C$209","v":0},"#'T2-B(PP1)'!$C$209"]
["pp1_bl4_14_3_unit_in",{"$f":"'T2-B(PP1)'!$D$209","v":0},"#'T2-B(PP1)'!$D$209"]
["pp1_bl4_14_3_units_out",{"$f":"'T2-B(PP1)'!$G$209","v":0},"#'T2-B(PP1)'!$G$209"]
["pp1_bl4_14_4_name",{"$f":"'T2-B(PP1)'!$B$210","v":0},"#'T2-B(PP1)'!$B$210"]
["pp1_bl4_14_4_rate_in",{"$f":"'T2-B(PP1)'!$E$210","v":0},"#'T2-B(PP1)'!$E$210"]
["pp1_bl4_14_4_rate_out",{"$f":"'T2-B(PP1)'!$H$210","v":0},"#'T2-B(PP1)'!$H$210"]
["pp1_bl4_14_4_total",{"$f":"'T2-B(PP1)'!$J$210","v":0},"#'T2-B(PP1)'!$J$210"]
["pp1_bl4_14_4_total_in",{"$f":"'T2-B(PP1)'!$F$210","v":0},"#'T2-B(PP1)'!$F$210"]
["pp1_bl4_14_4_total_out",{"$f":"'T2-B(PP1)'!$I$210","v":0},"#'T2-B(PP1)'!$I$210"]
["pp1_bl4_14_4_unit",{"$f":"'T2-B(PP1)'!$C$210","v":0},"#'T2-B(PP1)'!$C$210"]
["pp1_bl4_14_4_unit_in",{"$f":"'T2-B(PP1)'!$D$210","v":0},"#'T2-B(PP1)'!$D$210"]
["pp1_bl4_14_4_units_out",{"$f":"'T2-B(PP1)'!$G$210","v":0},"#'T2-B(PP1)'!$G$210"]
["pp1_bl4_14_5_name",{"$f":"'T2-B(PP1)'!$B$211","v":0},"#'T2-B(PP1)'!$B$211"]
["pp1_bl4_14_5_rate_in",{"$f":"'T2-B(PP1)'!$E$211","v":0},"#'T2-B(PP1)'!$E$211"]
["pp1_bl4_14_5_rate_out",{"$f":"'T2-B(PP1)'!$H$211","v":0},"#'T2-B(PP1)'!$H$211"]
["pp1_bl4_14_5_total",{"$f":"'T2-B(PP1)'!$J$211","v":0},"#'T2-B(PP1)'!$J$211"]
["pp1_bl4_14_5_total_in",{"$f":"'T2-B(PP1)'!$F$211","v":0},"#'T2-B(PP1)'!$F$211"]
["pp1_bl4_14_5_total_out",{"$f":"'T2-B(PP1)'!$I$211","v":0},"#'T2-B(PP1)'!$I$211"]
["pp1_bl4_14_5_unit",{"$f":"'T2-B(PP1)'!$C$211","v":0},"#'T2-B(PP1)'!$C$211"]
["pp1_bl4_14_5_unit_in",{"$f":"'T2-B(PP1)'!$D$211","v":0},"#'T2-B(PP1)'!$D$211"]
["pp1_bl4_14_5_units_out",{"$f":"'T2-B(PP1)'!$G$211","v":0},"#'T2-B(PP1)'!$G$211"]
["pp1_bl4_14_6_name",{"$f":"'T2-B(PP1)'!$B$212","v":0},"#'T2-B(PP1)'!$B$212"]
["pp1_bl4_14_6_rate_in",{"$f":"'T2-B(PP1)'!$E$212","v":0},"#'T2-B(PP1)'!$E$212"]
["pp1_bl4_14_6_rate_out",{"$f":"'T2-B(PP1)'!$H$212","v":0},"#'T2-B(PP1)'!$H$212"]
["pp1_bl4_14_6_total",{"$f":"'T2-B(PP1)'!$J$212","v":0},"#'T2-B(PP1)'!$J$212"]
["pp1_bl4_14_6_total_in",{"$f":"'T2-B(PP1)'!$F$212","v":0},"#'T2-B(PP1)'!$F$212"]
["pp1_bl4_14_6_total_out",{"$f":"'T2-B(PP1)'!$I$212","v":0},"#'T2-B(PP1)'!$I$212"]
["pp1_bl4_14_6_unit",{"$f":"'T2-B(PP1)'!$C$212","v":0},"#'T2-B(PP1)'!$C$212"]
["pp1_bl4_14_6_unit_in",{"$f":"'T2-B(PP1)'!$D$212","v":0},"#'T2-B(PP1)'!$D$212"]
["pp1_bl4_14_6_units_out",{"$f":"'T2-B(PP1)'!$G$212","v":0},"#'T2-B(PP1)'!$G$212"]
["pp1_bl4_14_7_name",{"$f":"'T2-B(PP1)'!$B$213","v":0},"#'T2-B(PP1)'!$B$213"]
["pp1_bl4_14_7_rate_in",{"$f":"'T2-B(PP1)'!$E$213","v":0},"#'T2-B(PP1)'!$E$213"]
["pp1_bl4_14_7_rate_out",{"$f":"'T2-B(PP1)'!$H$213","v":0},"#'T2-B(PP1)'!$H$213"]
["pp1_bl4_14_7_total",{"$f":"'T2-B(PP1)'!$J$213","v":0},"#'T2-B(PP1)'!$J$213"]
["pp1_bl4_14_7_total_in",{"$f":"'T2-B(PP1)'!$F$213","v":0},"#'T2-B(PP1)'!$F$213"]
["pp1_bl4_14_7_total_out",{"$f":"'T2-B(PP1)'!$I$213","v":0},"#'T2-B(PP1)'!$I$213"]
["pp1_bl4_14_7_unit",{"$f":"'T2-B(PP1)'!$C$213","v":0},"#'T2-B(PP1)'!$C$213"]
["pp1_bl4_14_7_unit_in",{"$f":"'T2-B(PP1)'!$D$213","v":0},"#'T2-B(PP1)'!$D$213"]
["pp1_bl4_14_7_units_out",{"$f":"'T2-B(PP1)'!$G$213","v":0},"#'T2-B(PP1)'!$G$213"]
["pp1_bl4_14_8_name",{"$f":"'T2-B(PP1)'!$B$214","v":0},"#'T2-B(PP1)'!$B$214"]
["pp1_bl4_14_8_rate_in",{"$f":"'T2-B(PP1)'!$E$214","v":0},"#'T2-B(PP1)'!$E$214"]
["pp1_bl4_14_8_rate_out",{"$f":"'T2-B(PP1)'!$H$214","v":0},"#'T2-B(PP1)'!$H$214"]
["pp1_bl4_14_8_total",{"$f":"'T2-B(PP1)'!$J$214","v":0},"#'T2-B(PP1)'!$J$214"]
["pp1_bl4_14_8_total_in",{"$f":"'T2-B(PP1)'!$F$214","v":0},"#'T2-B(PP1)'!$F$214"]
["pp1_bl4_14_8_total_out",{"$f":"'T2-B(PP1)'!$I$214","v":0},"#'T2-B(PP1)'!$I$214"]
["pp1_bl4_14_8_unit",{"$f":"'T2-B(PP1)'!$C$214","v":0},"#'T2-B(PP1)'!$C$214"]
["pp1_bl4_14_8_unit_in",{"$f":"'T2-B(PP1)'!$D$214","v":0},"#'T2-B(PP1)'!$D$214"]
["pp1_bl4_14_8_units_out",{"$f":"'T2-B(PP1)'!$G$214","v":0},"#'T2-B(PP1)'!$G$214"]
["pp1_bl4_14_9_name",{"$f":"'T2-B(PP1)'!$B$215","v":0},"#'T2-B(PP1)'!$B$215"]
["pp1_bl4_14_9_rate_in",{"$f":"'T2-B(PP1)'!$E$215","v":0},"#'T2-B(PP1)'!$E$215"]
["pp1_bl4_14_9_rate_out",{"$f":"'T2-B(PP1)'!$H$215","v":0},"#'T2-B(PP1)'!$H$215"]
["pp1_bl4_14_9_total",{"$f":"'T2-B(PP1)'!$J$215","v":0},"#'T2-B(PP1)'!$J$215"]
["pp1_bl4_14_9_total_in",{"$f":"'T2-B(PP1)'!$F$215","v":0},"#'T2-B(PP1)'!$F$215"]
["pp1_bl4_14_9_total_out",{"$f":"'T2-B(PP1)'!$I$215","v":0},"#'T2-B(PP1)'!$I$215"]
["pp1_bl4_14_9_unit",{"$f":"'T2-B(PP1)'!$C$215","v":0},"#'T2-B(PP1)'!$C$215"]
["pp1_bl4_14_9_unit_in",{"$f":"'T2-B(PP1)'!$D$215","v":0},"#'T2-B(PP1)'!$D$215"]
["pp1_bl4_14_9_units_out",{"$f":"'T2-B(PP1)'!$G$215","v":0},"#'T2-B(PP1)'!$G$215"]
["pp1_bl4_14_total",{"$f":"'T2-B(PP1)'!$J$206","v":0},"#'T2-B(PP1)'!$J$206"]
["pp1_bl4_14_total_in",{"$f":"'T2-B(PP1)'!$F$206","v":0},"#'T2-B(PP1)'!$F$206"]
["pp1_bl4_14_total_out",{"$f":"'T2-B(PP1)'!$I$206","v":0},"#'T2-B(PP1)'!$I$206"]
["pp1_bl4_2_1_name",{"$f":"'T2-B(PP1)'!$B$75","v":0},"#'T2-B(PP1)'!$B$75"]
["pp1_bl4_2_1_rate_in",{"$f":"'T2-B(PP1)'!$E$75","v":0},"#'T2-B(PP1)'!$E$75"]
["pp1_bl4_2_1_rate_out",{"$f":"'T2-B(PP1)'!$H$75","v":0},"#'T2-B(PP1)'!$H$75"]
["pp1_bl4_2_1_total",{"$f":"'T2-B(PP1)'!$J$75","v":0},"#'T2-B(PP1)'!$J$75"]
["pp1_bl4_2_1_total_in",{"$f":"'T2-B(PP1)'!$F$75","v":0},"#'T2-B(PP1)'!$F$75"]
["pp1_bl4_2_1_total_out",{"$f":"'T2-B(PP1)'!$I$75","v":0},"#'T2-B(PP1)'!$I$75"]
["pp1_bl4_2_1_unit",{"$f":"'T2-B(PP1)'!$C$75","v":0},"#'T2-B(PP1)'!$C$75"]
["pp1_bl4_2_1_unit_in",{"$f":"'T2-B(PP1)'!$D$75","v":0},"#'T2-B(PP1)'!$D$75"]
["pp1_bl4_2_1_units_out",{"$f":"'T2-B(PP1)'!$G$75","v":0},"#'T2-B(PP1)'!$G$75"]
["pp1_bl4_2_10_name",{"$f":"'T2-B(PP1)'!$B$84","v":0},"#'T2-B(PP1)'!$B$84"]
["pp1_bl4_2_10_rate_in",{"$f":"'T2-B(PP1)'!$E$84","v":0},"#'T2-B(PP1)'!$E$84"]
["pp1_bl4_2_10_rate_out",{"$f":"'T2-B(PP1)'!$H$84","v":0},"#'T2-B(PP1)'!$H$84"]
["pp1_bl4_2_10_total",{"$f":"'T2-B(PP1)'!$J$84","v":0},"#'T2-B(PP1)'!$J$84"]
["pp1_bl4_2_10_total_in",{"$f":"'T2-B(PP1)'!$F$84","v":0},"#'T2-B(PP1)'!$F$84"]
["pp1_bl4_2_10_total_out",{"$f":"'T2-B(PP1)'!$I$84","v":0},"#'T2-B(PP1)'!$I$84"]
["pp1_bl4_2_10_unit",{"$f":"'T2-B(PP1)'!$C$84","v":0},"#'T2-B(PP1)'!$C$84"]
["pp1_bl4_2_10_unit_in",{"$f":"'T2-B(PP1)'!$D$84","v":0},"#'T2-B(PP1)'!$D$84"]
["pp1_bl4_2_10_units_out",{"$f":"'T2-B(PP1)'!$G$84","v":0},"#'T2-B(PP1)'!$G$84"]
["pp1_bl4_2_2_name",{"$f":"'T2-B(PP1)'!$B$76","v":0},"#'T2-B(PP1)'!$B$76"]
["pp1_bl4_2_2_rate_in",{"$f":"'T2-B(PP1)'!$E$76","v":0},"#'T2-B(PP1)'!$E$76"]
["pp1_bl4_2_2_rate_out",{"$f":"'T2-B(PP1)'!$H$76","v":0},"#'T2-B(PP1)'!$H$76"]
["pp1_bl4_2_2_total",{"$f":"'T2-B(PP1)'!$J$76","v":0},"#'T2-B(PP1)'!$J$76"]
["pp1_bl4_2_2_total_in",{"$f":"'T2-B(PP1)'!$F$76","v":0},"#'T2-B(PP1)'!$F$76"]
["pp1_bl4_2_2_total_out",{"$f":"'T2-B(PP1)'!$I$76","v":0},"#'T2-B(PP1)'!$I$76"]
["pp1_bl4_2_2_unit",{"$f":"'T2-B(PP1)'!$C$76","v":0},"#'T2-B(PP1)'!$C$76"]
["pp1_bl4_2_2_unit_in",{"$f":"'T2-B(PP1)'!$D$76","v":0},"#'T2-B(PP1)'!$D$76"]
["pp1_bl4_2_2_units_out",{"$f":"'T2-B(PP1)'!$G$76","v":0},"#'T2-B(PP1)'!$G$76"]
["pp1_bl4_2_3_name",{"$f":"'T2-B(PP1)'!$B$77","v":0},"#'T2-B(PP1)'!$B$77"]
["pp1_bl4_2_3_rate_in",{"$f":"'T2-B(PP1)'!$E$77","v":0},"#'T2-B(PP1)'!$E$77"]
["pp1_bl4_2_3_rate_out",{"$f":"'T2-B(PP1)'!$H$77","v":0},"#'T2-B(PP1)'!$H$77"]
["pp1_bl4_2_3_total",{"$f":"'T2-B(PP1)'!$J$77","v":0},"#'T2-B(PP1)'!$J$77"]
["pp1_bl4_2_3_total_in",{"$f":"'T2-B(PP1)'!$F$77","v":0},"#'T2-B(PP1)'!$F$77"]
["pp1_bl4_2_3_total_out",{"$f":"'T2-B(PP1)'!$I$77","v":0},"#'T2-B(PP1)'!$I$77"]
["pp1_bl4_2_3_unit",{"$f":"'T2-B(PP1)'!$C$77","v":0},"#'T2-B(PP1)'!$C$77"]
["pp1_bl4_2_3_unit_in",{"$f":"'T2-B(PP1)'!$D$77","v":0},"#'T2-B(PP1)'!$D$77"]
["pp1_bl4_2_3_units_out",{"$f":"'T2-B(PP1)'!$G$77","v":0},"#'T2-B(PP1)'!$G$77"]
["pp1_bl4_2_4_name",{"$f":"'T2-B(PP1)'!$B$78","v":0},"#'T2-B(PP1)'!$B$78"]
["pp1_bl4_2_4_rate_in",{"$f":"'T2-B(PP1)'!$E$78","v":0},"#'T2-B(PP1)'!$E$78"]
["pp1_bl4_2_4_rate_out",{"$f":"'T2-B(PP1)'!$H$78","v":0},"#'T2-B(PP1)'!$H$78"]
["pp1_bl4_2_4_total",{"$f":"'T2-B(PP1)'!$J$78","v":0},"#'T2-B(PP1)'!$J$78"]
["pp1_bl4_2_4_total_in",{"$f":"'T2-B(PP1)'!$F$78","v":0},"#'T2-B(PP1)'!$F$78"]
["pp1_bl4_2_4_total_out",{"$f":"'T2-B(PP1)'!$I$78","v":0},"#'T2-B(PP1)'!$I$78"]
["pp1_bl4_2_4_unit",{"$f":"'T2-B(PP1)'!$C$78","v":0},"#'T2-B(PP1)'!$C$78"]
["pp1_bl4_2_4_unit_in",{"$f":"'T2-B(PP1)'!$D$78","v":0},"#'T2-B(PP1)'!$D$78"]
["pp1_bl4_2_4_units_out",{"$f":"'T2-B(PP1)'!$G$78","v":0},"#'T2-B(PP1)'!$G$78"]
["pp1_bl4_2_5_name",{"$f":"'T2-B(PP1)'!$B$79","v":0},"#'T2-B(PP1)'!$B$79"]
["pp1_bl4_2_5_rate_in",{"$f":"'T2-B(PP1)'!$E$79","v":0},"#'T2-B(PP1)'!$E$79"]
["pp1_bl4_2_5_rate_out",{"$f":"'T2-B(PP1)'!$H$79","v":0},"#'T2-B(PP1)'!$H$79"]
["pp1_bl4_2_5_total",{"$f":"'T2-B(PP1)'!$J$79","v":0},"#'T2-B(PP1)'!$J$79"]
["pp1_bl4_2_5_total_in",{"$f":"'T2-B(PP1)'!$F$79","v":0},"#'T2-B(PP1)'!$F$79"]
["pp1_bl4_2_5_total_out",{"$f":"'T2-B(PP1)'!$I$79","v":0},"#'T2-B(PP1)'!$I$79"]
["pp1_bl4_2_5_unit",{"$f":"'T2-B(PP1)'!$C$79","v":0},"#'T2-B(PP1)'!$C$79"]
["pp1_bl4_2_5_unit_in",{"$f":"'T2-B(PP1)'!$D$79","v":0},"#'T2-B(PP1)'!$D$79"]
["pp1_bl4_2_5_units_out",{"$f":"'T2-B(PP1)'!$G$79","v":0},"#'T2-B(PP1)'!$G$79"]
["pp1_bl4_2_6_name",{"$f":"'T2-B(PP1)'!$B$80","v":0},"#'T2-B(PP1)'!$B$80"]
["pp1_bl4_2_6_rate_in",{"$f":"'T2-B(PP1)'!$E$80","v":0},"#'T2-B(PP1)'!$E$80"]
["pp1_bl4_2_6_rate_out",{"$f":"'T2-B(PP1)'!$H$80","v":0},"#'T2-B(PP1)'!$H$80"]
["pp1_bl4_2_6_total",{"$f":"'T2-B(PP1)'!$J$80","v":0},"#'T2-B(PP1)'!$J$80"]
["pp1_bl4_2_6_total_in",{"$f":"'T2-B(PP1)'!$F$80","v":0},"#'T2-B(PP1)'!$F$80"]
["pp1_bl4_2_6_total_out",{"$f":"'T2-B(PP1)'!$I$80","v":0},"#'T2-B(PP1)'!$I$80"]
["pp1_bl4_2_6_unit",{"$f":"'T2-B(PP1)'!$C$80","v":0},"#'T2-B(PP1)'!$C$80"]
["pp1_bl4_2_6_unit_in",{"$f":"'T2-B(PP1)'!$D$80","v":0},"#'T2-B(PP1)'!$D$80"]
["pp1_bl4_2_6_units_out",{"$f":"'T2-B(PP1)'!$G$80","v":0},"#'T2-B(PP1)'!$G$80"]
["pp1_bl4_2_7_name",{"$f":"'T2-B(PP1)'!$B$81","v":0},"#'T2-B(PP1)'!$B$81"]
["pp1_bl4_2_7_rate_in",{"$f":"'T2-B(PP1)'!$E$81","v":0},"#'T2-B(PP1)'!$E$81"]
["pp1_bl4_2_7_rate_out",{"$f":"'T2-B(PP1)'!$H$81","v":0},"#'T2-B(PP1)'!$H$81"]
["pp1_bl4_2_7_total",{"$f":"'T2-B(PP1)'!$J$81","v":0},"#'T2-B(PP1)'!$J$81"]
["pp1_bl4_2_7_total_in",{"$f":"'T2-B(PP1)'!$F$81","v":0},"#'T2-B(PP1)'!$F$81"]
["pp1_bl4_2_7_total_out",{"$f":"'T2-B(PP1)'!$I$81","v":0},"#'T2-B(PP1)'!$I$81"]
["pp1_bl4_2_7_unit",{"$f":"'T2-B(PP1)'!$C$81","v":0},"#'T2-B(PP1)'!$C$81"]
["pp1_bl4_2_7_unit_in",{"$f":"'T2-B(PP1)'!$D$81","v":0},"#'T2-B(PP1)'!$D$81"]
["pp1_bl4_2_7_units_out",{"$f":"'T2-B(PP1)'!$G$81","v":0},"#'T2-B(PP1)'!$G$81"]
["pp1_bl4_2_8_name",{"$f":"'T2-B(PP1)'!$B$82","v":0},"#'T2-B(PP1)'!$B$82"]
["pp1_bl4_2_8_rate_in",{"$f":"'T2-B(PP1)'!$E$82","v":0},"#'T2-B(PP1)'!$E$82"]
["pp1_bl4_2_8_rate_out",{"$f":"'T2-B(PP1)'!$H$82","v":0},"#'T2-B(PP1)'!$H$82"]
["pp1_bl4_2_8_total",{"$f":"'T2-B(PP1)'!$J$82","v":0},"#'T2-B(PP1)'!$J$82"]
["pp1_bl4_2_8_total_in",{"$f":"'T2-B(PP1)'!$F$82","v":0},"#'T2-B(PP1)'!$F$82"]
["pp1_bl4_2_8_total_out",{"$f":"'T2-B(PP1)'!$I$82","v":0},"#'T2-B(PP1)'!$I$82"]
["pp1_bl4_2_8_unit",{"$f":"'T2-B(PP1)'!$C$82","v":0},"#'T2-B(PP1)'!$C$82"]
["pp1_bl4_2_8_unit_in",{"$f":"'T2-B(PP1)'!$D$82","v":0},"#'T2-B(PP1)'!$D$82"]
["pp1_bl4_2_8_units_out",{"$f":"'T2-B(PP1)'!$G$82","v":0},"#'T2-B(PP1)'!$G$82"]
["pp1_bl4_2_9_name",{"$f":"'T2-B(PP1)'!$B$83","v":0},"#'T2-B(PP1)'!$B$83"]
["pp1_bl4_2_9_rate_in",{"$f":"'T2-B(PP1)'!$E$83","v":0},"#'T2-B(PP1)'!$E$83"]
["pp1_bl4_2_9_rate_out",{"$f":"'T2-B(PP1)'!$H$83","v":0},"#'T2-B(PP1)'!$H$83"]
["pp1_bl4_2_9_total",{"$f":"'T2-B(PP1)'!$J$83","v":0},"#'T2-B(PP1)'!$J$83"]
["pp1_bl4_2_9_total_in",{"$f":"'T2-B(PP1)'!$F$83","v":0},"#'T2-B(PP1)'!$F$83"]
["pp1_bl4_2_9_total_out",{"$f":"'T2-B(PP1)'!$I$83","v":0},"#'T2-B(PP1)'!$I$83"]
["pp1_bl4_2_9_unit",{"$f":"'T2-B(PP1)'!$C$83","v":0},"#'T2-B(PP1)'!$C$83"]
["pp1_bl4_2_9_unit_in",{"$f":"'T2-B(PP1)'!$D$83","v":0},"#'T2-B(PP1)'!$D$83"]
["pp1_bl4_2_9_units_out",{"$f":"'T2-B(PP1)'!$G$83","v":0},"#'T2-B(PP1)'!$G$83"]
["pp1_bl4_2_total",{"$f":"'T2-B(PP1)'!$J$74","v":0},"#'T2-B(PP1)'!$J$74"]
["pp1_bl4_2_total_in",{"$f":"'T2-B(PP1)'!$F$74","v":0},"#'T2-B(PP1)'!$F$74"]
["pp1_bl4_2_total_out",{"$f":"'T2-B(PP1)'!$I$74","v":0},"#'T2-B(PP1)'!$I$74"]
["pp1_bl4_3_1_name",{"$f":"'T2-B(PP1)'!$B$86","v":0},"#'T2-B(PP1)'!$B$86"]
["pp1_bl4_3_1_rate_in",{"$f":"'T2-B(PP1)'!$E$86","v":0},"#'T2-B(PP1)'!$E$86"]
["pp1_bl4_3_1_rate_out",{"$f":"'T2-B(PP1)'!$H$86","v":0},"#'T2-B(PP1)'!$H$86"]
["pp1_bl4_3_1_total",{"$f":"'T2-B(PP1)'!$J$86","v":0},"#'T2-B(PP1)'!$J$86"]
["pp1_bl4_3_1_total_in",{"$f":"'T2-B(PP1)'!$F$86","v":0},"#'T2-B(PP1)'!$F$86"]
["pp1_bl4_3_1_total_out",{"$f":"'T2-B(PP1)'!$I$86","v":0},"#'T2-B(PP1)'!$I$86"]
["pp1_bl4_3_1_unit",{"$f":"'T2-B(PP1)'!$C$86","v":0},"#'T2-B(PP1)'!$C$86"]
["pp1_bl4_3_1_unit_in",{"$f":"'T2-B(PP1)'!$D$86","v":0},"#'T2-B(PP1)'!$D$86"]
["pp1_bl4_3_1_units_out",{"$f":"'T2-B(PP1)'!$G$86","v":0},"#'T2-B(PP1)'!$G$86"]
["pp1_bl4_3_10_name",{"$f":"'T2-B(PP1)'!$B$95","v":0},"#'T2-B(PP1)'!$B$95"]
["pp1_bl4_3_10_rate_in",{"$f":"'T2-B(PP1)'!$E$95","v":0},"#'T2-B(PP1)'!$E$95"]
["pp1_bl4_3_10_rate_out",{"$f":"'T2-B(PP1)'!$H$95","v":0},"#'T2-B(PP1)'!$H$95"]
["pp1_bl4_3_10_total",{"$f":"'T2-B(PP1)'!$J$95","v":0},"#'T2-B(PP1)'!$J$95"]
["pp1_bl4_3_10_total_in",{"$f":"'T2-B(PP1)'!$F$95","v":0},"#'T2-B(PP1)'!$F$95"]
["pp1_bl4_3_10_total_out",{"$f":"'T2-B(PP1)'!$I$95","v":0},"#'T2-B(PP1)'!$I$95"]
["pp1_bl4_3_10_unit",{"$f":"'T2-B(PP1)'!$C$95","v":0},"#'T2-B(PP1)'!$C$95"]
["pp1_bl4_3_10_unit_in",{"$f":"'T2-B(PP1)'!$D$95","v":0},"#'T2-B(PP1)'!$D$95"]
["pp1_bl4_3_10_units_out",{"$f":"'T2-B(PP1)'!$G$95","v":0},"#'T2-B(PP1)'!$G$95"]
["pp1_bl4_3_2_name",{"$f":"'T2-B(PP1)'!$B$87","v":0},"#'T2-B(PP1)'!$B$87"]
["pp1_bl4_3_2_rate_in",{"$f":"'T2-B(PP1)'!$E$87","v":0},"#'T2-B(PP1)'!$E$87"]
["pp1_bl4_3_2_rate_out",{"$f":"'T2-B(PP1)'!$H$87","v":0},"#'T2-B(PP1)'!$H$87"]
["pp1_bl4_3_2_total",{"$f":"'T2-B(PP1)'!$J$87","v":0},"#'T2-B(PP1)'!$J$87"]
["pp1_bl4_3_2_total_in",{"$f":"'T2-B(PP1)'!$F$87","v":0},"#'T2-B(PP1)'!$F$87"]
["pp1_bl4_3_2_total_out",{"$f":"'T2-B(PP1)'!$I$87","v":0},"#'T2-B(PP1)'!$I$87"]
["pp1_bl4_3_2_unit",{"$f":"'T2-B(PP1)'!$C$87","v":0},"#'T2-B(PP1)'!$C$87"]
["pp1_bl4_3_2_unit_in",{"$f":"'T2-B(PP1)'!$D$87","v":0},"#'T2-B(PP1)'!$D$87"]
["pp1_bl4_3_2_units_out",{"$f":"'T2-B(PP1)'!$G$87","v":0},"#'T2-B(PP1)'!$G$87"]
["pp1_bl4_3_3_name",{"$f":"'T2-B(PP1)'!$B$88","v":0},"#'T2-B(PP1)'!$B$88"]
["pp1_bl4_3_3_rate_in",{"$f":"'T2-B(PP1)'!$E$88","v":0},"#'T2-B(PP1)'!$E$88"]
["pp1_bl4_3_3_rate_out",{"$f":"'T2-B(PP1)'!$H$88","v":0},"#'T2-B(PP1)'!$H$88"]
["pp1_bl4_3_3_total",{"$f":"'T2-B(PP1)'!$J$88","v":0},"#'T2-B(PP1)'!$J$88"]
["pp1_bl4_3_3_total_in",{"$f":"'T2-B(PP1)'!$F$88","v":0},"#'T2-B(PP1)'!$F$88"]
["pp1_bl4_3_3_total_out",{"$f":"'T2-B(PP1)'!$I$88","v":0},"#'T2-B(PP1)'!$I$88"]
["pp1_bl4_3_3_unit",{"$f":"'T2-B(PP1)'!$C$88","v":0},"#'T2-B(PP1)'!$C$88"]
["pp1_bl4_3_3_unit_in",{"$f":"'T2-B(PP1)'!$D$88","v":0},"#'T2-B(PP1)'!$D$88"]
["pp1_bl4_3_3_units_out",{"$f":"'T2-B(PP1)'!$G$88","v":0},"#'T2-B(PP1)'!$G$88"]
["pp1_bl4_3_4_name",{"$f":"'T2-B(PP1)'!$B$89","v":0},"#'T2-B(PP1)'!$B$89"]
["pp1_bl4_3_4_rate_in",{"$f":"'T2-B(PP1)'!$E$89","v":0},"#'T2-B(PP1)'!$E$89"]
["pp1_bl4_3_4_rate_out",{"$f":"'T2-B(PP1)'!$H$89","v":0},"#'T2-B(PP1)'!$H$89"]
["pp1_bl4_3_4_total",{"$f":"'T2-B(PP1)'!$J$89","v":0},"#'T2-B(PP1)'!$J$89"]
["pp1_bl4_3_4_total_in",{"$f":"'T2-B(PP1)'!$F$89","v":0},"#'T2-B(PP1)'!$F$89"]
["pp1_bl4_3_4_total_out",{"$f":"'T2-B(PP1)'!$I$89","v":0},"#'T2-B(PP1)'!$I$89"]
["pp1_bl4_3_4_unit",{"$f":"'T2-B(PP1)'!$C$89","v":0},"#'T2-B(PP1)'!$C$89"]
["pp1_bl4_3_4_unit_in",{"$f":"'T2-B(PP1)'!$D$89","v":0},"#'T2-B(PP1)'!$D$89"]
["pp1_bl4_3_4_units_out",{"$f":"'T2-B(PP1)'!$G$89","v":0},"#'T2-B(PP1)'!$G$89"]
["pp1_bl4_3_5_name",{"$f":"'T2-B(PP1)'!$B$90","v":0},"#'T2-B(PP1)'!$B$90"]
["pp1_bl4_3_5_rate_in",{"$f":"'T2-B(PP1)'!$E$90","v":0},"#'T2-B(PP1)'!$E$90"]
["pp1_bl4_3_5_rate_out",{"$f":"'T2-B(PP1)'!$H$90","v":0},"#'T2-B(PP1)'!$H$90"]
["pp1_bl4_3_5_total",{"$f":"'T2-B(PP1)'!$J$90","v":0},"#'T2-B(PP1)'!$J$90"]
["pp1_bl4_3_5_total_in",{"$f":"'T2-B(PP1)'!$F$90","v":0},"#'T2-B(PP1)'!$F$90"]
["pp1_bl4_3_5_total_out",{"$f":"'T2-B(PP1)'!$I$90","v":0},"#'T2-B(PP1)'!$I$90"]
["pp1_bl4_3_5_unit",{"$f":"'T2-B(PP1)'!$C$90","v":0},"#'T2-B(PP1)'!$C$90"]
["pp1_bl4_3_5_unit_in",{"$f":"'T2-B(PP1)'!$D$90","v":0},"#'T2-B(PP1)'!$D$90"]
["pp1_bl4_3_5_units_out",{"$f":"'T2-B(PP1)'!$G$90","v":0},"#'T2-B(PP1)'!$G$90"]
["pp1_bl4_3_6_name",{"$f":"'T2-B(PP1)'!$B$91","v":0},"#'T2-B(PP1)'!$B$91"]
["pp1_bl4_3_6_rate_in",{"$f":"'T2-B(PP1)'!$E$91","v":0},"#'T2-B(PP1)'!$E$91"]
["pp1_bl4_3_6_rate_out",{"$f":"'T2-B(PP1)'!$H$91","v":0},"#'T2-B(PP1)'!$H$91"]
["pp1_bl4_3_6_total",{"$f":"'T2-B(PP1)'!$J$91","v":0},"#'T2-B(PP1)'!$J$91"]
["pp1_bl4_3_6_total_in",{"$f":"'T2-B(PP1)'!$F$91","v":0},"#'T2-B(PP1)'!$F$91"]
["pp1_bl4_3_6_total_out",{"$f":"'T2-B(PP1)'!$I$91","v":0},"#'T2-B(PP1)'!$I$91"]
["pp1_bl4_3_6_unit",{"$f":"'T2-B(PP1)'!$C$91","v":0},"#'T2-B(PP1)'!$C$91"]
["pp1_bl4_3_6_unit_in",{"$f":"'T2-B(PP1)'!$D$91","v":0},"#'T2-B(PP1)'!$D$91"]
["pp1_bl4_3_6_units_out",{"$f":"'T2-B(PP1)'!$G$91","v":0},"#'T2-B(PP1)'!$G$91"]
["pp1_bl4_3_7_name",{"$f":"'T2-B(PP1)'!$B$92","v":0},"#'T2-B(PP1)'!$B$92"]
["pp1_bl4_3_7_rate_in",{"$f":"'T2-B(PP1)'!$E$92","v":0},"#'T2-B(PP1)'!$E$92"]
["pp1_bl4_3_7_rate_out",{"$f":"'T2-B(PP1)'!$H$92","v":0},"#'T2-B(PP1)'!$H$92"]
["pp1_bl4_3_7_total",{"$f":"'T2-B(PP1)'!$J$92","v":0},"#'T2-B(PP1)'!$J$92"]
["pp1_bl4_3_7_total_in",{"$f":"'T2-B(PP1)'!$F$92","v":0},"#'T2-B(PP1)'!$F$92"]
["pp1_bl4_3_7_total_out",{"$f":"'T2-B(PP1)'!$I$92","v":0},"#'T2-B(PP1)'!$I$92"]
["pp1_bl4_3_7_unit",{"$f":"'T2-B(PP1)'!$C$92","v":0},"#'T2-B(PP1)'!$C$92"]
["pp1_bl4_3_7_unit_in",{"$f":"'T2-B(PP1)'!$D$92","v":0},"#'T2-B(PP1)'!$D$92"]
["pp1_bl4_3_7_units_out",{"$f":"'T2-B(PP1)'!$G$92","v":0},"#'T2-B(PP1)'!$G$92"]
["pp1_bl4_3_8_name",{"$f":"'T2-B(PP1)'!$B$93","v":0},"#'T2-B(PP1)'!$B$93"]
["pp1_bl4_3_8_rate_in",{"$f":"'T2-B(PP1)'!$E$93","v":0},"#'T2-B(PP1)'!$E$93"]
["pp1_bl4_3_8_rate_out",{"$f":"'T2-B(PP1)'!$H$93","v":0},"#'T2-B(PP1)'!$H$93"]
["pp1_bl4_3_8_total",{"$f":"'T2-B(PP1)'!$J$93","v":0},"#'T2-B(PP1)'!$J$93"]
["pp1_bl4_3_8_total_in",{"$f":"'T2-B(PP1)'!$F$93","v":0},"#'T2-B(PP1)'!$F$93"]
["pp1_bl4_3_8_total_out",{"$f":"'T2-B(PP1)'!$I$93","v":0},"#'T2-B(PP1)'!$I$93"]
["pp1_bl4_3_8_unit",{"$f":"'T2-B(PP1)'!$C$93","v":0},"#'T2-B(PP1)'!$C$93"]
["pp1_bl4_3_8_unit_in",{"$f":"'T2-B(PP1)'!$D$93","v":0},"#'T2-B(PP1)'!$D$93"]
["pp1_bl4_3_8_units_out",{"$f":"'T2-B(PP1)'!$G$93","v":0},"#'T2-B(PP1)'!$G$93"]
["pp1_bl4_3_9_name",{"$f":"'T2-B(PP1)'!$B$94","v":0},"#'T2-B(PP1)'!$B$94"]
["pp1_bl4_3_9_rate_in",{"$f":"'T2-B(PP1)'!$E$94","v":0},"#'T2-B(PP1)'!$E$94"]
["pp1_bl4_3_9_rate_out",{"$f":"'T2-B(PP1)'!$H$94","v":0},"#'T2-B(PP1)'!$H$94"]
["pp1_bl4_3_9_total",{"$f":"'T2-B(PP1)'!$J$94","v":0},"#'T2-B(PP1)'!$J$94"]
["pp1_bl4_3_9_total_in",{"$f":"'T2-B(PP1)'!$F$94","v":0},"#'T2-B(PP1)'!$F$94"]
["pp1_bl4_3_9_total_out",{"$f":"'T2-B(PP1)'!$I$94","v":0},"#'T2-B(PP1)'!$I$94"]
["pp1_bl4_3_9_unit",{"$f":"'T2-B(PP1)'!$C$94","v":0},"#'T2-B(PP1)'!$C$94"]
["pp1_bl4_3_9_unit_in",{"$f":"'T2-B(PP1)'!$D$94","v":0},"#'T2-B(PP1)'!$D$94"]
["pp1_bl4_3_9_units_out",{"$f":"'T2-B(PP1)'!$G$94","v":0},"#'T2-B(PP1)'!$G$94"]
["pp1_bl4_3_total",{"$f":"'T2-B(PP1)'!$J$85","v":0},"#'T2-B(PP1)'!$J$85"]
["pp1_bl4_3_total_in",{"$f":"'T2-B(PP1)'!$F$85","v":0},"#'T2-B(PP1)'!$F$85"]
["pp1_bl4_3_total_out",{"$f":"'T2-B(PP1)'!$I$85","v":0},"#'T2-B(PP1)'!$I$85"]
["pp1_bl4_4_1_name",{"$f":"'T2-B(PP1)'!$B$97","v":0},"#'T2-B(PP1)'!$B$97"]
["pp1_bl4_4_1_rate_in",{"$f":"'T2-B(PP1)'!$E$97","v":0},"#'T2-B(PP1)'!$E$97"]
["pp1_bl4_4_1_rate_out",{"$f":"'T2-B(PP1)'!$H$97","v":0},"#'T2-B(PP1)'!$H$97"]
["pp1_bl4_4_1_total",{"$f":"'T2-B(PP1)'!$J$97","v":0},"#'T2-B(PP1)'!$J$97"]
["pp1_bl4_4_1_total_in",{"$f":"'T2-B(PP1)'!$F$97","v":0},"#'T2-B(PP1)'!$F$97"]
["pp1_bl4_4_1_total_out",{"$f":"'T2-B(PP1)'!$I$97","v":0},"#'T2-B(PP1)'!$I$97"]
["pp1_bl4_4_1_unit",{"$f":"'T2-B(PP1)'!$C$97","v":0},"#'T2-B(PP1)'!$C$97"]
["pp1_bl4_4_1_unit_in",{"$f":"'T2-B(PP1)'!$D$97","v":0},"#'T2-B(PP1)'!$D$97"]
["pp1_bl4_4_1_units_out",{"$f":"'T2-B(PP1)'!$G$97","v":0},"#'T2-B(PP1)'!$G$97"]
["pp1_bl4_4_10_name",{"$f":"'T2-B(PP1)'!$B$106","v":0},"#'T2-B(PP1)'!$B$106"]
["pp1_bl4_4_10_rate_in",{"$f":"'T2-B(PP1)'!$E$106","v":0},"#'T2-B(PP1)'!$E$106"]
["pp1_bl4_4_10_rate_out",{"$f":"'T2-B(PP1)'!$H$106","v":0},"#'T2-B(PP1)'!$H$106"]
["pp1_bl4_4_10_total",{"$f":"'T2-B(PP1)'!$J$106","v":0},"#'T2-B(PP1)'!$J$106"]
["pp1_bl4_4_10_total_in",{"$f":"'T2-B(PP1)'!$F$106","v":0},"#'T2-B(PP1)'!$F$106"]
["pp1_bl4_4_10_total_out",{"$f":"'T2-B(PP1)'!$I$106","v":0},"#'T2-B(PP1)'!$I$106"]
["pp1_bl4_4_10_unit",{"$f":"'T2-B(PP1)'!$C$106","v":0},"#'T2-B(PP1)'!$C$106"]
["pp1_bl4_4_10_unit_in",{"$f":"'T2-B(PP1)'!$D$106","v":0},"#'T2-B(PP1)'!$D$106"]
["pp1_bl4_4_10_units_out",{"$f":"'T2-B(PP1)'!$G$106","v":0},"#'T2-B(PP1)'!$G$106"]
["pp1_bl4_4_2_name",{"$f":"'T2-B(PP1)'!$B$98","v":0},"#'T2-B(PP1)'!$B$98"]
["pp1_bl4_4_2_rate_in",{"$f":"'T2-B(PP1)'!$E$98","v":0},"#'T2-B(PP1)'!$E$98"]
["pp1_bl4_4_2_rate_out",{"$f":"'T2-B(PP1)'!$H$98","v":0},"#'T2-B(PP1)'!$H$98"]
["pp1_bl4_4_2_total",{"$f":"'T2-B(PP1)'!$J$98","v":0},"#'T2-B(PP1)'!$J$98"]
["pp1_bl4_4_2_total_in",{"$f":"'T2-B(PP1)'!$F$98","v":0},"#'T2-B(PP1)'!$F$98"]
["pp1_bl4_4_2_total_out",{"$f":"'T2-B(PP1)'!$I$98","v":0},"#'T2-B(PP1)'!$I$98"]
["pp1_bl4_4_2_unit",{"$f":"'T2-B(PP1)'!$C$98","v":0},"#'T2-B(PP1)'!$C$98"]
["pp1_bl4_4_2_unit_in",{"$f":"'T2-B(PP1)'!$D$98","v":0},"#'T2-B(PP1)'!$D$98"]
["pp1_bl4_4_2_units_out",{"$f":"'T2-B(PP1)'!$G$98","v":0},"#'T2-B(PP1)'!$G$98"]
["pp1_bl4_4_3_name",{"$f":"'T2-B(PP1)'!$B$99","v":0},"#'T2-B(PP1)'!$B$99"]
["pp1_bl4_4_3_rate_in",{"$f":"'T2-B(PP1)'!$E$99","v":0},"#'T2-B(PP1)'!$E$99"]
["pp1_bl4_4_3_rate_out",{"$f":"'T2-B(PP1)'!$H$99","v":0},"#'T2-B(PP1)'!$H$99"]
["pp1_bl4_4_3_total",{"$f":"'T2-B(PP1)'!$J$99","v":0},"#'T2-B(PP1)'!$J$99"]
["pp1_bl4_4_3_total_in",{"$f":"'T2-B(PP1)'!$F$99","v":0},"#'T2-B(PP1)'!$F$99"]
["pp1_bl4_4_3_total_out",{"$f":"'T2-B(PP1)'!$I$99","v":0},"#'T2-B(PP1)'!$I$99"]
["pp1_bl4_4_3_unit",{"$f":"'T2-B(PP1)'!$C$99","v":0},"#'T2-B(PP1)'!$C$99"]
["pp1_bl4_4_3_unit_in",{"$f":"'T2-B(PP1)'!$D$99","v":0},"#'T2-B(PP1)'!$D$99"]
["pp1_bl4_4_3_units_out",{"$f":"'T2-B(PP1)'!$G$99","v":0},"#'T2-B(PP1)'!$G$99"]
["pp1_bl4_4_4_name",{"$f":"'T2-B(PP1)'!$B$100","v":0},"#'T2-B(PP1)'!$B$100"]
["pp1_bl4_4_4_rate_in",{"$f":"'T2-B(PP1)'!$E$100","v":0},"#'T2-B(PP1)'!$E$100"]
["pp1_bl4_4_4_rate_out",{"$f":"'T2-B(PP1)'!$H$100","v":0},"#'T2-B(PP1)'!$H$100"]
["pp1_bl4_4_4_total",{"$f":"'T2-B(PP1)'!$J$100","v":0},"#'T2-B(PP1)'!$J$100"]
["pp1_bl4_4_4_total_in",{"$f":"'T2-B(PP1)'!$F$100","v":0},"#'T2-B(PP1)'!$F$100"]
["pp1_bl4_4_4_total_out",{"$f":"'T2-B(PP1)'!$I$100","v":0},"#'T2-B(PP1)'!$I$100"]
["pp1_bl4_4_4_unit",{"$f":"'T2-B(PP1)'!$C$100","v":0},"#'T2-B(PP1)'!$C$100"]
["pp1_bl4_4_4_unit_in",{"$f":"'T2-B(PP1)'!$D$100","v":0},"#'T2-B(PP1)'!$D$100"]
["pp1_bl4_4_4_units_out",{"$f":"'T2-B(PP1)'!$G$100","v":0},"#'T2-B(PP1)'!$G$100"]
["pp1_bl4_4_5_name",{"$f":"'T2-B(PP1)'!$B$101","v":0},"#'T2-B(PP1)'!$B$101"]
["pp1_bl4_4_5_rate_in",{"$f":"'T2-B(PP1)'!$E$101","v":0},"#'T2-B(PP1)'!$E$101"]
["pp1_bl4_4_5_rate_out",{"$f":"'T2-B(PP1)'!$H$101","v":0},"#'T2-B(PP1)'!$H$101"]
["pp1_bl4_4_5_total",{"$f":"'T2-B(PP1)'!$J$101","v":0},"#'T2-B(PP1)'!$J$101"]
["pp1_bl4_4_5_total_in",{"$f":"'T2-B(PP1)'!$F$101","v":0},"#'T2-B(PP1)'!$F$101"]
["pp1_bl4_4_5_total_out",{"$f":"'T2-B(PP1)'!$I$101","v":0},"#'T2-B(PP1)'!$I$101"]
["pp1_bl4_4_5_unit",{"$f":"'T2-B(PP1)'!$C$101","v":0},"#'T2-B(PP1)'!$C$101"]
["pp1_bl4_4_5_unit_in",{"$f":"'T2-B(PP1)'!$D$101","v":0},"#'T2-B(PP1)'!$D$101"]
["pp1_bl4_4_5_units_out",{"$f":"'T2-B(PP1)'!$G$101","v":0},"#'T2-B(PP1)'!$G$101"]
["pp1_bl4_4_6_name",{"$f":"'T2-B(PP1)'!$B$102","v":0},"#'T2-B(PP1)'!$B$102"]
["pp1_bl4_4_6_rate_in",{"$f":"'T2-B(PP1)'!$E$102","v":0},"#'T2-B(PP1)'!$E$102"]
["pp1_bl4_4_6_rate_out",{"$f":"'T2-B(PP1)'!$H$102","v":0},"#'T2-B(PP1)'!$H$102"]
["pp1_bl4_4_6_total",{"$f":"'T2-B(PP1)'!$J$102","v":0},"#'T2-B(PP1)'!$J$102"]
["pp1_bl4_4_6_total_in",{"$f":"'T2-B(PP1)'!$F$102","v":0},"#'T2-B(PP1)'!$F$102"]
["pp1_bl4_4_6_total_out",{"$f":"'T2-B(PP1)'!$I$102","v":0},"#'T2-B(PP1)'!$I$102"]
["pp1_bl4_4_6_unit",{"$f":"'T2-B(PP1)'!$C$102","v":0},"#'T2-B(PP1)'!$C$102"]
["pp1_bl4_4_6_unit_in",{"$f":"'T2-B(PP1)'!$D$102","v":0},"#'T2-B(PP1)'!$D$102"]
["pp1_bl4_4_6_units_out",{"$f":"'T2-B(PP1)'!$G$102","v":0},"#'T2-B(PP1)'!$G$102"]
["pp1_bl4_4_7_name",{"$f":"'T2-B(PP1)'!$B$103","v":0},"#'T2-B(PP1)'!$B$103"]
["pp1_bl4_4_7_rate_in",{"$f":"'T2-B(PP1)'!$E$103","v":0},"#'T2-B(PP1)'!$E$103"]
["pp1_bl4_4_7_rate_out",{"$f":"'T2-B(PP1)'!$H$103","v":0},"#'T2-B(PP1)'!$H$103"]
["pp1_bl4_4_7_total",{"$f":"'T2-B(PP1)'!$J$103","v":0},"#'T2-B(PP1)'!$J$103"]
["pp1_bl4_4_7_total_in",{"$f":"'T2-B(PP1)'!$F$103","v":0},"#'T2-B(PP1)'!$F$103"]
["pp1_bl4_4_7_total_out",{"$f":"'T2-B(PP1)'!$I$103","v":0},"#'T2-B(PP1)'!$I$103"]
["pp1_bl4_4_7_unit",{"$f":"'T2-B(PP1)'!$C$103","v":0},"#'T2-B(PP1)'!$C$103"]
["pp1_bl4_4_7_unit_in",{"$f":"'T2-B(PP1)'!$D$103","v":0},"#'T2-B(PP1)'!$D$103"]
["pp1_bl4_4_7_units_out",{"$f":"'T2-B(PP1)'!$G$103","v":0},"#'T2-B(PP1)'!$G$103"]
["pp1_bl4_4_8_name",{"$f":"'T2-B(PP1)'!$B$104","v":0},"#'T2-B(PP1)'!$B$104"]
["pp1_bl4_4_8_rate_in",{"$f":"'T2-B(PP1)'!$E$104","v":0},"#'T2-B(PP1)'!$E$104"]
["pp1_bl4_4_8_rate_out",{"$f":"'T2-B(PP1)'!$H$104","v":0},"#'T2-B(PP1)'!$H$104"]
["pp1_bl4_4_8_total",{"$f":"'T2-B(PP1)'!$J$104","v":0},"#'T2-B(PP1)'!$J$104"]
["pp1_bl4_4_8_total_in",{"$f":"'T2-B(PP1)'!$F$104","v":0},"#'T2-B(PP1)'!$F$104"]
["pp1_bl4_4_8_total_out",{"$f":"'T2-B(PP1)'!$I$104","v":0},"#'T2-B(PP1)'!$I$104"]
["pp1_bl4_4_8_unit",{"$f":"'T2-B(PP1)'!$C$104","v":0},"#'T2-B(PP1)'!$C$104"]
["pp1_bl4_4_8_unit_in",{"$f":"'T2-B(PP1)'!$D$104","v":0},"#'T2-B(PP1)'!$D$104"]
["pp1_bl4_4_8_units_out",{"$f":"'T2-B(PP1)'!$G$104","v":0},"#'T2-B(PP1)'!$G$104"]
["pp1_bl4_4_9_name",{"$f":"'T2-B(PP1)'!$B$105","v":0},"#'T2-B(PP1)'!$B$105"]
["pp1_bl4_4_9_rate_in",{"$f":"'T2-B(PP1)'!$E$105","v":0},"#'T2-B(PP1)'!$E$105"]
["pp1_bl4_4_9_rate_out",{"$f":"'T2-B(PP1)'!$H$105","v":0},"#'T2-B(PP1)'!$H$105"]
["pp1_bl4_4_9_total",{"$f":"'T2-B(PP1)'!$J$105","v":0},"#'T2-B(PP1)'!$J$105"]
["pp1_bl4_4_9_total_in",{"$f":"'T2-B(PP1)'!$F$105","v":0},"#'T2-B(PP1)'!$F$105"]
["pp1_bl4_4_9_total_out",{"$f":"'T2-B(PP1)'!$I$105","v":0},"#'T2-B(PP1)'!$I$105"]
["pp1_bl4_4_9_unit",{"$f":"'T2-B(PP1)'!$C$105","v":0},"#'T2-B(PP1)'!$C$105"]
["pp1_bl4_4_9_unit_in",{"$f":"'T2-B(PP1)'!$D$105","v":0},"#'T2-B(PP1)'!$D$105"]
["pp1_bl4_4_9_units_out",{"$f":"'T2-B(PP1)'!$G$105","v":0},"#'T2-B(PP1)'!$G$105"]
["pp1_bl4_4_total",{"$f":"'T2-B(PP1)'!$J$96","v":0},"#'T2-B(PP1)'!$J$96"]
["pp1_bl4_4_total_in",{"$f":"'T2-B(PP1)'!$F$96","v":0},"#'T2-B(PP1)'!$F$96"]
["pp1_bl4_4_total_out",{"$f":"'T2-B(PP1)'!$I$96","v":0},"#'T2-B(PP1)'!$I$96"]
["pp1_bl4_5_1_name",{"$f":"'T2-B(PP1)'!$B$108","v":0},"#'T2-B(PP1)'!$B$108"]
["pp1_bl4_5_1_rate_in",{"$f":"'T2-B(PP1)'!$E$108","v":0},"#'T2-B(PP1)'!$E$108"]
["pp1_bl4_5_1_rate_out",{"$f":"'T2-B(PP1)'!$H$108","v":0},"#'T2-B(PP1)'!$H$108"]
["pp1_bl4_5_1_total",{"$f":"'T2-B(PP1)'!$J$108","v":0},"#'T2-B(PP1)'!$J$108"]
["pp1_bl4_5_1_total_in",{"$f":"'T2-B(PP1)'!$F$108","v":0},"#'T2-B(PP1)'!$F$108"]
["pp1_bl4_5_1_total_out",{"$f":"'T2-B(PP1)'!$I$108","v":0},"#'T2-B(PP1)'!$I$108"]
["pp1_bl4_5_1_unit",{"$f":"'T2-B(PP1)'!$C$108","v":0},"#'T2-B(PP1)'!$C$108"]
["pp1_bl4_5_1_unit_in",{"$f":"'T2-B(PP1)'!$D$108","v":0},"#'T2-B(PP1)'!$D$108"]
["pp1_bl4_5_1_units_out",{"$f":"'T2-B(PP1)'!$G$108","v":0},"#'T2-B(PP1)'!$G$108"]
["pp1_bl4_5_10_name",{"$f":"'T2-B(PP1)'!$B$117","v":0},"#'T2-B(PP1)'!$B$117"]
["pp1_bl4_5_10_rate_in",{"$f":"'T2-B(PP1)'!$E$117","v":0},"#'T2-B(PP1)'!$E$117"]
["pp1_bl4_5_10_rate_out",{"$f":"'T2-B(PP1)'!$H$117","v":0},"#'T2-B(PP1)'!$H$117"]
["pp1_bl4_5_10_total",{"$f":"'T2-B(PP1)'!$J$117","v":0},"#'T2-B(PP1)'!$J$117"]
["pp1_bl4_5_10_total_in",{"$f":"'T2-B(PP1)'!$F$117","v":0},"#'T2-B(PP1)'!$F$117"]
["pp1_bl4_5_10_total_out",{"$f":"'T2-B(PP1)'!$I$117","v":0},"#'T2-B(PP1)'!$I$117"]
["pp1_bl4_5_10_unit",{"$f":"'T2-B(PP1)'!$C$117","v":0},"#'T2-B(PP1)'!$C$117"]
["pp1_bl4_5_10_unit_in",{"$f":"'T2-B(PP1)'!$D$117","v":0},"#'T2-B(PP1)'!$D$117"]
["pp1_bl4_5_10_units_out",{"$f":"'T2-B(PP1)'!$G$117","v":0},"#'T2-B(PP1)'!$G$117"]
["pp1_bl4_5_2_name",{"$f":"'T2-B(PP1)'!$B$109","v":0},"#'T2-B(PP1)'!$B$109"]
["pp1_bl4_5_2_rate_in",{"$f":"'T2-B(PP1)'!$E$109","v":0},"#'T2-B(PP1)'!$E$109"]
["pp1_bl4_5_2_rate_out",{"$f":"'T2-B(PP1)'!$H$109","v":0},"#'T2-B(PP1)'!$H$109"]
["pp1_bl4_5_2_total",{"$f":"'T2-B(PP1)'!$J$109","v":0},"#'T2-B(PP1)'!$J$109"]
["pp1_bl4_5_2_total_in",{"$f":"'T2-B(PP1)'!$F$109","v":0},"#'T2-B(PP1)'!$F$109"]
["pp1_bl4_5_2_total_out",{"$f":"'T2-B(PP1)'!$I$109","v":0},"#'T2-B(PP1)'!$I$109"]
["pp1_bl4_5_2_unit",{"$f":"'T2-B(PP1)'!$C$109","v":0},"#'T2-B(PP1)'!$C$109"]
["pp1_bl4_5_2_unit_in",{"$f":"'T2-B(PP1)'!$D$109","v":0},"#'T2-B(PP1)'!$D$109"]
["pp1_bl4_5_2_units_out",{"$f":"'T2-B(PP1)'!$G$109","v":0},"#'T2-B(PP1)'!$G$109"]
["pp1_bl4_5_3_name",{"$f":"'T2-B(PP1)'!$B$110","v":0},"#'T2-B(PP1)'!$B$110"]
["pp1_bl4_5_3_rate_in",{"$f":"'T2-B(PP1)'!$E$110","v":0},"#'T2-B(PP1)'!$E$110"]
["pp1_bl4_5_3_rate_out",{"$f":"'T2-B(PP1)'!$H$110","v":0},"#'T2-B(PP1)'!$H$110"]
["pp1_bl4_5_3_total",{"$f":"'T2-B(PP1)'!$J$110","v":0},"#'T2-B(PP1)'!$J$110"]
["pp1_bl4_5_3_total_in",{"$f":"'T2-B(PP1)'!$F$110","v":0},"#'T2-B(PP1)'!$F$110"]
["pp1_bl4_5_3_total_out",{"$f":"'T2-B(PP1)'!$I$110","v":0},"#'T2-B(PP1)'!$I$110"]
["pp1_bl4_5_3_unit",{"$f":"'T2-B(PP1)'!$C$110","v":0},"#'T2-B(PP1)'!$C$110"]
["pp1_bl4_5_3_unit_in",{"$f":"'T2-B(PP1)'!$D$110","v":0},"#'T2-B(PP1)'!$D$110"]
["pp1_bl4_5_3_units_out",{"$f":"'T2-B(PP1)'!$G$110","v":0},"#'T2-B(PP1)'!$G$110"]
["pp1_bl4_5_4_name",{"$f":"'T2-B(PP1)'!$B$111","v":0},"#'T2-B(PP1)'!$B$111"]
["pp1_bl4_5_4_rate_in",{"$f":"'T2-B(PP1)'!$E$111","v":0},"#'T2-B(PP1)'!$E$111"]
["pp1_bl4_5_4_rate_out",{"$f":"'T2-B(PP1)'!$H$111","v":0},"#'T2-B(PP1)'!$H$111"]
["pp1_bl4_5_4_total",{"$f":"'T2-B(PP1)'!$J$111","v":0},"#'T2-B(PP1)'!$J$111"]
["pp1_bl4_5_4_total_in",{"$f":"'T2-B(PP1)'!$F$111","v":0},"#'T2-B(PP1)'!$F$111"]
["pp1_bl4_5_4_total_out",{"$f":"'T2-B(PP1)'!$I$111","v":0},"#'T2-B(PP1)'!$I$111"]
["pp1_bl4_5_4_unit",{"$f":"'T2-B(PP1)'!$C$111","v":0},"#'T2-B(PP1)'!$C$111"]
["pp1_bl4_5_4_unit_in",{"$f":"'T2-B(PP1)'!$D$111","v":0},"#'T2-B(PP1)'!$D$111"]
["pp1_bl4_5_4_units_out",{"$f":"'T2-B(PP1)'!$G$111","v":0},"#'T2-B(PP1)'!$G$111"]
["pp1_bl4_5_5_name",{"$f":"'T2-B(PP1)'!$B$112","v":0},"#'T2-B(PP1)'!$B$112"]
["pp1_bl4_5_5_rate_in",{"$f":"'T2-B(PP1)'!$E$112","v":0},"#'T2-B(PP1)'!$E$112"]
["pp1_bl4_5_5_rate_out",{"$f":"'T2-B(PP1)'!$H$112","v":0},"#'T2-B(PP1)'!$H$112"]
["pp1_bl4_5_5_total",{"$f":"'T2-B(PP1)'!$J$112","v":0},"#'T2-B(PP1)'!$J$112"]
["pp1_bl4_5_5_total_in",{"$f":"'T2-B(PP1)'!$F$112","v":0},"#'T2-B(PP1)'!$F$112"]
["pp1_bl4_5_5_total_out",{"$f":"'T2-B(PP1)'!$I$112","v":0},"#'T2-B(PP1)'!$I$112"]
["pp1_bl4_5_5_unit",{"$f":"'T2-B(PP1)'!$C$112","v":0},"#'T2-B(PP1)'!$C$112"]
["pp1_bl4_5_5_unit_in",{"$f":"'T2-B(PP1)'!$D$112","v":0},"#'T2-B(PP1)'!$D$112"]
["pp1_bl4_5_5_units_out",{"$f":"'T2-B(PP1)'!$G$112","v":0},"#'T2-B(PP1)'!$G$112"]
["pp1_bl4_5_6_name",{"$f":"'T2-B(PP1)'!$B$113","v":0},"#'T2-B(PP1)'!$B$113"]
["pp1_bl4_5_6_rate_in",{"$f":"'T2-B(PP1)'!$E$113","v":0},"#'T2-B(PP1)'!$E$113"]
["pp1_bl4_5_6_rate_out",{"$f":"'T2-B(PP1)'!$H$113","v":0},"#'T2-B(PP1)'!$H$113"]
["pp1_bl4_5_6_total",{"$f":"'T2-B(PP1)'!$J$113","v":0},"#'T2-B(PP1)'!$J$113"]
["pp1_bl4_5_6_total_in",{"$f":"'T2-B(PP1)'!$F$113","v":0},"#'T2-B(PP1)'!$F$113"]
["pp1_bl4_5_6_total_out",{"$f":"'T2-B(PP1)'!$I$113","v":0},"#'T2-B(PP1)'!$I$113"]
["pp1_bl4_5_6_unit",{"$f":"'T2-B(PP1)'!$C$113","v":0},"#'T2-B(PP1)'!$C$113"]
["pp1_bl4_5_6_unit_in",{"$f":"'T2-B(PP1)'!$D$113","v":0},"#'T2-B(PP1)'!$D$113"]
["pp1_bl4_5_6_units_out",{"$f":"'T2-B(PP1)'!$G$113","v":0},"#'T2-B(PP1)'!$G$113"]
["pp1_bl4_5_7_name",{"$f":"'T2-B(PP1)'!$B$114","v":0},"#'T2-B(PP1)'!$B$114"]
["pp1_bl4_5_7_rate_in",{"$f":"'T2-B(PP1)'!$E$114","v":0},"#'T2-B(PP1)'!$E$114"]
["pp1_bl4_5_7_rate_out",{"$f":"'T2-B(PP1)'!$H$114","v":0},"#'T2-B(PP1)'!$H$114"]
["pp1_bl4_5_7_total",{"$f":"'T2-B(PP1)'!$J$114","v":0},"#'T2-B(PP1)'!$J$114"]
["pp1_bl4_5_7_total_in",{"$f":"'T2-B(PP1)'!$F$114","v":0},"#'T2-B(PP1)'!$F$114"]
["pp1_bl4_5_7_total_out",{"$f":"'T2-B(PP1)'!$I$114","v":0},"#'T2-B(PP1)'!$I$114"]
["pp1_bl4_5_7_unit",{"$f":"'T2-B(PP1)'!$C$114","v":0},"#'T2-B(PP1)'!$C$114"]
["pp1_bl4_5_7_unit_in",{"$f":"'T2-B(PP1)'!$D$114","v":0},"#'T2-B(PP1)'!$D$114"]
["pp1_bl4_5_7_units_out",{"$f":"'T2-B(PP1)'!$G$114","v":0},"#'T2-B(PP1)'!$G$114"]
["pp1_bl4_5_8_name",{"$f":"'T2-B(PP1)'!$B$115","v":0},"#'T2-B(PP1)'!$B$115"]
["pp1_bl4_5_8_rate_in",{"$f":"'T2-B(PP1)'!$E$115","v":0},"#'T2-B(PP1)'!$E$115"]
["pp1_bl4_5_8_rate_out",{"$f":"'T2-B(PP1)'!$H$115","v":0},"#'T2-B(PP1)'!$H$115"]
["pp1_bl4_5_8_total",{"$f":"'T2-B(PP1)'!$J$115","v":0},"#'T2-B(PP1)'!$J$115"]
["pp1_bl4_5_8_total_in",{"$f":"'T2-B(PP1)'!$F$115","v":0},"#'T2-B(PP1)'!$F$115"]
["pp1_bl4_5_8_total_out",{"$f":"'T2-B(PP1)'!$I$115","v":0},"#'T2-B(PP1)'!$I$115"]
["pp1_bl4_5_8_unit",{"$f":"'T2-B(PP1)'!$C$115","v":0},"#'T2-B(PP1)'!$C$115"]
["pp1_bl4_5_8_unit_in",{"$f":"'T2-B(PP1)'!$D$115","v":0},"#'T2-B(PP1)'!$D$115"]
["pp1_bl4_5_8_units_out",{"$f":"'T2-B(PP1)'!$G$115","v":0},"#'T2-B(PP1)'!$G$115"]
["pp1_bl4_5_9_name",{"$f":"'T2-B(PP1)'!$B$116","v":0},"#'T2-B(PP1)'!$B$116"]
["pp1_bl4_5_9_rate_in",{"$f":"'T2-B(PP1)'!$E$116","v":0},"#'T2-B(PP1)'!$E$116"]
["pp1_bl4_5_9_rate_out",{"$f":"'T2-B(PP1)'!$H$116","v":0},"#'T2-B(PP1)'!$H$116"]
["pp1_bl4_5_9_total",{"$f":"'T2-B(PP1)'!$J$116","v":0},"#'T2-B(PP1)'!$J$116"]
["pp1_bl4_5_9_total_in",{"$f":"'T2-B(PP1)'!$F$116","v":0},"#'T2-B(PP1)'!$F$116"]
["pp1_bl4_5_9_total_out",{"$f":"'T2-B(PP1)'!$I$116","v":0},"#'T2-B(PP1)'!$I$116"]
["pp1_bl4_5_9_unit",{"$f":"'T2-B(PP1)'!$C$116","v":0},"#'T2-B(PP1)'!$C$116"]
["pp1_bl4_5_9_unit_in",{"$f":"'T2-B(PP1)'!$D$116","v":0},"#'T2-B(PP1)'!$D$116"]
["pp1_bl4_5_9_units_out",{"$f":"'T2-B(PP1)'!$G$116","v":0},"#'T2-B(PP1)'!$G$116"]
["pp1_bl4_5_total",{"$f":"'T2-B(PP1)'!$J$107","v":0},"#'T2-B(PP1)'!$J$107"]
["pp1_bl4_5_total_in",{"$f":"'T2-B(PP1)'!$F$107","v":0},"#'T2-B(PP1)'!$F$107"]
["pp1_bl4_5_total_out",{"$f":"'T2-B(PP1)'!$I$107","v":0},"#'T2-B(PP1)'!$I$107"]
["pp1_bl4_6_1_name",{"$f":"'T2-B(PP1)'!$B$119","v":0},"#'T2-B(PP1)'!$B$119"]
["pp1_bl4_6_1_rate_in",{"$f":"'T2-B(PP1)'!$E$119","v":0},"#'T2-B(PP1)'!$E$119"]
["pp1_bl4_6_1_rate_out",{"$f":"'T2-B(PP1)'!$H$119","v":0},"#'T2-B(PP1)'!$H$119"]
["pp1_bl4_6_1_total",{"$f":"'T2-B(PP1)'!$J$119","v":0},"#'T2-B(PP1)'!$J$119"]
["pp1_bl4_6_1_total_in",{"$f":"'T2-B(PP1)'!$F$119","v":0},"#'T2-B(PP1)'!$F$119"]
["pp1_bl4_6_1_total_out",{"$f":"'T2-B(PP1)'!$I$119","v":0},"#'T2-B(PP1)'!$I$119"]
["pp1_bl4_6_1_unit",{"$f":"'T2-B(PP1)'!$C$119","v":0},"#'T2-B(PP1)'!$C$119"]
["pp1_bl4_6_1_unit_in",{"$f":"'T2-B(PP1)'!$D$119","v":0},"#'T2-B(PP1)'!$D$119"]
["pp1_bl4_6_1_units_out",{"$f":"'T2-B(PP1)'!$G$119","v":0},"#'T2-B(PP1)'!$G$119"]
["pp1_bl4_6_10_name",{"$f":"'T2-B(PP1)'!$B$128","v":0},"#'T2-B(PP1)'!$B$128"]
["pp1_bl4_6_10_rate_in",{"$f":"'T2-B(PP1)'!$E$128","v":0},"#'T2-B(PP1)'!$E$128"]
["pp1_bl4_6_10_rate_out",{"$f":"'T2-B(PP1)'!$H$128","v":0},"#'T2-B(PP1)'!$H$128"]
["pp1_bl4_6_10_total",{"$f":"'T2-B(PP1)'!$J$128","v":0},"#'T2-B(PP1)'!$J$128"]
["pp1_bl4_6_10_total_in",{"$f":"'T2-B(PP1)'!$F$128","v":0},"#'T2-B(PP1)'!$F$128"]
["pp1_bl4_6_10_total_out",{"$f":"'T2-B(PP1)'!$I$128","v":0},"#'T2-B(PP1)'!$I$128"]
["pp1_bl4_6_10_unit",{"$f":"'T2-B(PP1)'!$C$128","v":0},"#'T2-B(PP1)'!$C$128"]
["pp1_bl4_6_10_unit_in",{"$f":"'T2-B(PP1)'!$D$128","v":0},"#'T2-B(PP1)'!$D$128"]
["pp1_bl4_6_10_units_out",{"$f":"'T2-B(PP1)'!$G$128","v":0},"#'T2-B(PP1)'!$G$128"]
["pp1_bl4_6_2_name",{"$f":"'T2-B(PP1)'!$B$120","v":0},"#'T2-B(PP1)'!$B$120"]
["pp1_bl4_6_2_rate_in",{"$f":"'T2-B(PP1)'!$E$120","v":0},"#'T2-B(PP1)'!$E$120"]
["pp1_bl4_6_2_rate_out",{"$f":"'T2-B(PP1)'!$H$120","v":0},"#'T2-B(PP1)'!$H$120"]
["pp1_bl4_6_2_total",{"$f":"'T2-B(PP1)'!$J$120","v":0},"#'T2-B(PP1)'!$J$120"]
["pp1_bl4_6_2_total_in",{"$f":"'T2-B(PP1)'!$F$120","v":0},"#'T2-B(PP1)'!$F$120"]
["pp1_bl4_6_2_total_out",{"$f":"'T2-B(PP1)'!$I$120","v":0},"#'T2-B(PP1)'!$I$120"]
["pp1_bl4_6_2_unit",{"$f":"'T2-B(PP1)'!$C$120","v":0},"#'T2-B(PP1)'!$C$120"]
["pp1_bl4_6_2_unit_in",{"$f":"'T2-B(PP1)'!$D$120","v":0},"#'T2-B(PP1)'!$D$120"]
["pp1_bl4_6_2_units_out",{"$f":"'T2-B(PP1)'!$G$120","v":0},"#'T2-B(PP1)'!$G$120"]
["pp1_bl4_6_3_name",{"$f":"'T2-B(PP1)'!$B$121","v":0},"#'T2-B(PP1)'!$B$121"]
["pp1_bl4_6_3_rate_in",{"$f":"'T2-B(PP1)'!$E$121","v":0},"#'T2-B(PP1)'!$E$121"]
["pp1_bl4_6_3_rate_out",{"$f":"'T2-B(PP1)'!$H$121","v":0},"#'T2-B(PP1)'!$H$121"]
["pp1_bl4_6_3_total",{"$f":"'T2-B(PP1)'!$J$121","v":0},"#'T2-B(PP1)'!$J$121"]
["pp1_bl4_6_3_total_in",{"$f":"'T2-B(PP1)'!$F$121","v":0},"#'T2-B(PP1)'!$F$121"]
["pp1_bl4_6_3_total_out",{"$f":"'T2-B(PP1)'!$I$121","v":0},"#'T2-B(PP1)'!$I$121"]
["pp1_bl4_6_3_unit",{"$f":"'T2-B(PP1)'!$C$121","v":0},"#'T2-B(PP1)'!$C$121"]
["pp1_bl4_6_3_unit_in",{"$f":"'T2-B(PP1)'!$D$121","v":0},"#'T2-B(PP1)'!$D$121"]
["pp1_bl4_6_3_units_out",{"$f":"'T2-B(PP1)'!$G$121","v":0},"#'T2-B(PP1)'!$G$121"]
["pp1_bl4_6_4_name",{"$f":"'T2-B(PP1)'!$B$122","v":0},"#'T2-B(PP1)'!$B$122"]
["pp1_bl4_6_4_rate_in",{"$f":"'T2-B(PP1)'!$E$122","v":0},"#'T2-B(PP1)'!$E$122"]
["pp1_bl4_6_4_rate_out",{"$f":"'T2-B(PP1)'!$H$122","v":0},"#'T2-B(PP1)'!$H$122"]
["pp1_bl4_6_4_total",{"$f":"'T2-B(PP1)'!$J$122","v":0},"#'T2-B(PP1)'!$J$122"]
["pp1_bl4_6_4_total_in",{"$f":"'T2-B(PP1)'!$F$122","v":0},"#'T2-B(PP1)'!$F$122"]
["pp1_bl4_6_4_total_out",{"$f":"'T2-B(PP1)'!$I$122","v":0},"#'T2-B(PP1)'!$I$122"]
["pp1_bl4_6_4_unit",{"$f":"'T2-B(PP1)'!$C$122","v":0},"#'T2-B(PP1)'!$C$122"]
["pp1_bl4_6_4_unit_in",{"$f":"'T2-B(PP1)'!$D$122","v":0},"#'T2-B(PP1)'!$D$122"]
["pp1_bl4_6_4_units_out",{"$f":"'T2-B(PP1)'!$G$122","v":0},"#'T2-B(PP1)'!$G$122"]
["pp1_bl4_6_5_name",{"$f":"'T2-B(PP1)'!$B$123","v":0},"#'T2-B(PP1)'!$B$123"]
["pp1_bl4_6_5_rate_in",{"$f":"'T2-B(PP1)'!$E$123","v":0},"#'T2-B(PP1)'!$E$123"]
["pp1_bl4_6_5_rate_out",{"$f":"'T2-B(PP1)'!$H$123","v":0},"#'T2-B(PP1)'!$H$123"]
["pp1_bl4_6_5_total",{"$f":"'T2-B(PP1)'!$J$123","v":0},"#'T2-B(PP1)'!$J$123"]
["pp1_bl4_6_5_total_in",{"$f":"'T2-B(PP1)'!$F$123","v":0},"#'T2-B(PP1)'!$F$123"]
["pp1_bl4_6_5_total_out",{"$f":"'T2-B(PP1)'!$I$123","v":0},"#'T2-B(PP1)'!$I$123"]
["pp1_bl4_6_5_unit",{"$f":"'T2-B(PP1)'!$C$123","v":0},"#'T2-B(PP1)'!$C$123"]
["pp1_bl4_6_5_unit_in",{"$f":"'T2-B(PP1)'!$D$123","v":0},"#'T2-B(PP1)'!$D$123"]
["pp1_bl4_6_5_units_out",{"$f":"'T2-B(PP1)'!$G$123","v":0},"#'T2-B(PP1)'!$G$123"]
["pp1_bl4_6_6_name",{"$f":"'T2-B(PP1)'!$B$124","v":0},"#'T2-B(PP1)'!$B$124"]
["pp1_bl4_6_6_rate_in",{"$f":"'T2-B(PP1)'!$E$124","v":0},"#'T2-B(PP1)'!$E$124"]
["pp1_bl4_6_6_rate_out",{"$f":"'T2-B(PP1)'!$H$124","v":0},"#'T2-B(PP1)'!$H$124"]
["pp1_bl4_6_6_total",{"$f":"'T2-B(PP1)'!$J$124","v":0},"#'T2-B(PP1)'!$J$124"]
["pp1_bl4_6_6_total_in",{"$f":"'T2-B(PP1)'!$F$124","v":0},"#'T2-B(PP1)'!$F$124"]
["pp1_bl4_6_6_total_out",{"$f":"'T2-B(PP1)'!$I$124","v":0},"#'T2-B(PP1)'!$I$124"]
["pp1_bl4_6_6_unit",{"$f":"'T2-B(PP1)'!$C$124","v":0},"#'T2-B(PP1)'!$C$124"]
["pp1_bl4_6_6_unit_in",{"$f":"'T2-B(PP1)'!$D$124","v":0},"#'T2-B(PP1)'!$D$124"]
["pp1_bl4_6_6_units_out",{"$f":"'T2-B(PP1)'!$G$124","v":0},"#'T2-B(PP1)'!$G$124"]
["pp1_bl4_6_7_name",{"$f":"'T2-B(PP1)'!$B$125","v":0},"#'T2-B(PP1)'!$B$125"]
["pp1_bl4_6_7_rate_in",{"$f":"'T2-B(PP1)'!$E$125","v":0},"#'T2-B(PP1)'!$E$125"]
["pp1_bl4_6_7_rate_out",{"$f":"'T2-B(PP1)'!$H$125","v":0},"#'T2-B(PP1)'!$H$125"]
["pp1_bl4_6_7_total",{"$f":"'T2-B(PP1)'!$J$125","v":0},"#'T2-B(PP1)'!$J$125"]
["pp1_bl4_6_7_total_in",{"$f":"'T2-B(PP1)'!$F$125","v":0},"#'T2-B(PP1)'!$F$125"]
["pp1_bl4_6_7_total_out",{"$f":"'T2-B(PP1)'!$I$125","v":0},"#'T2-B(PP1)'!$I$125"]
["pp1_bl4_6_7_unit",{"$f":"'T2-B(PP1)'!$C$125","v":0},"#'T2-B(PP1)'!$C$125"]
["pp1_bl4_6_7_unit_in",{"$f":"'T2-B(PP1)'!$D$125","v":0},"#'T2-B(PP1)'!$D$125"]
["pp1_bl4_6_7_units_out",{"$f":"'T2-B(PP1)'!$G$125","v":0},"#'T2-B(PP1)'!$G$125"]
["pp1_bl4_6_8_name",{"$f":"'T2-B(PP1)'!$B$126","v":0},"#'T2-B(PP1)'!$B$126"]
["pp1_bl4_6_8_rate_in",{"$f":"'T2-B(PP1)'!$E$126","v":0},"#'T2-B(PP1)'!$E$126"]
["pp1_bl4_6_8_rate_out",{"$f":"'T2-B(PP1)'!$H$126","v":0},"#'T2-B(PP1)'!$H$126"]
["pp1_bl4_6_8_total",{"$f":"'T2-B(PP1)'!$J$126","v":0},"#'T2-B(PP1)'!$J$126"]
["pp1_bl4_6_8_total_in",{"$f":"'T2-B(PP1)'!$F$126","v":0},"#'T2-B(PP1)'!$F$126"]
["pp1_bl4_6_8_total_out",{"$f":"'T2-B(PP1)'!$I$126","v":0},"#'T2-B(PP1)'!$I$126"]
["pp1_bl4_6_8_unit",{"$f":"'T2-B(PP1)'!$C$126","v":0},"#'T2-B(PP1)'!$C$126"]
["pp1_bl4_6_8_unit_in",{"$f":"'T2-B(PP1)'!$D$126","v":0},"#'T2-B(PP1)'!$D$126"]
["pp1_bl4_6_8_units_out",{"$f":"'T2-B(PP1)'!$G$126","v":0},"#'T2-B(PP1)'!$G$126"]
["pp1_bl4_6_9_name",{"$f":"'T2-B(PP1)'!$B$127","v":0},"#'T2-B(PP1)'!$B$127"]
["pp1_bl4_6_9_rate_in",{"$f":"'T2-B(PP1)'!$E$127","v":0},"#'T2-B(PP1)'!$E$127"]
["pp1_bl4_6_9_rate_out",{"$f":"'T2-B(PP1)'!$H$127","v":0},"#'T2-B(PP1)'!$H$127"]
["pp1_bl4_6_9_total",{"$f":"'T2-B(PP1)'!$J$127","v":0},"#'T2-B(PP1)'!$J$127"]
["pp1_bl4_6_9_total_in",{"$f":"'T2-B(PP1)'!$F$127","v":0},"#'T2-B(PP1)'!$F$127"]
["pp1_bl4_6_9_total_out",{"$f":"'T2-B(PP1)'!$I$127","v":0},"#'T2-B(PP1)'!$I$127"]
["pp1_bl4_6_9_unit",{"$f":"'T2-B(PP1)'!$C$127","v":0},"#'T2-B(PP1)'!$C$127"]
["pp1_bl4_6_9_unit_in",{"$f":"'T2-B(PP1)'!$D$127","v":0},"#'T2-B(PP1)'!$D$127"]
["pp1_bl4_6_9_units_out",{"$f":"'T2-B(PP1)'!$G$127","v":0},"#'T2-B(PP1)'!$G$127"]
["pp1_bl4_6_total",{"$f":"'T2-B(PP1)'!$J$118","v":0},"#'T2-B(PP1)'!$J$118"]
["pp1_bl4_6_total_in",{"$f":"'T2-B(PP1)'!$F$118","v":0},"#'T2-B(PP1)'!$F$118"]
["pp1_bl4_6_total_out",{"$f":"'T2-B(PP1)'!$I$118","v":0},"#'T2-B(PP1)'!$I$118"]
["pp1_bl4_7_1_name",{"$f":"'T2-B(PP1)'!$B$130","v":0},"#'T2-B(PP1)'!$B$130"]
["pp1_bl4_7_1_rate_in",{"$f":"'T2-B(PP1)'!$E$130","v":0},"#'T2-B(PP1)'!$E$130"]
["pp1_bl4_7_1_rate_out",{"$f":"'T2-B(PP1)'!$H$130","v":0},"#'T2-B(PP1)'!$H$130"]
["pp1_bl4_7_1_total",{"$f":"'T2-B(PP1)'!$J$130","v":0},"#'T2-B(PP1)'!$J$130"]
["pp1_bl4_7_1_total_in",{"$f":"'T2-B(PP1)'!$F$130","v":0},"#'T2-B(PP1)'!$F$130"]
["pp1_bl4_7_1_total_out",{"$f":"'T2-B(PP1)'!$I$130","v":0},"#'T2-B(PP1)'!$I$130"]
["pp1_bl4_7_1_unit",{"$f":"'T2-B(PP1)'!$C$130","v":0},"#'T2-B(PP1)'!$C$130"]
["pp1_bl4_7_1_unit_in",{"$f":"'T2-B(PP1)'!$D$130","v":0},"#'T2-B(PP1)'!$D$130"]
["pp1_bl4_7_1_units_out",{"$f":"'T2-B(PP1)'!$G$130","v":0},"#'T2-B(PP1)'!$G$130"]
["pp1_bl4_7_10_name",{"$f":"'T2-B(PP1)'!$B$139","v":0},"#'T2-B(PP1)'!$B$139"]
["pp1_bl4_7_10_rate_in",{"$f":"'T2-B(PP1)'!$E$139","v":0},"#'T2-B(PP1)'!$E$139"]
["pp1_bl4_7_10_rate_out",{"$f":"'T2-B(PP1)'!$H$139","v":0},"#'T2-B(PP1)'!$H$139"]
["pp1_bl4_7_10_total",{"$f":"'T2-B(PP1)'!$J$139","v":0},"#'T2-B(PP1)'!$J$139"]
["pp1_bl4_7_10_total_in",{"$f":"'T2-B(PP1)'!$F$139","v":0},"#'T2-B(PP1)'!$F$139"]
["pp1_bl4_7_10_total_out",{"$f":"'T2-B(PP1)'!$I$139","v":0},"#'T2-B(PP1)'!$I$139"]
["pp1_bl4_7_10_unit",{"$f":"'T2-B(PP1)'!$C$139","v":0},"#'T2-B(PP1)'!$C$139"]
["pp1_bl4_7_10_unit_in",{"$f":"'T2-B(PP1)'!$D$139","v":0},"#'T2-B(PP1)'!$D$139"]
["pp1_bl4_7_10_units_out",{"$f":"'T2-B(PP1)'!$G$139","v":0},"#'T2-B(PP1)'!$G$139"]
["pp1_bl4_7_2_name",{"$f":"'T2-B(PP1)'!$B$131","v":0},"#'T2-B(PP1)'!$B$131"]
["pp1_bl4_7_2_rate_in",{"$f":"'T2-B(PP1)'!$E$131","v":0},"#'T2-B(PP1)'!$E$131"]
["pp1_bl4_7_2_rate_out",{"$f":"'T2-B(PP1)'!$H$131","v":0},"#'T2-B(PP1)'!$H$131"]
["pp1_bl4_7_2_total",{"$f":"'T2-B(PP1)'!$J$131","v":0},"#'T2-B(PP1)'!$J$131"]
["pp1_bl4_7_2_total_in",{"$f":"'T2-B(PP1)'!$F$131","v":0},"#'T2-B(PP1)'!$F$131"]
["pp1_bl4_7_2_total_out",{"$f":"'T2-B(PP1)'!$I$131","v":0},"#'T2-B(PP1)'!$I$131"]
["pp1_bl4_7_2_unit",{"$f":"'T2-B(PP1)'!$C$131","v":0},"#'T2-B(PP1)'!$C$131"]
["pp1_bl4_7_2_unit_in",{"$f":"'T2-B(PP1)'!$D$131","v":0},"#'T2-B(PP1)'!$D$131"]
["pp1_bl4_7_2_units_out",{"$f":"'T2-B(PP1)'!$G$131","v":0},"#'T2-B(PP1)'!$G$131"]
["pp1_bl4_7_3_name",{"$f":"'T2-B(PP1)'!$B$132","v":0},"#'T2-B(PP1)'!$B$132"]
["pp1_bl4_7_3_rate_in",{"$f":"'T2-B(PP1)'!$E$132","v":0},"#'T2-B(PP1)'!$E$132"]
["pp1_bl4_7_3_rate_out",{"$f":"'T2-B(PP1)'!$H$132","v":0},"#'T2-B(PP1)'!$H$132"]
["pp1_bl4_7_3_total",{"$f":"'T2-B(PP1)'!$J$132","v":0},"#'T2-B(PP1)'!$J$132"]
["pp1_bl4_7_3_total_in",{"$f":"'T2-B(PP1)'!$F$132","v":0},"#'T2-B(PP1)'!$F$132"]
["pp1_bl4_7_3_total_out",{"$f":"'T2-B(PP1)'!$I$132","v":0},"#'T2-B(PP1)'!$I$132"]
["pp1_bl4_7_3_unit",{"$f":"'T2-B(PP1)'!$C$132","v":0},"#'T2-B(PP1)'!$C$132"]
["pp1_bl4_7_3_unit_in",{"$f":"'T2-B(PP1)'!$D$132","v":0},"#'T2-B(PP1)'!$D$132"]
["pp1_bl4_7_3_units_out",{"$f":"'T2-B(PP1)'!$G$132","v":0},"#'T2-B(PP1)'!$G$132"]
["pp1_bl4_7_4_name",{"$f":"'T2-B(PP1)'!$B$133","v":0},"#'T2-B(PP1)'!$B$133"]
["pp1_bl4_7_4_rate_in",{"$f":"'T2-B(PP1)'!$E$133","v":0},"#'T2-B(PP1)'!$E$133"]
["pp1_bl4_7_4_rate_out",{"$f":"'T2-B(PP1)'!$H$133","v":0},"#'T2-B(PP1)'!$H$133"]
["pp1_bl4_7_4_total",{"$f":"'T2-B(PP1)'!$J$133","v":0},"#'T2-B(PP1)'!$J$133"]
["pp1_bl4_7_4_total_in",{"$f":"'T2-B(PP1)'!$F$133","v":0},"#'T2-B(PP1)'!$F$133"]
["pp1_bl4_7_4_total_out",{"$f":"'T2-B(PP1)'!$I$133","v":0},"#'T2-B(PP1)'!$I$133"]
["pp1_bl4_7_4_unit",{"$f":"'T2-B(PP1)'!$C$133","v":0},"#'T2-B(PP1)'!$C$133"]
["pp1_bl4_7_4_unit_in",{"$f":"'T2-B(PP1)'!$D$133","v":0},"#'T2-B(PP1)'!$D$133"]
["pp1_bl4_7_4_units_out",{"$f":"'T2-B(PP1)'!$G$133","v":0},"#'T2-B(PP1)'!$G$133"]
["pp1_bl4_7_5_name",{"$f":"'T2-B(PP1)'!$B$134","v":0},"#'T2-B(PP1)'!$B$134"]
["pp1_bl4_7_5_rate_in",{"$f":"'T2-B(PP1)'!$E$134","v":0},"#'T2-B(PP1)'!$E$134"]
["pp1_bl4_7_5_rate_out",{"$f":"'T2-B(PP1)'!$H$134","v":0},"#'T2-B(PP1)'!$H$134"]
["pp1_bl4_7_5_total",{"$f":"'T2-B(PP1)'!$J$134","v":0},"#'T2-B(PP1)'!$J$134"]
["pp1_bl4_7_5_total_in",{"$f":"'T2-B(PP1)'!$F$134","v":0},"#'T2-B(PP1)'!$F$134"]
["pp1_bl4_7_5_total_out",{"$f":"'T2-B(PP1)'!$I$134","v":0},"#'T2-B(PP1)'!$I$134"]
["pp1_bl4_7_5_unit",{"$f":"'T2-B(PP1)'!$C$134","v":0},"#'T2-B(PP1)'!$C$134"]
["pp1_bl4_7_5_unit_in",{"$f":"'T2-B(PP1)'!$D$134","v":0},"#'T2-B(PP1)'!$D$134"]
["pp1_bl4_7_5_units_out",{"$f":"'T2-B(PP1)'!$G$134","v":0},"#'T2-B(PP1)'!$G$134"]
["pp1_bl4_7_6_name",{"$f":"'T2-B(PP1)'!$B$135","v":0},"#'T2-B(PP1)'!$B$135"]
["pp1_bl4_7_6_rate_in",{"$f":"'T2-B(PP1)'!$E$135","v":0},"#'T2-B(PP1)'!$E$135"]
["pp1_bl4_7_6_rate_out",{"$f":"'T2-B(PP1)'!$H$135","v":0},"#'T2-B(PP1)'!$H$135"]
["pp1_bl4_7_6_total",{"$f":"'T2-B(PP1)'!$J$135","v":0},"#'T2-B(PP1)'!$J$135"]
["pp1_bl4_7_6_total_in",{"$f":"'T2-B(PP1)'!$F$135","v":0},"#'T2-B(PP1)'!$F$135"]
["pp1_bl4_7_6_total_out",{"$f":"'T2-B(PP1)'!$I$135","v":0},"#'T2-B(PP1)'!$I$135"]
["pp1_bl4_7_6_unit",{"$f":"'T2-B(PP1)'!$C$135","v":0},"#'T2-B(PP1)'!$C$135"]
["pp1_bl4_7_6_unit_in",{"$f":"'T2-B(PP1)'!$D$135","v":0},"#'T2-B(PP1)'!$D$135"]
["pp1_bl4_7_6_units_out",{"$f":"'T2-B(PP1)'!$G$135","v":0},"#'T2-B(PP1)'!$G$135"]
["pp1_bl4_7_7_name",{"$f":"'T2-B(PP1)'!$B$136","v":0},"#'T2-B(PP1)'!$B$136"]
["pp1_bl4_7_7_rate_in",{"$f":"'T2-B(PP1)'!$E$136","v":0},"#'T2-B(PP1)'!$E$136"]
["pp1_bl4_7_7_rate_out",{"$f":"'T2-B(PP1)'!$H$136","v":0},"#'T2-B(PP1)'!$H$136"]
["pp1_bl4_7_7_total",{"$f":"'T2-B(PP1)'!$J$136","v":0},"#'T2-B(PP1)'!$J$136"]
["pp1_bl4_7_7_total_in",{"$f":"'T2-B(PP1)'!$F$136","v":0},"#'T2-B(PP1)'!$F$136"]
["pp1_bl4_7_7_total_out",{"$f":"'T2-B(PP1)'!$I$136","v":0},"#'T2-B(PP1)'!$I$136"]
["pp1_bl4_7_7_unit",{"$f":"'T2-B(PP1)'!$C$136","v":0},"#'T2-B(PP1)'!$C$136"]
["pp1_bl4_7_7_unit_in",{"$f":"'T2-B(PP1)'!$D$136","v":0},"#'T2-B(PP1)'!$D$136"]
["pp1_bl4_7_7_units_out",{"$f":"'T2-B(PP1)'!$G$136","v":0},"#'T2-B(PP1)'!$G$136"]
["pp1_bl4_7_8_name",{"$f":"'T2-B(PP1)'!$B$137","v":0},"#'T2-B(PP1)'!$B$137"]
["pp1_bl4_7_8_rate_in",{"$f":"'T2-B(PP1)'!$E$137","v":0},"#'T2-B(PP1)'!$E$137"]
["pp1_bl4_7_8_rate_out",{"$f":"'T2-B(PP1)'!$H$137","v":0},"#'T2-B(PP1)'!$H$137"]
["pp1_bl4_7_8_total",{"$f":"'T2-B(PP1)'!$J$137","v":0},"#'T2-B(PP1)'!$J$137"]
["pp1_bl4_7_8_total_in",{"$f":"'T2-B(PP1)'!$F$137","v":0},"#'T2-B(PP1)'!$F$137"]
["pp1_bl4_7_8_total_out",{"$f":"'T2-B(PP1)'!$I$137","v":0},"#'T2-B(PP1)'!$I$137"]
["pp1_bl4_7_8_unit",{"$f":"'T2-B(PP1)'!$C$137","v":0},"#'T2-B(PP1)'!$C$137"]
["pp1_bl4_7_8_unit_in",{"$f":"'T2-B(PP1)'!$D$137","v":0},"#'T2-B(PP1)'!$D$137"]
["pp1_bl4_7_8_units_out",{"$f":"'T2-B(PP1)'!$G$137","v":0},"#'T2-B(PP1)'!$G$137"]
["pp1_bl4_7_9_name",{"$f":"'T2-B(PP1)'!$B$138","v":0},"#'T2-B(PP1)'!$B$138"]
["pp1_bl4_7_9_rate_in",{"$f":"'T2-B(PP1)'!$E$138","v":0},"#'T2-B(PP1)'!$E$138"]
["pp1_bl4_7_9_rate_out",{"$f":"'T2-B(PP1)'!$H$138","v":0},"#'T2-B(PP1)'!$H$138"]
["pp1_bl4_7_9_total",{"$f":"'T2-B(PP1)'!$J$138","v":0},"#'T2-B(PP1)'!$J$138"]
["pp1_bl4_7_9_total_in",{"$f":"'T2-B(PP1)'!$F$138","v":0},"#'T2-B(PP1)'!$F$138"]
["pp1_bl4_7_9_total_out",{"$f":"'T2-B(PP1)'!$I$138","v":0},"#'T2-B(PP1)'!$I$138"]
["pp1_bl4_7_9_unit",{"$f":"'T2-B(PP1)'!$C$138","v":0},"#'T2-B(PP1)'!$C$138"]
["pp1_bl4_7_9_unit_in",{"$f":"'T2-B(PP1)'!$D$138","v":0},"#'T2-B(PP1)'!$D$138"]
["pp1_bl4_7_9_units_out",{"$f":"'T2-B(PP1)'!$G$138","v":0},"#'T2-B(PP1)'!$G$138"]
["pp1_bl4_7_total",{"$f":"'T2-B(PP1)'!$J$129","v":0},"#'T2-B(PP1)'!$J$129"]
["pp1_bl4_7_total_in",{"$f":"'T2-B(PP1)'!$F$129","v":0},"#'T2-B(PP1)'!$F$129"]
["pp1_bl4_7_total_out",{"$f":"'T2-B(PP1)'!$I$129","v":0},"#'T2-B(PP1)'!$I$129"]
["pp1_bl4_8_1_name",{"$f":"'T2-B(PP1)'!$B$141","v":0},"#'T2-B(PP1)'!$B$141"]
["pp1_bl4_8_1_rate_in",{"$f":"'T2-B(PP1)'!$E$141","v":0},"#'T2-B(PP1)'!$E$141"]
["pp1_bl4_8_1_rate_out",{"$f":"'T2-B(PP1)'!$H$141","v":0},"#'T2-B(PP1)'!$H$141"]
["pp1_bl4_8_1_total",{"$f":"'T2-B(PP1)'!$J$141","v":0},"#'T2-B(PP1)'!$J$141"]
["pp1_bl4_8_1_total_in",{"$f":"'T2-B(PP1)'!$F$141","v":0},"#'T2-B(PP1)'!$F$141"]
["pp1_bl4_8_1_total_out",{"$f":"'T2-B(PP1)'!$I$141","v":0},"#'T2-B(PP1)'!$I$141"]
["pp1_bl4_8_1_unit",{"$f":"'T2-B(PP1)'!$C$141","v":0},"#'T2-B(PP1)'!$C$141"]
["pp1_bl4_8_1_unit_in",{"$f":"'T2-B(PP1)'!$D$141","v":0},"#'T2-B(PP1)'!$D$141"]
["pp1_bl4_8_1_units_out",{"$f":"'T2-B(PP1)'!$G$141","v":0},"#'T2-B(PP1)'!$G$141"]
["pp1_bl4_8_10_name",{"$f":"'T2-B(PP1)'!$B$150","v":0},"#'T2-B(PP1)'!$B$150"]
["pp1_bl4_8_10_rate_in",{"$f":"'T2-B(PP1)'!$E$150","v":0},"#'T2-B(PP1)'!$E$150"]
["pp1_bl4_8_10_rate_out",{"$f":"'T2-B(PP1)'!$H$150","v":0},"#'T2-B(PP1)'!$H$150"]
["pp1_bl4_8_10_total",{"$f":"'T2-B(PP1)'!$J$150","v":0},"#'T2-B(PP1)'!$J$150"]
["pp1_bl4_8_10_total_in",{"$f":"'T2-B(PP1)'!$F$150","v":0},"#'T2-B(PP1)'!$F$150"]
["pp1_bl4_8_10_total_out",{"$f":"'T2-B(PP1)'!$I$150","v":0},"#'T2-B(PP1)'!$I$150"]
["pp1_bl4_8_10_unit",{"$f":"'T2-B(PP1)'!$C$150","v":0},"#'T2-B(PP1)'!$C$150"]
["pp1_bl4_8_10_unit_in",{"$f":"'T2-B(PP1)'!$D$150","v":0},"#'T2-B(PP1)'!$D$150"]
["pp1_bl4_8_10_units_out",{"$f":"'T2-B(PP1)'!$G$150","v":0},"#'T2-B(PP1)'!$G$150"]
["pp1_bl4_8_2_name",{"$f":"'T2-B(PP1)'!$B$142","v":0},"#'T2-B(PP1)'!$B$142"]
["pp1_bl4_8_2_rate_in",{"$f":"'T2-B(PP1)'!$E$142","v":0},"#'T2-B(PP1)'!$E$142"]
["pp1_bl4_8_2_rate_out",{"$f":"'T2-B(PP1)'!$H$142","v":0},"#'T2-B(PP1)'!$H$142"]
["pp1_bl4_8_2_total",{"$f":"'T2-B(PP1)'!$J$142","v":0},"#'T2-B(PP1)'!$J$142"]
["pp1_bl4_8_2_total_in",{"$f":"'T2-B(PP1)'!$F$142","v":0},"#'T2-B(PP1)'!$F$142"]
["pp1_bl4_8_2_total_out",{"$f":"'T2-B(PP1)'!$I$142","v":0},"#'T2-B(PP1)'!$I$142"]
["pp1_bl4_8_2_unit",{"$f":"'T2-B(PP1)'!$C$142","v":0},"#'T2-B(PP1)'!$C$142"]
["pp1_bl4_8_2_unit_in",{"$f":"'T2-B(PP1)'!$D$142","v":0},"#'T2-B(PP1)'!$D$142"]
["pp1_bl4_8_2_units_out",{"$f":"'T2-B(PP1)'!$G$142","v":0},"#'T2-B(PP1)'!$G$142"]
["pp1_bl4_8_3_name",{"$f":"'T2-B(PP1)'!$B$143","v":0},"#'T2-B(PP1)'!$B$143"]
["pp1_bl4_8_3_rate_in",{"$f":"'T2-B(PP1)'!$E$143","v":0},"#'T2-B(PP1)'!$E$143"]
["pp1_bl4_8_3_rate_out",{"$f":"'T2-B(PP1)'!$H$143","v":0},"#'T2-B(PP1)'!$H$143"]
["pp1_bl4_8_3_total",{"$f":"'T2-B(PP1)'!$J$143","v":0},"#'T2-B(PP1)'!$J$143"]
["pp1_bl4_8_3_total_in",{"$f":"'T2-B(PP1)'!$F$143","v":0},"#'T2-B(PP1)'!$F$143"]
["pp1_bl4_8_3_total_out",{"$f":"'T2-B(PP1)'!$I$143","v":0},"#'T2-B(PP1)'!$I$143"]
["pp1_bl4_8_3_unit",{"$f":"'T2-B(PP1)'!$C$143","v":0},"#'T2-B(PP1)'!$C$143"]
["pp1_bl4_8_3_unit_in",{"$f":"'T2-B(PP1)'!$D$143","v":0},"#'T2-B(PP1)'!$D$143"]
["pp1_bl4_8_3_units_out",{"$f":"'T2-B(PP1)'!$G$143","v":0},"#'T2-B(PP1)'!$G$143"]
["pp1_bl4_8_4_name",{"$f":"'T2-B(PP1)'!$B$144","v":0},"#'T2-B(PP1)'!$B$144"]
["pp1_bl4_8_4_rate_in",{"$f":"'T2-B(PP1)'!$E$144","v":0},"#'T2-B(PP1)'!$E$144"]
["pp1_bl4_8_4_rate_out",{"$f":"'T2-B(PP1)'!$H$144","v":0},"#'T2-B(PP1)'!$H$144"]
["pp1_bl4_8_4_total",{"$f":"'T2-B(PP1)'!$J$144","v":0},"#'T2-B(PP1)'!$J$144"]
["pp1_bl4_8_4_total_in",{"$f":"'T2-B(PP1)'!$F$144","v":0},"#'T2-B(PP1)'!$F$144"]
["pp1_bl4_8_4_total_out",{"$f":"'T2-B(PP1)'!$I$144","v":0},"#'T2-B(PP1)'!$I$144"]
["pp1_bl4_8_4_unit",{"$f":"'T2-B(PP1)'!$C$144","v":0},"#'T2-B(PP1)'!$C$144"]
["pp1_bl4_8_4_unit_in",{"$f":"'T2-B(PP1)'!$D$144","v":0},"#'T2-B(PP1)'!$D$144"]
["pp1_bl4_8_4_units_out",{"$f":"'T2-B(PP1)'!$G$144","v":0},"#'T2-B(PP1)'!$G$144"]
["pp1_bl4_8_5_name",{"$f":"'T2-B(PP1)'!$B$145","v":0},"#'T2-B(PP1)'!$B$145"]
["pp1_bl4_8_5_rate_in",{"$f":"'T2-B(PP1)'!$E$145","v":0},"#'T2-B(PP1)'!$E$145"]
["pp1_bl4_8_5_rate_out",{"$f":"'T2-B(PP1)'!$H$145","v":0},"#'T2-B(PP1)'!$H$145"]
["pp1_bl4_8_5_total",{"$f":"'T2-B(PP1)'!$J$145","v":0},"#'T2-B(PP1)'!$J$145"]
["pp1_bl4_8_5_total_in",{"$f":"'T2-B(PP1)'!$F$145","v":0},"#'T2-B(PP1)'!$F$145"]
["pp1_bl4_8_5_total_out",{"$f":"'T2-B(PP1)'!$I$145","v":0},"#'T2-B(PP1)'!$I$145"]
["pp1_bl4_8_5_unit",{"$f":"'T2-B(PP1)'!$C$145","v":0},"#'T2-B(PP1)'!$C$145"]
["pp1_bl4_8_5_unit_in",{"$f":"'T2-B(PP1)'!$D$145","v":0},"#'T2-B(PP1)'!$D$145"]
["pp1_bl4_8_5_units_out",{"$f":"'T2-B(PP1)'!$G$145","v":0},"#'T2-B(PP1)'!$G$145"]
["pp1_bl4_8_6_name",{"$f":"'T2-B(PP1)'!$B$146","v":0},"#'T2-B(PP1)'!$B$146"]
["pp1_bl4_8_6_rate_in",{"$f":"'T2-B(PP1)'!$E$146","v":0},"#'T2-B(PP1)'!$E$146"]
["pp1_bl4_8_6_rate_out",{"$f":"'T2-B(PP1)'!$H$146","v":0},"#'T2-B(PP1)'!$H$146"]
["pp1_bl4_8_6_total",{"$f":"'T2-B(PP1)'!$J$146","v":0},"#'T2-B(PP1)'!$J$146"]
["pp1_bl4_8_6_total_in",{"$f":"'T2-B(PP1)'!$F$146","v":0},"#'T2-B(PP1)'!$F$146"]
["pp1_bl4_8_6_total_out",{"$f":"'T2-B(PP1)'!$I$146","v":0},"#'T2-B(PP1)'!$I$146"]
["pp1_bl4_8_6_unit",{"$f":"'T2-B(PP1)'!$C$146","v":0},"#'T2-B(PP1)'!$C$146"]
["pp1_bl4_8_6_unit_in",{"$f":"'T2-B(PP1)'!$D$146","v":0},"#'T2-B(PP1)'!$D$146"]
["pp1_bl4_8_6_units_out",{"$f":"'T2-B(PP1)'!$G$146","v":0},"#'T2-B(PP1)'!$G$146"]
["pp1_bl4_8_7_name",{"$f":"'T2-B(PP1)'!$B$147","v":0},"#'T2-B(PP1)'!$B$147"]
["pp1_bl4_8_7_rate_in",{"$f":"'T2-B(PP1)'!$E$147","v":0},"#'T2-B(PP1)'!$E$147"]
["pp1_bl4_8_7_rate_out",{"$f":"'T2-B(PP1)'!$H$147","v":0},"#'T2-B(PP1)'!$H$147"]
["pp1_bl4_8_7_total",{"$f":"'T2-B(PP1)'!$J$147","v":0},"#'T2-B(PP1)'!$J$147"]
["pp1_bl4_8_7_total_in",{"$f":"'T2-B(PP1)'!$F$147","v":0},"#'T2-B(PP1)'!$F$147"]
["pp1_bl4_8_7_total_out",{"$f":"'T2-B(PP1)'!$I$147","v":0},"#'T2-B(PP1)'!$I$147"]
["pp1_bl4_8_7_unit",{"$f":"'T2-B(PP1)'!$C$147","v":0},"#'T2-B(PP1)'!$C$147"]
["pp1_bl4_8_7_unit_in",{"$f":"'T2-B(PP1)'!$D$147","v":0},"#'T2-B(PP1)'!$D$147"]
["pp1_bl4_8_7_units_out",{"$f":"'T2-B(PP1)'!$G$147","v":0},"#'T2-B(PP1)'!$G$147"]
["pp1_bl4_8_8_name",{"$f":"'T2-B(PP1)'!$B$148","v":0},"#'T2-B(PP1)'!$B$148"]
["pp1_bl4_8_8_rate_in",{"$f":"'T2-B(PP1)'!$E$148","v":0},"#'T2-B(PP1)'!$E$148"]
["pp1_bl4_8_8_rate_out",{"$f":"'T2-B(PP1)'!$H$148","v":0},"#'T2-B(PP1)'!$H$148"]
["pp1_bl4_8_8_total",{"$f":"'T2-B(PP1)'!$J$148","v":0},"#'T2-B(PP1)'!$J$148"]
["pp1_bl4_8_8_total_in",{"$f":"'T2-B(PP1)'!$F$148","v":0},"#'T2-B(PP1)'!$F$148"]
["pp1_bl4_8_8_total_out",{"$f":"'T2-B(PP1)'!$I$148","v":0},"#'T2-B(PP1)'!$I$148"]
["pp1_bl4_8_8_unit",{"$f":"'T2-B(PP1)'!$C$148","v":0},"#'T2-B(PP1)'!$C$148"]
["pp1_bl4_8_8_unit_in",{"$f":"'T2-B(PP1)'!$D$148","v":0},"#'T2-B(PP1)'!$D$148"]
["pp1_bl4_8_8_units_out",{"$f":"'T2-B(PP1)'!$G$148","v":0},"#'T2-B(PP1)'!$G$148"]
["pp1_bl4_8_9_name",{"$f":"'T2-B(PP1)'!$B$149","v":0},"#'T2-B(PP1)'!$B$149"]
["pp1_bl4_8_9_rate_in",{"$f":"'T2-B(PP1)'!$E$149","v":0},"#'T2-B(PP1)'!$E$149"]
["pp1_bl4_8_9_rate_out",{"$f":"'T2-B(PP1)'!$H$149","v":0},"#'T2-B(PP1)'!$H$149"]
["pp1_bl4_8_9_total",{"$f":"'T2-B(PP1)'!$J$149","v":0},"#'T2-B(PP1)'!$J$149"]
["pp1_bl4_8_9_total_in",{"$f":"'T2-B(PP1)'!$F$149","v":0},"#'T2-B(PP1)'!$F$149"]
["pp1_bl4_8_9_total_out",{"$f":"'T2-B(PP1)'!$I$149","v":0},"#'T2-B(PP1)'!$I$149"]
["pp1_bl4_8_9_unit",{"$f":"'T2-B(PP1)'!$C$149","v":0},"#'T2-B(PP1)'!$C$149"]
["pp1_bl4_8_9_unit_in",{"$f":"'T2-B(PP1)'!$D$149","v":0},"#'T2-B(PP1)'!$D$149"]
["pp1_bl4_8_9_units_out",{"$f":"'T2-B(PP1)'!$G$149","v":0},"#'T2-B(PP1)'!$G$149"]
["pp1_bl4_8_total",{"$f":"'T2-B(PP1)'!$J$140","v":0},"#'T2-B(PP1)'!$J$140"]
["pp1_bl4_8_total_in",{"$f":"'T2-B(PP1)'!$F$140","v":0},"#'T2-B(PP1)'!$F$140"]
["pp1_bl4_8_total_out",{"$f":"'T2-B(PP1)'!$I$140","v":0},"#'T2-B(PP1)'!$I$140"]
["pp1_bl4_9_1_name",{"$f":"'T2-B(PP1)'!$B$152","v":0},"#'T2-B(PP1)'!$B$152"]
["pp1_bl4_9_1_rate_in",{"$f":"'T2-B(PP1)'!$E$152","v":0},"#'T2-B(PP1)'!$E$152"]
["pp1_bl4_9_1_rate_out",{"$f":"'T2-B(PP1)'!$H$152","v":0},"#'T2-B(PP1)'!$H$152"]
["pp1_bl4_9_1_total",{"$f":"'T2-B(PP1)'!$J$152","v":0},"#'T2-B(PP1)'!$J$152"]
["pp1_bl4_9_1_total_in",{"$f":"'T2-B(PP1)'!$F$152","v":0},"#'T2-B(PP1)'!$F$152"]
["pp1_bl4_9_1_total_out",{"$f":"'T2-B(PP1)'!$I$152","v":0},"#'T2-B(PP1)'!$I$152"]
["pp1_bl4_9_1_unit",{"$f":"'T2-B(PP1)'!$C$152","v":0},"#'T2-B(PP1)'!$C$152"]
["pp1_bl4_9_1_unit_in",{"$f":"'T2-B(PP1)'!$D$152","v":0},"#'T2-B(PP1)'!$D$152"]
["pp1_bl4_9_1_units_out",{"$f":"'T2-B(PP1)'!$G$152","v":0},"#'T2-B(PP1)'!$G$152"]
["pp1_bl4_9_10_name",{"$f":"'T2-B(PP1)'!$B$161","v":0},"#'T2-B(PP1)'!$B$161"]
["pp1_bl4_9_10_rate_in",{"$f":"'T2-B(PP1)'!$E$161","v":0},"#'T2-B(PP1)'!$E$161"]
["pp1_bl4_9_10_rate_out",{"$f":"'T2-B(PP1)'!$H$161","v":0},"#'T2-B(PP1)'!$H$161"]
["pp1_bl4_9_10_total",{"$f":"'T2-B(PP1)'!$J$161","v":0},"#'T2-B(PP1)'!$J$161"]
["pp1_bl4_9_10_total_in",{"$f":"'T2-B(PP1)'!$F$161","v":0},"#'T2-B(PP1)'!$F$161"]
["pp1_bl4_9_10_total_out",{"$f":"'T2-B(PP1)'!$I$161","v":0},"#'T2-B(PP1)'!$I$161"]
["pp1_bl4_9_10_unit",{"$f":"'T2-B(PP1)'!$C$161","v":0},"#'T2-B(PP1)'!$C$161"]
["pp1_bl4_9_10_unit_in",{"$f":"'T2-B(PP1)'!$D$161","v":0},"#'T2-B(PP1)'!$D$161"]
["pp1_bl4_9_10_units_out",{"$f":"'T2-B(PP1)'!$G$161","v":0},"#'T2-B(PP1)'!$G$161"]
["pp1_bl4_9_2_name",{"$f":"'T2-B(PP1)'!$B$153","v":0},"#'T2-B(PP1)'!$B$153"]
["pp1_bl4_9_2_rate_in",{"$f":"'T2-B(PP1)'!$E$153","v":0},"#'T2-B(PP1)'!$E$153"]
["pp1_bl4_9_2_rate_out",{"$f":"'T2-B(PP1)'!$H$153","v":0},"#'T2-B(PP1)'!$H$153"]
["pp1_bl4_9_2_total",{"$f":"'T2-B(PP1)'!$J$153","v":0},"#'T2-B(PP1)'!$J$153"]
["pp1_bl4_9_2_total_in",{"$f":"'T2-B(PP1)'!$F$153","v":0},"#'T2-B(PP1)'!$F$153"]
["pp1_bl4_9_2_total_out",{"$f":"'T2-B(PP1)'!$I$153","v":0},"#'T2-B(PP1)'!$I$153"]
["pp1_bl4_9_2_unit",{"$f":"'T2-B(PP1)'!$C$153","v":0},"#'T2-B(PP1)'!$C$153"]
["pp1_bl4_9_2_unit_in",{"$f":"'T2-B(PP1)'!$D$153","v":0},"#'T2-B(PP1)'!$D$153"]
["pp1_bl4_9_2_units_out",{"$f":"'T2-B(PP1)'!$G$153","v":0},"#'T2-B(PP1)'!$G$153"]
["pp1_bl4_9_3_name",{"$f":"'T2-B(PP1)'!$B$154","v":0},"#'T2-B(PP1)'!$B$154"]
["pp1_bl4_9_3_rate_in",{"$f":"'T2-B(PP1)'!$E$154","v":0},"#'T2-B(PP1)'!$E$154"]
["pp1_bl4_9_3_rate_out",{"$f":"'T2-B(PP1)'!$H$154","v":0},"#'T2-B(PP1)'!$H$154"]
["pp1_bl4_9_3_total",{"$f":"'T2-B(PP1)'!$J$154","v":0},"#'T2-B(PP1)'!$J$154"]
["pp1_bl4_9_3_total_in",{"$f":"'T2-B(PP1)'!$F$154","v":0},"#'T2-B(PP1)'!$F$154"]
["pp1_bl4_9_3_total_out",{"$f":"'T2-B(PP1)'!$I$154","v":0},"#'T2-B(PP1)'!$I$154"]
["pp1_bl4_9_3_unit",{"$f":"'T2-B(PP1)'!$C$154","v":0},"#'T2-B(PP1)'!$C$154"]
["pp1_bl4_9_3_unit_in",{"$f":"'T2-B(PP1)'!$D$154","v":0},"#'T2-B(PP1)'!$D$154"]
["pp1_bl4_9_3_units_out",{"$f":"'T2-B(PP1)'!$G$154","v":0},"#'T2-B(PP1)'!$G$154"]
["pp1_bl4_9_4_name",{"$f":"'T2-B(PP1)'!$B$155","v":0},"#'T2-B(PP1)'!$B$155"]
["pp1_bl4_9_4_rate_in",{"$f":"'T2-B(PP1)'!$E$155","v":0},"#'T2-B(PP1)'!$E$155"]
["pp1_bl4_9_4_rate_out",{"$f":"'T2-B(PP1)'!$H$155","v":0},"#'T2-B(PP1)'!$H$155"]
["pp1_bl4_9_4_total",{"$f":"'T2-B(PP1)'!$J$155","v":0},"#'T2-B(PP1)'!$J$155"]
["pp1_bl4_9_4_total_in",{"$f":"'T2-B(PP1)'!$F$155","v":0},"#'T2-B(PP1)'!$F$155"]
["pp1_bl4_9_4_total_out",{"$f":"'T2-B(PP1)'!$I$155","v":0},"#'T2-B(PP1)'!$I$155"]
["pp1_bl4_9_4_unit",{"$f":"'T2-B(PP1)'!$C$155","v":0},"#'T2-B(PP1)'!$C$155"]
["pp1_bl4_9_4_unit_in",{"$f":"'T2-B(PP1)'!$D$155","v":0},"#'T2-B(PP1)'!$D$155"]
["pp1_bl4_9_4_units_out",{"$f":"'T2-B(PP1)'!$G$155","v":0},"#'T2-B(PP1)'!$G$155"]
["pp1_bl4_9_5_name",{"$f":"'T2-B(PP1)'!$B$156","v":0},"#'T2-B(PP1)'!$B$156"]
["pp1_bl4_9_5_rate_in",{"$f":"'T2-B(PP1)'!$E$156","v":0},"#'T2-B(PP1)'!$E$156"]
["pp1_bl4_9_5_rate_out",{"$f":"'T2-B(PP1)'!$H$156","v":0},"#'T2-B(PP1)'!$H$156"]
["pp1_bl4_9_5_total",{"$f":"'T2-B(PP1)'!$J$156","v":0},"#'T2-B(PP1)'!$J$156"]
["pp1_bl4_9_5_total_in",{"$f":"'T2-B(PP1)'!$F$156","v":0},"#'T2-B(PP1)'!$F$156"]
["pp1_bl4_9_5_total_out",{"$f":"'T2-B(PP1)'!$I$156","v":0},"#'T2-B(PP1)'!$I$156"]
["pp1_bl4_9_5_unit",{"$f":"'T2-B(PP1)'!$C$156","v":0},"#'T2-B(PP1)'!$C$156"]
["pp1_bl4_9_5_unit_in",{"$f":"'T2-B(PP1)'!$D$156","v":0},"#'T2-B(PP1)'!$D$156"]
["pp1_bl4_9_5_units_out",{"$f":"'T2-B(PP1)'!$G$156","v":0},"#'T2-B(PP1)'!$G$156"]
["pp1_bl4_9_6_name",{"$f":"'T2-B(PP1)'!$B$157","v":0},"#'T2-B(PP1)'!$B$157"]
["pp1_bl4_9_6_rate_in",{"$f":"'T2-B(PP1)'!$E$157","v":0},"#'T2-B(PP1)'!$E$157"]
["pp1_bl4_9_6_rate_out",{"$f":"'T2-B(PP1)'!$H$157","v":0},"#'T2-B(PP1)'!$H$157"]
["pp1_bl4_9_6_total",{"$f":"'T2-B(PP1)'!$J$157","v":0},"#'T2-B(PP1)'!$J$157"]
["pp1_bl4_9_6_total_in",{"$f":"'T2-B(PP1)'!$F$157","v":0},"#'T2-B(PP1)'!$F$157"]
["pp1_bl4_9_6_total_out",{"$f":"'T2-B(PP1)'!$I$157","v":0},"#'T2-B(PP1)'!$I$157"]
["pp1_bl4_9_6_unit",{"$f":"'T2-B(PP1)'!$C$157","v":0},"#'T2-B(PP1)'!$C$157"]
["pp1_bl4_9_6_unit_in",{"$f":"'T2-B(PP1)'!$D$157","v":0},"#'T2-B(PP1)'!$D$157"]
["pp1_bl4_9_6_units_out",{"$f":"'T2-B(PP1)'!$G$157","v":0},"#'T2-B(PP1)'!$G$157"]
["pp1_bl4_9_7_name",{"$f":"'T2-B(PP1)'!$B$158","v":0},"#'T2-B(PP1)'!$B$158"]
["pp1_bl4_9_7_rate_in",{"$f":"'T2-B(PP1)'!$E$158","v":0},"#'T2-B(PP1)'!$E$158"]
["pp1_bl4_9_7_rate_out",{"$f":"'T2-B(PP1)'!$H$158","v":0},"#'T2-B(PP1)'!$H$158"]
["pp1_bl4_9_7_total",{"$f":"'T2-B(PP1)'!$J$158","v":0},"#'T2-B(PP1)'!$J$158"]
["pp1_bl4_9_7_total_in",{"$f":"'T2-B(PP1)'!$F$158","v":0},"#'T2-B(PP1)'!$F$158"]
["pp1_bl4_9_7_total_out",{"$f":"'T2-B(PP1)'!$I$158","v":0},"#'T2-B(PP1)'!$I$158"]
["pp1_bl4_9_7_unit",{"$f":"'T2-B(PP1)'!$C$158","v":0},"#'T2-B(PP1)'!$C$158"]
["pp1_bl4_9_7_unit_in",{"$f":"'T2-B(PP1)'!$D$158","v":0},"#'T2-B(PP1)'!$D$158"]
["pp1_bl4_9_7_units_out",{"$f":"'T2-B(PP1)'!$G$158","v":0},"#'T2-B(PP1)'!$G$158"]
["pp1_bl4_9_8_name",{"$f":"'T2-B(PP1)'!$B$159","v":0},"#'T2-B(PP1)'!$B$159"]
["pp1_bl4_9_8_rate_in",{"$f":"'T2-B(PP1)'!$E$159","v":0},"#'T2-B(PP1)'!$E$159"]
["pp1_bl4_9_8_rate_out",{"$f":"'T2-B(PP1)'!$H$159","v":0},"#'T2-B(PP1)'!$H$159"]
["pp1_bl4_9_8_total",{"$f":"'T2-B(PP1)'!$J$159","v":0},"#'T2-B(PP1)'!$J$159"]
["pp1_bl4_9_8_total_in",{"$f":"'T2-B(PP1)'!$F$159","v":0},"#'T2-B(PP1)'!$F$159"]
["pp1_bl4_9_8_total_out",{"$f":"'T2-B(PP1)'!$I$159","v":0},"#'T2-B(PP1)'!$I$159"]
["pp1_bl4_9_8_unit",{"$f":"'T2-B(PP1)'!$C$159","v":0},"#'T2-B(PP1)'!$C$159"]
["pp1_bl4_9_8_unit_in",{"$f":"'T2-B(PP1)'!$D$159","v":0},"#'T2-B(PP1)'!$D$159"]
["pp1_bl4_9_8_units_out",{"$f":"'T2-B(PP1)'!$G$159","v":0},"#'T2-B(PP1)'!$G$159"]
["pp1_bl4_9_9_name",{"$f":"'T2-B(PP1)'!$B$160","v":0},"#'T2-B(PP1)'!$B$160"]
["pp1_bl4_9_9_rate_in",{"$f":"'T2-B(PP1)'!$E$160","v":0},"#'T2-B(PP1)'!$E$160"]
["pp1_bl4_9_9_rate_out",{"$f":"'T2-B(PP1)'!$H$160","v":0},"#'T2-B(PP1)'!$H$160"]
["pp1_bl4_9_9_total",{"$f":"'T2-B(PP1)'!$J$160","v":0},"#'T2-B(PP1)'!$J$160"]
["pp1_bl4_9_9_total_in",{"$f":"'T2-B(PP1)'!$F$160","v":0},"#'T2-B(PP1)'!$F$160"]
["pp1_bl4_9_9_total_out",{"$f":"'T2-B(PP1)'!$I$160","v":0},"#'T2-B(PP1)'!$I$160"]
["pp1_bl4_9_9_unit",{"$f":"'T2-B(PP1)'!$C$160","v":0},"#'T2-B(PP1)'!$C$160"]
["pp1_bl4_9_9_unit_in",{"$f":"'T2-B(PP1)'!$D$160","v":0},"#'T2-B(PP1)'!$D$160"]
["pp1_bl4_9_9_units_out",{"$f":"'T2-B(PP1)'!$G$160","v":0},"#'T2-B(PP1)'!$G$160"]
["pp1_bl4_9_total",{"$f":"'T2-B(PP1)'!$J$151","v":0},"#'T2-B(PP1)'!$J$151"]
["pp1_bl4_9_total_in",{"$f":"'T2-B(PP1)'!$F$151","v":0},"#'T2-B(PP1)'!$F$151"]
["pp1_bl4_9_total_out",{"$f":"'T2-B(PP1)'!$I$151","v":0},"#'T2-B(PP1)'!$I$151"]
["pp1_bl4_total",{"$f":"'T2-B(PP1)'!$J$217","v":0},"#'T2-B(PP1)'!$J$217"]
["pp1_bl4_total_in",{"$f":"'T2-B(PP1)'!$F$217","v":0},"#'T2-B(PP1)'!$F$217"]
["pp1_bl4_total_out",{"$f":"'T2-B(PP1)'!$I$217","v":0},"#'T2-B(PP1)'!$I$217"]
["pp1_bl5_1_1_name",{"$f":"'T2-B(PP1)'!$B$222","v":0},"#'T2-B(PP1)'!$B$222"]
["pp1_bl5_1_1_rate_in",{"$f":"'T2-B(PP1)'!$E$222","v":0},"#'T2-B(PP1)'!$E$222"]
["pp1_bl5_1_1_rate_out",{"$f":"'T2-B(PP1)'!$H$222","v":0},"#'T2-B(PP1)'!$H$222"]
["pp1_bl5_1_1_total",{"$f":"'T2-B(PP1)'!$J$222","v":0},"#'T2-B(PP1)'!$J$222"]
["pp1_bl5_1_1_total_in",{"$f":"'T2-B(PP1)'!$F$222","v":0},"#'T2-B(PP1)'!$F$222"]
["pp1_bl5_1_1_total_out",{"$f":"'T2-B(PP1)'!$I$222","v":0},"#'T2-B(PP1)'!$I$222"]
["pp1_bl5_1_1_unit",{"$f":"'T2-B(PP1)'!$C$222","v":0},"#'T2-B(PP1)'!$C$222"]
["pp1_bl5_1_1_unit_in",{"$f":"'T2-B(PP1)'!$D$222","v":0},"#'T2-B(PP1)'!$D$222"]
["pp1_bl5_1_1_units_out",{"$f":"'T2-B(PP1)'!$G$222","v":0},"#'T2-B(PP1)'!$G$222"]
["pp1_bl5_1_10_name",{"$f":"'T2-B(PP1)'!$B$231","v":0},"#'T2-B(PP1)'!$B$231"]
["pp1_bl5_1_10_rate_in",{"$f":"'T2-B(PP1)'!$E$231","v":0},"#'T2-B(PP1)'!$E$231"]
["pp1_bl5_1_10_rate_out",{"$f":"'T2-B(PP1)'!$H$231","v":0},"#'T2-B(PP1)'!$H$231"]
["pp1_bl5_1_10_total",{"$f":"'T2-B(PP1)'!$J$231","v":0},"#'T2-B(PP1)'!$J$231"]
["pp1_bl5_1_10_total_in",{"$f":"'T2-B(PP1)'!$F$231","v":0},"#'T2-B(PP1)'!$F$231"]
["pp1_bl5_1_10_total_out",{"$f":"'T2-B(PP1)'!$I$231","v":0},"#'T2-B(PP1)'!$I$231"]
["pp1_bl5_1_10_unit",{"$f":"'T2-B(PP1)'!$C$231","v":0},"#'T2-B(PP1)'!$C$231"]
["pp1_bl5_1_10_unit_in",{"$f":"'T2-B(PP1)'!$D$231","v":0},"#'T2-B(PP1)'!$D$231"]
["pp1_bl5_1_10_units_out",{"$f":"'T2-B(PP1)'!$G$231","v":0},"#'T2-B(PP1)'!$G$231"]
["pp1_bl5_1_2_name",{"$f":"'T2-B(PP1)'!$B$223","v":0},"#'T2-B(PP1)'!$B$223"]
["pp1_bl5_1_2_rate_in",{"$f":"'T2-B(PP1)'!$E$223","v":0},"#'T2-B(PP1)'!$E$223"]
["pp1_bl5_1_2_rate_out",{"$f":"'T2-B(PP1)'!$H$223","v":0},"#'T2-B(PP1)'!$H$223"]
["pp1_bl5_1_2_total",{"$f":"'T2-B(PP1)'!$J$223","v":0},"#'T2-B(PP1)'!$J$223"]
["pp1_bl5_1_2_total_in",{"$f":"'T2-B(PP1)'!$F$223","v":0},"#'T2-B(PP1)'!$F$223"]
["pp1_bl5_1_2_total_out",{"$f":"'T2-B(PP1)'!$I$223","v":0},"#'T2-B(PP1)'!$I$223"]
["pp1_bl5_1_2_unit",{"$f":"'T2-B(PP1)'!$C$223","v":0},"#'T2-B(PP1)'!$C$223"]
["pp1_bl5_1_2_unit_in",{"$f":"'T2-B(PP1)'!$D$223","v":0},"#'T2-B(PP1)'!$D$223"]
["pp1_bl5_1_2_units_out",{"$f":"'T2-B(PP1)'!$G$223","v":0},"#'T2-B(PP1)'!$G$223"]
["pp1_bl5_1_3_name",{"$f":"'T2-B(PP1)'!$B$224","v":0},"#'T2-B(PP1)'!$B$224"]
["pp1_bl5_1_3_rate_in",{"$f":"'T2-B(PP1)'!$E$224","v":0},"#'T2-B(PP1)'!$E$224"]
["pp1_bl5_1_3_rate_out",{"$f":"'T2-B(PP1)'!$H$224","v":0},"#'T2-B(PP1)'!$H$224"]
["pp1_bl5_1_3_total",{"$f":"'T2-B(PP1)'!$J$224","v":0},"#'T2-B(PP1)'!$J$224"]
["pp1_bl5_1_3_total_in",{"$f":"'T2-B(PP1)'!$F$224","v":0},"#'T2-B(PP1)'!$F$224"]
["pp1_bl5_1_3_total_out",{"$f":"'T2-B(PP1)'!$I$224","v":0},"#'T2-B(PP1)'!$I$224"]
["pp1_bl5_1_3_unit",{"$f":"'T2-B(PP1)'!$C$224","v":0},"#'T2-B(PP1)'!$C$224"]
["pp1_bl5_1_3_unit_in",{"$f":"'T2-B(PP1)'!$D$224","v":0},"#'T2-B(PP1)'!$D$224"]
["pp1_bl5_1_3_units_out",{"$f":"'T2-B(PP1)'!$G$224","v":0},"#'T2-B(PP1)'!$G$224"]
["pp1_bl5_1_4_name",{"$f":"'T2-B(PP1)'!$B$225","v":0},"#'T2-B(PP1)'!$B$225"]
["pp1_bl5_1_4_rate_in",{"$f":"'T2-B(PP1)'!$E$225","v":0},"#'T2-B(PP1)'!$E$225"]
["pp1_bl5_1_4_rate_out",{"$f":"'T2-B(PP1)'!$H$225","v":0},"#'T2-B(PP1)'!$H$225"]
["pp1_bl5_1_4_total",{"$f":"'T2-B(PP1)'!$J$225","v":0},"#'T2-B(PP1)'!$J$225"]
["pp1_bl5_1_4_total_in",{"$f":"'T2-B(PP1)'!$F$225","v":0},"#'T2-B(PP1)'!$F$225"]
["pp1_bl5_1_4_total_out",{"$f":"'T2-B(PP1)'!$I$225","v":0},"#'T2-B(PP1)'!$I$225"]
["pp1_bl5_1_4_unit",{"$f":"'T2-B(PP1)'!$C$225","v":0},"#'T2-B(PP1)'!$C$225"]
["pp1_bl5_1_4_unit_in",{"$f":"'T2-B(PP1)'!$D$225","v":0},"#'T2-B(PP1)'!$D$225"]
["pp1_bl5_1_4_units_out",{"$f":"'T2-B(PP1)'!$G$225","v":0},"#'T2-B(PP1)'!$G$225"]
["pp1_bl5_1_5_name",{"$f":"'T2-B(PP1)'!$B$226","v":0},"#'T2-B(PP1)'!$B$226"]
["pp1_bl5_1_5_rate_in",{"$f":"'T2-B(PP1)'!$E$226","v":0},"#'T2-B(PP1)'!$E$226"]
["pp1_bl5_1_5_rate_out",{"$f":"'T2-B(PP1)'!$H$226","v":0},"#'T2-B(PP1)'!$H$226"]
["pp1_bl5_1_5_total",{"$f":"'T2-B(PP1)'!$J$226","v":0},"#'T2-B(PP1)'!$J$226"]
["pp1_bl5_1_5_total_in",{"$f":"'T2-B(PP1)'!$F$226","v":0},"#'T2-B(PP1)'!$F$226"]
["pp1_bl5_1_5_total_out",{"$f":"'T2-B(PP1)'!$I$226","v":0},"#'T2-B(PP1)'!$I$226"]
["pp1_bl5_1_5_unit",{"$f":"'T2-B(PP1)'!$C$226","v":0},"#'T2-B(PP1)'!$C$226"]
["pp1_bl5_1_5_unit_in",{"$f":"'T2-B(PP1)'!$D$226","v":0},"#'T2-B(PP1)'!$D$226"]
["pp1_bl5_1_5_units_out",{"$f":"'T2-B(PP1)'!$G$226","v":0},"#'T2-B(PP1)'!$G$226"]
["pp1_bl5_1_6_name",{"$f":"'T2-B(PP1)'!$B$227","v":0},"#'T2-B(PP1)'!$B$227"]
["pp1_bl5_1_6_rate_in",{"$f":"'T2-B(PP1)'!$E$227","v":0},"#'T2-B(PP1)'!$E$227"]
["pp1_bl5_1_6_rate_out",{"$f":"'T2-B(PP1)'!$H$227","v":0},"#'T2-B(PP1)'!$H$227"]
["pp1_bl5_1_6_total",{"$f":"'T2-B(PP1)'!$J$227","v":0},"#'T2-B(PP1)'!$J$227"]
["pp1_bl5_1_6_total_in",{"$f":"'T2-B(PP1)'!$F$227","v":0},"#'T2-B(PP1)'!$F$227"]
["pp1_bl5_1_6_total_out",{"$f":"'T2-B(PP1)'!$I$227","v":0},"#'T2-B(PP1)'!$I$227"]
["pp1_bl5_1_6_unit",{"$f":"'T2-B(PP1)'!$C$227","v":0},"#'T2-B(PP1)'!$C$227"]
["pp1_bl5_1_6_unit_in",{"$f":"'T2-B(PP1)'!$D$227","v":0},"#'T2-B(PP1)'!$D$227"]
["pp1_bl5_1_6_units_out",{"$f":"'T2-B(PP1)'!$G$227","v":0},"#'T2-B(PP1)'!$G$227"]
["pp1_bl5_1_7_name",{"$f":"'T2-B(PP1)'!$B$228","v":0},"#'T2-B(PP1)'!$B$228"]
["pp1_bl5_1_7_rate_in",{"$f":"'T2-B(PP1)'!$E$228","v":0},"#'T2-B(PP1)'!$E$228"]
["pp1_bl5_1_7_rate_out",{"$f":"'T2-B(PP1)'!$H$228","v":0},"#'T2-B(PP1)'!$H$228"]
["pp1_bl5_1_7_total",{"$f":"'T2-B(PP1)'!$J$228","v":0},"#'T2-B(PP1)'!$J$228"]
["pp1_bl5_1_7_total_in",{"$f":"'T2-B(PP1)'!$F$228","v":0},"#'T2-B(PP1)'!$F$228"]
["pp1_bl5_1_7_total_out",{"$f":"'T2-B(PP1)'!$I$228","v":0},"#'T2-B(PP1)'!$I$228"]
["pp1_bl5_1_7_unit",{"$f":"'T2-B(PP1)'!$C$228","v":0},"#'T2-B(PP1)'!$C$228"]
["pp1_bl5_1_7_unit_in",{"$f":"'T2-B(PP1)'!$D$228","v":0},"#'T2-B(PP1)'!$D$228"]
["pp1_bl5_1_7_units_out",{"$f":"'T2-B(PP1)'!$G$228","v":0},"#'T2-B(PP1)'!$G$228"]
["pp1_bl5_1_8_name",{"$f":"'T2-B(PP1)'!$B$229","v":0},"#'T2-B(PP1)'!$B$229"]
["pp1_bl5_1_8_rate_in",{"$f":"'T2-B(PP1)'!$E$229","v":0},"#'T2-B(PP1)'!$E$229"]
["pp1_bl5_1_8_rate_out",{"$f":"'T2-B(PP1)'!$H$229","v":0},"#'T2-B(PP1)'!$H$229"]
["pp1_bl5_1_8_total",{"$f":"'T2-B(PP1)'!$J$229","v":0},"#'T2-B(PP1)'!$J$229"]
["pp1_bl5_1_8_total_in",{"$f":"'T2-B(PP1)'!$F$229","v":0},"#'T2-B(PP1)'!$F$229"]
["pp1_bl5_1_8_total_out",{"$f":"'T2-B(PP1)'!$I$229","v":0},"#'T2-B(PP1)'!$I$229"]
["pp1_bl5_1_8_unit",{"$f":"'T2-B(PP1)'!$C$229","v":0},"#'T2-B(PP1)'!$C$229"]
["pp1_bl5_1_8_unit_in",{"$f":"'T2-B(PP1)'!$D$229","v":0},"#'T2-B(PP1)'!$D$229"]
["pp1_bl5_1_8_units_out",{"$f":"'T2-B(PP1)'!$G$229","v":0},"#'T2-B(PP1)'!$G$229"]
["pp1_bl5_1_9_name",{"$f":"'T2-B(PP1)'!$B$230","v":0},"#'T2-B(PP1)'!$B$230"]
["pp1_bl5_1_9_rate_in",{"$f":"'T2-B(PP1)'!$E$230","v":0},"#'T2-B(PP1)'!$E$230"]
["pp1_bl5_1_9_rate_out",{"$f":"'T2-B(PP1)'!$H$230","v":0},"#'T2-B(PP1)'!$H$230"]
["pp1_bl5_1_9_total",{"$f":"'T2-B(PP1)'!$J$230","v":0},"#'T2-B(PP1)'!$J$230"]
["pp1_bl5_1_9_total_in",{"$f":"'T2-B(PP1)'!$F$230","v":0},"#'T2-B(PP1)'!$F$230"]
["pp1_bl5_1_9_total_out",{"$f":"'T2-B(PP1)'!$I$230","v":0},"#'T2-B(PP1)'!$I$230"]
["pp1_bl5_1_9_unit",{"$f":"'T2-B(PP1)'!$C$230","v":0},"#'T2-B(PP1)'!$C$230"]
["pp1_bl5_1_9_unit_in",{"$f":"'T2-B(PP1)'!$D$230","v":0},"#'T2-B(PP1)'!$D$230"]
["pp1_bl5_1_9_units_out",{"$f":"'T2-B(PP1)'!$G$230","v":0},"#'T2-B(PP1)'!$G$230"]
["pp1_bl5_1_total",{"$f":"'T2-B(PP1)'!$J$221","v":0},"#'T2-B(PP1)'!$J$221"]
["pp1_bl5_1_total_in",{"$f":"'T2-B(PP1)'!$F$221","v":0},"#'T2-B(PP1)'!$F$221"]
["pp1_bl5_1_total_out",{"$f":"'T2-B(PP1)'!$I$221","v":0},"#'T2-B(PP1)'!$I$221"]
["pp1_bl5_2_1_name",{"$f":"'T2-B(PP1)'!$B$233","v":0},"#'T2-B(PP1)'!$B$233"]
["pp1_bl5_2_1_rate_in",{"$f":"'T2-B(PP1)'!$E$233","v":0},"#'T2-B(PP1)'!$E$233"]
["pp1_bl5_2_1_rate_out",{"$f":"'T2-B(PP1)'!$H$233","v":0},"#'T2-B(PP1)'!$H$233"]
["pp1_bl5_2_1_total",{"$f":"'T2-B(PP1)'!$J$233","v":0},"#'T2-B(PP1)'!$J$233"]
["pp1_bl5_2_1_total_in",{"$f":"'T2-B(PP1)'!$F$233","v":0},"#'T2-B(PP1)'!$F$233"]
["pp1_bl5_2_1_total_out",{"$f":"'T2-B(PP1)'!$I$233","v":0},"#'T2-B(PP1)'!$I$233"]
["pp1_bl5_2_1_unit",{"$f":"'T2-B(PP1)'!$C$233","v":0},"#'T2-B(PP1)'!$C$233"]
["pp1_bl5_2_1_unit_in",{"$f":"'T2-B(PP1)'!$D$233","v":0},"#'T2-B(PP1)'!$D$233"]
["pp1_bl5_2_1_units_out",{"$f":"'T2-B(PP1)'!$G$233","v":0},"#'T2-B(PP1)'!$G$233"]
["pp1_bl5_2_10_name",{"$f":"'T2-B(PP1)'!$B$242","v":0},"#'T2-B(PP1)'!$B$242"]
["pp1_bl5_2_10_rate_in",{"$f":"'T2-B(PP1)'!$E$242","v":0},"#'T2-B(PP1)'!$E$242"]
["pp1_bl5_2_10_rate_out",{"$f":"'T2-B(PP1)'!$H$242","v":0},"#'T2-B(PP1)'!$H$242"]
["pp1_bl5_2_10_total",{"$f":"'T2-B(PP1)'!$J$242","v":0},"#'T2-B(PP1)'!$J$242"]
["pp1_bl5_2_10_total_in",{"$f":"'T2-B(PP1)'!$F$242","v":0},"#'T2-B(PP1)'!$F$242"]
["pp1_bl5_2_10_total_out",{"$f":"'T2-B(PP1)'!$I$242","v":0},"#'T2-B(PP1)'!$I$242"]
["pp1_bl5_2_10_unit",{"$f":"'T2-B(PP1)'!$C$242","v":0},"#'T2-B(PP1)'!$C$242"]
["pp1_bl5_2_10_unit_in",{"$f":"'T2-B(PP1)'!$D$242","v":0},"#'T2-B(PP1)'!$D$242"]
["pp1_bl5_2_10_units_out",{"$f":"'T2-B(PP1)'!$G$242","v":0},"#'T2-B(PP1)'!$G$242"]
["pp1_bl5_2_2_name",{"$f":"'T2-B(PP1)'!$B$234","v":0},"#'T2-B(PP1)'!$B$234"]
["pp1_bl5_2_2_rate_in",{"$f":"'T2-B(PP1)'!$E$234","v":0},"#'T2-B(PP1)'!$E$234"]
["pp1_bl5_2_2_rate_out",{"$f":"'T2-B(PP1)'!$H$234","v":0},"#'T2-B(PP1)'!$H$234"]
["pp1_bl5_2_2_total",{"$f":"'T2-B(PP1)'!$J$234","v":0},"#'T2-B(PP1)'!$J$234"]
["pp1_bl5_2_2_total_in",{"$f":"'T2-B(PP1)'!$F$234","v":0},"#'T2-B(PP1)'!$F$234"]
["pp1_bl5_2_2_total_out",{"$f":"'T2-B(PP1)'!$I$234","v":0},"#'T2-B(PP1)'!$I$234"]
["pp1_bl5_2_2_unit",{"$f":"'T2-B(PP1)'!$C$234","v":0},"#'T2-B(PP1)'!$C$234"]
["pp1_bl5_2_2_unit_in",{"$f":"'T2-B(PP1)'!$D$234","v":0},"#'T2-B(PP1)'!$D$234"]
["pp1_bl5_2_2_units_out",{"$f":"'T2-B(PP1)'!$G$234","v":0},"#'T2-B(PP1)'!$G$234"]
["pp1_bl5_2_3_name",{"$f":"'T2-B(PP1)'!$B$235","v":0},"#'T2-B(PP1)'!$B$235"]
["pp1_bl5_2_3_rate_in",{"$f":"'T2-B(PP1)'!$E$235","v":0},"#'T2-B(PP1)'!$E$235"]
["pp1_bl5_2_3_rate_out",{"$f":"'T2-B(PP1)'!$H$235","v":0},"#'T2-B(PP1)'!$H$235"]
["pp1_bl5_2_3_total",{"$f":"'T2-B(PP1)'!$J$235","v":0},"#'T2-B(PP1)'!$J$235"]
["pp1_bl5_2_3_total_in",{"$f":"'T2-B(PP1)'!$F$235","v":0},"#'T2-B(PP1)'!$F$235"]
["pp1_bl5_2_3_total_out",{"$f":"'T2-B(PP1)'!$I$235","v":0},"#'T2-B(PP1)'!$I$235"]
["pp1_bl5_2_3_unit",{"$f":"'T2-B(PP1)'!$C$235","v":0},"#'T2-B(PP1)'!$C$235"]
["pp1_bl5_2_3_unit_in",{"$f":"'T2-B(PP1)'!$D$235","v":0},"#'T2-B(PP1)'!$D$235"]
["pp1_bl5_2_3_units_out",{"$f":"'T2-B(PP1)'!$G$235","v":0},"#'T2-B(PP1)'!$G$235"]
["pp1_bl5_2_4_name",{"$f":"'T2-B(PP1)'!$B$236","v":0},"#'T2-B(PP1)'!$B$236"]
["pp1_bl5_2_4_rate_in",{"$f":"'T2-B(PP1)'!$E$236","v":0},"#'T2-B(PP1)'!$E$236"]
["pp1_bl5_2_4_rate_out",{"$f":"'T2-B(PP1)'!$H$236","v":0},"#'T2-B(PP1)'!$H$236"]
["pp1_bl5_2_4_total",{"$f":"'T2-B(PP1)'!$J$236","v":0},"#'T2-B(PP1)'!$J$236"]
["pp1_bl5_2_4_total_in",{"$f":"'T2-B(PP1)'!$F$236","v":0},"#'T2-B(PP1)'!$F$236"]
["pp1_bl5_2_4_total_out",{"$f":"'T2-B(PP1)'!$I$236","v":0},"#'T2-B(PP1)'!$I$236"]
["pp1_bl5_2_4_unit",{"$f":"'T2-B(PP1)'!$C$236","v":0},"#'T2-B(PP1)'!$C$236"]
["pp1_bl5_2_4_unit_in",{"$f":"'T2-B(PP1)'!$D$236","v":0},"#'T2-B(PP1)'!$D$236"]
["pp1_bl5_2_4_units_out",{"$f":"'T2-B(PP1)'!$G$236","v":0},"#'T2-B(PP1)'!$G$236"]
["pp1_bl5_2_5_name",{"$f":"'T2-B(PP1)'!$B$237","v":0},"#'T2-B(PP1)'!$B$237"]
["pp1_bl5_2_5_rate_in",{"$f":"'T2-B(PP1)'!$E$237","v":0},"#'T2-B(PP1)'!$E$237"]
["pp1_bl5_2_5_rate_out",{"$f":"'T2-B(PP1)'!$H$237","v":0},"#'T2-B(PP1)'!$H$237"]
["pp1_bl5_2_5_total",{"$f":"'T2-B(PP1)'!$J$237","v":0},"#'T2-B(PP1)'!$J$237"]
["pp1_bl5_2_5_total_in",{"$f":"'T2-B(PP1)'!$F$237","v":0},"#'T2-B(PP1)'!$F$237"]
["pp1_bl5_2_5_total_out",{"$f":"'T2-B(PP1)'!$I$237","v":0},"#'T2-B(PP1)'!$I$237"]
["pp1_bl5_2_5_unit",{"$f":"'T2-B(PP1)'!$C$237","v":0},"#'T2-B(PP1)'!$C$237"]
["pp1_bl5_2_5_unit_in",{"$f":"'T2-B(PP1)'!$D$237","v":0},"#'T2-B(PP1)'!$D$237"]
["pp1_bl5_2_5_units_out",{"$f":"'T2-B(PP1)'!$G$237","v":0},"#'T2-B(PP1)'!$G$237"]
["pp1_bl5_2_6_name",{"$f":"'T2-B(PP1)'!$B$238","v":0},"#'T2-B(PP1)'!$B$238"]
["pp1_bl5_2_6_rate_in",{"$f":"'T2-B(PP1)'!$E$238","v":0},"#'T2-B(PP1)'!$E$238"]
["pp1_bl5_2_6_rate_out",{"$f":"'T2-B(PP1)'!$H$238","v":0},"#'T2-B(PP1)'!$H$238"]
["pp1_bl5_2_6_total",{"$f":"'T2-B(PP1)'!$J$238","v":0},"#'T2-B(PP1)'!$J$238"]
["pp1_bl5_2_6_total_in",{"$f":"'T2-B(PP1)'!$F$238","v":0},"#'T2-B(PP1)'!$F$238"]
["pp1_bl5_2_6_total_out",{"$f":"'T2-B(PP1)'!$I$238","v":0},"#'T2-B(PP1)'!$I$238"]
["pp1_bl5_2_6_unit",{"$f":"'T2-B(PP1)'!$C$238","v":0},"#'T2-B(PP1)'!$C$238"]
["pp1_bl5_2_6_unit_in",{"$f":"'T2-B(PP1)'!$D$238","v":0},"#'T2-B(PP1)'!$D$238"]
["pp1_bl5_2_6_units_out",{"$f":"'T2-B(PP1)'!$G$238","v":0},"#'T2-B(PP1)'!$G$238"]
["pp1_bl5_2_7_name",{"$f":"'T2-B(PP1)'!$B$239","v":0},"#'T2-B(PP1)'!$B$239"]
["pp1_bl5_2_7_rate_in",{"$f":"'T2-B(PP1)'!$E$239","v":0},"#'T2-B(PP1)'!$E$239"]
["pp1_bl5_2_7_rate_out",{"$f":"'T2-B(PP1)'!$H$239","v":0},"#'T2-B(PP1)'!$H$239"]
["pp1_bl5_2_7_total",{"$f":"'T2-B(PP1)'!$J$239","v":0},"#'T2-B(PP1)'!$J$239"]
["pp1_bl5_2_7_total_in",{"$f":"'T2-B(PP1)'!$F$239","v":0},"#'T2-B(PP1)'!$F$239"]
["pp1_bl5_2_7_total_out",{"$f":"'T2-B(PP1)'!$I$239","v":0},"#'T2-B(PP1)'!$I$239"]
["pp1_bl5_2_7_unit",{"$f":"'T2-B(PP1)'!$C$239","v":0},"#'T2-B(PP1)'!$C$239"]
["pp1_bl5_2_7_unit_in",{"$f":"'T2-B(PP1)'!$D$239","v":0},"#'T2-B(PP1)'!$D$239"]
["pp1_bl5_2_7_units_out",{"$f":"'T2-B(PP1)'!$G$239","v":0},"#'T2-B(PP1)'!$G$239"]
["pp1_bl5_2_8_name",{"$f":"'T2-B(PP1)'!$B$240","v":0},"#'T2-B(PP1)'!$B$240"]
["pp1_bl5_2_8_rate_in",{"$f":"'T2-B(PP1)'!$E$240","v":0},"#'T2-B(PP1)'!$E$240"]
["pp1_bl5_2_8_rate_out",{"$f":"'T2-B(PP1)'!$H$240","v":0},"#'T2-B(PP1)'!$H$240"]
["pp1_bl5_2_8_total",{"$f":"'T2-B(PP1)'!$J$240","v":0},"#'T2-B(PP1)'!$J$240"]
["pp1_bl5_2_8_total_in",{"$f":"'T2-B(PP1)'!$F$240","v":0},"#'T2-B(PP1)'!$F$240"]
["pp1_bl5_2_8_total_out",{"$f":"'T2-B(PP1)'!$I$240","v":0},"#'T2-B(PP1)'!$I$240"]
["pp1_bl5_2_8_unit",{"$f":"'T2-B(PP1)'!$C$240","v":0},"#'T2-B(PP1)'!$C$240"]
["pp1_bl5_2_8_unit_in",{"$f":"'T2-B(PP1)'!$D$240","v":0},"#'T2-B(PP1)'!$D$240"]
["pp1_bl5_2_8_units_out",{"$f":"'T2-B(PP1)'!$G$240","v":0},"#'T2-B(PP1)'!$G$240"]
["pp1_bl5_2_9_name",{"$f":"'T2-B(PP1)'!$B$241","v":0},"#'T2-B(PP1)'!$B$241"]
["pp1_bl5_2_9_rate_in",{"$f":"'T2-B(PP1)'!$E$241","v":0},"#'T2-B(PP1)'!$E$241"]
["pp1_bl5_2_9_rate_out",{"$f":"'T2-B(PP1)'!$H$241","v":0},"#'T2-B(PP1)'!$H$241"]
["pp1_bl5_2_9_total",{"$f":"'T2-B(PP1)'!$J$241","v":0},"#'T2-B(PP1)'!$J$241"]
["pp1_bl5_2_9_total_in",{"$f":"'T2-B(PP1)'!$F$241","v":0},"#'T2-B(PP1)'!$F$241"]
["pp1_bl5_2_9_total_out",{"$f":"'T2-B(PP1)'!$I$241","v":0},"#'T2-B(PP1)'!$I$241"]
["pp1_bl5_2_9_unit",{"$f":"'T2-B(PP1)'!$C$241","v":0},"#'T2-B(PP1)'!$C$241"]
["pp1_bl5_2_9_unit_in",{"$f":"'T2-B(PP1)'!$D$241","v":0},"#'T2-B(PP1)'!$D$241"]
["pp1_bl5_2_9_units_out",{"$f":"'T2-B(PP1)'!$G$241","v":0},"#'T2-B(PP1)'!$G$241"]
["pp1_bl5_2_total",{"$f":"'T2-B(PP1)'!$J$232","v":0},"#'T2-B(PP1)'!$J$232"]
["pp1_bl5_2_total_in",{"$f":"'T2-B(PP1)'!$F$232","v":0},"#'T2-B(PP1)'!$F$232"]
["pp1_bl5_2_total_out",{"$f":"'T2-B(PP1)'!$I$232","v":0},"#'T2-B(PP1)'!$I$232"]
["pp1_bl5_total",{"$f":"'T2-B(PP1)'!$J$243","v":0},"#'T2-B(PP1)'!$J$243"]
["pp1_bl5_total_in",{"$f":"'T2-B(PP1)'!$F$243","v":0},"#'T2-B(PP1)'!$F$243"]
["pp1_bl5_total_out",{"$f":"'T2-B(PP1)'!$I$243","v":0},"#'T2-B(PP1)'!$I$243"]
["pp1_bl6_1_1_name",{"$f":"'T2-B(PP1)'!$B$247","v":0},"#'T2-B(PP1)'!$B$247"]
["pp1_bl6_1_1_rate_in",{"$f":"'T2-B(PP1)'!$E$247","v":0},"#'T2-B(PP1)'!$E$247"]
["pp1_bl6_1_1_rate_out",{"$f":"'T2-B(PP1)'!$H$247","v":0},"#'T2-B(PP1)'!$H$247"]
["pp1_bl6_1_1_total",{"$f":"'T2-B(PP1)'!$J$247","v":0},"#'T2-B(PP1)'!$J$247"]
["pp1_bl6_1_1_total_in",{"$f":"'T2-B(PP1)'!$F$247","v":0},"#'T2-B(PP1)'!$F$247"]
["pp1_bl6_1_1_total_out",{"$f":"'T2-B(PP1)'!$I$247","v":0},"#'T2-B(PP1)'!$I$247"]
["pp1_bl6_1_1_unit",{"$f":"'T2-B(PP1)'!$C$247","v":0},"#'T2-B(PP1)'!$C$247"]
["pp1_bl6_1_1_unit_in",{"$f":"'T2-B(PP1)'!$D$247","v":0},"#'T2-B(PP1)'!$D$247"]
["pp1_bl6_1_1_units_out",{"$f":"'T2-B(PP1)'!$G$247","v":0},"#'T2-B(PP1)'!$G$247"]
["pp1_bl6_1_10_name",{"$f":"'T2-B(PP1)'!$B$256","v":0},"#'T2-B(PP1)'!$B$256"]
["pp1_bl6_1_10_rate_in",{"$f":"'T2-B(PP1)'!$E$256","v":0},"#'T2-B(PP1)'!$E$256"]
["pp1_bl6_1_10_rate_out",{"$f":"'T2-B(PP1)'!$H$256","v":0},"#'T2-B(PP1)'!$H$256"]
["pp1_bl6_1_10_total",{"$f":"'T2-B(PP1)'!$J$256","v":0},"#'T2-B(PP1)'!$J$256"]
["pp1_bl6_1_10_total_in",{"$f":"'T2-B(PP1)'!$F$256","v":0},"#'T2-B(PP1)'!$F$256"]
["pp1_bl6_1_10_total_out",{"$f":"'T2-B(PP1)'!$I$256","v":0},"#'T2-B(PP1)'!$I$256"]
["pp1_bl6_1_10_unit",{"$f":"'T2-B(PP1)'!$C$256","v":0},"#'T2-B(PP1)'!$C$256"]
["pp1_bl6_1_10_unit_in",{"$f":"'T2-B(PP1)'!$D$256","v":0},"#'T2-B(PP1)'!$D$256"]
["pp1_bl6_1_10_units_out",{"$f":"'T2-B(PP1)'!$G$256","v":0},"#'T2-B(PP1)'!$G$256"]
["pp1_bl6_1_2_name",{"$f":"'T2-B(PP1)'!$B$248","v":0},"#'T2-B(PP1)'!$B$248"]
["pp1_bl6_1_2_rate_in",{"$f":"'T2-B(PP1)'!$E$248","v":0},"#'T2-B(PP1)'!$E$248"]
["pp1_bl6_1_2_rate_out",{"$f":"'T2-B(PP1)'!$H$248","v":0},"#'T2-B(PP1)'!$H$248"]
["pp1_bl6_1_2_total",{"$f":"'T2-B(PP1)'!$J$248","v":0},"#'T2-B(PP1)'!$J$248"]
["pp1_bl6_1_2_total_in",{"$f":"'T2-B(PP1)'!$F$248","v":0},"#'T2-B(PP1)'!$F$248"]
["pp1_bl6_1_2_total_out",{"$f":"'T2-B(PP1)'!$I$248","v":0},"#'T2-B(PP1)'!$I$248"]
["pp1_bl6_1_2_unit",{"$f":"'T2-B(PP1)'!$C$248","v":0},"#'T2-B(PP1)'!$C$248"]
["pp1_bl6_1_2_unit_in",{"$f":"'T2-B(PP1)'!$D$248","v":0},"#'T2-B(PP1)'!$D$248"]
["pp1_bl6_1_2_units_out",{"$f":"'T2-B(PP1)'!$G$248","v":0},"#'T2-B(PP1)'!$G$248"]
["pp1_bl6_1_3_name",{"$f":"'T2-B(PP1)'!$B$249","v":0},"#'T2-B(PP1)'!$B$249"]
["pp1_bl6_1_3_rate_in",{"$f":"'T2-B(PP1)'!$E$249","v":0},"#'T2-B(PP1)'!$E$249"]
["pp1_bl6_1_3_rate_out",{"$f":"'T2-B(PP1)'!$H$249","v":0},"#'T2-B(PP1)'!$H$249"]
["pp1_bl6_1_3_total",{"$f":"'T2-B(PP1)'!$J$249","v":0},"#'T2-B(PP1)'!$J$249"]
["pp1_bl6_1_3_total_in",{"$f":"'T2-B(PP1)'!$F$249","v":0},"#'T2-B(PP1)'!$F$249"]
["pp1_bl6_1_3_total_out",{"$f":"'T2-B(PP1)'!$I$249","v":0},"#'T2-B(PP1)'!$I$249"]
["pp1_bl6_1_3_unit",{"$f":"'T2-B(PP1)'!$C$249","v":0},"#'T2-B(PP1)'!$C$249"]
["pp1_bl6_1_3_unit_in",{"$f":"'T2-B(PP1)'!$D$249","v":0},"#'T2-B(PP1)'!$D$249"]
["pp1_bl6_1_3_units_out",{"$f":"'T2-B(PP1)'!$G$249","v":0},"#'T2-B(PP1)'!$G$249"]
["pp1_bl6_1_4_name",{"$f":"'T2-B(PP1)'!$B$250","v":0},"#'T2-B(PP1)'!$B$250"]
["pp1_bl6_1_4_rate_in",{"$f":"'T2-B(PP1)'!$E$250","v":0},"#'T2-B(PP1)'!$E$250"]
["pp1_bl6_1_4_rate_out",{"$f":"'T2-B(PP1)'!$H$250","v":0},"#'T2-B(PP1)'!$H$250"]
["pp1_bl6_1_4_total",{"$f":"'T2-B(PP1)'!$J$250","v":0},"#'T2-B(PP1)'!$J$250"]
["pp1_bl6_1_4_total_in",{"$f":"'T2-B(PP1)'!$F$250","v":0},"#'T2-B(PP1)'!$F$250"]
["pp1_bl6_1_4_total_out",{"$f":"'T2-B(PP1)'!$I$250","v":0},"#'T2-B(PP1)'!$I$250"]
["pp1_bl6_1_4_unit",{"$f":"'T2-B(PP1)'!$C$250","v":0},"#'T2-B(PP1)'!$C$250"]
["pp1_bl6_1_4_unit_in",{"$f":"'T2-B(PP1)'!$D$250","v":0},"#'T2-B(PP1)'!$D$250"]
["pp1_bl6_1_4_units_out",{"$f":"'T2-B(PP1)'!$G$250","v":0},"#'T2-B(PP1)'!$G$250"]
["pp1_bl6_1_5_name",{"$f":"'T2-B(PP1)'!$B$251","v":0},"#'T2-B(PP1)'!$B$251"]
["pp1_bl6_1_5_rate_in",{"$f":"'T2-B(PP1)'!$E$251","v":0},"#'T2-B(PP1)'!$E$251"]
["pp1_bl6_1_5_rate_out",{"$f":"'T2-B(PP1)'!$H$251","v":0},"#'T2-B(PP1)'!$H$251"]
["pp1_bl6_1_5_total",{"$f":"'T2-B(PP1)'!$J$251","v":0},"#'T2-B(PP1)'!$J$251"]
["pp1_bl6_1_5_total_in",{"$f":"'T2-B(PP1)'!$F$251","v":0},"#'T2-B(PP1)'!$F$251"]
["pp1_bl6_1_5_total_out",{"$f":"'T2-B(PP1)'!$I$251","v":0},"#'T2-B(PP1)'!$I$251"]
["pp1_bl6_1_5_unit",{"$f":"'T2-B(PP1)'!$C$251","v":0},"#'T2-B(PP1)'!$C$251"]
["pp1_bl6_1_5_unit_in",{"$f":"'T2-B(PP1)'!$D$251","v":0},"#'T2-B(PP1)'!$D$251"]
["pp1_bl6_1_5_units_out",{"$f":"'T2-B(PP1)'!$G$251","v":0},"#'T2-B(PP1)'!$G$251"]
["pp1_bl6_1_6_name",{"$f":"'T2-B(PP1)'!$B$252","v":0},"#'T2-B(PP1)'!$B$252"]
["pp1_bl6_1_6_rate_in",{"$f":"'T2-B(PP1)'!$E$252","v":0},"#'T2-B(PP1)'!$E$252"]
["pp1_bl6_1_6_rate_out",{"$f":"'T2-B(PP1)'!$H$252","v":0},"#'T2-B(PP1)'!$H$252"]
["pp1_bl6_1_6_total",{"$f":"'T2-B(PP1)'!$J$252","v":0},"#'T2-B(PP1)'!$J$252"]
["pp1_bl6_1_6_total_in",{"$f":"'T2-B(PP1)'!$F$252","v":0},"#'T2-B(PP1)'!$F$252"]
["pp1_bl6_1_6_total_out",{"$f":"'T2-B(PP1)'!$I$252","v":0},"#'T2-B(PP1)'!$I$252"]
["pp1_bl6_1_6_unit",{"$f":"'T2-B(PP1)'!$C$252","v":0},"#'T2-B(PP1)'!$C$252"]
["pp1_bl6_1_6_unit_in",{"$f":"'T2-B(PP1)'!$D$252","v":0},"#'T2-B(PP1)'!$D$252"]
["pp1_bl6_1_6_units_out",{"$f":"'T2-B(PP1)'!$G$252","v":0},"#'T2-B(PP1)'!$G$252"]
["pp1_bl6_1_7_name",{"$f":"'T2-B(PP1)'!$B$253","v":0},"#'T2-B(PP1)'!$B$253"]
["pp1_bl6_1_7_rate_in",{"$f":"'T2-B(PP1)'!$E$253","v":0},"#'T2-B(PP1)'!$E$253"]
["pp1_bl6_1_7_rate_out",{"$f":"'T2-B(PP1)'!$H$253","v":0},"#'T2-B(PP1)'!$H$253"]
["pp1_bl6_1_7_total",{"$f":"'T2-B(PP1)'!$J$253","v":0},"#'T2-B(PP1)'!$J$253"]
["pp1_bl6_1_7_total_in",{"$f":"'T2-B(PP1)'!$F$253","v":0},"#'T2-B(PP1)'!$F$253"]
["pp1_bl6_1_7_total_out",{"$f":"'T2-B(PP1)'!$I$253","v":0},"#'T2-B(PP1)'!$I$253"]
["pp1_bl6_1_7_unit",{"$f":"'T2-B(PP1)'!$C$253","v":0},"#'T2-B(PP1)'!$C$253"]
["pp1_bl6_1_7_unit_in",{"$f":"'T2-B(PP1)'!$D$253","v":0},"#'T2-B(PP1)'!$D$253"]
["pp1_bl6_1_7_units_out",{"$f":"'T2-B(PP1)'!$G$253","v":0},"#'T2-B(PP1)'!$G$253"]
["pp1_bl6_1_8_name",{"$f":"'T2-B(PP1)'!$B$254","v":0},"#'T2-B(PP1)'!$B$254"]
["pp1_bl6_1_8_rate_in",{"$f":"'T2-B(PP1)'!$E$254","v":0},"#'T2-B(PP1)'!$E$254"]
["pp1_bl6_1_8_rate_out",{"$f":"'T2-B(PP1)'!$H$254","v":0},"#'T2-B(PP1)'!$H$254"]
["pp1_bl6_1_8_total",{"$f":"'T2-B(PP1)'!$J$254","v":0},"#'T2-B(PP1)'!$J$254"]
["pp1_bl6_1_8_total_in",{"$f":"'T2-B(PP1)'!$F$254","v":0},"#'T2-B(PP1)'!$F$254"]
["pp1_bl6_1_8_total_out",{"$f":"'T2-B(PP1)'!$I$254","v":0},"#'T2-B(PP1)'!$I$254"]
["pp1_bl6_1_8_unit",{"$f":"'T2-B(PP1)'!$C$254","v":0},"#'T2-B(PP1)'!$C$254"]
["pp1_bl6_1_8_unit_in",{"$f":"'T2-B(PP1)'!$D$254","v":0},"#'T2-B(PP1)'!$D$254"]
["pp1_bl6_1_8_units_out",{"$f":"'T2-B(PP1)'!$G$254","v":0},"#'T2-B(PP1)'!$G$254"]
["pp1_bl6_1_9_name",{"$f":"'T2-B(PP1)'!$B$255","v":0},"#'T2-B(PP1)'!$B$255"]
["pp1_bl6_1_9_rate_in",{"$f":"'T2-B(PP1)'!$E$255","v":0},"#'T2-B(PP1)'!$E$255"]
["pp1_bl6_1_9_rate_out",{"$f":"'T2-B(PP1)'!$H$255","v":0},"#'T2-B(PP1)'!$H$255"]
["pp1_bl6_1_9_total",{"$f":"'T2-B(PP1)'!$J$255","v":0},"#'T2-B(PP1)'!$J$255"]
["pp1_bl6_1_9_total_in",{"$f":"'T2-B(PP1)'!$F$255","v":0},"#'T2-B(PP1)'!$F$255"]
["pp1_bl6_1_9_total_out",{"$f":"'T2-B(PP1)'!$I$255","v":0},"#'T2-B(PP1)'!$I$255"]
["pp1_bl6_1_9_unit",{"$f":"'T2-B(PP1)'!$C$255","v":0},"#'T2-B(PP1)'!$C$255"]
["pp1_bl6_1_9_unit_in",{"$f":"'T2-B(PP1)'!$D$255","v":0},"#'T2-B(PP1)'!$D$255"]
["pp1_bl6_1_9_units_out",{"$f":"'T2-B(PP1)'!$G$255","v":0},"#'T2-B(PP1)'!$G$255"]
["pp1_bl6_1_total",{"$f":"'T2-B(PP1)'!$J$246","v":0},"#'T2-B(PP1)'!$J$246"]
["pp1_bl6_1_total_in",{"$f":"'T2-B(PP1)'!$F$246","v":"TOTAL"},"#'T2-B(PP1)'!$F$246"]
["pp1_bl6_1_total_out",{"$f":"'T2-B(PP1)'!$I$246","v":"TOTAL"},"#'T2-B(PP1)'!$I$246"]
["pp1_bl6_total",{"$f":"'T2-B(PP1)'!$J$257","v":0},"#'T2-B(PP1)'!$J$257"]
["pp1_bl6_total_in",{"$f":"'T2-B(PP1)'!$F$257","v":0},"#'T2-B(PP1)'!$F$257"]
["pp1_bl6_total_out",{"$f":"'T2-B(PP1)'!$I$257","v":0},"#'T2-B(PP1)'!$I$257"]
["pp1_country",{"$f":"'PP1(LP)'!$K$14","v":1},"#'PP1(LP)'!$K$14"]
["pp1_fax",{"$f":"'PP1(LP)'!$C$29","v":0},"#'PP1(LP)'!$C$29"]
["pp1_is_bg",{"$f":"'PP1(LP)'!$D$13","v":0},"#'PP1(LP)'!$D$13"]
["pp1_is_pc",{"$f":"'PP1(LP)'!$F$13","v":0},"#'PP1(LP)'!$F$13"]
["pp1_legal_representative",{"$f":"Cover!$C$43","v":0},"#Cover!$C$43"]
["pp1_legal_representative_position",{"$f":"'PP1(LP)'!$C$25","v":0},"#'PP1(LP)'!$C$25"]
["pp1_mail",{"$f":"'PP1(LP)'!$C$31","v":0},"#'PP1(LP)'!$C$31"]
["pp1_nat_code",{"$f":"'PP1(LP)'!$C$70","v":0},"#'PP1(LP)'!$C$70"]
["pp1_nuts3",{"$f":"'PP1(LP)'!$C$15","v":0},"#'PP1(LP)'!$C$15"]
["pp1_organisation_en",{"$f":"Cover!$C$41","v":0},"#Cover!$C$41"]
["pp1_organisation_native",{"$f":"'PP1(LP)'!$C$9","v":0},"#'PP1(LP)'!$C$9"]
["pp1_pe_date1",{"$f":"'PP1(LP)'!$G$47","v":"00:00:00"},"#'PP1(LP)'!$G$47"]
["pp1_pe_date2",{"$f":"'PP1(LP)'!$G$55","v":0},"#'PP1(LP)'!$G$55"]
["pp1_pe_date3",{"$f":"'PP1(LP)'!$G$63","v":0},"#'PP1(LP)'!$G$63"]
["pp1_pe_ga1",{"$f":"'PP1(LP)'!$G$46","v":0},"#'PP1(LP)'!$G$46"]
["pp1_pe_ga2",{"$f":"'PP1(LP)'!$G$54","v":0},"#'PP1(LP)'!$G$54"]
["pp1_pe_ga3",{"$f":"'PP1(LP)'!$G$62","v":0},"#'PP1(LP)'!$G$62"]
["pp1_pe_ip1",{"$f":"'PP1(LP)'!$C$43","v":0},"#'PP1(LP)'!$C$43"]
["pp1_pe_ip2",{"$f":"'PP1(LP)'!$C$51","v":0},"#'PP1(LP)'!$C$51"]
["pp1_pe_ip3",{"$f":"'PP1(LP)'!$C$59","v":0},"#'PP1(LP)'!$C$59"]
["pp1_pe_or1",{"$f":"'PP1(LP)'!$C$47","v":0},"#'PP1(LP)'!$C$47"]
["pp1_pe_or2",{"$f":"'PP1(LP)'!$C$55","v":0},"#'PP1(LP)'!$C$55"]
["pp1_pe_or3",{"$f":"'PP1(LP)'!$C$63","v":0},"#'PP1(LP)'!$C$63"]
["pp1_pe_pt1",{"$f":"'PP1(LP)'!$C$44","v":0},"#'PP1(LP)'!$C$44"]
["pp1_pe_pt2",{"$f":"'PP1(LP)'!$C$52","v":0},"#'PP1(LP)'!$C$52"]
["pp1_pe_pt3",{"$f":"'PP1(LP)'!$C$60","v":0},"#'PP1(LP)'!$C$60"]
["pp1_pe_sd1",{"$f":"'PP1(LP)'!$C$45","v":0},"#'PP1(LP)'!$C$45"]
["pp1_pe_sd2",{"$f":"'PP1(LP)'!$C$53","v":0},"#'PP1(LP)'!$C$53"]
["pp1_pe_sd3",{"$f":"'PP1(LP)'!$C$61","v":0},"#'PP1(LP)'!$C$61"]
["pp1_pe_tev1",{"$f":"'PP1(LP)'!$C$46","v":0},"#'PP1(LP)'!$C$46"]
["pp1_pe_tev2",{"$f":"'PP1(LP)'!$C$54","v":0},"#'PP1(LP)'!$C$54"]
["pp1_pe_tev3",{"$f":"'PP1(LP)'!$C$62","v":0},"#'PP1(LP)'!$C$62"]
["pp1_phone",{"$f":"'PP1(LP)'!$C$27","v":0},"#'PP1(LP)'!$C$27"]
["pp1_post_code",{"$f":"'PP1(LP)'!$C$21","v":0},"#'PP1(LP)'!$C$21"]
["pp1_profile",{"$f":"'PP1(LP)'!$B$38","v":0},"#'PP1(LP)'!$B$38"]
["pp1_town",{"$f":"'PP1(LP)'!$C$17","v":0},"#'PP1(LP)'!$C$17"]
["pp1_type_org",{"$f":"'PP1(LP)'!$C$11","v":0},"#'PP1(LP)'!$C$11"]
["pp1_vat_code",{"$f":"'PP1(LP)'!$C$72","v":0},"#'PP1(LP)'!$C$72"]
["pp1_website",{"$f":"'PP1(LP)'!$C$33","v":0},"#'PP1(LP)'!$C$33"]
["pp2_2012_fulltime_staff",{"$f":"'PP2'!$D$79","v":0},"#'PP2'!$D$79"]
["pp2_2012_offices",{"$f":"'PP2'!$F$79","v":0},"#'PP2'!$F$79"]
["pp2_2012_parttime_staff",{"$f":"'PP2'!$E$79","v":0},"#'PP2'!$E$79"]
["pp2_2012_turnover",{"$f":"'PP2'!$C$79","v":0},"#'PP2'!$C$79"]
["pp2_2013_fulltime_staff",{"$f":"'PP2'!$D$78","v":0},"#'PP2'!$D$78"]
["pp2_2013_offices",{"$f":"'PP2'!$F$78","v":0},"#'PP2'!$F$78"]
["pp2_2013_parttime_staff",{"$f":"'PP2'!$E$78","v":0},"#'PP2'!$E$78"]
["pp2_2013_turnover",{"$f":"'PP2'!$C$78","v":0},"#'PP2'!$C$78"]
["pp2_2014_fulltime_staff",{"$f":"'PP2'!$D$77","v":0},"#'PP2'!$D$77"]
["pp2_2014_offices",{"$f":"'PP2'!$F$77","v":0},"#'PP2'!$F$77"]
["pp2_2014_parttime_staff",{"$f":"'PP2'!$E$77","v":0},"#'PP2'!$E$77"]
["pp2_2014_turnover",{"$f":"'PP2'!$C$77","v":0},"#'PP2'!$C$77"]
["pp2_address",{"$f":"'PP2'!$C$19","v":0},"#'PP2'!$C$19"]
["pp2_bl3_1_1_name",{"$f":"'T2-B(PP2)'!$B$16","v":0},"#'T2-B(PP2)'!$B$16"]
["pp2_bl3_1_1_rate_in",{"$f":"'T2-B(PP2)'!$E$16","v":0},"#'T2-B(PP2)'!$E$16"]
["pp2_bl3_1_1_rate_out",{"$f":"'T2-B(PP2)'!$H$16","v":0},"#'T2-B(PP2)'!$H$16"]
["pp2_bl3_1_1_total",{"$f":"'T2-B(PP2)'!$J$16","v":0},"#'T2-B(PP2)'!$J$16"]
["pp2_bl3_1_1_total_in",{"$f":"'T2-B(PP2)'!$F$16","v":0},"#'T2-B(PP2)'!$F$16"]
["pp2_bl3_1_1_total_out",{"$f":"'T2-B(PP2)'!$I$16","v":0},"#'T2-B(PP2)'!$I$16"]
["pp2_bl3_1_1_unit",{"$f":"'T2-B(PP2)'!$C$16","v":0},"#'T2-B(PP2)'!$C$16"]
["pp2_bl3_1_1_unit_in",{"$f":"'T2-B(PP2)'!$D$16","v":0},"#'T2-B(PP2)'!$D$16"]
["pp2_bl3_1_1_units_out",{"$f":"'T2-B(PP2)'!$G$16","v":0},"#'T2-B(PP2)'!$G$16"]
["pp2_bl3_1_10_name",{"$f":"'T2-B(PP2)'!$B$25","v":0},"#'T2-B(PP2)'!$B$25"]
["pp2_bl3_1_10_rate_in",{"$f":"'T2-B(PP2)'!$E$25","v":0},"#'T2-B(PP2)'!$E$25"]
["pp2_bl3_1_10_rate_out",{"$f":"'T2-B(PP2)'!$H$25","v":0},"#'T2-B(PP2)'!$H$25"]
["pp2_bl3_1_10_total",{"$f":"'T2-B(PP2)'!$J$25","v":0},"#'T2-B(PP2)'!$J$25"]
["pp2_bl3_1_10_total_in",{"$f":"'T2-B(PP2)'!$F$25","v":0},"#'T2-B(PP2)'!$F$25"]
["pp2_bl3_1_10_total_out",{"$f":"'T2-B(PP2)'!$I$25","v":0},"#'T2-B(PP2)'!$I$25"]
["pp2_bl3_1_10_unit",{"$f":"'T2-B(PP2)'!$C$25","v":0},"#'T2-B(PP2)'!$C$25"]
["pp2_bl3_1_10_unit_in",{"$f":"'T2-B(PP2)'!$D$25","v":0},"#'T2-B(PP2)'!$D$25"]
["pp2_bl3_1_10_units_out",{"$f":"'T2-B(PP2)'!$G$25","v":0},"#'T2-B(PP2)'!$G$25"]
["pp2_bl3_1_2_name",{"$f":"'T2-B(PP2)'!$B$17","v":0},"#'T2-B(PP2)'!$B$17"]
["pp2_bl3_1_2_rate_in",{"$f":"'T2-B(PP2)'!$E$17","v":0},"#'T2-B(PP2)'!$E$17"]
["pp2_bl3_1_2_rate_out",{"$f":"'T2-B(PP2)'!$H$17","v":0},"#'T2-B(PP2)'!$H$17"]
["pp2_bl3_1_2_total",{"$f":"'T2-B(PP2)'!$J$17","v":0},"#'T2-B(PP2)'!$J$17"]
["pp2_bl3_1_2_total_in",{"$f":"'T2-B(PP2)'!$F$17","v":0},"#'T2-B(PP2)'!$F$17"]
["pp2_bl3_1_2_total_out",{"$f":"'T2-B(PP2)'!$I$17","v":0},"#'T2-B(PP2)'!$I$17"]
["pp2_bl3_1_2_unit",{"$f":"'T2-B(PP2)'!$C$17","v":0},"#'T2-B(PP2)'!$C$17"]
["pp2_bl3_1_2_unit_in",{"$f":"'T2-B(PP2)'!$D$17","v":0},"#'T2-B(PP2)'!$D$17"]
["pp2_bl3_1_2_units_out",{"$f":"'T2-B(PP2)'!$G$17","v":0},"#'T2-B(PP2)'!$G$17"]
["pp2_bl3_1_3_name",{"$f":"'T2-B(PP2)'!$B$18","v":0},"#'T2-B(PP2)'!$B$18"]
["pp2_bl3_1_3_rate_in",{"$f":"'T2-B(PP2)'!$E$18","v":0},"#'T2-B(PP2)'!$E$18"]
["pp2_bl3_1_3_rate_out",{"$f":"'T2-B(PP2)'!$H$18","v":0},"#'T2-B(PP2)'!$H$18"]
["pp2_bl3_1_3_total",{"$f":"'T2-B(PP2)'!$J$18","v":0},"#'T2-B(PP2)'!$J$18"]
["pp2_bl3_1_3_total_in",{"$f":"'T2-B(PP2)'!$F$18","v":0},"#'T2-B(PP2)'!$F$18"]
["pp2_bl3_1_3_total_out",{"$f":"'T2-B(PP2)'!$I$18","v":0},"#'T2-B(PP2)'!$I$18"]
["pp2_bl3_1_3_unit",{"$f":"'T2-B(PP2)'!$C$18","v":0},"#'T2-B(PP2)'!$C$18"]
["pp2_bl3_1_3_unit_in",{"$f":"'T2-B(PP2)'!$D$18","v":0},"#'T2-B(PP2)'!$D$18"]
["pp2_bl3_1_3_units_out",{"$f":"'T2-B(PP2)'!$G$18","v":0},"#'T2-B(PP2)'!$G$18"]
["pp2_bl3_1_4_name",{"$f":"'T2-B(PP2)'!$B$19","v":0},"#'T2-B(PP2)'!$B$19"]
["pp2_bl3_1_4_rate_in",{"$f":"'T2-B(PP2)'!$E$19","v":0},"#'T2-B(PP2)'!$E$19"]
["pp2_bl3_1_4_rate_out",{"$f":"'T2-B(PP2)'!$H$19","v":0},"#'T2-B(PP2)'!$H$19"]
["pp2_bl3_1_4_total",{"$f":"'T2-B(PP2)'!$J$19","v":0},"#'T2-B(PP2)'!$J$19"]
["pp2_bl3_1_4_total_in",{"$f":"'T2-B(PP2)'!$F$19","v":0},"#'T2-B(PP2)'!$F$19"]
["pp2_bl3_1_4_total_out",{"$f":"'T2-B(PP2)'!$I$19","v":0},"#'T2-B(PP2)'!$I$19"]
["pp2_bl3_1_4_unit",{"$f":"'T2-B(PP2)'!$C$19","v":0},"#'T2-B(PP2)'!$C$19"]
["pp2_bl3_1_4_unit_in",{"$f":"'T2-B(PP2)'!$D$19","v":0},"#'T2-B(PP2)'!$D$19"]
["pp2_bl3_1_4_units_out",{"$f":"'T2-B(PP2)'!$G$19","v":0},"#'T2-B(PP2)'!$G$19"]
["pp2_bl3_1_5_name",{"$f":"'T2-B(PP2)'!$B$20","v":0},"#'T2-B(PP2)'!$B$20"]
["pp2_bl3_1_5_rate_in",{"$f":"'T2-B(PP2)'!$E$20","v":0},"#'T2-B(PP2)'!$E$20"]
["pp2_bl3_1_5_rate_out",{"$f":"'T2-B(PP2)'!$H$20","v":0},"#'T2-B(PP2)'!$H$20"]
["pp2_bl3_1_5_total",{"$f":"'T2-B(PP2)'!$J$20","v":0},"#'T2-B(PP2)'!$J$20"]
["pp2_bl3_1_5_total_in",{"$f":"'T2-B(PP2)'!$F$20","v":0},"#'T2-B(PP2)'!$F$20"]
["pp2_bl3_1_5_total_out",{"$f":"'T2-B(PP2)'!$I$20","v":0},"#'T2-B(PP2)'!$I$20"]
["pp2_bl3_1_5_unit",{"$f":"'T2-B(PP2)'!$C$20","v":0},"#'T2-B(PP2)'!$C$20"]
["pp2_bl3_1_5_unit_in",{"$f":"'T2-B(PP2)'!$D$20","v":0},"#'T2-B(PP2)'!$D$20"]
["pp2_bl3_1_5_units_out",{"$f":"'T2-B(PP2)'!$G$20","v":0},"#'T2-B(PP2)'!$G$20"]
["pp2_bl3_1_6_name",{"$f":"'T2-B(PP2)'!$B$21","v":0},"#'T2-B(PP2)'!$B$21"]
["pp2_bl3_1_6_rate_in",{"$f":"'T2-B(PP2)'!$E$21","v":0},"#'T2-B(PP2)'!$E$21"]
["pp2_bl3_1_6_rate_out",{"$f":"'T2-B(PP2)'!$H$21","v":0},"#'T2-B(PP2)'!$H$21"]
["pp2_bl3_1_6_total",{"$f":"'T2-B(PP2)'!$J$21","v":0},"#'T2-B(PP2)'!$J$21"]
["pp2_bl3_1_6_total_in",{"$f":"'T2-B(PP2)'!$F$21","v":0},"#'T2-B(PP2)'!$F$21"]
["pp2_bl3_1_6_total_out",{"$f":"'T2-B(PP2)'!$I$21","v":0},"#'T2-B(PP2)'!$I$21"]
["pp2_bl3_1_6_unit",{"$f":"'T2-B(PP2)'!$C$21","v":0},"#'T2-B(PP2)'!$C$21"]
["pp2_bl3_1_6_unit_in",{"$f":"'T2-B(PP2)'!$D$21","v":0},"#'T2-B(PP2)'!$D$21"]
["pp2_bl3_1_6_units_out",{"$f":"'T2-B(PP2)'!$G$21","v":0},"#'T2-B(PP2)'!$G$21"]
["pp2_bl3_1_7_name",{"$f":"'T2-B(PP2)'!$B$22","v":0},"#'T2-B(PP2)'!$B$22"]
["pp2_bl3_1_7_rate_in",{"$f":"'T2-B(PP2)'!$E$22","v":0},"#'T2-B(PP2)'!$E$22"]
["pp2_bl3_1_7_rate_out",{"$f":"'T2-B(PP2)'!$H$22","v":0},"#'T2-B(PP2)'!$H$22"]
["pp2_bl3_1_7_total",{"$f":"'T2-B(PP2)'!$J$22","v":0},"#'T2-B(PP2)'!$J$22"]
["pp2_bl3_1_7_total_in",{"$f":"'T2-B(PP2)'!$F$22","v":0},"#'T2-B(PP2)'!$F$22"]
["pp2_bl3_1_7_total_out",{"$f":"'T2-B(PP2)'!$I$22","v":0},"#'T2-B(PP2)'!$I$22"]
["pp2_bl3_1_7_unit",{"$f":"'T2-B(PP2)'!$C$22","v":0},"#'T2-B(PP2)'!$C$22"]
["pp2_bl3_1_7_unit_in",{"$f":"'T2-B(PP2)'!$D$22","v":0},"#'T2-B(PP2)'!$D$22"]
["pp2_bl3_1_7_units_out",{"$f":"'T2-B(PP2)'!$G$22","v":0},"#'T2-B(PP2)'!$G$22"]
["pp2_bl3_1_8_name",{"$f":"'T2-B(PP2)'!$B$23","v":0},"#'T2-B(PP2)'!$B$23"]
["pp2_bl3_1_8_rate_in",{"$f":"'T2-B(PP2)'!$E$23","v":0},"#'T2-B(PP2)'!$E$23"]
["pp2_bl3_1_8_rate_out",{"$f":"'T2-B(PP2)'!$H$23","v":0},"#'T2-B(PP2)'!$H$23"]
["pp2_bl3_1_8_total",{"$f":"'T2-B(PP2)'!$J$23","v":0},"#'T2-B(PP2)'!$J$23"]
["pp2_bl3_1_8_total_in",{"$f":"'T2-B(PP2)'!$F$23","v":0},"#'T2-B(PP2)'!$F$23"]
["pp2_bl3_1_8_total_out",{"$f":"'T2-B(PP2)'!$I$23","v":0},"#'T2-B(PP2)'!$I$23"]
["pp2_bl3_1_8_unit",{"$f":"'T2-B(PP2)'!$C$23","v":0},"#'T2-B(PP2)'!$C$23"]
["pp2_bl3_1_8_unit_in",{"$f":"'T2-B(PP2)'!$D$23","v":0},"#'T2-B(PP2)'!$D$23"]
["pp2_bl3_1_8_units_out",{"$f":"'T2-B(PP2)'!$G$23","v":0},"#'T2-B(PP2)'!$G$23"]
["pp2_bl3_1_9_name",{"$f":"'T2-B(PP2)'!$B$24","v":0},"#'T2-B(PP2)'!$B$24"]
["pp2_bl3_1_9_rate_in",{"$f":"'T2-B(PP2)'!$E$24","v":0},"#'T2-B(PP2)'!$E$24"]
["pp2_bl3_1_9_rate_out",{"$f":"'T2-B(PP2)'!$H$24","v":0},"#'T2-B(PP2)'!$H$24"]
["pp2_bl3_1_9_total",{"$f":"'T2-B(PP2)'!$J$24","v":0},"#'T2-B(PP2)'!$J$24"]
["pp2_bl3_1_9_total_in",{"$f":"'T2-B(PP2)'!$F$24","v":0},"#'T2-B(PP2)'!$F$24"]
["pp2_bl3_1_9_total_out",{"$f":"'T2-B(PP2)'!$I$24","v":0},"#'T2-B(PP2)'!$I$24"]
["pp2_bl3_1_9_unit",{"$f":"'T2-B(PP2)'!$C$24","v":0},"#'T2-B(PP2)'!$C$24"]
["pp2_bl3_1_9_unit_in",{"$f":"'T2-B(PP2)'!$D$24","v":0},"#'T2-B(PP2)'!$D$24"]
["pp2_bl3_1_9_units_out",{"$f":"'T2-B(PP2)'!$G$24","v":0},"#'T2-B(PP2)'!$G$24"]
["pp2_bl3_1_total",{"$f":"'T2-B(PP2)'!$J$15","v":0},"#'T2-B(PP2)'!$J$15"]
["pp2_bl3_1_total_in",{"$f":"'T2-B(PP2)'!$F$15","v":0},"#'T2-B(PP2)'!$F$15"]
["pp2_bl3_1_total_out",{"$f":"'T2-B(PP2)'!$I$15","v":0},"#'T2-B(PP2)'!$I$15"]
["pp2_bl3_2_1_name",{"$f":"'T2-B(PP2)'!$B$27","v":0},"#'T2-B(PP2)'!$B$27"]
["pp2_bl3_2_1_rate_in",{"$f":"'T2-B(PP2)'!$E$27","v":0},"#'T2-B(PP2)'!$E$27"]
["pp2_bl3_2_1_rate_out",{"$f":"'T2-B(PP2)'!$H$27","v":0},"#'T2-B(PP2)'!$H$27"]
["pp2_bl3_2_1_total",{"$f":"'T2-B(PP2)'!$J$27","v":0},"#'T2-B(PP2)'!$J$27"]
["pp2_bl3_2_1_total_in",{"$f":"'T2-B(PP2)'!$F$27","v":0},"#'T2-B(PP2)'!$F$27"]
["pp2_bl3_2_1_total_out",{"$f":"'T2-B(PP2)'!$I$27","v":0},"#'T2-B(PP2)'!$I$27"]
["pp2_bl3_2_1_unit",{"$f":"'T2-B(PP2)'!$C$27","v":0},"#'T2-B(PP2)'!$C$27"]
["pp2_bl3_2_1_unit_in",{"$f":"'T2-B(PP2)'!$D$27","v":0},"#'T2-B(PP2)'!$D$27"]
["pp2_bl3_2_1_units_out",{"$f":"'T2-B(PP2)'!$G$27","v":0},"#'T2-B(PP2)'!$G$27"]
["pp2_bl3_2_10_name",{"$f":"'T2-B(PP2)'!$B$36","v":0},"#'T2-B(PP2)'!$B$36"]
["pp2_bl3_2_10_rate_in",{"$f":"'T2-B(PP2)'!$E$36","v":0},"#'T2-B(PP2)'!$E$36"]
["pp2_bl3_2_10_rate_out",{"$f":"'T2-B(PP2)'!$H$36","v":0},"#'T2-B(PP2)'!$H$36"]
["pp2_bl3_2_10_total",{"$f":"'T2-B(PP2)'!$J$36","v":0},"#'T2-B(PP2)'!$J$36"]
["pp2_bl3_2_10_total_in",{"$f":"'T2-B(PP2)'!$F$36","v":0},"#'T2-B(PP2)'!$F$36"]
["pp2_bl3_2_10_total_out",{"$f":"'T2-B(PP2)'!$I$36","v":0},"#'T2-B(PP2)'!$I$36"]
["pp2_bl3_2_10_unit",{"$f":"'T2-B(PP2)'!$C$36","v":0},"#'T2-B(PP2)'!$C$36"]
["pp2_bl3_2_10_unit_in",{"$f":"'T2-B(PP2)'!$D$36","v":0},"#'T2-B(PP2)'!$D$36"]
["pp2_bl3_2_10_units_out",{"$f":"'T2-B(PP2)'!$G$36","v":0},"#'T2-B(PP2)'!$G$36"]
["pp2_bl3_2_2_name",{"$f":"'T2-B(PP2)'!$B$28","v":0},"#'T2-B(PP2)'!$B$28"]
["pp2_bl3_2_2_rate_in",{"$f":"'T2-B(PP2)'!$E$28","v":0},"#'T2-B(PP2)'!$E$28"]
["pp2_bl3_2_2_rate_out",{"$f":"'T2-B(PP2)'!$H$28","v":0},"#'T2-B(PP2)'!$H$28"]
["pp2_bl3_2_2_total",{"$f":"'T2-B(PP2)'!$J$28","v":0},"#'T2-B(PP2)'!$J$28"]
["pp2_bl3_2_2_total_in",{"$f":"'T2-B(PP2)'!$F$28","v":0},"#'T2-B(PP2)'!$F$28"]
["pp2_bl3_2_2_total_out",{"$f":"'T2-B(PP2)'!$I$28","v":0},"#'T2-B(PP2)'!$I$28"]
["pp2_bl3_2_2_unit",{"$f":"'T2-B(PP2)'!$C$28","v":0},"#'T2-B(PP2)'!$C$28"]
["pp2_bl3_2_2_unit_in",{"$f":"'T2-B(PP2)'!$D$28","v":0},"#'T2-B(PP2)'!$D$28"]
["pp2_bl3_2_2_units_out",{"$f":"'T2-B(PP2)'!$G$28","v":0},"#'T2-B(PP2)'!$G$28"]
["pp2_bl3_2_3_name",{"$f":"'T2-B(PP2)'!$B$29","v":0},"#'T2-B(PP2)'!$B$29"]
["pp2_bl3_2_3_rate_in",{"$f":"'T2-B(PP2)'!$E$29","v":0},"#'T2-B(PP2)'!$E$29"]
["pp2_bl3_2_3_rate_out",{"$f":"'T2-B(PP2)'!$H$29","v":0},"#'T2-B(PP2)'!$H$29"]
["pp2_bl3_2_3_total",{"$f":"'T2-B(PP2)'!$J$29","v":0},"#'T2-B(PP2)'!$J$29"]
["pp2_bl3_2_3_total_in",{"$f":"'T2-B(PP2)'!$F$29","v":0},"#'T2-B(PP2)'!$F$29"]
["pp2_bl3_2_3_total_out",{"$f":"'T2-B(PP2)'!$I$29","v":0},"#'T2-B(PP2)'!$I$29"]
["pp2_bl3_2_3_unit",{"$f":"'T2-B(PP2)'!$C$29","v":0},"#'T2-B(PP2)'!$C$29"]
["pp2_bl3_2_3_unit_in",{"$f":"'T2-B(PP2)'!$D$29","v":0},"#'T2-B(PP2)'!$D$29"]
["pp2_bl3_2_3_units_out",{"$f":"'T2-B(PP2)'!$G$29","v":0},"#'T2-B(PP2)'!$G$29"]
["pp2_bl3_2_4_name",{"$f":"'T2-B(PP2)'!$B$30","v":0},"#'T2-B(PP2)'!$B$30"]
["pp2_bl3_2_4_rate_in",{"$f":"'T2-B(PP2)'!$E$30","v":0},"#'T2-B(PP2)'!$E$30"]
["pp2_bl3_2_4_rate_out",{"$f":"'T2-B(PP2)'!$H$30","v":0},"#'T2-B(PP2)'!$H$30"]
["pp2_bl3_2_4_total",{"$f":"'T2-B(PP2)'!$J$30","v":0},"#'T2-B(PP2)'!$J$30"]
["pp2_bl3_2_4_total_in",{"$f":"'T2-B(PP2)'!$F$30","v":0},"#'T2-B(PP2)'!$F$30"]
["pp2_bl3_2_4_total_out",{"$f":"'T2-B(PP2)'!$I$30","v":0},"#'T2-B(PP2)'!$I$30"]
["pp2_bl3_2_4_unit",{"$f":"'T2-B(PP2)'!$C$30","v":0},"#'T2-B(PP2)'!$C$30"]
["pp2_bl3_2_4_unit_in",{"$f":"'T2-B(PP2)'!$D$30","v":0},"#'T2-B(PP2)'!$D$30"]
["pp2_bl3_2_4_units_out",{"$f":"'T2-B(PP2)'!$G$30","v":0},"#'T2-B(PP2)'!$G$30"]
["pp2_bl3_2_5_name",{"$f":"'T2-B(PP2)'!$B$31","v":0},"#'T2-B(PP2)'!$B$31"]
["pp2_bl3_2_5_rate_in",{"$f":"'T2-B(PP2)'!$E$31","v":0},"#'T2-B(PP2)'!$E$31"]
["pp2_bl3_2_5_rate_out",{"$f":"'T2-B(PP2)'!$H$31","v":0},"#'T2-B(PP2)'!$H$31"]
["pp2_bl3_2_5_total",{"$f":"'T2-B(PP2)'!$J$31","v":0},"#'T2-B(PP2)'!$J$31"]
["pp2_bl3_2_5_total_in",{"$f":"'T2-B(PP2)'!$F$31","v":0},"#'T2-B(PP2)'!$F$31"]
["pp2_bl3_2_5_total_out",{"$f":"'T2-B(PP2)'!$I$31","v":0},"#'T2-B(PP2)'!$I$31"]
["pp2_bl3_2_5_unit",{"$f":"'T2-B(PP2)'!$C$31","v":0},"#'T2-B(PP2)'!$C$31"]
["pp2_bl3_2_5_unit_in",{"$f":"'T2-B(PP2)'!$D$31","v":0},"#'T2-B(PP2)'!$D$31"]
["pp2_bl3_2_5_units_out",{"$f":"'T2-B(PP2)'!$G$31","v":0},"#'T2-B(PP2)'!$G$31"]
["pp2_bl3_2_6_name",{"$f":"'T2-B(PP2)'!$B$32","v":0},"#'T2-B(PP2)'!$B$32"]
["pp2_bl3_2_6_rate_in",{"$f":"'T2-B(PP2)'!$E$32","v":0},"#'T2-B(PP2)'!$E$32"]
["pp2_bl3_2_6_rate_out",{"$f":"'T2-B(PP2)'!$H$32","v":0},"#'T2-B(PP2)'!$H$32"]
["pp2_bl3_2_6_total",{"$f":"'T2-B(PP2)'!$J$32","v":0},"#'T2-B(PP2)'!$J$32"]
["pp2_bl3_2_6_total_in",{"$f":"'T2-B(PP2)'!$F$32","v":0},"#'T2-B(PP2)'!$F$32"]
["pp2_bl3_2_6_total_out",{"$f":"'T2-B(PP2)'!$I$32","v":0},"#'T2-B(PP2)'!$I$32"]
["pp2_bl3_2_6_unit",{"$f":"'T2-B(PP2)'!$C$32","v":0},"#'T2-B(PP2)'!$C$32"]
["pp2_bl3_2_6_unit_in",{"$f":"'T2-B(PP2)'!$D$32","v":0},"#'T2-B(PP2)'!$D$32"]
["pp2_bl3_2_6_units_out",{"$f":"'T2-B(PP2)'!$G$32","v":0},"#'T2-B(PP2)'!$G$32"]
["pp2_bl3_2_7_name",{"$f":"'T2-B(PP2)'!$B$33","v":0},"#'T2-B(PP2)'!$B$33"]
["pp2_bl3_2_7_rate_in",{"$f":"'T2-B(PP2)'!$E$33","v":0},"#'T2-B(PP2)'!$E$33"]
["pp2_bl3_2_7_rate_out",{"$f":"'T2-B(PP2)'!$H$33","v":0},"#'T2-B(PP2)'!$H$33"]
["pp2_bl3_2_7_total",{"$f":"'T2-B(PP2)'!$J$33","v":0},"#'T2-B(PP2)'!$J$33"]
["pp2_bl3_2_7_total_in",{"$f":"'T2-B(PP2)'!$F$33","v":0},"#'T2-B(PP2)'!$F$33"]
["pp2_bl3_2_7_total_out",{"$f":"'T2-B(PP2)'!$I$33","v":0},"#'T2-B(PP2)'!$I$33"]
["pp2_bl3_2_7_unit",{"$f":"'T2-B(PP2)'!$C$33","v":0},"#'T2-B(PP2)'!$C$33"]
["pp2_bl3_2_7_unit_in",{"$f":"'T2-B(PP2)'!$D$33","v":0},"#'T2-B(PP2)'!$D$33"]
["pp2_bl3_2_7_units_out",{"$f":"'T2-B(PP2)'!$G$33","v":0},"#'T2-B(PP2)'!$G$33"]
["pp2_bl3_2_8_name",{"$f":"'T2-B(PP2)'!$B$34","v":0},"#'T2-B(PP2)'!$B$34"]
["pp2_bl3_2_8_rate_in",{"$f":"'T2-B(PP2)'!$E$34","v":0},"#'T2-B(PP2)'!$E$34"]
["pp2_bl3_2_8_rate_out",{"$f":"'T2-B(PP2)'!$H$34","v":0},"#'T2-B(PP2)'!$H$34"]
["pp2_bl3_2_8_total",{"$f":"'T2-B(PP2)'!$J$34","v":0},"#'T2-B(PP2)'!$J$34"]
["pp2_bl3_2_8_total_in",{"$f":"'T2-B(PP2)'!$F$34","v":0},"#'T2-B(PP2)'!$F$34"]
["pp2_bl3_2_8_total_out",{"$f":"'T2-B(PP2)'!$I$34","v":0},"#'T2-B(PP2)'!$I$34"]
["pp2_bl3_2_8_unit",{"$f":"'T2-B(PP2)'!$C$34","v":0},"#'T2-B(PP2)'!$C$34"]
["pp2_bl3_2_8_unit_in",{"$f":"'T2-B(PP2)'!$D$34","v":0},"#'T2-B(PP2)'!$D$34"]
["pp2_bl3_2_8_units_out",{"$f":"'T2-B(PP2)'!$G$34","v":0},"#'T2-B(PP2)'!$G$34"]
["pp2_bl3_2_9_name",{"$f":"'T2-B(PP2)'!$B$35","v":0},"#'T2-B(PP2)'!$B$35"]
["pp2_bl3_2_9_rate_in",{"$f":"'T2-B(PP2)'!$E$35","v":0},"#'T2-B(PP2)'!$E$35"]
["pp2_bl3_2_9_rate_out",{"$f":"'T2-B(PP2)'!$H$35","v":0},"#'T2-B(PP2)'!$H$35"]
["pp2_bl3_2_9_total",{"$f":"'T2-B(PP2)'!$J$35","v":0},"#'T2-B(PP2)'!$J$35"]
["pp2_bl3_2_9_total_in",{"$f":"'T2-B(PP2)'!$F$35","v":0},"#'T2-B(PP2)'!$F$35"]
["pp2_bl3_2_9_total_out",{"$f":"'T2-B(PP2)'!$I$35","v":0},"#'T2-B(PP2)'!$I$35"]
["pp2_bl3_2_9_unit",{"$f":"'T2-B(PP2)'!$C$35","v":0},"#'T2-B(PP2)'!$C$35"]
["pp2_bl3_2_9_unit_in",{"$f":"'T2-B(PP2)'!$D$35","v":0},"#'T2-B(PP2)'!$D$35"]
["pp2_bl3_2_9_units_out",{"$f":"'T2-B(PP2)'!$G$35","v":0},"#'T2-B(PP2)'!$G$35"]
["pp2_bl3_2_total",{"$f":"'T2-B(PP2)'!$J$26","v":0},"#'T2-B(PP2)'!$J$26"]
["pp2_bl3_2_total_in",{"$f":"'T2-B(PP2)'!$F$26","v":0},"#'T2-B(PP2)'!$F$26"]
["pp2_bl3_2_total_out",{"$f":"'T2-B(PP2)'!$I$26","v":0},"#'T2-B(PP2)'!$I$26"]
["pp2_bl3_3_1_name",{"$f":"'T2-B(PP2)'!$B$38","v":0},"#'T2-B(PP2)'!$B$38"]
["pp2_bl3_3_1_rate_in",{"$f":"'T2-B(PP2)'!$E$38","v":0},"#'T2-B(PP2)'!$E$38"]
["pp2_bl3_3_1_rate_out",{"$f":"'T2-B(PP2)'!$H$38","v":0},"#'T2-B(PP2)'!$H$38"]
["pp2_bl3_3_1_total",{"$f":"'T2-B(PP2)'!$J$38","v":0},"#'T2-B(PP2)'!$J$38"]
["pp2_bl3_3_1_total_in",{"$f":"'T2-B(PP2)'!$F$38","v":0},"#'T2-B(PP2)'!$F$38"]
["pp2_bl3_3_1_total_out",{"$f":"'T2-B(PP2)'!$I$38","v":0},"#'T2-B(PP2)'!$I$38"]
["pp2_bl3_3_1_unit",{"$f":"'T2-B(PP2)'!$C$38","v":0},"#'T2-B(PP2)'!$C$38"]
["pp2_bl3_3_1_unit_in",{"$f":"'T2-B(PP2)'!$D$38","v":0},"#'T2-B(PP2)'!$D$38"]
["pp2_bl3_3_1_units_out",{"$f":"'T2-B(PP2)'!$G$38","v":0},"#'T2-B(PP2)'!$G$38"]
["pp2_bl3_3_10_name",{"$f":"'T2-B(PP2)'!$B$47","v":0},"#'T2-B(PP2)'!$B$47"]
["pp2_bl3_3_10_rate_in",{"$f":"'T2-B(PP2)'!$E$47","v":0},"#'T2-B(PP2)'!$E$47"]
["pp2_bl3_3_10_rate_out",{"$f":"'T2-B(PP2)'!$H$47","v":0},"#'T2-B(PP2)'!$H$47"]
["pp2_bl3_3_10_total",{"$f":"'T2-B(PP2)'!$J$47","v":0},"#'T2-B(PP2)'!$J$47"]
["pp2_bl3_3_10_total_in",{"$f":"'T2-B(PP2)'!$F$47","v":0},"#'T2-B(PP2)'!$F$47"]
["pp2_bl3_3_10_total_out",{"$f":"'T2-B(PP2)'!$I$47","v":0},"#'T2-B(PP2)'!$I$47"]
["pp2_bl3_3_10_unit",{"$f":"'T2-B(PP2)'!$C$47","v":0},"#'T2-B(PP2)'!$C$47"]
["pp2_bl3_3_10_unit_in",{"$f":"'T2-B(PP2)'!$D$47","v":0},"#'T2-B(PP2)'!$D$47"]
["pp2_bl3_3_10_units_out",{"$f":"'T2-B(PP2)'!$G$47","v":0},"#'T2-B(PP2)'!$G$47"]
["pp2_bl3_3_2_name",{"$f":"'T2-B(PP2)'!$B$39","v":0},"#'T2-B(PP2)'!$B$39"]
["pp2_bl3_3_2_rate_in",{"$f":"'T2-B(PP2)'!$E$39","v":0},"#'T2-B(PP2)'!$E$39"]
["pp2_bl3_3_2_rate_out",{"$f":"'T2-B(PP2)'!$H$39","v":0},"#'T2-B(PP2)'!$H$39"]
["pp2_bl3_3_2_total",{"$f":"'T2-B(PP2)'!$J$39","v":0},"#'T2-B(PP2)'!$J$39"]
["pp2_bl3_3_2_total_in",{"$f":"'T2-B(PP2)'!$F$39","v":0},"#'T2-B(PP2)'!$F$39"]
["pp2_bl3_3_2_total_out",{"$f":"'T2-B(PP2)'!$I$39","v":0},"#'T2-B(PP2)'!$I$39"]
["pp2_bl3_3_2_unit",{"$f":"'T2-B(PP2)'!$C$39","v":0},"#'T2-B(PP2)'!$C$39"]
["pp2_bl3_3_2_unit_in",{"$f":"'T2-B(PP2)'!$D$39","v":0},"#'T2-B(PP2)'!$D$39"]
["pp2_bl3_3_2_units_out",{"$f":"'T2-B(PP2)'!$G$39","v":0},"#'T2-B(PP2)'!$G$39"]
["pp2_bl3_3_3_name",{"$f":"'T2-B(PP2)'!$B$40","v":0},"#'T2-B(PP2)'!$B$40"]
["pp2_bl3_3_3_rate_in",{"$f":"'T2-B(PP2)'!$E$40","v":0},"#'T2-B(PP2)'!$E$40"]
["pp2_bl3_3_3_rate_out",{"$f":"'T2-B(PP2)'!$H$40","v":0},"#'T2-B(PP2)'!$H$40"]
["pp2_bl3_3_3_total",{"$f":"'T2-B(PP2)'!$J$40","v":0},"#'T2-B(PP2)'!$J$40"]
["pp2_bl3_3_3_total_in",{"$f":"'T2-B(PP2)'!$F$40","v":0},"#'T2-B(PP2)'!$F$40"]
["pp2_bl3_3_3_total_out",{"$f":"'T2-B(PP2)'!$I$40","v":0},"#'T2-B(PP2)'!$I$40"]
["pp2_bl3_3_3_unit",{"$f":"'T2-B(PP2)'!$C$40","v":0},"#'T2-B(PP2)'!$C$40"]
["pp2_bl3_3_3_unit_in",{"$f":"'T2-B(PP2)'!$D$40","v":0},"#'T2-B(PP2)'!$D$40"]
["pp2_bl3_3_3_units_out",{"$f":"'T2-B(PP2)'!$G$40","v":0},"#'T2-B(PP2)'!$G$40"]
["pp2_bl3_3_4_name",{"$f":"'T2-B(PP2)'!$B$41","v":0},"#'T2-B(PP2)'!$B$41"]
["pp2_bl3_3_4_rate_in",{"$f":"'T2-B(PP2)'!$E$41","v":0},"#'T2-B(PP2)'!$E$41"]
["pp2_bl3_3_4_rate_out",{"$f":"'T2-B(PP2)'!$H$41","v":0},"#'T2-B(PP2)'!$H$41"]
["pp2_bl3_3_4_total",{"$f":"'T2-B(PP2)'!$J$41","v":0},"#'T2-B(PP2)'!$J$41"]
["pp2_bl3_3_4_total_in",{"$f":"'T2-B(PP2)'!$F$41","v":0},"#'T2-B(PP2)'!$F$41"]
["pp2_bl3_3_4_total_out",{"$f":"'T2-B(PP2)'!$I$41","v":0},"#'T2-B(PP2)'!$I$41"]
["pp2_bl3_3_4_unit",{"$f":"'T2-B(PP2)'!$C$41","v":0},"#'T2-B(PP2)'!$C$41"]
["pp2_bl3_3_4_unit_in",{"$f":"'T2-B(PP2)'!$D$41","v":0},"#'T2-B(PP2)'!$D$41"]
["pp2_bl3_3_4_units_out",{"$f":"'T2-B(PP2)'!$G$41","v":0},"#'T2-B(PP2)'!$G$41"]
["pp2_bl3_3_5_name",{"$f":"'T2-B(PP2)'!$B$42","v":0},"#'T2-B(PP2)'!$B$42"]
["pp2_bl3_3_5_rate_in",{"$f":"'T2-B(PP2)'!$E$42","v":0},"#'T2-B(PP2)'!$E$42"]
["pp2_bl3_3_5_rate_out",{"$f":"'T2-B(PP2)'!$H$42","v":0},"#'T2-B(PP2)'!$H$42"]
["pp2_bl3_3_5_total",{"$f":"'T2-B(PP2)'!$J$42","v":0},"#'T2-B(PP2)'!$J$42"]
["pp2_bl3_3_5_total_in",{"$f":"'T2-B(PP2)'!$F$42","v":0},"#'T2-B(PP2)'!$F$42"]
["pp2_bl3_3_5_total_out",{"$f":"'T2-B(PP2)'!$I$42","v":0},"#'T2-B(PP2)'!$I$42"]
["pp2_bl3_3_5_unit",{"$f":"'T2-B(PP2)'!$C$42","v":0},"#'T2-B(PP2)'!$C$42"]
["pp2_bl3_3_5_unit_in",{"$f":"'T2-B(PP2)'!$D$42","v":0},"#'T2-B(PP2)'!$D$42"]
["pp2_bl3_3_5_units_out",{"$f":"'T2-B(PP2)'!$G$42","v":0},"#'T2-B(PP2)'!$G$42"]
["pp2_bl3_3_6_name",{"$f":"'T2-B(PP2)'!$B$43","v":0},"#'T2-B(PP2)'!$B$43"]
["pp2_bl3_3_6_rate_in",{"$f":"'T2-B(PP2)'!$E$43","v":0},"#'T2-B(PP2)'!$E$43"]
["pp2_bl3_3_6_rate_out",{"$f":"'T2-B(PP2)'!$H$43","v":0},"#'T2-B(PP2)'!$H$43"]
["pp2_bl3_3_6_total",{"$f":"'T2-B(PP2)'!$J$43","v":0},"#'T2-B(PP2)'!$J$43"]
["pp2_bl3_3_6_total_in",{"$f":"'T2-B(PP2)'!$F$43","v":0},"#'T2-B(PP2)'!$F$43"]
["pp2_bl3_3_6_total_out",{"$f":"'T2-B(PP2)'!$I$43","v":0},"#'T2-B(PP2)'!$I$43"]
["pp2_bl3_3_6_unit",{"$f":"'T2-B(PP2)'!$C$43","v":0},"#'T2-B(PP2)'!$C$43"]
["pp2_bl3_3_6_unit_in",{"$f":"'T2-B(PP2)'!$D$43","v":0},"#'T2-B(PP2)'!$D$43"]
["pp2_bl3_3_6_units_out",{"$f":"'T2-B(PP2)'!$G$43","v":0},"#'T2-B(PP2)'!$G$43"]
["pp2_bl3_3_7_name",{"$f":"'T2-B(PP2)'!$B$44","v":0},"#'T2-B(PP2)'!$B$44"]
["pp2_bl3_3_7_rate_in",{"$f":"'T2-B(PP2)'!$E$44","v":0},"#'T2-B(PP2)'!$E$44"]
["pp2_bl3_3_7_rate_out",{"$f":"'T2-B(PP2)'!$H$44","v":0},"#'T2-B(PP2)'!$H$44"]
["pp2_bl3_3_7_total",{"$f":"'T2-B(PP2)'!$J$44","v":0},"#'T2-B(PP2)'!$J$44"]
["pp2_bl3_3_7_total_in",{"$f":"'T2-B(PP2)'!$F$44","v":0},"#'T2-B(PP2)'!$F$44"]
["pp2_bl3_3_7_total_out",{"$f":"'T2-B(PP2)'!$I$44","v":0},"#'T2-B(PP2)'!$I$44"]
["pp2_bl3_3_7_unit",{"$f":"'T2-B(PP2)'!$C$44","v":0},"#'T2-B(PP2)'!$C$44"]
["pp2_bl3_3_7_unit_in",{"$f":"'T2-B(PP2)'!$D$44","v":0},"#'T2-B(PP2)'!$D$44"]
["pp2_bl3_3_7_units_out",{"$f":"'T2-B(PP2)'!$G$44","v":0},"#'T2-B(PP2)'!$G$44"]
["pp2_bl3_3_8_name",{"$f":"'T2-B(PP2)'!$B$45","v":0},"#'T2-B(PP2)'!$B$45"]
["pp2_bl3_3_8_rate_in",{"$f":"'T2-B(PP2)'!$E$45","v":0},"#'T2-B(PP2)'!$E$45"]
["pp2_bl3_3_8_rate_out",{"$f":"'T2-B(PP2)'!$H$45","v":0},"#'T2-B(PP2)'!$H$45"]
["pp2_bl3_3_8_total",{"$f":"'T2-B(PP2)'!$J$45","v":0},"#'T2-B(PP2)'!$J$45"]
["pp2_bl3_3_8_total_in",{"$f":"'T2-B(PP2)'!$F$45","v":0},"#'T2-B(PP2)'!$F$45"]
["pp2_bl3_3_8_total_out",{"$f":"'T2-B(PP2)'!$I$45","v":0},"#'T2-B(PP2)'!$I$45"]
["pp2_bl3_3_8_unit",{"$f":"'T2-B(PP2)'!$C$45","v":0},"#'T2-B(PP2)'!$C$45"]
["pp2_bl3_3_8_unit_in",{"$f":"'T2-B(PP2)'!$D$45","v":0},"#'T2-B(PP2)'!$D$45"]
["pp2_bl3_3_8_units_out",{"$f":"'T2-B(PP2)'!$G$45","v":0},"#'T2-B(PP2)'!$G$45"]
["pp2_bl3_3_9_name",{"$f":"'T2-B(PP2)'!$B$46","v":0},"#'T2-B(PP2)'!$B$46"]
["pp2_bl3_3_9_rate_in",{"$f":"'T2-B(PP2)'!$E$46","v":0},"#'T2-B(PP2)'!$E$46"]
["pp2_bl3_3_9_rate_out",{"$f":"'T2-B(PP2)'!$H$46","v":0},"#'T2-B(PP2)'!$H$46"]
["pp2_bl3_3_9_total",{"$f":"'T2-B(PP2)'!$J$46","v":0},"#'T2-B(PP2)'!$J$46"]
["pp2_bl3_3_9_total_in",{"$f":"'T2-B(PP2)'!$F$46","v":0},"#'T2-B(PP2)'!$F$46"]
["pp2_bl3_3_9_total_out",{"$f":"'T2-B(PP2)'!$I$46","v":0},"#'T2-B(PP2)'!$I$46"]
["pp2_bl3_3_9_unit",{"$f":"'T2-B(PP2)'!$C$46","v":0},"#'T2-B(PP2)'!$C$46"]
["pp2_bl3_3_9_unit_in",{"$f":"'T2-B(PP2)'!$D$46","v":0},"#'T2-B(PP2)'!$D$46"]
["pp2_bl3_3_9_units_out",{"$f":"'T2-B(PP2)'!$G$46","v":0},"#'T2-B(PP2)'!$G$46"]
["pp2_bl3_3_total",{"$f":"'T2-B(PP2)'!$J$37","v":0},"#'T2-B(PP2)'!$J$37"]
["pp2_bl3_3_total_in",{"$f":"'T2-B(PP2)'!$F$37","v":0},"#'T2-B(PP2)'!$F$37"]
["pp2_bl3_3_total_out",{"$f":"'T2-B(PP2)'!$I$37","v":0},"#'T2-B(PP2)'!$I$37"]
["pp2_bl3_4_1_name",{"$f":"'T2-B(PP2)'!$B$49","v":0},"#'T2-B(PP2)'!$B$49"]
["pp2_bl3_4_1_rate_in",{"$f":"'T2-B(PP2)'!$E$49","v":0},"#'T2-B(PP2)'!$E$49"]
["pp2_bl3_4_1_rate_out",{"$f":"'T2-B(PP2)'!$H$49","v":0},"#'T2-B(PP2)'!$H$49"]
["pp2_bl3_4_1_total",{"$f":"'T2-B(PP2)'!$J$49","v":0},"#'T2-B(PP2)'!$J$49"]
["pp2_bl3_4_1_total_in",{"$f":"'T2-B(PP2)'!$F$49","v":0},"#'T2-B(PP2)'!$F$49"]
["pp2_bl3_4_1_total_out",{"$f":"'T2-B(PP2)'!$I$49","v":0},"#'T2-B(PP2)'!$I$49"]
["pp2_bl3_4_1_unit",{"$f":"'T2-B(PP2)'!$C$49","v":0},"#'T2-B(PP2)'!$C$49"]
["pp2_bl3_4_1_unit_in",{"$f":"'T2-B(PP2)'!$D$49","v":0},"#'T2-B(PP2)'!$D$49"]
["pp2_bl3_4_1_units_out",{"$f":"'T2-B(PP2)'!$G$49","v":0},"#'T2-B(PP2)'!$G$49"]
["pp2_bl3_4_10_name",{"$f":"'T2-B(PP2)'!$B$58","v":0},"#'T2-B(PP2)'!$B$58"]
["pp2_bl3_4_10_rate_in",{"$f":"'T2-B(PP2)'!$E$58","v":0},"#'T2-B(PP2)'!$E$58"]
["pp2_bl3_4_10_rate_out",{"$f":"'T2-B(PP2)'!$H$58","v":0},"#'T2-B(PP2)'!$H$58"]
["pp2_bl3_4_10_total",{"$f":"'T2-B(PP2)'!$J$58","v":0},"#'T2-B(PP2)'!$J$58"]
["pp2_bl3_4_10_total_in",{"$f":"'T2-B(PP2)'!$F$58","v":0},"#'T2-B(PP2)'!$F$58"]
["pp2_bl3_4_10_total_out",{"$f":"'T2-B(PP2)'!$I$58","v":0},"#'T2-B(PP2)'!$I$58"]
["pp2_bl3_4_10_unit",{"$f":"'T2-B(PP2)'!$C$58","v":0},"#'T2-B(PP2)'!$C$58"]
["pp2_bl3_4_10_unit_in",{"$f":"'T2-B(PP2)'!$D$58","v":0},"#'T2-B(PP2)'!$D$58"]
["pp2_bl3_4_10_units_out",{"$f":"'T2-B(PP2)'!$G$58","v":0},"#'T2-B(PP2)'!$G$58"]
["pp2_bl3_4_2_name",{"$f":"'T2-B(PP2)'!$B$50","v":0},"#'T2-B(PP2)'!$B$50"]
["pp2_bl3_4_2_rate_in",{"$f":"'T2-B(PP2)'!$E$50","v":0},"#'T2-B(PP2)'!$E$50"]
["pp2_bl3_4_2_rate_out",{"$f":"'T2-B(PP2)'!$H$50","v":0},"#'T2-B(PP2)'!$H$50"]
["pp2_bl3_4_2_total",{"$f":"'T2-B(PP2)'!$J$50","v":0},"#'T2-B(PP2)'!$J$50"]
["pp2_bl3_4_2_total_in",{"$f":"'T2-B(PP2)'!$F$50","v":0},"#'T2-B(PP2)'!$F$50"]
["pp2_bl3_4_2_total_out",{"$f":"'T2-B(PP2)'!$I$50","v":0},"#'T2-B(PP2)'!$I$50"]
["pp2_bl3_4_2_unit",{"$f":"'T2-B(PP2)'!$C$50","v":0},"#'T2-B(PP2)'!$C$50"]
["pp2_bl3_4_2_unit_in",{"$f":"'T2-B(PP2)'!$D$50","v":0},"#'T2-B(PP2)'!$D$50"]
["pp2_bl3_4_2_units_out",{"$f":"'T2-B(PP2)'!$G$50","v":0},"#'T2-B(PP2)'!$G$50"]
["pp2_bl3_4_3_name",{"$f":"'T2-B(PP2)'!$B$51","v":0},"#'T2-B(PP2)'!$B$51"]
["pp2_bl3_4_3_rate_in",{"$f":"'T2-B(PP2)'!$E$51","v":0},"#'T2-B(PP2)'!$E$51"]
["pp2_bl3_4_3_rate_out",{"$f":"'T2-B(PP2)'!$H$51","v":0},"#'T2-B(PP2)'!$H$51"]
["pp2_bl3_4_3_total",{"$f":"'T2-B(PP2)'!$J$51","v":0},"#'T2-B(PP2)'!$J$51"]
["pp2_bl3_4_3_total_in",{"$f":"'T2-B(PP2)'!$F$51","v":0},"#'T2-B(PP2)'!$F$51"]
["pp2_bl3_4_3_total_out",{"$f":"'T2-B(PP2)'!$I$51","v":0},"#'T2-B(PP2)'!$I$51"]
["pp2_bl3_4_3_unit",{"$f":"'T2-B(PP2)'!$C$51","v":0},"#'T2-B(PP2)'!$C$51"]
["pp2_bl3_4_3_unit_in",{"$f":"'T2-B(PP2)'!$D$51","v":0},"#'T2-B(PP2)'!$D$51"]
["pp2_bl3_4_3_units_out",{"$f":"'T2-B(PP2)'!$G$51","v":0},"#'T2-B(PP2)'!$G$51"]
["pp2_bl3_4_4_name",{"$f":"'T2-B(PP2)'!$B$52","v":0},"#'T2-B(PP2)'!$B$52"]
["pp2_bl3_4_4_rate_in",{"$f":"'T2-B(PP2)'!$E$52","v":0},"#'T2-B(PP2)'!$E$52"]
["pp2_bl3_4_4_rate_out",{"$f":"'T2-B(PP2)'!$H$52","v":0},"#'T2-B(PP2)'!$H$52"]
["pp2_bl3_4_4_total",{"$f":"'T2-B(PP2)'!$J$52","v":0},"#'T2-B(PP2)'!$J$52"]
["pp2_bl3_4_4_total_in",{"$f":"'T2-B(PP2)'!$F$52","v":0},"#'T2-B(PP2)'!$F$52"]
["pp2_bl3_4_4_total_out",{"$f":"'T2-B(PP2)'!$I$52","v":0},"#'T2-B(PP2)'!$I$52"]
["pp2_bl3_4_4_unit",{"$f":"'T2-B(PP2)'!$C$52","v":0},"#'T2-B(PP2)'!$C$52"]
["pp2_bl3_4_4_unit_in",{"$f":"'T2-B(PP2)'!$D$52","v":0},"#'T2-B(PP2)'!$D$52"]
["pp2_bl3_4_4_units_out",{"$f":"'T2-B(PP2)'!$G$52","v":0},"#'T2-B(PP2)'!$G$52"]
["pp2_bl3_4_5_name",{"$f":"'T2-B(PP2)'!$B$53","v":0},"#'T2-B(PP2)'!$B$53"]
["pp2_bl3_4_5_rate_in",{"$f":"'T2-B(PP2)'!$E$53","v":0},"#'T2-B(PP2)'!$E$53"]
["pp2_bl3_4_5_rate_out",{"$f":"'T2-B(PP2)'!$H$53","v":0},"#'T2-B(PP2)'!$H$53"]
["pp2_bl3_4_5_total",{"$f":"'T2-B(PP2)'!$J$53","v":0},"#'T2-B(PP2)'!$J$53"]
["pp2_bl3_4_5_total_in",{"$f":"'T2-B(PP2)'!$F$53","v":0},"#'T2-B(PP2)'!$F$53"]
["pp2_bl3_4_5_total_out",{"$f":"'T2-B(PP2)'!$I$53","v":0},"#'T2-B(PP2)'!$I$53"]
["pp2_bl3_4_5_unit",{"$f":"'T2-B(PP2)'!$C$53","v":0},"#'T2-B(PP2)'!$C$53"]
["pp2_bl3_4_5_unit_in",{"$f":"'T2-B(PP2)'!$D$53","v":0},"#'T2-B(PP2)'!$D$53"]
["pp2_bl3_4_5_units_out",{"$f":"'T2-B(PP2)'!$G$53","v":0},"#'T2-B(PP2)'!$G$53"]
["pp2_bl3_4_6_name",{"$f":"'T2-B(PP2)'!$B$54","v":0},"#'T2-B(PP2)'!$B$54"]
["pp2_bl3_4_6_rate_in",{"$f":"'T2-B(PP2)'!$E$54","v":0},"#'T2-B(PP2)'!$E$54"]
["pp2_bl3_4_6_rate_out",{"$f":"'T2-B(PP2)'!$H$54","v":0},"#'T2-B(PP2)'!$H$54"]
["pp2_bl3_4_6_total",{"$f":"'T2-B(PP2)'!$J$54","v":0},"#'T2-B(PP2)'!$J$54"]
["pp2_bl3_4_6_total_in",{"$f":"'T2-B(PP2)'!$F$54","v":0},"#'T2-B(PP2)'!$F$54"]
["pp2_bl3_4_6_total_out",{"$f":"'T2-B(PP2)'!$I$54","v":0},"#'T2-B(PP2)'!$I$54"]
["pp2_bl3_4_6_unit",{"$f":"'T2-B(PP2)'!$C$54","v":0},"#'T2-B(PP2)'!$C$54"]
["pp2_bl3_4_6_unit_in",{"$f":"'T2-B(PP2)'!$D$54","v":0},"#'T2-B(PP2)'!$D$54"]
["pp2_bl3_4_6_units_out",{"$f":"'T2-B(PP2)'!$G$54","v":0},"#'T2-B(PP2)'!$G$54"]
["pp2_bl3_4_7_name",{"$f":"'T2-B(PP2)'!$B$55","v":0},"#'T2-B(PP2)'!$B$55"]
["pp2_bl3_4_7_rate_in",{"$f":"'T2-B(PP2)'!$E$55","v":0},"#'T2-B(PP2)'!$E$55"]
["pp2_bl3_4_7_rate_out",{"$f":"'T2-B(PP2)'!$H$55","v":0},"#'T2-B(PP2)'!$H$55"]
["pp2_bl3_4_7_total",{"$f":"'T2-B(PP2)'!$J$55","v":0},"#'T2-B(PP2)'!$J$55"]
["pp2_bl3_4_7_total_in",{"$f":"'T2-B(PP2)'!$F$55","v":0},"#'T2-B(PP2)'!$F$55"]
["pp2_bl3_4_7_total_out",{"$f":"'T2-B(PP2)'!$I$55","v":0},"#'T2-B(PP2)'!$I$55"]
["pp2_bl3_4_7_unit",{"$f":"'T2-B(PP2)'!$C$55","v":0},"#'T2-B(PP2)'!$C$55"]
["pp2_bl3_4_7_unit_in",{"$f":"'T2-B(PP2)'!$D$55","v":0},"#'T2-B(PP2)'!$D$55"]
["pp2_bl3_4_7_units_out",{"$f":"'T2-B(PP2)'!$G$55","v":0},"#'T2-B(PP2)'!$G$55"]
["pp2_bl3_4_8_name",{"$f":"'T2-B(PP2)'!$B$56","v":0},"#'T2-B(PP2)'!$B$56"]
["pp2_bl3_4_8_rate_in",{"$f":"'T2-B(PP2)'!$E$56","v":0},"#'T2-B(PP2)'!$E$56"]
["pp2_bl3_4_8_rate_out",{"$f":"'T2-B(PP2)'!$H$56","v":0},"#'T2-B(PP2)'!$H$56"]
["pp2_bl3_4_8_total",{"$f":"'T2-B(PP2)'!$J$56","v":0},"#'T2-B(PP2)'!$J$56"]
["pp2_bl3_4_8_total_in",{"$f":"'T2-B(PP2)'!$F$56","v":0},"#'T2-B(PP2)'!$F$56"]
["pp2_bl3_4_8_total_out",{"$f":"'T2-B(PP2)'!$I$56","v":0},"#'T2-B(PP2)'!$I$56"]
["pp2_bl3_4_8_unit",{"$f":"'T2-B(PP2)'!$C$56","v":0},"#'T2-B(PP2)'!$C$56"]
["pp2_bl3_4_8_unit_in",{"$f":"'T2-B(PP2)'!$D$56","v":0},"#'T2-B(PP2)'!$D$56"]
["pp2_bl3_4_8_units_out",{"$f":"'T2-B(PP2)'!$G$56","v":0},"#'T2-B(PP2)'!$G$56"]
["pp2_bl3_4_9_name",{"$f":"'T2-B(PP2)'!$B$57","v":0},"#'T2-B(PP2)'!$B$57"]
["pp2_bl3_4_9_rate_in",{"$f":"'T2-B(PP2)'!$E$57","v":0},"#'T2-B(PP2)'!$E$57"]
["pp2_bl3_4_9_rate_out",{"$f":"'T2-B(PP2)'!$H$57","v":0},"#'T2-B(PP2)'!$H$57"]
["pp2_bl3_4_9_total",{"$f":"'T2-B(PP2)'!$J$57","v":0},"#'T2-B(PP2)'!$J$57"]
["pp2_bl3_4_9_total_in",{"$f":"'T2-B(PP2)'!$F$57","v":0},"#'T2-B(PP2)'!$F$57"]
["pp2_bl3_4_9_total_out",{"$f":"'T2-B(PP2)'!$I$57","v":0},"#'T2-B(PP2)'!$I$57"]
["pp2_bl3_4_9_unit",{"$f":"'T2-B(PP2)'!$C$57","v":0},"#'T2-B(PP2)'!$C$57"]
["pp2_bl3_4_9_unit_in",{"$f":"'T2-B(PP2)'!$D$57","v":0},"#'T2-B(PP2)'!$D$57"]
["pp2_bl3_4_9_units_out",{"$f":"'T2-B(PP2)'!$G$57","v":0},"#'T2-B(PP2)'!$G$57"]
["pp2_bl3_4_total",{"$f":"'T2-B(PP2)'!$J$48","v":0},"#'T2-B(PP2)'!$J$48"]
["pp2_bl3_4_total_in",{"$f":"'T2-B(PP2)'!$F$48","v":0},"#'T2-B(PP2)'!$F$48"]
["pp2_bl3_4_total_out",{"$f":"'T2-B(PP2)'!$I$48","v":0},"#'T2-B(PP2)'!$I$48"]
["pp2_bl3_total",{"$f":"'T2-B(PP2)'!$J$59","v":0},"#'T2-B(PP2)'!$J$59"]
["pp2_bl3_total_in",{"$f":"'T2-B(PP2)'!$F$59","v":0},"#'T2-B(PP2)'!$F$59"]
["pp2_bl3_total_out",{"$f":"'T2-B(PP2)'!$I$59","v":0},"#'T2-B(PP2)'!$I$59"]
["pp2_bl4_1_1_name",{"$f":"'T2-B(PP2)'!$B$64","v":0},"#'T2-B(PP2)'!$B$64"]
["pp2_bl4_1_1_rate_in",{"$f":"'T2-B(PP2)'!$E$64","v":0},"#'T2-B(PP2)'!$E$64"]
["pp2_bl4_1_1_rate_out",{"$f":"'T2-B(PP2)'!$H$64","v":0},"#'T2-B(PP2)'!$H$64"]
["pp2_bl4_1_1_total",{"$f":"'T2-B(PP2)'!$J$64","v":0},"#'T2-B(PP2)'!$J$64"]
["pp2_bl4_1_1_total_in",{"$f":"'T2-B(PP2)'!$F$64","v":0},"#'T2-B(PP2)'!$F$64"]
["pp2_bl4_1_1_total_out",{"$f":"'T2-B(PP2)'!$I$64","v":0},"#'T2-B(PP2)'!$I$64"]
["pp2_bl4_1_1_unit",{"$f":"'T2-B(PP2)'!$C$64","v":0},"#'T2-B(PP2)'!$C$64"]
["pp2_bl4_1_1_unit_in",{"$f":"'T2-B(PP2)'!$D$64","v":0},"#'T2-B(PP2)'!$D$64"]
["pp2_bl4_1_1_units_out",{"$f":"'T2-B(PP2)'!$G$64","v":0},"#'T2-B(PP2)'!$G$64"]
["pp2_bl4_1_10_name",{"$f":"'T2-B(PP2)'!$B$73","v":0},"#'T2-B(PP2)'!$B$73"]
["pp2_bl4_1_10_rate_in",{"$f":"'T2-B(PP2)'!$E$73","v":0},"#'T2-B(PP2)'!$E$73"]
["pp2_bl4_1_10_rate_out",{"$f":"'T2-B(PP2)'!$H$73","v":0},"#'T2-B(PP2)'!$H$73"]
["pp2_bl4_1_10_total",{"$f":"'T2-B(PP2)'!$J$73","v":0},"#'T2-B(PP2)'!$J$73"]
["pp2_bl4_1_10_total_in",{"$f":"'T2-B(PP2)'!$F$73","v":0},"#'T2-B(PP2)'!$F$73"]
["pp2_bl4_1_10_total_out",{"$f":"'T2-B(PP2)'!$I$73","v":0},"#'T2-B(PP2)'!$I$73"]
["pp2_bl4_1_10_unit",{"$f":"'T2-B(PP2)'!$C$73","v":0},"#'T2-B(PP2)'!$C$73"]
["pp2_bl4_1_10_unit_in",{"$f":"'T2-B(PP2)'!$D$73","v":0},"#'T2-B(PP2)'!$D$73"]
["pp2_bl4_1_10_units_out",{"$f":"'T2-B(PP2)'!$G$73","v":0},"#'T2-B(PP2)'!$G$73"]
["pp2_bl4_1_2_name",{"$f":"'T2-B(PP2)'!$B$65","v":0},"#'T2-B(PP2)'!$B$65"]
["pp2_bl4_1_2_rate_in",{"$f":"'T2-B(PP2)'!$E$65","v":0},"#'T2-B(PP2)'!$E$65"]
["pp2_bl4_1_2_rate_out",{"$f":"'T2-B(PP2)'!$H$65","v":0},"#'T2-B(PP2)'!$H$65"]
["pp2_bl4_1_2_total",{"$f":"'T2-B(PP2)'!$J$65","v":0},"#'T2-B(PP2)'!$J$65"]
["pp2_bl4_1_2_total_in",{"$f":"'T2-B(PP2)'!$F$65","v":0},"#'T2-B(PP2)'!$F$65"]
["pp2_bl4_1_2_total_out",{"$f":"'T2-B(PP2)'!$I$65","v":0},"#'T2-B(PP2)'!$I$65"]
["pp2_bl4_1_2_unit",{"$f":"'T2-B(PP2)'!$C$65","v":0},"#'T2-B(PP2)'!$C$65"]
["pp2_bl4_1_2_unit_in",{"$f":"'T2-B(PP2)'!$D$65","v":0},"#'T2-B(PP2)'!$D$65"]
["pp2_bl4_1_2_units_out",{"$f":"'T2-B(PP2)'!$G$65","v":0},"#'T2-B(PP2)'!$G$65"]
["pp2_bl4_1_3_name",{"$f":"'T2-B(PP2)'!$B$66","v":0},"#'T2-B(PP2)'!$B$66"]
["pp2_bl4_1_3_rate_in",{"$f":"'T2-B(PP2)'!$E$66","v":0},"#'T2-B(PP2)'!$E$66"]
["pp2_bl4_1_3_rate_out",{"$f":"'T2-B(PP2)'!$H$66","v":0},"#'T2-B(PP2)'!$H$66"]
["pp2_bl4_1_3_total",{"$f":"'T2-B(PP2)'!$J$66","v":0},"#'T2-B(PP2)'!$J$66"]
["pp2_bl4_1_3_total_in",{"$f":"'T2-B(PP2)'!$F$66","v":0},"#'T2-B(PP2)'!$F$66"]
["pp2_bl4_1_3_total_out",{"$f":"'T2-B(PP2)'!$I$66","v":0},"#'T2-B(PP2)'!$I$66"]
["pp2_bl4_1_3_unit",{"$f":"'T2-B(PP2)'!$C$66","v":0},"#'T2-B(PP2)'!$C$66"]
["pp2_bl4_1_3_unit_in",{"$f":"'T2-B(PP2)'!$D$66","v":0},"#'T2-B(PP2)'!$D$66"]
["pp2_bl4_1_3_units_out",{"$f":"'T2-B(PP2)'!$G$66","v":0},"#'T2-B(PP2)'!$G$66"]
["pp2_bl4_1_4_name",{"$f":"'T2-B(PP2)'!$B$67","v":0},"#'T2-B(PP2)'!$B$67"]
["pp2_bl4_1_4_rate_in",{"$f":"'T2-B(PP2)'!$E$67","v":0},"#'T2-B(PP2)'!$E$67"]
["pp2_bl4_1_4_rate_out",{"$f":"'T2-B(PP2)'!$H$67","v":0},"#'T2-B(PP2)'!$H$67"]
["pp2_bl4_1_4_total",{"$f":"'T2-B(PP2)'!$J$67","v":0},"#'T2-B(PP2)'!$J$67"]
["pp2_bl4_1_4_total_in",{"$f":"'T2-B(PP2)'!$F$67","v":0},"#'T2-B(PP2)'!$F$67"]
["pp2_bl4_1_4_total_out",{"$f":"'T2-B(PP2)'!$I$67","v":0},"#'T2-B(PP2)'!$I$67"]
["pp2_bl4_1_4_unit",{"$f":"'T2-B(PP2)'!$C$67","v":0},"#'T2-B(PP2)'!$C$67"]
["pp2_bl4_1_4_unit_in",{"$f":"'T2-B(PP2)'!$D$67","v":0},"#'T2-B(PP2)'!$D$67"]
["pp2_bl4_1_4_units_out",{"$f":"'T2-B(PP2)'!$G$67","v":0},"#'T2-B(PP2)'!$G$67"]
["pp2_bl4_1_5_name",{"$f":"'T2-B(PP2)'!$B$68","v":0},"#'T2-B(PP2)'!$B$68"]
["pp2_bl4_1_5_rate_in",{"$f":"'T2-B(PP2)'!$E$68","v":0},"#'T2-B(PP2)'!$E$68"]
["pp2_bl4_1_5_rate_out",{"$f":"'T2-B(PP2)'!$H$68","v":0},"#'T2-B(PP2)'!$H$68"]
["pp2_bl4_1_5_total",{"$f":"'T2-B(PP2)'!$J$68","v":0},"#'T2-B(PP2)'!$J$68"]
["pp2_bl4_1_5_total_in",{"$f":"'T2-B(PP2)'!$F$68","v":0},"#'T2-B(PP2)'!$F$68"]
["pp2_bl4_1_5_total_out",{"$f":"'T2-B(PP2)'!$I$68","v":0},"#'T2-B(PP2)'!$I$68"]
["pp2_bl4_1_5_unit",{"$f":"'T2-B(PP2)'!$C$68","v":0},"#'T2-B(PP2)'!$C$68"]
["pp2_bl4_1_5_unit_in",{"$f":"'T2-B(PP2)'!$D$68","v":0},"#'T2-B(PP2)'!$D$68"]
["pp2_bl4_1_5_units_out",{"$f":"'T2-B(PP2)'!$G$68","v":0},"#'T2-B(PP2)'!$G$68"]
["pp2_bl4_1_6_name",{"$f":"'T2-B(PP2)'!$B$69","v":0},"#'T2-B(PP2)'!$B$69"]
["pp2_bl4_1_6_rate_in",{"$f":"'T2-B(PP2)'!$E$69","v":0},"#'T2-B(PP2)'!$E$69"]
["pp2_bl4_1_6_rate_out",{"$f":"'T2-B(PP2)'!$H$69","v":0},"#'T2-B(PP2)'!$H$69"]
["pp2_bl4_1_6_total",{"$f":"'T2-B(PP2)'!$J$69","v":0},"#'T2-B(PP2)'!$J$69"]
["pp2_bl4_1_6_total_in",{"$f":"'T2-B(PP2)'!$F$69","v":0},"#'T2-B(PP2)'!$F$69"]
["pp2_bl4_1_6_total_out",{"$f":"'T2-B(PP2)'!$I$69","v":0},"#'T2-B(PP2)'!$I$69"]
["pp2_bl4_1_6_unit",{"$f":"'T2-B(PP2)'!$C$69","v":0},"#'T2-B(PP2)'!$C$69"]
["pp2_bl4_1_6_unit_in",{"$f":"'T2-B(PP2)'!$D$69","v":0},"#'T2-B(PP2)'!$D$69"]
["pp2_bl4_1_6_units_out",{"$f":"'T2-B(PP2)'!$G$69","v":0},"#'T2-B(PP2)'!$G$69"]
["pp2_bl4_1_7_name",{"$f":"'T2-B(PP2)'!$B$70","v":0},"#'T2-B(PP2)'!$B$70"]
["pp2_bl4_1_7_rate_in",{"$f":"'T2-B(PP2)'!$E$70","v":0},"#'T2-B(PP2)'!$E$70"]
["pp2_bl4_1_7_rate_out",{"$f":"'T2-B(PP2)'!$H$70","v":0},"#'T2-B(PP2)'!$H$70"]
["pp2_bl4_1_7_total",{"$f":"'T2-B(PP2)'!$J$70","v":0},"#'T2-B(PP2)'!$J$70"]
["pp2_bl4_1_7_total_in",{"$f":"'T2-B(PP2)'!$F$70","v":0},"#'T2-B(PP2)'!$F$70"]
["pp2_bl4_1_7_total_out",{"$f":"'T2-B(PP2)'!$I$70","v":0},"#'T2-B(PP2)'!$I$70"]
["pp2_bl4_1_7_unit",{"$f":"'T2-B(PP2)'!$C$70","v":0},"#'T2-B(PP2)'!$C$70"]
["pp2_bl4_1_7_unit_in",{"$f":"'T2-B(PP2)'!$D$70","v":0},"#'T2-B(PP2)'!$D$70"]
["pp2_bl4_1_7_units_out",{"$f":"'T2-B(PP2)'!$G$70","v":0},"#'T2-B(PP2)'!$G$70"]
["pp2_bl4_1_8_name",{"$f":"'T2-B(PP2)'!$B$71","v":0},"#'T2-B(PP2)'!$B$71"]
["pp2_bl4_1_8_rate_in",{"$f":"'T2-B(PP2)'!$E$71","v":0},"#'T2-B(PP2)'!$E$71"]
["pp2_bl4_1_8_rate_out",{"$f":"'T2-B(PP2)'!$H$71","v":0},"#'T2-B(PP2)'!$H$71"]
["pp2_bl4_1_8_total",{"$f":"'T2-B(PP2)'!$J$71","v":0},"#'T2-B(PP2)'!$J$71"]
["pp2_bl4_1_8_total_in",{"$f":"'T2-B(PP2)'!$F$71","v":0},"#'T2-B(PP2)'!$F$71"]
["pp2_bl4_1_8_total_out",{"$f":"'T2-B(PP2)'!$I$71","v":0},"#'T2-B(PP2)'!$I$71"]
["pp2_bl4_1_8_unit",{"$f":"'T2-B(PP2)'!$C$71","v":0},"#'T2-B(PP2)'!$C$71"]
["pp2_bl4_1_8_unit_in",{"$f":"'T2-B(PP2)'!$D$71","v":0},"#'T2-B(PP2)'!$D$71"]
["pp2_bl4_1_8_units_out",{"$f":"'T2-B(PP2)'!$G$71","v":0},"#'T2-B(PP2)'!$G$71"]
["pp2_bl4_1_9_name",{"$f":"'T2-B(PP2)'!$B$72","v":0},"#'T2-B(PP2)'!$B$72"]
["pp2_bl4_1_9_rate_in",{"$f":"'T2-B(PP2)'!$E$72","v":0},"#'T2-B(PP2)'!$E$72"]
["pp2_bl4_1_9_rate_out",{"$f":"'T2-B(PP2)'!$H$72","v":0},"#'T2-B(PP2)'!$H$72"]
["pp2_bl4_1_9_total",{"$f":"'T2-B(PP2)'!$J$72","v":0},"#'T2-B(PP2)'!$J$72"]
["pp2_bl4_1_9_total_in",{"$f":"'T2-B(PP2)'!$F$72","v":0},"#'T2-B(PP2)'!$F$72"]
["pp2_bl4_1_9_total_out",{"$f":"'T2-B(PP2)'!$I$72","v":0},"#'T2-B(PP2)'!$I$72"]
["pp2_bl4_1_9_unit",{"$f":"'T2-B(PP2)'!$C$72","v":0},"#'T2-B(PP2)'!$C$72"]
["pp2_bl4_1_9_unit_in",{"$f":"'T2-B(PP2)'!$D$72","v":0},"#'T2-B(PP2)'!$D$72"]
["pp2_bl4_1_9_units_out",{"$f":"'T2-B(PP2)'!$G$72","v":0},"#'T2-B(PP2)'!$G$72"]
["pp2_bl4_1_total",{"$f":"'T2-B(PP2)'!$J$63","v":0},"#'T2-B(PP2)'!$J$63"]
["pp2_bl4_1_total_in",{"$f":"'T2-B(PP2)'!$F$63","v":0},"#'T2-B(PP2)'!$F$63"]
["pp2_bl4_1_total_out",{"$f":"'T2-B(PP2)'!$I$63","v":0},"#'T2-B(PP2)'!$I$63"]
["pp2_bl4_10_1_name",{"$f":"'T2-B(PP2)'!$B$163","v":0},"#'T2-B(PP2)'!$B$163"]
["pp2_bl4_10_1_rate_in",{"$f":"'T2-B(PP2)'!$E$163","v":0},"#'T2-B(PP2)'!$E$163"]
["pp2_bl4_10_1_rate_out",{"$f":"'T2-B(PP2)'!$H$163","v":0},"#'T2-B(PP2)'!$H$163"]
["pp2_bl4_10_1_total",{"$f":"'T2-B(PP2)'!$J$163","v":0},"#'T2-B(PP2)'!$J$163"]
["pp2_bl4_10_1_total_in",{"$f":"'T2-B(PP2)'!$F$163","v":0},"#'T2-B(PP2)'!$F$163"]
["pp2_bl4_10_1_total_out",{"$f":"'T2-B(PP2)'!$I$163","v":0},"#'T2-B(PP2)'!$I$163"]
["pp2_bl4_10_1_unit",{"$f":"'T2-B(PP2)'!$C$163","v":0},"#'T2-B(PP2)'!$C$163"]
["pp2_bl4_10_1_unit_in",{"$f":"'T2-B(PP2)'!$D$163","v":0},"#'T2-B(PP2)'!$D$163"]
["pp2_bl4_10_1_units_out",{"$f":"'T2-B(PP2)'!$G$163","v":0},"#'T2-B(PP2)'!$G$163"]
["pp2_bl4_10_10_name",{"$f":"'T2-B(PP2)'!$B$172","v":0},"#'T2-B(PP2)'!$B$172"]
["pp2_bl4_10_10_rate_in",{"$f":"'T2-B(PP2)'!$E$172","v":0},"#'T2-B(PP2)'!$E$172"]
["pp2_bl4_10_10_rate_out",{"$f":"'T2-B(PP2)'!$H$172","v":0},"#'T2-B(PP2)'!$H$172"]
["pp2_bl4_10_10_total",{"$f":"'T2-B(PP2)'!$J$172","v":0},"#'T2-B(PP2)'!$J$172"]
["pp2_bl4_10_10_total_in",{"$f":"'T2-B(PP2)'!$F$172","v":0},"#'T2-B(PP2)'!$F$172"]
["pp2_bl4_10_10_total_out",{"$f":"'T2-B(PP2)'!$I$172","v":0},"#'T2-B(PP2)'!$I$172"]
["pp2_bl4_10_10_unit",{"$f":"'T2-B(PP2)'!$C$172","v":0},"#'T2-B(PP2)'!$C$172"]
["pp2_bl4_10_10_unit_in",{"$f":"'T2-B(PP2)'!$D$172","v":0},"#'T2-B(PP2)'!$D$172"]
["pp2_bl4_10_10_units_out",{"$f":"'T2-B(PP2)'!$G$172","v":0},"#'T2-B(PP2)'!$G$172"]
["pp2_bl4_10_2_name",{"$f":"'T2-B(PP2)'!$B$164","v":0},"#'T2-B(PP2)'!$B$164"]
["pp2_bl4_10_2_rate_in",{"$f":"'T2-B(PP2)'!$E$164","v":0},"#'T2-B(PP2)'!$E$164"]
["pp2_bl4_10_2_rate_out",{"$f":"'T2-B(PP2)'!$H$164","v":0},"#'T2-B(PP2)'!$H$164"]
["pp2_bl4_10_2_total",{"$f":"'T2-B(PP2)'!$J$164","v":0},"#'T2-B(PP2)'!$J$164"]
["pp2_bl4_10_2_total_in",{"$f":"'T2-B(PP2)'!$F$164","v":0},"#'T2-B(PP2)'!$F$164"]
["pp2_bl4_10_2_total_out",{"$f":"'T2-B(PP2)'!$I$164","v":0},"#'T2-B(PP2)'!$I$164"]
["pp2_bl4_10_2_unit",{"$f":"'T2-B(PP2)'!$C$164","v":0},"#'T2-B(PP2)'!$C$164"]
["pp2_bl4_10_2_unit_in",{"$f":"'T2-B(PP2)'!$D$164","v":0},"#'T2-B(PP2)'!$D$164"]
["pp2_bl4_10_2_units_out",{"$f":"'T2-B(PP2)'!$G$164","v":0},"#'T2-B(PP2)'!$G$164"]
["pp2_bl4_10_3_name",{"$f":"'T2-B(PP2)'!$B$165","v":0},"#'T2-B(PP2)'!$B$165"]
["pp2_bl4_10_3_rate_in",{"$f":"'T2-B(PP2)'!$E$165","v":0},"#'T2-B(PP2)'!$E$165"]
["pp2_bl4_10_3_rate_out",{"$f":"'T2-B(PP2)'!$H$165","v":0},"#'T2-B(PP2)'!$H$165"]
["pp2_bl4_10_3_total",{"$f":"'T2-B(PP2)'!$J$165","v":0},"#'T2-B(PP2)'!$J$165"]
["pp2_bl4_10_3_total_in",{"$f":"'T2-B(PP2)'!$F$165","v":0},"#'T2-B(PP2)'!$F$165"]
["pp2_bl4_10_3_total_out",{"$f":"'T2-B(PP2)'!$I$165","v":0},"#'T2-B(PP2)'!$I$165"]
["pp2_bl4_10_3_unit",{"$f":"'T2-B(PP2)'!$C$165","v":0},"#'T2-B(PP2)'!$C$165"]
["pp2_bl4_10_3_unit_in",{"$f":"'T2-B(PP2)'!$D$165","v":0},"#'T2-B(PP2)'!$D$165"]
["pp2_bl4_10_3_units_out",{"$f":"'T2-B(PP2)'!$G$165","v":0},"#'T2-B(PP2)'!$G$165"]
["pp2_bl4_10_4_name",{"$f":"'T2-B(PP2)'!$B$166","v":0},"#'T2-B(PP2)'!$B$166"]
["pp2_bl4_10_4_rate_in",{"$f":"'T2-B(PP2)'!$E$166","v":0},"#'T2-B(PP2)'!$E$166"]
["pp2_bl4_10_4_rate_out",{"$f":"'T2-B(PP2)'!$H$166","v":0},"#'T2-B(PP2)'!$H$166"]
["pp2_bl4_10_4_total",{"$f":"'T2-B(PP2)'!$J$166","v":0},"#'T2-B(PP2)'!$J$166"]
["pp2_bl4_10_4_total_in",{"$f":"'T2-B(PP2)'!$F$166","v":0},"#'T2-B(PP2)'!$F$166"]
["pp2_bl4_10_4_total_out",{"$f":"'T2-B(PP2)'!$I$166","v":0},"#'T2-B(PP2)'!$I$166"]
["pp2_bl4_10_4_unit",{"$f":"'T2-B(PP2)'!$C$166","v":0},"#'T2-B(PP2)'!$C$166"]
["pp2_bl4_10_4_unit_in",{"$f":"'T2-B(PP2)'!$D$166","v":0},"#'T2-B(PP2)'!$D$166"]
["pp2_bl4_10_4_units_out",{"$f":"'T2-B(PP2)'!$G$166","v":0},"#'T2-B(PP2)'!$G$166"]
["pp2_bl4_10_5_name",{"$f":"'T2-B(PP2)'!$B$167","v":0},"#'T2-B(PP2)'!$B$167"]
["pp2_bl4_10_5_rate_in",{"$f":"'T2-B(PP2)'!$E$167","v":0},"#'T2-B(PP2)'!$E$167"]
["pp2_bl4_10_5_rate_out",{"$f":"'T2-B(PP2)'!$H$167","v":0},"#'T2-B(PP2)'!$H$167"]
["pp2_bl4_10_5_total",{"$f":"'T2-B(PP2)'!$J$167","v":0},"#'T2-B(PP2)'!$J$167"]
["pp2_bl4_10_5_total_in",{"$f":"'T2-B(PP2)'!$F$167","v":0},"#'T2-B(PP2)'!$F$167"]
["pp2_bl4_10_5_total_out",{"$f":"'T2-B(PP2)'!$I$167","v":0},"#'T2-B(PP2)'!$I$167"]
["pp2_bl4_10_5_unit",{"$f":"'T2-B(PP2)'!$C$167","v":0},"#'T2-B(PP2)'!$C$167"]
["pp2_bl4_10_5_unit_in",{"$f":"'T2-B(PP2)'!$D$167","v":0},"#'T2-B(PP2)'!$D$167"]
["pp2_bl4_10_5_units_out",{"$f":"'T2-B(PP2)'!$G$167","v":0},"#'T2-B(PP2)'!$G$167"]
["pp2_bl4_10_6_name",{"$f":"'T2-B(PP2)'!$B$168","v":0},"#'T2-B(PP2)'!$B$168"]
["pp2_bl4_10_6_rate_in",{"$f":"'T2-B(PP2)'!$E$168","v":0},"#'T2-B(PP2)'!$E$168"]
["pp2_bl4_10_6_rate_out",{"$f":"'T2-B(PP2)'!$H$168","v":0},"#'T2-B(PP2)'!$H$168"]
["pp2_bl4_10_6_total",{"$f":"'T2-B(PP2)'!$J$168","v":0},"#'T2-B(PP2)'!$J$168"]
["pp2_bl4_10_6_total_in",{"$f":"'T2-B(PP2)'!$F$168","v":0},"#'T2-B(PP2)'!$F$168"]
["pp2_bl4_10_6_total_out",{"$f":"'T2-B(PP2)'!$I$168","v":0},"#'T2-B(PP2)'!$I$168"]
["pp2_bl4_10_6_unit",{"$f":"'T2-B(PP2)'!$C$168","v":0},"#'T2-B(PP2)'!$C$168"]
["pp2_bl4_10_6_unit_in",{"$f":"'T2-B(PP2)'!$D$168","v":0},"#'T2-B(PP2)'!$D$168"]
["pp2_bl4_10_6_units_out",{"$f":"'T2-B(PP2)'!$G$168","v":0},"#'T2-B(PP2)'!$G$168"]
["pp2_bl4_10_7_name",{"$f":"'T2-B(PP2)'!$B$169","v":0},"#'T2-B(PP2)'!$B$169"]
["pp2_bl4_10_7_rate_in",{"$f":"'T2-B(PP2)'!$E$169","v":0},"#'T2-B(PP2)'!$E$169"]
["pp2_bl4_10_7_rate_out",{"$f":"'T2-B(PP2)'!$H$169","v":0},"#'T2-B(PP2)'!$H$169"]
["pp2_bl4_10_7_total",{"$f":"'T2-B(PP2)'!$J$169","v":0},"#'T2-B(PP2)'!$J$169"]
["pp2_bl4_10_7_total_in",{"$f":"'T2-B(PP2)'!$F$169","v":0},"#'T2-B(PP2)'!$F$169"]
["pp2_bl4_10_7_total_out",{"$f":"'T2-B(PP2)'!$I$169","v":0},"#'T2-B(PP2)'!$I$169"]
["pp2_bl4_10_7_unit",{"$f":"'T2-B(PP2)'!$C$169","v":0},"#'T2-B(PP2)'!$C$169"]
["pp2_bl4_10_7_unit_in",{"$f":"'T2-B(PP2)'!$D$169","v":0},"#'T2-B(PP2)'!$D$169"]
["pp2_bl4_10_7_units_out",{"$f":"'T2-B(PP2)'!$G$169","v":0},"#'T2-B(PP2)'!$G$169"]
["pp2_bl4_10_8_name",{"$f":"'T2-B(PP2)'!$B$170","v":0},"#'T2-B(PP2)'!$B$170"]
["pp2_bl4_10_8_rate_in",{"$f":"'T2-B(PP2)'!$E$170","v":0},"#'T2-B(PP2)'!$E$170"]
["pp2_bl4_10_8_rate_out",{"$f":"'T2-B(PP2)'!$H$170","v":0},"#'T2-B(PP2)'!$H$170"]
["pp2_bl4_10_8_total",{"$f":"'T2-B(PP2)'!$J$170","v":0},"#'T2-B(PP2)'!$J$170"]
["pp2_bl4_10_8_total_in",{"$f":"'T2-B(PP2)'!$F$170","v":0},"#'T2-B(PP2)'!$F$170"]
["pp2_bl4_10_8_total_out",{"$f":"'T2-B(PP2)'!$I$170","v":0},"#'T2-B(PP2)'!$I$170"]
["pp2_bl4_10_8_unit",{"$f":"'T2-B(PP2)'!$C$170","v":0},"#'T2-B(PP2)'!$C$170"]
["pp2_bl4_10_8_unit_in",{"$f":"'T2-B(PP2)'!$D$170","v":0},"#'T2-B(PP2)'!$D$170"]
["pp2_bl4_10_8_units_out",{"$f":"'T2-B(PP2)'!$G$170","v":0},"#'T2-B(PP2)'!$G$170"]
["pp2_bl4_10_9_name",{"$f":"'T2-B(PP2)'!$B$171","v":0},"#'T2-B(PP2)'!$B$171"]
["pp2_bl4_10_9_rate_in",{"$f":"'T2-B(PP2)'!$E$171","v":0},"#'T2-B(PP2)'!$E$171"]
["pp2_bl4_10_9_rate_out",{"$f":"'T2-B(PP2)'!$H$171","v":0},"#'T2-B(PP2)'!$H$171"]
["pp2_bl4_10_9_total",{"$f":"'T2-B(PP2)'!$J$171","v":0},"#'T2-B(PP2)'!$J$171"]
["pp2_bl4_10_9_total_in",{"$f":"'T2-B(PP2)'!$F$171","v":0},"#'T2-B(PP2)'!$F$171"]
["pp2_bl4_10_9_total_out",{"$f":"'T2-B(PP2)'!$I$171","v":0},"#'T2-B(PP2)'!$I$171"]
["pp2_bl4_10_9_unit",{"$f":"'T2-B(PP2)'!$C$171","v":0},"#'T2-B(PP2)'!$C$171"]
["pp2_bl4_10_9_unit_in",{"$f":"'T2-B(PP2)'!$D$171","v":0},"#'T2-B(PP2)'!$D$171"]
["pp2_bl4_10_9_units_out",{"$f":"'T2-B(PP2)'!$G$171","v":0},"#'T2-B(PP2)'!$G$171"]
["pp2_bl4_10_total",{"$f":"'T2-B(PP2)'!$J$162","v":0},"#'T2-B(PP2)'!$J$162"]
["pp2_bl4_10_total_in",{"$f":"'T2-B(PP2)'!$F$162","v":0},"#'T2-B(PP2)'!$F$162"]
["pp2_bl4_10_total_out",{"$f":"'T2-B(PP2)'!$I$162","v":0},"#'T2-B(PP2)'!$I$162"]
["pp2_bl4_11_1_name",{"$f":"'T2-B(PP2)'!$B$174","v":0},"#'T2-B(PP2)'!$B$174"]
["pp2_bl4_11_1_rate_in",{"$f":"'T2-B(PP2)'!$E$174","v":0},"#'T2-B(PP2)'!$E$174"]
["pp2_bl4_11_1_rate_out",{"$f":"'T2-B(PP2)'!$H$174","v":0},"#'T2-B(PP2)'!$H$174"]
["pp2_bl4_11_1_total",{"$f":"'T2-B(PP2)'!$J$174","v":0},"#'T2-B(PP2)'!$J$174"]
["pp2_bl4_11_1_total_in",{"$f":"'T2-B(PP2)'!$F$174","v":0},"#'T2-B(PP2)'!$F$174"]
["pp2_bl4_11_1_total_out",{"$f":"'T2-B(PP2)'!$I$174","v":0},"#'T2-B(PP2)'!$I$174"]
["pp2_bl4_11_1_unit",{"$f":"'T2-B(PP2)'!$C$174","v":0},"#'T2-B(PP2)'!$C$174"]
["pp2_bl4_11_1_unit_in",{"$f":"'T2-B(PP2)'!$D$174","v":0},"#'T2-B(PP2)'!$D$174"]
["pp2_bl4_11_1_units_out",{"$f":"'T2-B(PP2)'!$G$174","v":0},"#'T2-B(PP2)'!$G$174"]
["pp2_bl4_11_10_name",{"$f":"'T2-B(PP2)'!$B$183","v":0},"#'T2-B(PP2)'!$B$183"]
["pp2_bl4_11_10_rate_in",{"$f":"'T2-B(PP2)'!$E$183","v":0},"#'T2-B(PP2)'!$E$183"]
["pp2_bl4_11_10_rate_out",{"$f":"'T2-B(PP2)'!$H$183","v":0},"#'T2-B(PP2)'!$H$183"]
["pp2_bl4_11_10_total",{"$f":"'T2-B(PP2)'!$J$183","v":0},"#'T2-B(PP2)'!$J$183"]
["pp2_bl4_11_10_total_in",{"$f":"'T2-B(PP2)'!$F$183","v":0},"#'T2-B(PP2)'!$F$183"]
["pp2_bl4_11_10_total_out",{"$f":"'T2-B(PP2)'!$I$183","v":0},"#'T2-B(PP2)'!$I$183"]
["pp2_bl4_11_10_unit",{"$f":"'T2-B(PP2)'!$C$183","v":0},"#'T2-B(PP2)'!$C$183"]
["pp2_bl4_11_10_unit_in",{"$f":"'T2-B(PP2)'!$D$183","v":0},"#'T2-B(PP2)'!$D$183"]
["pp2_bl4_11_10_units_out",{"$f":"'T2-B(PP2)'!$G$183","v":0},"#'T2-B(PP2)'!$G$183"]
["pp2_bl4_11_2_name",{"$f":"'T2-B(PP2)'!$B$175","v":0},"#'T2-B(PP2)'!$B$175"]
["pp2_bl4_11_2_rate_in",{"$f":"'T2-B(PP2)'!$E$175","v":0},"#'T2-B(PP2)'!$E$175"]
["pp2_bl4_11_2_rate_out",{"$f":"'T2-B(PP2)'!$H$175","v":0},"#'T2-B(PP2)'!$H$175"]
["pp2_bl4_11_2_total",{"$f":"'T2-B(PP2)'!$J$175","v":0},"#'T2-B(PP2)'!$J$175"]
["pp2_bl4_11_2_total_in",{"$f":"'T2-B(PP2)'!$F$175","v":0},"#'T2-B(PP2)'!$F$175"]
["pp2_bl4_11_2_total_out",{"$f":"'T2-B(PP2)'!$I$175","v":0},"#'T2-B(PP2)'!$I$175"]
["pp2_bl4_11_2_unit",{"$f":"'T2-B(PP2)'!$C$175","v":0},"#'T2-B(PP2)'!$C$175"]
["pp2_bl4_11_2_unit_in",{"$f":"'T2-B(PP2)'!$D$175","v":0},"#'T2-B(PP2)'!$D$175"]
["pp2_bl4_11_2_units_out",{"$f":"'T2-B(PP2)'!$G$175","v":0},"#'T2-B(PP2)'!$G$175"]
["pp2_bl4_11_3_name",{"$f":"'T2-B(PP2)'!$B$176","v":0},"#'T2-B(PP2)'!$B$176"]
["pp2_bl4_11_3_rate_in",{"$f":"'T2-B(PP2)'!$E$176","v":0},"#'T2-B(PP2)'!$E$176"]
["pp2_bl4_11_3_rate_out",{"$f":"'T2-B(PP2)'!$H$176","v":0},"#'T2-B(PP2)'!$H$176"]
["pp2_bl4_11_3_total",{"$f":"'T2-B(PP2)'!$J$176","v":0},"#'T2-B(PP2)'!$J$176"]
["pp2_bl4_11_3_total_in",{"$f":"'T2-B(PP2)'!$F$176","v":0},"#'T2-B(PP2)'!$F$176"]
["pp2_bl4_11_3_total_out",{"$f":"'T2-B(PP2)'!$I$176","v":0},"#'T2-B(PP2)'!$I$176"]
["pp2_bl4_11_3_unit",{"$f":"'T2-B(PP2)'!$C$176","v":0},"#'T2-B(PP2)'!$C$176"]
["pp2_bl4_11_3_unit_in",{"$f":"'T2-B(PP2)'!$D$176","v":0},"#'T2-B(PP2)'!$D$176"]
["pp2_bl4_11_3_units_out",{"$f":"'T2-B(PP2)'!$G$176","v":0},"#'T2-B(PP2)'!$G$176"]
["pp2_bl4_11_4_name",{"$f":"'T2-B(PP2)'!$B$177","v":0},"#'T2-B(PP2)'!$B$177"]
["pp2_bl4_11_4_rate_in",{"$f":"'T2-B(PP2)'!$E$177","v":0},"#'T2-B(PP2)'!$E$177"]
["pp2_bl4_11_4_rate_out",{"$f":"'T2-B(PP2)'!$H$177","v":0},"#'T2-B(PP2)'!$H$177"]
["pp2_bl4_11_4_total",{"$f":"'T2-B(PP2)'!$J$177","v":0},"#'T2-B(PP2)'!$J$177"]
["pp2_bl4_11_4_total_in",{"$f":"'T2-B(PP2)'!$F$177","v":0},"#'T2-B(PP2)'!$F$177"]
["pp2_bl4_11_4_total_out",{"$f":"'T2-B(PP2)'!$I$177","v":0},"#'T2-B(PP2)'!$I$177"]
["pp2_bl4_11_4_unit",{"$f":"'T2-B(PP2)'!$C$177","v":0},"#'T2-B(PP2)'!$C$177"]
["pp2_bl4_11_4_unit_in",{"$f":"'T2-B(PP2)'!$D$177","v":0},"#'T2-B(PP2)'!$D$177"]
["pp2_bl4_11_4_units_out",{"$f":"'T2-B(PP2)'!$G$177","v":0},"#'T2-B(PP2)'!$G$177"]
["pp2_bl4_11_5_name",{"$f":"'T2-B(PP2)'!$B$178","v":0},"#'T2-B(PP2)'!$B$178"]
["pp2_bl4_11_5_rate_in",{"$f":"'T2-B(PP2)'!$E$178","v":0},"#'T2-B(PP2)'!$E$178"]
["pp2_bl4_11_5_rate_out",{"$f":"'T2-B(PP2)'!$H$178","v":0},"#'T2-B(PP2)'!$H$178"]
["pp2_bl4_11_5_total",{"$f":"'T2-B(PP2)'!$J$178","v":0},"#'T2-B(PP2)'!$J$178"]
["pp2_bl4_11_5_total_in",{"$f":"'T2-B(PP2)'!$F$178","v":0},"#'T2-B(PP2)'!$F$178"]
["pp2_bl4_11_5_total_out",{"$f":"'T2-B(PP2)'!$I$178","v":0},"#'T2-B(PP2)'!$I$178"]
["pp2_bl4_11_5_unit",{"$f":"'T2-B(PP2)'!$C$178","v":0},"#'T2-B(PP2)'!$C$178"]
["pp2_bl4_11_5_unit_in",{"$f":"'T2-B(PP2)'!$D$178","v":0},"#'T2-B(PP2)'!$D$178"]
["pp2_bl4_11_5_units_out",{"$f":"'T2-B(PP2)'!$G$178","v":0},"#'T2-B(PP2)'!$G$178"]
["pp2_bl4_11_6_name",{"$f":"'T2-B(PP2)'!$B$179","v":0},"#'T2-B(PP2)'!$B$179"]
["pp2_bl4_11_6_rate_in",{"$f":"'T2-B(PP2)'!$E$179","v":0},"#'T2-B(PP2)'!$E$179"]
["pp2_bl4_11_6_rate_out",{"$f":"'T2-B(PP2)'!$H$179","v":0},"#'T2-B(PP2)'!$H$179"]
["pp2_bl4_11_6_total",{"$f":"'T2-B(PP2)'!$J$179","v":0},"#'T2-B(PP2)'!$J$179"]
["pp2_bl4_11_6_total_in",{"$f":"'T2-B(PP2)'!$F$179","v":0},"#'T2-B(PP2)'!$F$179"]
["pp2_bl4_11_6_total_out",{"$f":"'T2-B(PP2)'!$I$179","v":0},"#'T2-B(PP2)'!$I$179"]
["pp2_bl4_11_6_unit",{"$f":"'T2-B(PP2)'!$C$179","v":0},"#'T2-B(PP2)'!$C$179"]
["pp2_bl4_11_6_unit_in",{"$f":"'T2-B(PP2)'!$D$179","v":0},"#'T2-B(PP2)'!$D$179"]
["pp2_bl4_11_6_units_out",{"$f":"'T2-B(PP2)'!$G$179","v":0},"#'T2-B(PP2)'!$G$179"]
["pp2_bl4_11_7_name",{"$f":"'T2-B(PP2)'!$B$180","v":0},"#'T2-B(PP2)'!$B$180"]
["pp2_bl4_11_7_rate_in",{"$f":"'T2-B(PP2)'!$E$180","v":0},"#'T2-B(PP2)'!$E$180"]
["pp2_bl4_11_7_rate_out",{"$f":"'T2-B(PP2)'!$H$180","v":0},"#'T2-B(PP2)'!$H$180"]
["pp2_bl4_11_7_total",{"$f":"'T2-B(PP2)'!$J$180","v":0},"#'T2-B(PP2)'!$J$180"]
["pp2_bl4_11_7_total_in",{"$f":"'T2-B(PP2)'!$F$180","v":0},"#'T2-B(PP2)'!$F$180"]
["pp2_bl4_11_7_total_out",{"$f":"'T2-B(PP2)'!$I$180","v":0},"#'T2-B(PP2)'!$I$180"]
["pp2_bl4_11_7_unit",{"$f":"'T2-B(PP2)'!$C$180","v":0},"#'T2-B(PP2)'!$C$180"]
["pp2_bl4_11_7_unit_in",{"$f":"'T2-B(PP2)'!$D$180","v":0},"#'T2-B(PP2)'!$D$180"]
["pp2_bl4_11_7_units_out",{"$f":"'T2-B(PP2)'!$G$180","v":0},"#'T2-B(PP2)'!$G$180"]
["pp2_bl4_11_8_name",{"$f":"'T2-B(PP2)'!$B$181","v":0},"#'T2-B(PP2)'!$B$181"]
["pp2_bl4_11_8_rate_in",{"$f":"'T2-B(PP2)'!$E$181","v":0},"#'T2-B(PP2)'!$E$181"]
["pp2_bl4_11_8_rate_out",{"$f":"'T2-B(PP2)'!$H$181","v":0},"#'T2-B(PP2)'!$H$181"]
["pp2_bl4_11_8_total",{"$f":"'T2-B(PP2)'!$J$181","v":0},"#'T2-B(PP2)'!$J$181"]
["pp2_bl4_11_8_total_in",{"$f":"'T2-B(PP2)'!$F$181","v":0},"#'T2-B(PP2)'!$F$181"]
["pp2_bl4_11_8_total_out",{"$f":"'T2-B(PP2)'!$I$181","v":0},"#'T2-B(PP2)'!$I$181"]
["pp2_bl4_11_8_unit",{"$f":"'T2-B(PP2)'!$C$181","v":0},"#'T2-B(PP2)'!$C$181"]
["pp2_bl4_11_8_unit_in",{"$f":"'T2-B(PP2)'!$D$181","v":0},"#'T2-B(PP2)'!$D$181"]
["pp2_bl4_11_8_units_out",{"$f":"'T2-B(PP2)'!$G$181","v":0},"#'T2-B(PP2)'!$G$181"]
["pp2_bl4_11_9_name",{"$f":"'T2-B(PP2)'!$B$182","v":0},"#'T2-B(PP2)'!$B$182"]
["pp2_bl4_11_9_rate_in",{"$f":"'T2-B(PP2)'!$E$182","v":0},"#'T2-B(PP2)'!$E$182"]
["pp2_bl4_11_9_rate_out",{"$f":"'T2-B(PP2)'!$H$182","v":0},"#'T2-B(PP2)'!$H$182"]
["pp2_bl4_11_9_total",{"$f":"'T2-B(PP2)'!$J$182","v":0},"#'T2-B(PP2)'!$J$182"]
["pp2_bl4_11_9_total_in",{"$f":"'T2-B(PP2)'!$F$182","v":0},"#'T2-B(PP2)'!$F$182"]
["pp2_bl4_11_9_total_out",{"$f":"'T2-B(PP2)'!$I$182","v":0},"#'T2-B(PP2)'!$I$182"]
["pp2_bl4_11_9_unit",{"$f":"'T2-B(PP2)'!$C$182","v":0},"#'T2-B(PP2)'!$C$182"]
["pp2_bl4_11_9_unit_in",{"$f":"'T2-B(PP2)'!$D$182","v":0},"#'T2-B(PP2)'!$D$182"]
["pp2_bl4_11_9_units_out",{"$f":"'T2-B(PP2)'!$G$182","v":0},"#'T2-B(PP2)'!$G$182"]
["pp2_bl4_11_total",{"$f":"'T2-B(PP2)'!$J$173","v":0},"#'T2-B(PP2)'!$J$173"]
["pp2_bl4_11_total_in",{"$f":"'T2-B(PP2)'!$F$173","v":0},"#'T2-B(PP2)'!$F$173"]
["pp2_bl4_11_total_out",{"$f":"'T2-B(PP2)'!$I$173","v":0},"#'T2-B(PP2)'!$I$173"]
["pp2_bl4_12_1_name",{"$f":"'T2-B(PP2)'!$B$185","v":0},"#'T2-B(PP2)'!$B$185"]
["pp2_bl4_12_1_rate_in",{"$f":"'T2-B(PP2)'!$E$185","v":0},"#'T2-B(PP2)'!$E$185"]
["pp2_bl4_12_1_rate_out",{"$f":"'T2-B(PP2)'!$H$185","v":0},"#'T2-B(PP2)'!$H$185"]
["pp2_bl4_12_1_total",{"$f":"'T2-B(PP2)'!$J$185","v":0},"#'T2-B(PP2)'!$J$185"]
["pp2_bl4_12_1_total_in",{"$f":"'T2-B(PP2)'!$F$185","v":0},"#'T2-B(PP2)'!$F$185"]
["pp2_bl4_12_1_total_out",{"$f":"'T2-B(PP2)'!$I$185","v":0},"#'T2-B(PP2)'!$I$185"]
["pp2_bl4_12_1_unit",{"$f":"'T2-B(PP2)'!$C$185","v":0},"#'T2-B(PP2)'!$C$185"]
["pp2_bl4_12_1_unit_in",{"$f":"'T2-B(PP2)'!$D$185","v":0},"#'T2-B(PP2)'!$D$185"]
["pp2_bl4_12_1_units_out",{"$f":"'T2-B(PP2)'!$G$185","v":0},"#'T2-B(PP2)'!$G$185"]
["pp2_bl4_12_10_name",{"$f":"'T2-B(PP2)'!$B$194","v":0},"#'T2-B(PP2)'!$B$194"]
["pp2_bl4_12_10_rate_in",{"$f":"'T2-B(PP2)'!$E$194","v":0},"#'T2-B(PP2)'!$E$194"]
["pp2_bl4_12_10_rate_out",{"$f":"'T2-B(PP2)'!$H$194","v":0},"#'T2-B(PP2)'!$H$194"]
["pp2_bl4_12_10_total",{"$f":"'T2-B(PP2)'!$J$194","v":0},"#'T2-B(PP2)'!$J$194"]
["pp2_bl4_12_10_total_in",{"$f":"'T2-B(PP2)'!$F$194","v":0},"#'T2-B(PP2)'!$F$194"]
["pp2_bl4_12_10_total_out",{"$f":"'T2-B(PP2)'!$I$194","v":0},"#'T2-B(PP2)'!$I$194"]
["pp2_bl4_12_10_unit",{"$f":"'T2-B(PP2)'!$C$194","v":0},"#'T2-B(PP2)'!$C$194"]
["pp2_bl4_12_10_unit_in",{"$f":"'T2-B(PP2)'!$D$194","v":0},"#'T2-B(PP2)'!$D$194"]
["pp2_bl4_12_10_units_out",{"$f":"'T2-B(PP2)'!$G$194","v":0},"#'T2-B(PP2)'!$G$194"]
["pp2_bl4_12_2_name",{"$f":"'T2-B(PP2)'!$B$186","v":0},"#'T2-B(PP2)'!$B$186"]
["pp2_bl4_12_2_rate_in",{"$f":"'T2-B(PP2)'!$E$186","v":0},"#'T2-B(PP2)'!$E$186"]
["pp2_bl4_12_2_rate_out",{"$f":"'T2-B(PP2)'!$H$186","v":0},"#'T2-B(PP2)'!$H$186"]
["pp2_bl4_12_2_total",{"$f":"'T2-B(PP2)'!$J$186","v":0},"#'T2-B(PP2)'!$J$186"]
["pp2_bl4_12_2_total_in",{"$f":"'T2-B(PP2)'!$F$186","v":0},"#'T2-B(PP2)'!$F$186"]
["pp2_bl4_12_2_total_out",{"$f":"'T2-B(PP2)'!$I$186","v":0},"#'T2-B(PP2)'!$I$186"]
["pp2_bl4_12_2_unit",{"$f":"'T2-B(PP2)'!$C$186","v":0},"#'T2-B(PP2)'!$C$186"]
["pp2_bl4_12_2_unit_in",{"$f":"'T2-B(PP2)'!$D$186","v":0},"#'T2-B(PP2)'!$D$186"]
["pp2_bl4_12_2_units_out",{"$f":"'T2-B(PP2)'!$G$186","v":0},"#'T2-B(PP2)'!$G$186"]
["pp2_bl4_12_3_name",{"$f":"'T2-B(PP2)'!$B$187","v":0},"#'T2-B(PP2)'!$B$187"]
["pp2_bl4_12_3_rate_in",{"$f":"'T2-B(PP2)'!$E$187","v":0},"#'T2-B(PP2)'!$E$187"]
["pp2_bl4_12_3_rate_out",{"$f":"'T2-B(PP2)'!$H$187","v":0},"#'T2-B(PP2)'!$H$187"]
["pp2_bl4_12_3_total",{"$f":"'T2-B(PP2)'!$J$187","v":0},"#'T2-B(PP2)'!$J$187"]
["pp2_bl4_12_3_total_in",{"$f":"'T2-B(PP2)'!$F$187","v":0},"#'T2-B(PP2)'!$F$187"]
["pp2_bl4_12_3_total_out",{"$f":"'T2-B(PP2)'!$I$187","v":0},"#'T2-B(PP2)'!$I$187"]
["pp2_bl4_12_3_unit",{"$f":"'T2-B(PP2)'!$C$187","v":0},"#'T2-B(PP2)'!$C$187"]
["pp2_bl4_12_3_unit_in",{"$f":"'T2-B(PP2)'!$D$187","v":0},"#'T2-B(PP2)'!$D$187"]
["pp2_bl4_12_3_units_out",{"$f":"'T2-B(PP2)'!$G$187","v":0},"#'T2-B(PP2)'!$G$187"]
["pp2_bl4_12_4_name",{"$f":"'T2-B(PP2)'!$B$188","v":0},"#'T2-B(PP2)'!$B$188"]
["pp2_bl4_12_4_rate_in",{"$f":"'T2-B(PP2)'!$E$188","v":0},"#'T2-B(PP2)'!$E$188"]
["pp2_bl4_12_4_rate_out",{"$f":"'T2-B(PP2)'!$H$188","v":0},"#'T2-B(PP2)'!$H$188"]
["pp2_bl4_12_4_total",{"$f":"'T2-B(PP2)'!$J$188","v":0},"#'T2-B(PP2)'!$J$188"]
["pp2_bl4_12_4_total_in",{"$f":"'T2-B(PP2)'!$F$188","v":0},"#'T2-B(PP2)'!$F$188"]
["pp2_bl4_12_4_total_out",{"$f":"'T2-B(PP2)'!$I$188","v":0},"#'T2-B(PP2)'!$I$188"]
["pp2_bl4_12_4_unit",{"$f":"'T2-B(PP2)'!$C$188","v":0},"#'T2-B(PP2)'!$C$188"]
["pp2_bl4_12_4_unit_in",{"$f":"'T2-B(PP2)'!$D$188","v":0},"#'T2-B(PP2)'!$D$188"]
["pp2_bl4_12_4_units_out",{"$f":"'T2-B(PP2)'!$G$188","v":0},"#'T2-B(PP2)'!$G$188"]
["pp2_bl4_12_5_name",{"$f":"'T2-B(PP2)'!$B$189","v":0},"#'T2-B(PP2)'!$B$189"]
["pp2_bl4_12_5_rate_in",{"$f":"'T2-B(PP2)'!$E$189","v":0},"#'T2-B(PP2)'!$E$189"]
["pp2_bl4_12_5_rate_out",{"$f":"'T2-B(PP2)'!$H$189","v":0},"#'T2-B(PP2)'!$H$189"]
["pp2_bl4_12_5_total",{"$f":"'T2-B(PP2)'!$J$189","v":0},"#'T2-B(PP2)'!$J$189"]
["pp2_bl4_12_5_total_in",{"$f":"'T2-B(PP2)'!$F$189","v":0},"#'T2-B(PP2)'!$F$189"]
["pp2_bl4_12_5_total_out",{"$f":"'T2-B(PP2)'!$I$189","v":0},"#'T2-B(PP2)'!$I$189"]
["pp2_bl4_12_5_unit",{"$f":"'T2-B(PP2)'!$C$189","v":0},"#'T2-B(PP2)'!$C$189"]
["pp2_bl4_12_5_unit_in",{"$f":"'T2-B(PP2)'!$D$189","v":0},"#'T2-B(PP2)'!$D$189"]
["pp2_bl4_12_5_units_out",{"$f":"'T2-B(PP2)'!$G$189","v":0},"#'T2-B(PP2)'!$G$189"]
["pp2_bl4_12_6_name",{"$f":"'T2-B(PP2)'!$B$190","v":0},"#'T2-B(PP2)'!$B$190"]
["pp2_bl4_12_6_rate_in",{"$f":"'T2-B(PP2)'!$E$190","v":0},"#'T2-B(PP2)'!$E$190"]
["pp2_bl4_12_6_rate_out",{"$f":"'T2-B(PP2)'!$H$190","v":0},"#'T2-B(PP2)'!$H$190"]
["pp2_bl4_12_6_total",{"$f":"'T2-B(PP2)'!$J$190","v":0},"#'T2-B(PP2)'!$J$190"]
["pp2_bl4_12_6_total_in",{"$f":"'T2-B(PP2)'!$F$190","v":0},"#'T2-B(PP2)'!$F$190"]
["pp2_bl4_12_6_total_out",{"$f":"'T2-B(PP2)'!$I$190","v":0},"#'T2-B(PP2)'!$I$190"]
["pp2_bl4_12_6_unit",{"$f":"'T2-B(PP2)'!$C$190","v":0},"#'T2-B(PP2)'!$C$190"]
["pp2_bl4_12_6_unit_in",{"$f":"'T2-B(PP2)'!$D$190","v":0},"#'T2-B(PP2)'!$D$190"]
["pp2_bl4_12_6_units_out",{"$f":"'T2-B(PP2)'!$G$190","v":0},"#'T2-B(PP2)'!$G$190"]
["pp2_bl4_12_7_name",{"$f":"'T2-B(PP2)'!$B$191","v":0},"#'T2-B(PP2)'!$B$191"]
["pp2_bl4_12_7_rate_in",{"$f":"'T2-B(PP2)'!$E$191","v":0},"#'T2-B(PP2)'!$E$191"]
["pp2_bl4_12_7_rate_out",{"$f":"'T2-B(PP2)'!$H$191","v":0},"#'T2-B(PP2)'!$H$191"]
["pp2_bl4_12_7_total",{"$f":"'T2-B(PP2)'!$J$191","v":0},"#'T2-B(PP2)'!$J$191"]
["pp2_bl4_12_7_total_in",{"$f":"'T2-B(PP2)'!$F$191","v":0},"#'T2-B(PP2)'!$F$191"]
["pp2_bl4_12_7_total_out",{"$f":"'T2-B(PP2)'!$I$191","v":0},"#'T2-B(PP2)'!$I$191"]
["pp2_bl4_12_7_unit",{"$f":"'T2-B(PP2)'!$C$191","v":0},"#'T2-B(PP2)'!$C$191"]
["pp2_bl4_12_7_unit_in",{"$f":"'T2-B(PP2)'!$D$191","v":0},"#'T2-B(PP2)'!$D$191"]
["pp2_bl4_12_7_units_out",{"$f":"'T2-B(PP2)'!$G$191","v":0},"#'T2-B(PP2)'!$G$191"]
["pp2_bl4_12_8_name",{"$f":"'T2-B(PP2)'!$B$192","v":0},"#'T2-B(PP2)'!$B$192"]
["pp2_bl4_12_8_rate_in",{"$f":"'T2-B(PP2)'!$E$192","v":0},"#'T2-B(PP2)'!$E$192"]
["pp2_bl4_12_8_rate_out",{"$f":"'T2-B(PP2)'!$H$192","v":0},"#'T2-B(PP2)'!$H$192"]
["pp2_bl4_12_8_total",{"$f":"'T2-B(PP2)'!$J$192","v":0},"#'T2-B(PP2)'!$J$192"]
["pp2_bl4_12_8_total_in",{"$f":"'T2-B(PP2)'!$F$192","v":0},"#'T2-B(PP2)'!$F$192"]
["pp2_bl4_12_8_total_out",{"$f":"'T2-B(PP2)'!$I$192","v":0},"#'T2-B(PP2)'!$I$192"]
["pp2_bl4_12_8_unit",{"$f":"'T2-B(PP2)'!$C$192","v":0},"#'T2-B(PP2)'!$C$192"]
["pp2_bl4_12_8_unit_in",{"$f":"'T2-B(PP2)'!$D$192","v":0},"#'T2-B(PP2)'!$D$192"]
["pp2_bl4_12_8_units_out",{"$f":"'T2-B(PP2)'!$G$192","v":0},"#'T2-B(PP2)'!$G$192"]
["pp2_bl4_12_9_name",{"$f":"'T2-B(PP2)'!$B$193","v":0},"#'T2-B(PP2)'!$B$193"]
["pp2_bl4_12_9_rate_in",{"$f":"'T2-B(PP2)'!$E$193","v":0},"#'T2-B(PP2)'!$E$193"]
["pp2_bl4_12_9_rate_out",{"$f":"'T2-B(PP2)'!$H$193","v":0},"#'T2-B(PP2)'!$H$193"]
["pp2_bl4_12_9_total",{"$f":"'T2-B(PP2)'!$J$193","v":0},"#'T2-B(PP2)'!$J$193"]
["pp2_bl4_12_9_total_in",{"$f":"'T2-B(PP2)'!$F$193","v":0},"#'T2-B(PP2)'!$F$193"]
["pp2_bl4_12_9_total_out",{"$f":"'T2-B(PP2)'!$I$193","v":0},"#'T2-B(PP2)'!$I$193"]
["pp2_bl4_12_9_unit",{"$f":"'T2-B(PP2)'!$C$193","v":0},"#'T2-B(PP2)'!$C$193"]
["pp2_bl4_12_9_unit_in",{"$f":"'T2-B(PP2)'!$D$193","v":0},"#'T2-B(PP2)'!$D$193"]
["pp2_bl4_12_9_units_out",{"$f":"'T2-B(PP2)'!$G$193","v":0},"#'T2-B(PP2)'!$G$193"]
["pp2_bl4_12_total",{"$f":"'T2-B(PP2)'!$J$184","v":0},"#'T2-B(PP2)'!$J$184"]
["pp2_bl4_12_total_in",{"$f":"'T2-B(PP2)'!$F$184","v":0},"#'T2-B(PP2)'!$F$184"]
["pp2_bl4_12_total_out",{"$f":"'T2-B(PP2)'!$I$184","v":0},"#'T2-B(PP2)'!$I$184"]
["pp2_bl4_13_1_name",{"$f":"'T2-B(PP2)'!$B$196","v":0},"#'T2-B(PP2)'!$B$196"]
["pp2_bl4_13_1_rate_in",{"$f":"'T2-B(PP2)'!$E$196","v":0},"#'T2-B(PP2)'!$E$196"]
["pp2_bl4_13_1_rate_out",{"$f":"'T2-B(PP2)'!$H$196","v":0},"#'T2-B(PP2)'!$H$196"]
["pp2_bl4_13_1_total",{"$f":"'T2-B(PP2)'!$J$196","v":0},"#'T2-B(PP2)'!$J$196"]
["pp2_bl4_13_1_total_in",{"$f":"'T2-B(PP2)'!$F$196","v":0},"#'T2-B(PP2)'!$F$196"]
["pp2_bl4_13_1_total_out",{"$f":"'T2-B(PP2)'!$I$196","v":0},"#'T2-B(PP2)'!$I$196"]
["pp2_bl4_13_1_unit",{"$f":"'T2-B(PP2)'!$C$196","v":0},"#'T2-B(PP2)'!$C$196"]
["pp2_bl4_13_1_unit_in",{"$f":"'T2-B(PP2)'!$D$196","v":0},"#'T2-B(PP2)'!$D$196"]
["pp2_bl4_13_1_units_out",{"$f":"'T2-B(PP2)'!$G$196","v":0},"#'T2-B(PP2)'!$G$196"]
["pp2_bl4_13_10_name",{"$f":"'T2-B(PP2)'!$B$205","v":0},"#'T2-B(PP2)'!$B$205"]
["pp2_bl4_13_10_rate_in",{"$f":"'T2-B(PP2)'!$E$205","v":0},"#'T2-B(PP2)'!$E$205"]
["pp2_bl4_13_10_rate_out",{"$f":"'T2-B(PP2)'!$H$205","v":0},"#'T2-B(PP2)'!$H$205"]
["pp2_bl4_13_10_total",{"$f":"'T2-B(PP2)'!$J$205","v":0},"#'T2-B(PP2)'!$J$205"]
["pp2_bl4_13_10_total_in",{"$f":"'T2-B(PP2)'!$F$205","v":0},"#'T2-B(PP2)'!$F$205"]
["pp2_bl4_13_10_total_out",{"$f":"'T2-B(PP2)'!$I$205","v":0},"#'T2-B(PP2)'!$I$205"]
["pp2_bl4_13_10_unit",{"$f":"'T2-B(PP2)'!$C$205","v":0},"#'T2-B(PP2)'!$C$205"]
["pp2_bl4_13_10_unit_in",{"$f":"'T2-B(PP2)'!$D$205","v":0},"#'T2-B(PP2)'!$D$205"]
["pp2_bl4_13_10_units_out",{"$f":"'T2-B(PP2)'!$G$205","v":0},"#'T2-B(PP2)'!$G$205"]
["pp2_bl4_13_2_name",{"$f":"'T2-B(PP2)'!$B$197","v":0},"#'T2-B(PP2)'!$B$197"]
["pp2_bl4_13_2_rate_in",{"$f":"'T2-B(PP2)'!$E$197","v":0},"#'T2-B(PP2)'!$E$197"]
["pp2_bl4_13_2_rate_out",{"$f":"'T2-B(PP2)'!$H$197","v":0},"#'T2-B(PP2)'!$H$197"]
["pp2_bl4_13_2_total",{"$f":"'T2-B(PP2)'!$J$197","v":0},"#'T2-B(PP2)'!$J$197"]
["pp2_bl4_13_2_total_in",{"$f":"'T2-B(PP2)'!$F$197","v":0},"#'T2-B(PP2)'!$F$197"]
["pp2_bl4_13_2_total_out",{"$f":"'T2-B(PP2)'!$I$197","v":0},"#'T2-B(PP2)'!$I$197"]
["pp2_bl4_13_2_unit",{"$f":"'T2-B(PP2)'!$C$197","v":0},"#'T2-B(PP2)'!$C$197"]
["pp2_bl4_13_2_unit_in",{"$f":"'T2-B(PP2)'!$D$197","v":0},"#'T2-B(PP2)'!$D$197"]
["pp2_bl4_13_2_units_out",{"$f":"'T2-B(PP2)'!$G$197","v":0},"#'T2-B(PP2)'!$G$197"]
["pp2_bl4_13_3_name",{"$f":"'T2-B(PP2)'!$B$198","v":0},"#'T2-B(PP2)'!$B$198"]
["pp2_bl4_13_3_rate_in",{"$f":"'T2-B(PP2)'!$E$198","v":0},"#'T2-B(PP2)'!$E$198"]
["pp2_bl4_13_3_rate_out",{"$f":"'T2-B(PP2)'!$H$198","v":0},"#'T2-B(PP2)'!$H$198"]
["pp2_bl4_13_3_total",{"$f":"'T2-B(PP2)'!$J$198","v":0},"#'T2-B(PP2)'!$J$198"]
["pp2_bl4_13_3_total_in",{"$f":"'T2-B(PP2)'!$F$198","v":0},"#'T2-B(PP2)'!$F$198"]
["pp2_bl4_13_3_total_out",{"$f":"'T2-B(PP2)'!$I$198","v":0},"#'T2-B(PP2)'!$I$198"]
["pp2_bl4_13_3_unit",{"$f":"'T2-B(PP2)'!$C$198","v":0},"#'T2-B(PP2)'!$C$198"]
["pp2_bl4_13_3_unit_in",{"$f":"'T2-B(PP2)'!$D$198","v":0},"#'T2-B(PP2)'!$D$198"]
["pp2_bl4_13_3_units_out",{"$f":"'T2-B(PP2)'!$G$198","v":0},"#'T2-B(PP2)'!$G$198"]
["pp2_bl4_13_4_name",{"$f":"'T2-B(PP2)'!$B$199","v":0},"#'T2-B(PP2)'!$B$199"]
["pp2_bl4_13_4_rate_in",{"$f":"'T2-B(PP2)'!$E$199","v":0},"#'T2-B(PP2)'!$E$199"]
["pp2_bl4_13_4_rate_out",{"$f":"'T2-B(PP2)'!$H$199","v":0},"#'T2-B(PP2)'!$H$199"]
["pp2_bl4_13_4_total",{"$f":"'T2-B(PP2)'!$J$199","v":0},"#'T2-B(PP2)'!$J$199"]
["pp2_bl4_13_4_total_in",{"$f":"'T2-B(PP2)'!$F$199","v":0},"#'T2-B(PP2)'!$F$199"]
["pp2_bl4_13_4_total_out",{"$f":"'T2-B(PP2)'!$I$199","v":0},"#'T2-B(PP2)'!$I$199"]
["pp2_bl4_13_4_unit",{"$f":"'T2-B(PP2)'!$C$199","v":0},"#'T2-B(PP2)'!$C$199"]
["pp2_bl4_13_4_unit_in",{"$f":"'T2-B(PP2)'!$D$199","v":0},"#'T2-B(PP2)'!$D$199"]
["pp2_bl4_13_4_units_out",{"$f":"'T2-B(PP2)'!$G$199","v":0},"#'T2-B(PP2)'!$G$199"]
["pp2_bl4_13_5_name",{"$f":"'T2-B(PP2)'!$B$200","v":0},"#'T2-B(PP2)'!$B$200"]
["pp2_bl4_13_5_rate_in",{"$f":"'T2-B(PP2)'!$E$200","v":0},"#'T2-B(PP2)'!$E$200"]
["pp2_bl4_13_5_rate_out",{"$f":"'T2-B(PP2)'!$H$200","v":0},"#'T2-B(PP2)'!$H$200"]
["pp2_bl4_13_5_total",{"$f":"'T2-B(PP2)'!$J$200","v":0},"#'T2-B(PP2)'!$J$200"]
["pp2_bl4_13_5_total_in",{"$f":"'T2-B(PP2)'!$F$200","v":0},"#'T2-B(PP2)'!$F$200"]
["pp2_bl4_13_5_total_out",{"$f":"'T2-B(PP2)'!$I$200","v":0},"#'T2-B(PP2)'!$I$200"]
["pp2_bl4_13_5_unit",{"$f":"'T2-B(PP2)'!$C$200","v":0},"#'T2-B(PP2)'!$C$200"]
["pp2_bl4_13_5_unit_in",{"$f":"'T2-B(PP2)'!$D$200","v":0},"#'T2-B(PP2)'!$D$200"]
["pp2_bl4_13_5_units_out",{"$f":"'T2-B(PP2)'!$G$200","v":0},"#'T2-B(PP2)'!$G$200"]
["pp2_bl4_13_6_name",{"$f":"'T2-B(PP2)'!$B$201","v":0},"#'T2-B(PP2)'!$B$201"]
["pp2_bl4_13_6_rate_in",{"$f":"'T2-B(PP2)'!$E$201","v":0},"#'T2-B(PP2)'!$E$201"]
["pp2_bl4_13_6_rate_out",{"$f":"'T2-B(PP2)'!$H$201","v":0},"#'T2-B(PP2)'!$H$201"]
["pp2_bl4_13_6_total",{"$f":"'T2-B(PP2)'!$J$201","v":0},"#'T2-B(PP2)'!$J$201"]
["pp2_bl4_13_6_total_in",{"$f":"'T2-B(PP2)'!$F$201","v":0},"#'T2-B(PP2)'!$F$201"]
["pp2_bl4_13_6_total_out",{"$f":"'T2-B(PP2)'!$I$201","v":0},"#'T2-B(PP2)'!$I$201"]
["pp2_bl4_13_6_unit",{"$f":"'T2-B(PP2)'!$C$201","v":0},"#'T2-B(PP2)'!$C$201"]
["pp2_bl4_13_6_unit_in",{"$f":"'T2-B(PP2)'!$D$201","v":0},"#'T2-B(PP2)'!$D$201"]
["pp2_bl4_13_6_units_out",{"$f":"'T2-B(PP2)'!$G$201","v":0},"#'T2-B(PP2)'!$G$201"]
["pp2_bl4_13_7_name",{"$f":"'T2-B(PP2)'!$B$202","v":0},"#'T2-B(PP2)'!$B$202"]
["pp2_bl4_13_7_rate_in",{"$f":"'T2-B(PP2)'!$E$202","v":0},"#'T2-B(PP2)'!$E$202"]
["pp2_bl4_13_7_rate_out",{"$f":"'T2-B(PP2)'!$H$202","v":0},"#'T2-B(PP2)'!$H$202"]
["pp2_bl4_13_7_total",{"$f":"'T2-B(PP2)'!$J$202","v":0},"#'T2-B(PP2)'!$J$202"]
["pp2_bl4_13_7_total_in",{"$f":"'T2-B(PP2)'!$F$202","v":0},"#'T2-B(PP2)'!$F$202"]
["pp2_bl4_13_7_total_out",{"$f":"'T2-B(PP2)'!$I$202","v":0},"#'T2-B(PP2)'!$I$202"]
["pp2_bl4_13_7_unit",{"$f":"'T2-B(PP2)'!$C$202","v":0},"#'T2-B(PP2)'!$C$202"]
["pp2_bl4_13_7_unit_in",{"$f":"'T2-B(PP2)'!$D$202","v":0},"#'T2-B(PP2)'!$D$202"]
["pp2_bl4_13_7_units_out",{"$f":"'T2-B(PP2)'!$G$202","v":0},"#'T2-B(PP2)'!$G$202"]
["pp2_bl4_13_8_name",{"$f":"'T2-B(PP2)'!$B$203","v":0},"#'T2-B(PP2)'!$B$203"]
["pp2_bl4_13_8_rate_in",{"$f":"'T2-B(PP2)'!$E$203","v":0},"#'T2-B(PP2)'!$E$203"]
["pp2_bl4_13_8_rate_out",{"$f":"'T2-B(PP2)'!$H$203","v":0},"#'T2-B(PP2)'!$H$203"]
["pp2_bl4_13_8_total",{"$f":"'T2-B(PP2)'!$J$203","v":0},"#'T2-B(PP2)'!$J$203"]
["pp2_bl4_13_8_total_in",{"$f":"'T2-B(PP2)'!$F$203","v":0},"#'T2-B(PP2)'!$F$203"]
["pp2_bl4_13_8_total_out",{"$f":"'T2-B(PP2)'!$I$203","v":0},"#'T2-B(PP2)'!$I$203"]
["pp2_bl4_13_8_unit",{"$f":"'T2-B(PP2)'!$C$203","v":0},"#'T2-B(PP2)'!$C$203"]
["pp2_bl4_13_8_unit_in",{"$f":"'T2-B(PP2)'!$D$203","v":0},"#'T2-B(PP2)'!$D$203"]
["pp2_bl4_13_8_units_out",{"$f":"'T2-B(PP2)'!$G$203","v":0},"#'T2-B(PP2)'!$G$203"]
["pp2_bl4_13_9_name",{"$f":"'T2-B(PP2)'!$B$204","v":0},"#'T2-B(PP2)'!$B$204"]
["pp2_bl4_13_9_rate_in",{"$f":"'T2-B(PP2)'!$E$204","v":0},"#'T2-B(PP2)'!$E$204"]
["pp2_bl4_13_9_rate_out",{"$f":"'T2-B(PP2)'!$H$204","v":0},"#'T2-B(PP2)'!$H$204"]
["pp2_bl4_13_9_total",{"$f":"'T2-B(PP2)'!$J$204","v":0},"#'T2-B(PP2)'!$J$204"]
["pp2_bl4_13_9_total_in",{"$f":"'T2-B(PP2)'!$F$204","v":0},"#'T2-B(PP2)'!$F$204"]
["pp2_bl4_13_9_total_out",{"$f":"'T2-B(PP2)'!$I$204","v":0},"#'T2-B(PP2)'!$I$204"]
["pp2_bl4_13_9_unit",{"$f":"'T2-B(PP2)'!$C$204","v":0},"#'T2-B(PP2)'!$C$204"]
["pp2_bl4_13_9_unit_in",{"$f":"'T2-B(PP2)'!$D$204","v":0},"#'T2-B(PP2)'!$D$204"]
["pp2_bl4_13_9_units_out",{"$f":"'T2-B(PP2)'!$G$204","v":0},"#'T2-B(PP2)'!$G$204"]
["pp2_bl4_13_total",{"$f":"'T2-B(PP2)'!$J$195","v":0},"#'T2-B(PP2)'!$J$195"]
["pp2_bl4_13_total_in",{"$f":"'T2-B(PP2)'!$F$195","v":0},"#'T2-B(PP2)'!$F$195"]
["pp2_bl4_13_total_out",{"$f":"'T2-B(PP2)'!$I$195","v":0},"#'T2-B(PP2)'!$I$195"]
["pp2_bl4_14_1_name",{"$f":"'T2-B(PP2)'!$B$207","v":0},"#'T2-B(PP2)'!$B$207"]
["pp2_bl4_14_1_rate_in",{"$f":"'T2-B(PP2)'!$E$207","v":0},"#'T2-B(PP2)'!$E$207"]
["pp2_bl4_14_1_rate_out",{"$f":"'T2-B(PP2)'!$H$207","v":0},"#'T2-B(PP2)'!$H$207"]
["pp2_bl4_14_1_total",{"$f":"'T2-B(PP2)'!$J$207","v":0},"#'T2-B(PP2)'!$J$207"]
["pp2_bl4_14_1_total_in",{"$f":"'T2-B(PP2)'!$F$207","v":0},"#'T2-B(PP2)'!$F$207"]
["pp2_bl4_14_1_total_out",{"$f":"'T2-B(PP2)'!$I$207","v":0},"#'T2-B(PP2)'!$I$207"]
["pp2_bl4_14_1_unit",{"$f":"'T2-B(PP2)'!$C$207","v":0},"#'T2-B(PP2)'!$C$207"]
["pp2_bl4_14_1_unit_in",{"$f":"'T2-B(PP2)'!$D$207","v":0},"#'T2-B(PP2)'!$D$207"]
["pp2_bl4_14_1_units_out",{"$f":"'T2-B(PP2)'!$G$207","v":0},"#'T2-B(PP2)'!$G$207"]
["pp2_bl4_14_10_name",{"$f":"'T2-B(PP2)'!$B$216","v":0},"#'T2-B(PP2)'!$B$216"]
["pp2_bl4_14_10_rate_in",{"$f":"'T2-B(PP2)'!$E$216","v":0},"#'T2-B(PP2)'!$E$216"]
["pp2_bl4_14_10_rate_out",{"$f":"'T2-B(PP2)'!$H$216","v":0},"#'T2-B(PP2)'!$H$216"]
["pp2_bl4_14_10_total",{"$f":"'T2-B(PP2)'!$J$216","v":0},"#'T2-B(PP2)'!$J$216"]
["pp2_bl4_14_10_total_in",{"$f":"'T2-B(PP2)'!$F$216","v":0},"#'T2-B(PP2)'!$F$216"]
["pp2_bl4_14_10_total_out",{"$f":"'T2-B(PP2)'!$I$216","v":0},"#'T2-B(PP2)'!$I$216"]
["pp2_bl4_14_10_unit",{"$f":"'T2-B(PP2)'!$C$216","v":0},"#'T2-B(PP2)'!$C$216"]
["pp2_bl4_14_10_unit_in",{"$f":"'T2-B(PP2)'!$D$216","v":0},"#'T2-B(PP2)'!$D$216"]
["pp2_bl4_14_10_units_out",{"$f":"'T2-B(PP2)'!$G$216","v":0},"#'T2-B(PP2)'!$G$216"]
["pp2_bl4_14_2_name",{"$f":"'T2-B(PP2)'!$B$208","v":0},"#'T2-B(PP2)'!$B$208"]
["pp2_bl4_14_2_rate_in",{"$f":"'T2-B(PP2)'!$E$208","v":0},"#'T2-B(PP2)'!$E$208"]
["pp2_bl4_14_2_rate_out",{"$f":"'T2-B(PP2)'!$H$208","v":0},"#'T2-B(PP2)'!$H$208"]
["pp2_bl4_14_2_total",{"$f":"'T2-B(PP2)'!$J$208","v":0},"#'T2-B(PP2)'!$J$208"]
["pp2_bl4_14_2_total_in",{"$f":"'T2-B(PP2)'!$F$208","v":0},"#'T2-B(PP2)'!$F$208"]
["pp2_bl4_14_2_total_out",{"$f":"'T2-B(PP2)'!$I$208","v":0},"#'T2-B(PP2)'!$I$208"]
["pp2_bl4_14_2_unit",{"$f":"'T2-B(PP2)'!$C$208","v":0},"#'T2-B(PP2)'!$C$208"]
["pp2_bl4_14_2_unit_in",{"$f":"'T2-B(PP2)'!$D$208","v":0},"#'T2-B(PP2)'!$D$208"]
["pp2_bl4_14_2_units_out",{"$f":"'T2-B(PP2)'!$G$208","v":0},"#'T2-B(PP2)'!$G$208"]
["pp2_bl4_14_3_name",{"$f":"'T2-B(PP2)'!$B$209","v":0},"#'T2-B(PP2)'!$B$209"]
["pp2_bl4_14_3_rate_in",{"$f":"'T2-B(PP2)'!$E$209","v":0},"#'T2-B(PP2)'!$E$209"]
["pp2_bl4_14_3_rate_out",{"$f":"'T2-B(PP2)'!$H$209","v":0},"#'T2-B(PP2)'!$H$209"]
["pp2_bl4_14_3_total",{"$f":"'T2-B(PP2)'!$J$209","v":0},"#'T2-B(PP2)'!$J$209"]
["pp2_bl4_14_3_total_in",{"$f":"'T2-B(PP2)'!$F$209","v":0},"#'T2-B(PP2)'!$F$209"]
["pp2_bl4_14_3_total_out",{"$f":"'T2-B(PP2)'!$I$209","v":0},"#'T2-B(PP2)'!$I$209"]
["pp2_bl4_14_3_unit",{"$f":"'T2-B(PP2)'!$C$209","v":0},"#'T2-B(PP2)'!$C$209"]
["pp2_bl4_14_3_unit_in",{"$f":"'T2-B(PP2)'!$D$209","v":0},"#'T2-B(PP2)'!$D$209"]
["pp2_bl4_14_3_units_out",{"$f":"'T2-B(PP2)'!$G$209","v":0},"#'T2-B(PP2)'!$G$209"]
["pp2_bl4_14_4_name",{"$f":"'T2-B(PP2)'!$B$210","v":0},"#'T2-B(PP2)'!$B$210"]
["pp2_bl4_14_4_rate_in",{"$f":"'T2-B(PP2)'!$E$210","v":0},"#'T2-B(PP2)'!$E$210"]
["pp2_bl4_14_4_rate_out",{"$f":"'T2-B(PP2)'!$H$210","v":0},"#'T2-B(PP2)'!$H$210"]
["pp2_bl4_14_4_total",{"$f":"'T2-B(PP2)'!$J$210","v":0},"#'T2-B(PP2)'!$J$210"]
["pp2_bl4_14_4_total_in",{"$f":"'T2-B(PP2)'!$F$210","v":0},"#'T2-B(PP2)'!$F$210"]
["pp2_bl4_14_4_total_out",{"$f":"'T2-B(PP2)'!$I$210","v":0},"#'T2-B(PP2)'!$I$210"]
["pp2_bl4_14_4_unit",{"$f":"'T2-B(PP2)'!$C$210","v":0},"#'T2-B(PP2)'!$C$210"]
["pp2_bl4_14_4_unit_in",{"$f":"'T2-B(PP2)'!$D$210","v":0},"#'T2-B(PP2)'!$D$210"]
["pp2_bl4_14_4_units_out",{"$f":"'T2-B(PP2)'!$G$210","v":0},"#'T2-B(PP2)'!$G$210"]
["pp2_bl4_14_5_name",{"$f":"'T2-B(PP2)'!$B$211","v":0},"#'T2-B(PP2)'!$B$211"]
["pp2_bl4_14_5_rate_in",{"$f":"'T2-B(PP2)'!$E$211","v":0},"#'T2-B(PP2)'!$E$211"]
["pp2_bl4_14_5_rate_out",{"$f":"'T2-B(PP2)'!$H$211","v":0},"#'T2-B(PP2)'!$H$211"]
["pp2_bl4_14_5_total",{"$f":"'T2-B(PP2)'!$J$211","v":0},"#'T2-B(PP2)'!$J$211"]
["pp2_bl4_14_5_total_in",{"$f":"'T2-B(PP2)'!$F$211","v":0},"#'T2-B(PP2)'!$F$211"]
["pp2_bl4_14_5_total_out",{"$f":"'T2-B(PP2)'!$I$211","v":0},"#'T2-B(PP2)'!$I$211"]
["pp2_bl4_14_5_unit",{"$f":"'T2-B(PP2)'!$C$211","v":0},"#'T2-B(PP2)'!$C$211"]
["pp2_bl4_14_5_unit_in",{"$f":"'T2-B(PP2)'!$D$211","v":0},"#'T2-B(PP2)'!$D$211"]
["pp2_bl4_14_5_units_out",{"$f":"'T2-B(PP2)'!$G$211","v":0},"#'T2-B(PP2)'!$G$211"]
["pp2_bl4_14_6_name",{"$f":"'T2-B(PP2)'!$B$212","v":0},"#'T2-B(PP2)'!$B$212"]
["pp2_bl4_14_6_rate_in",{"$f":"'T2-B(PP2)'!$E$212","v":0},"#'T2-B(PP2)'!$E$212"]
["pp2_bl4_14_6_rate_out",{"$f":"'T2-B(PP2)'!$H$212","v":0},"#'T2-B(PP2)'!$H$212"]
["pp2_bl4_14_6_total",{"$f":"'T2-B(PP2)'!$J$212","v":0},"#'T2-B(PP2)'!$J$212"]
["pp2_bl4_14_6_total_in",{"$f":"'T2-B(PP2)'!$F$212","v":0},"#'T2-B(PP2)'!$F$212"]
["pp2_bl4_14_6_total_out",{"$f":"'T2-B(PP2)'!$I$212","v":0},"#'T2-B(PP2)'!$I$212"]
["pp2_bl4_14_6_unit",{"$f":"'T2-B(PP2)'!$C$212","v":0},"#'T2-B(PP2)'!$C$212"]
["pp2_bl4_14_6_unit_in",{"$f":"'T2-B(PP2)'!$D$212","v":0},"#'T2-B(PP2)'!$D$212"]
["pp2_bl4_14_6_units_out",{"$f":"'T2-B(PP2)'!$G$212","v":0},"#'T2-B(PP2)'!$G$212"]
["pp2_bl4_14_7_name",{"$f":"'T2-B(PP2)'!$B$213","v":0},"#'T2-B(PP2)'!$B$213"]
["pp2_bl4_14_7_rate_in",{"$f":"'T2-B(PP2)'!$E$213","v":0},"#'T2-B(PP2)'!$E$213"]
["pp2_bl4_14_7_rate_out",{"$f":"'T2-B(PP2)'!$H$213","v":0},"#'T2-B(PP2)'!$H$213"]
["pp2_bl4_14_7_total",{"$f":"'T2-B(PP2)'!$J$213","v":0},"#'T2-B(PP2)'!$J$213"]
["pp2_bl4_14_7_total_in",{"$f":"'T2-B(PP2)'!$F$213","v":0},"#'T2-B(PP2)'!$F$213"]
["pp2_bl4_14_7_total_out",{"$f":"'T2-B(PP2)'!$I$213","v":0},"#'T2-B(PP2)'!$I$213"]
["pp2_bl4_14_7_unit",{"$f":"'T2-B(PP2)'!$C$213","v":0},"#'T2-B(PP2)'!$C$213"]
["pp2_bl4_14_7_unit_in",{"$f":"'T2-B(PP2)'!$D$213","v":0},"#'T2-B(PP2)'!$D$213"]
["pp2_bl4_14_7_units_out",{"$f":"'T2-B(PP2)'!$G$213","v":0},"#'T2-B(PP2)'!$G$213"]
["pp2_bl4_14_8_name",{"$f":"'T2-B(PP2)'!$B$214","v":0},"#'T2-B(PP2)'!$B$214"]
["pp2_bl4_14_8_rate_in",{"$f":"'T2-B(PP2)'!$E$214","v":0},"#'T2-B(PP2)'!$E$214"]
["pp2_bl4_14_8_rate_out",{"$f":"'T2-B(PP2)'!$H$214","v":0},"#'T2-B(PP2)'!$H$214"]
["pp2_bl4_14_8_total",{"$f":"'T2-B(PP2)'!$J$214","v":0},"#'T2-B(PP2)'!$J$214"]
["pp2_bl4_14_8_total_in",{"$f":"'T2-B(PP2)'!$F$214","v":0},"#'T2-B(PP2)'!$F$214"]
["pp2_bl4_14_8_total_out",{"$f":"'T2-B(PP2)'!$I$214","v":0},"#'T2-B(PP2)'!$I$214"]
["pp2_bl4_14_8_unit",{"$f":"'T2-B(PP2)'!$C$214","v":0},"#'T2-B(PP2)'!$C$214"]
["pp2_bl4_14_8_unit_in",{"$f":"'T2-B(PP2)'!$D$214","v":0},"#'T2-B(PP2)'!$D$214"]
["pp2_bl4_14_8_units_out",{"$f":"'T2-B(PP2)'!$G$214","v":0},"#'T2-B(PP2)'!$G$214"]
["pp2_bl4_14_9_name",{"$f":"'T2-B(PP2)'!$B$215","v":0},"#'T2-B(PP2)'!$B$215"]
["pp2_bl4_14_9_rate_in",{"$f":"'T2-B(PP2)'!$E$215","v":0},"#'T2-B(PP2)'!$E$215"]
["pp2_bl4_14_9_rate_out",{"$f":"'T2-B(PP2)'!$H$215","v":0},"#'T2-B(PP2)'!$H$215"]
["pp2_bl4_14_9_total",{"$f":"'T2-B(PP2)'!$J$215","v":0},"#'T2-B(PP2)'!$J$215"]
["pp2_bl4_14_9_total_in",{"$f":"'T2-B(PP2)'!$F$215","v":0},"#'T2-B(PP2)'!$F$215"]
["pp2_bl4_14_9_total_out",{"$f":"'T2-B(PP2)'!$I$215","v":0},"#'T2-B(PP2)'!$I$215"]
["pp2_bl4_14_9_unit",{"$f":"'T2-B(PP2)'!$C$215","v":0},"#'T2-B(PP2)'!$C$215"]
["pp2_bl4_14_9_unit_in",{"$f":"'T2-B(PP2)'!$D$215","v":0},"#'T2-B(PP2)'!$D$215"]
["pp2_bl4_14_9_units_out",{"$f":"'T2-B(PP2)'!$G$215","v":0},"#'T2-B(PP2)'!$G$215"]
["pp2_bl4_14_total",{"$f":"'T2-B(PP2)'!$J$206","v":0},"#'T2-B(PP2)'!$J$206"]
["pp2_bl4_14_total_in",{"$f":"'T2-B(PP2)'!$F$206","v":0},"#'T2-B(PP2)'!$F$206"]
["pp2_bl4_14_total_out",{"$f":"'T2-B(PP2)'!$I$206","v":0},"#'T2-B(PP2)'!$I$206"]
["pp2_bl4_2_1_name",{"$f":"'T2-B(PP2)'!$B$75","v":0},"#'T2-B(PP2)'!$B$75"]
["pp2_bl4_2_1_rate_in",{"$f":"'T2-B(PP2)'!$E$75","v":0},"#'T2-B(PP2)'!$E$75"]
["pp2_bl4_2_1_rate_out",{"$f":"'T2-B(PP2)'!$H$75","v":0},"#'T2-B(PP2)'!$H$75"]
["pp2_bl4_2_1_total",{"$f":"'T2-B(PP2)'!$J$75","v":0},"#'T2-B(PP2)'!$J$75"]
["pp2_bl4_2_1_total_in",{"$f":"'T2-B(PP2)'!$F$75","v":0},"#'T2-B(PP2)'!$F$75"]
["pp2_bl4_2_1_total_out",{"$f":"'T2-B(PP2)'!$I$75","v":0},"#'T2-B(PP2)'!$I$75"]
["pp2_bl4_2_1_unit",{"$f":"'T2-B(PP2)'!$C$75","v":0},"#'T2-B(PP2)'!$C$75"]
["pp2_bl4_2_1_unit_in",{"$f":"'T2-B(PP2)'!$D$75","v":0},"#'T2-B(PP2)'!$D$75"]
["pp2_bl4_2_1_units_out",{"$f":"'T2-B(PP2)'!$G$75","v":0},"#'T2-B(PP2)'!$G$75"]
["pp2_bl4_2_10_name",{"$f":"'T2-B(PP2)'!$B$84","v":0},"#'T2-B(PP2)'!$B$84"]
["pp2_bl4_2_10_rate_in",{"$f":"'T2-B(PP2)'!$E$84","v":0},"#'T2-B(PP2)'!$E$84"]
["pp2_bl4_2_10_rate_out",{"$f":"'T2-B(PP2)'!$H$84","v":0},"#'T2-B(PP2)'!$H$84"]
["pp2_bl4_2_10_total",{"$f":"'T2-B(PP2)'!$J$84","v":0},"#'T2-B(PP2)'!$J$84"]
["pp2_bl4_2_10_total_in",{"$f":"'T2-B(PP2)'!$F$84","v":0},"#'T2-B(PP2)'!$F$84"]
["pp2_bl4_2_10_total_out",{"$f":"'T2-B(PP2)'!$I$84","v":0},"#'T2-B(PP2)'!$I$84"]
["pp2_bl4_2_10_unit",{"$f":"'T2-B(PP2)'!$C$84","v":0},"#'T2-B(PP2)'!$C$84"]
["pp2_bl4_2_10_unit_in",{"$f":"'T2-B(PP2)'!$D$84","v":0},"#'T2-B(PP2)'!$D$84"]
["pp2_bl4_2_10_units_out",{"$f":"'T2-B(PP2)'!$G$84","v":0},"#'T2-B(PP2)'!$G$84"]
["pp2_bl4_2_2_name",{"$f":"'T2-B(PP2)'!$B$76","v":0},"#'T2-B(PP2)'!$B$76"]
["pp2_bl4_2_2_rate_in",{"$f":"'T2-B(PP2)'!$E$76","v":0},"#'T2-B(PP2)'!$E$76"]
["pp2_bl4_2_2_rate_out",{"$f":"'T2-B(PP2)'!$H$76","v":0},"#'T2-B(PP2)'!$H$76"]
["pp2_bl4_2_2_total",{"$f":"'T2-B(PP2)'!$J$76","v":0},"#'T2-B(PP2)'!$J$76"]
["pp2_bl4_2_2_total_in",{"$f":"'T2-B(PP2)'!$F$76","v":0},"#'T2-B(PP2)'!$F$76"]
["pp2_bl4_2_2_total_out",{"$f":"'T2-B(PP2)'!$I$76","v":0},"#'T2-B(PP2)'!$I$76"]
["pp2_bl4_2_2_unit",{"$f":"'T2-B(PP2)'!$C$76","v":0},"#'T2-B(PP2)'!$C$76"]
["pp2_bl4_2_2_unit_in",{"$f":"'T2-B(PP2)'!$D$76","v":0},"#'T2-B(PP2)'!$D$76"]
["pp2_bl4_2_2_units_out",{"$f":"'T2-B(PP2)'!$G$76","v":0},"#'T2-B(PP2)'!$G$76"]
["pp2_bl4_2_3_name",{"$f":"'T2-B(PP2)'!$B$77","v":0},"#'T2-B(PP2)'!$B$77"]
["pp2_bl4_2_3_rate_in",{"$f":"'T2-B(PP2)'!$E$77","v":0},"#'T2-B(PP2)'!$E$77"]
["pp2_bl4_2_3_rate_out",{"$f":"'T2-B(PP2)'!$H$77","v":0},"#'T2-B(PP2)'!$H$77"]
["pp2_bl4_2_3_total",{"$f":"'T2-B(PP2)'!$J$77","v":0},"#'T2-B(PP2)'!$J$77"]
["pp2_bl4_2_3_total_in",{"$f":"'T2-B(PP2)'!$F$77","v":0},"#'T2-B(PP2)'!$F$77"]
["pp2_bl4_2_3_total_out",{"$f":"'T2-B(PP2)'!$I$77","v":0},"#'T2-B(PP2)'!$I$77"]
["pp2_bl4_2_3_unit",{"$f":"'T2-B(PP2)'!$C$77","v":0},"#'T2-B(PP2)'!$C$77"]
["pp2_bl4_2_3_unit_in",{"$f":"'T2-B(PP2)'!$D$77","v":0},"#'T2-B(PP2)'!$D$77"]
["pp2_bl4_2_3_units_out",{"$f":"'T2-B(PP2)'!$G$77","v":0},"#'T2-B(PP2)'!$G$77"]
["pp2_bl4_2_4_name",{"$f":"'T2-B(PP2)'!$B$78","v":0},"#'T2-B(PP2)'!$B$78"]
["pp2_bl4_2_4_rate_in",{"$f":"'T2-B(PP2)'!$E$78","v":0},"#'T2-B(PP2)'!$E$78"]
["pp2_bl4_2_4_rate_out",{"$f":"'T2-B(PP2)'!$H$78","v":0},"#'T2-B(PP2)'!$H$78"]
["pp2_bl4_2_4_total",{"$f":"'T2-B(PP2)'!$J$78","v":0},"#'T2-B(PP2)'!$J$78"]
["pp2_bl4_2_4_total_in",{"$f":"'T2-B(PP2)'!$F$78","v":0},"#'T2-B(PP2)'!$F$78"]
["pp2_bl4_2_4_total_out",{"$f":"'T2-B(PP2)'!$I$78","v":0},"#'T2-B(PP2)'!$I$78"]
["pp2_bl4_2_4_unit",{"$f":"'T2-B(PP2)'!$C$78","v":0},"#'T2-B(PP2)'!$C$78"]
["pp2_bl4_2_4_unit_in",{"$f":"'T2-B(PP2)'!$D$78","v":0},"#'T2-B(PP2)'!$D$78"]
["pp2_bl4_2_4_units_out",{"$f":"'T2-B(PP2)'!$G$78","v":0},"#'T2-B(PP2)'!$G$78"]
["pp2_bl4_2_5_name",{"$f":"'T2-B(PP2)'!$B$79","v":0},"#'T2-B(PP2)'!$B$79"]
["pp2_bl4_2_5_rate_in",{"$f":"'T2-B(PP2)'!$E$79","v":0},"#'T2-B(PP2)'!$E$79"]
["pp2_bl4_2_5_rate_out",{"$f":"'T2-B(PP2)'!$H$79","v":0},"#'T2-B(PP2)'!$H$79"]
["pp2_bl4_2_5_total",{"$f":"'T2-B(PP2)'!$J$79","v":0},"#'T2-B(PP2)'!$J$79"]
["pp2_bl4_2_5_total_in",{"$f":"'T2-B(PP2)'!$F$79","v":0},"#'T2-B(PP2)'!$F$79"]
["pp2_bl4_2_5_total_out",{"$f":"'T2-B(PP2)'!$I$79","v":0},"#'T2-B(PP2)'!$I$79"]
["pp2_bl4_2_5_unit",{"$f":"'T2-B(PP2)'!$C$79","v":0},"#'T2-B(PP2)'!$C$79"]
["pp2_bl4_2_5_unit_in",{"$f":"'T2-B(PP2)'!$D$79","v":0},"#'T2-B(PP2)'!$D$79"]
["pp2_bl4_2_5_units_out",{"$f":"'T2-B(PP2)'!$G$79","v":0},"#'T2-B(PP2)'!$G$79"]
["pp2_bl4_2_6_name",{"$f":"'T2-B(PP2)'!$B$80","v":0},"#'T2-B(PP2)'!$B$80"]
["pp2_bl4_2_6_rate_in",{"$f":"'T2-B(PP2)'!$E$80","v":0},"#'T2-B(PP2)'!$E$80"]
["pp2_bl4_2_6_rate_out",{"$f":"'T2-B(PP2)'!$H$80","v":0},"#'T2-B(PP2)'!$H$80"]
["pp2_bl4_2_6_total",{"$f":"'T2-B(PP2)'!$J$80","v":0},"#'T2-B(PP2)'!$J$80"]
["pp2_bl4_2_6_total_in",{"$f":"'T2-B(PP2)'!$F$80","v":0},"#'T2-B(PP2)'!$F$80"]
["pp2_bl4_2_6_total_out",{"$f":"'T2-B(PP2)'!$I$80","v":0},"#'T2-B(PP2)'!$I$80"]
["pp2_bl4_2_6_unit",{"$f":"'T2-B(PP2)'!$C$80","v":0},"#'T2-B(PP2)'!$C$80"]
["pp2_bl4_2_6_unit_in",{"$f":"'T2-B(PP2)'!$D$80","v":0},"#'T2-B(PP2)'!$D$80"]
["pp2_bl4_2_6_units_out",{"$f":"'T2-B(PP2)'!$G$80","v":0},"#'T2-B(PP2)'!$G$80"]
["pp2_bl4_2_7_name",{"$f":"'T2-B(PP2)'!$B$81","v":0},"#'T2-B(PP2)'!$B$81"]
["pp2_bl4_2_7_rate_in",{"$f":"'T2-B(PP2)'!$E$81","v":0},"#'T2-B(PP2)'!$E$81"]
["pp2_bl4_2_7_rate_out",{"$f":"'T2-B(PP2)'!$H$81","v":0},"#'T2-B(PP2)'!$H$81"]
["pp2_bl4_2_7_total",{"$f":"'T2-B(PP2)'!$J$81","v":0},"#'T2-B(PP2)'!$J$81"]
["pp2_bl4_2_7_total_in",{"$f":"'T2-B(PP2)'!$F$81","v":0},"#'T2-B(PP2)'!$F$81"]
["pp2_bl4_2_7_total_out",{"$f":"'T2-B(PP2)'!$I$81","v":0},"#'T2-B(PP2)'!$I$81"]
["pp2_bl4_2_7_unit",{"$f":"'T2-B(PP2)'!$C$81","v":0},"#'T2-B(PP2)'!$C$81"]
["pp2_bl4_2_7_unit_in",{"$f":"'T2-B(PP2)'!$D$81","v":0},"#'T2-B(PP2)'!$D$81"]
["pp2_bl4_2_7_units_out",{"$f":"'T2-B(PP2)'!$G$81","v":0},"#'T2-B(PP2)'!$G$81"]
["pp2_bl4_2_8_name",{"$f":"'T2-B(PP2)'!$B$82","v":0},"#'T2-B(PP2)'!$B$82"]
["pp2_bl4_2_8_rate_in",{"$f":"'T2-B(PP2)'!$E$82","v":0},"#'T2-B(PP2)'!$E$82"]
["pp2_bl4_2_8_rate_out",{"$f":"'T2-B(PP2)'!$H$82","v":0},"#'T2-B(PP2)'!$H$82"]
["pp2_bl4_2_8_total",{"$f":"'T2-B(PP2)'!$J$82","v":0},"#'T2-B(PP2)'!$J$82"]
["pp2_bl4_2_8_total_in",{"$f":"'T2-B(PP2)'!$F$82","v":0},"#'T2-B(PP2)'!$F$82"]
["pp2_bl4_2_8_total_out",{"$f":"'T2-B(PP2)'!$I$82","v":0},"#'T2-B(PP2)'!$I$82"]
["pp2_bl4_2_8_unit",{"$f":"'T2-B(PP2)'!$C$82","v":0},"#'T2-B(PP2)'!$C$82"]
["pp2_bl4_2_8_unit_in",{"$f":"'T2-B(PP2)'!$D$82","v":0},"#'T2-B(PP2)'!$D$82"]
["pp2_bl4_2_8_units_out",{"$f":"'T2-B(PP2)'!$G$82","v":0},"#'T2-B(PP2)'!$G$82"]
["pp2_bl4_2_9_name",{"$f":"'T2-B(PP2)'!$B$83","v":0},"#'T2-B(PP2)'!$B$83"]
["pp2_bl4_2_9_rate_in",{"$f":"'T2-B(PP2)'!$E$83","v":0},"#'T2-B(PP2)'!$E$83"]
["pp2_bl4_2_9_rate_out",{"$f":"'T2-B(PP2)'!$H$83","v":0},"#'T2-B(PP2)'!$H$83"]
["pp2_bl4_2_9_total",{"$f":"'T2-B(PP2)'!$J$83","v":0},"#'T2-B(PP2)'!$J$83"]
["pp2_bl4_2_9_total_in",{"$f":"'T2-B(PP2)'!$F$83","v":0},"#'T2-B(PP2)'!$F$83"]
["pp2_bl4_2_9_total_out",{"$f":"'T2-B(PP2)'!$I$83","v":0},"#'T2-B(PP2)'!$I$83"]
["pp2_bl4_2_9_unit",{"$f":"'T2-B(PP2)'!$C$83","v":0},"#'T2-B(PP2)'!$C$83"]
["pp2_bl4_2_9_unit_in",{"$f":"'T2-B(PP2)'!$D$83","v":0},"#'T2-B(PP2)'!$D$83"]
["pp2_bl4_2_9_units_out",{"$f":"'T2-B(PP2)'!$G$83","v":0},"#'T2-B(PP2)'!$G$83"]
["pp2_bl4_2_total",{"$f":"'T2-B(PP2)'!$J$74","v":0},"#'T2-B(PP2)'!$J$74"]
["pp2_bl4_2_total_in",{"$f":"'T2-B(PP2)'!$F$74","v":0},"#'T2-B(PP2)'!$F$74"]
["pp2_bl4_2_total_out",{"$f":"'T2-B(PP2)'!$I$74","v":0},"#'T2-B(PP2)'!$I$74"]
["pp2_bl4_3_1_name",{"$f":"'T2-B(PP2)'!$B$86","v":0},"#'T2-B(PP2)'!$B$86"]
["pp2_bl4_3_1_rate_in",{"$f":"'T2-B(PP2)'!$E$86","v":0},"#'T2-B(PP2)'!$E$86"]
["pp2_bl4_3_1_rate_out",{"$f":"'T2-B(PP2)'!$H$86","v":0},"#'T2-B(PP2)'!$H$86"]
["pp2_bl4_3_1_total",{"$f":"'T2-B(PP2)'!$J$86","v":0},"#'T2-B(PP2)'!$J$86"]
["pp2_bl4_3_1_total_in",{"$f":"'T2-B(PP2)'!$F$86","v":0},"#'T2-B(PP2)'!$F$86"]
["pp2_bl4_3_1_total_out",{"$f":"'T2-B(PP2)'!$I$86","v":0},"#'T2-B(PP2)'!$I$86"]
["pp2_bl4_3_1_unit",{"$f":"'T2-B(PP2)'!$C$86","v":0},"#'T2-B(PP2)'!$C$86"]
["pp2_bl4_3_1_unit_in",{"$f":"'T2-B(PP2)'!$D$86","v":0},"#'T2-B(PP2)'!$D$86"]
["pp2_bl4_3_1_units_out",{"$f":"'T2-B(PP2)'!$G$86","v":0},"#'T2-B(PP2)'!$G$86"]
["pp2_bl4_3_10_name",{"$f":"'T2-B(PP2)'!$B$95","v":0},"#'T2-B(PP2)'!$B$95"]
["pp2_bl4_3_10_rate_in",{"$f":"'T2-B(PP2)'!$E$95","v":0},"#'T2-B(PP2)'!$E$95"]
["pp2_bl4_3_10_rate_out",{"$f":"'T2-B(PP2)'!$H$95","v":0},"#'T2-B(PP2)'!$H$95"]
["pp2_bl4_3_10_total",{"$f":"'T2-B(PP2)'!$J$95","v":0},"#'T2-B(PP2)'!$J$95"]
["pp2_bl4_3_10_total_in",{"$f":"'T2-B(PP2)'!$F$95","v":0},"#'T2-B(PP2)'!$F$95"]
["pp2_bl4_3_10_total_out",{"$f":"'T2-B(PP2)'!$I$95","v":0},"#'T2-B(PP2)'!$I$95"]
["pp2_bl4_3_10_unit",{"$f":"'T2-B(PP2)'!$C$95","v":0},"#'T2-B(PP2)'!$C$95"]
["pp2_bl4_3_10_unit_in",{"$f":"'T2-B(PP2)'!$D$95","v":0},"#'T2-B(PP2)'!$D$95"]
["pp2_bl4_3_10_units_out",{"$f":"'T2-B(PP2)'!$G$95","v":0},"#'T2-B(PP2)'!$G$95"]
["pp2_bl4_3_2_name",{"$f":"'T2-B(PP2)'!$B$87","v":0},"#'T2-B(PP2)'!$B$87"]
["pp2_bl4_3_2_rate_in",{"$f":"'T2-B(PP2)'!$E$87","v":0},"#'T2-B(PP2)'!$E$87"]
["pp2_bl4_3_2_rate_out",{"$f":"'T2-B(PP2)'!$H$87","v":0},"#'T2-B(PP2)'!$H$87"]
["pp2_bl4_3_2_total",{"$f":"'T2-B(PP2)'!$J$87","v":0},"#'T2-B(PP2)'!$J$87"]
["pp2_bl4_3_2_total_in",{"$f":"'T2-B(PP2)'!$F$87","v":0},"#'T2-B(PP2)'!$F$87"]
["pp2_bl4_3_2_total_out",{"$f":"'T2-B(PP2)'!$I$87","v":0},"#'T2-B(PP2)'!$I$87"]
["pp2_bl4_3_2_unit",{"$f":"'T2-B(PP2)'!$C$87","v":0},"#'T2-B(PP2)'!$C$87"]
["pp2_bl4_3_2_unit_in",{"$f":"'T2-B(PP2)'!$D$87","v":0},"#'T2-B(PP2)'!$D$87"]
["pp2_bl4_3_2_units_out",{"$f":"'T2-B(PP2)'!$G$87","v":0},"#'T2-B(PP2)'!$G$87"]
["pp2_bl4_3_3_name",{"$f":"'T2-B(PP2)'!$B$88","v":0},"#'T2-B(PP2)'!$B$88"]
["pp2_bl4_3_3_rate_in",{"$f":"'T2-B(PP2)'!$E$88","v":0},"#'T2-B(PP2)'!$E$88"]
["pp2_bl4_3_3_rate_out",{"$f":"'T2-B(PP2)'!$H$88","v":0},"#'T2-B(PP2)'!$H$88"]
["pp2_bl4_3_3_total",{"$f":"'T2-B(PP2)'!$J$88","v":0},"#'T2-B(PP2)'!$J$88"]
["pp2_bl4_3_3_total_in",{"$f":"'T2-B(PP2)'!$F$88","v":0},"#'T2-B(PP2)'!$F$88"]
["pp2_bl4_3_3_total_out",{"$f":"'T2-B(PP2)'!$I$88","v":0},"#'T2-B(PP2)'!$I$88"]
["pp2_bl4_3_3_unit",{"$f":"'T2-B(PP2)'!$C$88","v":0},"#'T2-B(PP2)'!$C$88"]
["pp2_bl4_3_3_unit_in",{"$f":"'T2-B(PP2)'!$D$88","v":0},"#'T2-B(PP2)'!$D$88"]
["pp2_bl4_3_3_units_out",{"$f":"'T2-B(PP2)'!$G$88","v":0},"#'T2-B(PP2)'!$G$88"]
["pp2_bl4_3_4_name",{"$f":"'T2-B(PP2)'!$B$89","v":0},"#'T2-B(PP2)'!$B$89"]
["pp2_bl4_3_4_rate_in",{"$f":"'T2-B(PP2)'!$E$89","v":0},"#'T2-B(PP2)'!$E$89"]
["pp2_bl4_3_4_rate_out",{"$f":"'T2-B(PP2)'!$H$89","v":0},"#'T2-B(PP2)'!$H$89"]
["pp2_bl4_3_4_total",{"$f":"'T2-B(PP2)'!$J$89","v":0},"#'T2-B(PP2)'!$J$89"]
["pp2_bl4_3_4_total_in",{"$f":"'T2-B(PP2)'!$F$89","v":0},"#'T2-B(PP2)'!$F$89"]
["pp2_bl4_3_4_total_out",{"$f":"'T2-B(PP2)'!$I$89","v":0},"#'T2-B(PP2)'!$I$89"]
["pp2_bl4_3_4_unit",{"$f":"'T2-B(PP2)'!$C$89","v":0},"#'T2-B(PP2)'!$C$89"]
["pp2_bl4_3_4_unit_in",{"$f":"'T2-B(PP2)'!$D$89","v":0},"#'T2-B(PP2)'!$D$89"]
["pp2_bl4_3_4_units_out",{"$f":"'T2-B(PP2)'!$G$89","v":0},"#'T2-B(PP2)'!$G$89"]
["pp2_bl4_3_5_name",{"$f":"'T2-B(PP2)'!$B$90","v":0},"#'T2-B(PP2)'!$B$90"]
["pp2_bl4_3_5_rate_in",{"$f":"'T2-B(PP2)'!$E$90","v":0},"#'T2-B(PP2)'!$E$90"]
["pp2_bl4_3_5_rate_out",{"$f":"'T2-B(PP2)'!$H$90","v":0},"#'T2-B(PP2)'!$H$90"]
["pp2_bl4_3_5_total",{"$f":"'T2-B(PP2)'!$J$90","v":0},"#'T2-B(PP2)'!$J$90"]
["pp2_bl4_3_5_total_in",{"$f":"'T2-B(PP2)'!$F$90","v":0},"#'T2-B(PP2)'!$F$90"]
["pp2_bl4_3_5_total_out",{"$f":"'T2-B(PP2)'!$I$90","v":0},"#'T2-B(PP2)'!$I$90"]
["pp2_bl4_3_5_unit",{"$f":"'T2-B(PP2)'!$C$90","v":0},"#'T2-B(PP2)'!$C$90"]
["pp2_bl4_3_5_unit_in",{"$f":"'T2-B(PP2)'!$D$90","v":0},"#'T2-B(PP2)'!$D$90"]
["pp2_bl4_3_5_units_out",{"$f":"'T2-B(PP2)'!$G$90","v":0},"#'T2-B(PP2)'!$G$90"]
["pp2_bl4_3_6_name",{"$f":"'T2-B(PP2)'!$B$91","v":0},"#'T2-B(PP2)'!$B$91"]
["pp2_bl4_3_6_rate_in",{"$f":"'T2-B(PP2)'!$E$91","v":0},"#'T2-B(PP2)'!$E$91"]
["pp2_bl4_3_6_rate_out",{"$f":"'T2-B(PP2)'!$H$91","v":0},"#'T2-B(PP2)'!$H$91"]
["pp2_bl4_3_6_total",{"$f":"'T2-B(PP2)'!$J$91","v":0},"#'T2-B(PP2)'!$J$91"]
["pp2_bl4_3_6_total_in",{"$f":"'T2-B(PP2)'!$F$91","v":0},"#'T2-B(PP2)'!$F$91"]
["pp2_bl4_3_6_total_out",{"$f":"'T2-B(PP2)'!$I$91","v":0},"#'T2-B(PP2)'!$I$91"]
["pp2_bl4_3_6_unit",{"$f":"'T2-B(PP2)'!$C$91","v":0},"#'T2-B(PP2)'!$C$91"]
["pp2_bl4_3_6_unit_in",{"$f":"'T2-B(PP2)'!$D$91","v":0},"#'T2-B(PP2)'!$D$91"]
["pp2_bl4_3_6_units_out",{"$f":"'T2-B(PP2)'!$G$91","v":0},"#'T2-B(PP2)'!$G$91"]
["pp2_bl4_3_7_name",{"$f":"'T2-B(PP2)'!$B$92","v":0},"#'T2-B(PP2)'!$B$92"]
["pp2_bl4_3_7_rate_in",{"$f":"'T2-B(PP2)'!$E$92","v":0},"#'T2-B(PP2)'!$E$92"]
["pp2_bl4_3_7_rate_out",{"$f":"'T2-B(PP2)'!$H$92","v":0},"#'T2-B(PP2)'!$H$92"]
["pp2_bl4_3_7_total",{"$f":"'T2-B(PP2)'!$J$92","v":0},"#'T2-B(PP2)'!$J$92"]
["pp2_bl4_3_7_total_in",{"$f":"'T2-B(PP2)'!$F$92","v":0},"#'T2-B(PP2)'!$F$92"]
["pp2_bl4_3_7_total_out",{"$f":"'T2-B(PP2)'!$I$92","v":0},"#'T2-B(PP2)'!$I$92"]
["pp2_bl4_3_7_unit",{"$f":"'T2-B(PP2)'!$C$92","v":0},"#'T2-B(PP2)'!$C$92"]
["pp2_bl4_3_7_unit_in",{"$f":"'T2-B(PP2)'!$D$92","v":0},"#'T2-B(PP2)'!$D$92"]
["pp2_bl4_3_7_units_out",{"$f":"'T2-B(PP2)'!$G$92","v":0},"#'T2-B(PP2)'!$G$92"]
["pp2_bl4_3_8_name",{"$f":"'T2-B(PP2)'!$B$93","v":0},"#'T2-B(PP2)'!$B$93"]
["pp2_bl4_3_8_rate_in",{"$f":"'T2-B(PP2)'!$E$93","v":0},"#'T2-B(PP2)'!$E$93"]
["pp2_bl4_3_8_rate_out",{"$f":"'T2-B(PP2)'!$H$93","v":0},"#'T2-B(PP2)'!$H$93"]
["pp2_bl4_3_8_total",{"$f":"'T2-B(PP2)'!$J$93","v":0},"#'T2-B(PP2)'!$J$93"]
["pp2_bl4_3_8_total_in",{"$f":"'T2-B(PP2)'!$F$93","v":0},"#'T2-B(PP2)'!$F$93"]
["pp2_bl4_3_8_total_out",{"$f":"'T2-B(PP2)'!$I$93","v":0},"#'T2-B(PP2)'!$I$93"]
["pp2_bl4_3_8_unit",{"$f":"'T2-B(PP2)'!$C$93","v":0},"#'T2-B(PP2)'!$C$93"]
["pp2_bl4_3_8_unit_in",{"$f":"'T2-B(PP2)'!$D$93","v":0},"#'T2-B(PP2)'!$D$93"]
["pp2_bl4_3_8_units_out",{"$f":"'T2-B(PP2)'!$G$93","v":0},"#'T2-B(PP2)'!$G$93"]
["pp2_bl4_3_9_name",{"$f":"'T2-B(PP2)'!$B$94","v":0},"#'T2-B(PP2)'!$B$94"]
["pp2_bl4_3_9_rate_in",{"$f":"'T2-B(PP2)'!$E$94","v":0},"#'T2-B(PP2)'!$E$94"]
["pp2_bl4_3_9_rate_out",{"$f":"'T2-B(PP2)'!$H$94","v":0},"#'T2-B(PP2)'!$H$94"]
["pp2_bl4_3_9_total",{"$f":"'T2-B(PP2)'!$J$94","v":0},"#'T2-B(PP2)'!$J$94"]
["pp2_bl4_3_9_total_in",{"$f":"'T2-B(PP2)'!$F$94","v":0},"#'T2-B(PP2)'!$F$94"]
["pp2_bl4_3_9_total_out",{"$f":"'T2-B(PP2)'!$I$94","v":0},"#'T2-B(PP2)'!$I$94"]
["pp2_bl4_3_9_unit",{"$f":"'T2-B(PP2)'!$C$94","v":0},"#'T2-B(PP2)'!$C$94"]
["pp2_bl4_3_9_unit_in",{"$f":"'T2-B(PP2)'!$D$94","v":0},"#'T2-B(PP2)'!$D$94"]
["pp2_bl4_3_9_units_out",{"$f":"'T2-B(PP2)'!$G$94","v":0},"#'T2-B(PP2)'!$G$94"]
["pp2_bl4_3_total",{"$f":"'T2-B(PP2)'!$J$85","v":0},"#'T2-B(PP2)'!$J$85"]
["pp2_bl4_3_total_in",{"$f":"'T2-B(PP2)'!$F$85","v":0},"#'T2-B(PP2)'!$F$85"]
["pp2_bl4_3_total_out",{"$f":"'T2-B(PP2)'!$I$85","v":0},"#'T2-B(PP2)'!$I$85"]
["pp2_bl4_4_1_name",{"$f":"'T2-B(PP2)'!$B$97","v":0},"#'T2-B(PP2)'!$B$97"]
["pp2_bl4_4_1_rate_in",{"$f":"'T2-B(PP2)'!$E$97","v":0},"#'T2-B(PP2)'!$E$97"]
["pp2_bl4_4_1_rate_out",{"$f":"'T2-B(PP2)'!$H$97","v":0},"#'T2-B(PP2)'!$H$97"]
["pp2_bl4_4_1_total",{"$f":"'T2-B(PP2)'!$J$97","v":0},"#'T2-B(PP2)'!$J$97"]
["pp2_bl4_4_1_total_in",{"$f":"'T2-B(PP2)'!$F$97","v":0},"#'T2-B(PP2)'!$F$97"]
["pp2_bl4_4_1_total_out",{"$f":"'T2-B(PP2)'!$I$97","v":0},"#'T2-B(PP2)'!$I$97"]
["pp2_bl4_4_1_unit",{"$f":"'T2-B(PP2)'!$C$97","v":0},"#'T2-B(PP2)'!$C$97"]
["pp2_bl4_4_1_unit_in",{"$f":"'T2-B(PP2)'!$D$97","v":0},"#'T2-B(PP2)'!$D$97"]
["pp2_bl4_4_1_units_out",{"$f":"'T2-B(PP2)'!$G$97","v":0},"#'T2-B(PP2)'!$G$97"]
["pp2_bl4_4_10_name",{"$f":"'T2-B(PP2)'!$B$106","v":0},"#'T2-B(PP2)'!$B$106"]
["pp2_bl4_4_10_rate_in",{"$f":"'T2-B(PP2)'!$E$106","v":0},"#'T2-B(PP2)'!$E$106"]
["pp2_bl4_4_10_rate_out",{"$f":"'T2-B(PP2)'!$H$106","v":0},"#'T2-B(PP2)'!$H$106"]
["pp2_bl4_4_10_total",{"$f":"'T2-B(PP2)'!$J$106","v":0},"#'T2-B(PP2)'!$J$106"]
["pp2_bl4_4_10_total_in",{"$f":"'T2-B(PP2)'!$F$106","v":0},"#'T2-B(PP2)'!$F$106"]
["pp2_bl4_4_10_total_out",{"$f":"'T2-B(PP2)'!$I$106","v":0},"#'T2-B(PP2)'!$I$106"]
["pp2_bl4_4_10_unit",{"$f":"'T2-B(PP2)'!$C$106","v":0},"#'T2-B(PP2)'!$C$106"]
["pp2_bl4_4_10_unit_in",{"$f":"'T2-B(PP2)'!$D$106","v":0},"#'T2-B(PP2)'!$D$106"]
["pp2_bl4_4_10_units_out",{"$f":"'T2-B(PP2)'!$G$106","v":0},"#'T2-B(PP2)'!$G$106"]
["pp2_bl4_4_2_name",{"$f":"'T2-B(PP2)'!$B$98","v":0},"#'T2-B(PP2)'!$B$98"]
["pp2_bl4_4_2_rate_in",{"$f":"'T2-B(PP2)'!$E$98","v":0},"#'T2-B(PP2)'!$E$98"]
["pp2_bl4_4_2_rate_out",{"$f":"'T2-B(PP2)'!$H$98","v":0},"#'T2-B(PP2)'!$H$98"]
["pp2_bl4_4_2_total",{"$f":"'T2-B(PP2)'!$J$98","v":0},"#'T2-B(PP2)'!$J$98"]
["pp2_bl4_4_2_total_in",{"$f":"'T2-B(PP2)'!$F$98","v":0},"#'T2-B(PP2)'!$F$98"]
["pp2_bl4_4_2_total_out",{"$f":"'T2-B(PP2)'!$I$98","v":0},"#'T2-B(PP2)'!$I$98"]
["pp2_bl4_4_2_unit",{"$f":"'T2-B(PP2)'!$C$98","v":0},"#'T2-B(PP2)'!$C$98"]
["pp2_bl4_4_2_unit_in",{"$f":"'T2-B(PP2)'!$D$98","v":0},"#'T2-B(PP2)'!$D$98"]
["pp2_bl4_4_2_units_out",{"$f":"'T2-B(PP2)'!$G$98","v":0},"#'T2-B(PP2)'!$G$98"]
["pp2_bl4_4_3_name",{"$f":"'T2-B(PP2)'!$B$99","v":0},"#'T2-B(PP2)'!$B$99"]
["pp2_bl4_4_3_rate_in",{"$f":"'T2-B(PP2)'!$E$99","v":0},"#'T2-B(PP2)'!$E$99"]
["pp2_bl4_4_3_rate_out",{"$f":"'T2-B(PP2)'!$H$99","v":0},"#'T2-B(PP2)'!$H$99"]
["pp2_bl4_4_3_total",{"$f":"'T2-B(PP2)'!$J$99","v":0},"#'T2-B(PP2)'!$J$99"]
["pp2_bl4_4_3_total_in",{"$f":"'T2-B(PP2)'!$F$99","v":0},"#'T2-B(PP2)'!$F$99"]
["pp2_bl4_4_3_total_out",{"$f":"'T2-B(PP2)'!$I$99","v":0},"#'T2-B(PP2)'!$I$99"]
["pp2_bl4_4_3_unit",{"$f":"'T2-B(PP2)'!$C$99","v":0},"#'T2-B(PP2)'!$C$99"]
["pp2_bl4_4_3_unit_in",{"$f":"'T2-B(PP2)'!$D$99","v":0},"#'T2-B(PP2)'!$D$99"]
["pp2_bl4_4_3_units_out",{"$f":"'T2-B(PP2)'!$G$99","v":0},"#'T2-B(PP2)'!$G$99"]
["pp2_bl4_4_4_name",{"$f":"'T2-B(PP2)'!$B$100","v":0},"#'T2-B(PP2)'!$B$100"]
["pp2_bl4_4_4_rate_in",{"$f":"'T2-B(PP2)'!$E$100","v":0},"#'T2-B(PP2)'!$E$100"]
["pp2_bl4_4_4_rate_out",{"$f":"'T2-B(PP2)'!$H$100","v":0},"#'T2-B(PP2)'!$H$100"]
["pp2_bl4_4_4_total",{"$f":"'T2-B(PP2)'!$J$100","v":0},"#'T2-B(PP2)'!$J$100"]
["pp2_bl4_4_4_total_in",{"$f":"'T2-B(PP2)'!$F$100","v":0},"#'T2-B(PP2)'!$F$100"]
["pp2_bl4_4_4_total_out",{"$f":"'T2-B(PP2)'!$I$100","v":0},"#'T2-B(PP2)'!$I$100"]
["pp2_bl4_4_4_unit",{"$f":"'T2-B(PP2)'!$C$100","v":0},"#'T2-B(PP2)'!$C$100"]
["pp2_bl4_4_4_unit_in",{"$f":"'T2-B(PP2)'!$D$100","v":0},"#'T2-B(PP2)'!$D$100"]
["pp2_bl4_4_4_units_out",{"$f":"'T2-B(PP2)'!$G$100","v":0},"#'T2-B(PP2)'!$G$100"]
["pp2_bl4_4_5_name",{"$f":"'T2-B(PP2)'!$B$101","v":0},"#'T2-B(PP2)'!$B$101"]
["pp2_bl4_4_5_rate_in",{"$f":"'T2-B(PP2)'!$E$101","v":0},"#'T2-B(PP2)'!$E$101"]
["pp2_bl4_4_5_rate_out",{"$f":"'T2-B(PP2)'!$H$101","v":0},"#'T2-B(PP2)'!$H$101"]
["pp2_bl4_4_5_total",{"$f":"'T2-B(PP2)'!$J$101","v":0},"#'T2-B(PP2)'!$J$101"]
["pp2_bl4_4_5_total_in",{"$f":"'T2-B(PP2)'!$F$101","v":0},"#'T2-B(PP2)'!$F$101"]
["pp2_bl4_4_5_total_out",{"$f":"'T2-B(PP2)'!$I$101","v":0},"#'T2-B(PP2)'!$I$101"]
["pp2_bl4_4_5_unit",{"$f":"'T2-B(PP2)'!$C$101","v":0},"#'T2-B(PP2)'!$C$101"]
["pp2_bl4_4_5_unit_in",{"$f":"'T2-B(PP2)'!$D$101","v":0},"#'T2-B(PP2)'!$D$101"]
["pp2_bl4_4_5_units_out",{"$f":"'T2-B(PP2)'!$G$101","v":0},"#'T2-B(PP2)'!$G$101"]
["pp2_bl4_4_6_name",{"$f":"'T2-B(PP2)'!$B$102","v":0},"#'T2-B(PP2)'!$B$102"]
["pp2_bl4_4_6_rate_in",{"$f":"'T2-B(PP2)'!$E$102","v":0},"#'T2-B(PP2)'!$E$102"]
["pp2_bl4_4_6_rate_out",{"$f":"'T2-B(PP2)'!$H$102","v":0},"#'T2-B(PP2)'!$H$102"]
["pp2_bl4_4_6_total",{"$f":"'T2-B(PP2)'!$J$102","v":0},"#'T2-B(PP2)'!$J$102"]
["pp2_bl4_4_6_total_in",{"$f":"'T2-B(PP2)'!$F$102","v":0},"#'T2-B(PP2)'!$F$102"]
["pp2_bl4_4_6_total_out",{"$f":"'T2-B(PP2)'!$I$102","v":0},"#'T2-B(PP2)'!$I$102"]
["pp2_bl4_4_6_unit",{"$f":"'T2-B(PP2)'!$C$102","v":0},"#'T2-B(PP2)'!$C$102"]
["pp2_bl4_4_6_unit_in",{"$f":"'T2-B(PP2)'!$D$102","v":0},"#'T2-B(PP2)'!$D$102"]
["pp2_bl4_4_6_units_out",{"$f":"'T2-B(PP2)'!$G$102","v":0},"#'T2-B(PP2)'!$G$102"]
["pp2_bl4_4_7_name",{"$f":"'T2-B(PP2)'!$B$103","v":0},"#'T2-B(PP2)'!$B$103"]
["pp2_bl4_4_7_rate_in",{"$f":"'T2-B(PP2)'!$E$103","v":0},"#'T2-B(PP2)'!$E$103"]
["pp2_bl4_4_7_rate_out",{"$f":"'T2-B(PP2)'!$H$103","v":0},"#'T2-B(PP2)'!$H$103"]
["pp2_bl4_4_7_total",{"$f":"'T2-B(PP2)'!$J$103","v":0},"#'T2-B(PP2)'!$J$103"]
["pp2_bl4_4_7_total_in",{"$f":"'T2-B(PP2)'!$F$103","v":0},"#'T2-B(PP2)'!$F$103"]
["pp2_bl4_4_7_total_out",{"$f":"'T2-B(PP2)'!$I$103","v":0},"#'T2-B(PP2)'!$I$103"]
["pp2_bl4_4_7_unit",{"$f":"'T2-B(PP2)'!$C$103","v":0},"#'T2-B(PP2)'!$C$103"]
["pp2_bl4_4_7_unit_in",{"$f":"'T2-B(PP2)'!$D$103","v":0},"#'T2-B(PP2)'!$D$103"]
["pp2_bl4_4_7_units_out",{"$f":"'T2-B(PP2)'!$G$103","v":0},"#'T2-B(PP2)'!$G$103"]
["pp2_bl4_4_8_name",{"$f":"'T2-B(PP2)'!$B$104","v":0},"#'T2-B(PP2)'!$B$104"]
["pp2_bl4_4_8_rate_in",{"$f":"'T2-B(PP2)'!$E$104","v":0},"#'T2-B(PP2)'!$E$104"]
["pp2_bl4_4_8_rate_out",{"$f":"'T2-B(PP2)'!$H$104","v":0},"#'T2-B(PP2)'!$H$104"]
["pp2_bl4_4_8_total",{"$f":"'T2-B(PP2)'!$J$104","v":0},"#'T2-B(PP2)'!$J$104"]
["pp2_bl4_4_8_total_in",{"$f":"'T2-B(PP2)'!$F$104","v":0},"#'T2-B(PP2)'!$F$104"]
["pp2_bl4_4_8_total_out",{"$f":"'T2-B(PP2)'!$I$104","v":0},"#'T2-B(PP2)'!$I$104"]
["pp2_bl4_4_8_unit",{"$f":"'T2-B(PP2)'!$C$104","v":0},"#'T2-B(PP2)'!$C$104"]
["pp2_bl4_4_8_unit_in",{"$f":"'T2-B(PP2)'!$D$104","v":0},"#'T2-B(PP2)'!$D$104"]
["pp2_bl4_4_8_units_out",{"$f":"'T2-B(PP2)'!$G$104","v":0},"#'T2-B(PP2)'!$G$104"]
["pp2_bl4_4_9_name",{"$f":"'T2-B(PP2)'!$B$105","v":0},"#'T2-B(PP2)'!$B$105"]
["pp2_bl4_4_9_rate_in",{"$f":"'T2-B(PP2)'!$E$105","v":0},"#'T2-B(PP2)'!$E$105"]
["pp2_bl4_4_9_rate_out",{"$f":"'T2-B(PP2)'!$H$105","v":0},"#'T2-B(PP2)'!$H$105"]
["pp2_bl4_4_9_total",{"$f":"'T2-B(PP2)'!$J$105","v":0},"#'T2-B(PP2)'!$J$105"]
["pp2_bl4_4_9_total_in",{"$f":"'T2-B(PP2)'!$F$105","v":0},"#'T2-B(PP2)'!$F$105"]
["pp2_bl4_4_9_total_out",{"$f":"'T2-B(PP2)'!$I$105","v":0},"#'T2-B(PP2)'!$I$105"]
["pp2_bl4_4_9_unit",{"$f":"'T2-B(PP2)'!$C$105","v":0},"#'T2-B(PP2)'!$C$105"]
["pp2_bl4_4_9_unit_in",{"$f":"'T2-B(PP2)'!$D$105","v":0},"#'T2-B(PP2)'!$D$105"]
["pp2_bl4_4_9_units_out",{"$f":"'T2-B(PP2)'!$G$105","v":0},"#'T2-B(PP2)'!$G$105"]
["pp2_bl4_4_total",{"$f":"'T2-B(PP2)'!$J$96","v":0},"#'T2-B(PP2)'!$J$96"]
["pp2_bl4_4_total_in",{"$f":"'T2-B(PP2)'!$F$96","v":0},"#'T2-B(PP2)'!$F$96"]
["pp2_bl4_4_total_out",{"$f":"'T2-B(PP2)'!$I$96","v":0},"#'T2-B(PP2)'!$I$96"]
["pp2_bl4_5_1_name",{"$f":"'T2-B(PP2)'!$B$108","v":0},"#'T2-B(PP2)'!$B$108"]
["pp2_bl4_5_1_rate_in",{"$f":"'T2-B(PP2)'!$E$108","v":0},"#'T2-B(PP2)'!$E$108"]
["pp2_bl4_5_1_rate_out",{"$f":"'T2-B(PP2)'!$H$108","v":0},"#'T2-B(PP2)'!$H$108"]
["pp2_bl4_5_1_total",{"$f":"'T2-B(PP2)'!$J$108","v":0},"#'T2-B(PP2)'!$J$108"]
["pp2_bl4_5_1_total_in",{"$f":"'T2-B(PP2)'!$F$108","v":0},"#'T2-B(PP2)'!$F$108"]
["pp2_bl4_5_1_total_out",{"$f":"'T2-B(PP2)'!$I$108","v":0},"#'T2-B(PP2)'!$I$108"]
["pp2_bl4_5_1_unit",{"$f":"'T2-B(PP2)'!$C$108","v":0},"#'T2-B(PP2)'!$C$108"]
["pp2_bl4_5_1_unit_in",{"$f":"'T2-B(PP2)'!$D$108","v":0},"#'T2-B(PP2)'!$D$108"]
["pp2_bl4_5_1_units_out",{"$f":"'T2-B(PP2)'!$G$108","v":0},"#'T2-B(PP2)'!$G$108"]
["pp2_bl4_5_10_name",{"$f":"'T2-B(PP2)'!$B$117","v":0},"#'T2-B(PP2)'!$B$117"]
["pp2_bl4_5_10_rate_in",{"$f":"'T2-B(PP2)'!$E$117","v":0},"#'T2-B(PP2)'!$E$117"]
["pp2_bl4_5_10_rate_out",{"$f":"'T2-B(PP2)'!$H$117","v":0},"#'T2-B(PP2)'!$H$117"]
["pp2_bl4_5_10_total",{"$f":"'T2-B(PP2)'!$J$117","v":0},"#'T2-B(PP2)'!$J$117"]
["pp2_bl4_5_10_total_in",{"$f":"'T2-B(PP2)'!$F$117","v":0},"#'T2-B(PP2)'!$F$117"]
["pp2_bl4_5_10_total_out",{"$f":"'T2-B(PP2)'!$I$117","v":0},"#'T2-B(PP2)'!$I$117"]
["pp2_bl4_5_10_unit",{"$f":"'T2-B(PP2)'!$C$117","v":0},"#'T2-B(PP2)'!$C$117"]
["pp2_bl4_5_10_unit_in",{"$f":"'T2-B(PP2)'!$D$117","v":0},"#'T2-B(PP2)'!$D$117"]
["pp2_bl4_5_10_units_out",{"$f":"'T2-B(PP2)'!$G$117","v":0},"#'T2-B(PP2)'!$G$117"]
["pp2_bl4_5_2_name",{"$f":"'T2-B(PP2)'!$B$109","v":0},"#'T2-B(PP2)'!$B$109"]
["pp2_bl4_5_2_rate_in",{"$f":"'T2-B(PP2)'!$E$109","v":0},"#'T2-B(PP2)'!$E$109"]
["pp2_bl4_5_2_rate_out",{"$f":"'T2-B(PP2)'!$H$109","v":0},"#'T2-B(PP2)'!$H$109"]
["pp2_bl4_5_2_total",{"$f":"'T2-B(PP2)'!$J$109","v":0},"#'T2-B(PP2)'!$J$109"]
["pp2_bl4_5_2_total_in",{"$f":"'T2-B(PP2)'!$F$109","v":0},"#'T2-B(PP2)'!$F$109"]
["pp2_bl4_5_2_total_out",{"$f":"'T2-B(PP2)'!$I$109","v":0},"#'T2-B(PP2)'!$I$109"]
["pp2_bl4_5_2_unit",{"$f":"'T2-B(PP2)'!$C$109","v":0},"#'T2-B(PP2)'!$C$109"]
["pp2_bl4_5_2_unit_in",{"$f":"'T2-B(PP2)'!$D$109","v":0},"#'T2-B(PP2)'!$D$109"]
["pp2_bl4_5_2_units_out",{"$f":"'T2-B(PP2)'!$G$109","v":0},"#'T2-B(PP2)'!$G$109"]
["pp2_bl4_5_3_name",{"$f":"'T2-B(PP2)'!$B$110","v":0},"#'T2-B(PP2)'!$B$110"]
["pp2_bl4_5_3_rate_in",{"$f":"'T2-B(PP2)'!$E$110","v":0},"#'T2-B(PP2)'!$E$110"]
["pp2_bl4_5_3_rate_out",{"$f":"'T2-B(PP2)'!$H$110","v":0},"#'T2-B(PP2)'!$H$110"]
["pp2_bl4_5_3_total",{"$f":"'T2-B(PP2)'!$J$110","v":0},"#'T2-B(PP2)'!$J$110"]
["pp2_bl4_5_3_total_in",{"$f":"'T2-B(PP2)'!$F$110","v":0},"#'T2-B(PP2)'!$F$110"]
["pp2_bl4_5_3_total_out",{"$f":"'T2-B(PP2)'!$I$110","v":0},"#'T2-B(PP2)'!$I$110"]
["pp2_bl4_5_3_unit",{"$f":"'T2-B(PP2)'!$C$110","v":0},"#'T2-B(PP2)'!$C$110"]
["pp2_bl4_5_3_unit_in",{"$f":"'T2-B(PP2)'!$D$110","v":0},"#'T2-B(PP2)'!$D$110"]
["pp2_bl4_5_3_units_out",{"$f":"'T2-B(PP2)'!$G$110","v":0},"#'T2-B(PP2)'!$G$110"]
["pp2_bl4_5_4_name",{"$f":"'T2-B(PP2)'!$B$111","v":0},"#'T2-B(PP2)'!$B$111"]
["pp2_bl4_5_4_rate_in",{"$f":"'T2-B(PP2)'!$E$111","v":0},"#'T2-B(PP2)'!$E$111"]
["pp2_bl4_5_4_rate_out",{"$f":"'T2-B(PP2)'!$H$111","v":0},"#'T2-B(PP2)'!$H$111"]
["pp2_bl4_5_4_total",{"$f":"'T2-B(PP2)'!$J$111","v":0},"#'T2-B(PP2)'!$J$111"]
["pp2_bl4_5_4_total_in",{"$f":"'T2-B(PP2)'!$F$111","v":0},"#'T2-B(PP2)'!$F$111"]
["pp2_bl4_5_4_total_out",{"$f":"'T2-B(PP2)'!$I$111","v":0},"#'T2-B(PP2)'!$I$111"]
["pp2_bl4_5_4_unit",{"$f":"'T2-B(PP2)'!$C$111","v":0},"#'T2-B(PP2)'!$C$111"]
["pp2_bl4_5_4_unit_in",{"$f":"'T2-B(PP2)'!$D$111","v":0},"#'T2-B(PP2)'!$D$111"]
["pp2_bl4_5_4_units_out",{"$f":"'T2-B(PP2)'!$G$111","v":0},"#'T2-B(PP2)'!$G$111"]
["pp2_bl4_5_5_name",{"$f":"'T2-B(PP2)'!$B$112","v":0},"#'T2-B(PP2)'!$B$112"]
["pp2_bl4_5_5_rate_in",{"$f":"'T2-B(PP2)'!$E$112","v":0},"#'T2-B(PP2)'!$E$112"]
["pp2_bl4_5_5_rate_out",{"$f":"'T2-B(PP2)'!$H$112","v":0},"#'T2-B(PP2)'!$H$112"]
["pp2_bl4_5_5_total",{"$f":"'T2-B(PP2)'!$J$112","v":0},"#'T2-B(PP2)'!$J$112"]
["pp2_bl4_5_5_total_in",{"$f":"'T2-B(PP2)'!$F$112","v":0},"#'T2-B(PP2)'!$F$112"]
["pp2_bl4_5_5_total_out",{"$f":"'T2-B(PP2)'!$I$112","v":0},"#'T2-B(PP2)'!$I$112"]
["pp2_bl4_5_5_unit",{"$f":"'T2-B(PP2)'!$C$112","v":0},"#'T2-B(PP2)'!$C$112"]
["pp2_bl4_5_5_unit_in",{"$f":"'T2-B(PP2)'!$D$112","v":0},"#'T2-B(PP2)'!$D$112"]
["pp2_bl4_5_5_units_out",{"$f":"'T2-B(PP2)'!$G$112","v":0},"#'T2-B(PP2)'!$G$112"]
["pp2_bl4_5_6_name",{"$f":"'T2-B(PP2)'!$B$113","v":0},"#'T2-B(PP2)'!$B$113"]
["pp2_bl4_5_6_rate_in",{"$f":"'T2-B(PP2)'!$E$113","v":0},"#'T2-B(PP2)'!$E$113"]
["pp2_bl4_5_6_rate_out",{"$f":"'T2-B(PP2)'!$H$113","v":0},"#'T2-B(PP2)'!$H$113"]
["pp2_bl4_5_6_total",{"$f":"'T2-B(PP2)'!$J$113","v":0},"#'T2-B(PP2)'!$J$113"]
["pp2_bl4_5_6_total_in",{"$f":"'T2-B(PP2)'!$F$113","v":0},"#'T2-B(PP2)'!$F$113"]
["pp2_bl4_5_6_total_out",{"$f":"'T2-B(PP2)'!$I$113","v":0},"#'T2-B(PP2)'!$I$113"]
["pp2_bl4_5_6_unit",{"$f":"'T2-B(PP2)'!$C$113","v":0},"#'T2-B(PP2)'!$C$113"]
["pp2_bl4_5_6_unit_in",{"$f":"'T2-B(PP2)'!$D$113","v":0},"#'T2-B(PP2)'!$D$113"]
["pp2_bl4_5_6_units_out",{"$f":"'T2-B(PP2)'!$G$113","v":0},"#'T2-B(PP2)'!$G$113"]
["pp2_bl4_5_7_name",{"$f":"'T2-B(PP2)'!$B$114","v":0},"#'T2-B(PP2)'!$B$114"]
["pp2_bl4_5_7_rate_in",{"$f":"'T2-B(PP2)'!$E$114","v":0},"#'T2-B(PP2)'!$E$114"]
["pp2_bl4_5_7_rate_out",{"$f":"'T2-B(PP2)'!$H$114","v":0},"#'T2-B(PP2)'!$H$114"]
["pp2_bl4_5_7_total",{"$f":"'T2-B(PP2)'!$J$114","v":0},"#'T2-B(PP2)'!$J$114"]
["pp2_bl4_5_7_total_in",{"$f":"'T2-B(PP2)'!$F$114","v":0},"#'T2-B(PP2)'!$F$114"]
["pp2_bl4_5_7_total_out",{"$f":"'T2-B(PP2)'!$I$114","v":0},"#'T2-B(PP2)'!$I$114"]
["pp2_bl4_5_7_unit",{"$f":"'T2-B(PP2)'!$C$114","v":0},"#'T2-B(PP2)'!$C$114"]
["pp2_bl4_5_7_unit_in",{"$f":"'T2-B(PP2)'!$D$114","v":0},"#'T2-B(PP2)'!$D$114"]
["pp2_bl4_5_7_units_out",{"$f":"'T2-B(PP2)'!$G$114","v":0},"#'T2-B(PP2)'!$G$114"]
["pp2_bl4_5_8_name",{"$f":"'T2-B(PP2)'!$B$115","v":0},"#'T2-B(PP2)'!$B$115"]
["pp2_bl4_5_8_rate_in",{"$f":"'T2-B(PP2)'!$E$115","v":0},"#'T2-B(PP2)'!$E$115"]
["pp2_bl4_5_8_rate_out",{"$f":"'T2-B(PP2)'!$H$115","v":0},"#'T2-B(PP2)'!$H$115"]
["pp2_bl4_5_8_total",{"$f":"'T2-B(PP2)'!$J$115","v":0},"#'T2-B(PP2)'!$J$115"]
["pp2_bl4_5_8_total_in",{"$f":"'T2-B(PP2)'!$F$115","v":0},"#'T2-B(PP2)'!$F$115"]
["pp2_bl4_5_8_total_out",{"$f":"'T2-B(PP2)'!$I$115","v":0},"#'T2-B(PP2)'!$I$115"]
["pp2_bl4_5_8_unit",{"$f":"'T2-B(PP2)'!$C$115","v":0},"#'T2-B(PP2)'!$C$115"]
["pp2_bl4_5_8_unit_in",{"$f":"'T2-B(PP2)'!$D$115","v":0},"#'T2-B(PP2)'!$D$115"]
["pp2_bl4_5_8_units_out",{"$f":"'T2-B(PP2)'!$G$115","v":0},"#'T2-B(PP2)'!$G$115"]
["pp2_bl4_5_9_name",{"$f":"'T2-B(PP2)'!$B$116","v":0},"#'T2-B(PP2)'!$B$116"]
["pp2_bl4_5_9_rate_in",{"$f":"'T2-B(PP2)'!$E$116","v":0},"#'T2-B(PP2)'!$E$116"]
["pp2_bl4_5_9_rate_out",{"$f":"'T2-B(PP2)'!$H$116","v":0},"#'T2-B(PP2)'!$H$116"]
["pp2_bl4_5_9_total",{"$f":"'T2-B(PP2)'!$J$116","v":0},"#'T2-B(PP2)'!$J$116"]
["pp2_bl4_5_9_total_in",{"$f":"'T2-B(PP2)'!$F$116","v":0},"#'T2-B(PP2)'!$F$116"]
["pp2_bl4_5_9_total_out",{"$f":"'T2-B(PP2)'!$I$116","v":0},"#'T2-B(PP2)'!$I$116"]
["pp2_bl4_5_9_unit",{"$f":"'T2-B(PP2)'!$C$116","v":0},"#'T2-B(PP2)'!$C$116"]
["pp2_bl4_5_9_unit_in",{"$f":"'T2-B(PP2)'!$D$116","v":0},"#'T2-B(PP2)'!$D$116"]
["pp2_bl4_5_9_units_out",{"$f":"'T2-B(PP2)'!$G$116","v":0},"#'T2-B(PP2)'!$G$116"]
["pp2_bl4_5_total",{"$f":"'T2-B(PP2)'!$J$107","v":0},"#'T2-B(PP2)'!$J$107"]
["pp2_bl4_5_total_in",{"$f":"'T2-B(PP2)'!$F$107","v":0},"#'T2-B(PP2)'!$F$107"]
["pp2_bl4_5_total_out",{"$f":"'T2-B(PP2)'!$I$107","v":0},"#'T2-B(PP2)'!$I$107"]
["pp2_bl4_6_1_name",{"$f":"'T2-B(PP2)'!$B$119","v":0},"#'T2-B(PP2)'!$B$119"]
["pp2_bl4_6_1_rate_in",{"$f":"'T2-B(PP2)'!$E$119","v":0},"#'T2-B(PP2)'!$E$119"]
["pp2_bl4_6_1_rate_out",{"$f":"'T2-B(PP2)'!$H$119","v":0},"#'T2-B(PP2)'!$H$119"]
["pp2_bl4_6_1_total",{"$f":"'T2-B(PP2)'!$J$119","v":0},"#'T2-B(PP2)'!$J$119"]
["pp2_bl4_6_1_total_in",{"$f":"'T2-B(PP2)'!$F$119","v":0},"#'T2-B(PP2)'!$F$119"]
["pp2_bl4_6_1_total_out",{"$f":"'T2-B(PP2)'!$I$119","v":0},"#'T2-B(PP2)'!$I$119"]
["pp2_bl4_6_1_unit",{"$f":"'T2-B(PP2)'!$C$119","v":0},"#'T2-B(PP2)'!$C$119"]
["pp2_bl4_6_1_unit_in",{"$f":"'T2-B(PP2)'!$D$119","v":0},"#'T2-B(PP2)'!$D$119"]
["pp2_bl4_6_1_units_out",{"$f":"'T2-B(PP2)'!$G$119","v":0},"#'T2-B(PP2)'!$G$119"]
["pp2_bl4_6_10_name",{"$f":"'T2-B(PP2)'!$B$128","v":0},"#'T2-B(PP2)'!$B$128"]
["pp2_bl4_6_10_rate_in",{"$f":"'T2-B(PP2)'!$E$128","v":0},"#'T2-B(PP2)'!$E$128"]
["pp2_bl4_6_10_rate_out",{"$f":"'T2-B(PP2)'!$H$128","v":0},"#'T2-B(PP2)'!$H$128"]
["pp2_bl4_6_10_total",{"$f":"'T2-B(PP2)'!$J$128","v":0},"#'T2-B(PP2)'!$J$128"]
["pp2_bl4_6_10_total_in",{"$f":"'T2-B(PP2)'!$F$128","v":0},"#'T2-B(PP2)'!$F$128"]
["pp2_bl4_6_10_total_out",{"$f":"'T2-B(PP2)'!$I$128","v":0},"#'T2-B(PP2)'!$I$128"]
["pp2_bl4_6_10_unit",{"$f":"'T2-B(PP2)'!$C$128","v":0},"#'T2-B(PP2)'!$C$128"]
["pp2_bl4_6_10_unit_in",{"$f":"'T2-B(PP2)'!$D$128","v":0},"#'T2-B(PP2)'!$D$128"]
["pp2_bl4_6_10_units_out",{"$f":"'T2-B(PP2)'!$G$128","v":0},"#'T2-B(PP2)'!$G$128"]
["pp2_bl4_6_2_name",{"$f":"'T2-B(PP2)'!$B$120","v":0},"#'T2-B(PP2)'!$B$120"]
["pp2_bl4_6_2_rate_in",{"$f":"'T2-B(PP2)'!$E$120","v":0},"#'T2-B(PP2)'!$E$120"]
["pp2_bl4_6_2_rate_out",{"$f":"'T2-B(PP2)'!$H$120","v":0},"#'T2-B(PP2)'!$H$120"]
["pp2_bl4_6_2_total",{"$f":"'T2-B(PP2)'!$J$120","v":0},"#'T2-B(PP2)'!$J$120"]
["pp2_bl4_6_2_total_in",{"$f":"'T2-B(PP2)'!$F$120","v":0},"#'T2-B(PP2)'!$F$120"]
["pp2_bl4_6_2_total_out",{"$f":"'T2-B(PP2)'!$I$120","v":0},"#'T2-B(PP2)'!$I$120"]
["pp2_bl4_6_2_unit",{"$f":"'T2-B(PP2)'!$C$120","v":0},"#'T2-B(PP2)'!$C$120"]
["pp2_bl4_6_2_unit_in",{"$f":"'T2-B(PP2)'!$D$120","v":0},"#'T2-B(PP2)'!$D$120"]
["pp2_bl4_6_2_units_out",{"$f":"'T2-B(PP2)'!$G$120","v":0},"#'T2-B(PP2)'!$G$120"]
["pp2_bl4_6_3_name",{"$f":"'T2-B(PP2)'!$B$121","v":0},"#'T2-B(PP2)'!$B$121"]
["pp2_bl4_6_3_rate_in",{"$f":"'T2-B(PP2)'!$E$121","v":0},"#'T2-B(PP2)'!$E$121"]
["pp2_bl4_6_3_rate_out",{"$f":"'T2-B(PP2)'!$H$121","v":0},"#'T2-B(PP2)'!$H$121"]
["pp2_bl4_6_3_total",{"$f":"'T2-B(PP2)'!$J$121","v":0},"#'T2-B(PP2)'!$J$121"]
["pp2_bl4_6_3_total_in",{"$f":"'T2-B(PP2)'!$F$121","v":0},"#'T2-B(PP2)'!$F$121"]
["pp2_bl4_6_3_total_out",{"$f":"'T2-B(PP2)'!$I$121","v":0},"#'T2-B(PP2)'!$I$121"]
["pp2_bl4_6_3_unit",{"$f":"'T2-B(PP2)'!$C$121","v":0},"#'T2-B(PP2)'!$C$121"]
["pp2_bl4_6_3_unit_in",{"$f":"'T2-B(PP2)'!$D$121","v":0},"#'T2-B(PP2)'!$D$121"]
["pp2_bl4_6_3_units_out",{"$f":"'T2-B(PP2)'!$G$121","v":0},"#'T2-B(PP2)'!$G$121"]
["pp2_bl4_6_4_name",{"$f":"'T2-B(PP2)'!$B$122","v":0},"#'T2-B(PP2)'!$B$122"]
["pp2_bl4_6_4_rate_in",{"$f":"'T2-B(PP2)'!$E$122","v":0},"#'T2-B(PP2)'!$E$122"]
["pp2_bl4_6_4_rate_out",{"$f":"'T2-B(PP2)'!$H$122","v":0},"#'T2-B(PP2)'!$H$122"]
["pp2_bl4_6_4_total",{"$f":"'T2-B(PP2)'!$J$122","v":0},"#'T2-B(PP2)'!$J$122"]
["pp2_bl4_6_4_total_in",{"$f":"'T2-B(PP2)'!$F$122","v":0},"#'T2-B(PP2)'!$F$122"]
["pp2_bl4_6_4_total_out",{"$f":"'T2-B(PP2)'!$I$122","v":0},"#'T2-B(PP2)'!$I$122"]
["pp2_bl4_6_4_unit",{"$f":"'T2-B(PP2)'!$C$122","v":0},"#'T2-B(PP2)'!$C$122"]
["pp2_bl4_6_4_unit_in",{"$f":"'T2-B(PP2)'!$D$122","v":0},"#'T2-B(PP2)'!$D$122"]
["pp2_bl4_6_4_units_out",{"$f":"'T2-B(PP2)'!$G$122","v":0},"#'T2-B(PP2)'!$G$122"]
["pp2_bl4_6_5_name",{"$f":"'T2-B(PP2)'!$B$123","v":0},"#'T2-B(PP2)'!$B$123"]
["pp2_bl4_6_5_rate_in",{"$f":"'T2-B(PP2)'!$E$123","v":0},"#'T2-B(PP2)'!$E$123"]
["pp2_bl4_6_5_rate_out",{"$f":"'T2-B(PP2)'!$H$123","v":0},"#'T2-B(PP2)'!$H$123"]
["pp2_bl4_6_5_total",{"$f":"'T2-B(PP2)'!$J$123","v":0},"#'T2-B(PP2)'!$J$123"]
["pp2_bl4_6_5_total_in",{"$f":"'T2-B(PP2)'!$F$123","v":0},"#'T2-B(PP2)'!$F$123"]
["pp2_bl4_6_5_total_out",{"$f":"'T2-B(PP2)'!$I$123","v":0},"#'T2-B(PP2)'!$I$123"]
["pp2_bl4_6_5_unit",{"$f":"'T2-B(PP2)'!$C$123","v":0},"#'T2-B(PP2)'!$C$123"]
["pp2_bl4_6_5_unit_in",{"$f":"'T2-B(PP2)'!$D$123","v":0},"#'T2-B(PP2)'!$D$123"]
["pp2_bl4_6_5_units_out",{"$f":"'T2-B(PP2)'!$G$123","v":0},"#'T2-B(PP2)'!$G$123"]
["pp2_bl4_6_6_name",{"$f":"'T2-B(PP2)'!$B$124","v":0},"#'T2-B(PP2)'!$B$124"]
["pp2_bl4_6_6_rate_in",{"$f":"'T2-B(PP2)'!$E$124","v":0},"#'T2-B(PP2)'!$E$124"]
["pp2_bl4_6_6_rate_out",{"$f":"'T2-B(PP2)'!$H$124","v":0},"#'T2-B(PP2)'!$H$124"]
["pp2_bl4_6_6_total",{"$f":"'T2-B(PP2)'!$J$124","v":0},"#'T2-B(PP2)'!$J$124"]
["pp2_bl4_6_6_total_in",{"$f":"'T2-B(PP2)'!$F$124","v":0},"#'T2-B(PP2)'!$F$124"]
["pp2_bl4_6_6_total_out",{"$f":"'T2-B(PP2)'!$I$124","v":0},"#'T2-B(PP2)'!$I$124"]
["pp2_bl4_6_6_unit",{"$f":"'T2-B(PP2)'!$C$124","v":0},"#'T2-B(PP2)'!$C$124"]
["pp2_bl4_6_6_unit_in",{"$f":"'T2-B(PP2)'!$D$124","v":0},"#'T2-B(PP2)'!$D$124"]
["pp2_bl4_6_6_units_out",{"$f":"'T2-B(PP2)'!$G$124","v":0},"#'T2-B(PP2)'!$G$124"]
["pp2_bl4_6_7_name",{"$f":"'T2-B(PP2)'!$B$125","v":0},"#'T2-B(PP2)'!$B$125"]
["pp2_bl4_6_7_rate_in",{"$f":"'T2-B(PP2)'!$E$125","v":0},"#'T2-B(PP2)'!$E$125"]
["pp2_bl4_6_7_rate_out",{"$f":"'T2-B(PP2)'!$H$125","v":0},"#'T2-B(PP2)'!$H$125"]
["pp2_bl4_6_7_total",{"$f":"'T2-B(PP2)'!$J$125","v":0},"#'T2-B(PP2)'!$J$125"]
["pp2_bl4_6_7_total_in",{"$f":"'T2-B(PP2)'!$F$125","v":0},"#'T2-B(PP2)'!$F$125"]
["pp2_bl4_6_7_total_out",{"$f":"'T2-B(PP2)'!$I$125","v":0},"#'T2-B(PP2)'!$I$125"]
["pp2_bl4_6_7_unit",{"$f":"'T2-B(PP2)'!$C$125","v":0},"#'T2-B(PP2)'!$C$125"]
["pp2_bl4_6_7_unit_in",{"$f":"'T2-B(PP2)'!$D$125","v":0},"#'T2-B(PP2)'!$D$125"]
["pp2_bl4_6_7_units_out",{"$f":"'T2-B(PP2)'!$G$125","v":0},"#'T2-B(PP2)'!$G$125"]
["pp2_bl4_6_8_name",{"$f":"'T2-B(PP2)'!$B$126","v":0},"#'T2-B(PP2)'!$B$126"]
["pp2_bl4_6_8_rate_in",{"$f":"'T2-B(PP2)'!$E$126","v":0},"#'T2-B(PP2)'!$E$126"]
["pp2_bl4_6_8_rate_out",{"$f":"'T2-B(PP2)'!$H$126","v":0},"#'T2-B(PP2)'!$H$126"]
["pp2_bl4_6_8_total",{"$f":"'T2-B(PP2)'!$J$126","v":0},"#'T2-B(PP2)'!$J$126"]
["pp2_bl4_6_8_total_in",{"$f":"'T2-B(PP2)'!$F$126","v":0},"#'T2-B(PP2)'!$F$126"]
["pp2_bl4_6_8_total_out",{"$f":"'T2-B(PP2)'!$I$126","v":0},"#'T2-B(PP2)'!$I$126"]
["pp2_bl4_6_8_unit",{"$f":"'T2-B(PP2)'!$C$126","v":0},"#'T2-B(PP2)'!$C$126"]
["pp2_bl4_6_8_unit_in",{"$f":"'T2-B(PP2)'!$D$126","v":0},"#'T2-B(PP2)'!$D$126"]
["pp2_bl4_6_8_units_out",{"$f":"'T2-B(PP2)'!$G$126","v":0},"#'T2-B(PP2)'!$G$126"]
["pp2_bl4_6_9_name",{"$f":"'T2-B(PP2)'!$B$127","v":0},"#'T2-B(PP2)'!$B$127"]
["pp2_bl4_6_9_rate_in",{"$f":"'T2-B(PP2)'!$E$127","v":0},"#'T2-B(PP2)'!$E$127"]
["pp2_bl4_6_9_rate_out",{"$f":"'T2-B(PP2)'!$H$127","v":0},"#'T2-B(PP2)'!$H$127"]
["pp2_bl4_6_9_total",{"$f":"'T2-B(PP2)'!$J$127","v":0},"#'T2-B(PP2)'!$J$127"]
["pp2_bl4_6_9_total_in",{"$f":"'T2-B(PP2)'!$F$127","v":0},"#'T2-B(PP2)'!$F$127"]
["pp2_bl4_6_9_total_out",{"$f":"'T2-B(PP2)'!$I$127","v":0},"#'T2-B(PP2)'!$I$127"]
["pp2_bl4_6_9_unit",{"$f":"'T2-B(PP2)'!$C$127","v":0},"#'T2-B(PP2)'!$C$127"]
["pp2_bl4_6_9_unit_in",{"$f":"'T2-B(PP2)'!$D$127","v":0},"#'T2-B(PP2)'!$D$127"]
["pp2_bl4_6_9_units_out",{"$f":"'T2-B(PP2)'!$G$127","v":0},"#'T2-B(PP2)'!$G$127"]
["pp2_bl4_6_total",{"$f":"'T2-B(PP2)'!$J$118","v":0},"#'T2-B(PP2)'!$J$118"]
["pp2_bl4_6_total_in",{"$f":"'T2-B(PP2)'!$F$118","v":0},"#'T2-B(PP2)'!$F$118"]
["pp2_bl4_6_total_out",{"$f":"'T2-B(PP2)'!$I$118","v":0},"#'T2-B(PP2)'!$I$118"]
["pp2_bl4_7_1_name",{"$f":"'T2-B(PP2)'!$B$130","v":0},"#'T2-B(PP2)'!$B$130"]
["pp2_bl4_7_1_rate_in",{"$f":"'T2-B(PP2)'!$E$130","v":0},"#'T2-B(PP2)'!$E$130"]
["pp2_bl4_7_1_rate_out",{"$f":"'T2-B(PP2)'!$H$130","v":0},"#'T2-B(PP2)'!$H$130"]
["pp2_bl4_7_1_total",{"$f":"'T2-B(PP2)'!$J$130","v":0},"#'T2-B(PP2)'!$J$130"]
["pp2_bl4_7_1_total_in",{"$f":"'T2-B(PP2)'!$F$130","v":0},"#'T2-B(PP2)'!$F$130"]
["pp2_bl4_7_1_total_out",{"$f":"'T2-B(PP2)'!$I$130","v":0},"#'T2-B(PP2)'!$I$130"]
["pp2_bl4_7_1_unit",{"$f":"'T2-B(PP2)'!$C$130","v":0},"#'T2-B(PP2)'!$C$130"]
["pp2_bl4_7_1_unit_in",{"$f":"'T2-B(PP2)'!$D$130","v":0},"#'T2-B(PP2)'!$D$130"]
["pp2_bl4_7_1_units_out",{"$f":"'T2-B(PP2)'!$G$130","v":0},"#'T2-B(PP2)'!$G$130"]
["pp2_bl4_7_10_name",{"$f":"'T2-B(PP2)'!$B$139","v":0},"#'T2-B(PP2)'!$B$139"]
["pp2_bl4_7_10_rate_in",{"$f":"'T2-B(PP2)'!$E$139","v":0},"#'T2-B(PP2)'!$E$139"]
["pp2_bl4_7_10_rate_out",{"$f":"'T2-B(PP2)'!$H$139","v":0},"#'T2-B(PP2)'!$H$139"]
["pp2_bl4_7_10_total",{"$f":"'T2-B(PP2)'!$J$139","v":0},"#'T2-B(PP2)'!$J$139"]
["pp2_bl4_7_10_total_in",{"$f":"'T2-B(PP2)'!$F$139","v":0},"#'T2-B(PP2)'!$F$139"]
["pp2_bl4_7_10_total_out",{"$f":"'T2-B(PP2)'!$I$139","v":0},"#'T2-B(PP2)'!$I$139"]
["pp2_bl4_7_10_unit",{"$f":"'T2-B(PP2)'!$C$139","v":0},"#'T2-B(PP2)'!$C$139"]
["pp2_bl4_7_10_unit_in",{"$f":"'T2-B(PP2)'!$D$139","v":0},"#'T2-B(PP2)'!$D$139"]
["pp2_bl4_7_10_units_out",{"$f":"'T2-B(PP2)'!$G$139","v":0},"#'T2-B(PP2)'!$G$139"]
["pp2_bl4_7_2_name",{"$f":"'T2-B(PP2)'!$B$131","v":0},"#'T2-B(PP2)'!$B$131"]
["pp2_bl4_7_2_rate_in",{"$f":"'T2-B(PP2)'!$E$131","v":0},"#'T2-B(PP2)'!$E$131"]
["pp2_bl4_7_2_rate_out",{"$f":"'T2-B(PP2)'!$H$131","v":0},"#'T2-B(PP2)'!$H$131"]
["pp2_bl4_7_2_total",{"$f":"'T2-B(PP2)'!$J$131","v":0},"#'T2-B(PP2)'!$J$131"]
["pp2_bl4_7_2_total_in",{"$f":"'T2-B(PP2)'!$F$131","v":0},"#'T2-B(PP2)'!$F$131"]
["pp2_bl4_7_2_total_out",{"$f":"'T2-B(PP2)'!$I$131","v":0},"#'T2-B(PP2)'!$I$131"]
["pp2_bl4_7_2_unit",{"$f":"'T2-B(PP2)'!$C$131","v":0},"#'T2-B(PP2)'!$C$131"]
["pp2_bl4_7_2_unit_in",{"$f":"'T2-B(PP2)'!$D$131","v":0},"#'T2-B(PP2)'!$D$131"]
["pp2_bl4_7_2_units_out",{"$f":"'T2-B(PP2)'!$G$131","v":0},"#'T2-B(PP2)'!$G$131"]
["pp2_bl4_7_3_name",{"$f":"'T2-B(PP2)'!$B$132","v":0},"#'T2-B(PP2)'!$B$132"]
["pp2_bl4_7_3_rate_in",{"$f":"'T2-B(PP2)'!$E$132","v":0},"#'T2-B(PP2)'!$E$132"]
["pp2_bl4_7_3_rate_out",{"$f":"'T2-B(PP2)'!$H$132","v":0},"#'T2-B(PP2)'!$H$132"]
["pp2_bl4_7_3_total",{"$f":"'T2-B(PP2)'!$J$132","v":0},"#'T2-B(PP2)'!$J$132"]
["pp2_bl4_7_3_total_in",{"$f":"'T2-B(PP2)'!$F$132","v":0},"#'T2-B(PP2)'!$F$132"]
["pp2_bl4_7_3_total_out",{"$f":"'T2-B(PP2)'!$I$132","v":0},"#'T2-B(PP2)'!$I$132"]
["pp2_bl4_7_3_unit",{"$f":"'T2-B(PP2)'!$C$132","v":0},"#'T2-B(PP2)'!$C$132"]
["pp2_bl4_7_3_unit_in",{"$f":"'T2-B(PP2)'!$D$132","v":0},"#'T2-B(PP2)'!$D$132"]
["pp2_bl4_7_3_units_out",{"$f":"'T2-B(PP2)'!$G$132","v":0},"#'T2-B(PP2)'!$G$132"]
["pp2_bl4_7_4_name",{"$f":"'T2-B(PP2)'!$B$133","v":0},"#'T2-B(PP2)'!$B$133"]
["pp2_bl4_7_4_rate_in",{"$f":"'T2-B(PP2)'!$E$133","v":0},"#'T2-B(PP2)'!$E$133"]
["pp2_bl4_7_4_rate_out",{"$f":"'T2-B(PP2)'!$H$133","v":0},"#'T2-B(PP2)'!$H$133"]
["pp2_bl4_7_4_total",{"$f":"'T2-B(PP2)'!$J$133","v":0},"#'T2-B(PP2)'!$J$133"]
["pp2_bl4_7_4_total_in",{"$f":"'T2-B(PP2)'!$F$133","v":0},"#'T2-B(PP2)'!$F$133"]
["pp2_bl4_7_4_total_out",{"$f":"'T2-B(PP2)'!$I$133","v":0},"#'T2-B(PP2)'!$I$133"]
["pp2_bl4_7_4_unit",{"$f":"'T2-B(PP2)'!$C$133","v":0},"#'T2-B(PP2)'!$C$133"]
["pp2_bl4_7_4_unit_in",{"$f":"'T2-B(PP2)'!$D$133","v":0},"#'T2-B(PP2)'!$D$133"]
["pp2_bl4_7_4_units_out",{"$f":"'T2-B(PP2)'!$G$133","v":0},"#'T2-B(PP2)'!$G$133"]
["pp2_bl4_7_5_name",{"$f":"'T2-B(PP2)'!$B$134","v":0},"#'T2-B(PP2)'!$B$134"]
["pp2_bl4_7_5_rate_in",{"$f":"'T2-B(PP2)'!$E$134","v":0},"#'T2-B(PP2)'!$E$134"]
["pp2_bl4_7_5_rate_out",{"$f":"'T2-B(PP2)'!$H$134","v":0},"#'T2-B(PP2)'!$H$134"]
["pp2_bl4_7_5_total",{"$f":"'T2-B(PP2)'!$J$134","v":0},"#'T2-B(PP2)'!$J$134"]
["pp2_bl4_7_5_total_in",{"$f":"'T2-B(PP2)'!$F$134","v":0},"#'T2-B(PP2)'!$F$134"]
["pp2_bl4_7_5_total_out",{"$f":"'T2-B(PP2)'!$I$134","v":0},"#'T2-B(PP2)'!$I$134"]
["pp2_bl4_7_5_unit",{"$f":"'T2-B(PP2)'!$C$134","v":0},"#'T2-B(PP2)'!$C$134"]
["pp2_bl4_7_5_unit_in",{"$f":"'T2-B(PP2)'!$D$134","v":0},"#'T2-B(PP2)'!$D$134"]
["pp2_bl4_7_5_units_out",{"$f":"'T2-B(PP2)'!$G$134","v":0},"#'T2-B(PP2)'!$G$134"]
["pp2_bl4_7_6_name",{"$f":"'T2-B(PP2)'!$B$135","v":0},"#'T2-B(PP2)'!$B$135"]
["pp2_bl4_7_6_rate_in",{"$f":"'T2-B(PP2)'!$E$135","v":0},"#'T2-B(PP2)'!$E$135"]
["pp2_bl4_7_6_rate_out",{"$f":"'T2-B(PP2)'!$H$135","v":0},"#'T2-B(PP2)'!$H$135"]
["pp2_bl4_7_6_total",{"$f":"'T2-B(PP2)'!$J$135","v":0},"#'T2-B(PP2)'!$J$135"]
["pp2_bl4_7_6_total_in",{"$f":"'T2-B(PP2)'!$F$135","v":0},"#'T2-B(PP2)'!$F$135"]
["pp2_bl4_7_6_total_out",{"$f":"'T2-B(PP2)'!$I$135","v":0},"#'T2-B(PP2)'!$I$135"]
["pp2_bl4_7_6_unit",{"$f":"'T2-B(PP2)'!$C$135","v":0},"#'T2-B(PP2)'!$C$135"]
["pp2_bl4_7_6_unit_in",{"$f":"'T2-B(PP2)'!$D$135","v":0},"#'T2-B(PP2)'!$D$135"]
["pp2_bl4_7_6_units_out",{"$f":"'T2-B(PP2)'!$G$135","v":0},"#'T2-B(PP2)'!$G$135"]
["pp2_bl4_7_7_name",{"$f":"'T2-B(PP2)'!$B$136","v":0},"#'T2-B(PP2)'!$B$136"]
["pp2_bl4_7_7_rate_in",{"$f":"'T2-B(PP2)'!$E$136","v":0},"#'T2-B(PP2)'!$E$136"]
["pp2_bl4_7_7_rate_out",{"$f":"'T2-B(PP2)'!$H$136","v":0},"#'T2-B(PP2)'!$H$136"]
["pp2_bl4_7_7_total",{"$f":"'T2-B(PP2)'!$J$136","v":0},"#'T2-B(PP2)'!$J$136"]
["pp2_bl4_7_7_total_in",{"$f":"'T2-B(PP2)'!$F$136","v":0},"#'T2-B(PP2)'!$F$136"]
["pp2_bl4_7_7_total_out",{"$f":"'T2-B(PP2)'!$I$136","v":0},"#'T2-B(PP2)'!$I$136"]
["pp2_bl4_7_7_unit",{"$f":"'T2-B(PP2)'!$C$136","v":0},"#'T2-B(PP2)'!$C$136"]
["pp2_bl4_7_7_unit_in",{"$f":"'T2-B(PP2)'!$D$136","v":0},"#'T2-B(PP2)'!$D$136"]
["pp2_bl4_7_7_units_out",{"$f":"'T2-B(PP2)'!$G$136","v":0},"#'T2-B(PP2)'!$G$136"]
["pp2_bl4_7_8_name",{"$f":"'T2-B(PP2)'!$B$137","v":0},"#'T2-B(PP2)'!$B$137"]
["pp2_bl4_7_8_rate_in",{"$f":"'T2-B(PP2)'!$E$137","v":0},"#'T2-B(PP2)'!$E$137"]
["pp2_bl4_7_8_rate_out",{"$f":"'T2-B(PP2)'!$H$137","v":0},"#'T2-B(PP2)'!$H$137"]
["pp2_bl4_7_8_total",{"$f":"'T2-B(PP2)'!$J$137","v":0},"#'T2-B(PP2)'!$J$137"]
["pp2_bl4_7_8_total_in",{"$f":"'T2-B(PP2)'!$F$137","v":0},"#'T2-B(PP2)'!$F$137"]
["pp2_bl4_7_8_total_out",{"$f":"'T2-B(PP2)'!$I$137","v":0},"#'T2-B(PP2)'!$I$137"]
["pp2_bl4_7_8_unit",{"$f":"'T2-B(PP2)'!$C$137","v":0},"#'T2-B(PP2)'!$C$137"]
["pp2_bl4_7_8_unit_in",{"$f":"'T2-B(PP2)'!$D$137","v":0},"#'T2-B(PP2)'!$D$137"]
["pp2_bl4_7_8_units_out",{"$f":"'T2-B(PP2)'!$G$137","v":0},"#'T2-B(PP2)'!$G$137"]
["pp2_bl4_7_9_name",{"$f":"'T2-B(PP2)'!$B$138","v":0},"#'T2-B(PP2)'!$B$138"]
["pp2_bl4_7_9_rate_in",{"$f":"'T2-B(PP2)'!$E$138","v":0},"#'T2-B(PP2)'!$E$138"]
["pp2_bl4_7_9_rate_out",{"$f":"'T2-B(PP2)'!$H$138","v":0},"#'T2-B(PP2)'!$H$138"]
["pp2_bl4_7_9_total",{"$f":"'T2-B(PP2)'!$J$138","v":0},"#'T2-B(PP2)'!$J$138"]
["pp2_bl4_7_9_total_in",{"$f":"'T2-B(PP2)'!$F$138","v":0},"#'T2-B(PP2)'!$F$138"]
["pp2_bl4_7_9_total_out",{"$f":"'T2-B(PP2)'!$I$138","v":0},"#'T2-B(PP2)'!$I$138"]
["pp2_bl4_7_9_unit",{"$f":"'T2-B(PP2)'!$C$138","v":0},"#'T2-B(PP2)'!$C$138"]
["pp2_bl4_7_9_unit_in",{"$f":"'T2-B(PP2)'!$D$138","v":0},"#'T2-B(PP2)'!$D$138"]
["pp2_bl4_7_9_units_out",{"$f":"'T2-B(PP2)'!$G$138","v":0},"#'T2-B(PP2)'!$G$138"]
["pp2_bl4_7_total",{"$f":"'T2-B(PP2)'!$J$129","v":0},"#'T2-B(PP2)'!$J$129"]
["pp2_bl4_7_total_in",{"$f":"'T2-B(PP2)'!$F$129","v":0},"#'T2-B(PP2)'!$F$129"]
["pp2_bl4_7_total_out",{"$f":"'T2-B(PP2)'!$I$129","v":0},"#'T2-B(PP2)'!$I$129"]
["pp2_bl4_8_1_name",{"$f":"'T2-B(PP2)'!$B$141","v":0},"#'T2-B(PP2)'!$B$141"]
["pp2_bl4_8_1_rate_in",{"$f":"'T2-B(PP2)'!$E$141","v":0},"#'T2-B(PP2)'!$E$141"]
["pp2_bl4_8_1_rate_out",{"$f":"'T2-B(PP2)'!$H$141","v":0},"#'T2-B(PP2)'!$H$141"]
["pp2_bl4_8_1_total",{"$f":"'T2-B(PP2)'!$J$141","v":0},"#'T2-B(PP2)'!$J$141"]
["pp2_bl4_8_1_total_in",{"$f":"'T2-B(PP2)'!$F$141","v":0},"#'T2-B(PP2)'!$F$141"]
["pp2_bl4_8_1_total_out",{"$f":"'T2-B(PP2)'!$I$141","v":0},"#'T2-B(PP2)'!$I$141"]
["pp2_bl4_8_1_unit",{"$f":"'T2-B(PP2)'!$C$141","v":0},"#'T2-B(PP2)'!$C$141"]
["pp2_bl4_8_1_unit_in",{"$f":"'T2-B(PP2)'!$D$141","v":0},"#'T2-B(PP2)'!$D$141"]
["pp2_bl4_8_1_units_out",{"$f":"'T2-B(PP2)'!$G$141","v":0},"#'T2-B(PP2)'!$G$141"]
["pp2_bl4_8_10_name",{"$f":"'T2-B(PP2)'!$B$150","v":0},"#'T2-B(PP2)'!$B$150"]
["pp2_bl4_8_10_rate_in",{"$f":"'T2-B(PP2)'!$E$150","v":0},"#'T2-B(PP2)'!$E$150"]
["pp2_bl4_8_10_rate_out",{"$f":"'T2-B(PP2)'!$H$150","v":0},"#'T2-B(PP2)'!$H$150"]
["pp2_bl4_8_10_total",{"$f":"'T2-B(PP2)'!$J$150","v":0},"#'T2-B(PP2)'!$J$150"]
["pp2_bl4_8_10_total_in",{"$f":"'T2-B(PP2)'!$F$150","v":0},"#'T2-B(PP2)'!$F$150"]
["pp2_bl4_8_10_total_out",{"$f":"'T2-B(PP2)'!$I$150","v":0},"#'T2-B(PP2)'!$I$150"]
["pp2_bl4_8_10_unit",{"$f":"'T2-B(PP2)'!$C$150","v":0},"#'T2-B(PP2)'!$C$150"]
["pp2_bl4_8_10_unit_in",{"$f":"'T2-B(PP2)'!$D$150","v":0},"#'T2-B(PP2)'!$D$150"]
["pp2_bl4_8_10_units_out",{"$f":"'T2-B(PP2)'!$G$150","v":0},"#'T2-B(PP2)'!$G$150"]
["pp2_bl4_8_2_name",{"$f":"'T2-B(PP2)'!$B$142","v":0},"#'T2-B(PP2)'!$B$142"]
["pp2_bl4_8_2_rate_in",{"$f":"'T2-B(PP2)'!$E$142","v":0},"#'T2-B(PP2)'!$E$142"]
["pp2_bl4_8_2_rate_out",{"$f":"'T2-B(PP2)'!$H$142","v":0},"#'T2-B(PP2)'!$H$142"]
["pp2_bl4_8_2_total",{"$f":"'T2-B(PP2)'!$J$142","v":0},"#'T2-B(PP2)'!$J$142"]
["pp2_bl4_8_2_total_in",{"$f":"'T2-B(PP2)'!$F$142","v":0},"#'T2-B(PP2)'!$F$142"]
["pp2_bl4_8_2_total_out",{"$f":"'T2-B(PP2)'!$I$142","v":0},"#'T2-B(PP2)'!$I$142"]
["pp2_bl4_8_2_unit",{"$f":"'T2-B(PP2)'!$C$142","v":0},"#'T2-B(PP2)'!$C$142"]
["pp2_bl4_8_2_unit_in",{"$f":"'T2-B(PP2)'!$D$142","v":0},"#'T2-B(PP2)'!$D$142"]
["pp2_bl4_8_2_units_out",{"$f":"'T2-B(PP2)'!$G$142","v":0},"#'T2-B(PP2)'!$G$142"]
["pp2_bl4_8_3_name",{"$f":"'T2-B(PP2)'!$B$143","v":0},"#'T2-B(PP2)'!$B$143"]
["pp2_bl4_8_3_rate_in",{"$f":"'T2-B(PP2)'!$E$143","v":0},"#'T2-B(PP2)'!$E$143"]
["pp2_bl4_8_3_rate_out",{"$f":"'T2-B(PP2)'!$H$143","v":0},"#'T2-B(PP2)'!$H$143"]
["pp2_bl4_8_3_total",{"$f":"'T2-B(PP2)'!$J$143","v":0},"#'T2-B(PP2)'!$J$143"]
["pp2_bl4_8_3_total_in",{"$f":"'T2-B(PP2)'!$F$143","v":0},"#'T2-B(PP2)'!$F$143"]
["pp2_bl4_8_3_total_out",{"$f":"'T2-B(PP2)'!$I$143","v":0},"#'T2-B(PP2)'!$I$143"]
["pp2_bl4_8_3_unit",{"$f":"'T2-B(PP2)'!$C$143","v":0},"#'T2-B(PP2)'!$C$143"]
["pp2_bl4_8_3_unit_in",{"$f":"'T2-B(PP2)'!$D$143","v":0},"#'T2-B(PP2)'!$D$143"]
["pp2_bl4_8_3_units_out",{"$f":"'T2-B(PP2)'!$G$143","v":0},"#'T2-B(PP2)'!$G$143"]
["pp2_bl4_8_4_name",{"$f":"'T2-B(PP2)'!$B$144","v":0},"#'T2-B(PP2)'!$B$144"]
["pp2_bl4_8_4_rate_in",{"$f":"'T2-B(PP2)'!$E$144","v":0},"#'T2-B(PP2)'!$E$144"]
["pp2_bl4_8_4_rate_out",{"$f":"'T2-B(PP2)'!$H$144","v":0},"#'T2-B(PP2)'!$H$144"]
["pp2_bl4_8_4_total",{"$f":"'T2-B(PP2)'!$J$144","v":0},"#'T2-B(PP2)'!$J$144"]
["pp2_bl4_8_4_total_in",{"$f":"'T2-B(PP2)'!$F$144","v":0},"#'T2-B(PP2)'!$F$144"]
["pp2_bl4_8_4_total_out",{"$f":"'T2-B(PP2)'!$I$144","v":0},"#'T2-B(PP2)'!$I$144"]
["pp2_bl4_8_4_unit",{"$f":"'T2-B(PP2)'!$C$144","v":0},"#'T2-B(PP2)'!$C$144"]
["pp2_bl4_8_4_unit_in",{"$f":"'T2-B(PP2)'!$D$144","v":0},"#'T2-B(PP2)'!$D$144"]
["pp2_bl4_8_4_units_out",{"$f":"'T2-B(PP2)'!$G$144","v":0},"#'T2-B(PP2)'!$G$144"]
["pp2_bl4_8_5_name",{"$f":"'T2-B(PP2)'!$B$145","v":0},"#'T2-B(PP2)'!$B$145"]
["pp2_bl4_8_5_rate_in",{"$f":"'T2-B(PP2)'!$E$145","v":0},"#'T2-B(PP2)'!$E$145"]
["pp2_bl4_8_5_rate_out",{"$f":"'T2-B(PP2)'!$H$145","v":0},"#'T2-B(PP2)'!$H$145"]
["pp2_bl4_8_5_total",{"$f":"'T2-B(PP2)'!$J$145","v":0},"#'T2-B(PP2)'!$J$145"]
["pp2_bl4_8_5_total_in",{"$f":"'T2-B(PP2)'!$F$145","v":0},"#'T2-B(PP2)'!$F$145"]
["pp2_bl4_8_5_total_out",{"$f":"'T2-B(PP2)'!$I$145","v":0},"#'T2-B(PP2)'!$I$145"]
["pp2_bl4_8_5_unit",{"$f":"'T2-B(PP2)'!$C$145","v":0},"#'T2-B(PP2)'!$C$145"]
["pp2_bl4_8_5_unit_in",{"$f":"'T2-B(PP2)'!$D$145","v":0},"#'T2-B(PP2)'!$D$145"]
["pp2_bl4_8_5_units_out",{"$f":"'T2-B(PP2)'!$G$145","v":0},"#'T2-B(PP2)'!$G$145"]
["pp2_bl4_8_6_name",{"$f":"'T2-B(PP2)'!$B$146","v":0},"#'T2-B(PP2)'!$B$146"]
["pp2_bl4_8_6_rate_in",{"$f":"'T2-B(PP2)'!$E$146","v":0},"#'T2-B(PP2)'!$E$146"]
["pp2_bl4_8_6_rate_out",{"$f":"'T2-B(PP2)'!$H$146","v":0},"#'T2-B(PP2)'!$H$146"]
["pp2_bl4_8_6_total",{"$f":"'T2-B(PP2)'!$J$146","v":0},"#'T2-B(PP2)'!$J$146"]
["pp2_bl4_8_6_total_in",{"$f":"'T2-B(PP2)'!$F$146","v":0},"#'T2-B(PP2)'!$F$146"]
["pp2_bl4_8_6_total_out",{"$f":"'T2-B(PP2)'!$I$146","v":0},"#'T2-B(PP2)'!$I$146"]
["pp2_bl4_8_6_unit",{"$f":"'T2-B(PP2)'!$C$146","v":0},"#'T2-B(PP2)'!$C$146"]
["pp2_bl4_8_6_unit_in",{"$f":"'T2-B(PP2)'!$D$146","v":0},"#'T2-B(PP2)'!$D$146"]
["pp2_bl4_8_6_units_out",{"$f":"'T2-B(PP2)'!$G$146","v":0},"#'T2-B(PP2)'!$G$146"]
["pp2_bl4_8_7_name",{"$f":"'T2-B(PP2)'!$B$147","v":0},"#'T2-B(PP2)'!$B$147"]
["pp2_bl4_8_7_rate_in",{"$f":"'T2-B(PP2)'!$E$147","v":0},"#'T2-B(PP2)'!$E$147"]
["pp2_bl4_8_7_rate_out",{"$f":"'T2-B(PP2)'!$H$147","v":0},"#'T2-B(PP2)'!$H$147"]
["pp2_bl4_8_7_total",{"$f":"'T2-B(PP2)'!$J$147","v":0},"#'T2-B(PP2)'!$J$147"]
["pp2_bl4_8_7_total_in",{"$f":"'T2-B(PP2)'!$F$147","v":0},"#'T2-B(PP2)'!$F$147"]
["pp2_bl4_8_7_total_out",{"$f":"'T2-B(PP2)'!$I$147","v":0},"#'T2-B(PP2)'!$I$147"]
["pp2_bl4_8_7_unit",{"$f":"'T2-B(PP2)'!$C$147","v":0},"#'T2-B(PP2)'!$C$147"]
["pp2_bl4_8_7_unit_in",{"$f":"'T2-B(PP2)'!$D$147","v":0},"#'T2-B(PP2)'!$D$147"]
["pp2_bl4_8_7_units_out",{"$f":"'T2-B(PP2)'!$G$147","v":0},"#'T2-B(PP2)'!$G$147"]
["pp2_bl4_8_8_name",{"$f":"'T2-B(PP2)'!$B$148","v":0},"#'T2-B(PP2)'!$B$148"]
["pp2_bl4_8_8_rate_in",{"$f":"'T2-B(PP2)'!$E$148","v":0},"#'T2-B(PP2)'!$E$148"]
["pp2_bl4_8_8_rate_out",{"$f":"'T2-B(PP2)'!$H$148","v":0},"#'T2-B(PP2)'!$H$148"]
["pp2_bl4_8_8_total",{"$f":"'T2-B(PP2)'!$J$148","v":0},"#'T2-B(PP2)'!$J$148"]
["pp2_bl4_8_8_total_in",{"$f":"'T2-B(PP2)'!$F$148","v":0},"#'T2-B(PP2)'!$F$148"]
["pp2_bl4_8_8_total_out",{"$f":"'T2-B(PP2)'!$I$148","v":0},"#'T2-B(PP2)'!$I$148"]
["pp2_bl4_8_8_unit",{"$f":"'T2-B(PP2)'!$C$148","v":0},"#'T2-B(PP2)'!$C$148"]
["pp2_bl4_8_8_unit_in",{"$f":"'T2-B(PP2)'!$D$148","v":0},"#'T2-B(PP2)'!$D$148"]
["pp2_bl4_8_8_units_out",{"$f":"'T2-B(PP2)'!$G$148","v":0},"#'T2-B(PP2)'!$G$148"]
["pp2_bl4_8_9_name",{"$f":"'T2-B(PP2)'!$B$149","v":0},"#'T2-B(PP2)'!$B$149"]
["pp2_bl4_8_9_rate_in",{"$f":"'T2-B(PP2)'!$E$149","v":0},"#'T2-B(PP2)'!$E$149"]
["pp2_bl4_8_9_rate_out",{"$f":"'T2-B(PP2)'!$H$149","v":0},"#'T2-B(PP2)'!$H$149"]
["pp2_bl4_8_9_total",{"$f":"'T2-B(PP2)'!$J$149","v":0},"#'T2-B(PP2)'!$J$149"]
["pp2_bl4_8_9_total_in",{"$f":"'T2-B(PP2)'!$F$149","v":0},"#'T2-B(PP2)'!$F$149"]
["pp2_bl4_8_9_total_out",{"$f":"'T2-B(PP2)'!$I$149","v":0},"#'T2-B(PP2)'!$I$149"]
["pp2_bl4_8_9_unit",{"$f":"'T2-B(PP2)'!$C$149","v":0},"#'T2-B(PP2)'!$C$149"]
["pp2_bl4_8_9_unit_in",{"$f":"'T2-B(PP2)'!$D$149","v":0},"#'T2-B(PP2)'!$D$149"]
["pp2_bl4_8_9_units_out",{"$f":"'T2-B(PP2)'!$G$149","v":0},"#'T2-B(PP2)'!$G$149"]
["pp2_bl4_8_total",{"$f":"'T2-B(PP2)'!$J$140","v":0},"#'T2-B(PP2)'!$J$140"]
["pp2_bl4_8_total_in",{"$f":"'T2-B(PP2)'!$F$140","v":0},"#'T2-B(PP2)'!$F$140"]
["pp2_bl4_8_total_out",{"$f":"'T2-B(PP2)'!$I$140","v":0},"#'T2-B(PP2)'!$I$140"]
["pp2_bl4_9_1_name",{"$f":"'T2-B(PP2)'!$B$152","v":0},"#'T2-B(PP2)'!$B$152"]
["pp2_bl4_9_1_rate_in",{"$f":"'T2-B(PP2)'!$E$152","v":0},"#'T2-B(PP2)'!$E$152"]
["pp2_bl4_9_1_rate_out",{"$f":"'T2-B(PP2)'!$H$152","v":0},"#'T2-B(PP2)'!$H$152"]
["pp2_bl4_9_1_total",{"$f":"'T2-B(PP2)'!$J$152","v":0},"#'T2-B(PP2)'!$J$152"]
["pp2_bl4_9_1_total_in",{"$f":"'T2-B(PP2)'!$F$152","v":0},"#'T2-B(PP2)'!$F$152"]
["pp2_bl4_9_1_total_out",{"$f":"'T2-B(PP2)'!$I$152","v":0},"#'T2-B(PP2)'!$I$152"]
["pp2_bl4_9_1_unit",{"$f":"'T2-B(PP2)'!$C$152","v":0},"#'T2-B(PP2)'!$C$152"]
["pp2_bl4_9_1_unit_in",{"$f":"'T2-B(PP2)'!$D$152","v":0},"#'T2-B(PP2)'!$D$152"]
["pp2_bl4_9_1_units_out",{"$f":"'T2-B(PP2)'!$G$152","v":0},"#'T2-B(PP2)'!$G$152"]
["pp2_bl4_9_10_name",{"$f":"'T2-B(PP2)'!$B$161","v":0},"#'T2-B(PP2)'!$B$161"]
["pp2_bl4_9_10_rate_in",{"$f":"'T2-B(PP2)'!$E$161","v":0},"#'T2-B(PP2)'!$E$161"]
["pp2_bl4_9_10_rate_out",{"$f":"'T2-B(PP2)'!$H$161","v":0},"#'T2-B(PP2)'!$H$161"]
["pp2_bl4_9_10_total",{"$f":"'T2-B(PP2)'!$J$161","v":0},"#'T2-B(PP2)'!$J$161"]
["pp2_bl4_9_10_total_in",{"$f":"'T2-B(PP2)'!$F$161","v":0},"#'T2-B(PP2)'!$F$161"]
["pp2_bl4_9_10_total_out",{"$f":"'T2-B(PP2)'!$I$161","v":0},"#'T2-B(PP2)'!$I$161"]
["pp2_bl4_9_10_unit",{"$f":"'T2-B(PP2)'!$C$161","v":0},"#'T2-B(PP2)'!$C$161"]
["pp2_bl4_9_10_unit_in",{"$f":"'T2-B(PP2)'!$D$161","v":0},"#'T2-B(PP2)'!$D$161"]
["pp2_bl4_9_10_units_out",{"$f":"'T2-B(PP2)'!$G$161","v":0},"#'T2-B(PP2)'!$G$161"]
["pp2_bl4_9_2_name",{"$f":"'T2-B(PP2)'!$B$153","v":0},"#'T2-B(PP2)'!$B$153"]
["pp2_bl4_9_2_rate_in",{"$f":"'T2-B(PP2)'!$E$153","v":0},"#'T2-B(PP2)'!$E$153"]
["pp2_bl4_9_2_rate_out",{"$f":"'T2-B(PP2)'!$H$153","v":0},"#'T2-B(PP2)'!$H$153"]
["pp2_bl4_9_2_total",{"$f":"'T2-B(PP2)'!$J$153","v":0},"#'T2-B(PP2)'!$J$153"]
["pp2_bl4_9_2_total_in",{"$f":"'T2-B(PP2)'!$F$153","v":0},"#'T2-B(PP2)'!$F$153"]
["pp2_bl4_9_2_total_out",{"$f":"'T2-B(PP2)'!$I$153","v":0},"#'T2-B(PP2)'!$I$153"]
["pp2_bl4_9_2_unit",{"$f":"'T2-B(PP2)'!$C$153","v":0},"#'T2-B(PP2)'!$C$153"]
["pp2_bl4_9_2_unit_in",{"$f":"'T2-B(PP2)'!$D$153","v":0},"#'T2-B(PP2)'!$D$153"]
["pp2_bl4_9_2_units_out",{"$f":"'T2-B(PP2)'!$G$153","v":0},"#'T2-B(PP2)'!$G$153"]
["pp2_bl4_9_3_name",{"$f":"'T2-B(PP2)'!$B$154","v":0},"#'T2-B(PP2)'!$B$154"]
["pp2_bl4_9_3_rate_in",{"$f":"'T2-B(PP2)'!$E$154","v":0},"#'T2-B(PP2)'!$E$154"]
["pp2_bl4_9_3_rate_out",{"$f":"'T2-B(PP2)'!$H$154","v":0},"#'T2-B(PP2)'!$H$154"]
["pp2_bl4_9_3_total",{"$f":"'T2-B(PP2)'!$J$154","v":0},"#'T2-B(PP2)'!$J$154"]
["pp2_bl4_9_3_total_in",{"$f":"'T2-B(PP2)'!$F$154","v":0},"#'T2-B(PP2)'!$F$154"]
["pp2_bl4_9_3_total_out",{"$f":"'T2-B(PP2)'!$I$154","v":0},"#'T2-B(PP2)'!$I$154"]
["pp2_bl4_9_3_unit",{"$f":"'T2-B(PP2)'!$C$154","v":0},"#'T2-B(PP2)'!$C$154"]
["pp2_bl4_9_3_unit_in",{"$f":"'T2-B(PP2)'!$D$154","v":0},"#'T2-B(PP2)'!$D$154"]
["pp2_bl4_9_3_units_out",{"$f":"'T2-B(PP2)'!$G$154","v":0},"#'T2-B(PP2)'!$G$154"]
["pp2_bl4_9_4_name",{"$f":"'T2-B(PP2)'!$B$155","v":0},"#'T2-B(PP2)'!$B$155"]
["pp2_bl4_9_4_rate_in",{"$f":"'T2-B(PP2)'!$E$155","v":0},"#'T2-B(PP2)'!$E$155"]
["pp2_bl4_9_4_rate_out",{"$f":"'T2-B(PP2)'!$H$155","v":0},"#'T2-B(PP2)'!$H$155"]
["pp2_bl4_9_4_total",{"$f":"'T2-B(PP2)'!$J$155","v":0},"#'T2-B(PP2)'!$J$155"]
["pp2_bl4_9_4_total_in",{"$f":"'T2-B(PP2)'!$F$155","v":0},"#'T2-B(PP2)'!$F$155"]
["pp2_bl4_9_4_total_out",{"$f":"'T2-B(PP2)'!$I$155","v":0},"#'T2-B(PP2)'!$I$155"]
["pp2_bl4_9_4_unit",{"$f":"'T2-B(PP2)'!$C$155","v":0},"#'T2-B(PP2)'!$C$155"]
["pp2_bl4_9_4_unit_in",{"$f":"'T2-B(PP2)'!$D$155","v":0},"#'T2-B(PP2)'!$D$155"]
["pp2_bl4_9_4_units_out",{"$f":"'T2-B(PP2)'!$G$155","v":0},"#'T2-B(PP2)'!$G$155"]
["pp2_bl4_9_5_name",{"$f":"'T2-B(PP2)'!$B$156","v":0},"#'T2-B(PP2)'!$B$156"]
["pp2_bl4_9_5_rate_in",{"$f":"'T2-B(PP2)'!$E$156","v":0},"#'T2-B(PP2)'!$E$156"]
["pp2_bl4_9_5_rate_out",{"$f":"'T2-B(PP2)'!$H$156","v":0},"#'T2-B(PP2)'!$H$156"]
["pp2_bl4_9_5_total",{"$f":"'T2-B(PP2)'!$J$156","v":0},"#'T2-B(PP2)'!$J$156"]
["pp2_bl4_9_5_total_in",{"$f":"'T2-B(PP2)'!$F$156","v":0},"#'T2-B(PP2)'!$F$156"]
["pp2_bl4_9_5_total_out",{"$f":"'T2-B(PP2)'!$I$156","v":0},"#'T2-B(PP2)'!$I$156"]
["pp2_bl4_9_5_unit",{"$f":"'T2-B(PP2)'!$C$156","v":0},"#'T2-B(PP2)'!$C$156"]
["pp2_bl4_9_5_unit_in",{"$f":"'T2-B(PP2)'!$D$156","v":0},"#'T2-B(PP2)'!$D$156"]
["pp2_bl4_9_5_units_out",{"$f":"'T2-B(PP2)'!$G$156","v":0},"#'T2-B(PP2)'!$G$156"]
["pp2_bl4_9_6_name",{"$f":"'T2-B(PP2)'!$B$157","v":0},"#'T2-B(PP2)'!$B$157"]
["pp2_bl4_9_6_rate_in",{"$f":"'T2-B(PP2)'!$E$157","v":0},"#'T2-B(PP2)'!$E$157"]
["pp2_bl4_9_6_rate_out",{"$f":"'T2-B(PP2)'!$H$157","v":0},"#'T2-B(PP2)'!$H$157"]
["pp2_bl4_9_6_total",{"$f":"'T2-B(PP2)'!$J$157","v":0},"#'T2-B(PP2)'!$J$157"]
["pp2_bl4_9_6_total_in",{"$f":"'T2-B(PP2)'!$F$157","v":0},"#'T2-B(PP2)'!$F$157"]
["pp2_bl4_9_6_total_out",{"$f":"'T2-B(PP2)'!$I$157","v":0},"#'T2-B(PP2)'!$I$157"]
["pp2_bl4_9_6_unit",{"$f":"'T2-B(PP2)'!$C$157","v":0},"#'T2-B(PP2)'!$C$157"]
["pp2_bl4_9_6_unit_in",{"$f":"'T2-B(PP2)'!$D$157","v":0},"#'T2-B(PP2)'!$D$157"]
["pp2_bl4_9_6_units_out",{"$f":"'T2-B(PP2)'!$G$157","v":0},"#'T2-B(PP2)'!$G$157"]
["pp2_bl4_9_7_name",{"$f":"'T2-B(PP2)'!$B$158","v":0},"#'T2-B(PP2)'!$B$158"]
["pp2_bl4_9_7_rate_in",{"$f":"'T2-B(PP2)'!$E$158","v":0},"#'T2-B(PP2)'!$E$158"]
["pp2_bl4_9_7_rate_out",{"$f":"'T2-B(PP2)'!$H$158","v":0},"#'T2-B(PP2)'!$H$158"]
["pp2_bl4_9_7_total",{"$f":"'T2-B(PP2)'!$J$158","v":0},"#'T2-B(PP2)'!$J$158"]
["pp2_bl4_9_7_total_in",{"$f":"'T2-B(PP2)'!$F$158","v":0},"#'T2-B(PP2)'!$F$158"]
["pp2_bl4_9_7_total_out",{"$f":"'T2-B(PP2)'!$I$158","v":0},"#'T2-B(PP2)'!$I$158"]
["pp2_bl4_9_7_unit",{"$f":"'T2-B(PP2)'!$C$158","v":0},"#'T2-B(PP2)'!$C$158"]
["pp2_bl4_9_7_unit_in",{"$f":"'T2-B(PP2)'!$D$158","v":0},"#'T2-B(PP2)'!$D$158"]
["pp2_bl4_9_7_units_out",{"$f":"'T2-B(PP2)'!$G$158","v":0},"#'T2-B(PP2)'!$G$158"]
["pp2_bl4_9_8_name",{"$f":"'T2-B(PP2)'!$B$159","v":0},"#'T2-B(PP2)'!$B$159"]
["pp2_bl4_9_8_rate_in",{"$f":"'T2-B(PP2)'!$E$159","v":0},"#'T2-B(PP2)'!$E$159"]
["pp2_bl4_9_8_rate_out",{"$f":"'T2-B(PP2)'!$H$159","v":0},"#'T2-B(PP2)'!$H$159"]
["pp2_bl4_9_8_total",{"$f":"'T2-B(PP2)'!$J$159","v":0},"#'T2-B(PP2)'!$J$159"]
["pp2_bl4_9_8_total_in",{"$f":"'T2-B(PP2)'!$F$159","v":0},"#'T2-B(PP2)'!$F$159"]
["pp2_bl4_9_8_total_out",{"$f":"'T2-B(PP2)'!$I$159","v":0},"#'T2-B(PP2)'!$I$159"]
["pp2_bl4_9_8_unit",{"$f":"'T2-B(PP2)'!$C$159","v":0},"#'T2-B(PP2)'!$C$159"]
["pp2_bl4_9_8_unit_in",{"$f":"'T2-B(PP2)'!$D$159","v":0},"#'T2-B(PP2)'!$D$159"]
["pp2_bl4_9_8_units_out",{"$f":"'T2-B(PP2)'!$G$159","v":0},"#'T2-B(PP2)'!$G$159"]
["pp2_bl4_9_9_name",{"$f":"'T2-B(PP2)'!$B$160","v":0},"#'T2-B(PP2)'!$B$160"]
["pp2_bl4_9_9_rate_in",{"$f":"'T2-B(PP2)'!$E$160","v":0},"#'T2-B(PP2)'!$E$160"]
["pp2_bl4_9_9_rate_out",{"$f":"'T2-B(PP2)'!$H$160","v":0},"#'T2-B(PP2)'!$H$160"]
["pp2_bl4_9_9_total",{"$f":"'T2-B(PP2)'!$J$160","v":0},"#'T2-B(PP2)'!$J$160"]
["pp2_bl4_9_9_total_in",{"$f":"'T2-B(PP2)'!$F$160","v":0},"#'T2-B(PP2)'!$F$160"]
["pp2_bl4_9_9_total_out",{"$f":"'T2-B(PP2)'!$I$160","v":0},"#'T2-B(PP2)'!$I$160"]
["pp2_bl4_9_9_unit",{"$f":"'T2-B(PP2)'!$C$160","v":0},"#'T2-B(PP2)'!$C$160"]
["pp2_bl4_9_9_unit_in",{"$f":"'T2-B(PP2)'!$D$160","v":0},"#'T2-B(PP2)'!$D$160"]
["pp2_bl4_9_9_units_out",{"$f":"'T2-B(PP2)'!$G$160","v":0},"#'T2-B(PP2)'!$G$160"]
["pp2_bl4_9_total",{"$f":"'T2-B(PP2)'!$J$151","v":0},"#'T2-B(PP2)'!$J$151"]
["pp2_bl4_9_total_in",{"$f":"'T2-B(PP2)'!$F$151","v":0},"#'T2-B(PP2)'!$F$151"]
["pp2_bl4_9_total_out",{"$f":"'T2-B(PP2)'!$I$151","v":0},"#'T2-B(PP2)'!$I$151"]
["pp2_bl4_total",{"$f":"'T2-B(PP2)'!$J$217","v":0},"#'T2-B(PP2)'!$J$217"]
["pp2_bl4_total_in",{"$f":"'T2-B(PP2)'!$F$217","v":0},"#'T2-B(PP2)'!$F$217"]
["pp2_bl4_total_out",{"$f":"'T2-B(PP2)'!$I$217","v":0},"#'T2-B(PP2)'!$I$217"]
["pp2_bl5_1_1_name",{"$f":"'T2-B(PP2)'!$B$222","v":0},"#'T2-B(PP2)'!$B$222"]
["pp2_bl5_1_1_rate_in",{"$f":"'T2-B(PP2)'!$E$222","v":0},"#'T2-B(PP2)'!$E$222"]
["pp2_bl5_1_1_rate_out",{"$f":"'T2-B(PP2)'!$H$222","v":0},"#'T2-B(PP2)'!$H$222"]
["pp2_bl5_1_1_total",{"$f":"'T2-B(PP2)'!$J$222","v":0},"#'T2-B(PP2)'!$J$222"]
["pp2_bl5_1_1_total_in",{"$f":"'T2-B(PP2)'!$F$222","v":0},"#'T2-B(PP2)'!$F$222"]
["pp2_bl5_1_1_total_out",{"$f":"'T2-B(PP2)'!$I$222","v":0},"#'T2-B(PP2)'!$I$222"]
["pp2_bl5_1_1_unit",{"$f":"'T2-B(PP2)'!$C$222","v":0},"#'T2-B(PP2)'!$C$222"]
["pp2_bl5_1_1_unit_in",{"$f":"'T2-B(PP2)'!$D$222","v":0},"#'T2-B(PP2)'!$D$222"]
["pp2_bl5_1_1_units_out",{"$f":"'T2-B(PP2)'!$G$222","v":0},"#'T2-B(PP2)'!$G$222"]
["pp2_bl5_1_10_name",{"$f":"'T2-B(PP2)'!$B$231","v":0},"#'T2-B(PP2)'!$B$231"]
["pp2_bl5_1_10_rate_in",{"$f":"'T2-B(PP2)'!$E$231","v":0},"#'T2-B(PP2)'!$E$231"]
["pp2_bl5_1_10_rate_out",{"$f":"'T2-B(PP2)'!$H$231","v":0},"#'T2-B(PP2)'!$H$231"]
["pp2_bl5_1_10_total",{"$f":"'T2-B(PP2)'!$J$231","v":0},"#'T2-B(PP2)'!$J$231"]
["pp2_bl5_1_10_total_in",{"$f":"'T2-B(PP2)'!$F$231","v":0},"#'T2-B(PP2)'!$F$231"]
["pp2_bl5_1_10_total_out",{"$f":"'T2-B(PP2)'!$I$231","v":0},"#'T2-B(PP2)'!$I$231"]
["pp2_bl5_1_10_unit",{"$f":"'T2-B(PP2)'!$C$231","v":0},"#'T2-B(PP2)'!$C$231"]
["pp2_bl5_1_10_unit_in",{"$f":"'T2-B(PP2)'!$D$231","v":0},"#'T2-B(PP2)'!$D$231"]
["pp2_bl5_1_10_units_out",{"$f":"'T2-B(PP2)'!$G$231","v":0},"#'T2-B(PP2)'!$G$231"]
["pp2_bl5_1_2_name",{"$f":"'T2-B(PP2)'!$B$223","v":0},"#'T2-B(PP2)'!$B$223"]
["pp2_bl5_1_2_rate_in",{"$f":"'T2-B(PP2)'!$E$223","v":0},"#'T2-B(PP2)'!$E$223"]
["pp2_bl5_1_2_rate_out",{"$f":"'T2-B(PP2)'!$H$223","v":0},"#'T2-B(PP2)'!$H$223"]
["pp2_bl5_1_2_total",{"$f":"'T2-B(PP2)'!$J$223","v":0},"#'T2-B(PP2)'!$J$223"]
["pp2_bl5_1_2_total_in",{"$f":"'T2-B(PP2)'!$F$223","v":0},"#'T2-B(PP2)'!$F$223"]
["pp2_bl5_1_2_total_out",{"$f":"'T2-B(PP2)'!$I$223","v":0},"#'T2-B(PP2)'!$I$223"]
["pp2_bl5_1_2_unit",{"$f":"'T2-B(PP2)'!$C$223","v":0},"#'T2-B(PP2)'!$C$223"]
["pp2_bl5_1_2_unit_in",{"$f":"'T2-B(PP2)'!$D$223","v":0},"#'T2-B(PP2)'!$D$223"]
["pp2_bl5_1_2_units_out",{"$f":"'T2-B(PP2)'!$G$223","v":0},"#'T2-B(PP2)'!$G$223"]
["pp2_bl5_1_3_name",{"$f":"'T2-B(PP2)'!$B$224","v":0},"#'T2-B(PP2)'!$B$224"]
["pp2_bl5_1_3_rate_in",{"$f":"'T2-B(PP2)'!$E$224","v":0},"#'T2-B(PP2)'!$E$224"]
["pp2_bl5_1_3_rate_out",{"$f":"'T2-B(PP2)'!$H$224","v":0},"#'T2-B(PP2)'!$H$224"]
["pp2_bl5_1_3_total",{"$f":"'T2-B(PP2)'!$J$224","v":0},"#'T2-B(PP2)'!$J$224"]
["pp2_bl5_1_3_total_in",{"$f":"'T2-B(PP2)'!$F$224","v":0},"#'T2-B(PP2)'!$F$224"]
["pp2_bl5_1_3_total_out",{"$f":"'T2-B(PP2)'!$I$224","v":0},"#'T2-B(PP2)'!$I$224"]
["pp2_bl5_1_3_unit",{"$f":"'T2-B(PP2)'!$C$224","v":0},"#'T2-B(PP2)'!$C$224"]
["pp2_bl5_1_3_unit_in",{"$f":"'T2-B(PP2)'!$D$224","v":0},"#'T2-B(PP2)'!$D$224"]
["pp2_bl5_1_3_units_out",{"$f":"'T2-B(PP2)'!$G$224","v":0},"#'T2-B(PP2)'!$G$224"]
["pp2_bl5_1_4_name",{"$f":"'T2-B(PP2)'!$B$225","v":0},"#'T2-B(PP2)'!$B$225"]
["pp2_bl5_1_4_rate_in",{"$f":"'T2-B(PP2)'!$E$225","v":0},"#'T2-B(PP2)'!$E$225"]
["pp2_bl5_1_4_rate_out",{"$f":"'T2-B(PP2)'!$H$225","v":0},"#'T2-B(PP2)'!$H$225"]
["pp2_bl5_1_4_total",{"$f":"'T2-B(PP2)'!$J$225","v":0},"#'T2-B(PP2)'!$J$225"]
["pp2_bl5_1_4_total_in",{"$f":"'T2-B(PP2)'!$F$225","v":0},"#'T2-B(PP2)'!$F$225"]
["pp2_bl5_1_4_total_out",{"$f":"'T2-B(PP2)'!$I$225","v":0},"#'T2-B(PP2)'!$I$225"]
["pp2_bl5_1_4_unit",{"$f":"'T2-B(PP2)'!$C$225","v":0},"#'T2-B(PP2)'!$C$225"]
["pp2_bl5_1_4_unit_in",{"$f":"'T2-B(PP2)'!$D$225","v":0},"#'T2-B(PP2)'!$D$225"]
["pp2_bl5_1_4_units_out",{"$f":"'T2-B(PP2)'!$G$225","v":0},"#'T2-B(PP2)'!$G$225"]
["pp2_bl5_1_5_name",{"$f":"'T2-B(PP2)'!$B$226","v":0},"#'T2-B(PP2)'!$B$226"]
["pp2_bl5_1_5_rate_in",{"$f":"'T2-B(PP2)'!$E$226","v":0},"#'T2-B(PP2)'!$E$226"]
["pp2_bl5_1_5_rate_out",{"$f":"'T2-B(PP2)'!$H$226","v":0},"#'T2-B(PP2)'!$H$226"]
["pp2_bl5_1_5_total",{"$f":"'T2-B(PP2)'!$J$226","v":0},"#'T2-B(PP2)'!$J$226"]
["pp2_bl5_1_5_total_in",{"$f":"'T2-B(PP2)'!$F$226","v":0},"#'T2-B(PP2)'!$F$226"]
["pp2_bl5_1_5_total_out",{"$f":"'T2-B(PP2)'!$I$226","v":0},"#'T2-B(PP2)'!$I$226"]
["pp2_bl5_1_5_unit",{"$f":"'T2-B(PP2)'!$C$226","v":0},"#'T2-B(PP2)'!$C$226"]
["pp2_bl5_1_5_unit_in",{"$f":"'T2-B(PP2)'!$D$226","v":0},"#'T2-B(PP2)'!$D$226"]
["pp2_bl5_1_5_units_out",{"$f":"'T2-B(PP2)'!$G$226","v":0},"#'T2-B(PP2)'!$G$226"]
["pp2_bl5_1_6_name",{"$f":"'T2-B(PP2)'!$B$227","v":0},"#'T2-B(PP2)'!$B$227"]
["pp2_bl5_1_6_rate_in",{"$f":"'T2-B(PP2)'!$E$227","v":0},"#'T2-B(PP2)'!$E$227"]
["pp2_bl5_1_6_rate_out",{"$f":"'T2-B(PP2)'!$H$227","v":0},"#'T2-B(PP2)'!$H$227"]
["pp2_bl5_1_6_total",{"$f":"'T2-B(PP2)'!$J$227","v":0},"#'T2-B(PP2)'!$J$227"]
["pp2_bl5_1_6_total_in",{"$f":"'T2-B(PP2)'!$F$227","v":0},"#'T2-B(PP2)'!$F$227"]
["pp2_bl5_1_6_total_out",{"$f":"'T2-B(PP2)'!$I$227","v":0},"#'T2-B(PP2)'!$I$227"]
["pp2_bl5_1_6_unit",{"$f":"'T2-B(PP2)'!$C$227","v":0},"#'T2-B(PP2)'!$C$227"]
["pp2_bl5_1_6_unit_in",{"$f":"'T2-B(PP2)'!$D$227","v":0},"#'T2-B(PP2)'!$D$227"]
["pp2_bl5_1_6_units_out",{"$f":"'T2-B(PP2)'!$G$227","v":0},"#'T2-B(PP2)'!$G$227"]
["pp2_bl5_1_7_name",{"$f":"'T2-B(PP2)'!$B$228","v":0},"#'T2-B(PP2)'!$B$228"]
["pp2_bl5_1_7_rate_in",{"$f":"'T2-B(PP2)'!$E$228","v":0},"#'T2-B(PP2)'!$E$228"]
["pp2_bl5_1_7_rate_out",{"$f":"'T2-B(PP2)'!$H$228","v":0},"#'T2-B(PP2)'!$H$228"]
["pp2_bl5_1_7_total",{"$f":"'T2-B(PP2)'!$J$228","v":0},"#'T2-B(PP2)'!$J$228"]
["pp2_bl5_1_7_total_in",{"$f":"'T2-B(PP2)'!$F$228","v":0},"#'T2-B(PP2)'!$F$228"]
["pp2_bl5_1_7_total_out",{"$f":"'T2-B(PP2)'!$I$228","v":0},"#'T2-B(PP2)'!$I$228"]
["pp2_bl5_1_7_unit",{"$f":"'T2-B(PP2)'!$C$228","v":0},"#'T2-B(PP2)'!$C$228"]
["pp2_bl5_1_7_unit_in",{"$f":"'T2-B(PP2)'!$D$228","v":0},"#'T2-B(PP2)'!$D$228"]
["pp2_bl5_1_7_units_out",{"$f":"'T2-B(PP2)'!$G$228","v":0},"#'T2-B(PP2)'!$G$228"]
["pp2_bl5_1_8_name",{"$f":"'T2-B(PP2)'!$B$229","v":0},"#'T2-B(PP2)'!$B$229"]
["pp2_bl5_1_8_rate_in",{"$f":"'T2-B(PP2)'!$E$229","v":0},"#'T2-B(PP2)'!$E$229"]
["pp2_bl5_1_8_rate_out",{"$f":"'T2-B(PP2)'!$H$229","v":0},"#'T2-B(PP2)'!$H$229"]
["pp2_bl5_1_8_total",{"$f":"'T2-B(PP2)'!$J$229","v":0},"#'T2-B(PP2)'!$J$229"]
["pp2_bl5_1_8_total_in",{"$f":"'T2-B(PP2)'!$F$229","v":0},"#'T2-B(PP2)'!$F$229"]
["pp2_bl5_1_8_total_out",{"$f":"'T2-B(PP2)'!$I$229","v":0},"#'T2-B(PP2)'!$I$229"]
["pp2_bl5_1_8_unit",{"$f":"'T2-B(PP2)'!$C$229","v":0},"#'T2-B(PP2)'!$C$229"]
["pp2_bl5_1_8_unit_in",{"$f":"'T2-B(PP2)'!$D$229","v":0},"#'T2-B(PP2)'!$D$229"]
["pp2_bl5_1_8_units_out",{"$f":"'T2-B(PP2)'!$G$229","v":0},"#'T2-B(PP2)'!$G$229"]
["pp2_bl5_1_9_name",{"$f":"'T2-B(PP2)'!$B$230","v":0},"#'T2-B(PP2)'!$B$230"]
["pp2_bl5_1_9_rate_in",{"$f":"'T2-B(PP2)'!$E$230","v":0},"#'T2-B(PP2)'!$E$230"]
["pp2_bl5_1_9_rate_out",{"$f":"'T2-B(PP2)'!$H$230","v":0},"#'T2-B(PP2)'!$H$230"]
["pp2_bl5_1_9_total",{"$f":"'T2-B(PP2)'!$J$230","v":0},"#'T2-B(PP2)'!$J$230"]
["pp2_bl5_1_9_total_in",{"$f":"'T2-B(PP2)'!$F$230","v":0},"#'T2-B(PP2)'!$F$230"]
["pp2_bl5_1_9_total_out",{"$f":"'T2-B(PP2)'!$I$230","v":0},"#'T2-B(PP2)'!$I$230"]
["pp2_bl5_1_9_unit",{"$f":"'T2-B(PP2)'!$C$230","v":0},"#'T2-B(PP2)'!$C$230"]
["pp2_bl5_1_9_unit_in",{"$f":"'T2-B(PP2)'!$D$230","v":0},"#'T2-B(PP2)'!$D$230"]
["pp2_bl5_1_9_units_out",{"$f":"'T2-B(PP2)'!$G$230","v":0},"#'T2-B(PP2)'!$G$230"]
["pp2_bl5_1_total",{"$f":"'T2-B(PP2)'!$J$221","v":0},"#'T2-B(PP2)'!$J$221"]
["pp2_bl5_1_total_in",{"$f":"'T2-B(PP2)'!$F$221","v":0},"#'T2-B(PP2)'!$F$221"]
["pp2_bl5_1_total_out",{"$f":"'T2-B(PP2)'!$I$221","v":0},"#'T2-B(PP2)'!$I$221"]
["pp2_bl5_2_1_name",{"$f":"'T2-B(PP2)'!$B$233","v":0},"#'T2-B(PP2)'!$B$233"]
["pp2_bl5_2_1_rate_in",{"$f":"'T2-B(PP2)'!$E$233","v":0},"#'T2-B(PP2)'!$E$233"]
["pp2_bl5_2_1_rate_out",{"$f":"'T2-B(PP2)'!$H$233","v":0},"#'T2-B(PP2)'!$H$233"]
["pp2_bl5_2_1_total",{"$f":"'T2-B(PP2)'!$J$233","v":0},"#'T2-B(PP2)'!$J$233"]
["pp2_bl5_2_1_total_in",{"$f":"'T2-B(PP2)'!$F$233","v":0},"#'T2-B(PP2)'!$F$233"]
["pp2_bl5_2_1_total_out",{"$f":"'T2-B(PP2)'!$I$233","v":0},"#'T2-B(PP2)'!$I$233"]
["pp2_bl5_2_1_unit",{"$f":"'T2-B(PP2)'!$C$233","v":0},"#'T2-B(PP2)'!$C$233"]
["pp2_bl5_2_1_unit_in",{"$f":"'T2-B(PP2)'!$D$233","v":0},"#'T2-B(PP2)'!$D$233"]
["pp2_bl5_2_1_units_out",{"$f":"'T2-B(PP2)'!$G$233","v":0},"#'T2-B(PP2)'!$G$233"]
["pp2_bl5_2_10_name",{"$f":"'T2-B(PP2)'!$B$242","v":0},"#'T2-B(PP2)'!$B$242"]
["pp2_bl5_2_10_rate_in",{"$f":"'T2-B(PP2)'!$E$242","v":0},"#'T2-B(PP2)'!$E$242"]
["pp2_bl5_2_10_rate_out",{"$f":"'T2-B(PP2)'!$H$242","v":0},"#'T2-B(PP2)'!$H$242"]
["pp2_bl5_2_10_total",{"$f":"'T2-B(PP2)'!$J$242","v":0},"#'T2-B(PP2)'!$J$242"]
["pp2_bl5_2_10_total_in",{"$f":"'T2-B(PP2)'!$F$242","v":0},"#'T2-B(PP2)'!$F$242"]
["pp2_bl5_2_10_total_out",{"$f":"'T2-B(PP2)'!$I$242","v":0},"#'T2-B(PP2)'!$I$242"]
["pp2_bl5_2_10_unit",{"$f":"'T2-B(PP2)'!$C$242","v":0},"#'T2-B(PP2)'!$C$242"]
["pp2_bl5_2_10_unit_in",{"$f":"'T2-B(PP2)'!$D$242","v":0},"#'T2-B(PP2)'!$D$242"]
["pp2_bl5_2_10_units_out",{"$f":"'T2-B(PP2)'!$G$242","v":0},"#'T2-B(PP2)'!$G$242"]
["pp2_bl5_2_2_name",{"$f":"'T2-B(PP2)'!$B$234","v":0},"#'T2-B(PP2)'!$B$234"]
["pp2_bl5_2_2_rate_in",{"$f":"'T2-B(PP2)'!$E$234","v":0},"#'T2-B(PP2)'!$E$234"]
["pp2_bl5_2_2_rate_out",{"$f":"'T2-B(PP2)'!$H$234","v":0},"#'T2-B(PP2)'!$H$234"]
["pp2_bl5_2_2_total",{"$f":"'T2-B(PP2)'!$J$234","v":0},"#'T2-B(PP2)'!$J$234"]
["pp2_bl5_2_2_total_in",{"$f":"'T2-B(PP2)'!$F$234","v":0},"#'T2-B(PP2)'!$F$234"]
["pp2_bl5_2_2_total_out",{"$f":"'T2-B(PP2)'!$I$234","v":0},"#'T2-B(PP2)'!$I$234"]
["pp2_bl5_2_2_unit",{"$f":"'T2-B(PP2)'!$C$234","v":0},"#'T2-B(PP2)'!$C$234"]
["pp2_bl5_2_2_unit_in",{"$f":"'T2-B(PP2)'!$D$234","v":0},"#'T2-B(PP2)'!$D$234"]
["pp2_bl5_2_2_units_out",{"$f":"'T2-B(PP2)'!$G$234","v":0},"#'T2-B(PP2)'!$G$234"]
["pp2_bl5_2_3_name",{"$f":"'T2-B(PP2)'!$B$235","v":0},"#'T2-B(PP2)'!$B$235"]
["pp2_bl5_2_3_rate_in",{"$f":"'T2-B(PP2)'!$E$235","v":0},"#'T2-B(PP2)'!$E$235"]
["pp2_bl5_2_3_rate_out",{"$f":"'T2-B(PP2)'!$H$235","v":0},"#'T2-B(PP2)'!$H$235"]
["pp2_bl5_2_3_total",{"$f":"'T2-B(PP2)'!$J$235","v":0},"#'T2-B(PP2)'!$J$235"]
["pp2_bl5_2_3_total_in",{"$f":"'T2-B(PP2)'!$F$235","v":0},"#'T2-B(PP2)'!$F$235"]
["pp2_bl5_2_3_total_out",{"$f":"'T2-B(PP2)'!$I$235","v":0},"#'T2-B(PP2)'!$I$235"]
["pp2_bl5_2_3_unit",{"$f":"'T2-B(PP2)'!$C$235","v":0},"#'T2-B(PP2)'!$C$235"]
["pp2_bl5_2_3_unit_in",{"$f":"'T2-B(PP2)'!$D$235","v":0},"#'T2-B(PP2)'!$D$235"]
["pp2_bl5_2_3_units_out",{"$f":"'T2-B(PP2)'!$G$235","v":0},"#'T2-B(PP2)'!$G$235"]
["pp2_bl5_2_4_name",{"$f":"'T2-B(PP2)'!$B$236","v":0},"#'T2-B(PP2)'!$B$236"]
["pp2_bl5_2_4_rate_in",{"$f":"'T2-B(PP2)'!$E$236","v":0},"#'T2-B(PP2)'!$E$236"]
["pp2_bl5_2_4_rate_out",{"$f":"'T2-B(PP2)'!$H$236","v":0},"#'T2-B(PP2)'!$H$236"]
["pp2_bl5_2_4_total",{"$f":"'T2-B(PP2)'!$J$236","v":0},"#'T2-B(PP2)'!$J$236"]
["pp2_bl5_2_4_total_in",{"$f":"'T2-B(PP2)'!$F$236","v":0},"#'T2-B(PP2)'!$F$236"]
["pp2_bl5_2_4_total_out",{"$f":"'T2-B(PP2)'!$I$236","v":0},"#'T2-B(PP2)'!$I$236"]
["pp2_bl5_2_4_unit",{"$f":"'T2-B(PP2)'!$C$236","v":0},"#'T2-B(PP2)'!$C$236"]
["pp2_bl5_2_4_unit_in",{"$f":"'T2-B(PP2)'!$D$236","v":0},"#'T2-B(PP2)'!$D$236"]
["pp2_bl5_2_4_units_out",{"$f":"'T2-B(PP2)'!$G$236","v":0},"#'T2-B(PP2)'!$G$236"]
["pp2_bl5_2_5_name",{"$f":"'T2-B(PP2)'!$B$237","v":0},"#'T2-B(PP2)'!$B$237"]
["pp2_bl5_2_5_rate_in",{"$f":"'T2-B(PP2)'!$E$237","v":0},"#'T2-B(PP2)'!$E$237"]
["pp2_bl5_2_5_rate_out",{"$f":"'T2-B(PP2)'!$H$237","v":0},"#'T2-B(PP2)'!$H$237"]
["pp2_bl5_2_5_total",{"$f":"'T2-B(PP2)'!$J$237","v":0},"#'T2-B(PP2)'!$J$237"]
["pp2_bl5_2_5_total_in",{"$f":"'T2-B(PP2)'!$F$237","v":0},"#'T2-B(PP2)'!$F$237"]
["pp2_bl5_2_5_total_out",{"$f":"'T2-B(PP2)'!$I$237","v":0},"#'T2-B(PP2)'!$I$237"]
["pp2_bl5_2_5_unit",{"$f":"'T2-B(PP2)'!$C$237","v":0},"#'T2-B(PP2)'!$C$237"]
["pp2_bl5_2_5_unit_in",{"$f":"'T2-B(PP2)'!$D$237","v":0},"#'T2-B(PP2)'!$D$237"]
["pp2_bl5_2_5_units_out",{"$f":"'T2-B(PP2)'!$G$237","v":0},"#'T2-B(PP2)'!$G$237"]
["pp2_bl5_2_6_name",{"$f":"'T2-B(PP2)'!$B$238","v":0},"#'T2-B(PP2)'!$B$238"]
["pp2_bl5_2_6_rate_in",{"$f":"'T2-B(PP2)'!$E$238","v":0},"#'T2-B(PP2)'!$E$238"]
["pp2_bl5_2_6_rate_out",{"$f":"'T2-B(PP2)'!$H$238","v":0},"#'T2-B(PP2)'!$H$238"]
["pp2_bl5_2_6_total",{"$f":"'T2-B(PP2)'!$J$238","v":0},"#'T2-B(PP2)'!$J$238"]
["pp2_bl5_2_6_total_in",{"$f":"'T2-B(PP2)'!$F$238","v":0},"#'T2-B(PP2)'!$F$238"]
["pp2_bl5_2_6_total_out",{"$f":"'T2-B(PP2)'!$I$238","v":0},"#'T2-B(PP2)'!$I$238"]
["pp2_bl5_2_6_unit",{"$f":"'T2-B(PP2)'!$C$238","v":0},"#'T2-B(PP2)'!$C$238"]
["pp2_bl5_2_6_unit_in",{"$f":"'T2-B(PP2)'!$D$238","v":0},"#'T2-B(PP2)'!$D$238"]
["pp2_bl5_2_6_units_out",{"$f":"'T2-B(PP2)'!$G$238","v":0},"#'T2-B(PP2)'!$G$238"]
["pp2_bl5_2_7_name",{"$f":"'T2-B(PP2)'!$B$239","v":0},"#'T2-B(PP2)'!$B$239"]
["pp2_bl5_2_7_rate_in",{"$f":"'T2-B(PP2)'!$E$239","v":0},"#'T2-B(PP2)'!$E$239"]
["pp2_bl5_2_7_rate_out",{"$f":"'T2-B(PP2)'!$H$239","v":0},"#'T2-B(PP2)'!$H$239"]
["pp2_bl5_2_7_total",{"$f":"'T2-B(PP2)'!$J$239","v":0},"#'T2-B(PP2)'!$J$239"]
["pp2_bl5_2_7_total_in",{"$f":"'T2-B(PP2)'!$F$239","v":0},"#'T2-B(PP2)'!$F$239"]
["pp2_bl5_2_7_total_out",{"$f":"'T2-B(PP2)'!$I$239","v":0},"#'T2-B(PP2)'!$I$239"]
["pp2_bl5_2_7_unit",{"$f":"'T2-B(PP2)'!$C$239","v":0},"#'T2-B(PP2)'!$C$239"]
["pp2_bl5_2_7_unit_in",{"$f":"'T2-B(PP2)'!$D$239","v":0},"#'T2-B(PP2)'!$D$239"]
["pp2_bl5_2_7_units_out",{"$f":"'T2-B(PP2)'!$G$239","v":0},"#'T2-B(PP2)'!$G$239"]
["pp2_bl5_2_8_name",{"$f":"'T2-B(PP2)'!$B$240","v":0},"#'T2-B(PP2)'!$B$240"]
["pp2_bl5_2_8_rate_in",{"$f":"'T2-B(PP2)'!$E$240","v":0},"#'T2-B(PP2)'!$E$240"]
["pp2_bl5_2_8_rate_out",{"$f":"'T2-B(PP2)'!$H$240","v":0},"#'T2-B(PP2)'!$H$240"]
["pp2_bl5_2_8_total",{"$f":"'T2-B(PP2)'!$J$240","v":0},"#'T2-B(PP2)'!$J$240"]
["pp2_bl5_2_8_total_in",{"$f":"'T2-B(PP2)'!$F$240","v":0},"#'T2-B(PP2)'!$F$240"]
["pp2_bl5_2_8_total_out",{"$f":"'T2-B(PP2)'!$I$240","v":0},"#'T2-B(PP2)'!$I$240"]
["pp2_bl5_2_8_unit",{"$f":"'T2-B(PP2)'!$C$240","v":0},"#'T2-B(PP2)'!$C$240"]
["pp2_bl5_2_8_unit_in",{"$f":"'T2-B(PP2)'!$D$240","v":0},"#'T2-B(PP2)'!$D$240"]
["pp2_bl5_2_8_units_out",{"$f":"'T2-B(PP2)'!$G$240","v":0},"#'T2-B(PP2)'!$G$240"]
["pp2_bl5_2_9_name",{"$f":"'T2-B(PP2)'!$B$241","v":0},"#'T2-B(PP2)'!$B$241"]
["pp2_bl5_2_9_rate_in",{"$f":"'T2-B(PP2)'!$E$241","v":0},"#'T2-B(PP2)'!$E$241"]
["pp2_bl5_2_9_rate_out",{"$f":"'T2-B(PP2)'!$H$241","v":0},"#'T2-B(PP2)'!$H$241"]
["pp2_bl5_2_9_total",{"$f":"'T2-B(PP2)'!$J$241","v":0},"#'T2-B(PP2)'!$J$241"]
["pp2_bl5_2_9_total_in",{"$f":"'T2-B(PP2)'!$F$241","v":0},"#'T2-B(PP2)'!$F$241"]
["pp2_bl5_2_9_total_out",{"$f":"'T2-B(PP2)'!$I$241","v":0},"#'T2-B(PP2)'!$I$241"]
["pp2_bl5_2_9_unit",{"$f":"'T2-B(PP2)'!$C$241","v":0},"#'T2-B(PP2)'!$C$241"]
["pp2_bl5_2_9_unit_in",{"$f":"'T2-B(PP2)'!$D$241","v":0},"#'T2-B(PP2)'!$D$241"]
["pp2_bl5_2_9_units_out",{"$f":"'T2-B(PP2)'!$G$241","v":0},"#'T2-B(PP2)'!$G$241"]
["pp2_bl5_2_total",{"$f":"'T2-B(PP2)'!$J$232","v":0},"#'T2-B(PP2)'!$J$232"]
["pp2_bl5_2_total_in",{"$f":"'T2-B(PP2)'!$F$232","v":0},"#'T2-B(PP2)'!$F$232"]
["pp2_bl5_2_total_out",{"$f":"'T2-B(PP2)'!$I$232","v":0},"#'T2-B(PP2)'!$I$232"]
["pp2_bl5_total",{"$f":"'T2-B(PP2)'!$J$243","v":0},"#'T2-B(PP2)'!$J$243"]
["pp2_bl5_total_in",{"$f":"'T2-B(PP2)'!$F$243","v":0},"#'T2-B(PP2)'!$F$243"]
["pp2_bl5_total_out",{"$f":"'T2-B(PP2)'!$I$243","v":0},"#'T2-B(PP2)'!$I$243"]
["pp2_bl6_1_1_name",{"$f":"'T2-B(PP2)'!$B$247","v":0},"#'T2-B(PP2)'!$B$247"]
["pp2_bl6_1_1_rate_in",{"$f":"'T2-B(PP2)'!$E$247","v":0},"#'T2-B(PP2)'!$E$247"]
["pp2_bl6_1_1_rate_out",{"$f":"'T2-B(PP2)'!$H$247","v":0},"#'T2-B(PP2)'!$H$247"]
["pp2_bl6_1_1_total",{"$f":"'T2-B(PP2)'!$J$247","v":0},"#'T2-B(PP2)'!$J$247"]
["pp2_bl6_1_1_total_in",{"$f":"'T2-B(PP2)'!$F$247","v":0},"#'T2-B(PP2)'!$F$247"]
["pp2_bl6_1_1_total_out",{"$f":"'T2-B(PP2)'!$I$247","v":0},"#'T2-B(PP2)'!$I$247"]
["pp2_bl6_1_1_unit",{"$f":"'T2-B(PP2)'!$C$247","v":0},"#'T2-B(PP2)'!$C$247"]
["pp2_bl6_1_1_unit_in",{"$f":"'T2-B(PP2)'!$D$247","v":0},"#'T2-B(PP2)'!$D$247"]
["pp2_bl6_1_1_units_out",{"$f":"'T2-B(PP2)'!$G$247","v":0},"#'T2-B(PP2)'!$G$247"]
["pp2_bl6_1_10_name",{"$f":"'T2-B(PP2)'!$B$256","v":0},"#'T2-B(PP2)'!$B$256"]
["pp2_bl6_1_10_rate_in",{"$f":"'T2-B(PP2)'!$E$256","v":0},"#'T2-B(PP2)'!$E$256"]
["pp2_bl6_1_10_rate_out",{"$f":"'T2-B(PP2)'!$H$256","v":0},"#'T2-B(PP2)'!$H$256"]
["pp2_bl6_1_10_total",{"$f":"'T2-B(PP2)'!$J$256","v":0},"#'T2-B(PP2)'!$J$256"]
["pp2_bl6_1_10_total_in",{"$f":"'T2-B(PP2)'!$F$256","v":0},"#'T2-B(PP2)'!$F$256"]
["pp2_bl6_1_10_total_out",{"$f":"'T2-B(PP2)'!$I$256","v":0},"#'T2-B(PP2)'!$I$256"]
["pp2_bl6_1_10_unit",{"$f":"'T2-B(PP2)'!$C$256","v":0},"#'T2-B(PP2)'!$C$256"]
["pp2_bl6_1_10_unit_in",{"$f":"'T2-B(PP2)'!$D$256","v":0},"#'T2-B(PP2)'!$D$256"]
["pp2_bl6_1_10_units_out",{"$f":"'T2-B(PP2)'!$G$256","v":0},"#'T2-B(PP2)'!$G$256"]
["pp2_bl6_1_2_name",{"$f":"'T2-B(PP2)'!$B$248","v":0},"#'T2-B(PP2)'!$B$248"]
["pp2_bl6_1_2_rate_in",{"$f":"'T2-B(PP2)'!$E$248","v":0},"#'T2-B(PP2)'!$E$248"]
["pp2_bl6_1_2_rate_out",{"$f":"'T2-B(PP2)'!$H$248","v":0},"#'T2-B(PP2)'!$H$248"]
["pp2_bl6_1_2_total",{"$f":"'T2-B(PP2)'!$J$248","v":0},"#'T2-B(PP2)'!$J$248"]
["pp2_bl6_1_2_total_in",{"$f":"'T2-B(PP2)'!$F$248","v":0},"#'T2-B(PP2)'!$F$248"]
["pp2_bl6_1_2_total_out",{"$f":"'T2-B(PP2)'!$I$248","v":0},"#'T2-B(PP2)'!$I$248"]
["pp2_bl6_1_2_unit",{"$f":"'T2-B(PP2)'!$C$248","v":0},"#'T2-B(PP2)'!$C$248"]
["pp2_bl6_1_2_unit_in",{"$f":"'T2-B(PP2)'!$D$248","v":0},"#'T2-B(PP2)'!$D$248"]
["pp2_bl6_1_2_units_out",{"$f":"'T2-B(PP2)'!$G$248","v":0},"#'T2-B(PP2)'!$G$248"]
["pp2_bl6_1_3_name",{"$f":"'T2-B(PP2)'!$B$249","v":0},"#'T2-B(PP2)'!$B$249"]
["pp2_bl6_1_3_rate_in",{"$f":"'T2-B(PP2)'!$E$249","v":0},"#'T2-B(PP2)'!$E$249"]
["pp2_bl6_1_3_rate_out",{"$f":"'T2-B(PP2)'!$H$249","v":0},"#'T2-B(PP2)'!$H$249"]
["pp2_bl6_1_3_total",{"$f":"'T2-B(PP2)'!$J$249","v":0},"#'T2-B(PP2)'!$J$249"]
["pp2_bl6_1_3_total_in",{"$f":"'T2-B(PP2)'!$F$249","v":0},"#'T2-B(PP2)'!$F$249"]
["pp2_bl6_1_3_total_out",{"$f":"'T2-B(PP2)'!$I$249","v":0},"#'T2-B(PP2)'!$I$249"]
["pp2_bl6_1_3_unit",{"$f":"'T2-B(PP2)'!$C$249","v":0},"#'T2-B(PP2)'!$C$249"]
["pp2_bl6_1_3_unit_in",{"$f":"'T2-B(PP2)'!$D$249","v":0},"#'T2-B(PP2)'!$D$249"]
["pp2_bl6_1_3_units_out",{"$f":"'T2-B(PP2)'!$G$249","v":0},"#'T2-B(PP2)'!$G$249"]
["pp2_bl6_1_4_name",{"$f":"'T2-B(PP2)'!$B$250","v":0},"#'T2-B(PP2)'!$B$250"]
["pp2_bl6_1_4_rate_in",{"$f":"'T2-B(PP2)'!$E$250","v":0},"#'T2-B(PP2)'!$E$250"]
["pp2_bl6_1_4_rate_out",{"$f":"'T2-B(PP2)'!$H$250","v":0},"#'T2-B(PP2)'!$H$250"]
["pp2_bl6_1_4_total",{"$f":"'T2-B(PP2)'!$J$250","v":0},"#'T2-B(PP2)'!$J$250"]
["pp2_bl6_1_4_total_in",{"$f":"'T2-B(PP2)'!$F$250","v":0},"#'T2-B(PP2)'!$F$250"]
["pp2_bl6_1_4_total_out",{"$f":"'T2-B(PP2)'!$I$250","v":0},"#'T2-B(PP2)'!$I$250"]
["pp2_bl6_1_4_unit",{"$f":"'T2-B(PP2)'!$C$250","v":0},"#'T2-B(PP2)'!$C$250"]
["pp2_bl6_1_4_unit_in",{"$f":"'T2-B(PP2)'!$D$250","v":0},"#'T2-B(PP2)'!$D$250"]
["pp2_bl6_1_4_units_out",{"$f":"'T2-B(PP2)'!$G$250","v":0},"#'T2-B(PP2)'!$G$250"]
["pp2_bl6_1_5_name",{"$f":"'T2-B(PP2)'!$B$251","v":0},"#'T2-B(PP2)'!$B$251"]
["pp2_bl6_1_5_rate_in",{"$f":"'T2-B(PP2)'!$E$251","v":0},"#'T2-B(PP2)'!$E$251"]
["pp2_bl6_1_5_rate_out",{"$f":"'T2-B(PP2)'!$H$251","v":0},"#'T2-B(PP2)'!$H$251"]
["pp2_bl6_1_5_total",{"$f":"'T2-B(PP2)'!$J$251","v":0},"#'T2-B(PP2)'!$J$251"]
["pp2_bl6_1_5_total_in",{"$f":"'T2-B(PP2)'!$F$251","v":0},"#'T2-B(PP2)'!$F$251"]
["pp2_bl6_1_5_total_out",{"$f":"'T2-B(PP2)'!$I$251","v":0},"#'T2-B(PP2)'!$I$251"]
["pp2_bl6_1_5_unit",{"$f":"'T2-B(PP2)'!$C$251","v":0},"#'T2-B(PP2)'!$C$251"]
["pp2_bl6_1_5_unit_in",{"$f":"'T2-B(PP2)'!$D$251","v":0},"#'T2-B(PP2)'!$D$251"]
["pp2_bl6_1_5_units_out",{"$f":"'T2-B(PP2)'!$G$251","v":0},"#'T2-B(PP2)'!$G$251"]
["pp2_bl6_1_6_name",{"$f":"'T2-B(PP2)'!$B$252","v":0},"#'T2-B(PP2)'!$B$252"]
["pp2_bl6_1_6_rate_in",{"$f":"'T2-B(PP2)'!$E$252","v":0},"#'T2-B(PP2)'!$E$252"]
["pp2_bl6_1_6_rate_out",{"$f":"'T2-B(PP2)'!$H$252","v":0},"#'T2-B(PP2)'!$H$252"]
["pp2_bl6_1_6_total",{"$f":"'T2-B(PP2)'!$J$252","v":0},"#'T2-B(PP2)'!$J$252"]
["pp2_bl6_1_6_total_in",{"$f":"'T2-B(PP2)'!$F$252","v":0},"#'T2-B(PP2)'!$F$252"]
["pp2_bl6_1_6_total_out",{"$f":"'T2-B(PP2)'!$I$252","v":0},"#'T2-B(PP2)'!$I$252"]
["pp2_bl6_1_6_unit",{"$f":"'T2-B(PP2)'!$C$252","v":0},"#'T2-B(PP2)'!$C$252"]
["pp2_bl6_1_6_unit_in",{"$f":"'T2-B(PP2)'!$D$252","v":0},"#'T2-B(PP2)'!$D$252"]
["pp2_bl6_1_6_units_out",{"$f":"'T2-B(PP2)'!$G$252","v":0},"#'T2-B(PP2)'!$G$252"]
["pp2_bl6_1_7_name",{"$f":"'T2-B(PP2)'!$B$253","v":0},"#'T2-B(PP2)'!$B$253"]
["pp2_bl6_1_7_rate_in",{"$f":"'T2-B(PP2)'!$E$253","v":0},"#'T2-B(PP2)'!$E$253"]
["pp2_bl6_1_7_rate_out",{"$f":"'T2-B(PP2)'!$H$253","v":0},"#'T2-B(PP2)'!$H$253"]
["pp2_bl6_1_7_total",{"$f":"'T2-B(PP2)'!$J$253","v":0},"#'T2-B(PP2)'!$J$253"]
["pp2_bl6_1_7_total_in",{"$f":"'T2-B(PP2)'!$F$253","v":0},"#'T2-B(PP2)'!$F$253"]
["pp2_bl6_1_7_total_out",{"$f":"'T2-B(PP2)'!$I$253","v":0},"#'T2-B(PP2)'!$I$253"]
["pp2_bl6_1_7_unit",{"$f":"'T2-B(PP2)'!$C$253","v":0},"#'T2-B(PP2)'!$C$253"]
["pp2_bl6_1_7_unit_in",{"$f":"'T2-B(PP2)'!$D$253","v":0},"#'T2-B(PP2)'!$D$253"]
["pp2_bl6_1_7_units_out",{"$f":"'T2-B(PP2)'!$G$253","v":0},"#'T2-B(PP2)'!$G$253"]
["pp2_bl6_1_8_name",{"$f":"'T2-B(PP2)'!$B$254","v":0},"#'T2-B(PP2)'!$B$254"]
["pp2_bl6_1_8_rate_in",{"$f":"'T2-B(PP2)'!$E$254","v":0},"#'T2-B(PP2)'!$E$254"]
["pp2_bl6_1_8_rate_out",{"$f":"'T2-B(PP2)'!$H$254","v":0},"#'T2-B(PP2)'!$H$254"]
["pp2_bl6_1_8_total",{"$f":"'T2-B(PP2)'!$J$254","v":0},"#'T2-B(PP2)'!$J$254"]
["pp2_bl6_1_8_total_in",{"$f":"'T2-B(PP2)'!$F$254","v":0},"#'T2-B(PP2)'!$F$254"]
["pp2_bl6_1_8_total_out",{"$f":"'T2-B(PP2)'!$I$254","v":0},"#'T2-B(PP2)'!$I$254"]
["pp2_bl6_1_8_unit",{"$f":"'T2-B(PP2)'!$C$254","v":0},"#'T2-B(PP2)'!$C$254"]
["pp2_bl6_1_8_unit_in",{"$f":"'T2-B(PP2)'!$D$254","v":0},"#'T2-B(PP2)'!$D$254"]
["pp2_bl6_1_8_units_out",{"$f":"'T2-B(PP2)'!$G$254","v":0},"#'T2-B(PP2)'!$G$254"]
["pp2_bl6_1_9_name",{"$f":"'T2-B(PP2)'!$B$255","v":0},"#'T2-B(PP2)'!$B$255"]
["pp2_bl6_1_9_rate_in",{"$f":"'T2-B(PP2)'!$E$255","v":0},"#'T2-B(PP2)'!$E$255"]
["pp2_bl6_1_9_rate_out",{"$f":"'T2-B(PP2)'!$H$255","v":0},"#'T2-B(PP2)'!$H$255"]
["pp2_bl6_1_9_total",{"$f":"'T2-B(PP2)'!$J$255","v":0},"#'T2-B(PP2)'!$J$255"]
["pp2_bl6_1_9_total_in",{"$f":"'T2-B(PP2)'!$F$255","v":0},"#'T2-B(PP2)'!$F$255"]
["pp2_bl6_1_9_total_out",{"$f":"'T2-B(PP2)'!$I$255","v":0},"#'T2-B(PP2)'!$I$255"]
["pp2_bl6_1_9_unit",{"$f":"'T2-B(PP2)'!$C$255","v":0},"#'T2-B(PP2)'!$C$255"]
["pp2_bl6_1_9_unit_in",{"$f":"'T2-B(PP2)'!$D$255","v":0},"#'T2-B(PP2)'!$D$255"]
["pp2_bl6_1_9_units_out",{"$f":"'T2-B(PP2)'!$G$255","v":0},"#'T2-B(PP2)'!$G$255"]
["pp2_bl6_1_total",{"$f":"'T2-B(PP2)'!$J$246","v":0},"#'T2-B(PP2)'!$J$246"]
["pp2_bl6_1_total_in",{"$f":"'T2-B(PP2)'!$F$246","v":"TOTAL"},"#'T2-B(PP2)'!$F$246"]
["pp2_bl6_1_total_out",{"$f":"'T2-B(PP2)'!$I$246","v":"TOTAL"},"#'T2-B(PP2)'!$I$246"]
["pp2_bl6_total",{"$f":"'T2-B(PP2)'!$J$257","v":0},"#'T2-B(PP2)'!$J$257"]
["pp2_bl6_total_in",{"$f":"'T2-B(PP2)'!$F$257","v":0},"#'T2-B(PP2)'!$F$257"]
["pp2_bl6_total_out",{"$f":"'T2-B(PP2)'!$I$257","v":0},"#'T2-B(PP2)'!$I$257"]
["pp2_country",{"$f":"'PP2'!$K$14","v":1},"#'PP2'!$K$14"]
["pp2_fax",{"$f":"'PP2'!$C$29","v":0},"#'PP2'!$C$29"]
["pp2_is_bg",{"$f":"'PP2'!$D$13","v":0},"#'PP2'!$D$13"]
["pp2_is_pc",{"$f":"'PP2'!$F$13","v":0},"#'PP2'!$F$13"]
["pp2_legal_representative",{"$f":"'PP2'!$C$23","v":0},"#'PP2'!$C$23"]
["pp2_legal_representative_position",{"$f":"'PP2'!$C$25","v":0},"#'PP2'!$C$25"]
["pp2_mail",{"$f":"'PP2'!$C$31","v":0},"#'PP2'!$C$31"]
["pp2_nat_code",{"$f":"'PP2'!$C$70","v":0},"#'PP2'!$C$70"]
["pp2_nuts3",{"$f":"'PP2'!$C$15","v":0},"#'PP2'!$C$15"]
["pp2_organisation_en",{"$f":"'PP2'!$C$7","v":0},"#'PP2'!$C$7"]
["pp2_organisation_native",{"$f":"'PP2'!$C$9","v":0},"#'PP2'!$C$9"]
["pp2_pe_date1",{"$f":"'PP2'!$G$47","v":0},"#'PP2'!$G$47"]
["pp2_pe_date2",{"$f":"'PP2'!$G$55","v":0},"#'PP2'!$G$55"]
["pp2_pe_date3",{"$f":"'PP2'!$G$63","v":0},"#'PP2'!$G$63"]
["pp2_pe_ga1",{"$f":"'PP2'!$G$46","v":0},"#'PP2'!$G$46"]
["pp2_pe_ga2",{"$f":"'PP2'!$G$54","v":0},"#'PP2'!$G$54"]
["pp2_pe_ga3",{"$f":"'PP2'!$G$62","v":0},"#'PP2'!$G$62"]
["pp2_pe_ip1",{"$f":"'PP2'!$C$43","v":0},"#'PP2'!$C$43"]
["pp2_pe_ip2",{"$f":"'PP2'!$C$51","v":0},"#'PP2'!$C$51"]
["pp2_pe_ip3",{"$f":"'PP2'!$C$59","v":0},"#'PP2'!$C$59"]
["pp2_pe_or1",{"$f":"'PP2'!$C$47","v":0},"#'PP2'!$C$47"]
["pp2_pe_or2",{"$f":"'PP2'!$C$55","v":0},"#'PP2'!$C$55"]
["pp2_pe_or3",{"$f":"'PP2'!$C$63","v":0},"#'PP2'!$C$63"]
["pp2_pe_pt1",{"$f":"'PP2'!$C$44","v":0},"#'PP2'!$C$44"]
["pp2_pe_pt2",{"$f":"'PP2'!$C$52","v":0},"#'PP2'!$C$52"]
["pp2_pe_pt3",{"$f":"'PP2'!$C$60","v":0},"#'PP2'!$C$60"]
["pp2_pe_sd1",{"$f":"'PP2'!$C$45","v":0},"#'PP2'!$C$45"]
["pp2_pe_sd2",{"$f":"'PP2'!$C$53","v":0},"#'PP2'!$C$53"]
["pp2_pe_sd3",{"$f":"'PP2'!$C$61","v":0},"#'PP2'!$C$61"]
["pp2_pe_tev1",{"$f":"'PP2'!$C$46","v":0},"#'PP2'!$C$46"]
["pp2_pe_tev2",{"$f":"'PP2'!$C$54","v":0},"#'PP2'!$C$54"]
["pp2_pe_tev3",{"$f":"'PP2'!$C$62","v":0},"#'PP2'!$C$62"]
["pp2_phone",{"$f":"'PP2'!$C$27","v":0},"#'PP2'!$C$27"]
["pp2_post_code",{"$f":"'PP2'!$C$21","v":0},"#'PP2'!$C$21"]
["pp2_profile",{"$f":"'PP2'!$B$38","v":0},"#'PP2'!$B$38"]
["pp2_town",{"$f":"'PP2'!$C$17","v":0},"#'PP2'!$C$17"]
["pp2_type_org",{"$f":"'PP2'!$C$11","v":0},"#'PP2'!$C$11"]
["pp2_vat_code",{"$f":"'PP2'!$C$72","v":0},"#'PP2'!$C$72"]
["pp2_website",{"$f":"'PP2'!$C$33","v":0},"#'PP2'!$C$33"]
["pp3_2012_fulltime_staff",{"$f":"'PP3'!$D$79","v":0},"#'PP3'!$D$79"]
["pp3_2012_offices",{"$f":"'PP3'!$F$79","v":0},"#'PP3'!$F$79"]
["pp3_2012_parttime_staff",{"$f":"'PP3'!$E$79","v":0},"#'PP3'!$E$79"]
["pp3_2012_turnover",{"$f":"'PP3'!$C$79","v":0},"#'PP3'!$C$79"]
["pp3_2013_fulltime_staff",{"$f":"'PP3'!$D$78","v":0},"#'PP3'!$D$78"]
["pp3_2013_offices",{"$f":"'PP3'!$F$78","v":0},"#'PP3'!$F$78"]
["pp3_2013_parttime_staff",{"$f":"'PP3'!$E$78","v":0},"#'PP3'!$E$78"]
["pp3_2013_turnover",{"$f":"'PP3'!$C$78","v":0},"#'PP3'!$C$78"]
["pp3_2014_fulltime_staff",{"$f":"'PP3'!$D$77","v":0},"#'PP3'!$D$77"]
["pp3_2014_offices",{"$f":"'PP3'!$F$77","v":0},"#'PP3'!$F$77"]
["pp3_2014_parttime_staff",{"$f":"'PP3'!$E$77","v":0},"#'PP3'!$E$77"]
["pp3_2014_turnover",{"$f":"'PP3'!$C$77","v":0},"#'PP3'!$C$77"]
["pp3_address",{"$f":"'PP3'!$C$19","v":0},"#'PP3'!$C$19"]
["pp3_bl3_1_1_name",{"$f":"'T2-B(PP3)'!$B$16","v":0},"#'T2-B(PP3)'!$B$16"]
["pp3_bl3_1_1_rate_in",{"$f":"'T2-B(PP3)'!$E$16","v":0},"#'T2-B(PP3)'!$E$16"]
["pp3_bl3_1_1_rate_out",{"$f":"'T2-B(PP3)'!$H$16","v":0},"#'T2-B(PP3)'!$H$16"]
["pp3_bl3_1_1_total",{"$f":"'T2-B(PP3)'!$J$16","v":0},"#'T2-B(PP3)'!$J$16"]
["pp3_bl3_1_1_total_in",{"$f":"'T2-B(PP3)'!$F$16","v":0},"#'T2-B(PP3)'!$F$16"]
["pp3_bl3_1_1_total_out",{"$f":"'T2-B(PP3)'!$I$16","v":0},"#'T2-B(PP3)'!$I$16"]
["pp3_bl3_1_1_unit",{"$f":"'T2-B(PP3)'!$C$16","v":0},"#'T2-B(PP3)'!$C$16"]
["pp3_bl3_1_1_unit_in",{"$f":"'T2-B(PP3)'!$D$16","v":0},"#'T2-B(PP3)'!$D$16"]
["pp3_bl3_1_1_units_out",{"$f":"'T2-B(PP3)'!$G$16","v":0},"#'T2-B(PP3)'!$G$16"]
["pp3_bl3_1_10_name",{"$f":"'T2-B(PP3)'!$B$25","v":0},"#'T2-B(PP3)'!$B$25"]
["pp3_bl3_1_10_rate_in",{"$f":"'T2-B(PP3)'!$E$25","v":0},"#'T2-B(PP3)'!$E$25"]
["pp3_bl3_1_10_rate_out",{"$f":"'T2-B(PP3)'!$H$25","v":0},"#'T2-B(PP3)'!$H$25"]
["pp3_bl3_1_10_total",{"$f":"'T2-B(PP3)'!$J$25","v":0},"#'T2-B(PP3)'!$J$25"]
["pp3_bl3_1_10_total_in",{"$f":"'T2-B(PP3)'!$F$25","v":0},"#'T2-B(PP3)'!$F$25"]
["pp3_bl3_1_10_total_out",{"$f":"'T2-B(PP3)'!$I$25","v":0},"#'T2-B(PP3)'!$I$25"]
["pp3_bl3_1_10_unit",{"$f":"'T2-B(PP3)'!$C$25","v":0},"#'T2-B(PP3)'!$C$25"]
["pp3_bl3_1_10_unit_in",{"$f":"'T2-B(PP3)'!$D$25","v":0},"#'T2-B(PP3)'!$D$25"]
["pp3_bl3_1_10_units_out",{"$f":"'T2-B(PP3)'!$G$25","v":0},"#'T2-B(PP3)'!$G$25"]
["pp3_bl3_1_2_name",{"$f":"'T2-B(PP3)'!$B$17","v":0},"#'T2-B(PP3)'!$B$17"]
["pp3_bl3_1_2_rate_in",{"$f":"'T2-B(PP3)'!$E$17","v":0},"#'T2-B(PP3)'!$E$17"]
["pp3_bl3_1_2_rate_out",{"$f":"'T2-B(PP3)'!$H$17","v":0},"#'T2-B(PP3)'!$H$17"]
["pp3_bl3_1_2_total",{"$f":"'T2-B(PP3)'!$J$17","v":0},"#'T2-B(PP3)'!$J$17"]
["pp3_bl3_1_2_total_in",{"$f":"'T2-B(PP3)'!$F$17","v":0},"#'T2-B(PP3)'!$F$17"]
["pp3_bl3_1_2_total_out",{"$f":"'T2-B(PP3)'!$I$17","v":0},"#'T2-B(PP3)'!$I$17"]
["pp3_bl3_1_2_unit",{"$f":"'T2-B(PP3)'!$C$17","v":0},"#'T2-B(PP3)'!$C$17"]
["pp3_bl3_1_2_unit_in",{"$f":"'T2-B(PP3)'!$D$17","v":0},"#'T2-B(PP3)'!$D$17"]
["pp3_bl3_1_2_units_out",{"$f":"'T2-B(PP3)'!$G$17","v":0},"#'T2-B(PP3)'!$G$17"]
["pp3_bl3_1_3_name",{"$f":"'T2-B(PP3)'!$B$18","v":0},"#'T2-B(PP3)'!$B$18"]
["pp3_bl3_1_3_rate_in",{"$f":"'T2-B(PP3)'!$E$18","v":0},"#'T2-B(PP3)'!$E$18"]
["pp3_bl3_1_3_rate_out",{"$f":"'T2-B(PP3)'!$H$18","v":0},"#'T2-B(PP3)'!$H$18"]
["pp3_bl3_1_3_total",{"$f":"'T2-B(PP3)'!$J$18","v":0},"#'T2-B(PP3)'!$J$18"]
["pp3_bl3_1_3_total_in",{"$f":"'T2-B(PP3)'!$F$18","v":0},"#'T2-B(PP3)'!$F$18"]
["pp3_bl3_1_3_total_out",{"$f":"'T2-B(PP3)'!$I$18","v":0},"#'T2-B(PP3)'!$I$18"]
["pp3_bl3_1_3_unit",{"$f":"'T2-B(PP3)'!$C$18","v":0},"#'T2-B(PP3)'!$C$18"]
["pp3_bl3_1_3_unit_in",{"$f":"'T2-B(PP3)'!$D$18","v":0},"#'T2-B(PP3)'!$D$18"]
["pp3_bl3_1_3_units_out",{"$f":"'T2-B(PP3)'!$G$18","v":0},"#'T2-B(PP3)'!$G$18"]
["pp3_bl3_1_4_name",{"$f":"'T2-B(PP3)'!$B$19","v":0},"#'T2-B(PP3)'!$B$19"]
["pp3_bl3_1_4_rate_in",{"$f":"'T2-B(PP3)'!$E$19","v":0},"#'T2-B(PP3)'!$E$19"]
["pp3_bl3_1_4_rate_out",{"$f":"'T2-B(PP3)'!$H$19","v":0},"#'T2-B(PP3)'!$H$19"]
["pp3_bl3_1_4_total",{"$f":"'T2-B(PP3)'!$J$19","v":0},"#'T2-B(PP3)'!$J$19"]
["pp3_bl3_1_4_total_in",{"$f":"'T2-B(PP3)'!$F$19","v":0},"#'T2-B(PP3)'!$F$19"]
["pp3_bl3_1_4_total_out",{"$f":"'T2-B(PP3)'!$I$19","v":0},"#'T2-B(PP3)'!$I$19"]
["pp3_bl3_1_4_unit",{"$f":"'T2-B(PP3)'!$C$19","v":0},"#'T2-B(PP3)'!$C$19"]
["pp3_bl3_1_4_unit_in",{"$f":"'T2-B(PP3)'!$D$19","v":0},"#'T2-B(PP3)'!$D$19"]
["pp3_bl3_1_4_units_out",{"$f":"'T2-B(PP3)'!$G$19","v":0},"#'T2-B(PP3)'!$G$19"]
["pp3_bl3_1_5_name",{"$f":"'T2-B(PP3)'!$B$20","v":0},"#'T2-B(PP3)'!$B$20"]
["pp3_bl3_1_5_rate_in",{"$f":"'T2-B(PP3)'!$E$20","v":0},"#'T2-B(PP3)'!$E$20"]
["pp3_bl3_1_5_rate_out",{"$f":"'T2-B(PP3)'!$H$20","v":0},"#'T2-B(PP3)'!$H$20"]
["pp3_bl3_1_5_total",{"$f":"'T2-B(PP3)'!$J$20","v":0},"#'T2-B(PP3)'!$J$20"]
["pp3_bl3_1_5_total_in",{"$f":"'T2-B(PP3)'!$F$20","v":0},"#'T2-B(PP3)'!$F$20"]
["pp3_bl3_1_5_total_out",{"$f":"'T2-B(PP3)'!$I$20","v":0},"#'T2-B(PP3)'!$I$20"]
["pp3_bl3_1_5_unit",{"$f":"'T2-B(PP3)'!$C$20","v":0},"#'T2-B(PP3)'!$C$20"]
["pp3_bl3_1_5_unit_in",{"$f":"'T2-B(PP3)'!$D$20","v":0},"#'T2-B(PP3)'!$D$20"]
["pp3_bl3_1_5_units_out",{"$f":"'T2-B(PP3)'!$G$20","v":0},"#'T2-B(PP3)'!$G$20"]
["pp3_bl3_1_6_name",{"$f":"'T2-B(PP3)'!$B$21","v":0},"#'T2-B(PP3)'!$B$21"]
["pp3_bl3_1_6_rate_in",{"$f":"'T2-B(PP3)'!$E$21","v":0},"#'T2-B(PP3)'!$E$21"]
["pp3_bl3_1_6_rate_out",{"$f":"'T2-B(PP3)'!$H$21","v":0},"#'T2-B(PP3)'!$H$21"]
["pp3_bl3_1_6_total",{"$f":"'T2-B(PP3)'!$J$21","v":0},"#'T2-B(PP3)'!$J$21"]
["pp3_bl3_1_6_total_in",{"$f":"'T2-B(PP3)'!$F$21","v":0},"#'T2-B(PP3)'!$F$21"]
["pp3_bl3_1_6_total_out",{"$f":"'T2-B(PP3)'!$I$21","v":0},"#'T2-B(PP3)'!$I$21"]
["pp3_bl3_1_6_unit",{"$f":"'T2-B(PP3)'!$C$21","v":0},"#'T2-B(PP3)'!$C$21"]
["pp3_bl3_1_6_unit_in",{"$f":"'T2-B(PP3)'!$D$21","v":0},"#'T2-B(PP3)'!$D$21"]
["pp3_bl3_1_6_units_out",{"$f":"'T2-B(PP3)'!$G$21","v":0},"#'T2-B(PP3)'!$G$21"]
["pp3_bl3_1_7_name",{"$f":"'T2-B(PP3)'!$B$22","v":0},"#'T2-B(PP3)'!$B$22"]
["pp3_bl3_1_7_rate_in",{"$f":"'T2-B(PP3)'!$E$22","v":0},"#'T2-B(PP3)'!$E$22"]
["pp3_bl3_1_7_rate_out",{"$f":"'T2-B(PP3)'!$H$22","v":0},"#'T2-B(PP3)'!$H$22"]
["pp3_bl3_1_7_total",{"$f":"'T2-B(PP3)'!$J$22","v":0},"#'T2-B(PP3)'!$J$22"]
["pp3_bl3_1_7_total_in",{"$f":"'T2-B(PP3)'!$F$22","v":0},"#'T2-B(PP3)'!$F$22"]
["pp3_bl3_1_7_total_out",{"$f":"'T2-B(PP3)'!$I$22","v":0},"#'T2-B(PP3)'!$I$22"]
["pp3_bl3_1_7_unit",{"$f":"'T2-B(PP3)'!$C$22","v":0},"#'T2-B(PP3)'!$C$22"]
["pp3_bl3_1_7_unit_in",{"$f":"'T2-B(PP3)'!$D$22","v":0},"#'T2-B(PP3)'!$D$22"]
["pp3_bl3_1_7_units_out",{"$f":"'T2-B(PP3)'!$G$22","v":0},"#'T2-B(PP3)'!$G$22"]
["pp3_bl3_1_8_name",{"$f":"'T2-B(PP3)'!$B$23","v":0},"#'T2-B(PP3)'!$B$23"]
["pp3_bl3_1_8_rate_in",{"$f":"'T2-B(PP3)'!$E$23","v":0},"#'T2-B(PP3)'!$E$23"]
["pp3_bl3_1_8_rate_out",{"$f":"'T2-B(PP3)'!$H$23","v":0},"#'T2-B(PP3)'!$H$23"]
["pp3_bl3_1_8_total",{"$f":"'T2-B(PP3)'!$J$23","v":0},"#'T2-B(PP3)'!$J$23"]
["pp3_bl3_1_8_total_in",{"$f":"'T2-B(PP3)'!$F$23","v":0},"#'T2-B(PP3)'!$F$23"]
["pp3_bl3_1_8_total_out",{"$f":"'T2-B(PP3)'!$I$23","v":0},"#'T2-B(PP3)'!$I$23"]
["pp3_bl3_1_8_unit",{"$f":"'T2-B(PP3)'!$C$23","v":0},"#'T2-B(PP3)'!$C$23"]
["pp3_bl3_1_8_unit_in",{"$f":"'T2-B(PP3)'!$D$23","v":0},"#'T2-B(PP3)'!$D$23"]
["pp3_bl3_1_8_units_out",{"$f":"'T2-B(PP3)'!$G$23","v":0},"#'T2-B(PP3)'!$G$23"]
["pp3_bl3_1_9_name",{"$f":"'T2-B(PP3)'!$B$24","v":0},"#'T2-B(PP3)'!$B$24"]
["pp3_bl3_1_9_rate_in",{"$f":"'T2-B(PP3)'!$E$24","v":0},"#'T2-B(PP3)'!$E$24"]
["pp3_bl3_1_9_rate_out",{"$f":"'T2-B(PP3)'!$H$24","v":0},"#'T2-B(PP3)'!$H$24"]
["pp3_bl3_1_9_total",{"$f":"'T2-B(PP3)'!$J$24","v":0},"#'T2-B(PP3)'!$J$24"]
["pp3_bl3_1_9_total_in",{"$f":"'T2-B(PP3)'!$F$24","v":0},"#'T2-B(PP3)'!$F$24"]
["pp3_bl3_1_9_total_out",{"$f":"'T2-B(PP3)'!$I$24","v":0},"#'T2-B(PP3)'!$I$24"]
["pp3_bl3_1_9_unit",{"$f":"'T2-B(PP3)'!$C$24","v":0},"#'T2-B(PP3)'!$C$24"]
["pp3_bl3_1_9_unit_in",{"$f":"'T2-B(PP3)'!$D$24","v":0},"#'T2-B(PP3)'!$D$24"]
["pp3_bl3_1_9_units_out",{"$f":"'T2-B(PP3)'!$G$24","v":0},"#'T2-B(PP3)'!$G$24"]
["pp3_bl3_1_total",{"$f":"'T2-B(PP3)'!$J$15","v":0},"#'T2-B(PP3)'!$J$15"]
["pp3_bl3_1_total_in",{"$f":"'T2-B(PP3)'!$F$15","v":0},"#'T2-B(PP3)'!$F$15"]
["pp3_bl3_1_total_out",{"$f":"'T2-B(PP3)'!$I$15","v":0},"#'T2-B(PP3)'!$I$15"]
["pp3_bl3_2_1_name",{"$f":"'T2-B(PP3)'!$B$27","v":0},"#'T2-B(PP3)'!$B$27"]
["pp3_bl3_2_1_rate_in",{"$f":"'T2-B(PP3)'!$E$27","v":0},"#'T2-B(PP3)'!$E$27"]
["pp3_bl3_2_1_rate_out",{"$f":"'T2-B(PP3)'!$H$27","v":0},"#'T2-B(PP3)'!$H$27"]
["pp3_bl3_2_1_total",{"$f":"'T2-B(PP3)'!$J$27","v":0},"#'T2-B(PP3)'!$J$27"]
["pp3_bl3_2_1_total_in",{"$f":"'T2-B(PP3)'!$F$27","v":0},"#'T2-B(PP3)'!$F$27"]
["pp3_bl3_2_1_total_out",{"$f":"'T2-B(PP3)'!$I$27","v":0},"#'T2-B(PP3)'!$I$27"]
["pp3_bl3_2_1_unit",{"$f":"'T2-B(PP3)'!$C$27","v":0},"#'T2-B(PP3)'!$C$27"]
["pp3_bl3_2_1_unit_in",{"$f":"'T2-B(PP3)'!$D$27","v":0},"#'T2-B(PP3)'!$D$27"]
["pp3_bl3_2_1_units_out",{"$f":"'T2-B(PP3)'!$G$27","v":0},"#'T2-B(PP3)'!$G$27"]
["pp3_bl3_2_10_name",{"$f":"'T2-B(PP3)'!$B$36","v":0},"#'T2-B(PP3)'!$B$36"]
["pp3_bl3_2_10_rate_in",{"$f":"'T2-B(PP3)'!$E$36","v":0},"#'T2-B(PP3)'!$E$36"]
["pp3_bl3_2_10_rate_out",{"$f":"'T2-B(PP3)'!$H$36","v":0},"#'T2-B(PP3)'!$H$36"]
["pp3_bl3_2_10_total",{"$f":"'T2-B(PP3)'!$J$36","v":0},"#'T2-B(PP3)'!$J$36"]
["pp3_bl3_2_10_total_in",{"$f":"'T2-B(PP3)'!$F$36","v":0},"#'T2-B(PP3)'!$F$36"]
["pp3_bl3_2_10_total_out",{"$f":"'T2-B(PP3)'!$I$36","v":0},"#'T2-B(PP3)'!$I$36"]
["pp3_bl3_2_10_unit",{"$f":"'T2-B(PP3)'!$C$36","v":0},"#'T2-B(PP3)'!$C$36"]
["pp3_bl3_2_10_unit_in",{"$f":"'T2-B(PP3)'!$D$36","v":0},"#'T2-B(PP3)'!$D$36"]
["pp3_bl3_2_10_units_out",{"$f":"'T2-B(PP3)'!$G$36","v":0},"#'T2-B(PP3)'!$G$36"]
["pp3_bl3_2_2_name",{"$f":"'T2-B(PP3)'!$B$28","v":0},"#'T2-B(PP3)'!$B$28"]
["pp3_bl3_2_2_rate_in",{"$f":"'T2-B(PP3)'!$E$28","v":0},"#'T2-B(PP3)'!$E$28"]
["pp3_bl3_2_2_rate_out",{"$f":"'T2-B(PP3)'!$H$28","v":0},"#'T2-B(PP3)'!$H$28"]
["pp3_bl3_2_2_total",{"$f":"'T2-B(PP3)'!$J$28","v":0},"#'T2-B(PP3)'!$J$28"]
["pp3_bl3_2_2_total_in",{"$f":"'T2-B(PP3)'!$F$28","v":0},"#'T2-B(PP3)'!$F$28"]
["pp3_bl3_2_2_total_out",{"$f":"'T2-B(PP3)'!$I$28","v":0},"#'T2-B(PP3)'!$I$28"]
["pp3_bl3_2_2_unit",{"$f":"'T2-B(PP3)'!$C$28","v":0},"#'T2-B(PP3)'!$C$28"]
["pp3_bl3_2_2_unit_in",{"$f":"'T2-B(PP3)'!$D$28","v":0},"#'T2-B(PP3)'!$D$28"]
["pp3_bl3_2_2_units_out",{"$f":"'T2-B(PP3)'!$G$28","v":0},"#'T2-B(PP3)'!$G$28"]
["pp3_bl3_2_3_name",{"$f":"'T2-B(PP3)'!$B$29","v":0},"#'T2-B(PP3)'!$B$29"]
["pp3_bl3_2_3_rate_in",{"$f":"'T2-B(PP3)'!$E$29","v":0},"#'T2-B(PP3)'!$E$29"]
["pp3_bl3_2_3_rate_out",{"$f":"'T2-B(PP3)'!$H$29","v":0},"#'T2-B(PP3)'!$H$29"]
["pp3_bl3_2_3_total",{"$f":"'T2-B(PP3)'!$J$29","v":0},"#'T2-B(PP3)'!$J$29"]
["pp3_bl3_2_3_total_in",{"$f":"'T2-B(PP3)'!$F$29","v":0},"#'T2-B(PP3)'!$F$29"]
["pp3_bl3_2_3_total_out",{"$f":"'T2-B(PP3)'!$I$29","v":0},"#'T2-B(PP3)'!$I$29"]
["pp3_bl3_2_3_unit",{"$f":"'T2-B(PP3)'!$C$29","v":0},"#'T2-B(PP3)'!$C$29"]
["pp3_bl3_2_3_unit_in",{"$f":"'T2-B(PP3)'!$D$29","v":0},"#'T2-B(PP3)'!$D$29"]
["pp3_bl3_2_3_units_out",{"$f":"'T2-B(PP3)'!$G$29","v":0},"#'T2-B(PP3)'!$G$29"]
["pp3_bl3_2_4_name",{"$f":"'T2-B(PP3)'!$B$30","v":0},"#'T2-B(PP3)'!$B$30"]
["pp3_bl3_2_4_rate_in",{"$f":"'T2-B(PP3)'!$E$30","v":0},"#'T2-B(PP3)'!$E$30"]
["pp3_bl3_2_4_rate_out",{"$f":"'T2-B(PP3)'!$H$30","v":0},"#'T2-B(PP3)'!$H$30"]
["pp3_bl3_2_4_total",{"$f":"'T2-B(PP3)'!$J$30","v":0},"#'T2-B(PP3)'!$J$30"]
["pp3_bl3_2_4_total_in",{"$f":"'T2-B(PP3)'!$F$30","v":0},"#'T2-B(PP3)'!$F$30"]
["pp3_bl3_2_4_total_out",{"$f":"'T2-B(PP3)'!$I$30","v":0},"#'T2-B(PP3)'!$I$30"]
["pp3_bl3_2_4_unit",{"$f":"'T2-B(PP3)'!$C$30","v":0},"#'T2-B(PP3)'!$C$30"]
["pp3_bl3_2_4_unit_in",{"$f":"'T2-B(PP3)'!$D$30","v":0},"#'T2-B(PP3)'!$D$30"]
["pp3_bl3_2_4_units_out",{"$f":"'T2-B(PP3)'!$G$30","v":0},"#'T2-B(PP3)'!$G$30"]
["pp3_bl3_2_5_name",{"$f":"'T2-B(PP3)'!$B$31","v":0},"#'T2-B(PP3)'!$B$31"]
["pp3_bl3_2_5_rate_in",{"$f":"'T2-B(PP3)'!$E$31","v":0},"#'T2-B(PP3)'!$E$31"]
["pp3_bl3_2_5_rate_out",{"$f":"'T2-B(PP3)'!$H$31","v":0},"#'T2-B(PP3)'!$H$31"]
["pp3_bl3_2_5_total",{"$f":"'T2-B(PP3)'!$J$31","v":0},"#'T2-B(PP3)'!$J$31"]
["pp3_bl3_2_5_total_in",{"$f":"'T2-B(PP3)'!$F$31","v":0},"#'T2-B(PP3)'!$F$31"]
["pp3_bl3_2_5_total_out",{"$f":"'T2-B(PP3)'!$I$31","v":0},"#'T2-B(PP3)'!$I$31"]
["pp3_bl3_2_5_unit",{"$f":"'T2-B(PP3)'!$C$31","v":0},"#'T2-B(PP3)'!$C$31"]
["pp3_bl3_2_5_unit_in",{"$f":"'T2-B(PP3)'!$D$31","v":0},"#'T2-B(PP3)'!$D$31"]
["pp3_bl3_2_5_units_out",{"$f":"'T2-B(PP3)'!$G$31","v":0},"#'T2-B(PP3)'!$G$31"]
["pp3_bl3_2_6_name",{"$f":"'T2-B(PP3)'!$B$32","v":0},"#'T2-B(PP3)'!$B$32"]
["pp3_bl3_2_6_rate_in",{"$f":"'T2-B(PP3)'!$E$32","v":0},"#'T2-B(PP3)'!$E$32"]
["pp3_bl3_2_6_rate_out",{"$f":"'T2-B(PP3)'!$H$32","v":0},"#'T2-B(PP3)'!$H$32"]
["pp3_bl3_2_6_total",{"$f":"'T2-B(PP3)'!$J$32","v":0},"#'T2-B(PP3)'!$J$32"]
["pp3_bl3_2_6_total_in",{"$f":"'T2-B(PP3)'!$F$32","v":0},"#'T2-B(PP3)'!$F$32"]
["pp3_bl3_2_6_total_out",{"$f":"'T2-B(PP3)'!$I$32","v":0},"#'T2-B(PP3)'!$I$32"]
["pp3_bl3_2_6_unit",{"$f":"'T2-B(PP3)'!$C$32","v":0},"#'T2-B(PP3)'!$C$32"]
["pp3_bl3_2_6_unit_in",{"$f":"'T2-B(PP3)'!$D$32","v":0},"#'T2-B(PP3)'!$D$32"]
["pp3_bl3_2_6_units_out",{"$f":"'T2-B(PP3)'!$G$32","v":0},"#'T2-B(PP3)'!$G$32"]
["pp3_bl3_2_7_name",{"$f":"'T2-B(PP3)'!$B$33","v":0},"#'T2-B(PP3)'!$B$33"]
["pp3_bl3_2_7_rate_in",{"$f":"'T2-B(PP3)'!$E$33","v":0},"#'T2-B(PP3)'!$E$33"]
["pp3_bl3_2_7_rate_out",{"$f":"'T2-B(PP3)'!$H$33","v":0},"#'T2-B(PP3)'!$H$33"]
["pp3_bl3_2_7_total",{"$f":"'T2-B(PP3)'!$J$33","v":0},"#'T2-B(PP3)'!$J$33"]
["pp3_bl3_2_7_total_in",{"$f":"'T2-B(PP3)'!$F$33","v":0},"#'T2-B(PP3)'!$F$33"]
["pp3_bl3_2_7_total_out",{"$f":"'T2-B(PP3)'!$I$33","v":0},"#'T2-B(PP3)'!$I$33"]
["pp3_bl3_2_7_unit",{"$f":"'T2-B(PP3)'!$C$33","v":0},"#'T2-B(PP3)'!$C$33"]
["pp3_bl3_2_7_unit_in",{"$f":"'T2-B(PP3)'!$D$33","v":0},"#'T2-B(PP3)'!$D$33"]
["pp3_bl3_2_7_units_out",{"$f":"'T2-B(PP3)'!$G$33","v":0},"#'T2-B(PP3)'!$G$33"]
["pp3_bl3_2_8_name",{"$f":"'T2-B(PP3)'!$B$34","v":0},"#'T2-B(PP3)'!$B$34"]
["pp3_bl3_2_8_rate_in",{"$f":"'T2-B(PP3)'!$E$34","v":0},"#'T2-B(PP3)'!$E$34"]
["pp3_bl3_2_8_rate_out",{"$f":"'T2-B(PP3)'!$H$34","v":0},"#'T2-B(PP3)'!$H$34"]
["pp3_bl3_2_8_total",{"$f":"'T2-B(PP3)'!$J$34","v":0},"#'T2-B(PP3)'!$J$34"]
["pp3_bl3_2_8_total_in",{"$f":"'T2-B(PP3)'!$F$34","v":0},"#'T2-B(PP3)'!$F$34"]
["pp3_bl3_2_8_total_out",{"$f":"'T2-B(PP3)'!$I$34","v":0},"#'T2-B(PP3)'!$I$34"]
["pp3_bl3_2_8_unit",{"$f":"'T2-B(PP3)'!$C$34","v":0},"#'T2-B(PP3)'!$C$34"]
["pp3_bl3_2_8_unit_in",{"$f":"'T2-B(PP3)'!$D$34","v":0},"#'T2-B(PP3)'!$D$34"]
["pp3_bl3_2_8_units_out",{"$f":"'T2-B(PP3)'!$G$34","v":0},"#'T2-B(PP3)'!$G$34"]
["pp3_bl3_2_9_name",{"$f":"'T2-B(PP3)'!$B$35","v":0},"#'T2-B(PP3)'!$B$35"]
["pp3_bl3_2_9_rate_in",{"$f":"'T2-B(PP3)'!$E$35","v":0},"#'T2-B(PP3)'!$E$35"]
["pp3_bl3_2_9_rate_out",{"$f":"'T2-B(PP3)'!$H$35","v":0},"#'T2-B(PP3)'!$H$35"]
["pp3_bl3_2_9_total",{"$f":"'T2-B(PP3)'!$J$35","v":0},"#'T2-B(PP3)'!$J$35"]
["pp3_bl3_2_9_total_in",{"$f":"'T2-B(PP3)'!$F$35","v":0},"#'T2-B(PP3)'!$F$35"]
["pp3_bl3_2_9_total_out",{"$f":"'T2-B(PP3)'!$I$35","v":0},"#'T2-B(PP3)'!$I$35"]
["pp3_bl3_2_9_unit",{"$f":"'T2-B(PP3)'!$C$35","v":0},"#'T2-B(PP3)'!$C$35"]
["pp3_bl3_2_9_unit_in",{"$f":"'T2-B(PP3)'!$D$35","v":0},"#'T2-B(PP3)'!$D$35"]
["pp3_bl3_2_9_units_out",{"$f":"'T2-B(PP3)'!$G$35","v":0},"#'T2-B(PP3)'!$G$35"]
["pp3_bl3_2_total",{"$f":"'T2-B(PP3)'!$J$26","v":0},"#'T2-B(PP3)'!$J$26"]
["pp3_bl3_2_total_in",{"$f":"'T2-B(PP3)'!$F$26","v":0},"#'T2-B(PP3)'!$F$26"]
["pp3_bl3_2_total_out",{"$f":"'T2-B(PP3)'!$I$26","v":0},"#'T2-B(PP3)'!$I$26"]
["pp3_bl3_3_1_name",{"$f":"'T2-B(PP3)'!$B$38","v":0},"#'T2-B(PP3)'!$B$38"]
["pp3_bl3_3_1_rate_in",{"$f":"'T2-B(PP3)'!$E$38","v":0},"#'T2-B(PP3)'!$E$38"]
["pp3_bl3_3_1_rate_out",{"$f":"'T2-B(PP3)'!$H$38","v":0},"#'T2-B(PP3)'!$H$38"]
["pp3_bl3_3_1_total",{"$f":"'T2-B(PP3)'!$J$38","v":0},"#'T2-B(PP3)'!$J$38"]
["pp3_bl3_3_1_total_in",{"$f":"'T2-B(PP3)'!$F$38","v":0},"#'T2-B(PP3)'!$F$38"]
["pp3_bl3_3_1_total_out",{"$f":"'T2-B(PP3)'!$I$38","v":0},"#'T2-B(PP3)'!$I$38"]
["pp3_bl3_3_1_unit",{"$f":"'T2-B(PP3)'!$C$38","v":0},"#'T2-B(PP3)'!$C$38"]
["pp3_bl3_3_1_unit_in",{"$f":"'T2-B(PP3)'!$D$38","v":0},"#'T2-B(PP3)'!$D$38"]
["pp3_bl3_3_1_units_out",{"$f":"'T2-B(PP3)'!$G$38","v":0},"#'T2-B(PP3)'!$G$38"]
["pp3_bl3_3_10_name",{"$f":"'T2-B(PP3)'!$B$47","v":0},"#'T2-B(PP3)'!$B$47"]
["pp3_bl3_3_10_rate_in",{"$f":"'T2-B(PP3)'!$E$47","v":0},"#'T2-B(PP3)'!$E$47"]
["pp3_bl3_3_10_rate_out",{"$f":"'T2-B(PP3)'!$H$47","v":0},"#'T2-B(PP3)'!$H$47"]
["pp3_bl3_3_10_total",{"$f":"'T2-B(PP3)'!$J$47","v":0},"#'T2-B(PP3)'!$J$47"]
["pp3_bl3_3_10_total_in",{"$f":"'T2-B(PP3)'!$F$47","v":0},"#'T2-B(PP3)'!$F$47"]
["pp3_bl3_3_10_total_out",{"$f":"'T2-B(PP3)'!$I$47","v":0},"#'T2-B(PP3)'!$I$47"]
["pp3_bl3_3_10_unit",{"$f":"'T2-B(PP3)'!$C$47","v":0},"#'T2-B(PP3)'!$C$47"]
["pp3_bl3_3_10_unit_in",{"$f":"'T2-B(PP3)'!$D$47","v":0},"#'T2-B(PP3)'!$D$47"]
["pp3_bl3_3_10_units_out",{"$f":"'T2-B(PP3)'!$G$47","v":0},"#'T2-B(PP3)'!$G$47"]
["pp3_bl3_3_2_name",{"$f":"'T2-B(PP3)'!$B$39","v":0},"#'T2-B(PP3)'!$B$39"]
["pp3_bl3_3_2_rate_in",{"$f":"'T2-B(PP3)'!$E$39","v":0},"#'T2-B(PP3)'!$E$39"]
["pp3_bl3_3_2_rate_out",{"$f":"'T2-B(PP3)'!$H$39","v":0},"#'T2-B(PP3)'!$H$39"]
["pp3_bl3_3_2_total",{"$f":"'T2-B(PP3)'!$J$39","v":0},"#'T2-B(PP3)'!$J$39"]
["pp3_bl3_3_2_total_in",{"$f":"'T2-B(PP3)'!$F$39","v":0},"#'T2-B(PP3)'!$F$39"]
["pp3_bl3_3_2_total_out",{"$f":"'T2-B(PP3)'!$I$39","v":0},"#'T2-B(PP3)'!$I$39"]
["pp3_bl3_3_2_unit",{"$f":"'T2-B(PP3)'!$C$39","v":0},"#'T2-B(PP3)'!$C$39"]
["pp3_bl3_3_2_unit_in",{"$f":"'T2-B(PP3)'!$D$39","v":0},"#'T2-B(PP3)'!$D$39"]
["pp3_bl3_3_2_units_out",{"$f":"'T2-B(PP3)'!$G$39","v":0},"#'T2-B(PP3)'!$G$39"]
["pp3_bl3_3_3_name",{"$f":"'T2-B(PP3)'!$B$40","v":0},"#'T2-B(PP3)'!$B$40"]
["pp3_bl3_3_3_rate_in",{"$f":"'T2-B(PP3)'!$E$40","v":0},"#'T2-B(PP3)'!$E$40"]
["pp3_bl3_3_3_rate_out",{"$f":"'T2-B(PP3)'!$H$40","v":0},"#'T2-B(PP3)'!$H$40"]
["pp3_bl3_3_3_total",{"$f":"'T2-B(PP3)'!$J$40","v":0},"#'T2-B(PP3)'!$J$40"]
["pp3_bl3_3_3_total_in",{"$f":"'T2-B(PP3)'!$F$40","v":0},"#'T2-B(PP3)'!$F$40"]
["pp3_bl3_3_3_total_out",{"$f":"'T2-B(PP3)'!$I$40","v":0},"#'T2-B(PP3)'!$I$40"]
["pp3_bl3_3_3_unit",{"$f":"'T2-B(PP3)'!$C$40","v":0},"#'T2-B(PP3)'!$C$40"]
["pp3_bl3_3_3_unit_in",{"$f":"'T2-B(PP3)'!$D$40","v":0},"#'T2-B(PP3)'!$D$40"]
["pp3_bl3_3_3_units_out",{"$f":"'T2-B(PP3)'!$G$40","v":0},"#'T2-B(PP3)'!$G$40"]
["pp3_bl3_3_4_name",{"$f":"'T2-B(PP3)'!$B$41","v":0},"#'T2-B(PP3)'!$B$41"]
["pp3_bl3_3_4_rate_in",{"$f":"'T2-B(PP3)'!$E$41","v":0},"#'T2-B(PP3)'!$E$41"]
["pp3_bl3_3_4_rate_out",{"$f":"'T2-B(PP3)'!$H$41","v":0},"#'T2-B(PP3)'!$H$41"]
["pp3_bl3_3_4_total",{"$f":"'T2-B(PP3)'!$J$41","v":0},"#'T2-B(PP3)'!$J$41"]
["pp3_bl3_3_4_total_in",{"$f":"'T2-B(PP3)'!$F$41","v":0},"#'T2-B(PP3)'!$F$41"]
["pp3_bl3_3_4_total_out",{"$f":"'T2-B(PP3)'!$I$41","v":0},"#'T2-B(PP3)'!$I$41"]
["pp3_bl3_3_4_unit",{"$f":"'T2-B(PP3)'!$C$41","v":0},"#'T2-B(PP3)'!$C$41"]
["pp3_bl3_3_4_unit_in",{"$f":"'T2-B(PP3)'!$D$41","v":0},"#'T2-B(PP3)'!$D$41"]
["pp3_bl3_3_4_units_out",{"$f":"'T2-B(PP3)'!$G$41","v":0},"#'T2-B(PP3)'!$G$41"]
["pp3_bl3_3_5_name",{"$f":"'T2-B(PP3)'!$B$42","v":0},"#'T2-B(PP3)'!$B$42"]
["pp3_bl3_3_5_rate_in",{"$f":"'T2-B(PP3)'!$E$42","v":0},"#'T2-B(PP3)'!$E$42"]
["pp3_bl3_3_5_rate_out",{"$f":"'T2-B(PP3)'!$H$42","v":0},"#'T2-B(PP3)'!$H$42"]
["pp3_bl3_3_5_total",{"$f":"'T2-B(PP3)'!$J$42","v":0},"#'T2-B(PP3)'!$J$42"]
["pp3_bl3_3_5_total_in",{"$f":"'T2-B(PP3)'!$F$42","v":0},"#'T2-B(PP3)'!$F$42"]
["pp3_bl3_3_5_total_out",{"$f":"'T2-B(PP3)'!$I$42","v":0},"#'T2-B(PP3)'!$I$42"]
["pp3_bl3_3_5_unit",{"$f":"'T2-B(PP3)'!$C$42","v":0},"#'T2-B(PP3)'!$C$42"]
["pp3_bl3_3_5_unit_in",{"$f":"'T2-B(PP3)'!$D$42","v":0},"#'T2-B(PP3)'!$D$42"]
["pp3_bl3_3_5_units_out",{"$f":"'T2-B(PP3)'!$G$42","v":0},"#'T2-B(PP3)'!$G$42"]
["pp3_bl3_3_6_name",{"$f":"'T2-B(PP3)'!$B$43","v":0},"#'T2-B(PP3)'!$B$43"]
["pp3_bl3_3_6_rate_in",{"$f":"'T2-B(PP3)'!$E$43","v":0},"#'T2-B(PP3)'!$E$43"]
["pp3_bl3_3_6_rate_out",{"$f":"'T2-B(PP3)'!$H$43","v":0},"#'T2-B(PP3)'!$H$43"]
["pp3_bl3_3_6_total",{"$f":"'T2-B(PP3)'!$J$43","v":0},"#'T2-B(PP3)'!$J$43"]
["pp3_bl3_3_6_total_in",{"$f":"'T2-B(PP3)'!$F$43","v":0},"#'T2-B(PP3)'!$F$43"]
["pp3_bl3_3_6_total_out",{"$f":"'T2-B(PP3)'!$I$43","v":0},"#'T2-B(PP3)'!$I$43"]
["pp3_bl3_3_6_unit",{"$f":"'T2-B(PP3)'!$C$43","v":0},"#'T2-B(PP3)'!$C$43"]
["pp3_bl3_3_6_unit_in",{"$f":"'T2-B(PP3)'!$D$43","v":0},"#'T2-B(PP3)'!$D$43"]
["pp3_bl3_3_6_units_out",{"$f":"'T2-B(PP3)'!$G$43","v":0},"#'T2-B(PP3)'!$G$43"]
["pp3_bl3_3_7_name",{"$f":"'T2-B(PP3)'!$B$44","v":0},"#'T2-B(PP3)'!$B$44"]
["pp3_bl3_3_7_rate_in",{"$f":"'T2-B(PP3)'!$E$44","v":0},"#'T2-B(PP3)'!$E$44"]
["pp3_bl3_3_7_rate_out",{"$f":"'T2-B(PP3)'!$H$44","v":0},"#'T2-B(PP3)'!$H$44"]
["pp3_bl3_3_7_total",{"$f":"'T2-B(PP3)'!$J$44","v":0},"#'T2-B(PP3)'!$J$44"]
["pp3_bl3_3_7_total_in",{"$f":"'T2-B(PP3)'!$F$44","v":0},"#'T2-B(PP3)'!$F$44"]
["pp3_bl3_3_7_total_out",{"$f":"'T2-B(PP3)'!$I$44","v":0},"#'T2-B(PP3)'!$I$44"]
["pp3_bl3_3_7_unit",{"$f":"'T2-B(PP3)'!$C$44","v":0},"#'T2-B(PP3)'!$C$44"]
["pp3_bl3_3_7_unit_in",{"$f":"'T2-B(PP3)'!$D$44","v":0},"#'T2-B(PP3)'!$D$44"]
["pp3_bl3_3_7_units_out",{"$f":"'T2-B(PP3)'!$G$44","v":0},"#'T2-B(PP3)'!$G$44"]
["pp3_bl3_3_8_name",{"$f":"'T2-B(PP3)'!$B$45","v":0},"#'T2-B(PP3)'!$B$45"]
["pp3_bl3_3_8_rate_in",{"$f":"'T2-B(PP3)'!$E$45","v":0},"#'T2-B(PP3)'!$E$45"]
["pp3_bl3_3_8_rate_out",{"$f":"'T2-B(PP3)'!$H$45","v":0},"#'T2-B(PP3)'!$H$45"]
["pp3_bl3_3_8_total",{"$f":"'T2-B(PP3)'!$J$45","v":0},"#'T2-B(PP3)'!$J$45"]
["pp3_bl3_3_8_total_in",{"$f":"'T2-B(PP3)'!$F$45","v":0},"#'T2-B(PP3)'!$F$45"]
["pp3_bl3_3_8_total_out",{"$f":"'T2-B(PP3)'!$I$45","v":0},"#'T2-B(PP3)'!$I$45"]
["pp3_bl3_3_8_unit",{"$f":"'T2-B(PP3)'!$C$45","v":0},"#'T2-B(PP3)'!$C$45"]
["pp3_bl3_3_8_unit_in",{"$f":"'T2-B(PP3)'!$D$45","v":0},"#'T2-B(PP3)'!$D$45"]
["pp3_bl3_3_8_units_out",{"$f":"'T2-B(PP3)'!$G$45","v":0},"#'T2-B(PP3)'!$G$45"]
["pp3_bl3_3_9_name",{"$f":"'T2-B(PP3)'!$B$46","v":0},"#'T2-B(PP3)'!$B$46"]
["pp3_bl3_3_9_rate_in",{"$f":"'T2-B(PP3)'!$E$46","v":0},"#'T2-B(PP3)'!$E$46"]
["pp3_bl3_3_9_rate_out",{"$f":"'T2-B(PP3)'!$H$46","v":0},"#'T2-B(PP3)'!$H$46"]
["pp3_bl3_3_9_total",{"$f":"'T2-B(PP3)'!$J$46","v":0},"#'T2-B(PP3)'!$J$46"]
["pp3_bl3_3_9_total_in",{"$f":"'T2-B(PP3)'!$F$46","v":0},"#'T2-B(PP3)'!$F$46"]
["pp3_bl3_3_9_total_out",{"$f":"'T2-B(PP3)'!$I$46","v":0},"#'T2-B(PP3)'!$I$46"]
["pp3_bl3_3_9_unit",{"$f":"'T2-B(PP3)'!$C$46","v":0},"#'T2-B(PP3)'!$C$46"]
["pp3_bl3_3_9_unit_in",{"$f":"'T2-B(PP3)'!$D$46","v":0},"#'T2-B(PP3)'!$D$46"]
["pp3_bl3_3_9_units_out",{"$f":"'T2-B(PP3)'!$G$46","v":0},"#'T2-B(PP3)'!$G$46"]
["pp3_bl3_3_total",{"$f":"'T2-B(PP3)'!$J$37","v":0},"#'T2-B(PP3)'!$J$37"]
["pp3_bl3_3_total_in",{"$f":"'T2-B(PP3)'!$F$37","v":0},"#'T2-B(PP3)'!$F$37"]
["pp3_bl3_3_total_out",{"$f":"'T2-B(PP3)'!$I$37","v":0},"#'T2-B(PP3)'!$I$37"]
["pp3_bl3_4_1_name",{"$f":"'T2-B(PP3)'!$B$49","v":0},"#'T2-B(PP3)'!$B$49"]
["pp3_bl3_4_1_rate_in",{"$f":"'T2-B(PP3)'!$E$49","v":0},"#'T2-B(PP3)'!$E$49"]
["pp3_bl3_4_1_rate_out",{"$f":"'T2-B(PP3)'!$H$49","v":0},"#'T2-B(PP3)'!$H$49"]
["pp3_bl3_4_1_total",{"$f":"'T2-B(PP3)'!$J$49","v":0},"#'T2-B(PP3)'!$J$49"]
["pp3_bl3_4_1_total_in",{"$f":"'T2-B(PP3)'!$F$49","v":0},"#'T2-B(PP3)'!$F$49"]
["pp3_bl3_4_1_total_out",{"$f":"'T2-B(PP3)'!$I$49","v":0},"#'T2-B(PP3)'!$I$49"]
["pp3_bl3_4_1_unit",{"$f":"'T2-B(PP3)'!$C$49","v":0},"#'T2-B(PP3)'!$C$49"]
["pp3_bl3_4_1_unit_in",{"$f":"'T2-B(PP3)'!$D$49","v":0},"#'T2-B(PP3)'!$D$49"]
["pp3_bl3_4_1_units_out",{"$f":"'T2-B(PP3)'!$G$49","v":0},"#'T2-B(PP3)'!$G$49"]
["pp3_bl3_4_10_name",{"$f":"'T2-B(PP3)'!$B$58","v":0},"#'T2-B(PP3)'!$B$58"]
["pp3_bl3_4_10_rate_in",{"$f":"'T2-B(PP3)'!$E$58","v":0},"#'T2-B(PP3)'!$E$58"]
["pp3_bl3_4_10_rate_out",{"$f":"'T2-B(PP3)'!$H$58","v":0},"#'T2-B(PP3)'!$H$58"]
["pp3_bl3_4_10_total",{"$f":"'T2-B(PP3)'!$J$58","v":0},"#'T2-B(PP3)'!$J$58"]
["pp3_bl3_4_10_total_in",{"$f":"'T2-B(PP3)'!$F$58","v":0},"#'T2-B(PP3)'!$F$58"]
["pp3_bl3_4_10_total_out",{"$f":"'T2-B(PP3)'!$I$58","v":0},"#'T2-B(PP3)'!$I$58"]
["pp3_bl3_4_10_unit",{"$f":"'T2-B(PP3)'!$C$58","v":0},"#'T2-B(PP3)'!$C$58"]
["pp3_bl3_4_10_unit_in",{"$f":"'T2-B(PP3)'!$D$58","v":0},"#'T2-B(PP3)'!$D$58"]
["pp3_bl3_4_10_units_out",{"$f":"'T2-B(PP3)'!$G$58","v":0},"#'T2-B(PP3)'!$G$58"]
["pp3_bl3_4_2_name",{"$f":"'T2-B(PP3)'!$B$50","v":0},"#'T2-B(PP3)'!$B$50"]
["pp3_bl3_4_2_rate_in",{"$f":"'T2-B(PP3)'!$E$50","v":0},"#'T2-B(PP3)'!$E$50"]
["pp3_bl3_4_2_rate_out",{"$f":"'T2-B(PP3)'!$H$50","v":0},"#'T2-B(PP3)'!$H$50"]
["pp3_bl3_4_2_total",{"$f":"'T2-B(PP3)'!$J$50","v":0},"#'T2-B(PP3)'!$J$50"]
["pp3_bl3_4_2_total_in",{"$f":"'T2-B(PP3)'!$F$50","v":0},"#'T2-B(PP3)'!$F$50"]
["pp3_bl3_4_2_total_out",{"$f":"'T2-B(PP3)'!$I$50","v":0},"#'T2-B(PP3)'!$I$50"]
["pp3_bl3_4_2_unit",{"$f":"'T2-B(PP3)'!$C$50","v":0},"#'T2-B(PP3)'!$C$50"]
["pp3_bl3_4_2_unit_in",{"$f":"'T2-B(PP3)'!$D$50","v":0},"#'T2-B(PP3)'!$D$50"]
["pp3_bl3_4_2_units_out",{"$f":"'T2-B(PP3)'!$G$50","v":0},"#'T2-B(PP3)'!$G$50"]
["pp3_bl3_4_3_name",{"$f":"'T2-B(PP3)'!$B$51","v":0},"#'T2-B(PP3)'!$B$51"]
["pp3_bl3_4_3_rate_in",{"$f":"'T2-B(PP3)'!$E$51","v":0},"#'T2-B(PP3)'!$E$51"]
["pp3_bl3_4_3_rate_out",{"$f":"'T2-B(PP3)'!$H$51","v":0},"#'T2-B(PP3)'!$H$51"]
["pp3_bl3_4_3_total",{"$f":"'T2-B(PP3)'!$J$51","v":0},"#'T2-B(PP3)'!$J$51"]
["pp3_bl3_4_3_total_in",{"$f":"'T2-B(PP3)'!$F$51","v":0},"#'T2-B(PP3)'!$F$51"]
["pp3_bl3_4_3_total_out",{"$f":"'T2-B(PP3)'!$I$51","v":0},"#'T2-B(PP3)'!$I$51"]
["pp3_bl3_4_3_unit",{"$f":"'T2-B(PP3)'!$C$51","v":0},"#'T2-B(PP3)'!$C$51"]
["pp3_bl3_4_3_unit_in",{"$f":"'T2-B(PP3)'!$D$51","v":0},"#'T2-B(PP3)'!$D$51"]
["pp3_bl3_4_3_units_out",{"$f":"'T2-B(PP3)'!$G$51","v":0},"#'T2-B(PP3)'!$G$51"]
["pp3_bl3_4_4_name",{"$f":"'T2-B(PP3)'!$B$52","v":0},"#'T2-B(PP3)'!$B$52"]
["pp3_bl3_4_4_rate_in",{"$f":"'T2-B(PP3)'!$E$52","v":0},"#'T2-B(PP3)'!$E$52"]
["pp3_bl3_4_4_rate_out",{"$f":"'T2-B(PP3)'!$H$52","v":0},"#'T2-B(PP3)'!$H$52"]
["pp3_bl3_4_4_total",{"$f":"'T2-B(PP3)'!$J$52","v":0},"#'T2-B(PP3)'!$J$52"]
["pp3_bl3_4_4_total_in",{"$f":"'T2-B(PP3)'!$F$52","v":0},"#'T2-B(PP3)'!$F$52"]
["pp3_bl3_4_4_total_out",{"$f":"'T2-B(PP3)'!$I$52","v":0},"#'T2-B(PP3)'!$I$52"]
["pp3_bl3_4_4_unit",{"$f":"'T2-B(PP3)'!$C$52","v":0},"#'T2-B(PP3)'!$C$52"]
["pp3_bl3_4_4_unit_in",{"$f":"'T2-B(PP3)'!$D$52","v":0},"#'T2-B(PP3)'!$D$52"]
["pp3_bl3_4_4_units_out",{"$f":"'T2-B(PP3)'!$G$52","v":0},"#'T2-B(PP3)'!$G$52"]
["pp3_bl3_4_5_name",{"$f":"'T2-B(PP3)'!$B$53","v":0},"#'T2-B(PP3)'!$B$53"]
["pp3_bl3_4_5_rate_in",{"$f":"'T2-B(PP3)'!$E$53","v":0},"#'T2-B(PP3)'!$E$53"]
["pp3_bl3_4_5_rate_out",{"$f":"'T2-B(PP3)'!$H$53","v":0},"#'T2-B(PP3)'!$H$53"]
["pp3_bl3_4_5_total",{"$f":"'T2-B(PP3)'!$J$53","v":0},"#'T2-B(PP3)'!$J$53"]
["pp3_bl3_4_5_total_in",{"$f":"'T2-B(PP3)'!$F$53","v":0},"#'T2-B(PP3)'!$F$53"]
["pp3_bl3_4_5_total_out",{"$f":"'T2-B(PP3)'!$I$53","v":0},"#'T2-B(PP3)'!$I$53"]
["pp3_bl3_4_5_unit",{"$f":"'T2-B(PP3)'!$C$53","v":0},"#'T2-B(PP3)'!$C$53"]
["pp3_bl3_4_5_unit_in",{"$f":"'T2-B(PP3)'!$D$53","v":0},"#'T2-B(PP3)'!$D$53"]
["pp3_bl3_4_5_units_out",{"$f":"'T2-B(PP3)'!$G$53","v":0},"#'T2-B(PP3)'!$G$53"]
["pp3_bl3_4_6_name",{"$f":"'T2-B(PP3)'!$B$54","v":0},"#'T2-B(PP3)'!$B$54"]
["pp3_bl3_4_6_rate_in",{"$f":"'T2-B(PP3)'!$E$54","v":0},"#'T2-B(PP3)'!$E$54"]
["pp3_bl3_4_6_rate_out",{"$f":"'T2-B(PP3)'!$H$54","v":0},"#'T2-B(PP3)'!$H$54"]
["pp3_bl3_4_6_total",{"$f":"'T2-B(PP3)'!$J$54","v":0},"#'T2-B(PP3)'!$J$54"]
["pp3_bl3_4_6_total_in",{"$f":"'T2-B(PP3)'!$F$54","v":0},"#'T2-B(PP3)'!$F$54"]
["pp3_bl3_4_6_total_out",{"$f":"'T2-B(PP3)'!$I$54","v":0},"#'T2-B(PP3)'!$I$54"]
["pp3_bl3_4_6_unit",{"$f":"'T2-B(PP3)'!$C$54","v":0},"#'T2-B(PP3)'!$C$54"]
["pp3_bl3_4_6_unit_in",{"$f":"'T2-B(PP3)'!$D$54","v":0},"#'T2-B(PP3)'!$D$54"]
["pp3_bl3_4_6_units_out",{"$f":"'T2-B(PP3)'!$G$54","v":0},"#'T2-B(PP3)'!$G$54"]
["pp3_bl3_4_7_name",{"$f":"'T2-B(PP3)'!$B$55","v":0},"#'T2-B(PP3)'!$B$55"]
["pp3_bl3_4_7_rate_in",{"$f":"'T2-B(PP3)'!$E$55","v":0},"#'T2-B(PP3)'!$E$55"]
["pp3_bl3_4_7_rate_out",{"$f":"'T2-B(PP3)'!$H$55","v":0},"#'T2-B(PP3)'!$H$55"]
["pp3_bl3_4_7_total",{"$f":"'T2-B(PP3)'!$J$55","v":0},"#'T2-B(PP3)'!$J$55"]
["pp3_bl3_4_7_total_in",{"$f":"'T2-B(PP3)'!$F$55","v":0},"#'T2-B(PP3)'!$F$55"]
["pp3_bl3_4_7_total_out",{"$f":"'T2-B(PP3)'!$I$55","v":0},"#'T2-B(PP3)'!$I$55"]
["pp3_bl3_4_7_unit",{"$f":"'T2-B(PP3)'!$C$55","v":0},"#'T2-B(PP3)'!$C$55"]
["pp3_bl3_4_7_unit_in",{"$f":"'T2-B(PP3)'!$D$55","v":0},"#'T2-B(PP3)'!$D$55"]
["pp3_bl3_4_7_units_out",{"$f":"'T2-B(PP3)'!$G$55","v":0},"#'T2-B(PP3)'!$G$55"]
["pp3_bl3_4_8_name",{"$f":"'T2-B(PP3)'!$B$56","v":0},"#'T2-B(PP3)'!$B$56"]
["pp3_bl3_4_8_rate_in",{"$f":"'T2-B(PP3)'!$E$56","v":0},"#'T2-B(PP3)'!$E$56"]
["pp3_bl3_4_8_rate_out",{"$f":"'T2-B(PP3)'!$H$56","v":0},"#'T2-B(PP3)'!$H$56"]
["pp3_bl3_4_8_total",{"$f":"'T2-B(PP3)'!$J$56","v":0},"#'T2-B(PP3)'!$J$56"]
["pp3_bl3_4_8_total_in",{"$f":"'T2-B(PP3)'!$F$56","v":0},"#'T2-B(PP3)'!$F$56"]
["pp3_bl3_4_8_total_out",{"$f":"'T2-B(PP3)'!$I$56","v":0},"#'T2-B(PP3)'!$I$56"]
["pp3_bl3_4_8_unit",{"$f":"'T2-B(PP3)'!$C$56","v":0},"#'T2-B(PP3)'!$C$56"]
["pp3_bl3_4_8_unit_in",{"$f":"'T2-B(PP3)'!$D$56","v":0},"#'T2-B(PP3)'!$D$56"]
["pp3_bl3_4_8_units_out",{"$f":"'T2-B(PP3)'!$G$56","v":0},"#'T2-B(PP3)'!$G$56"]
["pp3_bl3_4_9_name",{"$f":"'T2-B(PP3)'!$B$57","v":0},"#'T2-B(PP3)'!$B$57"]
["pp3_bl3_4_9_rate_in",{"$f":"'T2-B(PP3)'!$E$57","v":0},"#'T2-B(PP3)'!$E$57"]
["pp3_bl3_4_9_rate_out",{"$f":"'T2-B(PP3)'!$H$57","v":0},"#'T2-B(PP3)'!$H$57"]
["pp3_bl3_4_9_total",{"$f":"'T2-B(PP3)'!$J$57","v":0},"#'T2-B(PP3)'!$J$57"]
["pp3_bl3_4_9_total_in",{"$f":"'T2-B(PP3)'!$F$57","v":0},"#'T2-B(PP3)'!$F$57"]
["pp3_bl3_4_9_total_out",{"$f":"'T2-B(PP3)'!$I$57","v":0},"#'T2-B(PP3)'!$I$57"]
["pp3_bl3_4_9_unit",{"$f":"'T2-B(PP3)'!$C$57","v":0},"#'T2-B(PP3)'!$C$57"]
["pp3_bl3_4_9_unit_in",{"$f":"'T2-B(PP3)'!$D$57","v":0},"#'T2-B(PP3)'!$D$57"]
["pp3_bl3_4_9_units_out",{"$f":"'T2-B(PP3)'!$G$57","v":0},"#'T2-B(PP3)'!$G$57"]
["pp3_bl3_4_total",{"$f":"'T2-B(PP3)'!$J$48","v":0},"#'T2-B(PP3)'!$J$48"]
["pp3_bl3_4_total_in",{"$f":"'T2-B(PP3)'!$F$48","v":0},"#'T2-B(PP3)'!$F$48"]
["pp3_bl3_4_total_out",{"$f":"'T2-B(PP3)'!$I$48","v":0},"#'T2-B(PP3)'!$I$48"]
["pp3_bl3_total",{"$f":"'T2-B(PP3)'!$J$59","v":0},"#'T2-B(PP3)'!$J$59"]
["pp3_bl3_total_in",{"$f":"'T2-B(PP3)'!$F$59","v":0},"#'T2-B(PP3)'!$F$59"]
["pp3_bl3_total_out",{"$f":"'T2-B(PP3)'!$I$59","v":0},"#'T2-B(PP3)'!$I$59"]
["pp3_bl4_1_1_name",{"$f":"'T2-B(PP3)'!$B$64","v":0},"#'T2-B(PP3)'!$B$64"]
["pp3_bl4_1_1_rate_in",{"$f":"'T2-B(PP3)'!$E$64","v":0},"#'T2-B(PP3)'!$E$64"]
["pp3_bl4_1_1_rate_out",{"$f":"'T2-B(PP3)'!$H$64","v":0},"#'T2-B(PP3)'!$H$64"]
["pp3_bl4_1_1_total",{"$f":"'T2-B(PP3)'!$J$64","v":0},"#'T2-B(PP3)'!$J$64"]
["pp3_bl4_1_1_total_in",{"$f":"'T2-B(PP3)'!$F$64","v":0},"#'T2-B(PP3)'!$F$64"]
["pp3_bl4_1_1_total_out",{"$f":"'T2-B(PP3)'!$I$64","v":0},"#'T2-B(PP3)'!$I$64"]
["pp3_bl4_1_1_unit",{"$f":"'T2-B(PP3)'!$C$64","v":0},"#'T2-B(PP3)'!$C$64"]
["pp3_bl4_1_1_unit_in",{"$f":"'T2-B(PP3)'!$D$64","v":0},"#'T2-B(PP3)'!$D$64"]
["pp3_bl4_1_1_units_out",{"$f":"'T2-B(PP3)'!$G$64","v":0},"#'T2-B(PP3)'!$G$64"]
["pp3_bl4_1_10_name",{"$f":"'T2-B(PP3)'!$B$73","v":0},"#'T2-B(PP3)'!$B$73"]
["pp3_bl4_1_10_rate_in",{"$f":"'T2-B(PP3)'!$E$73","v":0},"#'T2-B(PP3)'!$E$73"]
["pp3_bl4_1_10_rate_out",{"$f":"'T2-B(PP3)'!$H$73","v":0},"#'T2-B(PP3)'!$H$73"]
["pp3_bl4_1_10_total",{"$f":"'T2-B(PP3)'!$J$73","v":0},"#'T2-B(PP3)'!$J$73"]
["pp3_bl4_1_10_total_in",{"$f":"'T2-B(PP3)'!$F$73","v":0},"#'T2-B(PP3)'!$F$73"]
["pp3_bl4_1_10_total_out",{"$f":"'T2-B(PP3)'!$I$73","v":0},"#'T2-B(PP3)'!$I$73"]
["pp3_bl4_1_10_unit",{"$f":"'T2-B(PP3)'!$C$73","v":0},"#'T2-B(PP3)'!$C$73"]
["pp3_bl4_1_10_unit_in",{"$f":"'T2-B(PP3)'!$D$73","v":0},"#'T2-B(PP3)'!$D$73"]
["pp3_bl4_1_10_units_out",{"$f":"'T2-B(PP3)'!$G$73","v":0},"#'T2-B(PP3)'!$G$73"]
["pp3_bl4_1_2_name",{"$f":"'T2-B(PP3)'!$B$65","v":0},"#'T2-B(PP3)'!$B$65"]
["pp3_bl4_1_2_rate_in",{"$f":"'T2-B(PP3)'!$E$65","v":0},"#'T2-B(PP3)'!$E$65"]
["pp3_bl4_1_2_rate_out",{"$f":"'T2-B(PP3)'!$H$65","v":0},"#'T2-B(PP3)'!$H$65"]
["pp3_bl4_1_2_total",{"$f":"'T2-B(PP3)'!$J$65","v":0},"#'T2-B(PP3)'!$J$65"]
["pp3_bl4_1_2_total_in",{"$f":"'T2-B(PP3)'!$F$65","v":0},"#'T2-B(PP3)'!$F$65"]
["pp3_bl4_1_2_total_out",{"$f":"'T2-B(PP3)'!$I$65","v":0},"#'T2-B(PP3)'!$I$65"]
["pp3_bl4_1_2_unit",{"$f":"'T2-B(PP3)'!$C$65","v":0},"#'T2-B(PP3)'!$C$65"]
["pp3_bl4_1_2_unit_in",{"$f":"'T2-B(PP3)'!$D$65","v":0},"#'T2-B(PP3)'!$D$65"]
["pp3_bl4_1_2_units_out",{"$f":"'T2-B(PP3)'!$G$65","v":0},"#'T2-B(PP3)'!$G$65"]
["pp3_bl4_1_3_name",{"$f":"'T2-B(PP3)'!$B$66","v":0},"#'T2-B(PP3)'!$B$66"]
["pp3_bl4_1_3_rate_in",{"$f":"'T2-B(PP3)'!$E$66","v":0},"#'T2-B(PP3)'!$E$66"]
["pp3_bl4_1_3_rate_out",{"$f":"'T2-B(PP3)'!$H$66","v":0},"#'T2-B(PP3)'!$H$66"]
["pp3_bl4_1_3_total",{"$f":"'T2-B(PP3)'!$J$66","v":0},"#'T2-B(PP3)'!$J$66"]
["pp3_bl4_1_3_total_in",{"$f":"'T2-B(PP3)'!$F$66","v":0},"#'T2-B(PP3)'!$F$66"]
["pp3_bl4_1_3_total_out",{"$f":"'T2-B(PP3)'!$I$66","v":0},"#'T2-B(PP3)'!$I$66"]
["pp3_bl4_1_3_unit",{"$f":"'T2-B(PP3)'!$C$66","v":0},"#'T2-B(PP3)'!$C$66"]
["pp3_bl4_1_3_unit_in",{"$f":"'T2-B(PP3)'!$D$66","v":0},"#'T2-B(PP3)'!$D$66"]
["pp3_bl4_1_3_units_out",{"$f":"'T2-B(PP3)'!$G$66","v":0},"#'T2-B(PP3)'!$G$66"]
["pp3_bl4_1_4_name",{"$f":"'T2-B(PP3)'!$B$67","v":0},"#'T2-B(PP3)'!$B$67"]
["pp3_bl4_1_4_rate_in",{"$f":"'T2-B(PP3)'!$E$67","v":0},"#'T2-B(PP3)'!$E$67"]
["pp3_bl4_1_4_rate_out",{"$f":"'T2-B(PP3)'!$H$67","v":0},"#'T2-B(PP3)'!$H$67"]
["pp3_bl4_1_4_total",{"$f":"'T2-B(PP3)'!$J$67","v":0},"#'T2-B(PP3)'!$J$67"]
["pp3_bl4_1_4_total_in",{"$f":"'T2-B(PP3)'!$F$67","v":0},"#'T2-B(PP3)'!$F$67"]
["pp3_bl4_1_4_total_out",{"$f":"'T2-B(PP3)'!$I$67","v":0},"#'T2-B(PP3)'!$I$67"]
["pp3_bl4_1_4_unit",{"$f":"'T2-B(PP3)'!$C$67","v":0},"#'T2-B(PP3)'!$C$67"]
["pp3_bl4_1_4_unit_in",{"$f":"'T2-B(PP3)'!$D$67","v":0},"#'T2-B(PP3)'!$D$67"]
["pp3_bl4_1_4_units_out",{"$f":"'T2-B(PP3)'!$G$67","v":0},"#'T2-B(PP3)'!$G$67"]
["pp3_bl4_1_5_name",{"$f":"'T2-B(PP3)'!$B$68","v":0},"#'T2-B(PP3)'!$B$68"]
["pp3_bl4_1_5_rate_in",{"$f":"'T2-B(PP3)'!$E$68","v":0},"#'T2-B(PP3)'!$E$68"]
["pp3_bl4_1_5_rate_out",{"$f":"'T2-B(PP3)'!$H$68","v":0},"#'T2-B(PP3)'!$H$68"]
["pp3_bl4_1_5_total",{"$f":"'T2-B(PP3)'!$J$68","v":0},"#'T2-B(PP3)'!$J$68"]
["pp3_bl4_1_5_total_in",{"$f":"'T2-B(PP3)'!$F$68","v":0},"#'T2-B(PP3)'!$F$68"]
["pp3_bl4_1_5_total_out",{"$f":"'T2-B(PP3)'!$I$68","v":0},"#'T2-B(PP3)'!$I$68"]
["pp3_bl4_1_5_unit",{"$f":"'T2-B(PP3)'!$C$68","v":0},"#'T2-B(PP3)'!$C$68"]
["pp3_bl4_1_5_unit_in",{"$f":"'T2-B(PP3)'!$D$68","v":0},"#'T2-B(PP3)'!$D$68"]
["pp3_bl4_1_5_units_out",{"$f":"'T2-B(PP3)'!$G$68","v":0},"#'T2-B(PP3)'!$G$68"]
["pp3_bl4_1_6_name",{"$f":"'T2-B(PP3)'!$B$69","v":0},"#'T2-B(PP3)'!$B$69"]
["pp3_bl4_1_6_rate_in",{"$f":"'T2-B(PP3)'!$E$69","v":0},"#'T2-B(PP3)'!$E$69"]
["pp3_bl4_1_6_rate_out",{"$f":"'T2-B(PP3)'!$H$69","v":0},"#'T2-B(PP3)'!$H$69"]
["pp3_bl4_1_6_total",{"$f":"'T2-B(PP3)'!$J$69","v":0},"#'T2-B(PP3)'!$J$69"]
["pp3_bl4_1_6_total_in",{"$f":"'T2-B(PP3)'!$F$69","v":0},"#'T2-B(PP3)'!$F$69"]
["pp3_bl4_1_6_total_out",{"$f":"'T2-B(PP3)'!$I$69","v":0},"#'T2-B(PP3)'!$I$69"]
["pp3_bl4_1_6_unit",{"$f":"'T2-B(PP3)'!$C$69","v":0},"#'T2-B(PP3)'!$C$69"]
["pp3_bl4_1_6_unit_in",{"$f":"'T2-B(PP3)'!$D$69","v":0},"#'T2-B(PP3)'!$D$69"]
["pp3_bl4_1_6_units_out",{"$f":"'T2-B(PP3)'!$G$69","v":0},"#'T2-B(PP3)'!$G$69"]
["pp3_bl4_1_7_name",{"$f":"'T2-B(PP3)'!$B$70","v":0},"#'T2-B(PP3)'!$B$70"]
["pp3_bl4_1_7_rate_in",{"$f":"'T2-B(PP3)'!$E$70","v":0},"#'T2-B(PP3)'!$E$70"]
["pp3_bl4_1_7_rate_out",{"$f":"'T2-B(PP3)'!$H$70","v":0},"#'T2-B(PP3)'!$H$70"]
["pp3_bl4_1_7_total",{"$f":"'T2-B(PP3)'!$J$70","v":0},"#'T2-B(PP3)'!$J$70"]
["pp3_bl4_1_7_total_in",{"$f":"'T2-B(PP3)'!$F$70","v":0},"#'T2-B(PP3)'!$F$70"]
["pp3_bl4_1_7_total_out",{"$f":"'T2-B(PP3)'!$I$70","v":0},"#'T2-B(PP3)'!$I$70"]
["pp3_bl4_1_7_unit",{"$f":"'T2-B(PP3)'!$C$70","v":0},"#'T2-B(PP3)'!$C$70"]
["pp3_bl4_1_7_unit_in",{"$f":"'T2-B(PP3)'!$D$70","v":0},"#'T2-B(PP3)'!$D$70"]
["pp3_bl4_1_7_units_out",{"$f":"'T2-B(PP3)'!$G$70","v":0},"#'T2-B(PP3)'!$G$70"]
["pp3_bl4_1_8_name",{"$f":"'T2-B(PP3)'!$B$71","v":0},"#'T2-B(PP3)'!$B$71"]
["pp3_bl4_1_8_rate_in",{"$f":"'T2-B(PP3)'!$E$71","v":0},"#'T2-B(PP3)'!$E$71"]
["pp3_bl4_1_8_rate_out",{"$f":"'T2-B(PP3)'!$H$71","v":0},"#'T2-B(PP3)'!$H$71"]
["pp3_bl4_1_8_total",{"$f":"'T2-B(PP3)'!$J$71","v":0},"#'T2-B(PP3)'!$J$71"]
["pp3_bl4_1_8_total_in",{"$f":"'T2-B(PP3)'!$F$71","v":0},"#'T2-B(PP3)'!$F$71"]
["pp3_bl4_1_8_total_out",{"$f":"'T2-B(PP3)'!$I$71","v":0},"#'T2-B(PP3)'!$I$71"]
["pp3_bl4_1_8_unit",{"$f":"'T2-B(PP3)'!$C$71","v":0},"#'T2-B(PP3)'!$C$71"]
["pp3_bl4_1_8_unit_in",{"$f":"'T2-B(PP3)'!$D$71","v":0},"#'T2-B(PP3)'!$D$71"]
["pp3_bl4_1_8_units_out",{"$f":"'T2-B(PP3)'!$G$71","v":0},"#'T2-B(PP3)'!$G$71"]
["pp3_bl4_1_9_name",{"$f":"'T2-B(PP3)'!$B$72","v":0},"#'T2-B(PP3)'!$B$72"]
["pp3_bl4_1_9_rate_in",{"$f":"'T2-B(PP3)'!$E$72","v":0},"#'T2-B(PP3)'!$E$72"]
["pp3_bl4_1_9_rate_out",{"$f":"'T2-B(PP3)'!$H$72","v":0},"#'T2-B(PP3)'!$H$72"]
["pp3_bl4_1_9_total",{"$f":"'T2-B(PP3)'!$J$72","v":0},"#'T2-B(PP3)'!$J$72"]
["pp3_bl4_1_9_total_in",{"$f":"'T2-B(PP3)'!$F$72","v":0},"#'T2-B(PP3)'!$F$72"]
["pp3_bl4_1_9_total_out",{"$f":"'T2-B(PP3)'!$I$72","v":0},"#'T2-B(PP3)'!$I$72"]
["pp3_bl4_1_9_unit",{"$f":"'T2-B(PP3)'!$C$72","v":0},"#'T2-B(PP3)'!$C$72"]
["pp3_bl4_1_9_unit_in",{"$f":"'T2-B(PP3)'!$D$72","v":0},"#'T2-B(PP3)'!$D$72"]
["pp3_bl4_1_9_units_out",{"$f":"'T2-B(PP3)'!$G$72","v":0},"#'T2-B(PP3)'!$G$72"]
["pp3_bl4_1_total",{"$f":"'T2-B(PP3)'!$J$63","v":0},"#'T2-B(PP3)'!$J$63"]
["pp3_bl4_1_total_in",{"$f":"'T2-B(PP3)'!$F$63","v":0},"#'T2-B(PP3)'!$F$63"]
["pp3_bl4_1_total_out",{"$f":"'T2-B(PP3)'!$I$63","v":0},"#'T2-B(PP3)'!$I$63"]
["pp3_bl4_10_1_name",{"$f":"'T2-B(PP3)'!$B$163","v":0},"#'T2-B(PP3)'!$B$163"]
["pp3_bl4_10_1_rate_in",{"$f":"'T2-B(PP3)'!$E$163","v":0},"#'T2-B(PP3)'!$E$163"]
["pp3_bl4_10_1_rate_out",{"$f":"'T2-B(PP3)'!$H$163","v":0},"#'T2-B(PP3)'!$H$163"]
["pp3_bl4_10_1_total",{"$f":"'T2-B(PP3)'!$J$163","v":0},"#'T2-B(PP3)'!$J$163"]
["pp3_bl4_10_1_total_in",{"$f":"'T2-B(PP3)'!$F$163","v":0},"#'T2-B(PP3)'!$F$163"]
["pp3_bl4_10_1_total_out",{"$f":"'T2-B(PP3)'!$I$163","v":0},"#'T2-B(PP3)'!$I$163"]
["pp3_bl4_10_1_unit",{"$f":"'T2-B(PP3)'!$C$163","v":0},"#'T2-B(PP3)'!$C$163"]
["pp3_bl4_10_1_unit_in",{"$f":"'T2-B(PP3)'!$D$163","v":0},"#'T2-B(PP3)'!$D$163"]
["pp3_bl4_10_1_units_out",{"$f":"'T2-B(PP3)'!$G$163","v":0},"#'T2-B(PP3)'!$G$163"]
["pp3_bl4_10_10_name",{"$f":"'T2-B(PP3)'!$B$172","v":0},"#'T2-B(PP3)'!$B$172"]
["pp3_bl4_10_10_rate_in",{"$f":"'T2-B(PP3)'!$E$172","v":0},"#'T2-B(PP3)'!$E$172"]
["pp3_bl4_10_10_rate_out",{"$f":"'T2-B(PP3)'!$H$172","v":0},"#'T2-B(PP3)'!$H$172"]
["pp3_bl4_10_10_total",{"$f":"'T2-B(PP3)'!$J$172","v":0},"#'T2-B(PP3)'!$J$172"]
["pp3_bl4_10_10_total_in",{"$f":"'T2-B(PP3)'!$F$172","v":0},"#'T2-B(PP3)'!$F$172"]
["pp3_bl4_10_10_total_out",{"$f":"'T2-B(PP3)'!$I$172","v":0},"#'T2-B(PP3)'!$I$172"]
["pp3_bl4_10_10_unit",{"$f":"'T2-B(PP3)'!$C$172","v":0},"#'T2-B(PP3)'!$C$172"]
["pp3_bl4_10_10_unit_in",{"$f":"'T2-B(PP3)'!$D$172","v":0},"#'T2-B(PP3)'!$D$172"]
["pp3_bl4_10_10_units_out",{"$f":"'T2-B(PP3)'!$G$172","v":0},"#'T2-B(PP3)'!$G$172"]
["pp3_bl4_10_2_name",{"$f":"'T2-B(PP3)'!$B$164","v":0},"#'T2-B(PP3)'!$B$164"]
["pp3_bl4_10_2_rate_in",{"$f":"'T2-B(PP3)'!$E$164","v":0},"#'T2-B(PP3)'!$E$164"]
["pp3_bl4_10_2_rate_out",{"$f":"'T2-B(PP3)'!$H$164","v":0},"#'T2-B(PP3)'!$H$164"]
["pp3_bl4_10_2_total",{"$f":"'T2-B(PP3)'!$J$164","v":0},"#'T2-B(PP3)'!$J$164"]
["pp3_bl4_10_2_total_in",{"$f":"'T2-B(PP3)'!$F$164","v":0},"#'T2-B(PP3)'!$F$164"]
["pp3_bl4_10_2_total_out",{"$f":"'T2-B(PP3)'!$I$164","v":0},"#'T2-B(PP3)'!$I$164"]
["pp3_bl4_10_2_unit",{"$f":"'T2-B(PP3)'!$C$164","v":0},"#'T2-B(PP3)'!$C$164"]
["pp3_bl4_10_2_unit_in",{"$f":"'T2-B(PP3)'!$D$164","v":0},"#'T2-B(PP3)'!$D$164"]
["pp3_bl4_10_2_units_out",{"$f":"'T2-B(PP3)'!$G$164","v":0},"#'T2-B(PP3)'!$G$164"]
["pp3_bl4_10_3_name",{"$f":"'T2-B(PP3)'!$B$165","v":0},"#'T2-B(PP3)'!$B$165"]
["pp3_bl4_10_3_rate_in",{"$f":"'T2-B(PP3)'!$E$165","v":0},"#'T2-B(PP3)'!$E$165"]
["pp3_bl4_10_3_rate_out",{"$f":"'T2-B(PP3)'!$H$165","v":0},"#'T2-B(PP3)'!$H$165"]
["pp3_bl4_10_3_total",{"$f":"'T2-B(PP3)'!$J$165","v":0},"#'T2-B(PP3)'!$J$165"]
["pp3_bl4_10_3_total_in",{"$f":"'T2-B(PP3)'!$F$165","v":0},"#'T2-B(PP3)'!$F$165"]
["pp3_bl4_10_3_total_out",{"$f":"'T2-B(PP3)'!$I$165","v":0},"#'T2-B(PP3)'!$I$165"]
["pp3_bl4_10_3_unit",{"$f":"'T2-B(PP3)'!$C$165","v":0},"#'T2-B(PP3)'!$C$165"]
["pp3_bl4_10_3_unit_in",{"$f":"'T2-B(PP3)'!$D$165","v":0},"#'T2-B(PP3)'!$D$165"]
["pp3_bl4_10_3_units_out",{"$f":"'T2-B(PP3)'!$G$165","v":0},"#'T2-B(PP3)'!$G$165"]
["pp3_bl4_10_4_name",{"$f":"'T2-B(PP3)'!$B$166","v":0},"#'T2-B(PP3)'!$B$166"]
["pp3_bl4_10_4_rate_in",{"$f":"'T2-B(PP3)'!$E$166","v":0},"#'T2-B(PP3)'!$E$166"]
["pp3_bl4_10_4_rate_out",{"$f":"'T2-B(PP3)'!$H$166","v":0},"#'T2-B(PP3)'!$H$166"]
["pp3_bl4_10_4_total",{"$f":"'T2-B(PP3)'!$J$166","v":0},"#'T2-B(PP3)'!$J$166"]
["pp3_bl4_10_4_total_in",{"$f":"'T2-B(PP3)'!$F$166","v":0},"#'T2-B(PP3)'!$F$166"]
["pp3_bl4_10_4_total_out",{"$f":"'T2-B(PP3)'!$I$166","v":0},"#'T2-B(PP3)'!$I$166"]
["pp3_bl4_10_4_unit",{"$f":"'T2-B(PP3)'!$C$166","v":0},"#'T2-B(PP3)'!$C$166"]
["pp3_bl4_10_4_unit_in",{"$f":"'T2-B(PP3)'!$D$166","v":0},"#'T2-B(PP3)'!$D$166"]
["pp3_bl4_10_4_units_out",{"$f":"'T2-B(PP3)'!$G$166","v":0},"#'T2-B(PP3)'!$G$166"]
["pp3_bl4_10_5_name",{"$f":"'T2-B(PP3)'!$B$167","v":0},"#'T2-B(PP3)'!$B$167"]
["pp3_bl4_10_5_rate_in",{"$f":"'T2-B(PP3)'!$E$167","v":0},"#'T2-B(PP3)'!$E$167"]
["pp3_bl4_10_5_rate_out",{"$f":"'T2-B(PP3)'!$H$167","v":0},"#'T2-B(PP3)'!$H$167"]
["pp3_bl4_10_5_total",{"$f":"'T2-B(PP3)'!$J$167","v":0},"#'T2-B(PP3)'!$J$167"]
["pp3_bl4_10_5_total_in",{"$f":"'T2-B(PP3)'!$F$167","v":0},"#'T2-B(PP3)'!$F$167"]
["pp3_bl4_10_5_total_out",{"$f":"'T2-B(PP3)'!$I$167","v":0},"#'T2-B(PP3)'!$I$167"]
["pp3_bl4_10_5_unit",{"$f":"'T2-B(PP3)'!$C$167","v":0},"#'T2-B(PP3)'!$C$167"]
["pp3_bl4_10_5_unit_in",{"$f":"'T2-B(PP3)'!$D$167","v":0},"#'T2-B(PP3)'!$D$167"]
["pp3_bl4_10_5_units_out",{"$f":"'T2-B(PP3)'!$G$167","v":0},"#'T2-B(PP3)'!$G$167"]
["pp3_bl4_10_6_name",{"$f":"'T2-B(PP3)'!$B$168","v":0},"#'T2-B(PP3)'!$B$168"]
["pp3_bl4_10_6_rate_in",{"$f":"'T2-B(PP3)'!$E$168","v":0},"#'T2-B(PP3)'!$E$168"]
["pp3_bl4_10_6_rate_out",{"$f":"'T2-B(PP3)'!$H$168","v":0},"#'T2-B(PP3)'!$H$168"]
["pp3_bl4_10_6_total",{"$f":"'T2-B(PP3)'!$J$168","v":0},"#'T2-B(PP3)'!$J$168"]
["pp3_bl4_10_6_total_in",{"$f":"'T2-B(PP3)'!$F$168","v":0},"#'T2-B(PP3)'!$F$168"]
["pp3_bl4_10_6_total_out",{"$f":"'T2-B(PP3)'!$I$168","v":0},"#'T2-B(PP3)'!$I$168"]
["pp3_bl4_10_6_unit",{"$f":"'T2-B(PP3)'!$C$168","v":0},"#'T2-B(PP3)'!$C$168"]
["pp3_bl4_10_6_unit_in",{"$f":"'T2-B(PP3)'!$D$168","v":0},"#'T2-B(PP3)'!$D$168"]
["pp3_bl4_10_6_units_out",{"$f":"'T2-B(PP3)'!$G$168","v":0},"#'T2-B(PP3)'!$G$168"]
["pp3_bl4_10_7_name",{"$f":"'T2-B(PP3)'!$B$169","v":0},"#'T2-B(PP3)'!$B$169"]
["pp3_bl4_10_7_rate_in",{"$f":"'T2-B(PP3)'!$E$169","v":0},"#'T2-B(PP3)'!$E$169"]
["pp3_bl4_10_7_rate_out",{"$f":"'T2-B(PP3)'!$H$169","v":0},"#'T2-B(PP3)'!$H$169"]
["pp3_bl4_10_7_total",{"$f":"'T2-B(PP3)'!$J$169","v":0},"#'T2-B(PP3)'!$J$169"]
["pp3_bl4_10_7_total_in",{"$f":"'T2-B(PP3)'!$F$169","v":0},"#'T2-B(PP3)'!$F$169"]
["pp3_bl4_10_7_total_out",{"$f":"'T2-B(PP3)'!$I$169","v":0},"#'T2-B(PP3)'!$I$169"]
["pp3_bl4_10_7_unit",{"$f":"'T2-B(PP3)'!$C$169","v":0},"#'T2-B(PP3)'!$C$169"]
["pp3_bl4_10_7_unit_in",{"$f":"'T2-B(PP3)'!$D$169","v":0},"#'T2-B(PP3)'!$D$169"]
["pp3_bl4_10_7_units_out",{"$f":"'T2-B(PP3)'!$G$169","v":0},"#'T2-B(PP3)'!$G$169"]
["pp3_bl4_10_8_name",{"$f":"'T2-B(PP3)'!$B$170","v":0},"#'T2-B(PP3)'!$B$170"]
["pp3_bl4_10_8_rate_in",{"$f":"'T2-B(PP3)'!$E$170","v":0},"#'T2-B(PP3)'!$E$170"]
["pp3_bl4_10_8_rate_out",{"$f":"'T2-B(PP3)'!$H$170","v":0},"#'T2-B(PP3)'!$H$170"]
["pp3_bl4_10_8_total",{"$f":"'T2-B(PP3)'!$J$170","v":0},"#'T2-B(PP3)'!$J$170"]
["pp3_bl4_10_8_total_in",{"$f":"'T2-B(PP3)'!$F$170","v":0},"#'T2-B(PP3)'!$F$170"]
["pp3_bl4_10_8_total_out",{"$f":"'T2-B(PP3)'!$I$170","v":0},"#'T2-B(PP3)'!$I$170"]
["pp3_bl4_10_8_unit",{"$f":"'T2-B(PP3)'!$C$170","v":0},"#'T2-B(PP3)'!$C$170"]
["pp3_bl4_10_8_unit_in",{"$f":"'T2-B(PP3)'!$D$170","v":0},"#'T2-B(PP3)'!$D$170"]
["pp3_bl4_10_8_units_out",{"$f":"'T2-B(PP3)'!$G$170","v":0},"#'T2-B(PP3)'!$G$170"]
["pp3_bl4_10_9_name",{"$f":"'T2-B(PP3)'!$B$171","v":0},"#'T2-B(PP3)'!$B$171"]
["pp3_bl4_10_9_rate_in",{"$f":"'T2-B(PP3)'!$E$171","v":0},"#'T2-B(PP3)'!$E$171"]
["pp3_bl4_10_9_rate_out",{"$f":"'T2-B(PP3)'!$H$171","v":0},"#'T2-B(PP3)'!$H$171"]
["pp3_bl4_10_9_total",{"$f":"'T2-B(PP3)'!$J$171","v":0},"#'T2-B(PP3)'!$J$171"]
["pp3_bl4_10_9_total_in",{"$f":"'T2-B(PP3)'!$F$171","v":0},"#'T2-B(PP3)'!$F$171"]
["pp3_bl4_10_9_total_out",{"$f":"'T2-B(PP3)'!$I$171","v":0},"#'T2-B(PP3)'!$I$171"]
["pp3_bl4_10_9_unit",{"$f":"'T2-B(PP3)'!$C$171","v":0},"#'T2-B(PP3)'!$C$171"]
["pp3_bl4_10_9_unit_in",{"$f":"'T2-B(PP3)'!$D$171","v":0},"#'T2-B(PP3)'!$D$171"]
["pp3_bl4_10_9_units_out",{"$f":"'T2-B(PP3)'!$G$171","v":0},"#'T2-B(PP3)'!$G$171"]
["pp3_bl4_10_total",{"$f":"'T2-B(PP3)'!$J$162","v":0},"#'T2-B(PP3)'!$J$162"]
["pp3_bl4_10_total_in",{"$f":"'T2-B(PP3)'!$F$162","v":0},"#'T2-B(PP3)'!$F$162"]
["pp3_bl4_10_total_out",{"$f":"'T2-B(PP3)'!$I$162","v":0},"#'T2-B(PP3)'!$I$162"]
["pp3_bl4_11_1_name",{"$f":"'T2-B(PP3)'!$B$174","v":0},"#'T2-B(PP3)'!$B$174"]
["pp3_bl4_11_1_rate_in",{"$f":"'T2-B(PP3)'!$E$174","v":0},"#'T2-B(PP3)'!$E$174"]
["pp3_bl4_11_1_rate_out",{"$f":"'T2-B(PP3)'!$H$174","v":0},"#'T2-B(PP3)'!$H$174"]
["pp3_bl4_11_1_total",{"$f":"'T2-B(PP3)'!$J$174","v":0},"#'T2-B(PP3)'!$J$174"]
["pp3_bl4_11_1_total_in",{"$f":"'T2-B(PP3)'!$F$174","v":0},"#'T2-B(PP3)'!$F$174"]
["pp3_bl4_11_1_total_out",{"$f":"'T2-B(PP3)'!$I$174","v":0},"#'T2-B(PP3)'!$I$174"]
["pp3_bl4_11_1_unit",{"$f":"'T2-B(PP3)'!$C$174","v":0},"#'T2-B(PP3)'!$C$174"]
["pp3_bl4_11_1_unit_in",{"$f":"'T2-B(PP3)'!$D$174","v":0},"#'T2-B(PP3)'!$D$174"]
["pp3_bl4_11_1_units_out",{"$f":"'T2-B(PP3)'!$G$174","v":0},"#'T2-B(PP3)'!$G$174"]
["pp3_bl4_11_10_name",{"$f":"'T2-B(PP3)'!$B$183","v":0},"#'T2-B(PP3)'!$B$183"]
["pp3_bl4_11_10_rate_in",{"$f":"'T2-B(PP3)'!$E$183","v":0},"#'T2-B(PP3)'!$E$183"]
["pp3_bl4_11_10_rate_out",{"$f":"'T2-B(PP3)'!$H$183","v":0},"#'T2-B(PP3)'!$H$183"]
["pp3_bl4_11_10_total",{"$f":"'T2-B(PP3)'!$J$183","v":0},"#'T2-B(PP3)'!$J$183"]
["pp3_bl4_11_10_total_in",{"$f":"'T2-B(PP3)'!$F$183","v":0},"#'T2-B(PP3)'!$F$183"]
["pp3_bl4_11_10_total_out",{"$f":"'T2-B(PP3)'!$I$183","v":0},"#'T2-B(PP3)'!$I$183"]
["pp3_bl4_11_10_unit",{"$f":"'T2-B(PP3)'!$C$183","v":0},"#'T2-B(PP3)'!$C$183"]
["pp3_bl4_11_10_unit_in",{"$f":"'T2-B(PP3)'!$D$183","v":0},"#'T2-B(PP3)'!$D$183"]
["pp3_bl4_11_10_units_out",{"$f":"'T2-B(PP3)'!$G$183","v":0},"#'T2-B(PP3)'!$G$183"]
["pp3_bl4_11_2_name",{"$f":"'T2-B(PP3)'!$B$175","v":0},"#'T2-B(PP3)'!$B$175"]
["pp3_bl4_11_2_rate_in",{"$f":"'T2-B(PP3)'!$E$175","v":0},"#'T2-B(PP3)'!$E$175"]
["pp3_bl4_11_2_rate_out",{"$f":"'T2-B(PP3)'!$H$175","v":0},"#'T2-B(PP3)'!$H$175"]
["pp3_bl4_11_2_total",{"$f":"'T2-B(PP3)'!$J$175","v":0},"#'T2-B(PP3)'!$J$175"]
["pp3_bl4_11_2_total_in",{"$f":"'T2-B(PP3)'!$F$175","v":0},"#'T2-B(PP3)'!$F$175"]
["pp3_bl4_11_2_total_out",{"$f":"'T2-B(PP3)'!$I$175","v":0},"#'T2-B(PP3)'!$I$175"]
["pp3_bl4_11_2_unit",{"$f":"'T2-B(PP3)'!$C$175","v":0},"#'T2-B(PP3)'!$C$175"]
["pp3_bl4_11_2_unit_in",{"$f":"'T2-B(PP3)'!$D$175","v":0},"#'T2-B(PP3)'!$D$175"]
["pp3_bl4_11_2_units_out",{"$f":"'T2-B(PP3)'!$G$175","v":0},"#'T2-B(PP3)'!$G$175"]
["pp3_bl4_11_3_name",{"$f":"'T2-B(PP3)'!$B$176","v":0},"#'T2-B(PP3)'!$B$176"]
["pp3_bl4_11_3_rate_in",{"$f":"'T2-B(PP3)'!$E$176","v":0},"#'T2-B(PP3)'!$E$176"]
["pp3_bl4_11_3_rate_out",{"$f":"'T2-B(PP3)'!$H$176","v":0},"#'T2-B(PP3)'!$H$176"]
["pp3_bl4_11_3_total",{"$f":"'T2-B(PP3)'!$J$176","v":0},"#'T2-B(PP3)'!$J$176"]
["pp3_bl4_11_3_total_in",{"$f":"'T2-B(PP3)'!$F$176","v":0},"#'T2-B(PP3)'!$F$176"]
["pp3_bl4_11_3_total_out",{"$f":"'T2-B(PP3)'!$I$176","v":0},"#'T2-B(PP3)'!$I$176"]
["pp3_bl4_11_3_unit",{"$f":"'T2-B(PP3)'!$C$176","v":0},"#'T2-B(PP3)'!$C$176"]
["pp3_bl4_11_3_unit_in",{"$f":"'T2-B(PP3)'!$D$176","v":0},"#'T2-B(PP3)'!$D$176"]
["pp3_bl4_11_3_units_out",{"$f":"'T2-B(PP3)'!$G$176","v":0},"#'T2-B(PP3)'!$G$176"]
["pp3_bl4_11_4_name",{"$f":"'T2-B(PP3)'!$B$177","v":0},"#'T2-B(PP3)'!$B$177"]
["pp3_bl4_11_4_rate_in",{"$f":"'T2-B(PP3)'!$E$177","v":0},"#'T2-B(PP3)'!$E$177"]
["pp3_bl4_11_4_rate_out",{"$f":"'T2-B(PP3)'!$H$177","v":0},"#'T2-B(PP3)'!$H$177"]
["pp3_bl4_11_4_total",{"$f":"'T2-B(PP3)'!$J$177","v":0},"#'T2-B(PP3)'!$J$177"]
["pp3_bl4_11_4_total_in",{"$f":"'T2-B(PP3)'!$F$177","v":0},"#'T2-B(PP3)'!$F$177"]
["pp3_bl4_11_4_total_out",{"$f":"'T2-B(PP3)'!$I$177","v":0},"#'T2-B(PP3)'!$I$177"]
["pp3_bl4_11_4_unit",{"$f":"'T2-B(PP3)'!$C$177","v":0},"#'T2-B(PP3)'!$C$177"]
["pp3_bl4_11_4_unit_in",{"$f":"'T2-B(PP3)'!$D$177","v":0},"#'T2-B(PP3)'!$D$177"]
["pp3_bl4_11_4_units_out",{"$f":"'T2-B(PP3)'!$G$177","v":0},"#'T2-B(PP3)'!$G$177"]
["pp3_bl4_11_5_name",{"$f":"'T2-B(PP3)'!$B$178","v":0},"#'T2-B(PP3)'!$B$178"]
["pp3_bl4_11_5_rate_in",{"$f":"'T2-B(PP3)'!$E$178","v":0},"#'T2-B(PP3)'!$E$178"]
["pp3_bl4_11_5_rate_out",{"$f":"'T2-B(PP3)'!$H$178","v":0},"#'T2-B(PP3)'!$H$178"]
["pp3_bl4_11_5_total",{"$f":"'T2-B(PP3)'!$J$178","v":0},"#'T2-B(PP3)'!$J$178"]
["pp3_bl4_11_5_total_in",{"$f":"'T2-B(PP3)'!$F$178","v":0},"#'T2-B(PP3)'!$F$178"]
["pp3_bl4_11_5_total_out",{"$f":"'T2-B(PP3)'!$I$178","v":0},"#'T2-B(PP3)'!$I$178"]
["pp3_bl4_11_5_unit",{"$f":"'T2-B(PP3)'!$C$178","v":0},"#'T2-B(PP3)'!$C$178"]
["pp3_bl4_11_5_unit_in",{"$f":"'T2-B(PP3)'!$D$178","v":0},"#'T2-B(PP3)'!$D$178"]
["pp3_bl4_11_5_units_out",{"$f":"'T2-B(PP3)'!$G$178","v":0},"#'T2-B(PP3)'!$G$178"]
["pp3_bl4_11_6_name",{"$f":"'T2-B(PP3)'!$B$179","v":0},"#'T2-B(PP3)'!$B$179"]
["pp3_bl4_11_6_rate_in",{"$f":"'T2-B(PP3)'!$E$179","v":0},"#'T2-B(PP3)'!$E$179"]
["pp3_bl4_11_6_rate_out",{"$f":"'T2-B(PP3)'!$H$179","v":0},"#'T2-B(PP3)'!$H$179"]
["pp3_bl4_11_6_total",{"$f":"'T2-B(PP3)'!$J$179","v":0},"#'T2-B(PP3)'!$J$179"]
["pp3_bl4_11_6_total_in",{"$f":"'T2-B(PP3)'!$F$179","v":0},"#'T2-B(PP3)'!$F$179"]
["pp3_bl4_11_6_total_out",{"$f":"'T2-B(PP3)'!$I$179","v":0},"#'T2-B(PP3)'!$I$179"]
["pp3_bl4_11_6_unit",{"$f":"'T2-B(PP3)'!$C$179","v":0},"#'T2-B(PP3)'!$C$179"]
["pp3_bl4_11_6_unit_in",{"$f":"'T2-B(PP3)'!$D$179","v":0},"#'T2-B(PP3)'!$D$179"]
["pp3_bl4_11_6_units_out",{"$f":"'T2-B(PP3)'!$G$179","v":0},"#'T2-B(PP3)'!$G$179"]
["pp3_bl4_11_7_name",{"$f":"'T2-B(PP3)'!$B$180","v":0},"#'T2-B(PP3)'!$B$180"]
["pp3_bl4_11_7_rate_in",{"$f":"'T2-B(PP3)'!$E$180","v":0},"#'T2-B(PP3)'!$E$180"]
["pp3_bl4_11_7_rate_out",{"$f":"'T2-B(PP3)'!$H$180","v":0},"#'T2-B(PP3)'!$H$180"]
["pp3_bl4_11_7_total",{"$f":"'T2-B(PP3)'!$J$180","v":0},"#'T2-B(PP3)'!$J$180"]
["pp3_bl4_11_7_total_in",{"$f":"'T2-B(PP3)'!$F$180","v":0},"#'T2-B(PP3)'!$F$180"]
["pp3_bl4_11_7_total_out",{"$f":"'T2-B(PP3)'!$I$180","v":0},"#'T2-B(PP3)'!$I$180"]
["pp3_bl4_11_7_unit",{"$f":"'T2-B(PP3)'!$C$180","v":0},"#'T2-B(PP3)'!$C$180"]
["pp3_bl4_11_7_unit_in",{"$f":"'T2-B(PP3)'!$D$180","v":0},"#'T2-B(PP3)'!$D$180"]
["pp3_bl4_11_7_units_out",{"$f":"'T2-B(PP3)'!$G$180","v":0},"#'T2-B(PP3)'!$G$180"]
["pp3_bl4_11_8_name",{"$f":"'T2-B(PP3)'!$B$181","v":0},"#'T2-B(PP3)'!$B$181"]
["pp3_bl4_11_8_rate_in",{"$f":"'T2-B(PP3)'!$E$181","v":0},"#'T2-B(PP3)'!$E$181"]
["pp3_bl4_11_8_rate_out",{"$f":"'T2-B(PP3)'!$H$181","v":0},"#'T2-B(PP3)'!$H$181"]
["pp3_bl4_11_8_total",{"$f":"'T2-B(PP3)'!$J$181","v":0},"#'T2-B(PP3)'!$J$181"]
["pp3_bl4_11_8_total_in",{"$f":"'T2-B(PP3)'!$F$181","v":0},"#'T2-B(PP3)'!$F$181"]
["pp3_bl4_11_8_total_out",{"$f":"'T2-B(PP3)'!$I$181","v":0},"#'T2-B(PP3)'!$I$181"]
["pp3_bl4_11_8_unit",{"$f":"'T2-B(PP3)'!$C$181","v":0},"#'T2-B(PP3)'!$C$181"]
["pp3_bl4_11_8_unit_in",{"$f":"'T2-B(PP3)'!$D$181","v":0},"#'T2-B(PP3)'!$D$181"]
["pp3_bl4_11_8_units_out",{"$f":"'T2-B(PP3)'!$G$181","v":0},"#'T2-B(PP3)'!$G$181"]
["pp3_bl4_11_9_name",{"$f":"'T2-B(PP3)'!$B$182","v":0},"#'T2-B(PP3)'!$B$182"]
["pp3_bl4_11_9_rate_in",{"$f":"'T2-B(PP3)'!$E$182","v":0},"#'T2-B(PP3)'!$E$182"]
["pp3_bl4_11_9_rate_out",{"$f":"'T2-B(PP3)'!$H$182","v":0},"#'T2-B(PP3)'!$H$182"]
["pp3_bl4_11_9_total",{"$f":"'T2-B(PP3)'!$J$182","v":0},"#'T2-B(PP3)'!$J$182"]
["pp3_bl4_11_9_total_in",{"$f":"'T2-B(PP3)'!$F$182","v":0},"#'T2-B(PP3)'!$F$182"]
["pp3_bl4_11_9_total_out",{"$f":"'T2-B(PP3)'!$I$182","v":0},"#'T2-B(PP3)'!$I$182"]
["pp3_bl4_11_9_unit",{"$f":"'T2-B(PP3)'!$C$182","v":0},"#'T2-B(PP3)'!$C$182"]
["pp3_bl4_11_9_unit_in",{"$f":"'T2-B(PP3)'!$D$182","v":0},"#'T2-B(PP3)'!$D$182"]
["pp3_bl4_11_9_units_out",{"$f":"'T2-B(PP3)'!$G$182","v":0},"#'T2-B(PP3)'!$G$182"]
["pp3_bl4_11_total",{"$f":"'T2-B(PP3)'!$J$173","v":0},"#'T2-B(PP3)'!$J$173"]
["pp3_bl4_11_total_in",{"$f":"'T2-B(PP3)'!$F$173","v":0},"#'T2-B(PP3)'!$F$173"]
["pp3_bl4_11_total_out",{"$f":"'T2-B(PP3)'!$I$173","v":0},"#'T2-B(PP3)'!$I$173"]
["pp3_bl4_12_1_name",{"$f":"'T2-B(PP3)'!$B$185","v":0},"#'T2-B(PP3)'!$B$185"]
["pp3_bl4_12_1_rate_in",{"$f":"'T2-B(PP3)'!$E$185","v":0},"#'T2-B(PP3)'!$E$185"]
["pp3_bl4_12_1_rate_out",{"$f":"'T2-B(PP3)'!$H$185","v":0},"#'T2-B(PP3)'!$H$185"]
["pp3_bl4_12_1_total",{"$f":"'T2-B(PP3)'!$J$185","v":0},"#'T2-B(PP3)'!$J$185"]
["pp3_bl4_12_1_total_in",{"$f":"'T2-B(PP3)'!$F$185","v":0},"#'T2-B(PP3)'!$F$185"]
["pp3_bl4_12_1_total_out",{"$f":"'T2-B(PP3)'!$I$185","v":0},"#'T2-B(PP3)'!$I$185"]
["pp3_bl4_12_1_unit",{"$f":"'T2-B(PP3)'!$C$185","v":0},"#'T2-B(PP3)'!$C$185"]
["pp3_bl4_12_1_unit_in",{"$f":"'T2-B(PP3)'!$D$185","v":0},"#'T2-B(PP3)'!$D$185"]
["pp3_bl4_12_1_units_out",{"$f":"'T2-B(PP3)'!$G$185","v":0},"#'T2-B(PP3)'!$G$185"]
["pp3_bl4_12_10_name",{"$f":"'T2-B(PP3)'!$B$194","v":0},"#'T2-B(PP3)'!$B$194"]
["pp3_bl4_12_10_rate_in",{"$f":"'T2-B(PP3)'!$E$194","v":0},"#'T2-B(PP3)'!$E$194"]
["pp3_bl4_12_10_rate_out",{"$f":"'T2-B(PP3)'!$H$194","v":0},"#'T2-B(PP3)'!$H$194"]
["pp3_bl4_12_10_total",{"$f":"'T2-B(PP3)'!$J$194","v":0},"#'T2-B(PP3)'!$J$194"]
["pp3_bl4_12_10_total_in",{"$f":"'T2-B(PP3)'!$F$194","v":0},"#'T2-B(PP3)'!$F$194"]
["pp3_bl4_12_10_total_out",{"$f":"'T2-B(PP3)'!$I$194","v":0},"#'T2-B(PP3)'!$I$194"]
["pp3_bl4_12_10_unit",{"$f":"'T2-B(PP3)'!$C$194","v":0},"#'T2-B(PP3)'!$C$194"]
["pp3_bl4_12_10_unit_in",{"$f":"'T2-B(PP3)'!$D$194","v":0},"#'T2-B(PP3)'!$D$194"]
["pp3_bl4_12_10_units_out",{"$f":"'T2-B(PP3)'!$G$194","v":0},"#'T2-B(PP3)'!$G$194"]
["pp3_bl4_12_2_name",{"$f":"'T2-B(PP3)'!$B$186","v":0},"#'T2-B(PP3)'!$B$186"]
["pp3_bl4_12_2_rate_in",{"$f":"'T2-B(PP3)'!$E$186","v":0},"#'T2-B(PP3)'!$E$186"]
["pp3_bl4_12_2_rate_out",{"$f":"'T2-B(PP3)'!$H$186","v":0},"#'T2-B(PP3)'!$H$186"]
["pp3_bl4_12_2_total",{"$f":"'T2-B(PP3)'!$J$186","v":0},"#'T2-B(PP3)'!$J$186"]
["pp3_bl4_12_2_total_in",{"$f":"'T2-B(PP3)'!$F$186","v":0},"#'T2-B(PP3)'!$F$186"]
["pp3_bl4_12_2_total_out",{"$f":"'T2-B(PP3)'!$I$186","v":0},"#'T2-B(PP3)'!$I$186"]
["pp3_bl4_12_2_unit",{"$f":"'T2-B(PP3)'!$C$186","v":0},"#'T2-B(PP3)'!$C$186"]
["pp3_bl4_12_2_unit_in",{"$f":"'T2-B(PP3)'!$D$186","v":0},"#'T2-B(PP3)'!$D$186"]
["pp3_bl4_12_2_units_out",{"$f":"'T2-B(PP3)'!$G$186","v":0},"#'T2-B(PP3)'!$G$186"]
["pp3_bl4_12_3_name",{"$f":"'T2-B(PP3)'!$B$187","v":0},"#'T2-B(PP3)'!$B$187"]
["pp3_bl4_12_3_rate_in",{"$f":"'T2-B(PP3)'!$E$187","v":0},"#'T2-B(PP3)'!$E$187"]
["pp3_bl4_12_3_rate_out",{"$f":"'T2-B(PP3)'!$H$187","v":0},"#'T2-B(PP3)'!$H$187"]
["pp3_bl4_12_3_total",{"$f":"'T2-B(PP3)'!$J$187","v":0},"#'T2-B(PP3)'!$J$187"]
["pp3_bl4_12_3_total_in",{"$f":"'T2-B(PP3)'!$F$187","v":0},"#'T2-B(PP3)'!$F$187"]
["pp3_bl4_12_3_total_out",{"$f":"'T2-B(PP3)'!$I$187","v":0},"#'T2-B(PP3)'!$I$187"]
["pp3_bl4_12_3_unit",{"$f":"'T2-B(PP3)'!$C$187","v":0},"#'T2-B(PP3)'!$C$187"]
["pp3_bl4_12_3_unit_in",{"$f":"'T2-B(PP3)'!$D$187","v":0},"#'T2-B(PP3)'!$D$187"]
["pp3_bl4_12_3_units_out",{"$f":"'T2-B(PP3)'!$G$187","v":0},"#'T2-B(PP3)'!$G$187"]
["pp3_bl4_12_4_name",{"$f":"'T2-B(PP3)'!$B$188","v":0},"#'T2-B(PP3)'!$B$188"]
["pp3_bl4_12_4_rate_in",{"$f":"'T2-B(PP3)'!$E$188","v":0},"#'T2-B(PP3)'!$E$188"]
["pp3_bl4_12_4_rate_out",{"$f":"'T2-B(PP3)'!$H$188","v":0},"#'T2-B(PP3)'!$H$188"]
["pp3_bl4_12_4_total",{"$f":"'T2-B(PP3)'!$J$188","v":0},"#'T2-B(PP3)'!$J$188"]
["pp3_bl4_12_4_total_in",{"$f":"'T2-B(PP3)'!$F$188","v":0},"#'T2-B(PP3)'!$F$188"]
["pp3_bl4_12_4_total_out",{"$f":"'T2-B(PP3)'!$I$188","v":0},"#'T2-B(PP3)'!$I$188"]
["pp3_bl4_12_4_unit",{"$f":"'T2-B(PP3)'!$C$188","v":0},"#'T2-B(PP3)'!$C$188"]
["pp3_bl4_12_4_unit_in",{"$f":"'T2-B(PP3)'!$D$188","v":0},"#'T2-B(PP3)'!$D$188"]
["pp3_bl4_12_4_units_out",{"$f":"'T2-B(PP3)'!$G$188","v":0},"#'T2-B(PP3)'!$G$188"]
["pp3_bl4_12_5_name",{"$f":"'T2-B(PP3)'!$B$189","v":0},"#'T2-B(PP3)'!$B$189"]
["pp3_bl4_12_5_rate_in",{"$f":"'T2-B(PP3)'!$E$189","v":0},"#'T2-B(PP3)'!$E$189"]
["pp3_bl4_12_5_rate_out",{"$f":"'T2-B(PP3)'!$H$189","v":0},"#'T2-B(PP3)'!$H$189"]
["pp3_bl4_12_5_total",{"$f":"'T2-B(PP3)'!$J$189","v":0},"#'T2-B(PP3)'!$J$189"]
["pp3_bl4_12_5_total_in",{"$f":"'T2-B(PP3)'!$F$189","v":0},"#'T2-B(PP3)'!$F$189"]
["pp3_bl4_12_5_total_out",{"$f":"'T2-B(PP3)'!$I$189","v":0},"#'T2-B(PP3)'!$I$189"]
["pp3_bl4_12_5_unit",{"$f":"'T2-B(PP3)'!$C$189","v":0},"#'T2-B(PP3)'!$C$189"]
["pp3_bl4_12_5_unit_in",{"$f":"'T2-B(PP3)'!$D$189","v":0},"#'T2-B(PP3)'!$D$189"]
["pp3_bl4_12_5_units_out",{"$f":"'T2-B(PP3)'!$G$189","v":0},"#'T2-B(PP3)'!$G$189"]
["pp3_bl4_12_6_name",{"$f":"'T2-B(PP3)'!$B$190","v":0},"#'T2-B(PP3)'!$B$190"]
["pp3_bl4_12_6_rate_in",{"$f":"'T2-B(PP3)'!$E$190","v":0},"#'T2-B(PP3)'!$E$190"]
["pp3_bl4_12_6_rate_out",{"$f":"'T2-B(PP3)'!$H$190","v":0},"#'T2-B(PP3)'!$H$190"]
["pp3_bl4_12_6_total",{"$f":"'T2-B(PP3)'!$J$190","v":0},"#'T2-B(PP3)'!$J$190"]
["pp3_bl4_12_6_total_in",{"$f":"'T2-B(PP3)'!$F$190","v":0},"#'T2-B(PP3)'!$F$190"]
["pp3_bl4_12_6_total_out",{"$f":"'T2-B(PP3)'!$I$190","v":0},"#'T2-B(PP3)'!$I$190"]
["pp3_bl4_12_6_unit",{"$f":"'T2-B(PP3)'!$C$190","v":0},"#'T2-B(PP3)'!$C$190"]
["pp3_bl4_12_6_unit_in",{"$f":"'T2-B(PP3)'!$D$190","v":0},"#'T2-B(PP3)'!$D$190"]
["pp3_bl4_12_6_units_out",{"$f":"'T2-B(PP3)'!$G$190","v":0},"#'T2-B(PP3)'!$G$190"]
["pp3_bl4_12_7_name",{"$f":"'T2-B(PP3)'!$B$191","v":0},"#'T2-B(PP3)'!$B$191"]
["pp3_bl4_12_7_rate_in",{"$f":"'T2-B(PP3)'!$E$191","v":0},"#'T2-B(PP3)'!$E$191"]
["pp3_bl4_12_7_rate_out",{"$f":"'T2-B(PP3)'!$H$191","v":0},"#'T2-B(PP3)'!$H$191"]
["pp3_bl4_12_7_total",{"$f":"'T2-B(PP3)'!$J$191","v":0},"#'T2-B(PP3)'!$J$191"]
["pp3_bl4_12_7_total_in",{"$f":"'T2-B(PP3)'!$F$191","v":0},"#'T2-B(PP3)'!$F$191"]
["pp3_bl4_12_7_total_out",{"$f":"'T2-B(PP3)'!$I$191","v":0},"#'T2-B(PP3)'!$I$191"]
["pp3_bl4_12_7_unit",{"$f":"'T2-B(PP3)'!$C$191","v":0},"#'T2-B(PP3)'!$C$191"]
["pp3_bl4_12_7_unit_in",{"$f":"'T2-B(PP3)'!$D$191","v":0},"#'T2-B(PP3)'!$D$191"]
["pp3_bl4_12_7_units_out",{"$f":"'T2-B(PP3)'!$G$191","v":0},"#'T2-B(PP3)'!$G$191"]
["pp3_bl4_12_8_name",{"$f":"'T2-B(PP3)'!$B$192","v":0},"#'T2-B(PP3)'!$B$192"]
["pp3_bl4_12_8_rate_in",{"$f":"'T2-B(PP3)'!$E$192","v":0},"#'T2-B(PP3)'!$E$192"]
["pp3_bl4_12_8_rate_out",{"$f":"'T2-B(PP3)'!$H$192","v":0},"#'T2-B(PP3)'!$H$192"]
["pp3_bl4_12_8_total",{"$f":"'T2-B(PP3)'!$J$192","v":0},"#'T2-B(PP3)'!$J$192"]
["pp3_bl4_12_8_total_in",{"$f":"'T2-B(PP3)'!$F$192","v":0},"#'T2-B(PP3)'!$F$192"]
["pp3_bl4_12_8_total_out",{"$f":"'T2-B(PP3)'!$I$192","v":0},"#'T2-B(PP3)'!$I$192"]
["pp3_bl4_12_8_unit",{"$f":"'T2-B(PP3)'!$C$192","v":0},"#'T2-B(PP3)'!$C$192"]
["pp3_bl4_12_8_unit_in",{"$f":"'T2-B(PP3)'!$D$192","v":0},"#'T2-B(PP3)'!$D$192"]
["pp3_bl4_12_8_units_out",{"$f":"'T2-B(PP3)'!$G$192","v":0},"#'T2-B(PP3)'!$G$192"]
["pp3_bl4_12_9_name",{"$f":"'T2-B(PP3)'!$B$193","v":0},"#'T2-B(PP3)'!$B$193"]
["pp3_bl4_12_9_rate_in",{"$f":"'T2-B(PP3)'!$E$193","v":0},"#'T2-B(PP3)'!$E$193"]
["pp3_bl4_12_9_rate_out",{"$f":"'T2-B(PP3)'!$H$193","v":0},"#'T2-B(PP3)'!$H$193"]
["pp3_bl4_12_9_total",{"$f":"'T2-B(PP3)'!$J$193","v":0},"#'T2-B(PP3)'!$J$193"]
["pp3_bl4_12_9_total_in",{"$f":"'T2-B(PP3)'!$F$193","v":0},"#'T2-B(PP3)'!$F$193"]
["pp3_bl4_12_9_total_out",{"$f":"'T2-B(PP3)'!$I$193","v":0},"#'T2-B(PP3)'!$I$193"]
["pp3_bl4_12_9_unit",{"$f":"'T2-B(PP3)'!$C$193","v":0},"#'T2-B(PP3)'!$C$193"]
["pp3_bl4_12_9_unit_in",{"$f":"'T2-B(PP3)'!$D$193","v":0},"#'T2-B(PP3)'!$D$193"]
["pp3_bl4_12_9_units_out",{"$f":"'T2-B(PP3)'!$G$193","v":0},"#'T2-B(PP3)'!$G$193"]
["pp3_bl4_12_total",{"$f":"'T2-B(PP3)'!$J$184","v":0},"#'T2-B(PP3)'!$J$184"]
["pp3_bl4_12_total_in",{"$f":"'T2-B(PP3)'!$F$184","v":0},"#'T2-B(PP3)'!$F$184"]
["pp3_bl4_12_total_out",{"$f":"'T2-B(PP3)'!$I$184","v":0},"#'T2-B(PP3)'!$I$184"]
["pp3_bl4_13_1_name",{"$f":"'T2-B(PP3)'!$B$196","v":0},"#'T2-B(PP3)'!$B$196"]
["pp3_bl4_13_1_rate_in",{"$f":"'T2-B(PP3)'!$E$196","v":0},"#'T2-B(PP3)'!$E$196"]
["pp3_bl4_13_1_rate_out",{"$f":"'T2-B(PP3)'!$H$196","v":0},"#'T2-B(PP3)'!$H$196"]
["pp3_bl4_13_1_total",{"$f":"'T2-B(PP3)'!$J$196","v":0},"#'T2-B(PP3)'!$J$196"]
["pp3_bl4_13_1_total_in",{"$f":"'T2-B(PP3)'!$F$196","v":0},"#'T2-B(PP3)'!$F$196"]
["pp3_bl4_13_1_total_out",{"$f":"'T2-B(PP3)'!$I$196","v":0},"#'T2-B(PP3)'!$I$196"]
["pp3_bl4_13_1_unit",{"$f":"'T2-B(PP3)'!$C$196","v":0},"#'T2-B(PP3)'!$C$196"]
["pp3_bl4_13_1_unit_in",{"$f":"'T2-B(PP3)'!$D$196","v":0},"#'T2-B(PP3)'!$D$196"]
["pp3_bl4_13_1_units_out",{"$f":"'T2-B(PP3)'!$G$196","v":0},"#'T2-B(PP3)'!$G$196"]
["pp3_bl4_13_10_name",{"$f":"'T2-B(PP3)'!$B$205","v":0},"#'T2-B(PP3)'!$B$205"]
["pp3_bl4_13_10_rate_in",{"$f":"'T2-B(PP3)'!$E$205","v":0},"#'T2-B(PP3)'!$E$205"]
["pp3_bl4_13_10_rate_out",{"$f":"'T2-B(PP3)'!$H$205","v":0},"#'T2-B(PP3)'!$H$205"]
["pp3_bl4_13_10_total",{"$f":"'T2-B(PP3)'!$J$205","v":0},"#'T2-B(PP3)'!$J$205"]
["pp3_bl4_13_10_total_in",{"$f":"'T2-B(PP3)'!$F$205","v":0},"#'T2-B(PP3)'!$F$205"]
["pp3_bl4_13_10_total_out",{"$f":"'T2-B(PP3)'!$I$205","v":0},"#'T2-B(PP3)'!$I$205"]
["pp3_bl4_13_10_unit",{"$f":"'T2-B(PP3)'!$C$205","v":0},"#'T2-B(PP3)'!$C$205"]
["pp3_bl4_13_10_unit_in",{"$f":"'T2-B(PP3)'!$D$205","v":0},"#'T2-B(PP3)'!$D$205"]
["pp3_bl4_13_10_units_out",{"$f":"'T2-B(PP3)'!$G$205","v":0},"#'T2-B(PP3)'!$G$205"]
["pp3_bl4_13_2_name",{"$f":"'T2-B(PP3)'!$B$197","v":0},"#'T2-B(PP3)'!$B$197"]
["pp3_bl4_13_2_rate_in",{"$f":"'T2-B(PP3)'!$E$197","v":0},"#'T2-B(PP3)'!$E$197"]
["pp3_bl4_13_2_rate_out",{"$f":"'T2-B(PP3)'!$H$197","v":0},"#'T2-B(PP3)'!$H$197"]
["pp3_bl4_13_2_total",{"$f":"'T2-B(PP3)'!$J$197","v":0},"#'T2-B(PP3)'!$J$197"]
["pp3_bl4_13_2_total_in",{"$f":"'T2-B(PP3)'!$F$197","v":0},"#'T2-B(PP3)'!$F$197"]
["pp3_bl4_13_2_total_out",{"$f":"'T2-B(PP3)'!$I$197","v":0},"#'T2-B(PP3)'!$I$197"]
["pp3_bl4_13_2_unit",{"$f":"'T2-B(PP3)'!$C$197","v":0},"#'T2-B(PP3)'!$C$197"]
["pp3_bl4_13_2_unit_in",{"$f":"'T2-B(PP3)'!$D$197","v":0},"#'T2-B(PP3)'!$D$197"]
["pp3_bl4_13_2_units_out",{"$f":"'T2-B(PP3)'!$G$197","v":0},"#'T2-B(PP3)'!$G$197"]
["pp3_bl4_13_3_name",{"$f":"'T2-B(PP3)'!$B$198","v":0},"#'T2-B(PP3)'!$B$198"]
["pp3_bl4_13_3_rate_in",{"$f":"'T2-B(PP3)'!$E$198","v":0},"#'T2-B(PP3)'!$E$198"]
["pp3_bl4_13_3_rate_out",{"$f":"'T2-B(PP3)'!$H$198","v":0},"#'T2-B(PP3)'!$H$198"]
["pp3_bl4_13_3_total",{"$f":"'T2-B(PP3)'!$J$198","v":0},"#'T2-B(PP3)'!$J$198"]
["pp3_bl4_13_3_total_in",{"$f":"'T2-B(PP3)'!$F$198","v":0},"#'T2-B(PP3)'!$F$198"]
["pp3_bl4_13_3_total_out",{"$f":"'T2-B(PP3)'!$I$198","v":0},"#'T2-B(PP3)'!$I$198"]
["pp3_bl4_13_3_unit",{"$f":"'T2-B(PP3)'!$C$198","v":0},"#'T2-B(PP3)'!$C$198"]
["pp3_bl4_13_3_unit_in",{"$f":"'T2-B(PP3)'!$D$198","v":0},"#'T2-B(PP3)'!$D$198"]
["pp3_bl4_13_3_units_out",{"$f":"'T2-B(PP3)'!$G$198","v":0},"#'T2-B(PP3)'!$G$198"]
["pp3_bl4_13_4_name",{"$f":"'T2-B(PP3)'!$B$199","v":0},"#'T2-B(PP3)'!$B$199"]
["pp3_bl4_13_4_rate_in",{"$f":"'T2-B(PP3)'!$E$199","v":0},"#'T2-B(PP3)'!$E$199"]
["pp3_bl4_13_4_rate_out",{"$f":"'T2-B(PP3)'!$H$199","v":0},"#'T2-B(PP3)'!$H$199"]
["pp3_bl4_13_4_total",{"$f":"'T2-B(PP3)'!$J$199","v":0},"#'T2-B(PP3)'!$J$199"]
["pp3_bl4_13_4_total_in",{"$f":"'T2-B(PP3)'!$F$199","v":0},"#'T2-B(PP3)'!$F$199"]
["pp3_bl4_13_4_total_out",{"$f":"'T2-B(PP3)'!$I$199","v":0},"#'T2-B(PP3)'!$I$199"]
["pp3_bl4_13_4_unit",{"$f":"'T2-B(PP3)'!$C$199","v":0},"#'T2-B(PP3)'!$C$199"]
["pp3_bl4_13_4_unit_in",{"$f":"'T2-B(PP3)'!$D$199","v":0},"#'T2-B(PP3)'!$D$199"]
["pp3_bl4_13_4_units_out",{"$f":"'T2-B(PP3)'!$G$199","v":0},"#'T2-B(PP3)'!$G$199"]
["pp3_bl4_13_5_name",{"$f":"'T2-B(PP3)'!$B$200","v":0},"#'T2-B(PP3)'!$B$200"]
["pp3_bl4_13_5_rate_in",{"$f":"'T2-B(PP3)'!$E$200","v":0},"#'T2-B(PP3)'!$E$200"]
["pp3_bl4_13_5_rate_out",{"$f":"'T2-B(PP3)'!$H$200","v":0},"#'T2-B(PP3)'!$H$200"]
["pp3_bl4_13_5_total",{"$f":"'T2-B(PP3)'!$J$200","v":0},"#'T2-B(PP3)'!$J$200"]
["pp3_bl4_13_5_total_in",{"$f":"'T2-B(PP3)'!$F$200","v":0},"#'T2-B(PP3)'!$F$200"]
["pp3_bl4_13_5_total_out",{"$f":"'T2-B(PP3)'!$I$200","v":0},"#'T2-B(PP3)'!$I$200"]
["pp3_bl4_13_5_unit",{"$f":"'T2-B(PP3)'!$C$200","v":0},"#'T2-B(PP3)'!$C$200"]
["pp3_bl4_13_5_unit_in",{"$f":"'T2-B(PP3)'!$D$200","v":0},"#'T2-B(PP3)'!$D$200"]
["pp3_bl4_13_5_units_out",{"$f":"'T2-B(PP3)'!$G$200","v":0},"#'T2-B(PP3)'!$G$200"]
["pp3_bl4_13_6_name",{"$f":"'T2-B(PP3)'!$B$201","v":0},"#'T2-B(PP3)'!$B$201"]
["pp3_bl4_13_6_rate_in",{"$f":"'T2-B(PP3)'!$E$201","v":0},"#'T2-B(PP3)'!$E$201"]
["pp3_bl4_13_6_rate_out",{"$f":"'T2-B(PP3)'!$H$201","v":0},"#'T2-B(PP3)'!$H$201"]
["pp3_bl4_13_6_total",{"$f":"'T2-B(PP3)'!$J$201","v":0},"#'T2-B(PP3)'!$J$201"]
["pp3_bl4_13_6_total_in",{"$f":"'T2-B(PP3)'!$F$201","v":0},"#'T2-B(PP3)'!$F$201"]
["pp3_bl4_13_6_total_out",{"$f":"'T2-B(PP3)'!$I$201","v":0},"#'T2-B(PP3)'!$I$201"]
["pp3_bl4_13_6_unit",{"$f":"'T2-B(PP3)'!$C$201","v":0},"#'T2-B(PP3)'!$C$201"]
["pp3_bl4_13_6_unit_in",{"$f":"'T2-B(PP3)'!$D$201","v":0},"#'T2-B(PP3)'!$D$201"]
["pp3_bl4_13_6_units_out",{"$f":"'T2-B(PP3)'!$G$201","v":0},"#'T2-B(PP3)'!$G$201"]
["pp3_bl4_13_7_name",{"$f":"'T2-B(PP3)'!$B$202","v":0},"#'T2-B(PP3)'!$B$202"]
["pp3_bl4_13_7_rate_in",{"$f":"'T2-B(PP3)'!$E$202","v":0},"#'T2-B(PP3)'!$E$202"]
["pp3_bl4_13_7_rate_out",{"$f":"'T2-B(PP3)'!$H$202","v":0},"#'T2-B(PP3)'!$H$202"]
["pp3_bl4_13_7_total",{"$f":"'T2-B(PP3)'!$J$202","v":0},"#'T2-B(PP3)'!$J$202"]
["pp3_bl4_13_7_total_in",{"$f":"'T2-B(PP3)'!$F$202","v":0},"#'T2-B(PP3)'!$F$202"]
["pp3_bl4_13_7_total_out",{"$f":"'T2-B(PP3)'!$I$202","v":0},"#'T2-B(PP3)'!$I$202"]
["pp3_bl4_13_7_unit",{"$f":"'T2-B(PP3)'!$C$202","v":0},"#'T2-B(PP3)'!$C$202"]
["pp3_bl4_13_7_unit_in",{"$f":"'T2-B(PP3)'!$D$202","v":0},"#'T2-B(PP3)'!$D$202"]
["pp3_bl4_13_7_units_out",{"$f":"'T2-B(PP3)'!$G$202","v":0},"#'T2-B(PP3)'!$G$202"]
["pp3_bl4_13_8_name",{"$f":"'T2-B(PP3)'!$B$203","v":0},"#'T2-B(PP3)'!$B$203"]
["pp3_bl4_13_8_rate_in",{"$f":"'T2-B(PP3)'!$E$203","v":0},"#'T2-B(PP3)'!$E$203"]
["pp3_bl4_13_8_rate_out",{"$f":"'T2-B(PP3)'!$H$203","v":0},"#'T2-B(PP3)'!$H$203"]
["pp3_bl4_13_8_total",{"$f":"'T2-B(PP3)'!$J$203","v":0},"#'T2-B(PP3)'!$J$203"]
["pp3_bl4_13_8_total_in",{"$f":"'T2-B(PP3)'!$F$203","v":0},"#'T2-B(PP3)'!$F$203"]
["pp3_bl4_13_8_total_out",{"$f":"'T2-B(PP3)'!$I$203","v":0},"#'T2-B(PP3)'!$I$203"]
["pp3_bl4_13_8_unit",{"$f":"'T2-B(PP3)'!$C$203","v":0},"#'T2-B(PP3)'!$C$203"]
["pp3_bl4_13_8_unit_in",{"$f":"'T2-B(PP3)'!$D$203","v":0},"#'T2-B(PP3)'!$D$203"]
["pp3_bl4_13_8_units_out",{"$f":"'T2-B(PP3)'!$G$203","v":0},"#'T2-B(PP3)'!$G$203"]
["pp3_bl4_13_9_name",{"$f":"'T2-B(PP3)'!$B$204","v":0},"#'T2-B(PP3)'!$B$204"]
["pp3_bl4_13_9_rate_in",{"$f":"'T2-B(PP3)'!$E$204","v":0},"#'T2-B(PP3)'!$E$204"]
["pp3_bl4_13_9_rate_out",{"$f":"'T2-B(PP3)'!$H$204","v":0},"#'T2-B(PP3)'!$H$204"]
["pp3_bl4_13_9_total",{"$f":"'T2-B(PP3)'!$J$204","v":0},"#'T2-B(PP3)'!$J$204"]
["pp3_bl4_13_9_total_in",{"$f":"'T2-B(PP3)'!$F$204","v":0},"#'T2-B(PP3)'!$F$204"]
["pp3_bl4_13_9_total_out",{"$f":"'T2-B(PP3)'!$I$204","v":0},"#'T2-B(PP3)'!$I$204"]
["pp3_bl4_13_9_unit",{"$f":"'T2-B(PP3)'!$C$204","v":0},"#'T2-B(PP3)'!$C$204"]
["pp3_bl4_13_9_unit_in",{"$f":"'T2-B(PP3)'!$D$204","v":0},"#'T2-B(PP3)'!$D$204"]
["pp3_bl4_13_9_units_out",{"$f":"'T2-B(PP3)'!$G$204","v":0},"#'T2-B(PP3)'!$G$204"]
["pp3_bl4_13_total",{"$f":"'T2-B(PP3)'!$J$195","v":0},"#'T2-B(PP3)'!$J$195"]
["pp3_bl4_13_total_in",{"$f":"'T2-B(PP3)'!$F$195","v":0},"#'T2-B(PP3)'!$F$195"]
["pp3_bl4_13_total_out",{"$f":"'T2-B(PP3)'!$I$195","v":0},"#'T2-B(PP3)'!$I$195"]
["pp3_bl4_14_1_name",{"$f":"'T2-B(PP3)'!$B$207","v":0},"#'T2-B(PP3)'!$B$207"]
["pp3_bl4_14_1_rate_in",{"$f":"'T2-B(PP3)'!$E$207","v":0},"#'T2-B(PP3)'!$E$207"]
["pp3_bl4_14_1_rate_out",{"$f":"'T2-B(PP3)'!$H$207","v":0},"#'T2-B(PP3)'!$H$207"]
["pp3_bl4_14_1_total",{"$f":"'T2-B(PP3)'!$J$207","v":0},"#'T2-B(PP3)'!$J$207"]
["pp3_bl4_14_1_total_in",{"$f":"'T2-B(PP3)'!$F$207","v":0},"#'T2-B(PP3)'!$F$207"]
["pp3_bl4_14_1_total_out",{"$f":"'T2-B(PP3)'!$I$207","v":0},"#'T2-B(PP3)'!$I$207"]
["pp3_bl4_14_1_unit",{"$f":"'T2-B(PP3)'!$C$207","v":0},"#'T2-B(PP3)'!$C$207"]
["pp3_bl4_14_1_unit_in",{"$f":"'T2-B(PP3)'!$D$207","v":0},"#'T2-B(PP3)'!$D$207"]
["pp3_bl4_14_1_units_out",{"$f":"'T2-B(PP3)'!$G$207","v":0},"#'T2-B(PP3)'!$G$207"]
["pp3_bl4_14_10_name",{"$f":"'T2-B(PP3)'!$B$216","v":0},"#'T2-B(PP3)'!$B$216"]
["pp3_bl4_14_10_rate_in",{"$f":"'T2-B(PP3)'!$E$216","v":0},"#'T2-B(PP3)'!$E$216"]
["pp3_bl4_14_10_rate_out",{"$f":"'T2-B(PP3)'!$H$216","v":0},"#'T2-B(PP3)'!$H$216"]
["pp3_bl4_14_10_total",{"$f":"'T2-B(PP3)'!$J$216","v":0},"#'T2-B(PP3)'!$J$216"]
["pp3_bl4_14_10_total_in",{"$f":"'T2-B(PP3)'!$F$216","v":0},"#'T2-B(PP3)'!$F$216"]
["pp3_bl4_14_10_total_out",{"$f":"'T2-B(PP3)'!$I$216","v":0},"#'T2-B(PP3)'!$I$216"]
["pp3_bl4_14_10_unit",{"$f":"'T2-B(PP3)'!$C$216","v":0},"#'T2-B(PP3)'!$C$216"]
["pp3_bl4_14_10_unit_in",{"$f":"'T2-B(PP3)'!$D$216","v":0},"#'T2-B(PP3)'!$D$216"]
["pp3_bl4_14_10_units_out",{"$f":"'T2-B(PP3)'!$G$216","v":0},"#'T2-B(PP3)'!$G$216"]
["pp3_bl4_14_2_name",{"$f":"'T2-B(PP3)'!$B$208","v":0},"#'T2-B(PP3)'!$B$208"]
["pp3_bl4_14_2_rate_in",{"$f":"'T2-B(PP3)'!$E$208","v":0},"#'T2-B(PP3)'!$E$208"]
["pp3_bl4_14_2_rate_out",{"$f":"'T2-B(PP3)'!$H$208","v":0},"#'T2-B(PP3)'!$H$208"]
["pp3_bl4_14_2_total",{"$f":"'T2-B(PP3)'!$J$208","v":0},"#'T2-B(PP3)'!$J$208"]
["pp3_bl4_14_2_total_in",{"$f":"'T2-B(PP3)'!$F$208","v":0},"#'T2-B(PP3)'!$F$208"]
["pp3_bl4_14_2_total_out",{"$f":"'T2-B(PP3)'!$I$208","v":0},"#'T2-B(PP3)'!$I$208"]
["pp3_bl4_14_2_unit",{"$f":"'T2-B(PP3)'!$C$208","v":0},"#'T2-B(PP3)'!$C$208"]
["pp3_bl4_14_2_unit_in",{"$f":"'T2-B(PP3)'!$D$208","v":0},"#'T2-B(PP3)'!$D$208"]
["pp3_bl4_14_2_units_out",{"$f":"'T2-B(PP3)'!$G$208","v":0},"#'T2-B(PP3)'!$G$208"]
["pp3_bl4_14_3_name",{"$f":"'T2-B(PP3)'!$B$209","v":0},"#'T2-B(PP3)'!$B$209"]
["pp3_bl4_14_3_rate_in",{"$f":"'T2-B(PP3)'!$E$209","v":0},"#'T2-B(PP3)'!$E$209"]
["pp3_bl4_14_3_rate_out",{"$f":"'T2-B(PP3)'!$H$209","v":0},"#'T2-B(PP3)'!$H$209"]
["pp3_bl4_14_3_total",{"$f":"'T2-B(PP3)'!$J$209","v":0},"#'T2-B(PP3)'!$J$209"]
["pp3_bl4_14_3_total_in",{"$f":"'T2-B(PP3)'!$F$209","v":0},"#'T2-B(PP3)'!$F$209"]
["pp3_bl4_14_3_total_out",{"$f":"'T2-B(PP3)'!$I$209","v":0},"#'T2-B(PP3)'!$I$209"]
["pp3_bl4_14_3_unit",{"$f":"'T2-B(PP3)'!$C$209","v":0},"#'T2-B(PP3)'!$C$209"]
["pp3_bl4_14_3_unit_in",{"$f":"'T2-B(PP3)'!$D$209","v":0},"#'T2-B(PP3)'!$D$209"]
["pp3_bl4_14_3_units_out",{"$f":"'T2-B(PP3)'!$G$209","v":0},"#'T2-B(PP3)'!$G$209"]
["pp3_bl4_14_4_name",{"$f":"'T2-B(PP3)'!$B$210","v":0},"#'T2-B(PP3)'!$B$210"]
["pp3_bl4_14_4_rate_in",{"$f":"'T2-B(PP3)'!$E$210","v":0},"#'T2-B(PP3)'!$E$210"]
["pp3_bl4_14_4_rate_out",{"$f":"'T2-B(PP3)'!$H$210","v":0},"#'T2-B(PP3)'!$H$210"]
["pp3_bl4_14_4_total",{"$f":"'T2-B(PP3)'!$J$210","v":0},"#'T2-B(PP3)'!$J$210"]
["pp3_bl4_14_4_total_in",{"$f":"'T2-B(PP3)'!$F$210","v":0},"#'T2-B(PP3)'!$F$210"]
["pp3_bl4_14_4_total_out",{"$f":"'T2-B(PP3)'!$I$210","v":0},"#'T2-B(PP3)'!$I$210"]
["pp3_bl4_14_4_unit",{"$f":"'T2-B(PP3)'!$C$210","v":0},"#'T2-B(PP3)'!$C$210"]
["pp3_bl4_14_4_unit_in",{"$f":"'T2-B(PP3)'!$D$210","v":0},"#'T2-B(PP3)'!$D$210"]
["pp3_bl4_14_4_units_out",{"$f":"'T2-B(PP3)'!$G$210","v":0},"#'T2-B(PP3)'!$G$210"]
["pp3_bl4_14_5_name",{"$f":"'T2-B(PP3)'!$B$211","v":0},"#'T2-B(PP3)'!$B$211"]
["pp3_bl4_14_5_rate_in",{"$f":"'T2-B(PP3)'!$E$211","v":0},"#'T2-B(PP3)'!$E$211"]
["pp3_bl4_14_5_rate_out",{"$f":"'T2-B(PP3)'!$H$211","v":0},"#'T2-B(PP3)'!$H$211"]
["pp3_bl4_14_5_total",{"$f":"'T2-B(PP3)'!$J$211","v":0},"#'T2-B(PP3)'!$J$211"]
["pp3_bl4_14_5_total_in",{"$f":"'T2-B(PP3)'!$F$211","v":0},"#'T2-B(PP3)'!$F$211"]
["pp3_bl4_14_5_total_out",{"$f":"'T2-B(PP3)'!$I$211","v":0},"#'T2-B(PP3)'!$I$211"]
["pp3_bl4_14_5_unit",{"$f":"'T2-B(PP3)'!$C$211","v":0},"#'T2-B(PP3)'!$C$211"]
["pp3_bl4_14_5_unit_in",{"$f":"'T2-B(PP3)'!$D$211","v":0},"#'T2-B(PP3)'!$D$211"]
["pp3_bl4_14_5_units_out",{"$f":"'T2-B(PP3)'!$G$211","v":0},"#'T2-B(PP3)'!$G$211"]
["pp3_bl4_14_6_name",{"$f":"'T2-B(PP3)'!$B$212","v":0},"#'T2-B(PP3)'!$B$212"]
["pp3_bl4_14_6_rate_in",{"$f":"'T2-B(PP3)'!$E$212","v":0},"#'T2-B(PP3)'!$E$212"]
["pp3_bl4_14_6_rate_out",{"$f":"'T2-B(PP3)'!$H$212","v":0},"#'T2-B(PP3)'!$H$212"]
["pp3_bl4_14_6_total",{"$f":"'T2-B(PP3)'!$J$212","v":0},"#'T2-B(PP3)'!$J$212"]
["pp3_bl4_14_6_total_in",{"$f":"'T2-B(PP3)'!$F$212","v":0},"#'T2-B(PP3)'!$F$212"]
["pp3_bl4_14_6_total_out",{"$f":"'T2-B(PP3)'!$I$212","v":0},"#'T2-B(PP3)'!$I$212"]
["pp3_bl4_14_6_unit",{"$f":"'T2-B(PP3)'!$C$212","v":0},"#'T2-B(PP3)'!$C$212"]
["pp3_bl4_14_6_unit_in",{"$f":"'T2-B(PP3)'!$D$212","v":0},"#'T2-B(PP3)'!$D$212"]
["pp3_bl4_14_6_units_out",{"$f":"'T2-B(PP3)'!$G$212","v":0},"#'T2-B(PP3)'!$G$212"]
["pp3_bl4_14_7_name",{"$f":"'T2-B(PP3)'!$B$213","v":0},"#'T2-B(PP3)'!$B$213"]
["pp3_bl4_14_7_rate_in",{"$f":"'T2-B(PP3)'!$E$213","v":0},"#'T2-B(PP3)'!$E$213"]
["pp3_bl4_14_7_rate_out",{"$f":"'T2-B(PP3)'!$H$213","v":0},"#'T2-B(PP3)'!$H$213"]
["pp3_bl4_14_7_total",{"$f":"'T2-B(PP3)'!$J$213","v":0},"#'T2-B(PP3)'!$J$213"]
["pp3_bl4_14_7_total_in",{"$f":"'T2-B(PP3)'!$F$213","v":0},"#'T2-B(PP3)'!$F$213"]
["pp3_bl4_14_7_total_out",{"$f":"'T2-B(PP3)'!$I$213","v":0},"#'T2-B(PP3)'!$I$213"]
["pp3_bl4_14_7_unit",{"$f":"'T2-B(PP3)'!$C$213","v":0},"#'T2-B(PP3)'!$C$213"]
["pp3_bl4_14_7_unit_in",{"$f":"'T2-B(PP3)'!$D$213","v":0},"#'T2-B(PP3)'!$D$213"]
["pp3_bl4_14_7_units_out",{"$f":"'T2-B(PP3)'!$G$213","v":0},"#'T2-B(PP3)'!$G$213"]
["pp3_bl4_14_8_name",{"$f":"'T2-B(PP3)'!$B$214","v":0},"#'T2-B(PP3)'!$B$214"]
["pp3_bl4_14_8_rate_in",{"$f":"'T2-B(PP3)'!$E$214","v":0},"#'T2-B(PP3)'!$E$214"]
["pp3_bl4_14_8_rate_out",{"$f":"'T2-B(PP3)'!$H$214","v":0},"#'T2-B(PP3)'!$H$214"]
["pp3_bl4_14_8_total",{"$f":"'T2-B(PP3)'!$J$214","v":0},"#'T2-B(PP3)'!$J$214"]
["pp3_bl4_14_8_total_in",{"$f":"'T2-B(PP3)'!$F$214","v":0},"#'T2-B(PP3)'!$F$214"]
["pp3_bl4_14_8_total_out",{"$f":"'T2-B(PP3)'!$I$214","v":0},"#'T2-B(PP3)'!$I$214"]
["pp3_bl4_14_8_unit",{"$f":"'T2-B(PP3)'!$C$214","v":0},"#'T2-B(PP3)'!$C$214"]
["pp3_bl4_14_8_unit_in",{"$f":"'T2-B(PP3)'!$D$214","v":0},"#'T2-B(PP3)'!$D$214"]
["pp3_bl4_14_8_units_out",{"$f":"'T2-B(PP3)'!$G$214","v":0},"#'T2-B(PP3)'!$G$214"]
["pp3_bl4_14_9_name",{"$f":"'T2-B(PP3)'!$B$215","v":0},"#'T2-B(PP3)'!$B$215"]
["pp3_bl4_14_9_rate_in",{"$f":"'T2-B(PP3)'!$E$215","v":0},"#'T2-B(PP3)'!$E$215"]
["pp3_bl4_14_9_rate_out",{"$f":"'T2-B(PP3)'!$H$215","v":0},"#'T2-B(PP3)'!$H$215"]
["pp3_bl4_14_9_total",{"$f":"'T2-B(PP3)'!$J$215","v":0},"#'T2-B(PP3)'!$J$215"]
["pp3_bl4_14_9_total_in",{"$f":"'T2-B(PP3)'!$F$215","v":0},"#'T2-B(PP3)'!$F$215"]
["pp3_bl4_14_9_total_out",{"$f":"'T2-B(PP3)'!$I$215","v":0},"#'T2-B(PP3)'!$I$215"]
["pp3_bl4_14_9_unit",{"$f":"'T2-B(PP3)'!$C$215","v":0},"#'T2-B(PP3)'!$C$215"]
["pp3_bl4_14_9_unit_in",{"$f":"'T2-B(PP3)'!$D$215","v":0},"#'T2-B(PP3)'!$D$215"]
["pp3_bl4_14_9_units_out",{"$f":"'T2-B(PP3)'!$G$215","v":0},"#'T2-B(PP3)'!$G$215"]
["pp3_bl4_14_total",{"$f":"'T2-B(PP3)'!$J$206","v":0},"#'T2-B(PP3)'!$J$206"]
["pp3_bl4_14_total_in",{"$f":"'T2-B(PP3)'!$F$206","v":0},"#'T2-B(PP3)'!$F$206"]
["pp3_bl4_14_total_out",{"$f":"'T2-B(PP3)'!$I$206","v":0},"#'T2-B(PP3)'!$I$206"]
["pp3_bl4_2_1_name",{"$f":"'T2-B(PP3)'!$B$75","v":0},"#'T2-B(PP3)'!$B$75"]
["pp3_bl4_2_1_rate_in",{"$f":"'T2-B(PP3)'!$E$75","v":0},"#'T2-B(PP3)'!$E$75"]
["pp3_bl4_2_1_rate_out",{"$f":"'T2-B(PP3)'!$H$75","v":0},"#'T2-B(PP3)'!$H$75"]
["pp3_bl4_2_1_total",{"$f":"'T2-B(PP3)'!$J$75","v":0},"#'T2-B(PP3)'!$J$75"]
["pp3_bl4_2_1_total_in",{"$f":"'T2-B(PP3)'!$F$75","v":0},"#'T2-B(PP3)'!$F$75"]
["pp3_bl4_2_1_total_out",{"$f":"'T2-B(PP3)'!$I$75","v":0},"#'T2-B(PP3)'!$I$75"]
["pp3_bl4_2_1_unit",{"$f":"'T2-B(PP3)'!$C$75","v":0},"#'T2-B(PP3)'!$C$75"]
["pp3_bl4_2_1_unit_in",{"$f":"'T2-B(PP3)'!$D$75","v":0},"#'T2-B(PP3)'!$D$75"]
["pp3_bl4_2_1_units_out",{"$f":"'T2-B(PP3)'!$G$75","v":0},"#'T2-B(PP3)'!$G$75"]
["pp3_bl4_2_10_name",{"$f":"'T2-B(PP3)'!$B$84","v":0},"#'T2-B(PP3)'!$B$84"]
["pp3_bl4_2_10_rate_in",{"$f":"'T2-B(PP3)'!$E$84","v":0},"#'T2-B(PP3)'!$E$84"]
["pp3_bl4_2_10_rate_out",{"$f":"'T2-B(PP3)'!$H$84","v":0},"#'T2-B(PP3)'!$H$84"]
["pp3_bl4_2_10_total",{"$f":"'T2-B(PP3)'!$J$84","v":0},"#'T2-B(PP3)'!$J$84"]
["pp3_bl4_2_10_total_in",{"$f":"'T2-B(PP3)'!$F$84","v":0},"#'T2-B(PP3)'!$F$84"]
["pp3_bl4_2_10_total_out",{"$f":"'T2-B(PP3)'!$I$84","v":0},"#'T2-B(PP3)'!$I$84"]
["pp3_bl4_2_10_unit",{"$f":"'T2-B(PP3)'!$C$84","v":0},"#'T2-B(PP3)'!$C$84"]
["pp3_bl4_2_10_unit_in",{"$f":"'T2-B(PP3)'!$D$84","v":0},"#'T2-B(PP3)'!$D$84"]
["pp3_bl4_2_10_units_out",{"$f":"'T2-B(PP3)'!$G$84","v":0},"#'T2-B(PP3)'!$G$84"]
["pp3_bl4_2_2_name",{"$f":"'T2-B(PP3)'!$B$76","v":0},"#'T2-B(PP3)'!$B$76"]
["pp3_bl4_2_2_rate_in",{"$f":"'T2-B(PP3)'!$E$76","v":0},"#'T2-B(PP3)'!$E$76"]
["pp3_bl4_2_2_rate_out",{"$f":"'T2-B(PP3)'!$H$76","v":0},"#'T2-B(PP3)'!$H$76"]
["pp3_bl4_2_2_total",{"$f":"'T2-B(PP3)'!$J$76","v":0},"#'T2-B(PP3)'!$J$76"]
["pp3_bl4_2_2_total_in",{"$f":"'T2-B(PP3)'!$F$76","v":0},"#'T2-B(PP3)'!$F$76"]
["pp3_bl4_2_2_total_out",{"$f":"'T2-B(PP3)'!$I$76","v":0},"#'T2-B(PP3)'!$I$76"]
["pp3_bl4_2_2_unit",{"$f":"'T2-B(PP3)'!$C$76","v":0},"#'T2-B(PP3)'!$C$76"]
["pp3_bl4_2_2_unit_in",{"$f":"'T2-B(PP3)'!$D$76","v":0},"#'T2-B(PP3)'!$D$76"]
["pp3_bl4_2_2_units_out",{"$f":"'T2-B(PP3)'!$G$76","v":0},"#'T2-B(PP3)'!$G$76"]
["pp3_bl4_2_3_name",{"$f":"'T2-B(PP3)'!$B$77","v":0},"#'T2-B(PP3)'!$B$77"]
["pp3_bl4_2_3_rate_in",{"$f":"'T2-B(PP3)'!$E$77","v":0},"#'T2-B(PP3)'!$E$77"]
["pp3_bl4_2_3_rate_out",{"$f":"'T2-B(PP3)'!$H$77","v":0},"#'T2-B(PP3)'!$H$77"]
["pp3_bl4_2_3_total",{"$f":"'T2-B(PP3)'!$J$77","v":0},"#'T2-B(PP3)'!$J$77"]
["pp3_bl4_2_3_total_in",{"$f":"'T2-B(PP3)'!$F$77","v":0},"#'T2-B(PP3)'!$F$77"]
["pp3_bl4_2_3_total_out",{"$f":"'T2-B(PP3)'!$I$77","v":0},"#'T2-B(PP3)'!$I$77"]
["pp3_bl4_2_3_unit",{"$f":"'T2-B(PP3)'!$C$77","v":0},"#'T2-B(PP3)'!$C$77"]
["pp3_bl4_2_3_unit_in",{"$f":"'T2-B(PP3)'!$D$77","v":0},"#'T2-B(PP3)'!$D$77"]
["pp3_bl4_2_3_units_out",{"$f":"'T2-B(PP3)'!$G$77","v":0},"#'T2-B(PP3)'!$G$77"]
["pp3_bl4_2_4_name",{"$f":"'T2-B(PP3)'!$B$78","v":0},"#'T2-B(PP3)'!$B$78"]
["pp3_bl4_2_4_rate_in",{"$f":"'T2-B(PP3)'!$E$78","v":0},"#'T2-B(PP3)'!$E$78"]
["pp3_bl4_2_4_rate_out",{"$f":"'T2-B(PP3)'!$H$78","v":0},"#'T2-B(PP3)'!$H$78"]
["pp3_bl4_2_4_total",{"$f":"'T2-B(PP3)'!$J$78","v":0},"#'T2-B(PP3)'!$J$78"]
["pp3_bl4_2_4_total_in",{"$f":"'T2-B(PP3)'!$F$78","v":0},"#'T2-B(PP3)'!$F$78"]
["pp3_bl4_2_4_total_out",{"$f":"'T2-B(PP3)'!$I$78","v":0},"#'T2-B(PP3)'!$I$78"]
["pp3_bl4_2_4_unit",{"$f":"'T2-B(PP3)'!$C$78","v":0},"#'T2-B(PP3)'!$C$78"]
["pp3_bl4_2_4_unit_in",{"$f":"'T2-B(PP3)'!$D$78","v":0},"#'T2-B(PP3)'!$D$78"]
["pp3_bl4_2_4_units_out",{"$f":"'T2-B(PP3)'!$G$78","v":0},"#'T2-B(PP3)'!$G$78"]
["pp3_bl4_2_5_name",{"$f":"'T2-B(PP3)'!$B$79","v":0},"#'T2-B(PP3)'!$B$79"]
["pp3_bl4_2_5_rate_in",{"$f":"'T2-B(PP3)'!$E$79","v":0},"#'T2-B(PP3)'!$E$79"]
["pp3_bl4_2_5_rate_out",{"$f":"'T2-B(PP3)'!$H$79","v":0},"#'T2-B(PP3)'!$H$79"]
["pp3_bl4_2_5_total",{"$f":"'T2-B(PP3)'!$J$79","v":0},"#'T2-B(PP3)'!$J$79"]
["pp3_bl4_2_5_total_in",{"$f":"'T2-B(PP3)'!$F$79","v":0},"#'T2-B(PP3)'!$F$79"]
["pp3_bl4_2_5_total_out",{"$f":"'T2-B(PP3)'!$I$79","v":0},"#'T2-B(PP3)'!$I$79"]
["pp3_bl4_2_5_unit",{"$f":"'T2-B(PP3)'!$C$79","v":0},"#'T2-B(PP3)'!$C$79"]
["pp3_bl4_2_5_unit_in",{"$f":"'T2-B(PP3)'!$D$79","v":0},"#'T2-B(PP3)'!$D$79"]
["pp3_bl4_2_5_units_out",{"$f":"'T2-B(PP3)'!$G$79","v":0},"#'T2-B(PP3)'!$G$79"]
["pp3_bl4_2_6_name",{"$f":"'T2-B(PP3)'!$B$80","v":0},"#'T2-B(PP3)'!$B$80"]
["pp3_bl4_2_6_rate_in",{"$f":"'T2-B(PP3)'!$E$80","v":0},"#'T2-B(PP3)'!$E$80"]
["pp3_bl4_2_6_rate_out",{"$f":"'T2-B(PP3)'!$H$80","v":0},"#'T2-B(PP3)'!$H$80"]
["pp3_bl4_2_6_total",{"$f":"'T2-B(PP3)'!$J$80","v":0},"#'T2-B(PP3)'!$J$80"]
["pp3_bl4_2_6_total_in",{"$f":"'T2-B(PP3)'!$F$80","v":0},"#'T2-B(PP3)'!$F$80"]
["pp3_bl4_2_6_total_out",{"$f":"'T2-B(PP3)'!$I$80","v":0},"#'T2-B(PP3)'!$I$80"]
["pp3_bl4_2_6_unit",{"$f":"'T2-B(PP3)'!$C$80","v":0},"#'T2-B(PP3)'!$C$80"]
["pp3_bl4_2_6_unit_in",{"$f":"'T2-B(PP3)'!$D$80","v":0},"#'T2-B(PP3)'!$D$80"]
["pp3_bl4_2_6_units_out",{"$f":"'T2-B(PP3)'!$G$80","v":0},"#'T2-B(PP3)'!$G$80"]
["pp3_bl4_2_7_name",{"$f":"'T2-B(PP3)'!$B$81","v":0},"#'T2-B(PP3)'!$B$81"]
["pp3_bl4_2_7_rate_in",{"$f":"'T2-B(PP3)'!$E$81","v":0},"#'T2-B(PP3)'!$E$81"]
["pp3_bl4_2_7_rate_out",{"$f":"'T2-B(PP3)'!$H$81","v":0},"#'T2-B(PP3)'!$H$81"]
["pp3_bl4_2_7_total",{"$f":"'T2-B(PP3)'!$J$81","v":0},"#'T2-B(PP3)'!$J$81"]
["pp3_bl4_2_7_total_in",{"$f":"'T2-B(PP3)'!$F$81","v":0},"#'T2-B(PP3)'!$F$81"]
["pp3_bl4_2_7_total_out",{"$f":"'T2-B(PP3)'!$I$81","v":0},"#'T2-B(PP3)'!$I$81"]
["pp3_bl4_2_7_unit",{"$f":"'T2-B(PP3)'!$C$81","v":0},"#'T2-B(PP3)'!$C$81"]
["pp3_bl4_2_7_unit_in",{"$f":"'T2-B(PP3)'!$D$81","v":0},"#'T2-B(PP3)'!$D$81"]
["pp3_bl4_2_7_units_out",{"$f":"'T2-B(PP3)'!$G$81","v":0},"#'T2-B(PP3)'!$G$81"]
["pp3_bl4_2_8_name",{"$f":"'T2-B(PP3)'!$B$82","v":0},"#'T2-B(PP3)'!$B$82"]
["pp3_bl4_2_8_rate_in",{"$f":"'T2-B(PP3)'!$E$82","v":0},"#'T2-B(PP3)'!$E$82"]
["pp3_bl4_2_8_rate_out",{"$f":"'T2-B(PP3)'!$H$82","v":0},"#'T2-B(PP3)'!$H$82"]
["pp3_bl4_2_8_total",{"$f":"'T2-B(PP3)'!$J$82","v":0},"#'T2-B(PP3)'!$J$82"]
["pp3_bl4_2_8_total_in",{"$f":"'T2-B(PP3)'!$F$82","v":0},"#'T2-B(PP3)'!$F$82"]
["pp3_bl4_2_8_total_out",{"$f":"'T2-B(PP3)'!$I$82","v":0},"#'T2-B(PP3)'!$I$82"]
["pp3_bl4_2_8_unit",{"$f":"'T2-B(PP3)'!$C$82","v":0},"#'T2-B(PP3)'!$C$82"]
["pp3_bl4_2_8_unit_in",{"$f":"'T2-B(PP3)'!$D$82","v":0},"#'T2-B(PP3)'!$D$82"]
["pp3_bl4_2_8_units_out",{"$f":"'T2-B(PP3)'!$G$82","v":0},"#'T2-B(PP3)'!$G$82"]
["pp3_bl4_2_9_name",{"$f":"'T2-B(PP3)'!$B$83","v":0},"#'T2-B(PP3)'!$B$83"]
["pp3_bl4_2_9_rate_in",{"$f":"'T2-B(PP3)'!$E$83","v":0},"#'T2-B(PP3)'!$E$83"]
["pp3_bl4_2_9_rate_out",{"$f":"'T2-B(PP3)'!$H$83","v":0},"#'T2-B(PP3)'!$H$83"]
["pp3_bl4_2_9_total",{"$f":"'T2-B(PP3)'!$J$83","v":0},"#'T2-B(PP3)'!$J$83"]
["pp3_bl4_2_9_total_in",{"$f":"'T2-B(PP3)'!$F$83","v":0},"#'T2-B(PP3)'!$F$83"]
["pp3_bl4_2_9_total_out",{"$f":"'T2-B(PP3)'!$I$83","v":0},"#'T2-B(PP3)'!$I$83"]
["pp3_bl4_2_9_unit",{"$f":"'T2-B(PP3)'!$C$83","v":0},"#'T2-B(PP3)'!$C$83"]
["pp3_bl4_2_9_unit_in",{"$f":"'T2-B(PP3)'!$D$83","v":0},"#'T2-B(PP3)'!$D$83"]
["pp3_bl4_2_9_units_out",{"$f":"'T2-B(PP3)'!$G$83","v":0},"#'T2-B(PP3)'!$G$83"]
["pp3_bl4_2_total",{"$f":"'T2-B(PP3)'!$J$74","v":0},"#'T2-B(PP3)'!$J$74"]
["pp3_bl4_2_total_in",{"$f":"'T2-B(PP3)'!$F$74","v":0},"#'T2-B(PP3)'!$F$74"]
["pp3_bl4_2_total_out",{"$f":"'T2-B(PP3)'!$I$74","v":0},"#'T2-B(PP3)'!$I$74"]
["pp3_bl4_3_1_name",{"$f":"'T2-B(PP3)'!$B$86","v":0},"#'T2-B(PP3)'!$B$86"]
["pp3_bl4_3_1_rate_in",{"$f":"'T2-B(PP3)'!$E$86","v":0},"#'T2-B(PP3)'!$E$86"]
["pp3_bl4_3_1_rate_out",{"$f":"'T2-B(PP3)'!$H$86","v":0},"#'T2-B(PP3)'!$H$86"]
["pp3_bl4_3_1_total",{"$f":"'T2-B(PP3)'!$J$86","v":0},"#'T2-B(PP3)'!$J$86"]
["pp3_bl4_3_1_total_in",{"$f":"'T2-B(PP3)'!$F$86","v":0},"#'T2-B(PP3)'!$F$86"]
["pp3_bl4_3_1_total_out",{"$f":"'T2-B(PP3)'!$I$86","v":0},"#'T2-B(PP3)'!$I$86"]
["pp3_bl4_3_1_unit",{"$f":"'T2-B(PP3)'!$C$86","v":0},"#'T2-B(PP3)'!$C$86"]
["pp3_bl4_3_1_unit_in",{"$f":"'T2-B(PP3)'!$D$86","v":0},"#'T2-B(PP3)'!$D$86"]
["pp3_bl4_3_1_units_out",{"$f":"'T2-B(PP3)'!$G$86","v":0},"#'T2-B(PP3)'!$G$86"]
["pp3_bl4_3_10_name",{"$f":"'T2-B(PP3)'!$B$95","v":0},"#'T2-B(PP3)'!$B$95"]
["pp3_bl4_3_10_rate_in",{"$f":"'T2-B(PP3)'!$E$95","v":0},"#'T2-B(PP3)'!$E$95"]
["pp3_bl4_3_10_rate_out",{"$f":"'T2-B(PP3)'!$H$95","v":0},"#'T2-B(PP3)'!$H$95"]
["pp3_bl4_3_10_total",{"$f":"'T2-B(PP3)'!$J$95","v":0},"#'T2-B(PP3)'!$J$95"]
["pp3_bl4_3_10_total_in",{"$f":"'T2-B(PP3)'!$F$95","v":0},"#'T2-B(PP3)'!$F$95"]
["pp3_bl4_3_10_total_out",{"$f":"'T2-B(PP3)'!$I$95","v":0},"#'T2-B(PP3)'!$I$95"]
["pp3_bl4_3_10_unit",{"$f":"'T2-B(PP3)'!$C$95","v":0},"#'T2-B(PP3)'!$C$95"]
["pp3_bl4_3_10_unit_in",{"$f":"'T2-B(PP3)'!$D$95","v":0},"#'T2-B(PP3)'!$D$95"]
["pp3_bl4_3_10_units_out",{"$f":"'T2-B(PP3)'!$G$95","v":0},"#'T2-B(PP3)'!$G$95"]
["pp3_bl4_3_2_name",{"$f":"'T2-B(PP3)'!$B$87","v":0},"#'T2-B(PP3)'!$B$87"]
["pp3_bl4_3_2_rate_in",{"$f":"'T2-B(PP3)'!$E$87","v":0},"#'T2-B(PP3)'!$E$87"]
["pp3_bl4_3_2_rate_out",{"$f":"'T2-B(PP3)'!$H$87","v":0},"#'T2-B(PP3)'!$H$87"]
["pp3_bl4_3_2_total",{"$f":"'T2-B(PP3)'!$J$87","v":0},"#'T2-B(PP3)'!$J$87"]
["pp3_bl4_3_2_total_in",{"$f":"'T2-B(PP3)'!$F$87","v":0},"#'T2-B(PP3)'!$F$87"]
["pp3_bl4_3_2_total_out",{"$f":"'T2-B(PP3)'!$I$87","v":0},"#'T2-B(PP3)'!$I$87"]
["pp3_bl4_3_2_unit",{"$f":"'T2-B(PP3)'!$C$87","v":0},"#'T2-B(PP3)'!$C$87"]
["pp3_bl4_3_2_unit_in",{"$f":"'T2-B(PP3)'!$D$87","v":0},"#'T2-B(PP3)'!$D$87"]
["pp3_bl4_3_2_units_out",{"$f":"'T2-B(PP3)'!$G$87","v":0},"#'T2-B(PP3)'!$G$87"]
["pp3_bl4_3_3_name",{"$f":"'T2-B(PP3)'!$B$88","v":0},"#'T2-B(PP3)'!$B$88"]
["pp3_bl4_3_3_rate_in",{"$f":"'T2-B(PP3)'!$E$88","v":0},"#'T2-B(PP3)'!$E$88"]
["pp3_bl4_3_3_rate_out",{"$f":"'T2-B(PP3)'!$H$88","v":0},"#'T2-B(PP3)'!$H$88"]
["pp3_bl4_3_3_total",{"$f":"'T2-B(PP3)'!$J$88","v":0},"#'T2-B(PP3)'!$J$88"]
["pp3_bl4_3_3_total_in",{"$f":"'T2-B(PP3)'!$F$88","v":0},"#'T2-B(PP3)'!$F$88"]
["pp3_bl4_3_3_total_out",{"$f":"'T2-B(PP3)'!$I$88","v":0},"#'T2-B(PP3)'!$I$88"]
["pp3_bl4_3_3_unit",{"$f":"'T2-B(PP3)'!$C$88","v":0},"#'T2-B(PP3)'!$C$88"]
["pp3_bl4_3_3_unit_in",{"$f":"'T2-B(PP3)'!$D$88","v":0},"#'T2-B(PP3)'!$D$88"]
["pp3_bl4_3_3_units_out",{"$f":"'T2-B(PP3)'!$G$88","v":0},"#'T2-B(PP3)'!$G$88"]
["pp3_bl4_3_4_name",{"$f":"'T2-B(PP3)'!$B$89","v":0},"#'T2-B(PP3)'!$B$89"]
["pp3_bl4_3_4_rate_in",{"$f":"'T2-B(PP3)'!$E$89","v":0},"#'T2-B(PP3)'!$E$89"]
["pp3_bl4_3_4_rate_out",{"$f":"'T2-B(PP3)'!$H$89","v":0},"#'T2-B(PP3)'!$H$89"]
["pp3_bl4_3_4_total",{"$f":"'T2-B(PP3)'!$J$89","v":0},"#'T2-B(PP3)'!$J$89"]
["pp3_bl4_3_4_total_in",{"$f":"'T2-B(PP3)'!$F$89","v":0},"#'T2-B(PP3)'!$F$89"]
["pp3_bl4_3_4_total_out",{"$f":"'T2-B(PP3)'!$I$89","v":0},"#'T2-B(PP3)'!$I$89"]
["pp3_bl4_3_4_unit",{"$f":"'T2-B(PP3)'!$C$89","v":0},"#'T2-B(PP3)'!$C$89"]
["pp3_bl4_3_4_unit_in",{"$f":"'T2-B(PP3)'!$D$89","v":0},"#'T2-B(PP3)'!$D$89"]
["pp3_bl4_3_4_units_out",{"$f":"'T2-B(PP3)'!$G$89","v":0},"#'T2-B(PP3)'!$G$89"]
["pp3_bl4_3_5_name",{"$f":"'T2-B(PP3)'!$B$90","v":0},"#'T2-B(PP3)'!$B$90"]
["pp3_bl4_3_5_rate_in",{"$f":"'T2-B(PP3)'!$E$90","v":0},"#'T2-B(PP3)'!$E$90"]
["pp3_bl4_3_5_rate_out",{"$f":"'T2-B(PP3)'!$H$90","v":0},"#'T2-B(PP3)'!$H$90"]
["pp3_bl4_3_5_total",{"$f":"'T2-B(PP3)'!$J$90","v":0},"#'T2-B(PP3)'!$J$90"]
["pp3_bl4_3_5_total_in",{"$f":"'T2-B(PP3)'!$F$90","v":0},"#'T2-B(PP3)'!$F$90"]
["pp3_bl4_3_5_total_out",{"$f":"'T2-B(PP3)'!$I$90","v":0},"#'T2-B(PP3)'!$I$90"]
["pp3_bl4_3_5_unit",{"$f":"'T2-B(PP3)'!$C$90","v":0},"#'T2-B(PP3)'!$C$90"]
["pp3_bl4_3_5_unit_in",{"$f":"'T2-B(PP3)'!$D$90","v":0},"#'T2-B(PP3)'!$D$90"]
["pp3_bl4_3_5_units_out",{"$f":"'T2-B(PP3)'!$G$90","v":0},"#'T2-B(PP3)'!$G$90"]
["pp3_bl4_3_6_name",{"$f":"'T2-B(PP3)'!$B$91","v":0},"#'T2-B(PP3)'!$B$91"]
["pp3_bl4_3_6_rate_in",{"$f":"'T2-B(PP3)'!$E$91","v":0},"#'T2-B(PP3)'!$E$91"]
["pp3_bl4_3_6_rate_out",{"$f":"'T2-B(PP3)'!$H$91","v":0},"#'T2-B(PP3)'!$H$91"]
["pp3_bl4_3_6_total",{"$f":"'T2-B(PP3)'!$J$91","v":0},"#'T2-B(PP3)'!$J$91"]
["pp3_bl4_3_6_total_in",{"$f":"'T2-B(PP3)'!$F$91","v":0},"#'T2-B(PP3)'!$F$91"]
["pp3_bl4_3_6_total_out",{"$f":"'T2-B(PP3)'!$I$91","v":0},"#'T2-B(PP3)'!$I$91"]
["pp3_bl4_3_6_unit",{"$f":"'T2-B(PP3)'!$C$91","v":0},"#'T2-B(PP3)'!$C$91"]
["pp3_bl4_3_6_unit_in",{"$f":"'T2-B(PP3)'!$D$91","v":0},"#'T2-B(PP3)'!$D$91"]
["pp3_bl4_3_6_units_out",{"$f":"'T2-B(PP3)'!$G$91","v":0},"#'T2-B(PP3)'!$G$91"]
["pp3_bl4_3_7_name",{"$f":"'T2-B(PP3)'!$B$92","v":0},"#'T2-B(PP3)'!$B$92"]
["pp3_bl4_3_7_rate_in",{"$f":"'T2-B(PP3)'!$E$92","v":0},"#'T2-B(PP3)'!$E$92"]
["pp3_bl4_3_7_rate_out",{"$f":"'T2-B(PP3)'!$H$92","v":0},"#'T2-B(PP3)'!$H$92"]
["pp3_bl4_3_7_total",{"$f":"'T2-B(PP3)'!$J$92","v":0},"#'T2-B(PP3)'!$J$92"]
["pp3_bl4_3_7_total_in",{"$f":"'T2-B(PP3)'!$F$92","v":0},"#'T2-B(PP3)'!$F$92"]
["pp3_bl4_3_7_total_out",{"$f":"'T2-B(PP3)'!$I$92","v":0},"#'T2-B(PP3)'!$I$92"]
["pp3_bl4_3_7_unit",{"$f":"'T2-B(PP3)'!$C$92","v":0},"#'T2-B(PP3)'!$C$92"]
["pp3_bl4_3_7_unit_in",{"$f":"'T2-B(PP3)'!$D$92","v":0},"#'T2-B(PP3)'!$D$92"]
["pp3_bl4_3_7_units_out",{"$f":"'T2-B(PP3)'!$G$92","v":0},"#'T2-B(PP3)'!$G$92"]
["pp3_bl4_3_8_name",{"$f":"'T2-B(PP3)'!$B$93","v":0},"#'T2-B(PP3)'!$B$93"]
["pp3_bl4_3_8_rate_in",{"$f":"'T2-B(PP3)'!$E$93","v":0},"#'T2-B(PP3)'!$E$93"]
["pp3_bl4_3_8_rate_out",{"$f":"'T2-B(PP3)'!$H$93","v":0},"#'T2-B(PP3)'!$H$93"]
["pp3_bl4_3_8_total",{"$f":"'T2-B(PP3)'!$J$93","v":0},"#'T2-B(PP3)'!$J$93"]
["pp3_bl4_3_8_total_in",{"$f":"'T2-B(PP3)'!$F$93","v":0},"#'T2-B(PP3)'!$F$93"]
["pp3_bl4_3_8_total_out",{"$f":"'T2-B(PP3)'!$I$93","v":0},"#'T2-B(PP3)'!$I$93"]
["pp3_bl4_3_8_unit",{"$f":"'T2-B(PP3)'!$C$93","v":0},"#'T2-B(PP3)'!$C$93"]
["pp3_bl4_3_8_unit_in",{"$f":"'T2-B(PP3)'!$D$93","v":0},"#'T2-B(PP3)'!$D$93"]
["pp3_bl4_3_8_units_out",{"$f":"'T2-B(PP3)'!$G$93","v":0},"#'T2-B(PP3)'!$G$93"]
["pp3_bl4_3_9_name",{"$f":"'T2-B(PP3)'!$B$94","v":0},"#'T2-B(PP3)'!$B$94"]
["pp3_bl4_3_9_rate_in",{"$f":"'T2-B(PP3)'!$E$94","v":0},"#'T2-B(PP3)'!$E$94"]
["pp3_bl4_3_9_rate_out",{"$f":"'T2-B(PP3)'!$H$94","v":0},"#'T2-B(PP3)'!$H$94"]
["pp3_bl4_3_9_total",{"$f":"'T2-B(PP3)'!$J$94","v":0},"#'T2-B(PP3)'!$J$94"]
["pp3_bl4_3_9_total_in",{"$f":"'T2-B(PP3)'!$F$94","v":0},"#'T2-B(PP3)'!$F$94"]
["pp3_bl4_3_9_total_out",{"$f":"'T2-B(PP3)'!$I$94","v":0},"#'T2-B(PP3)'!$I$94"]
["pp3_bl4_3_9_unit",{"$f":"'T2-B(PP3)'!$C$94","v":0},"#'T2-B(PP3)'!$C$94"]
["pp3_bl4_3_9_unit_in",{"$f":"'T2-B(PP3)'!$D$94","v":0},"#'T2-B(PP3)'!$D$94"]
["pp3_bl4_3_9_units_out",{"$f":"'T2-B(PP3)'!$G$94","v":0},"#'T2-B(PP3)'!$G$94"]
["pp3_bl4_3_total",{"$f":"'T2-B(PP3)'!$J$85","v":0},"#'T2-B(PP3)'!$J$85"]
["pp3_bl4_3_total_in",{"$f":"'T2-B(PP3)'!$F$85","v":0},"#'T2-B(PP3)'!$F$85"]
["pp3_bl4_3_total_out",{"$f":"'T2-B(PP3)'!$I$85","v":0},"#'T2-B(PP3)'!$I$85"]
["pp3_bl4_4_1_name",{"$f":"'T2-B(PP3)'!$B$97","v":0},"#'T2-B(PP3)'!$B$97"]
["pp3_bl4_4_1_rate_in",{"$f":"'T2-B(PP3)'!$E$97","v":0},"#'T2-B(PP3)'!$E$97"]
["pp3_bl4_4_1_rate_out",{"$f":"'T2-B(PP3)'!$H$97","v":0},"#'T2-B(PP3)'!$H$97"]
["pp3_bl4_4_1_total",{"$f":"'T2-B(PP3)'!$J$97","v":0},"#'T2-B(PP3)'!$J$97"]
["pp3_bl4_4_1_total_in",{"$f":"'T2-B(PP3)'!$F$97","v":0},"#'T2-B(PP3)'!$F$97"]
["pp3_bl4_4_1_total_out",{"$f":"'T2-B(PP3)'!$I$97","v":0},"#'T2-B(PP3)'!$I$97"]
["pp3_bl4_4_1_unit",{"$f":"'T2-B(PP3)'!$C$97","v":0},"#'T2-B(PP3)'!$C$97"]
["pp3_bl4_4_1_unit_in",{"$f":"'T2-B(PP3)'!$D$97","v":0},"#'T2-B(PP3)'!$D$97"]
["pp3_bl4_4_1_units_out",{"$f":"'T2-B(PP3)'!$G$97","v":0},"#'T2-B(PP3)'!$G$97"]
["pp3_bl4_4_10_name",{"$f":"'T2-B(PP3)'!$B$106","v":0},"#'T2-B(PP3)'!$B$106"]
["pp3_bl4_4_10_rate_in",{"$f":"'T2-B(PP3)'!$E$106","v":0},"#'T2-B(PP3)'!$E$106"]
["pp3_bl4_4_10_rate_out",{"$f":"'T2-B(PP3)'!$H$106","v":0},"#'T2-B(PP3)'!$H$106"]
["pp3_bl4_4_10_total",{"$f":"'T2-B(PP3)'!$J$106","v":0},"#'T2-B(PP3)'!$J$106"]
["pp3_bl4_4_10_total_in",{"$f":"'T2-B(PP3)'!$F$106","v":0},"#'T2-B(PP3)'!$F$106"]
["pp3_bl4_4_10_total_out",{"$f":"'T2-B(PP3)'!$I$106","v":0},"#'T2-B(PP3)'!$I$106"]
["pp3_bl4_4_10_unit",{"$f":"'T2-B(PP3)'!$C$106","v":0},"#'T2-B(PP3)'!$C$106"]
["pp3_bl4_4_10_unit_in",{"$f":"'T2-B(PP3)'!$D$106","v":0},"#'T2-B(PP3)'!$D$106"]
["pp3_bl4_4_10_units_out",{"$f":"'T2-B(PP3)'!$G$106","v":0},"#'T2-B(PP3)'!$G$106"]
["pp3_bl4_4_2_name",{"$f":"'T2-B(PP3)'!$B$98","v":0},"#'T2-B(PP3)'!$B$98"]
["pp3_bl4_4_2_rate_in",{"$f":"'T2-B(PP3)'!$E$98","v":0},"#'T2-B(PP3)'!$E$98"]
["pp3_bl4_4_2_rate_out",{"$f":"'T2-B(PP3)'!$H$98","v":0},"#'T2-B(PP3)'!$H$98"]
["pp3_bl4_4_2_total",{"$f":"'T2-B(PP3)'!$J$98","v":0},"#'T2-B(PP3)'!$J$98"]
["pp3_bl4_4_2_total_in",{"$f":"'T2-B(PP3)'!$F$98","v":0},"#'T2-B(PP3)'!$F$98"]
["pp3_bl4_4_2_total_out",{"$f":"'T2-B(PP3)'!$I$98","v":0},"#'T2-B(PP3)'!$I$98"]
["pp3_bl4_4_2_unit",{"$f":"'T2-B(PP3)'!$C$98","v":0},"#'T2-B(PP3)'!$C$98"]
["pp3_bl4_4_2_unit_in",{"$f":"'T2-B(PP3)'!$D$98","v":0},"#'T2-B(PP3)'!$D$98"]
["pp3_bl4_4_2_units_out",{"$f":"'T2-B(PP3)'!$G$98","v":0},"#'T2-B(PP3)'!$G$98"]
["pp3_bl4_4_3_name",{"$f":"'T2-B(PP3)'!$B$99","v":0},"#'T2-B(PP3)'!$B$99"]
["pp3_bl4_4_3_rate_in",{"$f":"'T2-B(PP3)'!$E$99","v":0},"#'T2-B(PP3)'!$E$99"]
["pp3_bl4_4_3_rate_out",{"$f":"'T2-B(PP3)'!$H$99","v":0},"#'T2-B(PP3)'!$H$99"]
["pp3_bl4_4_3_total",{"$f":"'T2-B(PP3)'!$J$99","v":0},"#'T2-B(PP3)'!$J$99"]
["pp3_bl4_4_3_total_in",{"$f":"'T2-B(PP3)'!$F$99","v":0},"#'T2-B(PP3)'!$F$99"]
["pp3_bl4_4_3_total_out",{"$f":"'T2-B(PP3)'!$I$99","v":0},"#'T2-B(PP3)'!$I$99"]
["pp3_bl4_4_3_unit",{"$f":"'T2-B(PP3)'!$C$99","v":0},"#'T2-B(PP3)'!$C$99"]
["pp3_bl4_4_3_unit_in",{"$f":"'T2-B(PP3)'!$D$99","v":0},"#'T2-B(PP3)'!$D$99"]
["pp3_bl4_4_3_units_out",{"$f":"'T2-B(PP3)'!$G$99","v":0},"#'T2-B(PP3)'!$G$99"]
["pp3_bl4_4_4_name",{"$f":"'T2-B(PP3)'!$B$100","v":0},"#'T2-B(PP3)'!$B$100"]
["pp3_bl4_4_4_rate_in",{"$f":"'T2-B(PP3)'!$E$100","v":0},"#'T2-B(PP3)'!$E$100"]
["pp3_bl4_4_4_rate_out",{"$f":"'T2-B(PP3)'!$H$100","v":0},"#'T2-B(PP3)'!$H$100"]
["pp3_bl4_4_4_total",{"$f":"'T2-B(PP3)'!$J$100","v":0},"#'T2-B(PP3)'!$J$100"]
["pp3_bl4_4_4_total_in",{"$f":"'T2-B(PP3)'!$F$100","v":0},"#'T2-B(PP3)'!$F$100"]
["pp3_bl4_4_4_total_out",{"$f":"'T2-B(PP3)'!$I$100","v":0},"#'T2-B(PP3)'!$I$100"]
["pp3_bl4_4_4_unit",{"$f":"'T2-B(PP3)'!$C$100","v":0},"#'T2-B(PP3)'!$C$100"]
["pp3_bl4_4_4_unit_in",{"$f":"'T2-B(PP3)'!$D$100","v":0},"#'T2-B(PP3)'!$D$100"]
["pp3_bl4_4_4_units_out",{"$f":"'T2-B(PP3)'!$G$100","v":0},"#'T2-B(PP3)'!$G$100"]
["pp3_bl4_4_5_name",{"$f":"'T2-B(PP3)'!$B$101","v":0},"#'T2-B(PP3)'!$B$101"]
["pp3_bl4_4_5_rate_in",{"$f":"'T2-B(PP3)'!$E$101","v":0},"#'T2-B(PP3)'!$E$101"]
["pp3_bl4_4_5_rate_out",{"$f":"'T2-B(PP3)'!$H$101","v":0},"#'T2-B(PP3)'!$H$101"]
["pp3_bl4_4_5_total",{"$f":"'T2-B(PP3)'!$J$101","v":0},"#'T2-B(PP3)'!$J$101"]
["pp3_bl4_4_5_total_in",{"$f":"'T2-B(PP3)'!$F$101","v":0},"#'T2-B(PP3)'!$F$101"]
["pp3_bl4_4_5_total_out",{"$f":"'T2-B(PP3)'!$I$101","v":0},"#'T2-B(PP3)'!$I$101"]
["pp3_bl4_4_5_unit",{"$f":"'T2-B(PP3)'!$C$101","v":0},"#'T2-B(PP3)'!$C$101"]
["pp3_bl4_4_5_unit_in",{"$f":"'T2-B(PP3)'!$D$101","v":0},"#'T2-B(PP3)'!$D$101"]
["pp3_bl4_4_5_units_out",{"$f":"'T2-B(PP3)'!$G$101","v":0},"#'T2-B(PP3)'!$G$101"]
["pp3_bl4_4_6_name",{"$f":"'T2-B(PP3)'!$B$102","v":0},"#'T2-B(PP3)'!$B$102"]
["pp3_bl4_4_6_rate_in",{"$f":"'T2-B(PP3)'!$E$102","v":0},"#'T2-B(PP3)'!$E$102"]
["pp3_bl4_4_6_rate_out",{"$f":"'T2-B(PP3)'!$H$102","v":0},"#'T2-B(PP3)'!$H$102"]
["pp3_bl4_4_6_total",{"$f":"'T2-B(PP3)'!$J$102","v":0},"#'T2-B(PP3)'!$J$102"]
["pp3_bl4_4_6_total_in",{"$f":"'T2-B(PP3)'!$F$102","v":0},"#'T2-B(PP3)'!$F$102"]
["pp3_bl4_4_6_total_out",{"$f":"'T2-B(PP3)'!$I$102","v":0},"#'T2-B(PP3)'!$I$102"]
["pp3_bl4_4_6_unit",{"$f":"'T2-B(PP3)'!$C$102","v":0},"#'T2-B(PP3)'!$C$102"]
["pp3_bl4_4_6_unit_in",{"$f":"'T2-B(PP3)'!$D$102","v":0},"#'T2-B(PP3)'!$D$102"]
["pp3_bl4_4_6_units_out",{"$f":"'T2-B(PP3)'!$G$102","v":0},"#'T2-B(PP3)'!$G$102"]
["pp3_bl4_4_7_name",{"$f":"'T2-B(PP3)'!$B$103","v":0},"#'T2-B(PP3)'!$B$103"]
["pp3_bl4_4_7_rate_in",{"$f":"'T2-B(PP3)'!$E$103","v":0},"#'T2-B(PP3)'!$E$103"]
["pp3_bl4_4_7_rate_out",{"$f":"'T2-B(PP3)'!$H$103","v":0},"#'T2-B(PP3)'!$H$103"]
["pp3_bl4_4_7_total",{"$f":"'T2-B(PP3)'!$J$103","v":0},"#'T2-B(PP3)'!$J$103"]
["pp3_bl4_4_7_total_in",{"$f":"'T2-B(PP3)'!$F$103","v":0},"#'T2-B(PP3)'!$F$103"]
["pp3_bl4_4_7_total_out",{"$f":"'T2-B(PP3)'!$I$103","v":0},"#'T2-B(PP3)'!$I$103"]
["pp3_bl4_4_7_unit",{"$f":"'T2-B(PP3)'!$C$103","v":0},"#'T2-B(PP3)'!$C$103"]
["pp3_bl4_4_7_unit_in",{"$f":"'T2-B(PP3)'!$D$103","v":0},"#'T2-B(PP3)'!$D$103"]
["pp3_bl4_4_7_units_out",{"$f":"'T2-B(PP3)'!$G$103","v":0},"#'T2-B(PP3)'!$G$103"]
["pp3_bl4_4_8_name",{"$f":"'T2-B(PP3)'!$B$104","v":0},"#'T2-B(PP3)'!$B$104"]
["pp3_bl4_4_8_rate_in",{"$f":"'T2-B(PP3)'!$E$104","v":0},"#'T2-B(PP3)'!$E$104"]
["pp3_bl4_4_8_rate_out",{"$f":"'T2-B(PP3)'!$H$104","v":0},"#'T2-B(PP3)'!$H$104"]
["pp3_bl4_4_8_total",{"$f":"'T2-B(PP3)'!$J$104","v":0},"#'T2-B(PP3)'!$J$104"]
["pp3_bl4_4_8_total_in",{"$f":"'T2-B(PP3)'!$F$104","v":0},"#'T2-B(PP3)'!$F$104"]
["pp3_bl4_4_8_total_out",{"$f":"'T2-B(PP3)'!$I$104","v":0},"#'T2-B(PP3)'!$I$104"]
["pp3_bl4_4_8_unit",{"$f":"'T2-B(PP3)'!$C$104","v":0},"#'T2-B(PP3)'!$C$104"]
["pp3_bl4_4_8_unit_in",{"$f":"'T2-B(PP3)'!$D$104","v":0},"#'T2-B(PP3)'!$D$104"]
["pp3_bl4_4_8_units_out",{"$f":"'T2-B(PP3)'!$G$104","v":0},"#'T2-B(PP3)'!$G$104"]
["pp3_bl4_4_9_name",{"$f":"'T2-B(PP3)'!$B$105","v":0},"#'T2-B(PP3)'!$B$105"]
["pp3_bl4_4_9_rate_in",{"$f":"'T2-B(PP3)'!$E$105","v":0},"#'T2-B(PP3)'!$E$105"]
["pp3_bl4_4_9_rate_out",{"$f":"'T2-B(PP3)'!$H$105","v":0},"#'T2-B(PP3)'!$H$105"]
["pp3_bl4_4_9_total",{"$f":"'T2-B(PP3)'!$J$105","v":0},"#'T2-B(PP3)'!$J$105"]
["pp3_bl4_4_9_total_in",{"$f":"'T2-B(PP3)'!$F$105","v":0},"#'T2-B(PP3)'!$F$105"]
["pp3_bl4_4_9_total_out",{"$f":"'T2-B(PP3)'!$I$105","v":0},"#'T2-B(PP3)'!$I$105"]
["pp3_bl4_4_9_unit",{"$f":"'T2-B(PP3)'!$C$105","v":0},"#'T2-B(PP3)'!$C$105"]
["pp3_bl4_4_9_unit_in",{"$f":"'T2-B(PP3)'!$D$105","v":0},"#'T2-B(PP3)'!$D$105"]
["pp3_bl4_4_9_units_out",{"$f":"'T2-B(PP3)'!$G$105","v":0},"#'T2-B(PP3)'!$G$105"]
["pp3_bl4_4_total",{"$f":"'T2-B(PP3)'!$J$96","v":0},"#'T2-B(PP3)'!$J$96"]
["pp3_bl4_4_total_in",{"$f":"'T2-B(PP3)'!$F$96","v":0},"#'T2-B(PP3)'!$F$96"]
["pp3_bl4_4_total_out",{"$f":"'T2-B(PP3)'!$I$96","v":0},"#'T2-B(PP3)'!$I$96"]
["pp3_bl4_5_1_name",{"$f":"'T2-B(PP3)'!$B$108","v":0},"#'T2-B(PP3)'!$B$108"]
["pp3_bl4_5_1_rate_in",{"$f":"'T2-B(PP3)'!$E$108","v":0},"#'T2-B(PP3)'!$E$108"]
["pp3_bl4_5_1_rate_out",{"$f":"'T2-B(PP3)'!$H$108","v":0},"#'T2-B(PP3)'!$H$108"]
["pp3_bl4_5_1_total",{"$f":"'T2-B(PP3)'!$J$108","v":0},"#'T2-B(PP3)'!$J$108"]
["pp3_bl4_5_1_total_in",{"$f":"'T2-B(PP3)'!$F$108","v":0},"#'T2-B(PP3)'!$F$108"]
["pp3_bl4_5_1_total_out",{"$f":"'T2-B(PP3)'!$I$108","v":0},"#'T2-B(PP3)'!$I$108"]
["pp3_bl4_5_1_unit",{"$f":"'T2-B(PP3)'!$C$108","v":0},"#'T2-B(PP3)'!$C$108"]
["pp3_bl4_5_1_unit_in",{"$f":"'T2-B(PP3)'!$D$108","v":0},"#'T2-B(PP3)'!$D$108"]
["pp3_bl4_5_1_units_out",{"$f":"'T2-B(PP3)'!$G$108","v":0},"#'T2-B(PP3)'!$G$108"]
["pp3_bl4_5_10_name",{"$f":"'T2-B(PP3)'!$B$117","v":0},"#'T2-B(PP3)'!$B$117"]
["pp3_bl4_5_10_rate_in",{"$f":"'T2-B(PP3)'!$E$117","v":0},"#'T2-B(PP3)'!$E$117"]
["pp3_bl4_5_10_rate_out",{"$f":"'T2-B(PP3)'!$H$117","v":0},"#'T2-B(PP3)'!$H$117"]
["pp3_bl4_5_10_total",{"$f":"'T2-B(PP3)'!$J$117","v":0},"#'T2-B(PP3)'!$J$117"]
["pp3_bl4_5_10_total_in",{"$f":"'T2-B(PP3)'!$F$117","v":0},"#'T2-B(PP3)'!$F$117"]
["pp3_bl4_5_10_total_out",{"$f":"'T2-B(PP3)'!$I$117","v":0},"#'T2-B(PP3)'!$I$117"]
["pp3_bl4_5_10_unit",{"$f":"'T2-B(PP3)'!$C$117","v":0},"#'T2-B(PP3)'!$C$117"]
["pp3_bl4_5_10_unit_in",{"$f":"'T2-B(PP3)'!$D$117","v":0},"#'T2-B(PP3)'!$D$117"]
["pp3_bl4_5_10_units_out",{"$f":"'T2-B(PP3)'!$G$117","v":0},"#'T2-B(PP3)'!$G$117"]
["pp3_bl4_5_2_name",{"$f":"'T2-B(PP3)'!$B$109","v":0},"#'T2-B(PP3)'!$B$109"]
["pp3_bl4_5_2_rate_in",{"$f":"'T2-B(PP3)'!$E$109","v":0},"#'T2-B(PP3)'!$E$109"]
["pp3_bl4_5_2_rate_out",{"$f":"'T2-B(PP3)'!$H$109","v":0},"#'T2-B(PP3)'!$H$109"]
["pp3_bl4_5_2_total",{"$f":"'T2-B(PP3)'!$J$109","v":0},"#'T2-B(PP3)'!$J$109"]
["pp3_bl4_5_2_total_in",{"$f":"'T2-B(PP3)'!$F$109","v":0},"#'T2-B(PP3)'!$F$109"]
["pp3_bl4_5_2_total_out",{"$f":"'T2-B(PP3)'!$I$109","v":0},"#'T2-B(PP3)'!$I$109"]
["pp3_bl4_5_2_unit",{"$f":"'T2-B(PP3)'!$C$109","v":0},"#'T2-B(PP3)'!$C$109"]
["pp3_bl4_5_2_unit_in",{"$f":"'T2-B(PP3)'!$D$109","v":0},"#'T2-B(PP3)'!$D$109"]
["pp3_bl4_5_2_units_out",{"$f":"'T2-B(PP3)'!$G$109","v":0},"#'T2-B(PP3)'!$G$109"]
["pp3_bl4_5_3_name",{"$f":"'T2-B(PP3)'!$B$110","v":0},"#'T2-B(PP3)'!$B$110"]
["pp3_bl4_5_3_rate_in",{"$f":"'T2-B(PP3)'!$E$110","v":0},"#'T2-B(PP3)'!$E$110"]
["pp3_bl4_5_3_rate_out",{"$f":"'T2-B(PP3)'!$H$110","v":0},"#'T2-B(PP3)'!$H$110"]
["pp3_bl4_5_3_total",{"$f":"'T2-B(PP3)'!$J$110","v":0},"#'T2-B(PP3)'!$J$110"]
["pp3_bl4_5_3_total_in",{"$f":"'T2-B(PP3)'!$F$110","v":0},"#'T2-B(PP3)'!$F$110"]
["pp3_bl4_5_3_total_out",{"$f":"'T2-B(PP3)'!$I$110","v":0},"#'T2-B(PP3)'!$I$110"]
["pp3_bl4_5_3_unit",{"$f":"'T2-B(PP3)'!$C$110","v":0},"#'T2-B(PP3)'!$C$110"]
["pp3_bl4_5_3_unit_in",{"$f":"'T2-B(PP3)'!$D$110","v":0},"#'T2-B(PP3)'!$D$110"]
["pp3_bl4_5_3_units_out",{"$f":"'T2-B(PP3)'!$G$110","v":0},"#'T2-B(PP3)'!$G$110"]
["pp3_bl4_5_4_name",{"$f":"'T2-B(PP3)'!$B$111","v":0},"#'T2-B(PP3)'!$B$111"]
["pp3_bl4_5_4_rate_in",{"$f":"'T2-B(PP3)'!$E$111","v":0},"#'T2-B(PP3)'!$E$111"]
["pp3_bl4_5_4_rate_out",{"$f":"'T2-B(PP3)'!$H$111","v":0},"#'T2-B(PP3)'!$H$111"]
["pp3_bl4_5_4_total",{"$f":"'T2-B(PP3)'!$J$111","v":0},"#'T2-B(PP3)'!$J$111"]
["pp3_bl4_5_4_total_in",{"$f":"'T2-B(PP3)'!$F$111","v":0},"#'T2-B(PP3)'!$F$111"]
["pp3_bl4_5_4_total_out",{"$f":"'T2-B(PP3)'!$I$111","v":0},"#'T2-B(PP3)'!$I$111"]
["pp3_bl4_5_4_unit",{"$f":"'T2-B(PP3)'!$C$111","v":0},"#'T2-B(PP3)'!$C$111"]
["pp3_bl4_5_4_unit_in",{"$f":"'T2-B(PP3)'!$D$111","v":0},"#'T2-B(PP3)'!$D$111"]
["pp3_bl4_5_4_units_out",{"$f":"'T2-B(PP3)'!$G$111","v":0},"#'T2-B(PP3)'!$G$111"]
["pp3_bl4_5_5_name",{"$f":"'T2-B(PP3)'!$B$112","v":0},"#'T2-B(PP3)'!$B$112"]
["pp3_bl4_5_5_rate_in",{"$f":"'T2-B(PP3)'!$E$112","v":0},"#'T2-B(PP3)'!$E$112"]
["pp3_bl4_5_5_rate_out",{"$f":"'T2-B(PP3)'!$H$112","v":0},"#'T2-B(PP3)'!$H$112"]
["pp3_bl4_5_5_total",{"$f":"'T2-B(PP3)'!$J$112","v":0},"#'T2-B(PP3)'!$J$112"]
["pp3_bl4_5_5_total_in",{"$f":"'T2-B(PP3)'!$F$112","v":0},"#'T2-B(PP3)'!$F$112"]
["pp3_bl4_5_5_total_out",{"$f":"'T2-B(PP3)'!$I$112","v":0},"#'T2-B(PP3)'!$I$112"]
["pp3_bl4_5_5_unit",{"$f":"'T2-B(PP3)'!$C$112","v":0},"#'T2-B(PP3)'!$C$112"]
["pp3_bl4_5_5_unit_in",{"$f":"'T2-B(PP3)'!$D$112","v":0},"#'T2-B(PP3)'!$D$112"]
["pp3_bl4_5_5_units_out",{"$f":"'T2-B(PP3)'!$G$112","v":0},"#'T2-B(PP3)'!$G$112"]
["pp3_bl4_5_6_name",{"$f":"'T2-B(PP3)'!$B$113","v":0},"#'T2-B(PP3)'!$B$113"]
["pp3_bl4_5_6_rate_in",{"$f":"'T2-B(PP3)'!$E$113","v":0},"#'T2-B(PP3)'!$E$113"]
["pp3_bl4_5_6_rate_out",{"$f":"'T2-B(PP3)'!$H$113","v":0},"#'T2-B(PP3)'!$H$113"]
["pp3_bl4_5_6_total",{"$f":"'T2-B(PP3)'!$J$113","v":0},"#'T2-B(PP3)'!$J$113"]
["pp3_bl4_5_6_total_in",{"$f":"'T2-B(PP3)'!$F$113","v":0},"#'T2-B(PP3)'!$F$113"]
["pp3_bl4_5_6_total_out",{"$f":"'T2-B(PP3)'!$I$113","v":0},"#'T2-B(PP3)'!$I$113"]
["pp3_bl4_5_6_unit",{"$f":"'T2-B(PP3)'!$C$113","v":0},"#'T2-B(PP3)'!$C$113"]
["pp3_bl4_5_6_unit_in",{"$f":"'T2-B(PP3)'!$D$113","v":0},"#'T2-B(PP3)'!$D$113"]
["pp3_bl4_5_6_units_out",{"$f":"'T2-B(PP3)'!$G$113","v":0},"#'T2-B(PP3)'!$G$113"]
["pp3_bl4_5_7_name",{"$f":"'T2-B(PP3)'!$B$114","v":0},"#'T2-B(PP3)'!$B$114"]
["pp3_bl4_5_7_rate_in",{"$f":"'T2-B(PP3)'!$E$114","v":0},"#'T2-B(PP3)'!$E$114"]
["pp3_bl4_5_7_rate_out",{"$f":"'T2-B(PP3)'!$H$114","v":0},"#'T2-B(PP3)'!$H$114"]
["pp3_bl4_5_7_total",{"$f":"'T2-B(PP3)'!$J$114","v":0},"#'T2-B(PP3)'!$J$114"]
["pp3_bl4_5_7_total_in",{"$f":"'T2-B(PP3)'!$F$114","v":0},"#'T2-B(PP3)'!$F$114"]
["pp3_bl4_5_7_total_out",{"$f":"'T2-B(PP3)'!$I$114","v":0},"#'T2-B(PP3)'!$I$114"]
["pp3_bl4_5_7_unit",{"$f":"'T2-B(PP3)'!$C$114","v":0},"#'T2-B(PP3)'!$C$114"]
["pp3_bl4_5_7_unit_in",{"$f":"'T2-B(PP3)'!$D$114","v":0},"#'T2-B(PP3)'!$D$114"]
["pp3_bl4_5_7_units_out",{"$f":"'T2-B(PP3)'!$G$114","v":0},"#'T2-B(PP3)'!$G$114"]
["pp3_bl4_5_8_name",{"$f":"'T2-B(PP3)'!$B$115","v":0},"#'T2-B(PP3)'!$B$115"]
["pp3_bl4_5_8_rate_in",{"$f":"'T2-B(PP3)'!$E$115","v":0},"#'T2-B(PP3)'!$E$115"]
["pp3_bl4_5_8_rate_out",{"$f":"'T2-B(PP3)'!$H$115","v":0},"#'T2-B(PP3)'!$H$115"]
["pp3_bl4_5_8_total",{"$f":"'T2-B(PP3)'!$J$115","v":0},"#'T2-B(PP3)'!$J$115"]
["pp3_bl4_5_8_total_in",{"$f":"'T2-B(PP3)'!$F$115","v":0},"#'T2-B(PP3)'!$F$115"]
["pp3_bl4_5_8_total_out",{"$f":"'T2-B(PP3)'!$I$115","v":0},"#'T2-B(PP3)'!$I$115"]
["pp3_bl4_5_8_unit",{"$f":"'T2-B(PP3)'!$C$115","v":0},"#'T2-B(PP3)'!$C$115"]
["pp3_bl4_5_8_unit_in",{"$f":"'T2-B(PP3)'!$D$115","v":0},"#'T2-B(PP3)'!$D$115"]
["pp3_bl4_5_8_units_out",{"$f":"'T2-B(PP3)'!$G$115","v":0},"#'T2-B(PP3)'!$G$115"]
["pp3_bl4_5_9_name",{"$f":"'T2-B(PP3)'!$B$116","v":0},"#'T2-B(PP3)'!$B$116"]
["pp3_bl4_5_9_rate_in",{"$f":"'T2-B(PP3)'!$E$116","v":0},"#'T2-B(PP3)'!$E$116"]
["pp3_bl4_5_9_rate_out",{"$f":"'T2-B(PP3)'!$H$116","v":0},"#'T2-B(PP3)'!$H$116"]
["pp3_bl4_5_9_total",{"$f":"'T2-B(PP3)'!$J$116","v":0},"#'T2-B(PP3)'!$J$116"]
["pp3_bl4_5_9_total_in",{"$f":"'T2-B(PP3)'!$F$116","v":0},"#'T2-B(PP3)'!$F$116"]
["pp3_bl4_5_9_total_out",{"$f":"'T2-B(PP3)'!$I$116","v":0},"#'T2-B(PP3)'!$I$116"]
["pp3_bl4_5_9_unit",{"$f":"'T2-B(PP3)'!$C$116","v":0},"#'T2-B(PP3)'!$C$116"]
["pp3_bl4_5_9_unit_in",{"$f":"'T2-B(PP3)'!$D$116","v":0},"#'T2-B(PP3)'!$D$116"]
["pp3_bl4_5_9_units_out",{"$f":"'T2-B(PP3)'!$G$116","v":0},"#'T2-B(PP3)'!$G$116"]
["pp3_bl4_5_total",{"$f":"'T2-B(PP3)'!$J$107","v":0},"#'T2-B(PP3)'!$J$107"]
["pp3_bl4_5_total_in",{"$f":"'T2-B(PP3)'!$F$107","v":0},"#'T2-B(PP3)'!$F$107"]
["pp3_bl4_5_total_out",{"$f":"'T2-B(PP3)'!$I$107","v":0},"#'T2-B(PP3)'!$I$107"]
["pp3_bl4_6_1_name",{"$f":"'T2-B(PP3)'!$B$119","v":0},"#'T2-B(PP3)'!$B$119"]
["pp3_bl4_6_1_rate_in",{"$f":"'T2-B(PP3)'!$E$119","v":0},"#'T2-B(PP3)'!$E$119"]
["pp3_bl4_6_1_rate_out",{"$f":"'T2-B(PP3)'!$H$119","v":0},"#'T2-B(PP3)'!$H$119"]
["pp3_bl4_6_1_total",{"$f":"'T2-B(PP3)'!$J$119","v":0},"#'T2-B(PP3)'!$J$119"]
["pp3_bl4_6_1_total_in",{"$f":"'T2-B(PP3)'!$F$119","v":0},"#'T2-B(PP3)'!$F$119"]
["pp3_bl4_6_1_total_out",{"$f":"'T2-B(PP3)'!$I$119","v":0},"#'T2-B(PP3)'!$I$119"]
["pp3_bl4_6_1_unit",{"$f":"'T2-B(PP3)'!$C$119","v":0},"#'T2-B(PP3)'!$C$119"]
["pp3_bl4_6_1_unit_in",{"$f":"'T2-B(PP3)'!$D$119","v":0},"#'T2-B(PP3)'!$D$119"]
["pp3_bl4_6_1_units_out",{"$f":"'T2-B(PP3)'!$G$119","v":0},"#'T2-B(PP3)'!$G$119"]
["pp3_bl4_6_10_name",{"$f":"'T2-B(PP3)'!$B$128","v":0},"#'T2-B(PP3)'!$B$128"]
["pp3_bl4_6_10_rate_in",{"$f":"'T2-B(PP3)'!$E$128","v":0},"#'T2-B(PP3)'!$E$128"]
["pp3_bl4_6_10_rate_out",{"$f":"'T2-B(PP3)'!$H$128","v":0},"#'T2-B(PP3)'!$H$128"]
["pp3_bl4_6_10_total",{"$f":"'T2-B(PP3)'!$J$128","v":0},"#'T2-B(PP3)'!$J$128"]
["pp3_bl4_6_10_total_in",{"$f":"'T2-B(PP3)'!$F$128","v":0},"#'T2-B(PP3)'!$F$128"]
["pp3_bl4_6_10_total_out",{"$f":"'T2-B(PP3)'!$I$128","v":0},"#'T2-B(PP3)'!$I$128"]
["pp3_bl4_6_10_unit",{"$f":"'T2-B(PP3)'!$C$128","v":0},"#'T2-B(PP3)'!$C$128"]
["pp3_bl4_6_10_unit_in",{"$f":"'T2-B(PP3)'!$D$128","v":0},"#'T2-B(PP3)'!$D$128"]
["pp3_bl4_6_10_units_out",{"$f":"'T2-B(PP3)'!$G$128","v":0},"#'T2-B(PP3)'!$G$128"]
["pp3_bl4_6_2_name",{"$f":"'T2-B(PP3)'!$B$120","v":0},"#'T2-B(PP3)'!$B$120"]
["pp3_bl4_6_2_rate_in",{"$f":"'T2-B(PP3)'!$E$120","v":0},"#'T2-B(PP3)'!$E$120"]
["pp3_bl4_6_2_rate_out",{"$f":"'T2-B(PP3)'!$H$120","v":0},"#'T2-B(PP3)'!$H$120"]
["pp3_bl4_6_2_total",{"$f":"'T2-B(PP3)'!$J$120","v":0},"#'T2-B(PP3)'!$J$120"]
["pp3_bl4_6_2_total_in",{"$f":"'T2-B(PP3)'!$F$120","v":0},"#'T2-B(PP3)'!$F$120"]
["pp3_bl4_6_2_total_out",{"$f":"'T2-B(PP3)'!$I$120","v":0},"#'T2-B(PP3)'!$I$120"]
["pp3_bl4_6_2_unit",{"$f":"'T2-B(PP3)'!$C$120","v":0},"#'T2-B(PP3)'!$C$120"]
["pp3_bl4_6_2_unit_in",{"$f":"'T2-B(PP3)'!$D$120","v":0},"#'T2-B(PP3)'!$D$120"]
["pp3_bl4_6_2_units_out",{"$f":"'T2-B(PP3)'!$G$120","v":0},"#'T2-B(PP3)'!$G$120"]
["pp3_bl4_6_3_name",{"$f":"'T2-B(PP3)'!$B$121","v":0},"#'T2-B(PP3)'!$B$121"]
["pp3_bl4_6_3_rate_in",{"$f":"'T2-B(PP3)'!$E$121","v":0},"#'T2-B(PP3)'!$E$121"]
["pp3_bl4_6_3_rate_out",{"$f":"'T2-B(PP3)'!$H$121","v":0},"#'T2-B(PP3)'!$H$121"]
["pp3_bl4_6_3_total",{"$f":"'T2-B(PP3)'!$J$121","v":0},"#'T2-B(PP3)'!$J$121"]
["pp3_bl4_6_3_total_in",{"$f":"'T2-B(PP3)'!$F$121","v":0},"#'T2-B(PP3)'!$F$121"]
["pp3_bl4_6_3_total_out",{"$f":"'T2-B(PP3)'!$I$121","v":0},"#'T2-B(PP3)'!$I$121"]
["pp3_bl4_6_3_unit",{"$f":"'T2-B(PP3)'!$C$121","v":0},"#'T2-B(PP3)'!$C$121"]
["pp3_bl4_6_3_unit_in",{"$f":"'T2-B(PP3)'!$D$121","v":0},"#'T2-B(PP3)'!$D$121"]
["pp3_bl4_6_3_units_out",{"$f":"'T2-B(PP3)'!$G$121","v":0},"#'T2-B(PP3)'!$G$121"]
["pp3_bl4_6_4_name",{"$f":"'T2-B(PP3)'!$B$122","v":0},"#'T2-B(PP3)'!$B$122"]
["pp3_bl4_6_4_rate_in",{"$f":"'T2-B(PP3)'!$E$122","v":0},"#'T2-B(PP3)'!$E$122"]
["pp3_bl4_6_4_rate_out",{"$f":"'T2-B(PP3)'!$H$122","v":0},"#'T2-B(PP3)'!$H$122"]
["pp3_bl4_6_4_total",{"$f":"'T2-B(PP3)'!$J$122","v":0},"#'T2-B(PP3)'!$J$122"]
["pp3_bl4_6_4_total_in",{"$f":"'T2-B(PP3)'!$F$122","v":0},"#'T2-B(PP3)'!$F$122"]
["pp3_bl4_6_4_total_out",{"$f":"'T2-B(PP3)'!$I$122","v":0},"#'T2-B(PP3)'!$I$122"]
["pp3_bl4_6_4_unit",{"$f":"'T2-B(PP3)'!$C$122","v":0},"#'T2-B(PP3)'!$C$122"]
["pp3_bl4_6_4_unit_in",{"$f":"'T2-B(PP3)'!$D$122","v":0},"#'T2-B(PP3)'!$D$122"]
["pp3_bl4_6_4_units_out",{"$f":"'T2-B(PP3)'!$G$122","v":0},"#'T2-B(PP3)'!$G$122"]
["pp3_bl4_6_5_name",{"$f":"'T2-B(PP3)'!$B$123","v":0},"#'T2-B(PP3)'!$B$123"]
["pp3_bl4_6_5_rate_in",{"$f":"'T2-B(PP3)'!$E$123","v":0},"#'T2-B(PP3)'!$E$123"]
["pp3_bl4_6_5_rate_out",{"$f":"'T2-B(PP3)'!$H$123","v":0},"#'T2-B(PP3)'!$H$123"]
["pp3_bl4_6_5_total",{"$f":"'T2-B(PP3)'!$J$123","v":0},"#'T2-B(PP3)'!$J$123"]
["pp3_bl4_6_5_total_in",{"$f":"'T2-B(PP3)'!$F$123","v":0},"#'T2-B(PP3)'!$F$123"]
["pp3_bl4_6_5_total_out",{"$f":"'T2-B(PP3)'!$I$123","v":0},"#'T2-B(PP3)'!$I$123"]
["pp3_bl4_6_5_unit",{"$f":"'T2-B(PP3)'!$C$123","v":0},"#'T2-B(PP3)'!$C$123"]
["pp3_bl4_6_5_unit_in",{"$f":"'T2-B(PP3)'!$D$123","v":0},"#'T2-B(PP3)'!$D$123"]
["pp3_bl4_6_5_units_out",{"$f":"'T2-B(PP3)'!$G$123","v":0},"#'T2-B(PP3)'!$G$123"]
["pp3_bl4_6_6_name",{"$f":"'T2-B(PP3)'!$B$124","v":0},"#'T2-B(PP3)'!$B$124"]
["pp3_bl4_6_6_rate_in",{"$f":"'T2-B(PP3)'!$E$124","v":0},"#'T2-B(PP3)'!$E$124"]
["pp3_bl4_6_6_rate_out",{"$f":"'T2-B(PP3)'!$H$124","v":0},"#'T2-B(PP3)'!$H$124"]
["pp3_bl4_6_6_total",{"$f":"'T2-B(PP3)'!$J$124","v":0},"#'T2-B(PP3)'!$J$124"]
["pp3_bl4_6_6_total_in",{"$f":"'T2-B(PP3)'!$F$124","v":0},"#'T2-B(PP3)'!$F$124"]
["pp3_bl4_6_6_total_out",{"$f":"'T2-B(PP3)'!$I$124","v":0},"#'T2-B(PP3)'!$I$124"]
["pp3_bl4_6_6_unit",{"$f":"'T2-B(PP3)'!$C$124","v":0},"#'T2-B(PP3)'!$C$124"]
["pp3_bl4_6_6_unit_in",{"$f":"'T2-B(PP3)'!$D$124","v":0},"#'T2-B(PP3)'!$D$124"]
["pp3_bl4_6_6_units_out",{"$f":"'T2-B(PP3)'!$G$124","v":0},"#'T2-B(PP3)'!$G$124"]
["pp3_bl4_6_7_name",{"$f":"'T2-B(PP3)'!$B$125","v":0},"#'T2-B(PP3)'!$B$125"]
["pp3_bl4_6_7_rate_in",{"$f":"'T2-B(PP3)'!$E$125","v":0},"#'T2-B(PP3)'!$E$125"]
["pp3_bl4_6_7_rate_out",{"$f":"'T2-B(PP3)'!$H$125","v":0},"#'T2-B(PP3)'!$H$125"]
["pp3_bl4_6_7_total",{"$f":"'T2-B(PP3)'!$J$125","v":0},"#'T2-B(PP3)'!$J$125"]
["pp3_bl4_6_7_total_in",{"$f":"'T2-B(PP3)'!$F$125","v":0},"#'T2-B(PP3)'!$F$125"]
["pp3_bl4_6_7_total_out",{"$f":"'T2-B(PP3)'!$I$125","v":0},"#'T2-B(PP3)'!$I$125"]
["pp3_bl4_6_7_unit",{"$f":"'T2-B(PP3)'!$C$125","v":0},"#'T2-B(PP3)'!$C$125"]
["pp3_bl4_6_7_unit_in",{"$f":"'T2-B(PP3)'!$D$125","v":0},"#'T2-B(PP3)'!$D$125"]
["pp3_bl4_6_7_units_out",{"$f":"'T2-B(PP3)'!$G$125","v":0},"#'T2-B(PP3)'!$G$125"]
["pp3_bl4_6_8_name",{"$f":"'T2-B(PP3)'!$B$126","v":0},"#'T2-B(PP3)'!$B$126"]
["pp3_bl4_6_8_rate_in",{"$f":"'T2-B(PP3)'!$E$126","v":0},"#'T2-B(PP3)'!$E$126"]
["pp3_bl4_6_8_rate_out",{"$f":"'T2-B(PP3)'!$H$126","v":0},"#'T2-B(PP3)'!$H$126"]
["pp3_bl4_6_8_total",{"$f":"'T2-B(PP3)'!$J$126","v":0},"#'T2-B(PP3)'!$J$126"]
["pp3_bl4_6_8_total_in",{"$f":"'T2-B(PP3)'!$F$126","v":0},"#'T2-B(PP3)'!$F$126"]
["pp3_bl4_6_8_total_out",{"$f":"'T2-B(PP3)'!$I$126","v":0},"#'T2-B(PP3)'!$I$126"]
["pp3_bl4_6_8_unit",{"$f":"'T2-B(PP3)'!$C$126","v":0},"#'T2-B(PP3)'!$C$126"]
["pp3_bl4_6_8_unit_in",{"$f":"'T2-B(PP3)'!$D$126","v":0},"#'T2-B(PP3)'!$D$126"]
["pp3_bl4_6_8_units_out",{"$f":"'T2-B(PP3)'!$G$126","v":0},"#'T2-B(PP3)'!$G$126"]
["pp3_bl4_6_9_name",{"$f":"'T2-B(PP3)'!$B$127","v":0},"#'T2-B(PP3)'!$B$127"]
["pp3_bl4_6_9_rate_in",{"$f":"'T2-B(PP3)'!$E$127","v":0},"#'T2-B(PP3)'!$E$127"]
["pp3_bl4_6_9_rate_out",{"$f":"'T2-B(PP3)'!$H$127","v":0},"#'T2-B(PP3)'!$H$127"]
["pp3_bl4_6_9_total",{"$f":"'T2-B(PP3)'!$J$127","v":0},"#'T2-B(PP3)'!$J$127"]
["pp3_bl4_6_9_total_in",{"$f":"'T2-B(PP3)'!$F$127","v":0},"#'T2-B(PP3)'!$F$127"]
["pp3_bl4_6_9_total_out",{"$f":"'T2-B(PP3)'!$I$127","v":0},"#'T2-B(PP3)'!$I$127"]
["pp3_bl4_6_9_unit",{"$f":"'T2-B(PP3)'!$C$127","v":0},"#'T2-B(PP3)'!$C$127"]
["pp3_bl4_6_9_unit_in",{"$f":"'T2-B(PP3)'!$D$127","v":0},"#'T2-B(PP3)'!$D$127"]
["pp3_bl4_6_9_units_out",{"$f":"'T2-B(PP3)'!$G$127","v":0},"#'T2-B(PP3)'!$G$127"]
["pp3_bl4_6_total",{"$f":"'T2-B(PP3)'!$J$118","v":0},"#'T2-B(PP3)'!$J$118"]
["pp3_bl4_6_total_in",{"$f":"'T2-B(PP3)'!$F$118","v":0},"#'T2-B(PP3)'!$F$118"]
["pp3_bl4_6_total_out",{"$f":"'T2-B(PP3)'!$I$118","v":0},"#'T2-B(PP3)'!$I$118"]
["pp3_bl4_7_1_name",{"$f":"'T2-B(PP3)'!$B$130","v":0},"#'T2-B(PP3)'!$B$130"]
["pp3_bl4_7_1_rate_in",{"$f":"'T2-B(PP3)'!$E$130","v":0},"#'T2-B(PP3)'!$E$130"]
["pp3_bl4_7_1_rate_out",{"$f":"'T2-B(PP3)'!$H$130","v":0},"#'T2-B(PP3)'!$H$130"]
["pp3_bl4_7_1_total",{"$f":"'T2-B(PP3)'!$J$130","v":0},"#'T2-B(PP3)'!$J$130"]
["pp3_bl4_7_1_total_in",{"$f":"'T2-B(PP3)'!$F$130","v":0},"#'T2-B(PP3)'!$F$130"]
["pp3_bl4_7_1_total_out",{"$f":"'T2-B(PP3)'!$I$130","v":0},"#'T2-B(PP3)'!$I$130"]
["pp3_bl4_7_1_unit",{"$f":"'T2-B(PP3)'!$C$130","v":0},"#'T2-B(PP3)'!$C$130"]
["pp3_bl4_7_1_unit_in",{"$f":"'T2-B(PP3)'!$D$130","v":0},"#'T2-B(PP3)'!$D$130"]
["pp3_bl4_7_1_units_out",{"$f":"'T2-B(PP3)'!$G$130","v":0},"#'T2-B(PP3)'!$G$130"]
["pp3_bl4_7_10_name",{"$f":"'T2-B(PP3)'!$B$139","v":0},"#'T2-B(PP3)'!$B$139"]
["pp3_bl4_7_10_rate_in",{"$f":"'T2-B(PP3)'!$E$139","v":0},"#'T2-B(PP3)'!$E$139"]
["pp3_bl4_7_10_rate_out",{"$f":"'T2-B(PP3)'!$H$139","v":0},"#'T2-B(PP3)'!$H$139"]
["pp3_bl4_7_10_total",{"$f":"'T2-B(PP3)'!$J$139","v":0},"#'T2-B(PP3)'!$J$139"]
["pp3_bl4_7_10_total_in",{"$f":"'T2-B(PP3)'!$F$139","v":0},"#'T2-B(PP3)'!$F$139"]
["pp3_bl4_7_10_total_out",{"$f":"'T2-B(PP3)'!$I$139","v":0},"#'T2-B(PP3)'!$I$139"]
["pp3_bl4_7_10_unit",{"$f":"'T2-B(PP3)'!$C$139","v":0},"#'T2-B(PP3)'!$C$139"]
["pp3_bl4_7_10_unit_in",{"$f":"'T2-B(PP3)'!$D$139","v":0},"#'T2-B(PP3)'!$D$139"]
["pp3_bl4_7_10_units_out",{"$f":"'T2-B(PP3)'!$G$139","v":0},"#'T2-B(PP3)'!$G$139"]
["pp3_bl4_7_2_name",{"$f":"'T2-B(PP3)'!$B$131","v":0},"#'T2-B(PP3)'!$B$131"]
["pp3_bl4_7_2_rate_in",{"$f":"'T2-B(PP3)'!$E$131","v":0},"#'T2-B(PP3)'!$E$131"]
["pp3_bl4_7_2_rate_out",{"$f":"'T2-B(PP3)'!$H$131","v":0},"#'T2-B(PP3)'!$H$131"]
["pp3_bl4_7_2_total",{"$f":"'T2-B(PP3)'!$J$131","v":0},"#'T2-B(PP3)'!$J$131"]
["pp3_bl4_7_2_total_in",{"$f":"'T2-B(PP3)'!$F$131","v":0},"#'T2-B(PP3)'!$F$131"]
["pp3_bl4_7_2_total_out",{"$f":"'T2-B(PP3)'!$I$131","v":0},"#'T2-B(PP3)'!$I$131"]
["pp3_bl4_7_2_unit",{"$f":"'T2-B(PP3)'!$C$131","v":0},"#'T2-B(PP3)'!$C$131"]
["pp3_bl4_7_2_unit_in",{"$f":"'T2-B(PP3)'!$D$131","v":0},"#'T2-B(PP3)'!$D$131"]
["pp3_bl4_7_2_units_out",{"$f":"'T2-B(PP3)'!$G$131","v":0},"#'T2-B(PP3)'!$G$131"]
["pp3_bl4_7_3_name",{"$f":"'T2-B(PP3)'!$B$132","v":0},"#'T2-B(PP3)'!$B$132"]
["pp3_bl4_7_3_rate_in",{"$f":"'T2-B(PP3)'!$E$132","v":0},"#'T2-B(PP3)'!$E$132"]
["pp3_bl4_7_3_rate_out",{"$f":"'T2-B(PP3)'!$H$132","v":0},"#'T2-B(PP3)'!$H$132"]
["pp3_bl4_7_3_total",{"$f":"'T2-B(PP3)'!$J$132","v":0},"#'T2-B(PP3)'!$J$132"]
["pp3_bl4_7_3_total_in",{"$f":"'T2-B(PP3)'!$F$132","v":0},"#'T2-B(PP3)'!$F$132"]
["pp3_bl4_7_3_total_out",{"$f":"'T2-B(PP3)'!$I$132","v":0},"#'T2-B(PP3)'!$I$132"]
["pp3_bl4_7_3_unit",{"$f":"'T2-B(PP3)'!$C$132","v":0},"#'T2-B(PP3)'!$C$132"]
["pp3_bl4_7_3_unit_in",{"$f":"'T2-B(PP3)'!$D$132","v":0},"#'T2-B(PP3)'!$D$132"]
["pp3_bl4_7_3_units_out",{"$f":"'T2-B(PP3)'!$G$132","v":0},"#'T2-B(PP3)'!$G$132"]
["pp3_bl4_7_4_name",{"$f":"'T2-B(PP3)'!$B$133","v":0},"#'T2-B(PP3)'!$B$133"]
["pp3_bl4_7_4_rate_in",{"$f":"'T2-B(PP3)'!$E$133","v":0},"#'T2-B(PP3)'!$E$133"]
["pp3_bl4_7_4_rate_out",{"$f":"'T2-B(PP3)'!$H$133","v":0},"#'T2-B(PP3)'!$H$133"]
["pp3_bl4_7_4_total",{"$f":"'T2-B(PP3)'!$J$133","v":0},"#'T2-B(PP3)'!$J$133"]
["pp3_bl4_7_4_total_in",{"$f":"'T2-B(PP3)'!$F$133","v":0},"#'T2-B(PP3)'!$F$133"]
["pp3_bl4_7_4_total_out",{"$f":"'T2-B(PP3)'!$I$133","v":0},"#'T2-B(PP3)'!$I$133"]
["pp3_bl4_7_4_unit",{"$f":"'T2-B(PP3)'!$C$133","v":0},"#'T2-B(PP3)'!$C$133"]
["pp3_bl4_7_4_unit_in",{"$f":"'T2-B(PP3)'!$D$133","v":0},"#'T2-B(PP3)'!$D$133"]
["pp3_bl4_7_4_units_out",{"$f":"'T2-B(PP3)'!$G$133","v":0},"#'T2-B(PP3)'!$G$133"]
["pp3_bl4_7_5_name",{"$f":"'T2-B(PP3)'!$B$134","v":0},"#'T2-B(PP3)'!$B$134"]
["pp3_bl4_7_5_rate_in",{"$f":"'T2-B(PP3)'!$E$134","v":0},"#'T2-B(PP3)'!$E$134"]
["pp3_bl4_7_5_rate_out",{"$f":"'T2-B(PP3)'!$H$134","v":0},"#'T2-B(PP3)'!$H$134"]
["pp3_bl4_7_5_total",{"$f":"'T2-B(PP3)'!$J$134","v":0},"#'T2-B(PP3)'!$J$134"]
["pp3_bl4_7_5_total_in",{"$f":"'T2-B(PP3)'!$F$134","v":0},"#'T2-B(PP3)'!$F$134"]
["pp3_bl4_7_5_total_out",{"$f":"'T2-B(PP3)'!$I$134","v":0},"#'T2-B(PP3)'!$I$134"]
["pp3_bl4_7_5_unit",{"$f":"'T2-B(PP3)'!$C$134","v":0},"#'T2-B(PP3)'!$C$134"]
["pp3_bl4_7_5_unit_in",{"$f":"'T2-B(PP3)'!$D$134","v":0},"#'T2-B(PP3)'!$D$134"]
["pp3_bl4_7_5_units_out",{"$f":"'T2-B(PP3)'!$G$134","v":0},"#'T2-B(PP3)'!$G$134"]
["pp3_bl4_7_6_name",{"$f":"'T2-B(PP3)'!$B$135","v":0},"#'T2-B(PP3)'!$B$135"]
["pp3_bl4_7_6_rate_in",{"$f":"'T2-B(PP3)'!$E$135","v":0},"#'T2-B(PP3)'!$E$135"]
["pp3_bl4_7_6_rate_out",{"$f":"'T2-B(PP3)'!$H$135","v":0},"#'T2-B(PP3)'!$H$135"]
["pp3_bl4_7_6_total",{"$f":"'T2-B(PP3)'!$J$135","v":0},"#'T2-B(PP3)'!$J$135"]
["pp3_bl4_7_6_total_in",{"$f":"'T2-B(PP3)'!$F$135","v":0},"#'T2-B(PP3)'!$F$135"]
["pp3_bl4_7_6_total_out",{"$f":"'T2-B(PP3)'!$I$135","v":0},"#'T2-B(PP3)'!$I$135"]
["pp3_bl4_7_6_unit",{"$f":"'T2-B(PP3)'!$C$135","v":0},"#'T2-B(PP3)'!$C$135"]
["pp3_bl4_7_6_unit_in",{"$f":"'T2-B(PP3)'!$D$135","v":0},"#'T2-B(PP3)'!$D$135"]
["pp3_bl4_7_6_units_out",{"$f":"'T2-B(PP3)'!$G$135","v":0},"#'T2-B(PP3)'!$G$135"]
["pp3_bl4_7_7_name",{"$f":"'T2-B(PP3)'!$B$136","v":0},"#'T2-B(PP3)'!$B$136"]
["pp3_bl4_7_7_rate_in",{"$f":"'T2-B(PP3)'!$E$136","v":0},"#'T2-B(PP3)'!$E$136"]
["pp3_bl4_7_7_rate_out",{"$f":"'T2-B(PP3)'!$H$136","v":0},"#'T2-B(PP3)'!$H$136"]
["pp3_bl4_7_7_total",{"$f":"'T2-B(PP3)'!$J$136","v":0},"#'T2-B(PP3)'!$J$136"]
["pp3_bl4_7_7_total_in",{"$f":"'T2-B(PP3)'!$F$136","v":0},"#'T2-B(PP3)'!$F$136"]
["pp3_bl4_7_7_total_out",{"$f":"'T2-B(PP3)'!$I$136","v":0},"#'T2-B(PP3)'!$I$136"]
["pp3_bl4_7_7_unit",{"$f":"'T2-B(PP3)'!$C$136","v":0},"#'T2-B(PP3)'!$C$136"]
["pp3_bl4_7_7_unit_in",{"$f":"'T2-B(PP3)'!$D$136","v":0},"#'T2-B(PP3)'!$D$136"]
["pp3_bl4_7_7_units_out",{"$f":"'T2-B(PP3)'!$G$136","v":0},"#'T2-B(PP3)'!$G$136"]
["pp3_bl4_7_8_name",{"$f":"'T2-B(PP3)'!$B$137","v":0},"#'T2-B(PP3)'!$B$137"]
["pp3_bl4_7_8_rate_in",{"$f":"'T2-B(PP3)'!$E$137","v":0},"#'T2-B(PP3)'!$E$137"]
["pp3_bl4_7_8_rate_out",{"$f":"'T2-B(PP3)'!$H$137","v":0},"#'T2-B(PP3)'!$H$137"]
["pp3_bl4_7_8_total",{"$f":"'T2-B(PP3)'!$J$137","v":0},"#'T2-B(PP3)'!$J$137"]
["pp3_bl4_7_8_total_in",{"$f":"'T2-B(PP3)'!$F$137","v":0},"#'T2-B(PP3)'!$F$137"]
["pp3_bl4_7_8_total_out",{"$f":"'T2-B(PP3)'!$I$137","v":0},"#'T2-B(PP3)'!$I$137"]
["pp3_bl4_7_8_unit",{"$f":"'T2-B(PP3)'!$C$137","v":0},"#'T2-B(PP3)'!$C$137"]
["pp3_bl4_7_8_unit_in",{"$f":"'T2-B(PP3)'!$D$137","v":0},"#'T2-B(PP3)'!$D$137"]
["pp3_bl4_7_8_units_out",{"$f":"'T2-B(PP3)'!$G$137","v":0},"#'T2-B(PP3)'!$G$137"]
["pp3_bl4_7_9_name",{"$f":"'T2-B(PP3)'!$B$138","v":0},"#'T2-B(PP3)'!$B$138"]
["pp3_bl4_7_9_rate_in",{"$f":"'T2-B(PP3)'!$E$138","v":0},"#'T2-B(PP3)'!$E$138"]
["pp3_bl4_7_9_rate_out",{"$f":"'T2-B(PP3)'!$H$138","v":0},"#'T2-B(PP3)'!$H$138"]
["pp3_bl4_7_9_total",{"$f":"'T2-B(PP3)'!$J$138","v":0},"#'T2-B(PP3)'!$J$138"]
["pp3_bl4_7_9_total_in",{"$f":"'T2-B(PP3)'!$F$138","v":0},"#'T2-B(PP3)'!$F$138"]
["pp3_bl4_7_9_total_out",{"$f":"'T2-B(PP3)'!$I$138","v":0},"#'T2-B(PP3)'!$I$138"]
["pp3_bl4_7_9_unit",{"$f":"'T2-B(PP3)'!$C$138","v":0},"#'T2-B(PP3)'!$C$138"]
["pp3_bl4_7_9_unit_in",{"$f":"'T2-B(PP3)'!$D$138","v":0},"#'T2-B(PP3)'!$D$138"]
["pp3_bl4_7_9_units_out",{"$f":"'T2-B(PP3)'!$G$138","v":0},"#'T2-B(PP3)'!$G$138"]
["pp3_bl4_7_total",{"$f":"'T2-B(PP3)'!$J$129","v":0},"#'T2-B(PP3)'!$J$129"]
["pp3_bl4_7_total_in",{"$f":"'T2-B(PP3)'!$F$129","v":0},"#'T2-B(PP3)'!$F$129"]
["pp3_bl4_7_total_out",{"$f":"'T2-B(PP3)'!$I$129","v":0},"#'T2-B(PP3)'!$I$129"]
["pp3_bl4_8_1_name",{"$f":"'T2-B(PP3)'!$B$141","v":0},"#'T2-B(PP3)'!$B$141"]
["pp3_bl4_8_1_rate_in",{"$f":"'T2-B(PP3)'!$E$141","v":0},"#'T2-B(PP3)'!$E$141"]
["pp3_bl4_8_1_rate_out",{"$f":"'T2-B(PP3)'!$H$141","v":0},"#'T2-B(PP3)'!$H$141"]
["pp3_bl4_8_1_total",{"$f":"'T2-B(PP3)'!$J$141","v":0},"#'T2-B(PP3)'!$J$141"]
["pp3_bl4_8_1_total_in",{"$f":"'T2-B(PP3)'!$F$141","v":0},"#'T2-B(PP3)'!$F$141"]
["pp3_bl4_8_1_total_out",{"$f":"'T2-B(PP3)'!$I$141","v":0},"#'T2-B(PP3)'!$I$141"]
["pp3_bl4_8_1_unit",{"$f":"'T2-B(PP3)'!$C$141","v":0},"#'T2-B(PP3)'!$C$141"]
["pp3_bl4_8_1_unit_in",{"$f":"'T2-B(PP3)'!$D$141","v":0},"#'T2-B(PP3)'!$D$141"]
["pp3_bl4_8_1_units_out",{"$f":"'T2-B(PP3)'!$G$141","v":0},"#'T2-B(PP3)'!$G$141"]
["pp3_bl4_8_10_name",{"$f":"'T2-B(PP3)'!$B$150","v":0},"#'T2-B(PP3)'!$B$150"]
["pp3_bl4_8_10_rate_in",{"$f":"'T2-B(PP3)'!$E$150","v":0},"#'T2-B(PP3)'!$E$150"]
["pp3_bl4_8_10_rate_out",{"$f":"'T2-B(PP3)'!$H$150","v":0},"#'T2-B(PP3)'!$H$150"]
["pp3_bl4_8_10_total",{"$f":"'T2-B(PP3)'!$J$150","v":0},"#'T2-B(PP3)'!$J$150"]
["pp3_bl4_8_10_total_in",{"$f":"'T2-B(PP3)'!$F$150","v":0},"#'T2-B(PP3)'!$F$150"]
["pp3_bl4_8_10_total_out",{"$f":"'T2-B(PP3)'!$I$150","v":0},"#'T2-B(PP3)'!$I$150"]
["pp3_bl4_8_10_unit",{"$f":"'T2-B(PP3)'!$C$150","v":0},"#'T2-B(PP3)'!$C$150"]
["pp3_bl4_8_10_unit_in",{"$f":"'T2-B(PP3)'!$D$150","v":0},"#'T2-B(PP3)'!$D$150"]
["pp3_bl4_8_10_units_out",{"$f":"'T2-B(PP3)'!$G$150","v":0},"#'T2-B(PP3)'!$G$150"]
["pp3_bl4_8_2_name",{"$f":"'T2-B(PP3)'!$B$142","v":0},"#'T2-B(PP3)'!$B$142"]
["pp3_bl4_8_2_rate_in",{"$f":"'T2-B(PP3)'!$E$142","v":0},"#'T2-B(PP3)'!$E$142"]
["pp3_bl4_8_2_rate_out",{"$f":"'T2-B(PP3)'!$H$142","v":0},"#'T2-B(PP3)'!$H$142"]
["pp3_bl4_8_2_total",{"$f":"'T2-B(PP3)'!$J$142","v":0},"#'T2-B(PP3)'!$J$142"]
["pp3_bl4_8_2_total_in",{"$f":"'T2-B(PP3)'!$F$142","v":0},"#'T2-B(PP3)'!$F$142"]
["pp3_bl4_8_2_total_out",{"$f":"'T2-B(PP3)'!$I$142","v":0},"#'T2-B(PP3)'!$I$142"]
["pp3_bl4_8_2_unit",{"$f":"'T2-B(PP3)'!$C$142","v":0},"#'T2-B(PP3)'!$C$142"]
["pp3_bl4_8_2_unit_in",{"$f":"'T2-B(PP3)'!$D$142","v":0},"#'T2-B(PP3)'!$D$142"]
["pp3_bl4_8_2_units_out",{"$f":"'T2-B(PP3)'!$G$142","v":0},"#'T2-B(PP3)'!$G$142"]
["pp3_bl4_8_3_name",{"$f":"'T2-B(PP3)'!$B$143","v":0},"#'T2-B(PP3)'!$B$143"]
["pp3_bl4_8_3_rate_in",{"$f":"'T2-B(PP3)'!$E$143","v":0},"#'T2-B(PP3)'!$E$143"]
["pp3_bl4_8_3_rate_out",{"$f":"'T2-B(PP3)'!$H$143","v":0},"#'T2-B(PP3)'!$H$143"]
["pp3_bl4_8_3_total",{"$f":"'T2-B(PP3)'!$J$143","v":0},"#'T2-B(PP3)'!$J$143"]
["pp3_bl4_8_3_total_in",{"$f":"'T2-B(PP3)'!$F$143","v":0},"#'T2-B(PP3)'!$F$143"]
["pp3_bl4_8_3_total_out",{"$f":"'T2-B(PP3)'!$I$143","v":0},"#'T2-B(PP3)'!$I$143"]
["pp3_bl4_8_3_unit",{"$f":"'T2-B(PP3)'!$C$143","v":0},"#'T2-B(PP3)'!$C$143"]
["pp3_bl4_8_3_unit_in",{"$f":"'T2-B(PP3)'!$D$143","v":0},"#'T2-B(PP3)'!$D$143"]
["pp3_bl4_8_3_units_out",{"$f":"'T2-B(PP3)'!$G$143","v":0},"#'T2-B(PP3)'!$G$143"]
["pp3_bl4_8_4_name",{"$f":"'T2-B(PP3)'!$B$144","v":0},"#'T2-B(PP3)'!$B$144"]
["pp3_bl4_8_4_rate_in",{"$f":"'T2-B(PP3)'!$E$144","v":0},"#'T2-B(PP3)'!$E$144"]
["pp3_bl4_8_4_rate_out",{"$f":"'T2-B(PP3)'!$H$144","v":0},"#'T2-B(PP3)'!$H$144"]
["pp3_bl4_8_4_total",{"$f":"'T2-B(PP3)'!$J$144","v":0},"#'T2-B(PP3)'!$J$144"]
["pp3_bl4_8_4_total_in",{"$f":"'T2-B(PP3)'!$F$144","v":0},"#'T2-B(PP3)'!$F$144"]
["pp3_bl4_8_4_total_out",{"$f":"'T2-B(PP3)'!$I$144","v":0},"#'T2-B(PP3)'!$I$144"]
["pp3_bl4_8_4_unit",{"$f":"'T2-B(PP3)'!$C$144","v":0},"#'T2-B(PP3)'!$C$144"]
["pp3_bl4_8_4_unit_in",{"$f":"'T2-B(PP3)'!$D$144","v":0},"#'T2-B(PP3)'!$D$144"]
["pp3_bl4_8_4_units_out",{"$f":"'T2-B(PP3)'!$G$144","v":0},"#'T2-B(PP3)'!$G$144"]
["pp3_bl4_8_5_name",{"$f":"'T2-B(PP3)'!$B$145","v":0},"#'T2-B(PP3)'!$B$145"]
["pp3_bl4_8_5_rate_in",{"$f":"'T2-B(PP3)'!$E$145","v":0},"#'T2-B(PP3)'!$E$145"]
["pp3_bl4_8_5_rate_out",{"$f":"'T2-B(PP3)'!$H$145","v":0},"#'T2-B(PP3)'!$H$145"]
["pp3_bl4_8_5_total",{"$f":"'T2-B(PP3)'!$J$145","v":0},"#'T2-B(PP3)'!$J$145"]
["pp3_bl4_8_5_total_in",{"$f":"'T2-B(PP3)'!$F$145","v":0},"#'T2-B(PP3)'!$F$145"]
["pp3_bl4_8_5_total_out",{"$f":"'T2-B(PP3)'!$I$145","v":0},"#'T2-B(PP3)'!$I$145"]
["pp3_bl4_8_5_unit",{"$f":"'T2-B(PP3)'!$C$145","v":0},"#'T2-B(PP3)'!$C$145"]
["pp3_bl4_8_5_unit_in",{"$f":"'T2-B(PP3)'!$D$145","v":0},"#'T2-B(PP3)'!$D$145"]
["pp3_bl4_8_5_units_out",{"$f":"'T2-B(PP3)'!$G$145","v":0},"#'T2-B(PP3)'!$G$145"]
["pp3_bl4_8_6_name",{"$f":"'T2-B(PP3)'!$B$146","v":0},"#'T2-B(PP3)'!$B$146"]
["pp3_bl4_8_6_rate_in",{"$f":"'T2-B(PP3)'!$E$146","v":0},"#'T2-B(PP3)'!$E$146"]
["pp3_bl4_8_6_rate_out",{"$f":"'T2-B(PP3)'!$H$146","v":0},"#'T2-B(PP3)'!$H$146"]
["pp3_bl4_8_6_total",{"$f":"'T2-B(PP3)'!$J$146","v":0},"#'T2-B(PP3)'!$J$146"]
["pp3_bl4_8_6_total_in",{"$f":"'T2-B(PP3)'!$F$146","v":0},"#'T2-B(PP3)'!$F$146"]
["pp3_bl4_8_6_total_out",{"$f":"'T2-B(PP3)'!$I$146","v":0},"#'T2-B(PP3)'!$I$146"]
["pp3_bl4_8_6_unit",{"$f":"'T2-B(PP3)'!$C$146","v":0},"#'T2-B(PP3)'!$C$146"]
["pp3_bl4_8_6_unit_in",{"$f":"'T2-B(PP3)'!$D$146","v":0},"#'T2-B(PP3)'!$D$146"]
["pp3_bl4_8_6_units_out",{"$f":"'T2-B(PP3)'!$G$146","v":0},"#'T2-B(PP3)'!$G$146"]
["pp3_bl4_8_7_name",{"$f":"'T2-B(PP3)'!$B$147","v":0},"#'T2-B(PP3)'!$B$147"]
["pp3_bl4_8_7_rate_in",{"$f":"'T2-B(PP3)'!$E$147","v":0},"#'T2-B(PP3)'!$E$147"]
["pp3_bl4_8_7_rate_out",{"$f":"'T2-B(PP3)'!$H$147","v":0},"#'T2-B(PP3)'!$H$147"]
["pp3_bl4_8_7_total",{"$f":"'T2-B(PP3)'!$J$147","v":0},"#'T2-B(PP3)'!$J$147"]
["pp3_bl4_8_7_total_in",{"$f":"'T2-B(PP3)'!$F$147","v":0},"#'T2-B(PP3)'!$F$147"]
["pp3_bl4_8_7_total_out",{"$f":"'T2-B(PP3)'!$I$147","v":0},"#'T2-B(PP3)'!$I$147"]
["pp3_bl4_8_7_unit",{"$f":"'T2-B(PP3)'!$C$147","v":0},"#'T2-B(PP3)'!$C$147"]
["pp3_bl4_8_7_unit_in",{"$f":"'T2-B(PP3)'!$D$147","v":0},"#'T2-B(PP3)'!$D$147"]
["pp3_bl4_8_7_units_out",{"$f":"'T2-B(PP3)'!$G$147","v":0},"#'T2-B(PP3)'!$G$147"]
["pp3_bl4_8_8_name",{"$f":"'T2-B(PP3)'!$B$148","v":0},"#'T2-B(PP3)'!$B$148"]
["pp3_bl4_8_8_rate_in",{"$f":"'T2-B(PP3)'!$E$148","v":0},"#'T2-B(PP3)'!$E$148"]
["pp3_bl4_8_8_rate_out",{"$f":"'T2-B(PP3)'!$H$148","v":0},"#'T2-B(PP3)'!$H$148"]
["pp3_bl4_8_8_total",{"$f":"'T2-B(PP3)'!$J$148","v":0},"#'T2-B(PP3)'!$J$148"]
["pp3_bl4_8_8_total_in",{"$f":"'T2-B(PP3)'!$F$148","v":0},"#'T2-B(PP3)'!$F$148"]
["pp3_bl4_8_8_total_out",{"$f":"'T2-B(PP3)'!$I$148","v":0},"#'T2-B(PP3)'!$I$148"]
["pp3_bl4_8_8_unit",{"$f":"'T2-B(PP3)'!$C$148","v":0},"#'T2-B(PP3)'!$C$148"]
["pp3_bl4_8_8_unit_in",{"$f":"'T2-B(PP3)'!$D$148","v":0},"#'T2-B(PP3)'!$D$148"]
["pp3_bl4_8_8_units_out",{"$f":"'T2-B(PP3)'!$G$148","v":0},"#'T2-B(PP3)'!$G$148"]
["pp3_bl4_8_9_name",{"$f":"'T2-B(PP3)'!$B$149","v":0},"#'T2-B(PP3)'!$B$149"]
["pp3_bl4_8_9_rate_in",{"$f":"'T2-B(PP3)'!$E$149","v":0},"#'T2-B(PP3)'!$E$149"]
["pp3_bl4_8_9_rate_out",{"$f":"'T2-B(PP3)'!$H$149","v":0},"#'T2-B(PP3)'!$H$149"]
["pp3_bl4_8_9_total",{"$f":"'T2-B(PP3)'!$J$149","v":0},"#'T2-B(PP3)'!$J$149"]
["pp3_bl4_8_9_total_in",{"$f":"'T2-B(PP3)'!$F$149","v":0},"#'T2-B(PP3)'!$F$149"]
["pp3_bl4_8_9_total_out",{"$f":"'T2-B(PP3)'!$I$149","v":0},"#'T2-B(PP3)'!$I$149"]
["pp3_bl4_8_9_unit",{"$f":"'T2-B(PP3)'!$C$149","v":0},"#'T2-B(PP3)'!$C$149"]
["pp3_bl4_8_9_unit_in",{"$f":"'T2-B(PP3)'!$D$149","v":0},"#'T2-B(PP3)'!$D$149"]
["pp3_bl4_8_9_units_out",{"$f":"'T2-B(PP3)'!$G$149","v":0},"#'T2-B(PP3)'!$G$149"]
["pp3_bl4_8_total",{"$f":"'T2-B(PP3)'!$J$140","v":0},"#'T2-B(PP3)'!$J$140"]
["pp3_bl4_8_total_in",{"$f":"'T2-B(PP3)'!$F$140","v":0},"#'T2-B(PP3)'!$F$140"]
["pp3_bl4_8_total_out",{"$f":"'T2-B(PP3)'!$I$140","v":0},"#'T2-B(PP3)'!$I$140"]
["pp3_bl4_9_1_name",{"$f":"'T2-B(PP3)'!$B$152","v":0},"#'T2-B(PP3)'!$B$152"]
["pp3_bl4_9_1_rate_in",{"$f":"'T2-B(PP3)'!$E$152","v":0},"#'T2-B(PP3)'!$E$152"]
["pp3_bl4_9_1_rate_out",{"$f":"'T2-B(PP3)'!$H$152","v":0},"#'T2-B(PP3)'!$H$152"]
["pp3_bl4_9_1_total",{"$f":"'T2-B(PP3)'!$J$152","v":0},"#'T2-B(PP3)'!$J$152"]
["pp3_bl4_9_1_total_in",{"$f":"'T2-B(PP3)'!$F$152","v":0},"#'T2-B(PP3)'!$F$152"]
["pp3_bl4_9_1_total_out",{"$f":"'T2-B(PP3)'!$I$152","v":0},"#'T2-B(PP3)'!$I$152"]
["pp3_bl4_9_1_unit",{"$f":"'T2-B(PP3)'!$C$152","v":0},"#'T2-B(PP3)'!$C$152"]
["pp3_bl4_9_1_unit_in",{"$f":"'T2-B(PP3)'!$D$152","v":0},"#'T2-B(PP3)'!$D$152"]
["pp3_bl4_9_1_units_out",{"$f":"'T2-B(PP3)'!$G$152","v":0},"#'T2-B(PP3)'!$G$152"]
["pp3_bl4_9_10_name",{"$f":"'T2-B(PP3)'!$B$161","v":0},"#'T2-B(PP3)'!$B$161"]
["pp3_bl4_9_10_rate_in",{"$f":"'T2-B(PP3)'!$E$161","v":0},"#'T2-B(PP3)'!$E$161"]
["pp3_bl4_9_10_rate_out",{"$f":"'T2-B(PP3)'!$H$161","v":0},"#'T2-B(PP3)'!$H$161"]
["pp3_bl4_9_10_total",{"$f":"'T2-B(PP3)'!$J$161","v":0},"#'T2-B(PP3)'!$J$161"]
["pp3_bl4_9_10_total_in",{"$f":"'T2-B(PP3)'!$F$161","v":0},"#'T2-B(PP3)'!$F$161"]
["pp3_bl4_9_10_total_out",{"$f":"'T2-B(PP3)'!$I$161","v":0},"#'T2-B(PP3)'!$I$161"]
["pp3_bl4_9_10_unit",{"$f":"'T2-B(PP3)'!$C$161","v":0},"#'T2-B(PP3)'!$C$161"]
["pp3_bl4_9_10_unit_in",{"$f":"'T2-B(PP3)'!$D$161","v":0},"#'T2-B(PP3)'!$D$161"]
["pp3_bl4_9_10_units_out",{"$f":"'T2-B(PP3)'!$G$161","v":0},"#'T2-B(PP3)'!$G$161"]
["pp3_bl4_9_2_name",{"$f":"'T2-B(PP3)'!$B$153","v":0},"#'T2-B(PP3)'!$B$153"]
["pp3_bl4_9_2_rate_in",{"$f":"'T2-B(PP3)'!$E$153","v":0},"#'T2-B(PP3)'!$E$153"]
["pp3_bl4_9_2_rate_out",{"$f":"'T2-B(PP3)'!$H$153","v":0},"#'T2-B(PP3)'!$H$153"]
["pp3_bl4_9_2_total",{"$f":"'T2-B(PP3)'!$J$153","v":0},"#'T2-B(PP3)'!$J$153"]
["pp3_bl4_9_2_total_in",{"$f":"'T2-B(PP3)'!$F$153","v":0},"#'T2-B(PP3)'!$F$153"]
["pp3_bl4_9_2_total_out",{"$f":"'T2-B(PP3)'!$I$153","v":0},"#'T2-B(PP3)'!$I$153"]
["pp3_bl4_9_2_unit",{"$f":"'T2-B(PP3)'!$C$153","v":0},"#'T2-B(PP3)'!$C$153"]
["pp3_bl4_9_2_unit_in",{"$f":"'T2-B(PP3)'!$D$153","v":0},"#'T2-B(PP3)'!$D$153"]
["pp3_bl4_9_2_units_out",{"$f":"'T2-B(PP3)'!$G$153","v":0},"#'T2-B(PP3)'!$G$153"]
["pp3_bl4_9_3_name",{"$f":"'T2-B(PP3)'!$B$154","v":0},"#'T2-B(PP3)'!$B$154"]
["pp3_bl4_9_3_rate_in",{"$f":"'T2-B(PP3)'!$E$154","v":0},"#'T2-B(PP3)'!$E$154"]
["pp3_bl4_9_3_rate_out",{"$f":"'T2-B(PP3)'!$H$154","v":0},"#'T2-B(PP3)'!$H$154"]
["pp3_bl4_9_3_total",{"$f":"'T2-B(PP3)'!$J$154","v":0},"#'T2-B(PP3)'!$J$154"]
["pp3_bl4_9_3_total_in",{"$f":"'T2-B(PP3)'!$F$154","v":0},"#'T2-B(PP3)'!$F$154"]
["pp3_bl4_9_3_total_out",{"$f":"'T2-B(PP3)'!$I$154","v":0},"#'T2-B(PP3)'!$I$154"]
["pp3_bl4_9_3_unit",{"$f":"'T2-B(PP3)'!$C$154","v":0},"#'T2-B(PP3)'!$C$154"]
["pp3_bl4_9_3_unit_in",{"$f":"'T2-B(PP3)'!$D$154","v":0},"#'T2-B(PP3)'!$D$154"]
["pp3_bl4_9_3_units_out",{"$f":"'T2-B(PP3)'!$G$154","v":0},"#'T2-B(PP3)'!$G$154"]
["pp3_bl4_9_4_name",{"$f":"'T2-B(PP3)'!$B$155","v":0},"#'T2-B(PP3)'!$B$155"]
["pp3_bl4_9_4_rate_in",{"$f":"'T2-B(PP3)'!$E$155","v":0},"#'T2-B(PP3)'!$E$155"]
["pp3_bl4_9_4_rate_out",{"$f":"'T2-B(PP3)'!$H$155","v":0},"#'T2-B(PP3)'!$H$155"]
["pp3_bl4_9_4_total",{"$f":"'T2-B(PP3)'!$J$155","v":0},"#'T2-B(PP3)'!$J$155"]
["pp3_bl4_9_4_total_in",{"$f":"'T2-B(PP3)'!$F$155","v":0},"#'T2-B(PP3)'!$F$155"]
["pp3_bl4_9_4_total_out",{"$f":"'T2-B(PP3)'!$I$155","v":0},"#'T2-B(PP3)'!$I$155"]
["pp3_bl4_9_4_unit",{"$f":"'T2-B(PP3)'!$C$155","v":0},"#'T2-B(PP3)'!$C$155"]
["pp3_bl4_9_4_unit_in",{"$f":"'T2-B(PP3)'!$D$155","v":0},"#'T2-B(PP3)'!$D$155"]
["pp3_bl4_9_4_units_out",{"$f":"'T2-B(PP3)'!$G$155","v":0},"#'T2-B(PP3)'!$G$155"]
["pp3_bl4_9_5_name",{"$f":"'T2-B(PP3)'!$B$156","v":0},"#'T2-B(PP3)'!$B$156"]
["pp3_bl4_9_5_rate_in",{"$f":"'T2-B(PP3)'!$E$156","v":0},"#'T2-B(PP3)'!$E$156"]
["pp3_bl4_9_5_rate_out",{"$f":"'T2-B(PP3)'!$H$156","v":0},"#'T2-B(PP3)'!$H$156"]
["pp3_bl4_9_5_total",{"$f":"'T2-B(PP3)'!$J$156","v":0},"#'T2-B(PP3)'!$J$156"]
["pp3_bl4_9_5_total_in",{"$f":"'T2-B(PP3)'!$F$156","v":0},"#'T2-B(PP3)'!$F$156"]
["pp3_bl4_9_5_total_out",{"$f":"'T2-B(PP3)'!$I$156","v":0},"#'T2-B(PP3)'!$I$156"]
["pp3_bl4_9_5_unit",{"$f":"'T2-B(PP3)'!$C$156","v":0},"#'T2-B(PP3)'!$C$156"]
["pp3_bl4_9_5_unit_in",{"$f":"'T2-B(PP3)'!$D$156","v":0},"#'T2-B(PP3)'!$D$156"]
["pp3_bl4_9_5_units_out",{"$f":"'T2-B(PP3)'!$G$156","v":0},"#'T2-B(PP3)'!$G$156"]
["pp3_bl4_9_6_name",{"$f":"'T2-B(PP3)'!$B$157","v":0},"#'T2-B(PP3)'!$B$157"]
["pp3_bl4_9_6_rate_in",{"$f":"'T2-B(PP3)'!$E$157","v":0},"#'T2-B(PP3)'!$E$157"]
["pp3_bl4_9_6_rate_out",{"$f":"'T2-B(PP3)'!$H$157","v":0},"#'T2-B(PP3)'!$H$157"]
["pp3_bl4_9_6_total",{"$f":"'T2-B(PP3)'!$J$157","v":0},"#'T2-B(PP3)'!$J$157"]
["pp3_bl4_9_6_total_in",{"$f":"'T2-B(PP3)'!$F$157","v":0},"#'T2-B(PP3)'!$F$157"]
["pp3_bl4_9_6_total_out",{"$f":"'T2-B(PP3)'!$I$157","v":0},"#'T2-B(PP3)'!$I$157"]
["pp3_bl4_9_6_unit",{"$f":"'T2-B(PP3)'!$C$157","v":0},"#'T2-B(PP3)'!$C$157"]
["pp3_bl4_9_6_unit_in",{"$f":"'T2-B(PP3)'!$D$157","v":0},"#'T2-B(PP3)'!$D$157"]
["pp3_bl4_9_6_units_out",{"$f":"'T2-B(PP3)'!$G$157","v":0},"#'T2-B(PP3)'!$G$157"]
["pp3_bl4_9_7_name",{"$f":"'T2-B(PP3)'!$B$158","v":0},"#'T2-B(PP3)'!$B$158"]
["pp3_bl4_9_7_rate_in",{"$f":"'T2-B(PP3)'!$E$158","v":0},"#'T2-B(PP3)'!$E$158"]
["pp3_bl4_9_7_rate_out",{"$f":"'T2-B(PP3)'!$H$158","v":0},"#'T2-B(PP3)'!$H$158"]
["pp3_bl4_9_7_total",{"$f":"'T2-B(PP3)'!$J$158","v":0},"#'T2-B(PP3)'!$J$158"]
["pp3_bl4_9_7_total_in",{"$f":"'T2-B(PP3)'!$F$158","v":0},"#'T2-B(PP3)'!$F$158"]
["pp3_bl4_9_7_total_out",{"$f":"'T2-B(PP3)'!$I$158","v":0},"#'T2-B(PP3)'!$I$158"]
["pp3_bl4_9_7_unit",{"$f":"'T2-B(PP3)'!$C$158","v":0},"#'T2-B(PP3)'!$C$158"]
["pp3_bl4_9_7_unit_in",{"$f":"'T2-B(PP3)'!$D$158","v":0},"#'T2-B(PP3)'!$D$158"]
["pp3_bl4_9_7_units_out",{"$f":"'T2-B(PP3)'!$G$158","v":0},"#'T2-B(PP3)'!$G$158"]
["pp3_bl4_9_8_name",{"$f":"'T2-B(PP3)'!$B$159","v":0},"#'T2-B(PP3)'!$B$159"]
["pp3_bl4_9_8_rate_in",{"$f":"'T2-B(PP3)'!$E$159","v":0},"#'T2-B(PP3)'!$E$159"]
["pp3_bl4_9_8_rate_out",{"$f":"'T2-B(PP3)'!$H$159","v":0},"#'T2-B(PP3)'!$H$159"]
["pp3_bl4_9_8_total",{"$f":"'T2-B(PP3)'!$J$159","v":0},"#'T2-B(PP3)'!$J$159"]
["pp3_bl4_9_8_total_in",{"$f":"'T2-B(PP3)'!$F$159","v":0},"#'T2-B(PP3)'!$F$159"]
["pp3_bl4_9_8_total_out",{"$f":"'T2-B(PP3)'!$I$159","v":0},"#'T2-B(PP3)'!$I$159"]
["pp3_bl4_9_8_unit",{"$f":"'T2-B(PP3)'!$C$159","v":0},"#'T2-B(PP3)'!$C$159"]
["pp3_bl4_9_8_unit_in",{"$f":"'T2-B(PP3)'!$D$159","v":0},"#'T2-B(PP3)'!$D$159"]
["pp3_bl4_9_8_units_out",{"$f":"'T2-B(PP3)'!$G$159","v":0},"#'T2-B(PP3)'!$G$159"]
["pp3_bl4_9_9_name",{"$f":"'T2-B(PP3)'!$B$160","v":0},"#'T2-B(PP3)'!$B$160"]
["pp3_bl4_9_9_rate_in",{"$f":"'T2-B(PP3)'!$E$160","v":0},"#'T2-B(PP3)'!$E$160"]
["pp3_bl4_9_9_rate_out",{"$f":"'T2-B(PP3)'!$H$160","v":0},"#'T2-B(PP3)'!$H$160"]
["pp3_bl4_9_9_total",{"$f":"'T2-B(PP3)'!$J$160","v":0},"#'T2-B(PP3)'!$J$160"]
["pp3_bl4_9_9_total_in",{"$f":"'T2-B(PP3)'!$F$160","v":0},"#'T2-B(PP3)'!$F$160"]
["pp3_bl4_9_9_total_out",{"$f":"'T2-B(PP3)'!$I$160","v":0},"#'T2-B(PP3)'!$I$160"]
["pp3_bl4_9_9_unit",{"$f":"'T2-B(PP3)'!$C$160","v":0},"#'T2-B(PP3)'!$C$160"]
["pp3_bl4_9_9_unit_in",{"$f":"'T2-B(PP3)'!$D$160","v":0},"#'T2-B(PP3)'!$D$160"]
["pp3_bl4_9_9_units_out",{"$f":"'T2-B(PP3)'!$G$160","v":0},"#'T2-B(PP3)'!$G$160"]
["pp3_bl4_9_total",{"$f":"'T2-B(PP3)'!$J$151","v":0},"#'T2-B(PP3)'!$J$151"]
["pp3_bl4_9_total_in",{"$f":"'T2-B(PP3)'!$F$151","v":0},"#'T2-B(PP3)'!$F$151"]
["pp3_bl4_9_total_out",{"$f":"'T2-B(PP3)'!$I$151","v":0},"#'T2-B(PP3)'!$I$151"]
["pp3_bl4_total",{"$f":"'T2-B(PP3)'!$J$217","v":0},"#'T2-B(PP3)'!$J$217"]
["pp3_bl4_total_in",{"$f":"'T2-B(PP3)'!$F$217","v":0},"#'T2-B(PP3)'!$F$217"]
["pp3_bl4_total_out",{"$f":"'T2-B(PP3)'!$I$217","v":0},"#'T2-B(PP3)'!$I$217"]
["pp3_bl5_1_1_name",{"$f":"'T2-B(PP3)'!$B$222","v":0},"#'T2-B(PP3)'!$B$222"]
["pp3_bl5_1_1_rate_in",{"$f":"'T2-B(PP3)'!$E$222","v":0},"#'T2-B(PP3)'!$E$222"]
["pp3_bl5_1_1_rate_out",{"$f":"'T2-B(PP3)'!$H$222","v":0},"#'T2-B(PP3)'!$H$222"]
["pp3_bl5_1_1_total",{"$f":"'T2-B(PP3)'!$J$222","v":0},"#'T2-B(PP3)'!$J$222"]
["pp3_bl5_1_1_total_in",{"$f":"'T2-B(PP3)'!$F$222","v":0},"#'T2-B(PP3)'!$F$222"]
["pp3_bl5_1_1_total_out",{"$f":"'T2-B(PP3)'!$I$222","v":0},"#'T2-B(PP3)'!$I$222"]
["pp3_bl5_1_1_unit",{"$f":"'T2-B(PP3)'!$C$222","v":0},"#'T2-B(PP3)'!$C$222"]
["pp3_bl5_1_1_unit_in",{"$f":"'T2-B(PP3)'!$D$222","v":0},"#'T2-B(PP3)'!$D$222"]
["pp3_bl5_1_1_units_out",{"$f":"'T2-B(PP3)'!$G$222","v":0},"#'T2-B(PP3)'!$G$222"]
["pp3_bl5_1_10_name",{"$f":"'T2-B(PP3)'!$B$231","v":0},"#'T2-B(PP3)'!$B$231"]
["pp3_bl5_1_10_rate_in",{"$f":"'T2-B(PP3)'!$E$231","v":0},"#'T2-B(PP3)'!$E$231"]
["pp3_bl5_1_10_rate_out",{"$f":"'T2-B(PP3)'!$H$231","v":0},"#'T2-B(PP3)'!$H$231"]
["pp3_bl5_1_10_total",{"$f":"'T2-B(PP3)'!$J$231","v":0},"#'T2-B(PP3)'!$J$231"]
["pp3_bl5_1_10_total_in",{"$f":"'T2-B(PP3)'!$F$231","v":0},"#'T2-B(PP3)'!$F$231"]
["pp3_bl5_1_10_total_out",{"$f":"'T2-B(PP3)'!$I$231","v":0},"#'T2-B(PP3)'!$I$231"]
["pp3_bl5_1_10_unit",{"$f":"'T2-B(PP3)'!$C$231","v":0},"#'T2-B(PP3)'!$C$231"]
["pp3_bl5_1_10_unit_in",{"$f":"'T2-B(PP3)'!$D$231","v":0},"#'T2-B(PP3)'!$D$231"]
["pp3_bl5_1_10_units_out",{"$f":"'T2-B(PP3)'!$G$231","v":0},"#'T2-B(PP3)'!$G$231"]
["pp3_bl5_1_2_name",{"$f":"'T2-B(PP3)'!$B$223","v":0},"#'T2-B(PP3)'!$B$223"]
["pp3_bl5_1_2_rate_in",{"$f":"'T2-B(PP3)'!$E$223","v":0},"#'T2-B(PP3)'!$E$223"]
["pp3_bl5_1_2_rate_out",{"$f":"'T2-B(PP3)'!$H$223","v":0},"#'T2-B(PP3)'!$H$223"]
["pp3_bl5_1_2_total",{"$f":"'T2-B(PP3)'!$J$223","v":0},"#'T2-B(PP3)'!$J$223"]
["pp3_bl5_1_2_total_in",{"$f":"'T2-B(PP3)'!$F$223","v":0},"#'T2-B(PP3)'!$F$223"]
["pp3_bl5_1_2_total_out",{"$f":"'T2-B(PP3)'!$I$223","v":0},"#'T2-B(PP3)'!$I$223"]
["pp3_bl5_1_2_unit",{"$f":"'T2-B(PP3)'!$C$223","v":0},"#'T2-B(PP3)'!$C$223"]
["pp3_bl5_1_2_unit_in",{"$f":"'T2-B(PP3)'!$D$223","v":0},"#'T2-B(PP3)'!$D$223"]
["pp3_bl5_1_2_units_out",{"$f":"'T2-B(PP3)'!$G$223","v":0},"#'T2-B(PP3)'!$G$223"]
["pp3_bl5_1_3_name",{"$f":"'T2-B(PP3)'!$B$224","v":0},"#'T2-B(PP3)'!$B$224"]
["pp3_bl5_1_3_rate_in",{"$f":"'T2-B(PP3)'!$E$224","v":0},"#'T2-B(PP3)'!$E$224"]
["pp3_bl5_1_3_rate_out",{"$f":"'T2-B(PP3)'!$H$224","v":0},"#'T2-B(PP3)'!$H$224"]
["pp3_bl5_1_3_total",{"$f":"'T2-B(PP3)'!$J$224","v":0},"#'T2-B(PP3)'!$J$224"]
["pp3_bl5_1_3_total_in",{"$f":"'T2-B(PP3)'!$F$224","v":0},"#'T2-B(PP3)'!$F$224"]
["pp3_bl5_1_3_total_out",{"$f":"'T2-B(PP3)'!$I$224","v":0},"#'T2-B(PP3)'!$I$224"]
["pp3_bl5_1_3_unit",{"$f":"'T2-B(PP3)'!$C$224","v":0},"#'T2-B(PP3)'!$C$224"]
["pp3_bl5_1_3_unit_in",{"$f":"'T2-B(PP3)'!$D$224","v":0},"#'T2-B(PP3)'!$D$224"]
["pp3_bl5_1_3_units_out",{"$f":"'T2-B(PP3)'!$G$224","v":0},"#'T2-B(PP3)'!$G$224"]
["pp3_bl5_1_4_name",{"$f":"'T2-B(PP3)'!$B$225","v":0},"#'T2-B(PP3)'!$B$225"]
["pp3_bl5_1_4_rate_in",{"$f":"'T2-B(PP3)'!$E$225","v":0},"#'T2-B(PP3)'!$E$225"]
["pp3_bl5_1_4_rate_out",{"$f":"'T2-B(PP3)'!$H$225","v":0},"#'T2-B(PP3)'!$H$225"]
["pp3_bl5_1_4_total",{"$f":"'T2-B(PP3)'!$J$225","v":0},"#'T2-B(PP3)'!$J$225"]
["pp3_bl5_1_4_total_in",{"$f":"'T2-B(PP3)'!$F$225","v":0},"#'T2-B(PP3)'!$F$225"]
["pp3_bl5_1_4_total_out",{"$f":"'T2-B(PP3)'!$I$225","v":0},"#'T2-B(PP3)'!$I$225"]
["pp3_bl5_1_4_unit",{"$f":"'T2-B(PP3)'!$C$225","v":0},"#'T2-B(PP3)'!$C$225"]
["pp3_bl5_1_4_unit_in",{"$f":"'T2-B(PP3)'!$D$225","v":0},"#'T2-B(PP3)'!$D$225"]
["pp3_bl5_1_4_units_out",{"$f":"'T2-B(PP3)'!$G$225","v":0},"#'T2-B(PP3)'!$G$225"]
["pp3_bl5_1_5_name",{"$f":"'T2-B(PP3)'!$B$226","v":0},"#'T2-B(PP3)'!$B$226"]
["pp3_bl5_1_5_rate_in",{"$f":"'T2-B(PP3)'!$E$226","v":0},"#'T2-B(PP3)'!$E$226"]
["pp3_bl5_1_5_rate_out",{"$f":"'T2-B(PP3)'!$H$226","v":0},"#'T2-B(PP3)'!$H$226"]
["pp3_bl5_1_5_total",{"$f":"'T2-B(PP3)'!$J$226","v":0},"#'T2-B(PP3)'!$J$226"]
["pp3_bl5_1_5_total_in",{"$f":"'T2-B(PP3)'!$F$226","v":0},"#'T2-B(PP3)'!$F$226"]
["pp3_bl5_1_5_total_out",{"$f":"'T2-B(PP3)'!$I$226","v":0},"#'T2-B(PP3)'!$I$226"]
["pp3_bl5_1_5_unit",{"$f":"'T2-B(PP3)'!$C$226","v":0},"#'T2-B(PP3)'!$C$226"]
["pp3_bl5_1_5_unit_in",{"$f":"'T2-B(PP3)'!$D$226","v":0},"#'T2-B(PP3)'!$D$226"]
["pp3_bl5_1_5_units_out",{"$f":"'T2-B(PP3)'!$G$226","v":0},"#'T2-B(PP3)'!$G$226"]
["pp3_bl5_1_6_name",{"$f":"'T2-B(PP3)'!$B$227","v":0},"#'T2-B(PP3)'!$B$227"]
["pp3_bl5_1_6_rate_in",{"$f":"'T2-B(PP3)'!$E$227","v":0},"#'T2-B(PP3)'!$E$227"]
["pp3_bl5_1_6_rate_out",{"$f":"'T2-B(PP3)'!$H$227","v":0},"#'T2-B(PP3)'!$H$227"]
["pp3_bl5_1_6_total",{"$f":"'T2-B(PP3)'!$J$227","v":0},"#'T2-B(PP3)'!$J$227"]
["pp3_bl5_1_6_total_in",{"$f":"'T2-B(PP3)'!$F$227","v":0},"#'T2-B(PP3)'!$F$227"]
["pp3_bl5_1_6_total_out",{"$f":"'T2-B(PP3)'!$I$227","v":0},"#'T2-B(PP3)'!$I$227"]
["pp3_bl5_1_6_unit",{"$f":"'T2-B(PP3)'!$C$227","v":0},"#'T2-B(PP3)'!$C$227"]
["pp3_bl5_1_6_unit_in",{"$f":"'T2-B(PP3)'!$D$227","v":0},"#'T2-B(PP3)'!$D$227"]
["pp3_bl5_1_6_units_out",{"$f":"'T2-B(PP3)'!$G$227","v":0},"#'T2-B(PP3)'!$G$227"]
["pp3_bl5_1_7_name",{"$f":"'T2-B(PP3)'!$B$228","v":0},"#'T2-B(PP3)'!$B$228"]
["pp3_bl5_1_7_rate_in",{"$f":"'T2-B(PP3)'!$E$228","v":0},"#'T2-B(PP3)'!$E$228"]
["pp3_bl5_1_7_rate_out",{"$f":"'T2-B(PP3)'!$H$228","v":0},"#'T2-B(PP3)'!$H$228"]
["pp3_bl5_1_7_total",{"$f":"'T2-B(PP3)'!$J$228","v":0},"#'T2-B(PP3)'!$J$228"]
["pp3_bl5_1_7_total_in",{"$f":"'T2-B(PP3)'!$F$228","v":0},"#'T2-B(PP3)'!$F$228"]
["pp3_bl5_1_7_total_out",{"$f":"'T2-B(PP3)'!$I$228","v":0},"#'T2-B(PP3)'!$I$228"]
["pp3_bl5_1_7_unit",{"$f":"'T2-B(PP3)'!$C$228","v":0},"#'T2-B(PP3)'!$C$228"]
["pp3_bl5_1_7_unit_in",{"$f":"'T2-B(PP3)'!$D$228","v":0},"#'T2-B(PP3)'!$D$228"]
["pp3_bl5_1_7_units_out",{"$f":"'T2-B(PP3)'!$G$228","v":0},"#'T2-B(PP3)'!$G$228"]
["pp3_bl5_1_8_name",{"$f":"'T2-B(PP3)'!$B$229","v":0},"#'T2-B(PP3)'!$B$229"]
["pp3_bl5_1_8_rate_in",{"$f":"'T2-B(PP3)'!$E$229","v":0},"#'T2-B(PP3)'!$E$229"]
["pp3_bl5_1_8_rate_out",{"$f":"'T2-B(PP3)'!$H$229","v":0},"#'T2-B(PP3)'!$H$229"]
["pp3_bl5_1_8_total",{"$f":"'T2-B(PP3)'!$J$229","v":0},"#'T2-B(PP3)'!$J$229"]
["pp3_bl5_1_8_total_in",{"$f":"'T2-B(PP3)'!$F$229","v":0},"#'T2-B(PP3)'!$F$229"]
["pp3_bl5_1_8_total_out",{"$f":"'T2-B(PP3)'!$I$229","v":0},"#'T2-B(PP3)'!$I$229"]
["pp3_bl5_1_8_unit",{"$f":"'T2-B(PP3)'!$C$229","v":0},"#'T2-B(PP3)'!$C$229"]
["pp3_bl5_1_8_unit_in",{"$f":"'T2-B(PP3)'!$D$229","v":0},"#'T2-B(PP3)'!$D$229"]
["pp3_bl5_1_8_units_out",{"$f":"'T2-B(PP3)'!$G$229","v":0},"#'T2-B(PP3)'!$G$229"]
["pp3_bl5_1_9_name",{"$f":"'T2-B(PP3)'!$B$230","v":0},"#'T2-B(PP3)'!$B$230"]
["pp3_bl5_1_9_rate_in",{"$f":"'T2-B(PP3)'!$E$230","v":0},"#'T2-B(PP3)'!$E$230"]
["pp3_bl5_1_9_rate_out",{"$f":"'T2-B(PP3)'!$H$230","v":0},"#'T2-B(PP3)'!$H$230"]
["pp3_bl5_1_9_total",{"$f":"'T2-B(PP3)'!$J$230","v":0},"#'T2-B(PP3)'!$J$230"]
["pp3_bl5_1_9_total_in",{"$f":"'T2-B(PP3)'!$F$230","v":0},"#'T2-B(PP3)'!$F$230"]
["pp3_bl5_1_9_total_out",{"$f":"'T2-B(PP3)'!$I$230","v":0},"#'T2-B(PP3)'!$I$230"]
["pp3_bl5_1_9_unit",{"$f":"'T2-B(PP3)'!$C$230","v":0},"#'T2-B(PP3)'!$C$230"]
["pp3_bl5_1_9_unit_in",{"$f":"'T2-B(PP3)'!$D$230","v":0},"#'T2-B(PP3)'!$D$230"]
["pp3_bl5_1_9_units_out",{"$f":"'T2-B(PP3)'!$G$230","v":0},"#'T2-B(PP3)'!$G$230"]
["pp3_bl5_1_total",{"$f":"'T2-B(PP3)'!$J$221","v":0},"#'T2-B(PP3)'!$J$221"]
["pp3_bl5_1_total_in",{"$f":"'T2-B(PP3)'!$F$221","v":0},"#'T2-B(PP3)'!$F$221"]
["pp3_bl5_1_total_out",{"$f":"'T2-B(PP3)'!$I$221","v":0},"#'T2-B(PP3)'!$I$221"]
["pp3_bl5_2_1_name",{"$f":"'T2-B(PP3)'!$B$233","v":0},"#'T2-B(PP3)'!$B$233"]
["pp3_bl5_2_1_rate_in",{"$f":"'T2-B(PP3)'!$E$233","v":0},"#'T2-B(PP3)'!$E$233"]
["pp3_bl5_2_1_rate_out",{"$f":"'T2-B(PP3)'!$H$233","v":0},"#'T2-B(PP3)'!$H$233"]
["pp3_bl5_2_1_total",{"$f":"'T2-B(PP3)'!$J$233","v":0},"#'T2-B(PP3)'!$J$233"]
["pp3_bl5_2_1_total_in",{"$f":"'T2-B(PP3)'!$F$233","v":0},"#'T2-B(PP3)'!$F$233"]
["pp3_bl5_2_1_total_out",{"$f":"'T2-B(PP3)'!$I$233","v":0},"#'T2-B(PP3)'!$I$233"]
["pp3_bl5_2_1_unit",{"$f":"'T2-B(PP3)'!$C$233","v":0},"#'T2-B(PP3)'!$C$233"]
["pp3_bl5_2_1_unit_in",{"$f":"'T2-B(PP3)'!$D$233","v":0},"#'T2-B(PP3)'!$D$233"]
["pp3_bl5_2_1_units_out",{"$f":"'T2-B(PP3)'!$G$233","v":0},"#'T2-B(PP3)'!$G$233"]
["pp3_bl5_2_10_name",{"$f":"'T2-B(PP3)'!$B$242","v":0},"#'T2-B(PP3)'!$B$242"]
["pp3_bl5_2_10_rate_in",{"$f":"'T2-B(PP3)'!$E$242","v":0},"#'T2-B(PP3)'!$E$242"]
["pp3_bl5_2_10_rate_out",{"$f":"'T2-B(PP3)'!$H$242","v":0},"#'T2-B(PP3)'!$H$242"]
["pp3_bl5_2_10_total",{"$f":"'T2-B(PP3)'!$J$242","v":0},"#'T2-B(PP3)'!$J$242"]
["pp3_bl5_2_10_total_in",{"$f":"'T2-B(PP3)'!$F$242","v":0},"#'T2-B(PP3)'!$F$242"]
["pp3_bl5_2_10_total_out",{"$f":"'T2-B(PP3)'!$I$242","v":0},"#'T2-B(PP3)'!$I$242"]
["pp3_bl5_2_10_unit",{"$f":"'T2-B(PP3)'!$C$242","v":0},"#'T2-B(PP3)'!$C$242"]
["pp3_bl5_2_10_unit_in",{"$f":"'T2-B(PP3)'!$D$242","v":0},"#'T2-B(PP3)'!$D$242"]
["pp3_bl5_2_10_units_out",{"$f":"'T2-B(PP3)'!$G$242","v":0},"#'T2-B(PP3)'!$G$242"]
["pp3_bl5_2_2_name",{"$f":"'T2-B(PP3)'!$B$234","v":0},"#'T2-B(PP3)'!$B$234"]
["pp3_bl5_2_2_rate_in",{"$f":"'T2-B(PP3)'!$E$234","v":0},"#'T2-B(PP3)'!$E$234"]
["pp3_bl5_2_2_rate_out",{"$f":"'T2-B(PP3)'!$H$234","v":0},"#'T2-B(PP3)'!$H$234"]
["pp3_bl5_2_2_total",{"$f":"'T2-B(PP3)'!$J$234","v":0},"#'T2-B(PP3)'!$J$234"]
["pp3_bl5_2_2_total_in",{"$f":"'T2-B(PP3)'!$F$234","v":0},"#'T2-B(PP3)'!$F$234"]
["pp3_bl5_2_2_total_out",{"$f":"'T2-B(PP3)'!$I$234","v":0},"#'T2-B(PP3)'!$I$234"]
["pp3_bl5_2_2_unit",{"$f":"'T2-B(PP3)'!$C$234","v":0},"#'T2-B(PP3)'!$C$234"]
["pp3_bl5_2_2_unit_in",{"$f":"'T2-B(PP3)'!$D$234","v":0},"#'T2-B(PP3)'!$D$234"]
["pp3_bl5_2_2_units_out",{"$f":"'T2-B(PP3)'!$G$234","v":0},"#'T2-B(PP3)'!$G$234"]
["pp3_bl5_2_3_name",{"$f":"'T2-B(PP3)'!$B$235","v":0},"#'T2-B(PP3)'!$B$235"]
["pp3_bl5_2_3_rate_in",{"$f":"'T2-B(PP3)'!$E$235","v":0},"#'T2-B(PP3)'!$E$235"]
["pp3_bl5_2_3_rate_out",{"$f":"'T2-B(PP3)'!$H$235","v":0},"#'T2-B(PP3)'!$H$235"]
["pp3_bl5_2_3_total",{"$f":"'T2-B(PP3)'!$J$235","v":0},"#'T2-B(PP3)'!$J$235"]
["pp3_bl5_2_3_total_in",{"$f":"'T2-B(PP3)'!$F$235","v":0},"#'T2-B(PP3)'!$F$235"]
["pp3_bl5_2_3_total_out",{"$f":"'T2-B(PP3)'!$I$235","v":0},"#'T2-B(PP3)'!$I$235"]
["pp3_bl5_2_3_unit",{"$f":"'T2-B(PP3)'!$C$235","v":0},"#'T2-B(PP3)'!$C$235"]
["pp3_bl5_2_3_unit_in",{"$f":"'T2-B(PP3)'!$D$235","v":0},"#'T2-B(PP3)'!$D$235"]
["pp3_bl5_2_3_units_out",{"$f":"'T2-B(PP3)'!$G$235","v":0},"#'T2-B(PP3)'!$G$235"]
["pp3_bl5_2_4_name",{"$f":"'T2-B(PP3)'!$B$236","v":0},"#'T2-B(PP3)'!$B$236"]
["pp3_bl5_2_4_rate_in",{"$f":"'T2-B(PP3)'!$E$236","v":0},"#'T2-B(PP3)'!$E$236"]
["pp3_bl5_2_4_rate_out",{"$f":"'T2-B(PP3)'!$H$236","v":0},"#'T2-B(PP3)'!$H$236"]
["pp3_bl5_2_4_total",{"$f":"'T2-B(PP3)'!$J$236","v":0},"#'T2-B(PP3)'!$J$236"]
["pp3_bl5_2_4_total_in",{"$f":"'T2-B(PP3)'!$F$236","v":0},"#'T2-B(PP3)'!$F$236"]
["pp3_bl5_2_4_total_out",{"$f":"'T2-B(PP3)'!$I$236","v":0},"#'T2-B(PP3)'!$I$236"]
["pp3_bl5_2_4_unit",{"$f":"'T2-B(PP3)'!$C$236","v":0},"#'T2-B(PP3)'!$C$236"]
["pp3_bl5_2_4_unit_in",{"$f":"'T2-B(PP3)'!$D$236","v":0},"#'T2-B(PP3)'!$D$236"]
["pp3_bl5_2_4_units_out",{"$f":"'T2-B(PP3)'!$G$236","v":0},"#'T2-B(PP3)'!$G$236"]
["pp3_bl5_2_5_name",{"$f":"'T2-B(PP3)'!$B$237","v":0},"#'T2-B(PP3)'!$B$237"]
["pp3_bl5_2_5_rate_in",{"$f":"'T2-B(PP3)'!$E$237","v":0},"#'T2-B(PP3)'!$E$237"]
["pp3_bl5_2_5_rate_out",{"$f":"'T2-B(PP3)'!$H$237","v":0},"#'T2-B(PP3)'!$H$237"]
["pp3_bl5_2_5_total",{"$f":"'T2-B(PP3)'!$J$237","v":0},"#'T2-B(PP3)'!$J$237"]
["pp3_bl5_2_5_total_in",{"$f":"'T2-B(PP3)'!$F$237","v":0},"#'T2-B(PP3)'!$F$237"]
["pp3_bl5_2_5_total_out",{"$f":"'T2-B(PP3)'!$I$237","v":0},"#'T2-B(PP3)'!$I$237"]
["pp3_bl5_2_5_unit",{"$f":"'T2-B(PP3)'!$C$237","v":0},"#'T2-B(PP3)'!$C$237"]
["pp3_bl5_2_5_unit_in",{"$f":"'T2-B(PP3)'!$D$237","v":0},"#'T2-B(PP3)'!$D$237"]
["pp3_bl5_2_5_units_out",{"$f":"'T2-B(PP3)'!$G$237","v":0},"#'T2-B(PP3)'!$G$237"]
["pp3_bl5_2_6_name",{"$f":"'T2-B(PP3)'!$B$238","v":0},"#'T2-B(PP3)'!$B$238"]
["pp3_bl5_2_6_rate_in",{"$f":"'T2-B(PP3)'!$E$238","v":0},"#'T2-B(PP3)'!$E$238"]
["pp3_bl5_2_6_rate_out",{"$f":"'T2-B(PP3)'!$H$238","v":0},"#'T2-B(PP3)'!$H$238"]
["pp3_bl5_2_6_total",{"$f":"'T2-B(PP3)'!$J$238","v":0},"#'T2-B(PP3)'!$J$238"]
["pp3_bl5_2_6_total_in",{"$f":"'T2-B(PP3)'!$F$238","v":0},"#'T2-B(PP3)'!$F$238"]
["pp3_bl5_2_6_total_out",{"$f":"'T2-B(PP3)'!$I$238","v":0},"#'T2-B(PP3)'!$I$238"]
["pp3_bl5_2_6_unit",{"$f":"'T2-B(PP3)'!$C$238","v":0},"#'T2-B(PP3)'!$C$238"]
["pp3_bl5_2_6_unit_in",{"$f":"'T2-B(PP3)'!$D$238","v":0},"#'T2-B(PP3)'!$D$238"]
["pp3_bl5_2_6_units_out",{"$f":"'T2-B(PP3)'!$G$238","v":0},"#'T2-B(PP3)'!$G$238"]
["pp3_bl5_2_7_name",{"$f":"'T2-B(PP3)'!$B$239","v":0},"#'T2-B(PP3)'!$B$239"]
["pp3_bl5_2_7_rate_in",{"$f":"'T2-B(PP3)'!$E$239","v":0},"#'T2-B(PP3)'!$E$239"]
["pp3_bl5_2_7_rate_out",{"$f":"'T2-B(PP3)'!$H$239","v":0},"#'T2-B(PP3)'!$H$239"]
["pp3_bl5_2_7_total",{"$f":"'T2-B(PP3)'!$J$239","v":0},"#'T2-B(PP3)'!$J$239"]
["pp3_bl5_2_7_total_in",{"$f":"'T2-B(PP3)'!$F$239","v":0},"#'T2-B(PP3)'!$F$239"]
["pp3_bl5_2_7_total_out",{"$f":"'T2-B(PP3)'!$I$239","v":0},"#'T2-B(PP3)'!$I$239"]
["pp3_bl5_2_7_unit",{"$f":"'T2-B(PP3)'!$C$239","v":0},"#'T2-B(PP3)'!$C$239"]
["pp3_bl5_2_7_unit_in",{"$f":"'T2-B(PP3)'!$D$239","v":0},"#'T2-B(PP3)'!$D$239"]
["pp3_bl5_2_7_units_out",{"$f":"'T2-B(PP3)'!$G$239","v":0},"#'T2-B(PP3)'!$G$239"]
["pp3_bl5_2_8_name",{"$f":"'T2-B(PP3)'!$B$240","v":0},"#'T2-B(PP3)'!$B$240"]
["pp3_bl5_2_8_rate_in",{"$f":"'T2-B(PP3)'!$E$240","v":0},"#'T2-B(PP3)'!$E$240"]
["pp3_bl5_2_8_rate_out",{"$f":"'T2-B(PP3)'!$H$240","v":0},"#'T2-B(PP3)'!$H$240"]
["pp3_bl5_2_8_total",{"$f":"'T2-B(PP3)'!$J$240","v":0},"#'T2-B(PP3)'!$J$240"]
["pp3_bl5_2_8_total_in",{"$f":"'T2-B(PP3)'!$F$240","v":0},"#'T2-B(PP3)'!$F$240"]
["pp3_bl5_2_8_total_out",{"$f":"'T2-B(PP3)'!$I$240","v":0},"#'T2-B(PP3)'!$I$240"]
["pp3_bl5_2_8_unit",{"$f":"'T2-B(PP3)'!$C$240","v":0},"#'T2-B(PP3)'!$C$240"]
["pp3_bl5_2_8_unit_in",{"$f":"'T2-B(PP3)'!$D$240","v":0},"#'T2-B(PP3)'!$D$240"]
["pp3_bl5_2_8_units_out",{"$f":"'T2-B(PP3)'!$G$240","v":0},"#'T2-B(PP3)'!$G$240"]
["pp3_bl5_2_9_name",{"$f":"'T2-B(PP3)'!$B$241","v":0},"#'T2-B(PP3)'!$B$241"]
["pp3_bl5_2_9_rate_in",{"$f":"'T2-B(PP3)'!$E$241","v":0},"#'T2-B(PP3)'!$E$241"]
["pp3_bl5_2_9_rate_out",{"$f":"'T2-B(PP3)'!$H$241","v":0},"#'T2-B(PP3)'!$H$241"]
["pp3_bl5_2_9_total",{"$f":"'T2-B(PP3)'!$J$241","v":0},"#'T2-B(PP3)'!$J$241"]
["pp3_bl5_2_9_total_in",{"$f":"'T2-B(PP3)'!$F$241","v":0},"#'T2-B(PP3)'!$F$241"]
["pp3_bl5_2_9_total_out",{"$f":"'T2-B(PP3)'!$I$241","v":0},"#'T2-B(PP3)'!$I$241"]
["pp3_bl5_2_9_unit",{"$f":"'T2-B(PP3)'!$C$241","v":0},"#'T2-B(PP3)'!$C$241"]
["pp3_bl5_2_9_unit_in",{"$f":"'T2-B(PP3)'!$D$241","v":0},"#'T2-B(PP3)'!$D$241"]
["pp3_bl5_2_9_units_out",{"$f":"'T2-B(PP3)'!$G$241","v":0},"#'T2-B(PP3)'!$G$241"]
["pp3_bl5_2_total",{"$f":"'T2-B(PP3)'!$J$232","v":0},"#'T2-B(PP3)'!$J$232"]
["pp3_bl5_2_total_in",{"$f":"'T2-B(PP3)'!$F$232","v":0},"#'T2-B(PP3)'!$F$232"]
["pp3_bl5_2_total_out",{"$f":"'T2-B(PP3)'!$I$232","v":0},"#'T2-B(PP3)'!$I$232"]
["pp3_bl5_total",{"$f":"'T2-B(PP3)'!$J$243","v":0},"#'T2-B(PP3)'!$J$243"]
["pp3_bl5_total_in",{"$f":"'T2-B(PP3)'!$F$243","v":0},"#'T2-B(PP3)'!$F$243"]
["pp3_bl5_total_out",{"$f":"'T2-B(PP3)'!$I$243","v":0},"#'T2-B(PP3)'!$I$243"]
["pp3_bl6_1_1_name",{"$f":"'T2-B(PP3)'!$B$247","v":0},"#'T2-B(PP3)'!$B$247"]
["pp3_bl6_1_1_rate_in",{"$f":"'T2-B(PP3)'!$E$247","v":0},"#'T2-B(PP3)'!$E$247"]
["pp3_bl6_1_1_rate_out",{"$f":"'T2-B(PP3)'!$H$247","v":0},"#'T2-B(PP3)'!$H$247"]
["pp3_bl6_1_1_total",{"$f":"'T2-B(PP3)'!$J$247","v":0},"#'T2-B(PP3)'!$J$247"]
["pp3_bl6_1_1_total_in",{"$f":"'T2-B(PP3)'!$F$247","v":0},"#'T2-B(PP3)'!$F$247"]
["pp3_bl6_1_1_total_out",{"$f":"'T2-B(PP3)'!$I$247","v":0},"#'T2-B(PP3)'!$I$247"]
["pp3_bl6_1_1_unit",{"$f":"'T2-B(PP3)'!$C$247","v":0},"#'T2-B(PP3)'!$C$247"]
["pp3_bl6_1_1_unit_in",{"$f":"'T2-B(PP3)'!$D$247","v":0},"#'T2-B(PP3)'!$D$247"]
["pp3_bl6_1_1_units_out",{"$f":"'T2-B(PP3)'!$G$247","v":0},"#'T2-B(PP3)'!$G$247"]
["pp3_bl6_1_10_name",{"$f":"'T2-B(PP3)'!$B$256","v":0},"#'T2-B(PP3)'!$B$256"]
["pp3_bl6_1_10_rate_in",{"$f":"'T2-B(PP3)'!$E$256","v":0},"#'T2-B(PP3)'!$E$256"]
["pp3_bl6_1_10_rate_out",{"$f":"'T2-B(PP3)'!$H$256","v":0},"#'T2-B(PP3)'!$H$256"]
["pp3_bl6_1_10_total",{"$f":"'T2-B(PP3)'!$J$256","v":0},"#'T2-B(PP3)'!$J$256"]
["pp3_bl6_1_10_total_in",{"$f":"'T2-B(PP3)'!$F$256","v":0},"#'T2-B(PP3)'!$F$256"]
["pp3_bl6_1_10_total_out",{"$f":"'T2-B(PP3)'!$I$256","v":0},"#'T2-B(PP3)'!$I$256"]
["pp3_bl6_1_10_unit",{"$f":"'T2-B(PP3)'!$C$256","v":0},"#'T2-B(PP3)'!$C$256"]
["pp3_bl6_1_10_unit_in",{"$f":"'T2-B(PP3)'!$D$256","v":0},"#'T2-B(PP3)'!$D$256"]
["pp3_bl6_1_10_units_out",{"$f":"'T2-B(PP3)'!$G$256","v":0},"#'T2-B(PP3)'!$G$256"]
["pp3_bl6_1_2_name",{"$f":"'T2-B(PP3)'!$B$248","v":0},"#'T2-B(PP3)'!$B$248"]
["pp3_bl6_1_2_rate_in",{"$f":"'T2-B(PP3)'!$E$248","v":0},"#'T2-B(PP3)'!$E$248"]
["pp3_bl6_1_2_rate_out",{"$f":"'T2-B(PP3)'!$H$248","v":0},"#'T2-B(PP3)'!$H$248"]
["pp3_bl6_1_2_total",{"$f":"'T2-B(PP3)'!$J$248","v":0},"#'T2-B(PP3)'!$J$248"]
["pp3_bl6_1_2_total_in",{"$f":"'T2-B(PP3)'!$F$248","v":0},"#'T2-B(PP3)'!$F$248"]
["pp3_bl6_1_2_total_out",{"$f":"'T2-B(PP3)'!$I$248","v":0},"#'T2-B(PP3)'!$I$248"]
["pp3_bl6_1_2_unit",{"$f":"'T2-B(PP3)'!$C$248","v":0},"#'T2-B(PP3)'!$C$248"]
["pp3_bl6_1_2_unit_in",{"$f":"'T2-B(PP3)'!$D$248","v":0},"#'T2-B(PP3)'!$D$248"]
["pp3_bl6_1_2_units_out",{"$f":"'T2-B(PP3)'!$G$248","v":0},"#'T2-B(PP3)'!$G$248"]
["pp3_bl6_1_3_name",{"$f":"'T2-B(PP3)'!$B$249","v":0},"#'T2-B(PP3)'!$B$249"]
["pp3_bl6_1_3_rate_in",{"$f":"'T2-B(PP3)'!$E$249","v":0},"#'T2-B(PP3)'!$E$249"]
["pp3_bl6_1_3_rate_out",{"$f":"'T2-B(PP3)'!$H$249","v":0},"#'T2-B(PP3)'!$H$249"]
["pp3_bl6_1_3_total",{"$f":"'T2-B(PP3)'!$J$249","v":0},"#'T2-B(PP3)'!$J$249"]
["pp3_bl6_1_3_total_in",{"$f":"'T2-B(PP3)'!$F$249","v":0},"#'T2-B(PP3)'!$F$249"]
["pp3_bl6_1_3_total_out",{"$f":"'T2-B(PP3)'!$I$249","v":0},"#'T2-B(PP3)'!$I$249"]
["pp3_bl6_1_3_unit",{"$f":"'T2-B(PP3)'!$C$249","v":0},"#'T2-B(PP3)'!$C$249"]
["pp3_bl6_1_3_unit_in",{"$f":"'T2-B(PP3)'!$D$249","v":0},"#'T2-B(PP3)'!$D$249"]
["pp3_bl6_1_3_units_out",{"$f":"'T2-B(PP3)'!$G$249","v":0},"#'T2-B(PP3)'!$G$249"]
["pp3_bl6_1_4_name",{"$f":"'T2-B(PP3)'!$B$250","v":0},"#'T2-B(PP3)'!$B$250"]
["pp3_bl6_1_4_rate_in",{"$f":"'T2-B(PP3)'!$E$250","v":0},"#'T2-B(PP3)'!$E$250"]
["pp3_bl6_1_4_rate_out",{"$f":"'T2-B(PP3)'!$H$250","v":0},"#'T2-B(PP3)'!$H$250"]
["pp3_bl6_1_4_total",{"$f":"'T2-B(PP3)'!$J$250","v":0},"#'T2-B(PP3)'!$J$250"]
["pp3_bl6_1_4_total_in",{"$f":"'T2-B(PP3)'!$F$250","v":0},"#'T2-B(PP3)'!$F$250"]
["pp3_bl6_1_4_total_out",{"$f":"'T2-B(PP3)'!$I$250","v":0},"#'T2-B(PP3)'!$I$250"]
["pp3_bl6_1_4_unit",{"$f":"'T2-B(PP3)'!$C$250","v":0},"#'T2-B(PP3)'!$C$250"]
["pp3_bl6_1_4_unit_in",{"$f":"'T2-B(PP3)'!$D$250","v":0},"#'T2-B(PP3)'!$D$250"]
["pp3_bl6_1_4_units_out",{"$f":"'T2-B(PP3)'!$G$250","v":0},"#'T2-B(PP3)'!$G$250"]
["pp3_bl6_1_5_name",{"$f":"'T2-B(PP3)'!$B$251","v":0},"#'T2-B(PP3)'!$B$251"]
["pp3_bl6_1_5_rate_in",{"$f":"'T2-B(PP3)'!$E$251","v":0},"#'T2-B(PP3)'!$E$251"]
["pp3_bl6_1_5_rate_out",{"$f":"'T2-B(PP3)'!$H$251","v":0},"#'T2-B(PP3)'!$H$251"]
["pp3_bl6_1_5_total",{"$f":"'T2-B(PP3)'!$J$251","v":0},"#'T2-B(PP3)'!$J$251"]
["pp3_bl6_1_5_total_in",{"$f":"'T2-B(PP3)'!$F$251","v":0},"#'T2-B(PP3)'!$F$251"]
["pp3_bl6_1_5_total_out",{"$f":"'T2-B(PP3)'!$I$251","v":0},"#'T2-B(PP3)'!$I$251"]
["pp3_bl6_1_5_unit",{"$f":"'T2-B(PP3)'!$C$251","v":0},"#'T2-B(PP3)'!$C$251"]
["pp3_bl6_1_5_unit_in",{"$f":"'T2-B(PP3)'!$D$251","v":0},"#'T2-B(PP3)'!$D$251"]
["pp3_bl6_1_5_units_out",{"$f":"'T2-B(PP3)'!$G$251","v":0},"#'T2-B(PP3)'!$G$251"]
["pp3_bl6_1_6_name",{"$f":"'T2-B(PP3)'!$B$252","v":0},"#'T2-B(PP3)'!$B$252"]
["pp3_bl6_1_6_rate_in",{"$f":"'T2-B(PP3)'!$E$252","v":0},"#'T2-B(PP3)'!$E$252"]
["pp3_bl6_1_6_rate_out",{"$f":"'T2-B(PP3)'!$H$252","v":0},"#'T2-B(PP3)'!$H$252"]
["pp3_bl6_1_6_total",{"$f":"'T2-B(PP3)'!$J$252","v":0},"#'T2-B(PP3)'!$J$252"]
["pp3_bl6_1_6_total_in",{"$f":"'T2-B(PP3)'!$F$252","v":0},"#'T2-B(PP3)'!$F$252"]
["pp3_bl6_1_6_total_out",{"$f":"'T2-B(PP3)'!$I$252","v":0},"#'T2-B(PP3)'!$I$252"]
["pp3_bl6_1_6_unit",{"$f":"'T2-B(PP3)'!$C$252","v":0},"#'T2-B(PP3)'!$C$252"]
["pp3_bl6_1_6_unit_in",{"$f":"'T2-B(PP3)'!$D$252","v":0},"#'T2-B(PP3)'!$D$252"]
["pp3_bl6_1_6_units_out",{"$f":"'T2-B(PP3)'!$G$252","v":0},"#'T2-B(PP3)'!$G$252"]
["pp3_bl6_1_7_name",{"$f":"'T2-B(PP3)'!$B$253","v":0},"#'T2-B(PP3)'!$B$253"]
["pp3_bl6_1_7_rate_in",{"$f":"'T2-B(PP3)'!$E$253","v":0},"#'T2-B(PP3)'!$E$253"]
["pp3_bl6_1_7_rate_out",{"$f":"'T2-B(PP3)'!$H$253","v":0},"#'T2-B(PP3)'!$H$253"]
["pp3_bl6_1_7_total",{"$f":"'T2-B(PP3)'!$J$253","v":0},"#'T2-B(PP3)'!$J$253"]
["pp3_bl6_1_7_total_in",{"$f":"'T2-B(PP3)'!$F$253","v":0},"#'T2-B(PP3)'!$F$253"]
["pp3_bl6_1_7_total_out",{"$f":"'T2-B(PP3)'!$I$253","v":0},"#'T2-B(PP3)'!$I$253"]
["pp3_bl6_1_7_unit",{"$f":"'T2-B(PP3)'!$C$253","v":0},"#'T2-B(PP3)'!$C$253"]
["pp3_bl6_1_7_unit_in",{"$f":"'T2-B(PP3)'!$D$253","v":0},"#'T2-B(PP3)'!$D$253"]
["pp3_bl6_1_7_units_out",{"$f":"'T2-B(PP3)'!$G$253","v":0},"#'T2-B(PP3)'!$G$253"]
["pp3_bl6_1_8_name",{"$f":"'T2-B(PP3)'!$B$254","v":0},"#'T2-B(PP3)'!$B$254"]
["pp3_bl6_1_8_rate_in",{"$f":"'T2-B(PP3)'!$E$254","v":0},"#'T2-B(PP3)'!$E$254"]
["pp3_bl6_1_8_rate_out",{"$f":"'T2-B(PP3)'!$H$254","v":0},"#'T2-B(PP3)'!$H$254"]
["pp3_bl6_1_8_total",{"$f":"'T2-B(PP3)'!$J$254","v":0},"#'T2-B(PP3)'!$J$254"]
["pp3_bl6_1_8_total_in",{"$f":"'T2-B(PP3)'!$F$254","v":0},"#'T2-B(PP3)'!$F$254"]
["pp3_bl6_1_8_total_out",{"$f":"'T2-B(PP3)'!$I$254","v":0},"#'T2-B(PP3)'!$I$254"]
["pp3_bl6_1_8_unit",{"$f":"'T2-B(PP3)'!$C$254","v":0},"#'T2-B(PP3)'!$C$254"]
["pp3_bl6_1_8_unit_in",{"$f":"'T2-B(PP3)'!$D$254","v":0},"#'T2-B(PP3)'!$D$254"]
["pp3_bl6_1_8_units_out",{"$f":"'T2-B(PP3)'!$G$254","v":0},"#'T2-B(PP3)'!$G$254"]
["pp3_bl6_1_9_name",{"$f":"'T2-B(PP3)'!$B$255","v":0},"#'T2-B(PP3)'!$B$255"]
["pp3_bl6_1_9_rate_in",{"$f":"'T2-B(PP3)'!$E$255","v":0},"#'T2-B(PP3)'!$E$255"]
["pp3_bl6_1_9_rate_out",{"$f":"'T2-B(PP3)'!$H$255","v":0},"#'T2-B(PP3)'!$H$255"]
["pp3_bl6_1_9_total",{"$f":"'T2-B(PP3)'!$J$255","v":0},"#'T2-B(PP3)'!$J$255"]
["pp3_bl6_1_9_total_in",{"$f":"'T2-B(PP3)'!$F$255","v":0},"#'T2-B(PP3)'!$F$255"]
["pp3_bl6_1_9_total_out",{"$f":"'T2-B(PP3)'!$I$255","v":0},"#'T2-B(PP3)'!$I$255"]
["pp3_bl6_1_9_unit",{"$f":"'T2-B(PP3)'!$C$255","v":0},"#'T2-B(PP3)'!$C$255"]
["pp3_bl6_1_9_unit_in",{"$f":"'T2-B(PP3)'!$D$255","v":0},"#'T2-B(PP3)'!$D$255"]
["pp3_bl6_1_9_units_out",{"$f":"'T2-B(PP3)'!$G$255","v":0},"#'T2-B(PP3)'!$G$255"]
["pp3_bl6_1_total",{"$f":"'T2-B(PP3)'!$J$246","v":0},"#'T2-B(PP3)'!$J$246"]
["pp3_bl6_1_total_in",{"$f":"'T2-B(PP3)'!$F$246","v":"TOTAL"},"#'T2-B(PP3)'!$F$246"]
["pp3_bl6_1_total_out",{"$f":"'T2-B(PP3)'!$I$246","v":"TOTAL"},"#'T2-B(PP3)'!$I$246"]
["pp3_bl6_total",{"$f":"'T2-B(PP3)'!$J$257","v":0},"#'T2-B(PP3)'!$J$257"]
["pp3_bl6_total_in",{"$f":"'T2-B(PP3)'!$F$257","v":0},"#'T2-B(PP3)'!$F$257"]
["pp3_bl6_total_out",{"$f":"'T2-B(PP3)'!$I$257","v":0},"#'T2-B(PP3)'!$I$257"]
["pp3_country",{"$f":"'PP3'!$K$14","v":1},"#'PP3'!$K$14"]
["pp3_fax",{"$f":"'PP3'!$C$29","v":0},"#'PP3'!$C$29"]
["pp3_is_bg",{"$f":"'PP3'!$D$13","v":0},"#'PP3'!$D$13"]
["pp3_is_pc",{"$f":"'PP3'!$F$13","v":0},"#'PP3'!$F$13"]
["pp3_legal_representative",{"$f":"'PP3'!$C$23","v":0},"#'PP3'!$C$23"]
["pp3_legal_representative_position",{"$f":"'PP3'!$C$25","v":0},"#'PP3'!$C$25"]
["pp3_mail",{"$f":"'PP3'!$C$31","v":0},"#'PP3'!$C$31"]
["pp3_nat_code",{"$f":"'PP3'!$C$70","v":0},"#'PP3'!$C$70"]
["pp3_nuts3",{"$f":"'PP3'!$C$15","v":0},"#'PP3'!$C$15"]
["pp3_organisation_en",{"$f":"'PP3'!$C$7","v":0},"#'PP3'!$C$7"]
["pp3_organisation_native",{"$f":"'PP3'!$C$9","v":0},"#'PP3'!$C$9"]
["pp3_pe_date1",{"$f":"'PP3'!$G$47","v":0},"#'PP3'!$G$47"]
["pp3_pe_date2",{"$f":"'PP3'!$G$55","v":0},"#'PP3'!$G$55"]
["pp3_pe_date3",{"$f":"'PP3'!$G$63","v":0},"#'PP3'!$G$63"]
["pp3_pe_ga1",{"$f":"'PP3'!$G$46","v":0},"#'PP3'!$G$46"]
["pp3_pe_ga2",{"$f":"'PP3'!$G$54","v":0},"#'PP3'!$G$54"]
["pp3_pe_ga3",{"$f":"'PP3'!$G$62","v":0},"#'PP3'!$G$62"]
["pp3_pe_ip1",{"$f":"'PP3'!$C$43","v":0},"#'PP3'!$C$43"]
["pp3_pe_ip2",{"$f":"'PP3'!$C$51","v":0},"#'PP3'!$C$51"]
["pp3_pe_ip3",{"$f":"'PP3'!$C$59","v":0},"#'PP3'!$C$59"]
["pp3_pe_or1",{"$f":"'PP3'!$C$47","v":0},"#'PP3'!$C$47"]
["pp3_pe_or2",{"$f":"'PP3'!$C$55","v":0},"#'PP3'!$C$55"]
["pp3_pe_or3",{"$f":"'PP3'!$C$63","v":0},"#'PP3'!$C$63"]
["pp3_pe_pt1",{"$f":"'PP3'!$C$44","v":0},"#'PP3'!$C$44"]
["pp3_pe_pt2",{"$f":"'PP3'!$C$52","v":0},"#'PP3'!$C$52"]
["pp3_pe_pt3",{"$f":"'PP3'!$C$60","v":0},"#'PP3'!$C$60"]
["pp3_pe_sd1",{"$f":"'PP3'!$C$45","v":0},"#'PP3'!$C$45"]
["pp3_pe_sd2",{"$f":"'PP3'!$C$53","v":0},"#'PP3'!$C$53"]
["pp3_pe_sd3",{"$f":"'PP3'!$C$61","v":0},"#'PP3'!$C$61"]
["pp3_pe_tev1",{"$f":"'PP3'!$C$46","v":0},"#'PP3'!$C$46"]
["pp3_pe_tev2",{"$f":"'PP3'!$C$54","v":0},"#'PP3'!$C$54"]
["pp3_pe_tev3",{"$f":"'PP3'!$C$62","v":0},"#'PP3'!$C$62"]
["pp3_phone",{"$f":"'PP3'!$C$27","v":0},"#'PP3'!$C$27"]
["pp3_post_code",{"$f":"'PP3'!$C$21","v":0},"#'PP3'!$C$21"]
["pp3_profile",{"$f":"'PP3'!$B$38","v":0},"#'PP3'!$B$38"]
["pp3_town",{"$f":"'PP3'!$C$17","v":0},"#'PP3'!$C$17"]
["pp3_type_org",{"$f":"'PP3'!$C$11","v":0},"#'PP3'!$C$11"]
["pp3_vat_code",{"$f":"'PP3'!$C$72","v":0},"#'PP3'!$C$72"]
["pp3_website",{"$f":"'PP3'!$C$33","v":0},"#'PP3'!$C$33"]
["pp4_2012_fulltime_staff",{"$f":"'PP4'!$D$79","v":0},"#'PP4'!$D$79"]
["pp4_2012_offices",{"$f":"'PP4'!$F$79","v":0},"#'PP4'!$F$79"]
["pp4_2012_parttime_staff",{"$f":"'PP4'!$E$79","v":0},"#'PP4'!$E$79"]
["pp4_2012_turnover",{"$f":"'PP4'!$C$79","v":0},"#'PP4'!$C$79"]
["pp4_2013_fulltime_staff",{"$f":"'PP4'!$D$78","v":0},"#'PP4'!$D$78"]
["pp4_2013_offices",{"$f":"'PP4'!$F$78","v":0},"#'PP4'!$F$78"]
["pp4_2013_parttime_staff",{"$f":"'PP4'!$E$78","v":0},"#'PP4'!$E$78"]
["pp4_2013_turnover",{"$f":"'PP4'!$C$78","v":0},"#'PP4'!$C$78"]
["pp4_2014_fulltime_staff",{"$f":"'PP4'!$D$77","v":0},"#'PP4'!$D$77"]
["pp4_2014_offices",{"$f":"'PP4'!$F$77","v":0},"#'PP4'!$F$77"]
["pp4_2014_parttime_staff",{"$f":"'PP4'!$E$77","v":0},"#'PP4'!$E$77"]
["pp4_2014_turnover",{"$f":"'PP4'!$C$77","v":0},"#'PP4'!$C$77"]
["pp4_address",{"$f":"'PP4'!$C$19","v":0},"#'PP4'!$C$19"]
["pp4_bl3_1_1_name",{"$f":"'T2-B(PP4)'!$B$16","v":0},"#'T2-B(PP4)'!$B$16"]
["pp4_bl3_1_1_rate_in",{"$f":"'T2-B(PP4)'!$E$16","v":0},"#'T2-B(PP4)'!$E$16"]
["pp4_bl3_1_1_rate_out",{"$f":"'T2-B(PP4)'!$H$16","v":0},"#'T2-B(PP4)'!$H$16"]
["pp4_bl3_1_1_total",{"$f":"'T2-B(PP4)'!$J$16","v":0},"#'T2-B(PP4)'!$J$16"]
["pp4_bl3_1_1_total_in",{"$f":"'T2-B(PP4)'!$F$16","v":0},"#'T2-B(PP4)'!$F$16"]
["pp4_bl3_1_1_total_out",{"$f":"'T2-B(PP4)'!$I$16","v":0},"#'T2-B(PP4)'!$I$16"]
["pp4_bl3_1_1_unit",{"$f":"'T2-B(PP4)'!$C$16","v":0},"#'T2-B(PP4)'!$C$16"]
["pp4_bl3_1_1_unit_in",{"$f":"'T2-B(PP4)'!$D$16","v":0},"#'T2-B(PP4)'!$D$16"]
["pp4_bl3_1_1_units_out",{"$f":"'T2-B(PP4)'!$G$16","v":0},"#'T2-B(PP4)'!$G$16"]
["pp4_bl3_1_10_name",{"$f":"'T2-B(PP4)'!$B$25","v":0},"#'T2-B(PP4)'!$B$25"]
["pp4_bl3_1_10_rate_in",{"$f":"'T2-B(PP4)'!$E$25","v":0},"#'T2-B(PP4)'!$E$25"]
["pp4_bl3_1_10_rate_out",{"$f":"'T2-B(PP4)'!$H$25","v":0},"#'T2-B(PP4)'!$H$25"]
["pp4_bl3_1_10_total",{"$f":"'T2-B(PP4)'!$J$25","v":0},"#'T2-B(PP4)'!$J$25"]
["pp4_bl3_1_10_total_in",{"$f":"'T2-B(PP4)'!$F$25","v":0},"#'T2-B(PP4)'!$F$25"]
["pp4_bl3_1_10_total_out",{"$f":"'T2-B(PP4)'!$I$25","v":0},"#'T2-B(PP4)'!$I$25"]
["pp4_bl3_1_10_unit",{"$f":"'T2-B(PP4)'!$C$25","v":0},"#'T2-B(PP4)'!$C$25"]
["pp4_bl3_1_10_unit_in",{"$f":"'T2-B(PP4)'!$D$25","v":0},"#'T2-B(PP4)'!$D$25"]
["pp4_bl3_1_10_units_out",{"$f":"'T2-B(PP4)'!$G$25","v":0},"#'T2-B(PP4)'!$G$25"]
["pp4_bl3_1_2_name",{"$f":"'T2-B(PP4)'!$B$17","v":0},"#'T2-B(PP4)'!$B$17"]
["pp4_bl3_1_2_rate_in",{"$f":"'T2-B(PP4)'!$E$17","v":0},"#'T2-B(PP4)'!$E$17"]
["pp4_bl3_1_2_rate_out",{"$f":"'T2-B(PP4)'!$H$17","v":0},"#'T2-B(PP4)'!$H$17"]
["pp4_bl3_1_2_total",{"$f":"'T2-B(PP4)'!$J$17","v":0},"#'T2-B(PP4)'!$J$17"]
["pp4_bl3_1_2_total_in",{"$f":"'T2-B(PP4)'!$F$17","v":0},"#'T2-B(PP4)'!$F$17"]
["pp4_bl3_1_2_total_out",{"$f":"'T2-B(PP4)'!$I$17","v":0},"#'T2-B(PP4)'!$I$17"]
["pp4_bl3_1_2_unit",{"$f":"'T2-B(PP4)'!$C$17","v":0},"#'T2-B(PP4)'!$C$17"]
["pp4_bl3_1_2_unit_in",{"$f":"'T2-B(PP4)'!$D$17","v":0},"#'T2-B(PP4)'!$D$17"]
["pp4_bl3_1_2_units_out",{"$f":"'T2-B(PP4)'!$G$17","v":0},"#'T2-B(PP4)'!$G$17"]
["pp4_bl3_1_3_name",{"$f":"'T2-B(PP4)'!$B$18","v":0},"#'T2-B(PP4)'!$B$18"]
["pp4_bl3_1_3_rate_in",{"$f":"'T2-B(PP4)'!$E$18","v":0},"#'T2-B(PP4)'!$E$18"]
["pp4_bl3_1_3_rate_out",{"$f":"'T2-B(PP4)'!$H$18","v":0},"#'T2-B(PP4)'!$H$18"]
["pp4_bl3_1_3_total",{"$f":"'T2-B(PP4)'!$J$18","v":0},"#'T2-B(PP4)'!$J$18"]
["pp4_bl3_1_3_total_in",{"$f":"'T2-B(PP4)'!$F$18","v":0},"#'T2-B(PP4)'!$F$18"]
["pp4_bl3_1_3_total_out",{"$f":"'T2-B(PP4)'!$I$18","v":0},"#'T2-B(PP4)'!$I$18"]
["pp4_bl3_1_3_unit",{"$f":"'T2-B(PP4)'!$C$18","v":0},"#'T2-B(PP4)'!$C$18"]
["pp4_bl3_1_3_unit_in",{"$f":"'T2-B(PP4)'!$D$18","v":0},"#'T2-B(PP4)'!$D$18"]
["pp4_bl3_1_3_units_out",{"$f":"'T2-B(PP4)'!$G$18","v":0},"#'T2-B(PP4)'!$G$18"]
["pp4_bl3_1_4_name",{"$f":"'T2-B(PP4)'!$B$19","v":0},"#'T2-B(PP4)'!$B$19"]
["pp4_bl3_1_4_rate_in",{"$f":"'T2-B(PP4)'!$E$19","v":0},"#'T2-B(PP4)'!$E$19"]
["pp4_bl3_1_4_rate_out",{"$f":"'T2-B(PP4)'!$H$19","v":0},"#'T2-B(PP4)'!$H$19"]
["pp4_bl3_1_4_total",{"$f":"'T2-B(PP4)'!$J$19","v":0},"#'T2-B(PP4)'!$J$19"]
["pp4_bl3_1_4_total_in",{"$f":"'T2-B(PP4)'!$F$19","v":0},"#'T2-B(PP4)'!$F$19"]
["pp4_bl3_1_4_total_out",{"$f":"'T2-B(PP4)'!$I$19","v":0},"#'T2-B(PP4)'!$I$19"]
["pp4_bl3_1_4_unit",{"$f":"'T2-B(PP4)'!$C$19","v":0},"#'T2-B(PP4)'!$C$19"]
["pp4_bl3_1_4_unit_in",{"$f":"'T2-B(PP4)'!$D$19","v":0},"#'T2-B(PP4)'!$D$19"]
["pp4_bl3_1_4_units_out",{"$f":"'T2-B(PP4)'!$G$19","v":0},"#'T2-B(PP4)'!$G$19"]
["pp4_bl3_1_5_name",{"$f":"'T2-B(PP4)'!$B$20","v":0},"#'T2-B(PP4)'!$B$20"]
["pp4_bl3_1_5_rate_in",{"$f":"'T2-B(PP4)'!$E$20","v":0},"#'T2-B(PP4)'!$E$20"]
["pp4_bl3_1_5_rate_out",{"$f":"'T2-B(PP4)'!$H$20","v":0},"#'T2-B(PP4)'!$H$20"]
["pp4_bl3_1_5_total",{"$f":"'T2-B(PP4)'!$J$20","v":0},"#'T2-B(PP4)'!$J$20"]
["pp4_bl3_1_5_total_in",{"$f":"'T2-B(PP4)'!$F$20","v":0},"#'T2-B(PP4)'!$F$20"]
["pp4_bl3_1_5_total_out",{"$f":"'T2-B(PP4)'!$I$20","v":0},"#'T2-B(PP4)'!$I$20"]
["pp4_bl3_1_5_unit",{"$f":"'T2-B(PP4)'!$C$20","v":0},"#'T2-B(PP4)'!$C$20"]
["pp4_bl3_1_5_unit_in",{"$f":"'T2-B(PP4)'!$D$20","v":0},"#'T2-B(PP4)'!$D$20"]
["pp4_bl3_1_5_units_out",{"$f":"'T2-B(PP4)'!$G$20","v":0},"#'T2-B(PP4)'!$G$20"]
["pp4_bl3_1_6_name",{"$f":"'T2-B(PP4)'!$B$21","v":0},"#'T2-B(PP4)'!$B$21"]
["pp4_bl3_1_6_rate_in",{"$f":"'T2-B(PP4)'!$E$21","v":0},"#'T2-B(PP4)'!$E$21"]
["pp4_bl3_1_6_rate_out",{"$f":"'T2-B(PP4)'!$H$21","v":0},"#'T2-B(PP4)'!$H$21"]
["pp4_bl3_1_6_total",{"$f":"'T2-B(PP4)'!$J$21","v":0},"#'T2-B(PP4)'!$J$21"]
["pp4_bl3_1_6_total_in",{"$f":"'T2-B(PP4)'!$F$21","v":0},"#'T2-B(PP4)'!$F$21"]
["pp4_bl3_1_6_total_out",{"$f":"'T2-B(PP4)'!$I$21","v":0},"#'T2-B(PP4)'!$I$21"]
["pp4_bl3_1_6_unit",{"$f":"'T2-B(PP4)'!$C$21","v":0},"#'T2-B(PP4)'!$C$21"]
["pp4_bl3_1_6_unit_in",{"$f":"'T2-B(PP4)'!$D$21","v":0},"#'T2-B(PP4)'!$D$21"]
["pp4_bl3_1_6_units_out",{"$f":"'T2-B(PP4)'!$G$21","v":0},"#'T2-B(PP4)'!$G$21"]
["pp4_bl3_1_7_name",{"$f":"'T2-B(PP4)'!$B$22","v":0},"#'T2-B(PP4)'!$B$22"]
["pp4_bl3_1_7_rate_in",{"$f":"'T2-B(PP4)'!$E$22","v":0},"#'T2-B(PP4)'!$E$22"]
["pp4_bl3_1_7_rate_out",{"$f":"'T2-B(PP4)'!$H$22","v":0},"#'T2-B(PP4)'!$H$22"]
["pp4_bl3_1_7_total",{"$f":"'T2-B(PP4)'!$J$22","v":0},"#'T2-B(PP4)'!$J$22"]
["pp4_bl3_1_7_total_in",{"$f":"'T2-B(PP4)'!$F$22","v":0},"#'T2-B(PP4)'!$F$22"]
["pp4_bl3_1_7_total_out",{"$f":"'T2-B(PP4)'!$I$22","v":0},"#'T2-B(PP4)'!$I$22"]
["pp4_bl3_1_7_unit",{"$f":"'T2-B(PP4)'!$C$22","v":0},"#'T2-B(PP4)'!$C$22"]
["pp4_bl3_1_7_unit_in",{"$f":"'T2-B(PP4)'!$D$22","v":0},"#'T2-B(PP4)'!$D$22"]
["pp4_bl3_1_7_units_out",{"$f":"'T2-B(PP4)'!$G$22","v":0},"#'T2-B(PP4)'!$G$22"]
["pp4_bl3_1_8_name",{"$f":"'T2-B(PP4)'!$B$23","v":0},"#'T2-B(PP4)'!$B$23"]
["pp4_bl3_1_8_rate_in",{"$f":"'T2-B(PP4)'!$E$23","v":0},"#'T2-B(PP4)'!$E$23"]
["pp4_bl3_1_8_rate_out",{"$f":"'T2-B(PP4)'!$H$23","v":0},"#'T2-B(PP4)'!$H$23"]
["pp4_bl3_1_8_total",{"$f":"'T2-B(PP4)'!$J$23","v":0},"#'T2-B(PP4)'!$J$23"]
["pp4_bl3_1_8_total_in",{"$f":"'T2-B(PP4)'!$F$23","v":0},"#'T2-B(PP4)'!$F$23"]
["pp4_bl3_1_8_total_out",{"$f":"'T2-B(PP4)'!$I$23","v":0},"#'T2-B(PP4)'!$I$23"]
["pp4_bl3_1_8_unit",{"$f":"'T2-B(PP4)'!$C$23","v":0},"#'T2-B(PP4)'!$C$23"]
["pp4_bl3_1_8_unit_in",{"$f":"'T2-B(PP4)'!$D$23","v":0},"#'T2-B(PP4)'!$D$23"]
["pp4_bl3_1_8_units_out",{"$f":"'T2-B(PP4)'!$G$23","v":0},"#'T2-B(PP4)'!$G$23"]
["pp4_bl3_1_9_name",{"$f":"'T2-B(PP4)'!$B$24","v":0},"#'T2-B(PP4)'!$B$24"]
["pp4_bl3_1_9_rate_in",{"$f":"'T2-B(PP4)'!$E$24","v":0},"#'T2-B(PP4)'!$E$24"]
["pp4_bl3_1_9_rate_out",{"$f":"'T2-B(PP4)'!$H$24","v":0},"#'T2-B(PP4)'!$H$24"]
["pp4_bl3_1_9_total",{"$f":"'T2-B(PP4)'!$J$24","v":0},"#'T2-B(PP4)'!$J$24"]
["pp4_bl3_1_9_total_in",{"$f":"'T2-B(PP4)'!$F$24","v":0},"#'T2-B(PP4)'!$F$24"]
["pp4_bl3_1_9_total_out",{"$f":"'T2-B(PP4)'!$I$24","v":0},"#'T2-B(PP4)'!$I$24"]
["pp4_bl3_1_9_unit",{"$f":"'T2-B(PP4)'!$C$24","v":0},"#'T2-B(PP4)'!$C$24"]
["pp4_bl3_1_9_unit_in",{"$f":"'T2-B(PP4)'!$D$24","v":0},"#'T2-B(PP4)'!$D$24"]
["pp4_bl3_1_9_units_out",{"$f":"'T2-B(PP4)'!$G$24","v":0},"#'T2-B(PP4)'!$G$24"]
["pp4_bl3_1_total",{"$f":"'T2-B(PP4)'!$J$15","v":0},"#'T2-B(PP4)'!$J$15"]
["pp4_bl3_1_total_in",{"$f":"'T2-B(PP4)'!$F$15","v":0},"#'T2-B(PP4)'!$F$15"]
["pp4_bl3_1_total_out",{"$f":"'T2-B(PP4)'!$I$15","v":0},"#'T2-B(PP4)'!$I$15"]
["pp4_bl3_2_1_name",{"$f":"'T2-B(PP4)'!$B$27","v":0},"#'T2-B(PP4)'!$B$27"]
["pp4_bl3_2_1_rate_in",{"$f":"'T2-B(PP4)'!$E$27","v":0},"#'T2-B(PP4)'!$E$27"]
["pp4_bl3_2_1_rate_out",{"$f":"'T2-B(PP4)'!$H$27","v":0},"#'T2-B(PP4)'!$H$27"]
["pp4_bl3_2_1_total",{"$f":"'T2-B(PP4)'!$J$27","v":0},"#'T2-B(PP4)'!$J$27"]
["pp4_bl3_2_1_total_in",{"$f":"'T2-B(PP4)'!$F$27","v":0},"#'T2-B(PP4)'!$F$27"]
["pp4_bl3_2_1_total_out",{"$f":"'T2-B(PP4)'!$I$27","v":0},"#'T2-B(PP4)'!$I$27"]
["pp4_bl3_2_1_unit",{"$f":"'T2-B(PP4)'!$C$27","v":0},"#'T2-B(PP4)'!$C$27"]
["pp4_bl3_2_1_unit_in",{"$f":"'T2-B(PP4)'!$D$27","v":0},"#'T2-B(PP4)'!$D$27"]
["pp4_bl3_2_1_units_out",{"$f":"'T2-B(PP4)'!$G$27","v":0},"#'T2-B(PP4)'!$G$27"]
["pp4_bl3_2_10_name",{"$f":"'T2-B(PP4)'!$B$36","v":0},"#'T2-B(PP4)'!$B$36"]
["pp4_bl3_2_10_rate_in",{"$f":"'T2-B(PP4)'!$E$36","v":0},"#'T2-B(PP4)'!$E$36"]
["pp4_bl3_2_10_rate_out",{"$f":"'T2-B(PP4)'!$H$36","v":0},"#'T2-B(PP4)'!$H$36"]
["pp4_bl3_2_10_total",{"$f":"'T2-B(PP4)'!$J$36","v":0},"#'T2-B(PP4)'!$J$36"]
["pp4_bl3_2_10_total_in",{"$f":"'T2-B(PP4)'!$F$36","v":0},"#'T2-B(PP4)'!$F$36"]
["pp4_bl3_2_10_total_out",{"$f":"'T2-B(PP4)'!$I$36","v":0},"#'T2-B(PP4)'!$I$36"]
["pp4_bl3_2_10_unit",{"$f":"'T2-B(PP4)'!$C$36","v":0},"#'T2-B(PP4)'!$C$36"]
["pp4_bl3_2_10_unit_in",{"$f":"'T2-B(PP4)'!$D$36","v":0},"#'T2-B(PP4)'!$D$36"]
["pp4_bl3_2_10_units_out",{"$f":"'T2-B(PP4)'!$G$36","v":0},"#'T2-B(PP4)'!$G$36"]
["pp4_bl3_2_2_name",{"$f":"'T2-B(PP4)'!$B$28","v":0},"#'T2-B(PP4)'!$B$28"]
["pp4_bl3_2_2_rate_in",{"$f":"'T2-B(PP4)'!$E$28","v":0},"#'T2-B(PP4)'!$E$28"]
["pp4_bl3_2_2_rate_out",{"$f":"'T2-B(PP4)'!$H$28","v":0},"#'T2-B(PP4)'!$H$28"]
["pp4_bl3_2_2_total",{"$f":"'T2-B(PP4)'!$J$28","v":0},"#'T2-B(PP4)'!$J$28"]
["pp4_bl3_2_2_total_in",{"$f":"'T2-B(PP4)'!$F$28","v":0},"#'T2-B(PP4)'!$F$28"]
["pp4_bl3_2_2_total_out",{"$f":"'T2-B(PP4)'!$I$28","v":0},"#'T2-B(PP4)'!$I$28"]
["pp4_bl3_2_2_unit",{"$f":"'T2-B(PP4)'!$C$28","v":0},"#'T2-B(PP4)'!$C$28"]
["pp4_bl3_2_2_unit_in",{"$f":"'T2-B(PP4)'!$D$28","v":0},"#'T2-B(PP4)'!$D$28"]
["pp4_bl3_2_2_units_out",{"$f":"'T2-B(PP4)'!$G$28","v":0},"#'T2-B(PP4)'!$G$28"]
["pp4_bl3_2_3_name",{"$f":"'T2-B(PP4)'!$B$29","v":0},"#'T2-B(PP4)'!$B$29"]
["pp4_bl3_2_3_rate_in",{"$f":"'T2-B(PP4)'!$E$29","v":0},"#'T2-B(PP4)'!$E$29"]
["pp4_bl3_2_3_rate_out",{"$f":"'T2-B(PP4)'!$H$29","v":0},"#'T2-B(PP4)'!$H$29"]
["pp4_bl3_2_3_total",{"$f":"'T2-B(PP4)'!$J$29","v":0},"#'T2-B(PP4)'!$J$29"]
["pp4_bl3_2_3_total_in",{"$f":"'T2-B(PP4)'!$F$29","v":0},"#'T2-B(PP4)'!$F$29"]
["pp4_bl3_2_3_total_out",{"$f":"'T2-B(PP4)'!$I$29","v":0},"#'T2-B(PP4)'!$I$29"]
["pp4_bl3_2_3_unit",{"$f":"'T2-B(PP4)'!$C$29","v":0},"#'T2-B(PP4)'!$C$29"]
["pp4_bl3_2_3_unit_in",{"$f":"'T2-B(PP4)'!$D$29","v":0},"#'T2-B(PP4)'!$D$29"]
["pp4_bl3_2_3_units_out",{"$f":"'T2-B(PP4)'!$G$29","v":0},"#'T2-B(PP4)'!$G$29"]
["pp4_bl3_2_4_name",{"$f":"'T2-B(PP4)'!$B$30","v":0},"#'T2-B(PP4)'!$B$30"]
["pp4_bl3_2_4_rate_in",{"$f":"'T2-B(PP4)'!$E$30","v":0},"#'T2-B(PP4)'!$E$30"]
["pp4_bl3_2_4_rate_out",{"$f":"'T2-B(PP4)'!$H$30","v":0},"#'T2-B(PP4)'!$H$30"]
["pp4_bl3_2_4_total",{"$f":"'T2-B(PP4)'!$J$30","v":0},"#'T2-B(PP4)'!$J$30"]
["pp4_bl3_2_4_total_in",{"$f":"'T2-B(PP4)'!$F$30","v":0},"#'T2-B(PP4)'!$F$30"]
["pp4_bl3_2_4_total_out",{"$f":"'T2-B(PP4)'!$I$30","v":0},"#'T2-B(PP4)'!$I$30"]
["pp4_bl3_2_4_unit",{"$f":"'T2-B(PP4)'!$C$30","v":0},"#'T2-B(PP4)'!$C$30"]
["pp4_bl3_2_4_unit_in",{"$f":"'T2-B(PP4)'!$D$30","v":0},"#'T2-B(PP4)'!$D$30"]
["pp4_bl3_2_4_units_out",{"$f":"'T2-B(PP4)'!$G$30","v":0},"#'T2-B(PP4)'!$G$30"]
["pp4_bl3_2_5_name",{"$f":"'T2-B(PP4)'!$B$31","v":0},"#'T2-B(PP4)'!$B$31"]
["pp4_bl3_2_5_rate_in",{"$f":"'T2-B(PP4)'!$E$31","v":0},"#'T2-B(PP4)'!$E$31"]
["pp4_bl3_2_5_rate_out",{"$f":"'T2-B(PP4)'!$H$31","v":0},"#'T2-B(PP4)'!$H$31"]
["pp4_bl3_2_5_total",{"$f":"'T2-B(PP4)'!$J$31","v":0},"#'T2-B(PP4)'!$J$31"]
["pp4_bl3_2_5_total_in",{"$f":"'T2-B(PP4)'!$F$31","v":0},"#'T2-B(PP4)'!$F$31"]
["pp4_bl3_2_5_total_out",{"$f":"'T2-B(PP4)'!$I$31","v":0},"#'T2-B(PP4)'!$I$31"]
["pp4_bl3_2_5_unit",{"$f":"'T2-B(PP4)'!$C$31","v":0},"#'T2-B(PP4)'!$C$31"]
["pp4_bl3_2_5_unit_in",{"$f":"'T2-B(PP4)'!$D$31","v":0},"#'T2-B(PP4)'!$D$31"]
["pp4_bl3_2_5_units_out",{"$f":"'T2-B(PP4)'!$G$31","v":0},"#'T2-B(PP4)'!$G$31"]
["pp4_bl3_2_6_name",{"$f":"'T2-B(PP4)'!$B$32","v":0},"#'T2-B(PP4)'!$B$32"]
["pp4_bl3_2_6_rate_in",{"$f":"'T2-B(PP4)'!$E$32","v":0},"#'T2-B(PP4)'!$E$32"]
["pp4_bl3_2_6_rate_out",{"$f":"'T2-B(PP4)'!$H$32","v":0},"#'T2-B(PP4)'!$H$32"]
["pp4_bl3_2_6_total",{"$f":"'T2-B(PP4)'!$J$32","v":0},"#'T2-B(PP4)'!$J$32"]
["pp4_bl3_2_6_total_in",{"$f":"'T2-B(PP4)'!$F$32","v":0},"#'T2-B(PP4)'!$F$32"]
["pp4_bl3_2_6_total_out",{"$f":"'T2-B(PP4)'!$I$32","v":0},"#'T2-B(PP4)'!$I$32"]
["pp4_bl3_2_6_unit",{"$f":"'T2-B(PP4)'!$C$32","v":0},"#'T2-B(PP4)'!$C$32"]
["pp4_bl3_2_6_unit_in",{"$f":"'T2-B(PP4)'!$D$32","v":0},"#'T2-B(PP4)'!$D$32"]
["pp4_bl3_2_6_units_out",{"$f":"'T2-B(PP4)'!$G$32","v":0},"#'T2-B(PP4)'!$G$32"]
["pp4_bl3_2_7_name",{"$f":"'T2-B(PP4)'!$B$33","v":0},"#'T2-B(PP4)'!$B$33"]
["pp4_bl3_2_7_rate_in",{"$f":"'T2-B(PP4)'!$E$33","v":0},"#'T2-B(PP4)'!$E$33"]
["pp4_bl3_2_7_rate_out",{"$f":"'T2-B(PP4)'!$H$33","v":0},"#'T2-B(PP4)'!$H$33"]
["pp4_bl3_2_7_total",{"$f":"'T2-B(PP4)'!$J$33","v":0},"#'T2-B(PP4)'!$J$33"]
["pp4_bl3_2_7_total_in",{"$f":"'T2-B(PP4)'!$F$33","v":0},"#'T2-B(PP4)'!$F$33"]
["pp4_bl3_2_7_total_out",{"$f":"'T2-B(PP4)'!$I$33","v":0},"#'T2-B(PP4)'!$I$33"]
["pp4_bl3_2_7_unit",{"$f":"'T2-B(PP4)'!$C$33","v":0},"#'T2-B(PP4)'!$C$33"]
["pp4_bl3_2_7_unit_in",{"$f":"'T2-B(PP4)'!$D$33","v":0},"#'T2-B(PP4)'!$D$33"]
["pp4_bl3_2_7_units_out",{"$f":"'T2-B(PP4)'!$G$33","v":0},"#'T2-B(PP4)'!$G$33"]
["pp4_bl3_2_8_name",{"$f":"'T2-B(PP4)'!$B$34","v":0},"#'T2-B(PP4)'!$B$34"]
["pp4_bl3_2_8_rate_in",{"$f":"'T2-B(PP4)'!$E$34","v":0},"#'T2-B(PP4)'!$E$34"]
["pp4_bl3_2_8_rate_out",{"$f":"'T2-B(PP4)'!$H$34","v":0},"#'T2-B(PP4)'!$H$34"]
["pp4_bl3_2_8_total",{"$f":"'T2-B(PP4)'!$J$34","v":0},"#'T2-B(PP4)'!$J$34"]
["pp4_bl3_2_8_total_in",{"$f":"'T2-B(PP4)'!$F$34","v":0},"#'T2-B(PP4)'!$F$34"]
["pp4_bl3_2_8_total_out",{"$f":"'T2-B(PP4)'!$I$34","v":0},"#'T2-B(PP4)'!$I$34"]
["pp4_bl3_2_8_unit",{"$f":"'T2-B(PP4)'!$C$34","v":0},"#'T2-B(PP4)'!$C$34"]
["pp4_bl3_2_8_unit_in",{"$f":"'T2-B(PP4)'!$D$34","v":0},"#'T2-B(PP4)'!$D$34"]
["pp4_bl3_2_8_units_out",{"$f":"'T2-B(PP4)'!$G$34","v":0},"#'T2-B(PP4)'!$G$34"]
["pp4_bl3_2_9_name",{"$f":"'T2-B(PP4)'!$B$35","v":0},"#'T2-B(PP4)'!$B$35"]
["pp4_bl3_2_9_rate_in",{"$f":"'T2-B(PP4)'!$E$35","v":0},"#'T2-B(PP4)'!$E$35"]
["pp4_bl3_2_9_rate_out",{"$f":"'T2-B(PP4)'!$H$35","v":0},"#'T2-B(PP4)'!$H$35"]
["pp4_bl3_2_9_total",{"$f":"'T2-B(PP4)'!$J$35","v":0},"#'T2-B(PP4)'!$J$35"]
["pp4_bl3_2_9_total_in",{"$f":"'T2-B(PP4)'!$F$35","v":0},"#'T2-B(PP4)'!$F$35"]
["pp4_bl3_2_9_total_out",{"$f":"'T2-B(PP4)'!$I$35","v":0},"#'T2-B(PP4)'!$I$35"]
["pp4_bl3_2_9_unit",{"$f":"'T2-B(PP4)'!$C$35","v":0},"#'T2-B(PP4)'!$C$35"]
["pp4_bl3_2_9_unit_in",{"$f":"'T2-B(PP4)'!$D$35","v":0},"#'T2-B(PP4)'!$D$35"]
["pp4_bl3_2_9_units_out",{"$f":"'T2-B(PP4)'!$G$35","v":0},"#'T2-B(PP4)'!$G$35"]
["pp4_bl3_2_total",{"$f":"'T2-B(PP4)'!$J$26","v":0},"#'T2-B(PP4)'!$J$26"]
["pp4_bl3_2_total_in",{"$f":"'T2-B(PP4)'!$F$26","v":0},"#'T2-B(PP4)'!$F$26"]
["pp4_bl3_2_total_out",{"$f":"'T2-B(PP4)'!$I$26","v":0},"#'T2-B(PP4)'!$I$26"]
["pp4_bl3_3_1_name",{"$f":"'T2-B(PP4)'!$B$38","v":0},"#'T2-B(PP4)'!$B$38"]
["pp4_bl3_3_1_rate_in",{"$f":"'T2-B(PP4)'!$E$38","v":0},"#'T2-B(PP4)'!$E$38"]
["pp4_bl3_3_1_rate_out",{"$f":"'T2-B(PP4)'!$H$38","v":0},"#'T2-B(PP4)'!$H$38"]
["pp4_bl3_3_1_total",{"$f":"'T2-B(PP4)'!$J$38","v":0},"#'T2-B(PP4)'!$J$38"]
["pp4_bl3_3_1_total_in",{"$f":"'T2-B(PP4)'!$F$38","v":0},"#'T2-B(PP4)'!$F$38"]
["pp4_bl3_3_1_total_out",{"$f":"'T2-B(PP4)'!$I$38","v":0},"#'T2-B(PP4)'!$I$38"]
["pp4_bl3_3_1_unit",{"$f":"'T2-B(PP4)'!$C$38","v":0},"#'T2-B(PP4)'!$C$38"]
["pp4_bl3_3_1_unit_in",{"$f":"'T2-B(PP4)'!$D$38","v":0},"#'T2-B(PP4)'!$D$38"]
["pp4_bl3_3_1_units_out",{"$f":"'T2-B(PP4)'!$G$38","v":0},"#'T2-B(PP4)'!$G$38"]
["pp4_bl3_3_10_name",{"$f":"'T2-B(PP4)'!$B$47","v":0},"#'T2-B(PP4)'!$B$47"]
["pp4_bl3_3_10_rate_in",{"$f":"'T2-B(PP4)'!$E$47","v":0},"#'T2-B(PP4)'!$E$47"]
["pp4_bl3_3_10_rate_out",{"$f":"'T2-B(PP4)'!$H$47","v":0},"#'T2-B(PP4)'!$H$47"]
["pp4_bl3_3_10_total",{"$f":"'T2-B(PP4)'!$J$47","v":0},"#'T2-B(PP4)'!$J$47"]
["pp4_bl3_3_10_total_in",{"$f":"'T2-B(PP4)'!$F$47","v":0},"#'T2-B(PP4)'!$F$47"]
["pp4_bl3_3_10_total_out",{"$f":"'T2-B(PP4)'!$I$47","v":0},"#'T2-B(PP4)'!$I$47"]
["pp4_bl3_3_10_unit",{"$f":"'T2-B(PP4)'!$C$47","v":0},"#'T2-B(PP4)'!$C$47"]
["pp4_bl3_3_10_unit_in",{"$f":"'T2-B(PP4)'!$D$47","v":0},"#'T2-B(PP4)'!$D$47"]
["pp4_bl3_3_10_units_out",{"$f":"'T2-B(PP4)'!$G$47","v":0},"#'T2-B(PP4)'!$G$47"]
["pp4_bl3_3_2_name",{"$f":"'T2-B(PP4)'!$B$39","v":0},"#'T2-B(PP4)'!$B$39"]
["pp4_bl3_3_2_rate_in",{"$f":"'T2-B(PP4)'!$E$39","v":0},"#'T2-B(PP4)'!$E$39"]
["pp4_bl3_3_2_rate_out",{"$f":"'T2-B(PP4)'!$H$39","v":0},"#'T2-B(PP4)'!$H$39"]
["pp4_bl3_3_2_total",{"$f":"'T2-B(PP4)'!$J$39","v":0},"#'T2-B(PP4)'!$J$39"]
["pp4_bl3_3_2_total_in",{"$f":"'T2-B(PP4)'!$F$39","v":0},"#'T2-B(PP4)'!$F$39"]
["pp4_bl3_3_2_total_out",{"$f":"'T2-B(PP4)'!$I$39","v":0},"#'T2-B(PP4)'!$I$39"]
["pp4_bl3_3_2_unit",{"$f":"'T2-B(PP4)'!$C$39","v":0},"#'T2-B(PP4)'!$C$39"]
["pp4_bl3_3_2_unit_in",{"$f":"'T2-B(PP4)'!$D$39","v":0},"#'T2-B(PP4)'!$D$39"]
["pp4_bl3_3_2_units_out",{"$f":"'T2-B(PP4)'!$G$39","v":0},"#'T2-B(PP4)'!$G$39"]
["pp4_bl3_3_3_name",{"$f":"'T2-B(PP4)'!$B$40","v":0},"#'T2-B(PP4)'!$B$40"]
["pp4_bl3_3_3_rate_in",{"$f":"'T2-B(PP4)'!$E$40","v":0},"#'T2-B(PP4)'!$E$40"]
["pp4_bl3_3_3_rate_out",{"$f":"'T2-B(PP4)'!$H$40","v":0},"#'T2-B(PP4)'!$H$40"]
["pp4_bl3_3_3_total",{"$f":"'T2-B(PP4)'!$J$40","v":0},"#'T2-B(PP4)'!$J$40"]
["pp4_bl3_3_3_total_in",{"$f":"'T2-B(PP4)'!$F$40","v":0},"#'T2-B(PP4)'!$F$40"]
["pp4_bl3_3_3_total_out",{"$f":"'T2-B(PP4)'!$I$40","v":0},"#'T2-B(PP4)'!$I$40"]
["pp4_bl3_3_3_unit",{"$f":"'T2-B(PP4)'!$C$40","v":0},"#'T2-B(PP4)'!$C$40"]
["pp4_bl3_3_3_unit_in",{"$f":"'T2-B(PP4)'!$D$40","v":0},"#'T2-B(PP4)'!$D$40"]
["pp4_bl3_3_3_units_out",{"$f":"'T2-B(PP4)'!$G$40","v":0},"#'T2-B(PP4)'!$G$40"]
["pp4_bl3_3_4_name",{"$f":"'T2-B(PP4)'!$B$41","v":0},"#'T2-B(PP4)'!$B$41"]
["pp4_bl3_3_4_rate_in",{"$f":"'T2-B(PP4)'!$E$41","v":0},"#'T2-B(PP4)'!$E$41"]
["pp4_bl3_3_4_rate_out",{"$f":"'T2-B(PP4)'!$H$41","v":0},"#'T2-B(PP4)'!$H$41"]
["pp4_bl3_3_4_total",{"$f":"'T2-B(PP4)'!$J$41","v":0},"#'T2-B(PP4)'!$J$41"]
["pp4_bl3_3_4_total_in",{"$f":"'T2-B(PP4)'!$F$41","v":0},"#'T2-B(PP4)'!$F$41"]
["pp4_bl3_3_4_total_out",{"$f":"'T2-B(PP4)'!$I$41","v":0},"#'T2-B(PP4)'!$I$41"]
["pp4_bl3_3_4_unit",{"$f":"'T2-B(PP4)'!$C$41","v":0},"#'T2-B(PP4)'!$C$41"]
["pp4_bl3_3_4_unit_in",{"$f":"'T2-B(PP4)'!$D$41","v":0},"#'T2-B(PP4)'!$D$41"]
["pp4_bl3_3_4_units_out",{"$f":"'T2-B(PP4)'!$G$41","v":0},"#'T2-B(PP4)'!$G$41"]
["pp4_bl3_3_5_name",{"$f":"'T2-B(PP4)'!$B$42","v":0},"#'T2-B(PP4)'!$B$42"]
["pp4_bl3_3_5_rate_in",{"$f":"'T2-B(PP4)'!$E$42","v":0},"#'T2-B(PP4)'!$E$42"]
["pp4_bl3_3_5_rate_out",{"$f":"'T2-B(PP4)'!$H$42","v":0},"#'T2-B(PP4)'!$H$42"]
["pp4_bl3_3_5_total",{"$f":"'T2-B(PP4)'!$J$42","v":0},"#'T2-B(PP4)'!$J$42"]
["pp4_bl3_3_5_total_in",{"$f":"'T2-B(PP4)'!$F$42","v":0},"#'T2-B(PP4)'!$F$42"]
["pp4_bl3_3_5_total_out",{"$f":"'T2-B(PP4)'!$I$42","v":0},"#'T2-B(PP4)'!$I$42"]
["pp4_bl3_3_5_unit",{"$f":"'T2-B(PP4)'!$C$42","v":0},"#'T2-B(PP4)'!$C$42"]
["pp4_bl3_3_5_unit_in",{"$f":"'T2-B(PP4)'!$D$42","v":0},"#'T2-B(PP4)'!$D$42"]
["pp4_bl3_3_5_units_out",{"$f":"'T2-B(PP4)'!$G$42","v":0},"#'T2-B(PP4)'!$G$42"]
["pp4_bl3_3_6_name",{"$f":"'T2-B(PP4)'!$B$43","v":0},"#'T2-B(PP4)'!$B$43"]
["pp4_bl3_3_6_rate_in",{"$f":"'T2-B(PP4)'!$E$43","v":0},"#'T2-B(PP4)'!$E$43"]
["pp4_bl3_3_6_rate_out",{"$f":"'T2-B(PP4)'!$H$43","v":0},"#'T2-B(PP4)'!$H$43"]
["pp4_bl3_3_6_total",{"$f":"'T2-B(PP4)'!$J$43","v":0},"#'T2-B(PP4)'!$J$43"]
["pp4_bl3_3_6_total_in",{"$f":"'T2-B(PP4)'!$F$43","v":0},"#'T2-B(PP4)'!$F$43"]
["pp4_bl3_3_6_total_out",{"$f":"'T2-B(PP4)'!$I$43","v":0},"#'T2-B(PP4)'!$I$43"]
["pp4_bl3_3_6_unit",{"$f":"'T2-B(PP4)'!$C$43","v":0},"#'T2-B(PP4)'!$C$43"]
["pp4_bl3_3_6_unit_in",{"$f":"'T2-B(PP4)'!$D$43","v":0},"#'T2-B(PP4)'!$D$43"]
["pp4_bl3_3_6_units_out",{"$f":"'T2-B(PP4)'!$G$43","v":0},"#'T2-B(PP4)'!$G$43"]
["pp4_bl3_3_7_name",{"$f":"'T2-B(PP4)'!$B$44","v":0},"#'T2-B(PP4)'!$B$44"]
["pp4_bl3_3_7_rate_in",{"$f":"'T2-B(PP4)'!$E$44","v":0},"#'T2-B(PP4)'!$E$44"]
["pp4_bl3_3_7_rate_out",{"$f":"'T2-B(PP4)'!$H$44","v":0},"#'T2-B(PP4)'!$H$44"]
["pp4_bl3_3_7_total",{"$f":"'T2-B(PP4)'!$J$44","v":0},"#'T2-B(PP4)'!$J$44"]
["pp4_bl3_3_7_total_in",{"$f":"'T2-B(PP4)'!$F$44","v":0},"#'T2-B(PP4)'!$F$44"]
["pp4_bl3_3_7_total_out",{"$f":"'T2-B(PP4)'!$I$44","v":0},"#'T2-B(PP4)'!$I$44"]
["pp4_bl3_3_7_unit",{"$f":"'T2-B(PP4)'!$C$44","v":0},"#'T2-B(PP4)'!$C$44"]
["pp4_bl3_3_7_unit_in",{"$f":"'T2-B(PP4)'!$D$44","v":0},"#'T2-B(PP4)'!$D$44"]
["pp4_bl3_3_7_units_out",{"$f":"'T2-B(PP4)'!$G$44","v":0},"#'T2-B(PP4)'!$G$44"]
["pp4_bl3_3_8_name",{"$f":"'T2-B(PP4)'!$B$45","v":0},"#'T2-B(PP4)'!$B$45"]
["pp4_bl3_3_8_rate_in",{"$f":"'T2-B(PP4)'!$E$45","v":0},"#'T2-B(PP4)'!$E$45"]
["pp4_bl3_3_8_rate_out",{"$f":"'T2-B(PP4)'!$H$45","v":0},"#'T2-B(PP4)'!$H$45"]
["pp4_bl3_3_8_total",{"$f":"'T2-B(PP4)'!$J$45","v":0},"#'T2-B(PP4)'!$J$45"]
["pp4_bl3_3_8_total_in",{"$f":"'T2-B(PP4)'!$F$45","v":0},"#'T2-B(PP4)'!$F$45"]
["pp4_bl3_3_8_total_out",{"$f":"'T2-B(PP4)'!$I$45","v":0},"#'T2-B(PP4)'!$I$45"]
["pp4_bl3_3_8_unit",{"$f":"'T2-B(PP4)'!$C$45","v":0},"#'T2-B(PP4)'!$C$45"]
["pp4_bl3_3_8_unit_in",{"$f":"'T2-B(PP4)'!$D$45","v":0},"#'T2-B(PP4)'!$D$45"]
["pp4_bl3_3_8_units_out",{"$f":"'T2-B(PP4)'!$G$45","v":0},"#'T2-B(PP4)'!$G$45"]
["pp4_bl3_3_9_name",{"$f":"'T2-B(PP4)'!$B$46","v":0},"#'T2-B(PP4)'!$B$46"]
["pp4_bl3_3_9_rate_in",{"$f":"'T2-B(PP4)'!$E$46","v":0},"#'T2-B(PP4)'!$E$46"]
["pp4_bl3_3_9_rate_out",{"$f":"'T2-B(PP4)'!$H$46","v":0},"#'T2-B(PP4)'!$H$46"]
["pp4_bl3_3_9_total",{"$f":"'T2-B(PP4)'!$J$46","v":0},"#'T2-B(PP4)'!$J$46"]
["pp4_bl3_3_9_total_in",{"$f":"'T2-B(PP4)'!$F$46","v":0},"#'T2-B(PP4)'!$F$46"]
["pp4_bl3_3_9_total_out",{"$f":"'T2-B(PP4)'!$I$46","v":0},"#'T2-B(PP4)'!$I$46"]
["pp4_bl3_3_9_unit",{"$f":"'T2-B(PP4)'!$C$46","v":0},"#'T2-B(PP4)'!$C$46"]
["pp4_bl3_3_9_unit_in",{"$f":"'T2-B(PP4)'!$D$46","v":0},"#'T2-B(PP4)'!$D$46"]
["pp4_bl3_3_9_units_out",{"$f":"'T2-B(PP4)'!$G$46","v":0},"#'T2-B(PP4)'!$G$46"]
["pp4_bl3_3_total",{"$f":"'T2-B(PP4)'!$J$37","v":0},"#'T2-B(PP4)'!$J$37"]
["pp4_bl3_3_total_in",{"$f":"'T2-B(PP4)'!$F$37","v":0},"#'T2-B(PP4)'!$F$37"]
["pp4_bl3_3_total_out",{"$f":"'T2-B(PP4)'!$I$37","v":0},"#'T2-B(PP4)'!$I$37"]
["pp4_bl3_4_1_name",{"$f":"'T2-B(PP4)'!$B$49","v":0},"#'T2-B(PP4)'!$B$49"]
["pp4_bl3_4_1_rate_in",{"$f":"'T2-B(PP4)'!$E$49","v":0},"#'T2-B(PP4)'!$E$49"]
["pp4_bl3_4_1_rate_out",{"$f":"'T2-B(PP4)'!$H$49","v":0},"#'T2-B(PP4)'!$H$49"]
["pp4_bl3_4_1_total",{"$f":"'T2-B(PP4)'!$J$49","v":0},"#'T2-B(PP4)'!$J$49"]
["pp4_bl3_4_1_total_in",{"$f":"'T2-B(PP4)'!$F$49","v":0},"#'T2-B(PP4)'!$F$49"]
["pp4_bl3_4_1_total_out",{"$f":"'T2-B(PP4)'!$I$49","v":0},"#'T2-B(PP4)'!$I$49"]
["pp4_bl3_4_1_unit",{"$f":"'T2-B(PP4)'!$C$49","v":0},"#'T2-B(PP4)'!$C$49"]
["pp4_bl3_4_1_unit_in",{"$f":"'T2-B(PP4)'!$D$49","v":0},"#'T2-B(PP4)'!$D$49"]
["pp4_bl3_4_1_units_out",{"$f":"'T2-B(PP4)'!$G$49","v":0},"#'T2-B(PP4)'!$G$49"]
["pp4_bl3_4_10_name",{"$f":"'T2-B(PP4)'!$B$58","v":0},"#'T2-B(PP4)'!$B$58"]
["pp4_bl3_4_10_rate_in",{"$f":"'T2-B(PP4)'!$E$58","v":0},"#'T2-B(PP4)'!$E$58"]
["pp4_bl3_4_10_rate_out",{"$f":"'T2-B(PP4)'!$H$58","v":0},"#'T2-B(PP4)'!$H$58"]
["pp4_bl3_4_10_total",{"$f":"'T2-B(PP4)'!$J$58","v":0},"#'T2-B(PP4)'!$J$58"]
["pp4_bl3_4_10_total_in",{"$f":"'T2-B(PP4)'!$F$58","v":0},"#'T2-B(PP4)'!$F$58"]
["pp4_bl3_4_10_total_out",{"$f":"'T2-B(PP4)'!$I$58","v":0},"#'T2-B(PP4)'!$I$58"]
["pp4_bl3_4_10_unit",{"$f":"'T2-B(PP4)'!$C$58","v":0},"#'T2-B(PP4)'!$C$58"]
["pp4_bl3_4_10_unit_in",{"$f":"'T2-B(PP4)'!$D$58","v":0},"#'T2-B(PP4)'!$D$58"]
["pp4_bl3_4_10_units_out",{"$f":"'T2-B(PP4)'!$G$58","v":0},"#'T2-B(PP4)'!$G$58"]
["pp4_bl3_4_2_name",{"$f":"'T2-B(PP4)'!$B$50","v":0},"#'T2-B(PP4)'!$B$50"]
["pp4_bl3_4_2_rate_in",{"$f":"'T2-B(PP4)'!$E$50","v":0},"#'T2-B(PP4)'!$E$50"]
["pp4_bl3_4_2_rate_out",{"$f":"'T2-B(PP4)'!$H$50","v":0},"#'T2-B(PP4)'!$H$50"]
["pp4_bl3_4_2_total",{"$f":"'T2-B(PP4)'!$J$50","v":0},"#'T2-B(PP4)'!$J$50"]
["pp4_bl3_4_2_total_in",{"$f":"'T2-B(PP4)'!$F$50","v":0},"#'T2-B(PP4)'!$F$50"]
["pp4_bl3_4_2_total_out",{"$f":"'T2-B(PP4)'!$I$50","v":0},"#'T2-B(PP4)'!$I$50"]
["pp4_bl3_4_2_unit",{"$f":"'T2-B(PP4)'!$C$50","v":0},"#'T2-B(PP4)'!$C$50"]
["pp4_bl3_4_2_unit_in",{"$f":"'T2-B(PP4)'!$D$50","v":0},"#'T2-B(PP4)'!$D$50"]
["pp4_bl3_4_2_units_out",{"$f":"'T2-B(PP4)'!$G$50","v":0},"#'T2-B(PP4)'!$G$50"]
["pp4_bl3_4_3_name",{"$f":"'T2-B(PP4)'!$B$51","v":0},"#'T2-B(PP4)'!$B$51"]
["pp4_bl3_4_3_rate_in",{"$f":"'T2-B(PP4)'!$E$51","v":0},"#'T2-B(PP4)'!$E$51"]
["pp4_bl3_4_3_rate_out",{"$f":"'T2-B(PP4)'!$H$51","v":0},"#'T2-B(PP4)'!$H$51"]
["pp4_bl3_4_3_total",{"$f":"'T2-B(PP4)'!$J$51","v":0},"#'T2-B(PP4)'!$J$51"]
["pp4_bl3_4_3_total_in",{"$f":"'T2-B(PP4)'!$F$51","v":0},"#'T2-B(PP4)'!$F$51"]
["pp4_bl3_4_3_total_out",{"$f":"'T2-B(PP4)'!$I$51","v":0},"#'T2-B(PP4)'!$I$51"]
["pp4_bl3_4_3_unit",{"$f":"'T2-B(PP4)'!$C$51","v":0},"#'T2-B(PP4)'!$C$51"]
["pp4_bl3_4_3_unit_in",{"$f":"'T2-B(PP4)'!$D$51","v":0},"#'T2-B(PP4)'!$D$51"]
["pp4_bl3_4_3_units_out",{"$f":"'T2-B(PP4)'!$G$51","v":0},"#'T2-B(PP4)'!$G$51"]
["pp4_bl3_4_4_name",{"$f":"'T2-B(PP4)'!$B$52","v":0},"#'T2-B(PP4)'!$B$52"]
["pp4_bl3_4_4_rate_in",{"$f":"'T2-B(PP4)'!$E$52","v":0},"#'T2-B(PP4)'!$E$52"]
["pp4_bl3_4_4_rate_out",{"$f":"'T2-B(PP4)'!$H$52","v":0},"#'T2-B(PP4)'!$H$52"]
["pp4_bl3_4_4_total",{"$f":"'T2-B(PP4)'!$J$52","v":0},"#'T2-B(PP4)'!$J$52"]
["pp4_bl3_4_4_total_in",{"$f":"'T2-B(PP4)'!$F$52","v":0},"#'T2-B(PP4)'!$F$52"]
["pp4_bl3_4_4_total_out",{"$f":"'T2-B(PP4)'!$I$52","v":0},"#'T2-B(PP4)'!$I$52"]
["pp4_bl3_4_4_unit",{"$f":"'T2-B(PP4)'!$C$52","v":0},"#'T2-B(PP4)'!$C$52"]
["pp4_bl3_4_4_unit_in",{"$f":"'T2-B(PP4)'!$D$52","v":0},"#'T2-B(PP4)'!$D$52"]
["pp4_bl3_4_4_units_out",{"$f":"'T2-B(PP4)'!$G$52","v":0},"#'T2-B(PP4)'!$G$52"]
["pp4_bl3_4_5_name",{"$f":"'T2-B(PP4)'!$B$53","v":0},"#'T2-B(PP4)'!$B$53"]
["pp4_bl3_4_5_rate_in",{"$f":"'T2-B(PP4)'!$E$53","v":0},"#'T2-B(PP4)'!$E$53"]
["pp4_bl3_4_5_rate_out",{"$f":"'T2-B(PP4)'!$H$53","v":0},"#'T2-B(PP4)'!$H$53"]
["pp4_bl3_4_5_total",{"$f":"'T2-B(PP4)'!$J$53","v":0},"#'T2-B(PP4)'!$J$53"]
["pp4_bl3_4_5_total_in",{"$f":"'T2-B(PP4)'!$F$53","v":0},"#'T2-B(PP4)'!$F$53"]
["pp4_bl3_4_5_total_out",{"$f":"'T2-B(PP4)'!$I$53","v":0},"#'T2-B(PP4)'!$I$53"]
["pp4_bl3_4_5_unit",{"$f":"'T2-B(PP4)'!$C$53","v":0},"#'T2-B(PP4)'!$C$53"]
["pp4_bl3_4_5_unit_in",{"$f":"'T2-B(PP4)'!$D$53","v":0},"#'T2-B(PP4)'!$D$53"]
["pp4_bl3_4_5_units_out",{"$f":"'T2-B(PP4)'!$G$53","v":0},"#'T2-B(PP4)'!$G$53"]
["pp4_bl3_4_6_name",{"$f":"'T2-B(PP4)'!$B$54","v":0},"#'T2-B(PP4)'!$B$54"]
["pp4_bl3_4_6_rate_in",{"$f":"'T2-B(PP4)'!$E$54","v":0},"#'T2-B(PP4)'!$E$54"]
["pp4_bl3_4_6_rate_out",{"$f":"'T2-B(PP4)'!$H$54","v":0},"#'T2-B(PP4)'!$H$54"]
["pp4_bl3_4_6_total",{"$f":"'T2-B(PP4)'!$J$54","v":0},"#'T2-B(PP4)'!$J$54"]
["pp4_bl3_4_6_total_in",{"$f":"'T2-B(PP4)'!$F$54","v":0},"#'T2-B(PP4)'!$F$54"]
["pp4_bl3_4_6_total_out",{"$f":"'T2-B(PP4)'!$I$54","v":0},"#'T2-B(PP4)'!$I$54"]
["pp4_bl3_4_6_unit",{"$f":"'T2-B(PP4)'!$C$54","v":0},"#'T2-B(PP4)'!$C$54"]
["pp4_bl3_4_6_unit_in",{"$f":"'T2-B(PP4)'!$D$54","v":0},"#'T2-B(PP4)'!$D$54"]
["pp4_bl3_4_6_units_out",{"$f":"'T2-B(PP4)'!$G$54","v":0},"#'T2-B(PP4)'!$G$54"]
["pp4_bl3_4_7_name",{"$f":"'T2-B(PP4)'!$B$55","v":0},"#'T2-B(PP4)'!$B$55"]
["pp4_bl3_4_7_rate_in",{"$f":"'T2-B(PP4)'!$E$55","v":0},"#'T2-B(PP4)'!$E$55"]
["pp4_bl3_4_7_rate_out",{"$f":"'T2-B(PP4)'!$H$55","v":0},"#'T2-B(PP4)'!$H$55"]
["pp4_bl3_4_7_total",{"$f":"'T2-B(PP4)'!$J$55","v":0},"#'T2-B(PP4)'!$J$55"]
["pp4_bl3_4_7_total_in",{"$f":"'T2-B(PP4)'!$F$55","v":0},"#'T2-B(PP4)'!$F$55"]
["pp4_bl3_4_7_total_out",{"$f":"'T2-B(PP4)'!$I$55","v":0},"#'T2-B(PP4)'!$I$55"]
["pp4_bl3_4_7_unit",{"$f":"'T2-B(PP4)'!$C$55","v":0},"#'T2-B(PP4)'!$C$55"]
["pp4_bl3_4_7_unit_in",{"$f":"'T2-B(PP4)'!$D$55","v":0},"#'T2-B(PP4)'!$D$55"]
["pp4_bl3_4_7_units_out",{"$f":"'T2-B(PP4)'!$G$55","v":0},"#'T2-B(PP4)'!$G$55"]
["pp4_bl3_4_8_name",{"$f":"'T2-B(PP4)'!$B$56","v":0},"#'T2-B(PP4)'!$B$56"]
["pp4_bl3_4_8_rate_in",{"$f":"'T2-B(PP4)'!$E$56","v":0},"#'T2-B(PP4)'!$E$56"]
["pp4_bl3_4_8_rate_out",{"$f":"'T2-B(PP4)'!$H$56","v":0},"#'T2-B(PP4)'!$H$56"]
["pp4_bl3_4_8_total",{"$f":"'T2-B(PP4)'!$J$56","v":0},"#'T2-B(PP4)'!$J$56"]
["pp4_bl3_4_8_total_in",{"$f":"'T2-B(PP4)'!$F$56","v":0},"#'T2-B(PP4)'!$F$56"]
["pp4_bl3_4_8_total_out",{"$f":"'T2-B(PP4)'!$I$56","v":0},"#'T2-B(PP4)'!$I$56"]
["pp4_bl3_4_8_unit",{"$f":"'T2-B(PP4)'!$C$56","v":0},"#'T2-B(PP4)'!$C$56"]
["pp4_bl3_4_8_unit_in",{"$f":"'T2-B(PP4)'!$D$56","v":0},"#'T2-B(PP4)'!$D$56"]
["pp4_bl3_4_8_units_out",{"$f":"'T2-B(PP4)'!$G$56","v":0},"#'T2-B(PP4)'!$G$56"]
["pp4_bl3_4_9_name",{"$f":"'T2-B(PP4)'!$B$57","v":0},"#'T2-B(PP4)'!$B$57"]
["pp4_bl3_4_9_rate_in",{"$f":"'T2-B(PP4)'!$E$57","v":0},"#'T2-B(PP4)'!$E$57"]
["pp4_bl3_4_9_rate_out",{"$f":"'T2-B(PP4)'!$H$57","v":0},"#'T2-B(PP4)'!$H$57"]
["pp4_bl3_4_9_total",{"$f":"'T2-B(PP4)'!$J$57","v":0},"#'T2-B(PP4)'!$J$57"]
["pp4_bl3_4_9_total_in",{"$f":"'T2-B(PP4)'!$F$57","v":0},"#'T2-B(PP4)'!$F$57"]
["pp4_bl3_4_9_total_out",{"$f":"'T2-B(PP4)'!$I$57","v":0},"#'T2-B(PP4)'!$I$57"]
["pp4_bl3_4_9_unit",{"$f":"'T2-B(PP4)'!$C$57","v":0},"#'T2-B(PP4)'!$C$57"]
["pp4_bl3_4_9_unit_in",{"$f":"'T2-B(PP4)'!$D$57","v":0},"#'T2-B(PP4)'!$D$57"]
["pp4_bl3_4_9_units_out",{"$f":"'T2-B(PP4)'!$G$57","v":0},"#'T2-B(PP4)'!$G$57"]
["pp4_bl3_4_total",{"$f":"'T2-B(PP4)'!$J$48","v":0},"#'T2-B(PP4)'!$J$48"]
["pp4_bl3_4_total_in",{"$f":"'T2-B(PP4)'!$F$48","v":0},"#'T2-B(PP4)'!$F$48"]
["pp4_bl3_4_total_out",{"$f":"'T2-B(PP4)'!$I$48","v":0},"#'T2-B(PP4)'!$I$48"]
["pp4_bl3_total",{"$f":"'T2-B(PP4)'!$J$59","v":0},"#'T2-B(PP4)'!$J$59"]
["pp4_bl3_total_in",{"$f":"'T2-B(PP4)'!$F$59","v":0},"#'T2-B(PP4)'!$F$59"]
["pp4_bl3_total_out",{"$f":"'T2-B(PP4)'!$I$59","v":0},"#'T2-B(PP4)'!$I$59"]
["pp4_bl4_1_1_name",{"$f":"'T2-B(PP4)'!$B$64","v":0},"#'T2-B(PP4)'!$B$64"]
["pp4_bl4_1_1_rate_in",{"$f":"'T2-B(PP4)'!$E$64","v":0},"#'T2-B(PP4)'!$E$64"]
["pp4_bl4_1_1_rate_out",{"$f":"'T2-B(PP4)'!$H$64","v":0},"#'T2-B(PP4)'!$H$64"]
["pp4_bl4_1_1_total",{"$f":"'T2-B(PP4)'!$J$64","v":0},"#'T2-B(PP4)'!$J$64"]
["pp4_bl4_1_1_total_in",{"$f":"'T2-B(PP4)'!$F$64","v":0},"#'T2-B(PP4)'!$F$64"]
["pp4_bl4_1_1_total_out",{"$f":"'T2-B(PP4)'!$I$64","v":0},"#'T2-B(PP4)'!$I$64"]
["pp4_bl4_1_1_unit",{"$f":"'T2-B(PP4)'!$C$64","v":0},"#'T2-B(PP4)'!$C$64"]
["pp4_bl4_1_1_unit_in",{"$f":"'T2-B(PP4)'!$D$64","v":0},"#'T2-B(PP4)'!$D$64"]
["pp4_bl4_1_1_units_out",{"$f":"'T2-B(PP4)'!$G$64","v":0},"#'T2-B(PP4)'!$G$64"]
["pp4_bl4_1_10_name",{"$f":"'T2-B(PP4)'!$B$73","v":0},"#'T2-B(PP4)'!$B$73"]
["pp4_bl4_1_10_rate_in",{"$f":"'T2-B(PP4)'!$E$73","v":0},"#'T2-B(PP4)'!$E$73"]
["pp4_bl4_1_10_rate_out",{"$f":"'T2-B(PP4)'!$H$73","v":0},"#'T2-B(PP4)'!$H$73"]
["pp4_bl4_1_10_total",{"$f":"'T2-B(PP4)'!$J$73","v":0},"#'T2-B(PP4)'!$J$73"]
["pp4_bl4_1_10_total_in",{"$f":"'T2-B(PP4)'!$F$73","v":0},"#'T2-B(PP4)'!$F$73"]
["pp4_bl4_1_10_total_out",{"$f":"'T2-B(PP4)'!$I$73","v":0},"#'T2-B(PP4)'!$I$73"]
["pp4_bl4_1_10_unit",{"$f":"'T2-B(PP4)'!$C$73","v":0},"#'T2-B(PP4)'!$C$73"]
["pp4_bl4_1_10_unit_in",{"$f":"'T2-B(PP4)'!$D$73","v":0},"#'T2-B(PP4)'!$D$73"]
["pp4_bl4_1_10_units_out",{"$f":"'T2-B(PP4)'!$G$73","v":0},"#'T2-B(PP4)'!$G$73"]
["pp4_bl4_1_2_name",{"$f":"'T2-B(PP4)'!$B$65","v":0},"#'T2-B(PP4)'!$B$65"]
["pp4_bl4_1_2_rate_in",{"$f":"'T2-B(PP4)'!$E$65","v":0},"#'T2-B(PP4)'!$E$65"]
["pp4_bl4_1_2_rate_out",{"$f":"'T2-B(PP4)'!$H$65","v":0},"#'T2-B(PP4)'!$H$65"]
["pp4_bl4_1_2_total",{"$f":"'T2-B(PP4)'!$J$65","v":0},"#'T2-B(PP4)'!$J$65"]
["pp4_bl4_1_2_total_in",{"$f":"'T2-B(PP4)'!$F$65","v":0},"#'T2-B(PP4)'!$F$65"]
["pp4_bl4_1_2_total_out",{"$f":"'T2-B(PP4)'!$I$65","v":0},"#'T2-B(PP4)'!$I$65"]
["pp4_bl4_1_2_unit",{"$f":"'T2-B(PP4)'!$C$65","v":0},"#'T2-B(PP4)'!$C$65"]
["pp4_bl4_1_2_unit_in",{"$f":"'T2-B(PP4)'!$D$65","v":0},"#'T2-B(PP4)'!$D$65"]
["pp4_bl4_1_2_units_out",{"$f":"'T2-B(PP4)'!$G$65","v":0},"#'T2-B(PP4)'!$G$65"]
["pp4_bl4_1_3_name",{"$f":"'T2-B(PP4)'!$B$66","v":0},"#'T2-B(PP4)'!$B$66"]
["pp4_bl4_1_3_rate_in",{"$f":"'T2-B(PP4)'!$E$66","v":0},"#'T2-B(PP4)'!$E$66"]
["pp4_bl4_1_3_rate_out",{"$f":"'T2-B(PP4)'!$H$66","v":0},"#'T2-B(PP4)'!$H$66"]
["pp4_bl4_1_3_total",{"$f":"'T2-B(PP4)'!$J$66","v":0},"#'T2-B(PP4)'!$J$66"]
["pp4_bl4_1_3_total_in",{"$f":"'T2-B(PP4)'!$F$66","v":0},"#'T2-B(PP4)'!$F$66"]
["pp4_bl4_1_3_total_out",{"$f":"'T2-B(PP4)'!$I$66","v":0},"#'T2-B(PP4)'!$I$66"]
["pp4_bl4_1_3_unit",{"$f":"'T2-B(PP4)'!$C$66","v":0},"#'T2-B(PP4)'!$C$66"]
["pp4_bl4_1_3_unit_in",{"$f":"'T2-B(PP4)'!$D$66","v":0},"#'T2-B(PP4)'!$D$66"]
["pp4_bl4_1_3_units_out",{"$f":"'T2-B(PP4)'!$G$66","v":0},"#'T2-B(PP4)'!$G$66"]
["pp4_bl4_1_4_name",{"$f":"'T2-B(PP4)'!$B$67","v":0},"#'T2-B(PP4)'!$B$67"]
["pp4_bl4_1_4_rate_in",{"$f":"'T2-B(PP4)'!$E$67","v":0},"#'T2-B(PP4)'!$E$67"]
["pp4_bl4_1_4_rate_out",{"$f":"'T2-B(PP4)'!$H$67","v":0},"#'T2-B(PP4)'!$H$67"]
["pp4_bl4_1_4_total",{"$f":"'T2-B(PP4)'!$J$67","v":0},"#'T2-B(PP4)'!$J$67"]
["pp4_bl4_1_4_total_in",{"$f":"'T2-B(PP4)'!$F$67","v":0},"#'T2-B(PP4)'!$F$67"]
["pp4_bl4_1_4_total_out",{"$f":"'T2-B(PP4)'!$I$67","v":0},"#'T2-B(PP4)'!$I$67"]
["pp4_bl4_1_4_unit",{"$f":"'T2-B(PP4)'!$C$67","v":0},"#'T2-B(PP4)'!$C$67"]
["pp4_bl4_1_4_unit_in",{"$f":"'T2-B(PP4)'!$D$67","v":0},"#'T2-B(PP4)'!$D$67"]
["pp4_bl4_1_4_units_out",{"$f":"'T2-B(PP4)'!$G$67","v":0},"#'T2-B(PP4)'!$G$67"]
["pp4_bl4_1_5_name",{"$f":"'T2-B(PP4)'!$B$68","v":0},"#'T2-B(PP4)'!$B$68"]
["pp4_bl4_1_5_rate_in",{"$f":"'T2-B(PP4)'!$E$68","v":0},"#'T2-B(PP4)'!$E$68"]
["pp4_bl4_1_5_rate_out",{"$f":"'T2-B(PP4)'!$H$68","v":0},"#'T2-B(PP4)'!$H$68"]
["pp4_bl4_1_5_total",{"$f":"'T2-B(PP4)'!$J$68","v":0},"#'T2-B(PP4)'!$J$68"]
["pp4_bl4_1_5_total_in",{"$f":"'T2-B(PP4)'!$F$68","v":0},"#'T2-B(PP4)'!$F$68"]
["pp4_bl4_1_5_total_out",{"$f":"'T2-B(PP4)'!$I$68","v":0},"#'T2-B(PP4)'!$I$68"]
["pp4_bl4_1_5_unit",{"$f":"'T2-B(PP4)'!$C$68","v":0},"#'T2-B(PP4)'!$C$68"]
["pp4_bl4_1_5_unit_in",{"$f":"'T2-B(PP4)'!$D$68","v":0},"#'T2-B(PP4)'!$D$68"]
["pp4_bl4_1_5_units_out",{"$f":"'T2-B(PP4)'!$G$68","v":0},"#'T2-B(PP4)'!$G$68"]
["pp4_bl4_1_6_name",{"$f":"'T2-B(PP4)'!$B$69","v":0},"#'T2-B(PP4)'!$B$69"]
["pp4_bl4_1_6_rate_in",{"$f":"'T2-B(PP4)'!$E$69","v":0},"#'T2-B(PP4)'!$E$69"]
["pp4_bl4_1_6_rate_out",{"$f":"'T2-B(PP4)'!$H$69","v":0},"#'T2-B(PP4)'!$H$69"]
["pp4_bl4_1_6_total",{"$f":"'T2-B(PP4)'!$J$69","v":0},"#'T2-B(PP4)'!$J$69"]
["pp4_bl4_1_6_total_in",{"$f":"'T2-B(PP4)'!$F$69","v":0},"#'T2-B(PP4)'!$F$69"]
["pp4_bl4_1_6_total_out",{"$f":"'T2-B(PP4)'!$I$69","v":0},"#'T2-B(PP4)'!$I$69"]
["pp4_bl4_1_6_unit",{"$f":"'T2-B(PP4)'!$C$69","v":0},"#'T2-B(PP4)'!$C$69"]
["pp4_bl4_1_6_unit_in",{"$f":"'T2-B(PP4)'!$D$69","v":0},"#'T2-B(PP4)'!$D$69"]
["pp4_bl4_1_6_units_out",{"$f":"'T2-B(PP4)'!$G$69","v":0},"#'T2-B(PP4)'!$G$69"]
["pp4_bl4_1_7_name",{"$f":"'T2-B(PP4)'!$B$70","v":0},"#'T2-B(PP4)'!$B$70"]
["pp4_bl4_1_7_rate_in",{"$f":"'T2-B(PP4)'!$E$70","v":0},"#'T2-B(PP4)'!$E$70"]
["pp4_bl4_1_7_rate_out",{"$f":"'T2-B(PP4)'!$H$70","v":0},"#'T2-B(PP4)'!$H$70"]
["pp4_bl4_1_7_total",{"$f":"'T2-B(PP4)'!$J$70","v":0},"#'T2-B(PP4)'!$J$70"]
["pp4_bl4_1_7_total_in",{"$f":"'T2-B(PP4)'!$F$70","v":0},"#'T2-B(PP4)'!$F$70"]
["pp4_bl4_1_7_total_out",{"$f":"'T2-B(PP4)'!$I$70","v":0},"#'T2-B(PP4)'!$I$70"]
["pp4_bl4_1_7_unit",{"$f":"'T2-B(PP4)'!$C$70","v":0},"#'T2-B(PP4)'!$C$70"]
["pp4_bl4_1_7_unit_in",{"$f":"'T2-B(PP4)'!$D$70","v":0},"#'T2-B(PP4)'!$D$70"]
["pp4_bl4_1_7_units_out",{"$f":"'T2-B(PP4)'!$G$70","v":0},"#'T2-B(PP4)'!$G$70"]
["pp4_bl4_1_8_name",{"$f":"'T2-B(PP4)'!$B$71","v":0},"#'T2-B(PP4)'!$B$71"]
["pp4_bl4_1_8_rate_in",{"$f":"'T2-B(PP4)'!$E$71","v":0},"#'T2-B(PP4)'!$E$71"]
["pp4_bl4_1_8_rate_out",{"$f":"'T2-B(PP4)'!$H$71","v":0},"#'T2-B(PP4)'!$H$71"]
["pp4_bl4_1_8_total",{"$f":"'T2-B(PP4)'!$J$71","v":0},"#'T2-B(PP4)'!$J$71"]
["pp4_bl4_1_8_total_in",{"$f":"'T2-B(PP4)'!$F$71","v":0},"#'T2-B(PP4)'!$F$71"]
["pp4_bl4_1_8_total_out",{"$f":"'T2-B(PP4)'!$I$71","v":0},"#'T2-B(PP4)'!$I$71"]
["pp4_bl4_1_8_unit",{"$f":"'T2-B(PP4)'!$C$71","v":0},"#'T2-B(PP4)'!$C$71"]
["pp4_bl4_1_8_unit_in",{"$f":"'T2-B(PP4)'!$D$71","v":0},"#'T2-B(PP4)'!$D$71"]
["pp4_bl4_1_8_units_out",{"$f":"'T2-B(PP4)'!$G$71","v":0},"#'T2-B(PP4)'!$G$71"]
["pp4_bl4_1_9_name",{"$f":"'T2-B(PP4)'!$B$72","v":0},"#'T2-B(PP4)'!$B$72"]
["pp4_bl4_1_9_rate_in",{"$f":"'T2-B(PP4)'!$E$72","v":0},"#'T2-B(PP4)'!$E$72"]
["pp4_bl4_1_9_rate_out",{"$f":"'T2-B(PP4)'!$H$72","v":0},"#'T2-B(PP4)'!$H$72"]
["pp4_bl4_1_9_total",{"$f":"'T2-B(PP4)'!$J$72","v":0},"#'T2-B(PP4)'!$J$72"]
["pp4_bl4_1_9_total_in",{"$f":"'T2-B(PP4)'!$F$72","v":0},"#'T2-B(PP4)'!$F$72"]
["pp4_bl4_1_9_total_out",{"$f":"'T2-B(PP4)'!$I$72","v":0},"#'T2-B(PP4)'!$I$72"]
["pp4_bl4_1_9_unit",{"$f":"'T2-B(PP4)'!$C$72","v":0},"#'T2-B(PP4)'!$C$72"]
["pp4_bl4_1_9_unit_in",{"$f":"'T2-B(PP4)'!$D$72","v":0},"#'T2-B(PP4)'!$D$72"]
["pp4_bl4_1_9_units_out",{"$f":"'T2-B(PP4)'!$G$72","v":0},"#'T2-B(PP4)'!$G$72"]
["pp4_bl4_1_total",{"$f":"'T2-B(PP4)'!$J$63","v":0},"#'T2-B(PP4)'!$J$63"]
["pp4_bl4_1_total_in",{"$f":"'T2-B(PP4)'!$F$63","v":0},"#'T2-B(PP4)'!$F$63"]
["pp4_bl4_1_total_out",{"$f":"'T2-B(PP4)'!$I$63","v":0},"#'T2-B(PP4)'!$I$63"]
["pp4_bl4_10_1_name",{"$f":"'T2-B(PP4)'!$B$163","v":0},"#'T2-B(PP4)'!$B$163"]
["pp4_bl4_10_1_rate_in",{"$f":"'T2-B(PP4)'!$E$163","v":0},"#'T2-B(PP4)'!$E$163"]
["pp4_bl4_10_1_rate_out",{"$f":"'T2-B(PP4)'!$H$163","v":0},"#'T2-B(PP4)'!$H$163"]
["pp4_bl4_10_1_total",{"$f":"'T2-B(PP4)'!$J$163","v":0},"#'T2-B(PP4)'!$J$163"]
["pp4_bl4_10_1_total_in",{"$f":"'T2-B(PP4)'!$F$163","v":0},"#'T2-B(PP4)'!$F$163"]
["pp4_bl4_10_1_total_out",{"$f":"'T2-B(PP4)'!$I$163","v":0},"#'T2-B(PP4)'!$I$163"]
["pp4_bl4_10_1_unit",{"$f":"'T2-B(PP4)'!$C$163","v":0},"#'T2-B(PP4)'!$C$163"]
["pp4_bl4_10_1_unit_in",{"$f":"'T2-B(PP4)'!$D$163","v":0},"#'T2-B(PP4)'!$D$163"]
["pp4_bl4_10_1_units_out",{"$f":"'T2-B(PP4)'!$G$163","v":0},"#'T2-B(PP4)'!$G$163"]
["pp4_bl4_10_10_name",{"$f":"'T2-B(PP4)'!$B$172","v":0},"#'T2-B(PP4)'!$B$172"]
["pp4_bl4_10_10_rate_in",{"$f":"'T2-B(PP4)'!$E$172","v":0},"#'T2-B(PP4)'!$E$172"]
["pp4_bl4_10_10_rate_out",{"$f":"'T2-B(PP4)'!$H$172","v":0},"#'T2-B(PP4)'!$H$172"]
["pp4_bl4_10_10_total",{"$f":"'T2-B(PP4)'!$J$172","v":0},"#'T2-B(PP4)'!$J$172"]
["pp4_bl4_10_10_total_in",{"$f":"'T2-B(PP4)'!$F$172","v":0},"#'T2-B(PP4)'!$F$172"]
["pp4_bl4_10_10_total_out",{"$f":"'T2-B(PP4)'!$I$172","v":0},"#'T2-B(PP4)'!$I$172"]
["pp4_bl4_10_10_unit",{"$f":"'T2-B(PP4)'!$C$172","v":0},"#'T2-B(PP4)'!$C$172"]
["pp4_bl4_10_10_unit_in",{"$f":"'T2-B(PP4)'!$D$172","v":0},"#'T2-B(PP4)'!$D$172"]
["pp4_bl4_10_10_units_out",{"$f":"'T2-B(PP4)'!$G$172","v":0},"#'T2-B(PP4)'!$G$172"]
["pp4_bl4_10_2_name",{"$f":"'T2-B(PP4)'!$B$164","v":0},"#'T2-B(PP4)'!$B$164"]
["pp4_bl4_10_2_rate_in",{"$f":"'T2-B(PP4)'!$E$164","v":0},"#'T2-B(PP4)'!$E$164"]
["pp4_bl4_10_2_rate_out",{"$f":"'T2-B(PP4)'!$H$164","v":0},"#'T2-B(PP4)'!$H$164"]
["pp4_bl4_10_2_total",{"$f":"'T2-B(PP4)'!$J$164","v":0},"#'T2-B(PP4)'!$J$164"]
["pp4_bl4_10_2_total_in",{"$f":"'T2-B(PP4)'!$F$164","v":0},"#'T2-B(PP4)'!$F$164"]
["pp4_bl4_10_2_total_out",{"$f":"'T2-B(PP4)'!$I$164","v":0},"#'T2-B(PP4)'!$I$164"]
["pp4_bl4_10_2_unit",{"$f":"'T2-B(PP4)'!$C$164","v":0},"#'T2-B(PP4)'!$C$164"]
["pp4_bl4_10_2_unit_in",{"$f":"'T2-B(PP4)'!$D$164","v":0},"#'T2-B(PP4)'!$D$164"]
["pp4_bl4_10_2_units_out",{"$f":"'T2-B(PP4)'!$G$164","v":0},"#'T2-B(PP4)'!$G$164"]
["pp4_bl4_10_3_name",{"$f":"'T2-B(PP4)'!$B$165","v":0},"#'T2-B(PP4)'!$B$165"]
["pp4_bl4_10_3_rate_in",{"$f":"'T2-B(PP4)'!$E$165","v":0},"#'T2-B(PP4)'!$E$165"]
["pp4_bl4_10_3_rate_out",{"$f":"'T2-B(PP4)'!$H$165","v":0},"#'T2-B(PP4)'!$H$165"]
["pp4_bl4_10_3_total",{"$f":"'T2-B(PP4)'!$J$165","v":0},"#'T2-B(PP4)'!$J$165"]
["pp4_bl4_10_3_total_in",{"$f":"'T2-B(PP4)'!$F$165","v":0},"#'T2-B(PP4)'!$F$165"]
["pp4_bl4_10_3_total_out",{"$f":"'T2-B(PP4)'!$I$165","v":0},"#'T2-B(PP4)'!$I$165"]
["pp4_bl4_10_3_unit",{"$f":"'T2-B(PP4)'!$C$165","v":0},"#'T2-B(PP4)'!$C$165"]
["pp4_bl4_10_3_unit_in",{"$f":"'T2-B(PP4)'!$D$165","v":0},"#'T2-B(PP4)'!$D$165"]
["pp4_bl4_10_3_units_out",{"$f":"'T2-B(PP4)'!$G$165","v":0},"#'T2-B(PP4)'!$G$165"]
["pp4_bl4_10_4_name",{"$f":"'T2-B(PP4)'!$B$166","v":0},"#'T2-B(PP4)'!$B$166"]
["pp4_bl4_10_4_rate_in",{"$f":"'T2-B(PP4)'!$E$166","v":0},"#'T2-B(PP4)'!$E$166"]
["pp4_bl4_10_4_rate_out",{"$f":"'T2-B(PP4)'!$H$166","v":0},"#'T2-B(PP4)'!$H$166"]
["pp4_bl4_10_4_total",{"$f":"'T2-B(PP4)'!$J$166","v":0},"#'T2-B(PP4)'!$J$166"]
["pp4_bl4_10_4_total_in",{"$f":"'T2-B(PP4)'!$F$166","v":0},"#'T2-B(PP4)'!$F$166"]
["pp4_bl4_10_4_total_out",{"$f":"'T2-B(PP4)'!$I$166","v":0},"#'T2-B(PP4)'!$I$166"]
["pp4_bl4_10_4_unit",{"$f":"'T2-B(PP4)'!$C$166","v":0},"#'T2-B(PP4)'!$C$166"]
["pp4_bl4_10_4_unit_in",{"$f":"'T2-B(PP4)'!$D$166","v":0},"#'T2-B(PP4)'!$D$166"]
["pp4_bl4_10_4_units_out",{"$f":"'T2-B(PP4)'!$G$166","v":0},"#'T2-B(PP4)'!$G$166"]
["pp4_bl4_10_5_name",{"$f":"'T2-B(PP4)'!$B$167","v":0},"#'T2-B(PP4)'!$B$167"]
["pp4_bl4_10_5_rate_in",{"$f":"'T2-B(PP4)'!$E$167","v":0},"#'T2-B(PP4)'!$E$167"]
["pp4_bl4_10_5_rate_out",{"$f":"'T2-B(PP4)'!$H$167","v":0},"#'T2-B(PP4)'!$H$167"]
["pp4_bl4_10_5_total",{"$f":"'T2-B(PP4)'!$J$167","v":0},"#'T2-B(PP4)'!$J$167"]
["pp4_bl4_10_5_total_in",{"$f":"'T2-B(PP4)'!$F$167","v":0},"#'T2-B(PP4)'!$F$167"]
["pp4_bl4_10_5_total_out",{"$f":"'T2-B(PP4)'!$I$167","v":0},"#'T2-B(PP4)'!$I$167"]
["pp4_bl4_10_5_unit",{"$f":"'T2-B(PP4)'!$C$167","v":0},"#'T2-B(PP4)'!$C$167"]
["pp4_bl4_10_5_unit_in",{"$f":"'T2-B(PP4)'!$D$167","v":0},"#'T2-B(PP4)'!$D$167"]
["pp4_bl4_10_5_units_out",{"$f":"'T2-B(PP4)'!$G$167","v":0},"#'T2-B(PP4)'!$G$167"]
["pp4_bl4_10_6_name",{"$f":"'T2-B(PP4)'!$B$168","v":0},"#'T2-B(PP4)'!$B$168"]
["pp4_bl4_10_6_rate_in",{"$f":"'T2-B(PP4)'!$E$168","v":0},"#'T2-B(PP4)'!$E$168"]
["pp4_bl4_10_6_rate_out",{"$f":"'T2-B(PP4)'!$H$168","v":0},"#'T2-B(PP4)'!$H$168"]
["pp4_bl4_10_6_total",{"$f":"'T2-B(PP4)'!$J$168","v":0},"#'T2-B(PP4)'!$J$168"]
["pp4_bl4_10_6_total_in",{"$f":"'T2-B(PP4)'!$F$168","v":0},"#'T2-B(PP4)'!$F$168"]
["pp4_bl4_10_6_total_out",{"$f":"'T2-B(PP4)'!$I$168","v":0},"#'T2-B(PP4)'!$I$168"]
["pp4_bl4_10_6_unit",{"$f":"'T2-B(PP4)'!$C$168","v":0},"#'T2-B(PP4)'!$C$168"]
["pp4_bl4_10_6_unit_in",{"$f":"'T2-B(PP4)'!$D$168","v":0},"#'T2-B(PP4)'!$D$168"]
["pp4_bl4_10_6_units_out",{"$f":"'T2-B(PP4)'!$G$168","v":0},"#'T2-B(PP4)'!$G$168"]
["pp4_bl4_10_7_name",{"$f":"'T2-B(PP4)'!$B$169","v":0},"#'T2-B(PP4)'!$B$169"]
["pp4_bl4_10_7_rate_in",{"$f":"'T2-B(PP4)'!$E$169","v":0},"#'T2-B(PP4)'!$E$169"]
["pp4_bl4_10_7_rate_out",{"$f":"'T2-B(PP4)'!$H$169","v":0},"#'T2-B(PP4)'!$H$169"]
["pp4_bl4_10_7_total",{"$f":"'T2-B(PP4)'!$J$169","v":0},"#'T2-B(PP4)'!$J$169"]
["pp4_bl4_10_7_total_in",{"$f":"'T2-B(PP4)'!$F$169","v":0},"#'T2-B(PP4)'!$F$169"]
["pp4_bl4_10_7_total_out",{"$f":"'T2-B(PP4)'!$I$169","v":0},"#'T2-B(PP4)'!$I$169"]
["pp4_bl4_10_7_unit",{"$f":"'T2-B(PP4)'!$C$169","v":0},"#'T2-B(PP4)'!$C$169"]
["pp4_bl4_10_7_unit_in",{"$f":"'T2-B(PP4)'!$D$169","v":0},"#'T2-B(PP4)'!$D$169"]
["pp4_bl4_10_7_units_out",{"$f":"'T2-B(PP4)'!$G$169","v":0},"#'T2-B(PP4)'!$G$169"]
["pp4_bl4_10_8_name",{"$f":"'T2-B(PP4)'!$B$170","v":0},"#'T2-B(PP4)'!$B$170"]
["pp4_bl4_10_8_rate_in",{"$f":"'T2-B(PP4)'!$E$170","v":0},"#'T2-B(PP4)'!$E$170"]
["pp4_bl4_10_8_rate_out",{"$f":"'T2-B(PP4)'!$H$170","v":0},"#'T2-B(PP4)'!$H$170"]
["pp4_bl4_10_8_total",{"$f":"'T2-B(PP4)'!$J$170","v":0},"#'T2-B(PP4)'!$J$170"]
["pp4_bl4_10_8_total_in",{"$f":"'T2-B(PP4)'!$F$170","v":0},"#'T2-B(PP4)'!$F$170"]
["pp4_bl4_10_8_total_out",{"$f":"'T2-B(PP4)'!$I$170","v":0},"#'T2-B(PP4)'!$I$170"]
["pp4_bl4_10_8_unit",{"$f":"'T2-B(PP4)'!$C$170","v":0},"#'T2-B(PP4)'!$C$170"]
["pp4_bl4_10_8_unit_in",{"$f":"'T2-B(PP4)'!$D$170","v":0},"#'T2-B(PP4)'!$D$170"]
["pp4_bl4_10_8_units_out",{"$f":"'T2-B(PP4)'!$G$170","v":0},"#'T2-B(PP4)'!$G$170"]
["pp4_bl4_10_9_name",{"$f":"'T2-B(PP4)'!$B$171","v":0},"#'T2-B(PP4)'!$B$171"]
["pp4_bl4_10_9_rate_in",{"$f":"'T2-B(PP4)'!$E$171","v":0},"#'T2-B(PP4)'!$E$171"]
["pp4_bl4_10_9_rate_out",{"$f":"'T2-B(PP4)'!$H$171","v":0},"#'T2-B(PP4)'!$H$171"]
["pp4_bl4_10_9_total",{"$f":"'T2-B(PP4)'!$J$171","v":0},"#'T2-B(PP4)'!$J$171"]
["pp4_bl4_10_9_total_in",{"$f":"'T2-B(PP4)'!$F$171","v":0},"#'T2-B(PP4)'!$F$171"]
["pp4_bl4_10_9_total_out",{"$f":"'T2-B(PP4)'!$I$171","v":0},"#'T2-B(PP4)'!$I$171"]
["pp4_bl4_10_9_unit",{"$f":"'T2-B(PP4)'!$C$171","v":0},"#'T2-B(PP4)'!$C$171"]
["pp4_bl4_10_9_unit_in",{"$f":"'T2-B(PP4)'!$D$171","v":0},"#'T2-B(PP4)'!$D$171"]
["pp4_bl4_10_9_units_out",{"$f":"'T2-B(PP4)'!$G$171","v":0},"#'T2-B(PP4)'!$G$171"]
["pp4_bl4_10_total",{"$f":"'T2-B(PP4)'!$J$162","v":0},"#'T2-B(PP4)'!$J$162"]
["pp4_bl4_10_total_in",{"$f":"'T2-B(PP4)'!$F$162","v":0},"#'T2-B(PP4)'!$F$162"]
["pp4_bl4_10_total_out",{"$f":"'T2-B(PP4)'!$I$162","v":0},"#'T2-B(PP4)'!$I$162"]
["pp4_bl4_11_1_name",{"$f":"'T2-B(PP4)'!$B$174","v":0},"#'T2-B(PP4)'!$B$174"]
["pp4_bl4_11_1_rate_in",{"$f":"'T2-B(PP4)'!$E$174","v":0},"#'T2-B(PP4)'!$E$174"]
["pp4_bl4_11_1_rate_out",{"$f":"'T2-B(PP4)'!$H$174","v":0},"#'T2-B(PP4)'!$H$174"]
["pp4_bl4_11_1_total",{"$f":"'T2-B(PP4)'!$J$174","v":0},"#'T2-B(PP4)'!$J$174"]
["pp4_bl4_11_1_total_in",{"$f":"'T2-B(PP4)'!$F$174","v":0},"#'T2-B(PP4)'!$F$174"]
["pp4_bl4_11_1_total_out",{"$f":"'T2-B(PP4)'!$I$174","v":0},"#'T2-B(PP4)'!$I$174"]
["pp4_bl4_11_1_unit",{"$f":"'T2-B(PP4)'!$C$174","v":0},"#'T2-B(PP4)'!$C$174"]
["pp4_bl4_11_1_unit_in",{"$f":"'T2-B(PP4)'!$D$174","v":0},"#'T2-B(PP4)'!$D$174"]
["pp4_bl4_11_1_units_out",{"$f":"'T2-B(PP4)'!$G$174","v":0},"#'T2-B(PP4)'!$G$174"]
["pp4_bl4_11_10_name",{"$f":"'T2-B(PP4)'!$B$183","v":0},"#'T2-B(PP4)'!$B$183"]
["pp4_bl4_11_10_rate_in",{"$f":"'T2-B(PP4)'!$E$183","v":0},"#'T2-B(PP4)'!$E$183"]
["pp4_bl4_11_10_rate_out",{"$f":"'T2-B(PP4)'!$H$183","v":0},"#'T2-B(PP4)'!$H$183"]
["pp4_bl4_11_10_total",{"$f":"'T2-B(PP4)'!$J$183","v":0},"#'T2-B(PP4)'!$J$183"]
["pp4_bl4_11_10_total_in",{"$f":"'T2-B(PP4)'!$F$183","v":0},"#'T2-B(PP4)'!$F$183"]
["pp4_bl4_11_10_total_out",{"$f":"'T2-B(PP4)'!$I$183","v":0},"#'T2-B(PP4)'!$I$183"]
["pp4_bl4_11_10_unit",{"$f":"'T2-B(PP4)'!$C$183","v":0},"#'T2-B(PP4)'!$C$183"]
["pp4_bl4_11_10_unit_in",{"$f":"'T2-B(PP4)'!$D$183","v":0},"#'T2-B(PP4)'!$D$183"]
["pp4_bl4_11_10_units_out",{"$f":"'T2-B(PP4)'!$G$183","v":0},"#'T2-B(PP4)'!$G$183"]
["pp4_bl4_11_2_name",{"$f":"'T2-B(PP4)'!$B$175","v":0},"#'T2-B(PP4)'!$B$175"]
["pp4_bl4_11_2_rate_in",{"$f":"'T2-B(PP4)'!$E$175","v":0},"#'T2-B(PP4)'!$E$175"]
["pp4_bl4_11_2_rate_out",{"$f":"'T2-B(PP4)'!$H$175","v":0},"#'T2-B(PP4)'!$H$175"]
["pp4_bl4_11_2_total",{"$f":"'T2-B(PP4)'!$J$175","v":0},"#'T2-B(PP4)'!$J$175"]
["pp4_bl4_11_2_total_in",{"$f":"'T2-B(PP4)'!$F$175","v":0},"#'T2-B(PP4)'!$F$175"]
["pp4_bl4_11_2_total_out",{"$f":"'T2-B(PP4)'!$I$175","v":0},"#'T2-B(PP4)'!$I$175"]
["pp4_bl4_11_2_unit",{"$f":"'T2-B(PP4)'!$C$175","v":0},"#'T2-B(PP4)'!$C$175"]
["pp4_bl4_11_2_unit_in",{"$f":"'T2-B(PP4)'!$D$175","v":0},"#'T2-B(PP4)'!$D$175"]
["pp4_bl4_11_2_units_out",{"$f":"'T2-B(PP4)'!$G$175","v":0},"#'T2-B(PP4)'!$G$175"]
["pp4_bl4_11_3_name",{"$f":"'T2-B(PP4)'!$B$176","v":0},"#'T2-B(PP4)'!$B$176"]
["pp4_bl4_11_3_rate_in",{"$f":"'T2-B(PP4)'!$E$176","v":0},"#'T2-B(PP4)'!$E$176"]
["pp4_bl4_11_3_rate_out",{"$f":"'T2-B(PP4)'!$H$176","v":0},"#'T2-B(PP4)'!$H$176"]
["pp4_bl4_11_3_total",{"$f":"'T2-B(PP4)'!$J$176","v":0},"#'T2-B(PP4)'!$J$176"]
["pp4_bl4_11_3_total_in",{"$f":"'T2-B(PP4)'!$F$176","v":0},"#'T2-B(PP4)'!$F$176"]
["pp4_bl4_11_3_total_out",{"$f":"'T2-B(PP4)'!$I$176","v":0},"#'T2-B(PP4)'!$I$176"]
["pp4_bl4_11_3_unit",{"$f":"'T2-B(PP4)'!$C$176","v":0},"#'T2-B(PP4)'!$C$176"]
["pp4_bl4_11_3_unit_in",{"$f":"'T2-B(PP4)'!$D$176","v":0},"#'T2-B(PP4)'!$D$176"]
["pp4_bl4_11_3_units_out",{"$f":"'T2-B(PP4)'!$G$176","v":0},"#'T2-B(PP4)'!$G$176"]
["pp4_bl4_11_4_name",{"$f":"'T2-B(PP4)'!$B$177","v":0},"#'T2-B(PP4)'!$B$177"]
["pp4_bl4_11_4_rate_in",{"$f":"'T2-B(PP4)'!$E$177","v":0},"#'T2-B(PP4)'!$E$177"]
["pp4_bl4_11_4_rate_out",{"$f":"'T2-B(PP4)'!$H$177","v":0},"#'T2-B(PP4)'!$H$177"]
["pp4_bl4_11_4_total",{"$f":"'T2-B(PP4)'!$J$177","v":0},"#'T2-B(PP4)'!$J$177"]
["pp4_bl4_11_4_total_in",{"$f":"'T2-B(PP4)'!$F$177","v":0},"#'T2-B(PP4)'!$F$177"]
["pp4_bl4_11_4_total_out",{"$f":"'T2-B(PP4)'!$I$177","v":0},"#'T2-B(PP4)'!$I$177"]
["pp4_bl4_11_4_unit",{"$f":"'T2-B(PP4)'!$C$177","v":0},"#'T2-B(PP4)'!$C$177"]
["pp4_bl4_11_4_unit_in",{"$f":"'T2-B(PP4)'!$D$177","v":0},"#'T2-B(PP4)'!$D$177"]
["pp4_bl4_11_4_units_out",{"$f":"'T2-B(PP4)'!$G$177","v":0},"#'T2-B(PP4)'!$G$177"]
["pp4_bl4_11_5_name",{"$f":"'T2-B(PP4)'!$B$178","v":0},"#'T2-B(PP4)'!$B$178"]
["pp4_bl4_11_5_rate_in",{"$f":"'T2-B(PP4)'!$E$178","v":0},"#'T2-B(PP4)'!$E$178"]
["pp4_bl4_11_5_rate_out",{"$f":"'T2-B(PP4)'!$H$178","v":0},"#'T2-B(PP4)'!$H$178"]
["pp4_bl4_11_5_total",{"$f":"'T2-B(PP4)'!$J$178","v":0},"#'T2-B(PP4)'!$J$178"]
["pp4_bl4_11_5_total_in",{"$f":"'T2-B(PP4)'!$F$178","v":0},"#'T2-B(PP4)'!$F$178"]
["pp4_bl4_11_5_total_out",{"$f":"'T2-B(PP4)'!$I$178","v":0},"#'T2-B(PP4)'!$I$178"]
["pp4_bl4_11_5_unit",{"$f":"'T2-B(PP4)'!$C$178","v":0},"#'T2-B(PP4)'!$C$178"]
["pp4_bl4_11_5_unit_in",{"$f":"'T2-B(PP4)'!$D$178","v":0},"#'T2-B(PP4)'!$D$178"]
["pp4_bl4_11_5_units_out",{"$f":"'T2-B(PP4)'!$G$178","v":0},"#'T2-B(PP4)'!$G$178"]
["pp4_bl4_11_6_name",{"$f":"'T2-B(PP4)'!$B$179","v":0},"#'T2-B(PP4)'!$B$179"]
["pp4_bl4_11_6_rate_in",{"$f":"'T2-B(PP4)'!$E$179","v":0},"#'T2-B(PP4)'!$E$179"]
["pp4_bl4_11_6_rate_out",{"$f":"'T2-B(PP4)'!$H$179","v":0},"#'T2-B(PP4)'!$H$179"]
["pp4_bl4_11_6_total",{"$f":"'T2-B(PP4)'!$J$179","v":0},"#'T2-B(PP4)'!$J$179"]
["pp4_bl4_11_6_total_in",{"$f":"'T2-B(PP4)'!$F$179","v":0},"#'T2-B(PP4)'!$F$179"]
["pp4_bl4_11_6_total_out",{"$f":"'T2-B(PP4)'!$I$179","v":0},"#'T2-B(PP4)'!$I$179"]
["pp4_bl4_11_6_unit",{"$f":"'T2-B(PP4)'!$C$179","v":0},"#'T2-B(PP4)'!$C$179"]
["pp4_bl4_11_6_unit_in",{"$f":"'T2-B(PP4)'!$D$179","v":0},"#'T2-B(PP4)'!$D$179"]
["pp4_bl4_11_6_units_out",{"$f":"'T2-B(PP4)'!$G$179","v":0},"#'T2-B(PP4)'!$G$179"]
["pp4_bl4_11_7_name",{"$f":"'T2-B(PP4)'!$B$180","v":0},"#'T2-B(PP4)'!$B$180"]
["pp4_bl4_11_7_rate_in",{"$f":"'T2-B(PP4)'!$E$180","v":0},"#'T2-B(PP4)'!$E$180"]
["pp4_bl4_11_7_rate_out",{"$f":"'T2-B(PP4)'!$H$180","v":0},"#'T2-B(PP4)'!$H$180"]
["pp4_bl4_11_7_total",{"$f":"'T2-B(PP4)'!$J$180","v":0},"#'T2-B(PP4)'!$J$180"]
["pp4_bl4_11_7_total_in",{"$f":"'T2-B(PP4)'!$F$180","v":0},"#'T2-B(PP4)'!$F$180"]
["pp4_bl4_11_7_total_out",{"$f":"'T2-B(PP4)'!$I$180","v":0},"#'T2-B(PP4)'!$I$180"]
["pp4_bl4_11_7_unit",{"$f":"'T2-B(PP4)'!$C$180","v":0},"#'T2-B(PP4)'!$C$180"]
["pp4_bl4_11_7_unit_in",{"$f":"'T2-B(PP4)'!$D$180","v":0},"#'T2-B(PP4)'!$D$180"]
["pp4_bl4_11_7_units_out",{"$f":"'T2-B(PP4)'!$G$180","v":0},"#'T2-B(PP4)'!$G$180"]
["pp4_bl4_11_8_name",{"$f":"'T2-B(PP4)'!$B$181","v":0},"#'T2-B(PP4)'!$B$181"]
["pp4_bl4_11_8_rate_in",{"$f":"'T2-B(PP4)'!$E$181","v":0},"#'T2-B(PP4)'!$E$181"]
["pp4_bl4_11_8_rate_out",{"$f":"'T2-B(PP4)'!$H$181","v":0},"#'T2-B(PP4)'!$H$181"]
["pp4_bl4_11_8_total",{"$f":"'T2-B(PP4)'!$J$181","v":0},"#'T2-B(PP4)'!$J$181"]
["pp4_bl4_11_8_total_in",{"$f":"'T2-B(PP4)'!$F$181","v":0},"#'T2-B(PP4)'!$F$181"]
["pp4_bl4_11_8_total_out",{"$f":"'T2-B(PP4)'!$I$181","v":0},"#'T2-B(PP4)'!$I$181"]
["pp4_bl4_11_8_unit",{"$f":"'T2-B(PP4)'!$C$181","v":0},"#'T2-B(PP4)'!$C$181"]
["pp4_bl4_11_8_unit_in",{"$f":"'T2-B(PP4)'!$D$181","v":0},"#'T2-B(PP4)'!$D$181"]
["pp4_bl4_11_8_units_out",{"$f":"'T2-B(PP4)'!$G$181","v":0},"#'T2-B(PP4)'!$G$181"]
["pp4_bl4_11_9_name",{"$f":"'T2-B(PP4)'!$B$182","v":0},"#'T2-B(PP4)'!$B$182"]
["pp4_bl4_11_9_rate_in",{"$f":"'T2-B(PP4)'!$E$182","v":0},"#'T2-B(PP4)'!$E$182"]
["pp4_bl4_11_9_rate_out",{"$f":"'T2-B(PP4)'!$H$182","v":0},"#'T2-B(PP4)'!$H$182"]
["pp4_bl4_11_9_total",{"$f":"'T2-B(PP4)'!$J$182","v":0},"#'T2-B(PP4)'!$J$182"]
["pp4_bl4_11_9_total_in",{"$f":"'T2-B(PP4)'!$F$182","v":0},"#'T2-B(PP4)'!$F$182"]
["pp4_bl4_11_9_total_out",{"$f":"'T2-B(PP4)'!$I$182","v":0},"#'T2-B(PP4)'!$I$182"]
["pp4_bl4_11_9_unit",{"$f":"'T2-B(PP4)'!$C$182","v":0},"#'T2-B(PP4)'!$C$182"]
["pp4_bl4_11_9_unit_in",{"$f":"'T2-B(PP4)'!$D$182","v":0},"#'T2-B(PP4)'!$D$182"]
["pp4_bl4_11_9_units_out",{"$f":"'T2-B(PP4)'!$G$182","v":0},"#'T2-B(PP4)'!$G$182"]
["pp4_bl4_11_total",{"$f":"'T2-B(PP4)'!$J$173","v":0},"#'T2-B(PP4)'!$J$173"]
["pp4_bl4_11_total_in",{"$f":"'T2-B(PP4)'!$F$173","v":0},"#'T2-B(PP4)'!$F$173"]
["pp4_bl4_11_total_out",{"$f":"'T2-B(PP4)'!$I$173","v":0},"#'T2-B(PP4)'!$I$173"]
["pp4_bl4_12_1_name",{"$f":"'T2-B(PP4)'!$B$185","v":0},"#'T2-B(PP4)'!$B$185"]
["pp4_bl4_12_1_rate_in",{"$f":"'T2-B(PP4)'!$E$185","v":0},"#'T2-B(PP4)'!$E$185"]
["pp4_bl4_12_1_rate_out",{"$f":"'T2-B(PP4)'!$H$185","v":0},"#'T2-B(PP4)'!$H$185"]
["pp4_bl4_12_1_total",{"$f":"'T2-B(PP4)'!$J$185","v":0},"#'T2-B(PP4)'!$J$185"]
["pp4_bl4_12_1_total_in",{"$f":"'T2-B(PP4)'!$F$185","v":0},"#'T2-B(PP4)'!$F$185"]
["pp4_bl4_12_1_total_out",{"$f":"'T2-B(PP4)'!$I$185","v":0},"#'T2-B(PP4)'!$I$185"]
["pp4_bl4_12_1_unit",{"$f":"'T2-B(PP4)'!$C$185","v":0},"#'T2-B(PP4)'!$C$185"]
["pp4_bl4_12_1_unit_in",{"$f":"'T2-B(PP4)'!$D$185","v":0},"#'T2-B(PP4)'!$D$185"]
["pp4_bl4_12_1_units_out",{"$f":"'T2-B(PP4)'!$G$185","v":0},"#'T2-B(PP4)'!$G$185"]
["pp4_bl4_12_10_name",{"$f":"'T2-B(PP4)'!$B$194","v":0},"#'T2-B(PP4)'!$B$194"]
["pp4_bl4_12_10_rate_in",{"$f":"'T2-B(PP4)'!$E$194","v":0},"#'T2-B(PP4)'!$E$194"]
["pp4_bl4_12_10_rate_out",{"$f":"'T2-B(PP4)'!$H$194","v":0},"#'T2-B(PP4)'!$H$194"]
["pp4_bl4_12_10_total",{"$f":"'T2-B(PP4)'!$J$194","v":0},"#'T2-B(PP4)'!$J$194"]
["pp4_bl4_12_10_total_in",{"$f":"'T2-B(PP4)'!$F$194","v":0},"#'T2-B(PP4)'!$F$194"]
["pp4_bl4_12_10_total_out",{"$f":"'T2-B(PP4)'!$I$194","v":0},"#'T2-B(PP4)'!$I$194"]
["pp4_bl4_12_10_unit",{"$f":"'T2-B(PP4)'!$C$194","v":0},"#'T2-B(PP4)'!$C$194"]
["pp4_bl4_12_10_unit_in",{"$f":"'T2-B(PP4)'!$D$194","v":0},"#'T2-B(PP4)'!$D$194"]
["pp4_bl4_12_10_units_out",{"$f":"'T2-B(PP4)'!$G$194","v":0},"#'T2-B(PP4)'!$G$194"]
["pp4_bl4_12_2_name",{"$f":"'T2-B(PP4)'!$B$186","v":0},"#'T2-B(PP4)'!$B$186"]
["pp4_bl4_12_2_rate_in",{"$f":"'T2-B(PP4)'!$E$186","v":0},"#'T2-B(PP4)'!$E$186"]
["pp4_bl4_12_2_rate_out",{"$f":"'T2-B(PP4)'!$H$186","v":0},"#'T2-B(PP4)'!$H$186"]
["pp4_bl4_12_2_total",{"$f":"'T2-B(PP4)'!$J$186","v":0},"#'T2-B(PP4)'!$J$186"]
["pp4_bl4_12_2_total_in",{"$f":"'T2-B(PP4)'!$F$186","v":0},"#'T2-B(PP4)'!$F$186"]
["pp4_bl4_12_2_total_out",{"$f":"'T2-B(PP4)'!$I$186","v":0},"#'T2-B(PP4)'!$I$186"]
["pp4_bl4_12_2_unit",{"$f":"'T2-B(PP4)'!$C$186","v":0},"#'T2-B(PP4)'!$C$186"]
["pp4_bl4_12_2_unit_in",{"$f":"'T2-B(PP4)'!$D$186","v":0},"#'T2-B(PP4)'!$D$186"]
["pp4_bl4_12_2_units_out",{"$f":"'T2-B(PP4)'!$G$186","v":0},"#'T2-B(PP4)'!$G$186"]
["pp4_bl4_12_3_name",{"$f":"'T2-B(PP4)'!$B$187","v":0},"#'T2-B(PP4)'!$B$187"]
["pp4_bl4_12_3_rate_in",{"$f":"'T2-B(PP4)'!$E$187","v":0},"#'T2-B(PP4)'!$E$187"]
["pp4_bl4_12_3_rate_out",{"$f":"'T2-B(PP4)'!$H$187","v":0},"#'T2-B(PP4)'!$H$187"]
["pp4_bl4_12_3_total",{"$f":"'T2-B(PP4)'!$J$187","v":0},"#'T2-B(PP4)'!$J$187"]
["pp4_bl4_12_3_total_in",{"$f":"'T2-B(PP4)'!$F$187","v":0},"#'T2-B(PP4)'!$F$187"]
["pp4_bl4_12_3_total_out",{"$f":"'T2-B(PP4)'!$I$187","v":0},"#'T2-B(PP4)'!$I$187"]
["pp4_bl4_12_3_unit",{"$f":"'T2-B(PP4)'!$C$187","v":0},"#'T2-B(PP4)'!$C$187"]
["pp4_bl4_12_3_unit_in",{"$f":"'T2-B(PP4)'!$D$187","v":0},"#'T2-B(PP4)'!$D$187"]
["pp4_bl4_12_3_units_out",{"$f":"'T2-B(PP4)'!$G$187","v":0},"#'T2-B(PP4)'!$G$187"]
["pp4_bl4_12_4_name",{"$f":"'T2-B(PP4)'!$B$188","v":0},"#'T2-B(PP4)'!$B$188"]
["pp4_bl4_12_4_rate_in",{"$f":"'T2-B(PP4)'!$E$188","v":0},"#'T2-B(PP4)'!$E$188"]
["pp4_bl4_12_4_rate_out",{"$f":"'T2-B(PP4)'!$H$188","v":0},"#'T2-B(PP4)'!$H$188"]
["pp4_bl4_12_4_total",{"$f":"'T2-B(PP4)'!$J$188","v":0},"#'T2-B(PP4)'!$J$188"]
["pp4_bl4_12_4_total_in",{"$f":"'T2-B(PP4)'!$F$188","v":0},"#'T2-B(PP4)'!$F$188"]
["pp4_bl4_12_4_total_out",{"$f":"'T2-B(PP4)'!$I$188","v":0},"#'T2-B(PP4)'!$I$188"]
["pp4_bl4_12_4_unit",{"$f":"'T2-B(PP4)'!$C$188","v":0},"#'T2-B(PP4)'!$C$188"]
["pp4_bl4_12_4_unit_in",{"$f":"'T2-B(PP4)'!$D$188","v":0},"#'T2-B(PP4)'!$D$188"]
["pp4_bl4_12_4_units_out",{"$f":"'T2-B(PP4)'!$G$188","v":0},"#'T2-B(PP4)'!$G$188"]
["pp4_bl4_12_5_name",{"$f":"'T2-B(PP4)'!$B$189","v":0},"#'T2-B(PP4)'!$B$189"]
["pp4_bl4_12_5_rate_in",{"$f":"'T2-B(PP4)'!$E$189","v":0},"#'T2-B(PP4)'!$E$189"]
["pp4_bl4_12_5_rate_out",{"$f":"'T2-B(PP4)'!$H$189","v":0},"#'T2-B(PP4)'!$H$189"]
["pp4_bl4_12_5_total",{"$f":"'T2-B(PP4)'!$J$189","v":0},"#'T2-B(PP4)'!$J$189"]
["pp4_bl4_12_5_total_in",{"$f":"'T2-B(PP4)'!$F$189","v":0},"#'T2-B(PP4)'!$F$189"]
["pp4_bl4_12_5_total_out",{"$f":"'T2-B(PP4)'!$I$189","v":0},"#'T2-B(PP4)'!$I$189"]
["pp4_bl4_12_5_unit",{"$f":"'T2-B(PP4)'!$C$189","v":0},"#'T2-B(PP4)'!$C$189"]
["pp4_bl4_12_5_unit_in",{"$f":"'T2-B(PP4)'!$D$189","v":0},"#'T2-B(PP4)'!$D$189"]
["pp4_bl4_12_5_units_out",{"$f":"'T2-B(PP4)'!$G$189","v":0},"#'T2-B(PP4)'!$G$189"]
["pp4_bl4_12_6_name",{"$f":"'T2-B(PP4)'!$B$190","v":0},"#'T2-B(PP4)'!$B$190"]
["pp4_bl4_12_6_rate_in",{"$f":"'T2-B(PP4)'!$E$190","v":0},"#'T2-B(PP4)'!$E$190"]
["pp4_bl4_12_6_rate_out",{"$f":"'T2-B(PP4)'!$H$190","v":0},"#'T2-B(PP4)'!$H$190"]
["pp4_bl4_12_6_total",{"$f":"'T2-B(PP4)'!$J$190","v":0},"#'T2-B(PP4)'!$J$190"]
["pp4_bl4_12_6_total_in",{"$f":"'T2-B(PP4)'!$F$190","v":0},"#'T2-B(PP4)'!$F$190"]
["pp4_bl4_12_6_total_out",{"$f":"'T2-B(PP4)'!$I$190","v":0},"#'T2-B(PP4)'!$I$190"]
["pp4_bl4_12_6_unit",{"$f":"'T2-B(PP4)'!$C$190","v":0},"#'T2-B(PP4)'!$C$190"]
["pp4_bl4_12_6_unit_in",{"$f":"'T2-B(PP4)'!$D$190","v":0},"#'T2-B(PP4)'!$D$190"]
["pp4_bl4_12_6_units_out",{"$f":"'T2-B(PP4)'!$G$190","v":0},"#'T2-B(PP4)'!$G$190"]
["pp4_bl4_12_7_name",{"$f":"'T2-B(PP4)'!$B$191","v":0},"#'T2-B(PP4)'!$B$191"]
["pp4_bl4_12_7_rate_in",{"$f":"'T2-B(PP4)'!$E$191","v":0},"#'T2-B(PP4)'!$E$191"]
["pp4_bl4_12_7_rate_out",{"$f":"'T2-B(PP4)'!$H$191","v":0},"#'T2-B(PP4)'!$H$191"]
["pp4_bl4_12_7_total",{"$f":"'T2-B(PP4)'!$J$191","v":0},"#'T2-B(PP4)'!$J$191"]
["pp4_bl4_12_7_total_in",{"$f":"'T2-B(PP4)'!$F$191","v":0},"#'T2-B(PP4)'!$F$191"]
["pp4_bl4_12_7_total_out",{"$f":"'T2-B(PP4)'!$I$191","v":0},"#'T2-B(PP4)'!$I$191"]
["pp4_bl4_12_7_unit",{"$f":"'T2-B(PP4)'!$C$191","v":0},"#'T2-B(PP4)'!$C$191"]
["pp4_bl4_12_7_unit_in",{"$f":"'T2-B(PP4)'!$D$191","v":0},"#'T2-B(PP4)'!$D$191"]
["pp4_bl4_12_7_units_out",{"$f":"'T2-B(PP4)'!$G$191","v":0},"#'T2-B(PP4)'!$G$191"]
["pp4_bl4_12_8_name",{"$f":"'T2-B(PP4)'!$B$192","v":0},"#'T2-B(PP4)'!$B$192"]
["pp4_bl4_12_8_rate_in",{"$f":"'T2-B(PP4)'!$E$192","v":0},"#'T2-B(PP4)'!$E$192"]
["pp4_bl4_12_8_rate_out",{"$f":"'T2-B(PP4)'!$H$192","v":0},"#'T2-B(PP4)'!$H$192"]
["pp4_bl4_12_8_total",{"$f":"'T2-B(PP4)'!$J$192","v":0},"#'T2-B(PP4)'!$J$192"]
["pp4_bl4_12_8_total_in",{"$f":"'T2-B(PP4)'!$F$192","v":0},"#'T2-B(PP4)'!$F$192"]
["pp4_bl4_12_8_total_out",{"$f":"'T2-B(PP4)'!$I$192","v":0},"#'T2-B(PP4)'!$I$192"]
["pp4_bl4_12_8_unit",{"$f":"'T2-B(PP4)'!$C$192","v":0},"#'T2-B(PP4)'!$C$192"]
["pp4_bl4_12_8_unit_in",{"$f":"'T2-B(PP4)'!$D$192","v":0},"#'T2-B(PP4)'!$D$192"]
["pp4_bl4_12_8_units_out",{"$f":"'T2-B(PP4)'!$G$192","v":0},"#'T2-B(PP4)'!$G$192"]
["pp4_bl4_12_9_name",{"$f":"'T2-B(PP4)'!$B$193","v":0},"#'T2-B(PP4)'!$B$193"]
["pp4_bl4_12_9_rate_in",{"$f":"'T2-B(PP4)'!$E$193","v":0},"#'T2-B(PP4)'!$E$193"]
["pp4_bl4_12_9_rate_out",{"$f":"'T2-B(PP4)'!$H$193","v":0},"#'T2-B(PP4)'!$H$193"]
["pp4_bl4_12_9_total",{"$f":"'T2-B(PP4)'!$J$193","v":0},"#'T2-B(PP4)'!$J$193"]
["pp4_bl4_12_9_total_in",{"$f":"'T2-B(PP4)'!$F$193","v":0},"#'T2-B(PP4)'!$F$193"]
["pp4_bl4_12_9_total_out",{"$f":"'T2-B(PP4)'!$I$193","v":0},"#'T2-B(PP4)'!$I$193"]
["pp4_bl4_12_9_unit",{"$f":"'T2-B(PP4)'!$C$193","v":0},"#'T2-B(PP4)'!$C$193"]
["pp4_bl4_12_9_unit_in",{"$f":"'T2-B(PP4)'!$D$193","v":0},"#'T2-B(PP4)'!$D$193"]
["pp4_bl4_12_9_units_out",{"$f":"'T2-B(PP4)'!$G$193","v":0},"#'T2-B(PP4)'!$G$193"]
["pp4_bl4_12_total",{"$f":"'T2-B(PP4)'!$J$184","v":0},"#'T2-B(PP4)'!$J$184"]
["pp4_bl4_12_total_in",{"$f":"'T2-B(PP4)'!$F$184","v":0},"#'T2-B(PP4)'!$F$184"]
["pp4_bl4_12_total_out",{"$f":"'T2-B(PP4)'!$I$184","v":0},"#'T2-B(PP4)'!$I$184"]
["pp4_bl4_13_1_name",{"$f":"'T2-B(PP4)'!$B$196","v":0},"#'T2-B(PP4)'!$B$196"]
["pp4_bl4_13_1_rate_in",{"$f":"'T2-B(PP4)'!$E$196","v":0},"#'T2-B(PP4)'!$E$196"]
["pp4_bl4_13_1_rate_out",{"$f":"'T2-B(PP4)'!$H$196","v":0},"#'T2-B(PP4)'!$H$196"]
["pp4_bl4_13_1_total",{"$f":"'T2-B(PP4)'!$J$196","v":0},"#'T2-B(PP4)'!$J$196"]
["pp4_bl4_13_1_total_in",{"$f":"'T2-B(PP4)'!$F$196","v":0},"#'T2-B(PP4)'!$F$196"]
["pp4_bl4_13_1_total_out",{"$f":"'T2-B(PP4)'!$I$196","v":0},"#'T2-B(PP4)'!$I$196"]
["pp4_bl4_13_1_unit",{"$f":"'T2-B(PP4)'!$C$196","v":0},"#'T2-B(PP4)'!$C$196"]
["pp4_bl4_13_1_unit_in",{"$f":"'T2-B(PP4)'!$D$196","v":0},"#'T2-B(PP4)'!$D$196"]
["pp4_bl4_13_1_units_out",{"$f":"'T2-B(PP4)'!$G$196","v":0},"#'T2-B(PP4)'!$G$196"]
["pp4_bl4_13_10_name",{"$f":"'T2-B(PP4)'!$B$205","v":0},"#'T2-B(PP4)'!$B$205"]
["pp4_bl4_13_10_rate_in",{"$f":"'T2-B(PP4)'!$E$205","v":0},"#'T2-B(PP4)'!$E$205"]
["pp4_bl4_13_10_rate_out",{"$f":"'T2-B(PP4)'!$H$205","v":0},"#'T2-B(PP4)'!$H$205"]
["pp4_bl4_13_10_total",{"$f":"'T2-B(PP4)'!$J$205","v":0},"#'T2-B(PP4)'!$J$205"]
["pp4_bl4_13_10_total_in",{"$f":"'T2-B(PP4)'!$F$205","v":0},"#'T2-B(PP4)'!$F$205"]
["pp4_bl4_13_10_total_out",{"$f":"'T2-B(PP4)'!$I$205","v":0},"#'T2-B(PP4)'!$I$205"]
["pp4_bl4_13_10_unit",{"$f":"'T2-B(PP4)'!$C$205","v":0},"#'T2-B(PP4)'!$C$205"]
["pp4_bl4_13_10_unit_in",{"$f":"'T2-B(PP4)'!$D$205","v":0},"#'T2-B(PP4)'!$D$205"]
["pp4_bl4_13_10_units_out",{"$f":"'T2-B(PP4)'!$G$205","v":0},"#'T2-B(PP4)'!$G$205"]
["pp4_bl4_13_2_name",{"$f":"'T2-B(PP4)'!$B$197","v":0},"#'T2-B(PP4)'!$B$197"]
["pp4_bl4_13_2_rate_in",{"$f":"'T2-B(PP4)'!$E$197","v":0},"#'T2-B(PP4)'!$E$197"]
["pp4_bl4_13_2_rate_out",{"$f":"'T2-B(PP4)'!$H$197","v":0},"#'T2-B(PP4)'!$H$197"]
["pp4_bl4_13_2_total",{"$f":"'T2-B(PP4)'!$J$197","v":0},"#'T2-B(PP4)'!$J$197"]
["pp4_bl4_13_2_total_in",{"$f":"'T2-B(PP4)'!$F$197","v":0},"#'T2-B(PP4)'!$F$197"]
["pp4_bl4_13_2_total_out",{"$f":"'T2-B(PP4)'!$I$197","v":0},"#'T2-B(PP4)'!$I$197"]
["pp4_bl4_13_2_unit",{"$f":"'T2-B(PP4)'!$C$197","v":0},"#'T2-B(PP4)'!$C$197"]
["pp4_bl4_13_2_unit_in",{"$f":"'T2-B(PP4)'!$D$197","v":0},"#'T2-B(PP4)'!$D$197"]
["pp4_bl4_13_2_units_out",{"$f":"'T2-B(PP4)'!$G$197","v":0},"#'T2-B(PP4)'!$G$197"]
["pp4_bl4_13_3_name",{"$f":"'T2-B(PP4)'!$B$198","v":0},"#'T2-B(PP4)'!$B$198"]
["pp4_bl4_13_3_rate_in",{"$f":"'T2-B(PP4)'!$E$198","v":0},"#'T2-B(PP4)'!$E$198"]
["pp4_bl4_13_3_rate_out",{"$f":"'T2-B(PP4)'!$H$198","v":0},"#'T2-B(PP4)'!$H$198"]
["pp4_bl4_13_3_total",{"$f":"'T2-B(PP4)'!$J$198","v":0},"#'T2-B(PP4)'!$J$198"]
["pp4_bl4_13_3_total_in",{"$f":"'T2-B(PP4)'!$F$198","v":0},"#'T2-B(PP4)'!$F$198"]
["pp4_bl4_13_3_total_out",{"$f":"'T2-B(PP4)'!$I$198","v":0},"#'T2-B(PP4)'!$I$198"]
["pp4_bl4_13_3_unit",{"$f":"'T2-B(PP4)'!$C$198","v":0},"#'T2-B(PP4)'!$C$198"]
["pp4_bl4_13_3_unit_in",{"$f":"'T2-B(PP4)'!$D$198","v":0},"#'T2-B(PP4)'!$D$198"]
["pp4_bl4_13_3_units_out",{"$f":"'T2-B(PP4)'!$G$198","v":0},"#'T2-B(PP4)'!$G$198"]
["pp4_bl4_13_4_name",{"$f":"'T2-B(PP4)'!$B$199","v":0},"#'T2-B(PP4)'!$B$199"]
["pp4_bl4_13_4_rate_in",{"$f":"'T2-B(PP4)'!$E$199","v":0},"#'T2-B(PP4)'!$E$199"]
["pp4_bl4_13_4_rate_out",{"$f":"'T2-B(PP4)'!$H$199","v":0},"#'T2-B(PP4)'!$H$199"]
["pp4_bl4_13_4_total",{"$f":"'T2-B(PP4)'!$J$199","v":0},"#'T2-B(PP4)'!$J$199"]
["pp4_bl4_13_4_total_in",{"$f":"'T2-B(PP4)'!$F$199","v":0},"#'T2-B(PP4)'!$F$199"]
["pp4_bl4_13_4_total_out",{"$f":"'T2-B(PP4)'!$I$199","v":0},"#'T2-B(PP4)'!$I$199"]
["pp4_bl4_13_4_unit",{"$f":"'T2-B(PP4)'!$C$199","v":0},"#'T2-B(PP4)'!$C$199"]
["pp4_bl4_13_4_unit_in",{"$f":"'T2-B(PP4)'!$D$199","v":0},"#'T2-B(PP4)'!$D$199"]
["pp4_bl4_13_4_units_out",{"$f":"'T2-B(PP4)'!$G$199","v":0},"#'T2-B(PP4)'!$G$199"]
["pp4_bl4_13_5_name",{"$f":"'T2-B(PP4)'!$B$200","v":0},"#'T2-B(PP4)'!$B$200"]
["pp4_bl4_13_5_rate_in",{"$f":"'T2-B(PP4)'!$E$200","v":0},"#'T2-B(PP4)'!$E$200"]
["pp4_bl4_13_5_rate_out",{"$f":"'T2-B(PP4)'!$H$200","v":0},"#'T2-B(PP4)'!$H$200"]
["pp4_bl4_13_5_total",{"$f":"'T2-B(PP4)'!$J$200","v":0},"#'T2-B(PP4)'!$J$200"]
["pp4_bl4_13_5_total_in",{"$f":"'T2-B(PP4)'!$F$200","v":0},"#'T2-B(PP4)'!$F$200"]
["pp4_bl4_13_5_total_out",{"$f":"'T2-B(PP4)'!$I$200","v":0},"#'T2-B(PP4)'!$I$200"]
["pp4_bl4_13_5_unit",{"$f":"'T2-B(PP4)'!$C$200","v":0},"#'T2-B(PP4)'!$C$200"]
["pp4_bl4_13_5_unit_in",{"$f":"'T2-B(PP4)'!$D$200","v":0},"#'T2-B(PP4)'!$D$200"]
["pp4_bl4_13_5_units_out",{"$f":"'T2-B(PP4)'!$G$200","v":0},"#'T2-B(PP4)'!$G$200"]
["pp4_bl4_13_6_name",{"$f":"'T2-B(PP4)'!$B$201","v":0},"#'T2-B(PP4)'!$B$201"]
["pp4_bl4_13_6_rate_in",{"$f":"'T2-B(PP4)'!$E$201","v":0},"#'T2-B(PP4)'!$E$201"]
["pp4_bl4_13_6_rate_out",{"$f":"'T2-B(PP4)'!$H$201","v":0},"#'T2-B(PP4)'!$H$201"]
["pp4_bl4_13_6_total",{"$f":"'T2-B(PP4)'!$J$201","v":0},"#'T2-B(PP4)'!$J$201"]
["pp4_bl4_13_6_total_in",{"$f":"'T2-B(PP4)'!$F$201","v":0},"#'T2-B(PP4)'!$F$201"]
["pp4_bl4_13_6_total_out",{"$f":"'T2-B(PP4)'!$I$201","v":0},"#'T2-B(PP4)'!$I$201"]
["pp4_bl4_13_6_unit",{"$f":"'T2-B(PP4)'!$C$201","v":0},"#'T2-B(PP4)'!$C$201"]
["pp4_bl4_13_6_unit_in",{"$f":"'T2-B(PP4)'!$D$201","v":0},"#'T2-B(PP4)'!$D$201"]
["pp4_bl4_13_6_units_out",{"$f":"'T2-B(PP4)'!$G$201","v":0},"#'T2-B(PP4)'!$G$201"]
["pp4_bl4_13_7_name",{"$f":"'T2-B(PP4)'!$B$202","v":0},"#'T2-B(PP4)'!$B$202"]
["pp4_bl4_13_7_rate_in",{"$f":"'T2-B(PP4)'!$E$202","v":0},"#'T2-B(PP4)'!$E$202"]
["pp4_bl4_13_7_rate_out",{"$f":"'T2-B(PP4)'!$H$202","v":0},"#'T2-B(PP4)'!$H$202"]
["pp4_bl4_13_7_total",{"$f":"'T2-B(PP4)'!$J$202","v":0},"#'T2-B(PP4)'!$J$202"]
["pp4_bl4_13_7_total_in",{"$f":"'T2-B(PP4)'!$F$202","v":0},"#'T2-B(PP4)'!$F$202"]
["pp4_bl4_13_7_total_out",{"$f":"'T2-B(PP4)'!$I$202","v":0},"#'T2-B(PP4)'!$I$202"]
["pp4_bl4_13_7_unit",{"$f":"'T2-B(PP4)'!$C$202","v":0},"#'T2-B(PP4)'!$C$202"]
["pp4_bl4_13_7_unit_in",{"$f":"'T2-B(PP4)'!$D$202","v":0},"#'T2-B(PP4)'!$D$202"]
["pp4_bl4_13_7_units_out",{"$f":"'T2-B(PP4)'!$G$202","v":0},"#'T2-B(PP4)'!$G$202"]
["pp4_bl4_13_8_name",{"$f":"'T2-B(PP4)'!$B$203","v":0},"#'T2-B(PP4)'!$B$203"]
["pp4_bl4_13_8_rate_in",{"$f":"'T2-B(PP4)'!$E$203","v":0},"#'T2-B(PP4)'!$E$203"]
["pp4_bl4_13_8_rate_out",{"$f":"'T2-B(PP4)'!$H$203","v":0},"#'T2-B(PP4)'!$H$203"]
["pp4_bl4_13_8_total",{"$f":"'T2-B(PP4)'!$J$203","v":0},"#'T2-B(PP4)'!$J$203"]
["pp4_bl4_13_8_total_in",{"$f":"'T2-B(PP4)'!$F$203","v":0},"#'T2-B(PP4)'!$F$203"]
["pp4_bl4_13_8_total_out",{"$f":"'T2-B(PP4)'!$I$203","v":0},"#'T2-B(PP4)'!$I$203"]
["pp4_bl4_13_8_unit",{"$f":"'T2-B(PP4)'!$C$203","v":0},"#'T2-B(PP4)'!$C$203"]
["pp4_bl4_13_8_unit_in",{"$f":"'T2-B(PP4)'!$D$203","v":0},"#'T2-B(PP4)'!$D$203"]
["pp4_bl4_13_8_units_out",{"$f":"'T2-B(PP4)'!$G$203","v":0},"#'T2-B(PP4)'!$G$203"]
["pp4_bl4_13_9_name",{"$f":"'T2-B(PP4)'!$B$204","v":0},"#'T2-B(PP4)'!$B$204"]
["pp4_bl4_13_9_rate_in",{"$f":"'T2-B(PP4)'!$E$204","v":0},"#'T2-B(PP4)'!$E$204"]
["pp4_bl4_13_9_rate_out",{"$f":"'T2-B(PP4)'!$H$204","v":0},"#'T2-B(PP4)'!$H$204"]
["pp4_bl4_13_9_total",{"$f":"'T2-B(PP4)'!$J$204","v":0},"#'T2-B(PP4)'!$J$204"]
["pp4_bl4_13_9_total_in",{"$f":"'T2-B(PP4)'!$F$204","v":0},"#'T2-B(PP4)'!$F$204"]
["pp4_bl4_13_9_total_out",{"$f":"'T2-B(PP4)'!$I$204","v":0},"#'T2-B(PP4)'!$I$204"]
["pp4_bl4_13_9_unit",{"$f":"'T2-B(PP4)'!$C$204","v":0},"#'T2-B(PP4)'!$C$204"]
["pp4_bl4_13_9_unit_in",{"$f":"'T2-B(PP4)'!$D$204","v":0},"#'T2-B(PP4)'!$D$204"]
["pp4_bl4_13_9_units_out",{"$f":"'T2-B(PP4)'!$G$204","v":0},"#'T2-B(PP4)'!$G$204"]
["pp4_bl4_13_total",{"$f":"'T2-B(PP4)'!$J$195","v":0},"#'T2-B(PP4)'!$J$195"]
["pp4_bl4_13_total_in",{"$f":"'T2-B(PP4)'!$F$195","v":0},"#'T2-B(PP4)'!$F$195"]
["pp4_bl4_13_total_out",{"$f":"'T2-B(PP4)'!$I$195","v":0},"#'T2-B(PP4)'!$I$195"]
["pp4_bl4_14_1_name",{"$f":"'T2-B(PP4)'!$B$207","v":0},"#'T2-B(PP4)'!$B$207"]
["pp4_bl4_14_1_rate_in",{"$f":"'T2-B(PP4)'!$E$207","v":0},"#'T2-B(PP4)'!$E$207"]
["pp4_bl4_14_1_rate_out",{"$f":"'T2-B(PP4)'!$H$207","v":0},"#'T2-B(PP4)'!$H$207"]
["pp4_bl4_14_1_total",{"$f":"'T2-B(PP4)'!$J$207","v":0},"#'T2-B(PP4)'!$J$207"]
["pp4_bl4_14_1_total_in",{"$f":"'T2-B(PP4)'!$F$207","v":0},"#'T2-B(PP4)'!$F$207"]
["pp4_bl4_14_1_total_out",{"$f":"'T2-B(PP4)'!$I$207","v":0},"#'T2-B(PP4)'!$I$207"]
["pp4_bl4_14_1_unit",{"$f":"'T2-B(PP4)'!$C$207","v":0},"#'T2-B(PP4)'!$C$207"]
["pp4_bl4_14_1_unit_in",{"$f":"'T2-B(PP4)'!$D$207","v":0},"#'T2-B(PP4)'!$D$207"]
["pp4_bl4_14_1_units_out",{"$f":"'T2-B(PP4)'!$G$207","v":0},"#'T2-B(PP4)'!$G$207"]
["pp4_bl4_14_10_name",{"$f":"'T2-B(PP4)'!$B$216","v":0},"#'T2-B(PP4)'!$B$216"]
["pp4_bl4_14_10_rate_in",{"$f":"'T2-B(PP4)'!$E$216","v":0},"#'T2-B(PP4)'!$E$216"]
["pp4_bl4_14_10_rate_out",{"$f":"'T2-B(PP4)'!$H$216","v":0},"#'T2-B(PP4)'!$H$216"]
["pp4_bl4_14_10_total",{"$f":"'T2-B(PP4)'!$J$216","v":0},"#'T2-B(PP4)'!$J$216"]
["pp4_bl4_14_10_total_in",{"$f":"'T2-B(PP4)'!$F$216","v":0},"#'T2-B(PP4)'!$F$216"]
["pp4_bl4_14_10_total_out",{"$f":"'T2-B(PP4)'!$I$216","v":0},"#'T2-B(PP4)'!$I$216"]
["pp4_bl4_14_10_unit",{"$f":"'T2-B(PP4)'!$C$216","v":0},"#'T2-B(PP4)'!$C$216"]
["pp4_bl4_14_10_unit_in",{"$f":"'T2-B(PP4)'!$D$216","v":0},"#'T2-B(PP4)'!$D$216"]
["pp4_bl4_14_10_units_out",{"$f":"'T2-B(PP4)'!$G$216","v":0},"#'T2-B(PP4)'!$G$216"]
["pp4_bl4_14_2_name",{"$f":"'T2-B(PP4)'!$B$208","v":0},"#'T2-B(PP4)'!$B$208"]
["pp4_bl4_14_2_rate_in",{"$f":"'T2-B(PP4)'!$E$208","v":0},"#'T2-B(PP4)'!$E$208"]
["pp4_bl4_14_2_rate_out",{"$f":"'T2-B(PP4)'!$H$208","v":0},"#'T2-B(PP4)'!$H$208"]
["pp4_bl4_14_2_total",{"$f":"'T2-B(PP4)'!$J$208","v":0},"#'T2-B(PP4)'!$J$208"]
["pp4_bl4_14_2_total_in",{"$f":"'T2-B(PP4)'!$F$208","v":0},"#'T2-B(PP4)'!$F$208"]
["pp4_bl4_14_2_total_out",{"$f":"'T2-B(PP4)'!$I$208","v":0},"#'T2-B(PP4)'!$I$208"]
["pp4_bl4_14_2_unit",{"$f":"'T2-B(PP4)'!$C$208","v":0},"#'T2-B(PP4)'!$C$208"]
["pp4_bl4_14_2_unit_in",{"$f":"'T2-B(PP4)'!$D$208","v":0},"#'T2-B(PP4)'!$D$208"]
["pp4_bl4_14_2_units_out",{"$f":"'T2-B(PP4)'!$G$208","v":0},"#'T2-B(PP4)'!$G$208"]
["pp4_bl4_14_3_name",{"$f":"'T2-B(PP4)'!$B$209","v":0},"#'T2-B(PP4)'!$B$209"]
["pp4_bl4_14_3_rate_in",{"$f":"'T2-B(PP4)'!$E$209","v":0},"#'T2-B(PP4)'!$E$209"]
["pp4_bl4_14_3_rate_out",{"$f":"'T2-B(PP4)'!$H$209","v":0},"#'T2-B(PP4)'!$H$209"]
["pp4_bl4_14_3_total",{"$f":"'T2-B(PP4)'!$J$209","v":0},"#'T2-B(PP4)'!$J$209"]
["pp4_bl4_14_3_total_in",{"$f":"'T2-B(PP4)'!$F$209","v":0},"#'T2-B(PP4)'!$F$209"]
["pp4_bl4_14_3_total_out",{"$f":"'T2-B(PP4)'!$I$209","v":0},"#'T2-B(PP4)'!$I$209"]
["pp4_bl4_14_3_unit",{"$f":"'T2-B(PP4)'!$C$209","v":0},"#'T2-B(PP4)'!$C$209"]
["pp4_bl4_14_3_unit_in",{"$f":"'T2-B(PP4)'!$D$209","v":0},"#'T2-B(PP4)'!$D$209"]
["pp4_bl4_14_3_units_out",{"$f":"'T2-B(PP4)'!$G$209","v":0},"#'T2-B(PP4)'!$G$209"]
["pp4_bl4_14_4_name",{"$f":"'T2-B(PP4)'!$B$210","v":0},"#'T2-B(PP4)'!$B$210"]
["pp4_bl4_14_4_rate_in",{"$f":"'T2-B(PP4)'!$E$210","v":0},"#'T2-B(PP4)'!$E$210"]
["pp4_bl4_14_4_rate_out",{"$f":"'T2-B(PP4)'!$H$210","v":0},"#'T2-B(PP4)'!$H$210"]
["pp4_bl4_14_4_total",{"$f":"'T2-B(PP4)'!$J$210","v":0},"#'T2-B(PP4)'!$J$210"]
["pp4_bl4_14_4_total_in",{"$f":"'T2-B(PP4)'!$F$210","v":0},"#'T2-B(PP4)'!$F$210"]
["pp4_bl4_14_4_total_out",{"$f":"'T2-B(PP4)'!$I$210","v":0},"#'T2-B(PP4)'!$I$210"]
["pp4_bl4_14_4_unit",{"$f":"'T2-B(PP4)'!$C$210","v":0},"#'T2-B(PP4)'!$C$210"]
["pp4_bl4_14_4_unit_in",{"$f":"'T2-B(PP4)'!$D$210","v":0},"#'T2-B(PP4)'!$D$210"]
["pp4_bl4_14_4_units_out",{"$f":"'T2-B(PP4)'!$G$210","v":0},"#'T2-B(PP4)'!$G$210"]
["pp4_bl4_14_5_name",{"$f":"'T2-B(PP4)'!$B$211","v":0},"#'T2-B(PP4)'!$B$211"]
["pp4_bl4_14_5_rate_in",{"$f":"'T2-B(PP4)'!$E$211","v":0},"#'T2-B(PP4)'!$E$211"]
["pp4_bl4_14_5_rate_out",{"$f":"'T2-B(PP4)'!$H$211","v":0},"#'T2-B(PP4)'!$H$211"]
["pp4_bl4_14_5_total",{"$f":"'T2-B(PP4)'!$J$211","v":0},"#'T2-B(PP4)'!$J$211"]
["pp4_bl4_14_5_total_in",{"$f":"'T2-B(PP4)'!$F$211","v":0},"#'T2-B(PP4)'!$F$211"]
["pp4_bl4_14_5_total_out",{"$f":"'T2-B(PP4)'!$I$211","v":0},"#'T2-B(PP4)'!$I$211"]
["pp4_bl4_14_5_unit",{"$f":"'T2-B(PP4)'!$C$211","v":0},"#'T2-B(PP4)'!$C$211"]
["pp4_bl4_14_5_unit_in",{"$f":"'T2-B(PP4)'!$D$211","v":0},"#'T2-B(PP4)'!$D$211"]
["pp4_bl4_14_5_units_out",{"$f":"'T2-B(PP4)'!$G$211","v":0},"#'T2-B(PP4)'!$G$211"]
["pp4_bl4_14_6_name",{"$f":"'T2-B(PP4)'!$B$212","v":0},"#'T2-B(PP4)'!$B$212"]
["pp4_bl4_14_6_rate_in",{"$f":"'T2-B(PP4)'!$E$212","v":0},"#'T2-B(PP4)'!$E$212"]
["pp4_bl4_14_6_rate_out",{"$f":"'T2-B(PP4)'!$H$212","v":0},"#'T2-B(PP4)'!$H$212"]
["pp4_bl4_14_6_total",{"$f":"'T2-B(PP4)'!$J$212","v":0},"#'T2-B(PP4)'!$J$212"]
["pp4_bl4_14_6_total_in",{"$f":"'T2-B(PP4)'!$F$212","v":0},"#'T2-B(PP4)'!$F$212"]
["pp4_bl4_14_6_total_out",{"$f":"'T2-B(PP4)'!$I$212","v":0},"#'T2-B(PP4)'!$I$212"]
["pp4_bl4_14_6_unit",{"$f":"'T2-B(PP4)'!$C$212","v":0},"#'T2-B(PP4)'!$C$212"]
["pp4_bl4_14_6_unit_in",{"$f":"'T2-B(PP4)'!$D$212","v":0},"#'T2-B(PP4)'!$D$212"]
["pp4_bl4_14_6_units_out",{"$f":"'T2-B(PP4)'!$G$212","v":0},"#'T2-B(PP4)'!$G$212"]
["pp4_bl4_14_7_name",{"$f":"'T2-B(PP4)'!$B$213","v":0},"#'T2-B(PP4)'!$B$213"]
["pp4_bl4_14_7_rate_in",{"$f":"'T2-B(PP4)'!$E$213","v":0},"#'T2-B(PP4)'!$E$213"]
["pp4_bl4_14_7_rate_out",{"$f":"'T2-B(PP4)'!$H$213","v":0},"#'T2-B(PP4)'!$H$213"]
["pp4_bl4_14_7_total",{"$f":"'T2-B(PP4)'!$J$213","v":0},"#'T2-B(PP4)'!$J$213"]
["pp4_bl4_14_7_total_in",{"$f":"'T2-B(PP4)'!$F$213","v":0},"#'T2-B(PP4)'!$F$213"]
["pp4_bl4_14_7_total_out",{"$f":"'T2-B(PP4)'!$I$213","v":0},"#'T2-B(PP4)'!$I$213"]
["pp4_bl4_14_7_unit",{"$f":"'T2-B(PP4)'!$C$213","v":0},"#'T2-B(PP4)'!$C$213"]
["pp4_bl4_14_7_unit_in",{"$f":"'T2-B(PP4)'!$D$213","v":0},"#'T2-B(PP4)'!$D$213"]
["pp4_bl4_14_7_units_out",{"$f":"'T2-B(PP4)'!$G$213","v":0},"#'T2-B(PP4)'!$G$213"]
["pp4_bl4_14_8_name",{"$f":"'T2-B(PP4)'!$B$214","v":0},"#'T2-B(PP4)'!$B$214"]
["pp4_bl4_14_8_rate_in",{"$f":"'T2-B(PP4)'!$E$214","v":0},"#'T2-B(PP4)'!$E$214"]
["pp4_bl4_14_8_rate_out",{"$f":"'T2-B(PP4)'!$H$214","v":0},"#'T2-B(PP4)'!$H$214"]
["pp4_bl4_14_8_total",{"$f":"'T2-B(PP4)'!$J$214","v":0},"#'T2-B(PP4)'!$J$214"]
["pp4_bl4_14_8_total_in",{"$f":"'T2-B(PP4)'!$F$214","v":0},"#'T2-B(PP4)'!$F$214"]
["pp4_bl4_14_8_total_out",{"$f":"'T2-B(PP4)'!$I$214","v":0},"#'T2-B(PP4)'!$I$214"]
["pp4_bl4_14_8_unit",{"$f":"'T2-B(PP4)'!$C$214","v":0},"#'T2-B(PP4)'!$C$214"]
["pp4_bl4_14_8_unit_in",{"$f":"'T2-B(PP4)'!$D$214","v":0},"#'T2-B(PP4)'!$D$214"]
["pp4_bl4_14_8_units_out",{"$f":"'T2-B(PP4)'!$G$214","v":0},"#'T2-B(PP4)'!$G$214"]
["pp4_bl4_14_9_name",{"$f":"'T2-B(PP4)'!$B$215","v":0},"#'T2-B(PP4)'!$B$215"]
["pp4_bl4_14_9_rate_in",{"$f":"'T2-B(PP4)'!$E$215","v":0},"#'T2-B(PP4)'!$E$215"]
["pp4_bl4_14_9_rate_out",{"$f":"'T2-B(PP4)'!$H$215","v":0},"#'T2-B(PP4)'!$H$215"]
["pp4_bl4_14_9_total",{"$f":"'T2-B(PP4)'!$J$215","v":0},"#'T2-B(PP4)'!$J$215"]
["pp4_bl4_14_9_total_in",{"$f":"'T2-B(PP4)'!$F$215","v":0},"#'T2-B(PP4)'!$F$215"]
["pp4_bl4_14_9_total_out",{"$f":"'T2-B(PP4)'!$I$215","v":0},"#'T2-B(PP4)'!$I$215"]
["pp4_bl4_14_9_unit",{"$f":"'T2-B(PP4)'!$C$215","v":0},"#'T2-B(PP4)'!$C$215"]
["pp4_bl4_14_9_unit_in",{"$f":"'T2-B(PP4)'!$D$215","v":0},"#'T2-B(PP4)'!$D$215"]
["pp4_bl4_14_9_units_out",{"$f":"'T2-B(PP4)'!$G$215","v":0},"#'T2-B(PP4)'!$G$215"]
["pp4_bl4_14_total",{"$f":"'T2-B(PP4)'!$J$206","v":0},"#'T2-B(PP4)'!$J$206"]
["pp4_bl4_14_total_in",{"$f":"'T2-B(PP4)'!$F$206","v":0},"#'T2-B(PP4)'!$F$206"]
["pp4_bl4_14_total_out",{"$f":"'T2-B(PP4)'!$I$206","v":0},"#'T2-B(PP4)'!$I$206"]
["pp4_bl4_2_1_name",{"$f":"'T2-B(PP4)'!$B$75","v":0},"#'T2-B(PP4)'!$B$75"]
["pp4_bl4_2_1_rate_in",{"$f":"'T2-B(PP4)'!$E$75","v":0},"#'T2-B(PP4)'!$E$75"]
["pp4_bl4_2_1_rate_out",{"$f":"'T2-B(PP4)'!$H$75","v":0},"#'T2-B(PP4)'!$H$75"]
["pp4_bl4_2_1_total",{"$f":"'T2-B(PP4)'!$J$75","v":0},"#'T2-B(PP4)'!$J$75"]
["pp4_bl4_2_1_total_in",{"$f":"'T2-B(PP4)'!$F$75","v":0},"#'T2-B(PP4)'!$F$75"]
["pp4_bl4_2_1_total_out",{"$f":"'T2-B(PP4)'!$I$75","v":0},"#'T2-B(PP4)'!$I$75"]
["pp4_bl4_2_1_unit",{"$f":"'T2-B(PP4)'!$C$75","v":0},"#'T2-B(PP4)'!$C$75"]
["pp4_bl4_2_1_unit_in",{"$f":"'T2-B(PP4)'!$D$75","v":0},"#'T2-B(PP4)'!$D$75"]
["pp4_bl4_2_1_units_out",{"$f":"'T2-B(PP4)'!$G$75","v":0},"#'T2-B(PP4)'!$G$75"]
["pp4_bl4_2_10_name",{"$f":"'T2-B(PP4)'!$B$84","v":0},"#'T2-B(PP4)'!$B$84"]
["pp4_bl4_2_10_rate_in",{"$f":"'T2-B(PP4)'!$E$84","v":0},"#'T2-B(PP4)'!$E$84"]
["pp4_bl4_2_10_rate_out",{"$f":"'T2-B(PP4)'!$H$84","v":0},"#'T2-B(PP4)'!$H$84"]
["pp4_bl4_2_10_total",{"$f":"'T2-B(PP4)'!$J$84","v":0},"#'T2-B(PP4)'!$J$84"]
["pp4_bl4_2_10_total_in",{"$f":"'T2-B(PP4)'!$F$84","v":0},"#'T2-B(PP4)'!$F$84"]
["pp4_bl4_2_10_total_out",{"$f":"'T2-B(PP4)'!$I$84","v":0},"#'T2-B(PP4)'!$I$84"]
["pp4_bl4_2_10_unit",{"$f":"'T2-B(PP4)'!$C$84","v":0},"#'T2-B(PP4)'!$C$84"]
["pp4_bl4_2_10_unit_in",{"$f":"'T2-B(PP4)'!$D$84","v":0},"#'T2-B(PP4)'!$D$84"]
["pp4_bl4_2_10_units_out",{"$f":"'T2-B(PP4)'!$G$84","v":0},"#'T2-B(PP4)'!$G$84"]
["pp4_bl4_2_2_name",{"$f":"'T2-B(PP4)'!$B$76","v":0},"#'T2-B(PP4)'!$B$76"]
["pp4_bl4_2_2_rate_in",{"$f":"'T2-B(PP4)'!$E$76","v":0},"#'T2-B(PP4)'!$E$76"]
["pp4_bl4_2_2_rate_out",{"$f":"'T2-B(PP4)'!$H$76","v":0},"#'T2-B(PP4)'!$H$76"]
["pp4_bl4_2_2_total",{"$f":"'T2-B(PP4)'!$J$76","v":0},"#'T2-B(PP4)'!$J$76"]
["pp4_bl4_2_2_total_in",{"$f":"'T2-B(PP4)'!$F$76","v":0},"#'T2-B(PP4)'!$F$76"]
["pp4_bl4_2_2_total_out",{"$f":"'T2-B(PP4)'!$I$76","v":0},"#'T2-B(PP4)'!$I$76"]
["pp4_bl4_2_2_unit",{"$f":"'T2-B(PP4)'!$C$76","v":0},"#'T2-B(PP4)'!$C$76"]
["pp4_bl4_2_2_unit_in",{"$f":"'T2-B(PP4)'!$D$76","v":0},"#'T2-B(PP4)'!$D$76"]
["pp4_bl4_2_2_units_out",{"$f":"'T2-B(PP4)'!$G$76","v":0},"#'T2-B(PP4)'!$G$76"]
["pp4_bl4_2_3_name",{"$f":"'T2-B(PP4)'!$B$77","v":0},"#'T2-B(PP4)'!$B$77"]
["pp4_bl4_2_3_rate_in",{"$f":"'T2-B(PP4)'!$E$77","v":0},"#'T2-B(PP4)'!$E$77"]
["pp4_bl4_2_3_rate_out",{"$f":"'T2-B(PP4)'!$H$77","v":0},"#'T2-B(PP4)'!$H$77"]
["pp4_bl4_2_3_total",{"$f":"'T2-B(PP4)'!$J$77","v":0},"#'T2-B(PP4)'!$J$77"]
["pp4_bl4_2_3_total_in",{"$f":"'T2-B(PP4)'!$F$77","v":0},"#'T2-B(PP4)'!$F$77"]
["pp4_bl4_2_3_total_out",{"$f":"'T2-B(PP4)'!$I$77","v":0},"#'T2-B(PP4)'!$I$77"]
["pp4_bl4_2_3_unit",{"$f":"'T2-B(PP4)'!$C$77","v":0},"#'T2-B(PP4)'!$C$77"]
["pp4_bl4_2_3_unit_in",{"$f":"'T2-B(PP4)'!$D$77","v":0},"#'T2-B(PP4)'!$D$77"]
["pp4_bl4_2_3_units_out",{"$f":"'T2-B(PP4)'!$G$77","v":0},"#'T2-B(PP4)'!$G$77"]
["pp4_bl4_2_4_name",{"$f":"'T2-B(PP4)'!$B$78","v":0},"#'T2-B(PP4)'!$B$78"]
["pp4_bl4_2_4_rate_in",{"$f":"'T2-B(PP4)'!$E$78","v":0},"#'T2-B(PP4)'!$E$78"]
["pp4_bl4_2_4_rate_out",{"$f":"'T2-B(PP4)'!$H$78","v":0},"#'T2-B(PP4)'!$H$78"]
["pp4_bl4_2_4_total",{"$f":"'T2-B(PP4)'!$J$78","v":0},"#'T2-B(PP4)'!$J$78"]
["pp4_bl4_2_4_total_in",{"$f":"'T2-B(PP4)'!$F$78","v":0},"#'T2-B(PP4)'!$F$78"]
["pp4_bl4_2_4_total_out",{"$f":"'T2-B(PP4)'!$I$78","v":0},"#'T2-B(PP4)'!$I$78"]
["pp4_bl4_2_4_unit",{"$f":"'T2-B(PP4)'!$C$78","v":0},"#'T2-B(PP4)'!$C$78"]
["pp4_bl4_2_4_unit_in",{"$f":"'T2-B(PP4)'!$D$78","v":0},"#'T2-B(PP4)'!$D$78"]
["pp4_bl4_2_4_units_out",{"$f":"'T2-B(PP4)'!$G$78","v":0},"#'T2-B(PP4)'!$G$78"]
["pp4_bl4_2_5_name",{"$f":"'T2-B(PP4)'!$B$79","v":0},"#'T2-B(PP4)'!$B$79"]
["pp4_bl4_2_5_rate_in",{"$f":"'T2-B(PP4)'!$E$79","v":0},"#'T2-B(PP4)'!$E$79"]
["pp4_bl4_2_5_rate_out",{"$f":"'T2-B(PP4)'!$H$79","v":0},"#'T2-B(PP4)'!$H$79"]
["pp4_bl4_2_5_total",{"$f":"'T2-B(PP4)'!$J$79","v":0},"#'T2-B(PP4)'!$J$79"]
["pp4_bl4_2_5_total_in",{"$f":"'T2-B(PP4)'!$F$79","v":0},"#'T2-B(PP4)'!$F$79"]
["pp4_bl4_2_5_total_out",{"$f":"'T2-B(PP4)'!$I$79","v":0},"#'T2-B(PP4)'!$I$79"]
["pp4_bl4_2_5_unit",{"$f":"'T2-B(PP4)'!$C$79","v":0},"#'T2-B(PP4)'!$C$79"]
["pp4_bl4_2_5_unit_in",{"$f":"'T2-B(PP4)'!$D$79","v":0},"#'T2-B(PP4)'!$D$79"]
["pp4_bl4_2_5_units_out",{"$f":"'T2-B(PP4)'!$G$79","v":0},"#'T2-B(PP4)'!$G$79"]
["pp4_bl4_2_6_name",{"$f":"'T2-B(PP4)'!$B$80","v":0},"#'T2-B(PP4)'!$B$80"]
["pp4_bl4_2_6_rate_in",{"$f":"'T2-B(PP4)'!$E$80","v":0},"#'T2-B(PP4)'!$E$80"]
["pp4_bl4_2_6_rate_out",{"$f":"'T2-B(PP4)'!$H$80","v":0},"#'T2-B(PP4)'!$H$80"]
["pp4_bl4_2_6_total",{"$f":"'T2-B(PP4)'!$J$80","v":0},"#'T2-B(PP4)'!$J$80"]
["pp4_bl4_2_6_total_in",{"$f":"'T2-B(PP4)'!$F$80","v":0},"#'T2-B(PP4)'!$F$80"]
["pp4_bl4_2_6_total_out",{"$f":"'T2-B(PP4)'!$I$80","v":0},"#'T2-B(PP4)'!$I$80"]
["pp4_bl4_2_6_unit",{"$f":"'T2-B(PP4)'!$C$80","v":0},"#'T2-B(PP4)'!$C$80"]
["pp4_bl4_2_6_unit_in",{"$f":"'T2-B(PP4)'!$D$80","v":0},"#'T2-B(PP4)'!$D$80"]
["pp4_bl4_2_6_units_out",{"$f":"'T2-B(PP4)'!$G$80","v":0},"#'T2-B(PP4)'!$G$80"]
["pp4_bl4_2_7_name",{"$f":"'T2-B(PP4)'!$B$81","v":0},"#'T2-B(PP4)'!$B$81"]
["pp4_bl4_2_7_rate_in",{"$f":"'T2-B(PP4)'!$E$81","v":0},"#'T2-B(PP4)'!$E$81"]
["pp4_bl4_2_7_rate_out",{"$f":"'T2-B(PP4)'!$H$81","v":0},"#'T2-B(PP4)'!$H$81"]
["pp4_bl4_2_7_total",{"$f":"'T2-B(PP4)'!$J$81","v":0},"#'T2-B(PP4)'!$J$81"]
["pp4_bl4_2_7_total_in",{"$f":"'T2-B(PP4)'!$F$81","v":0},"#'T2-B(PP4)'!$F$81"]
["pp4_bl4_2_7_total_out",{"$f":"'T2-B(PP4)'!$I$81","v":0},"#'T2-B(PP4)'!$I$81"]
["pp4_bl4_2_7_unit",{"$f":"'T2-B(PP4)'!$C$81","v":0},"#'T2-B(PP4)'!$C$81"]
["pp4_bl4_2_7_unit_in",{"$f":"'T2-B(PP4)'!$D$81","v":0},"#'T2-B(PP4)'!$D$81"]
["pp4_bl4_2_7_units_out",{"$f":"'T2-B(PP4)'!$G$81","v":0},"#'T2-B(PP4)'!$G$81"]
["pp4_bl4_2_8_name",{"$f":"'T2-B(PP4)'!$B$82","v":0},"#'T2-B(PP4)'!$B$82"]
["pp4_bl4_2_8_rate_in",{"$f":"'T2-B(PP4)'!$E$82","v":0},"#'T2-B(PP4)'!$E$82"]
["pp4_bl4_2_8_rate_out",{"$f":"'T2-B(PP4)'!$H$82","v":0},"#'T2-B(PP4)'!$H$82"]
["pp4_bl4_2_8_total",{"$f":"'T2-B(PP4)'!$J$82","v":0},"#'T2-B(PP4)'!$J$82"]
["pp4_bl4_2_8_total_in",{"$f":"'T2-B(PP4)'!$F$82","v":0},"#'T2-B(PP4)'!$F$82"]
["pp4_bl4_2_8_total_out",{"$f":"'T2-B(PP4)'!$I$82","v":0},"#'T2-B(PP4)'!$I$82"]
["pp4_bl4_2_8_unit",{"$f":"'T2-B(PP4)'!$C$82","v":0},"#'T2-B(PP4)'!$C$82"]
["pp4_bl4_2_8_unit_in",{"$f":"'T2-B(PP4)'!$D$82","v":0},"#'T2-B(PP4)'!$D$82"]
["pp4_bl4_2_8_units_out",{"$f":"'T2-B(PP4)'!$G$82","v":0},"#'T2-B(PP4)'!$G$82"]
["pp4_bl4_2_9_name",{"$f":"'T2-B(PP4)'!$B$83","v":0},"#'T2-B(PP4)'!$B$83"]
["pp4_bl4_2_9_rate_in",{"$f":"'T2-B(PP4)'!$E$83","v":0},"#'T2-B(PP4)'!$E$83"]
["pp4_bl4_2_9_rate_out",{"$f":"'T2-B(PP4)'!$H$83","v":0},"#'T2-B(PP4)'!$H$83"]
["pp4_bl4_2_9_total",{"$f":"'T2-B(PP4)'!$J$83","v":0},"#'T2-B(PP4)'!$J$83"]
["pp4_bl4_2_9_total_in",{"$f":"'T2-B(PP4)'!$F$83","v":0},"#'T2-B(PP4)'!$F$83"]
["pp4_bl4_2_9_total_out",{"$f":"'T2-B(PP4)'!$I$83","v":0},"#'T2-B(PP4)'!$I$83"]
["pp4_bl4_2_9_unit",{"$f":"'T2-B(PP4)'!$C$83","v":0},"#'T2-B(PP4)'!$C$83"]
["pp4_bl4_2_9_unit_in",{"$f":"'T2-B(PP4)'!$D$83","v":0},"#'T2-B(PP4)'!$D$83"]
["pp4_bl4_2_9_units_out",{"$f":"'T2-B(PP4)'!$G$83","v":0},"#'T2-B(PP4)'!$G$83"]
["pp4_bl4_2_total",{"$f":"'T2-B(PP4)'!$J$74","v":0},"#'T2-B(PP4)'!$J$74"]
["pp4_bl4_2_total_in",{"$f":"'T2-B(PP4)'!$F$74","v":0},"#'T2-B(PP4)'!$F$74"]
["pp4_bl4_2_total_out",{"$f":"'T2-B(PP4)'!$I$74","v":0},"#'T2-B(PP4)'!$I$74"]
["pp4_bl4_3_1_name",{"$f":"'T2-B(PP4)'!$B$86","v":0},"#'T2-B(PP4)'!$B$86"]
["pp4_bl4_3_1_rate_in",{"$f":"'T2-B(PP4)'!$E$86","v":0},"#'T2-B(PP4)'!$E$86"]
["pp4_bl4_3_1_rate_out",{"$f":"'T2-B(PP4)'!$H$86","v":0},"#'T2-B(PP4)'!$H$86"]
["pp4_bl4_3_1_total",{"$f":"'T2-B(PP4)'!$J$86","v":0},"#'T2-B(PP4)'!$J$86"]
["pp4_bl4_3_1_total_in",{"$f":"'T2-B(PP4)'!$F$86","v":0},"#'T2-B(PP4)'!$F$86"]
["pp4_bl4_3_1_total_out",{"$f":"'T2-B(PP4)'!$I$86","v":0},"#'T2-B(PP4)'!$I$86"]
["pp4_bl4_3_1_unit",{"$f":"'T2-B(PP4)'!$C$86","v":0},"#'T2-B(PP4)'!$C$86"]
["pp4_bl4_3_1_unit_in",{"$f":"'T2-B(PP4)'!$D$86","v":0},"#'T2-B(PP4)'!$D$86"]
["pp4_bl4_3_1_units_out",{"$f":"'T2-B(PP4)'!$G$86","v":0},"#'T2-B(PP4)'!$G$86"]
["pp4_bl4_3_10_name",{"$f":"'T2-B(PP4)'!$B$95","v":0},"#'T2-B(PP4)'!$B$95"]
["pp4_bl4_3_10_rate_in",{"$f":"'T2-B(PP4)'!$E$95","v":0},"#'T2-B(PP4)'!$E$95"]
["pp4_bl4_3_10_rate_out",{"$f":"'T2-B(PP4)'!$H$95","v":0},"#'T2-B(PP4)'!$H$95"]
["pp4_bl4_3_10_total",{"$f":"'T2-B(PP4)'!$J$95","v":0},"#'T2-B(PP4)'!$J$95"]
["pp4_bl4_3_10_total_in",{"$f":"'T2-B(PP4)'!$F$95","v":0},"#'T2-B(PP4)'!$F$95"]
["pp4_bl4_3_10_total_out",{"$f":"'T2-B(PP4)'!$I$95","v":0},"#'T2-B(PP4)'!$I$95"]
["pp4_bl4_3_10_unit",{"$f":"'T2-B(PP4)'!$C$95","v":0},"#'T2-B(PP4)'!$C$95"]
["pp4_bl4_3_10_unit_in",{"$f":"'T2-B(PP4)'!$D$95","v":0},"#'T2-B(PP4)'!$D$95"]
["pp4_bl4_3_10_units_out",{"$f":"'T2-B(PP4)'!$G$95","v":0},"#'T2-B(PP4)'!$G$95"]
["pp4_bl4_3_2_name",{"$f":"'T2-B(PP4)'!$B$87","v":0},"#'T2-B(PP4)'!$B$87"]
["pp4_bl4_3_2_rate_in",{"$f":"'T2-B(PP4)'!$E$87","v":0},"#'T2-B(PP4)'!$E$87"]
["pp4_bl4_3_2_rate_out",{"$f":"'T2-B(PP4)'!$H$87","v":0},"#'T2-B(PP4)'!$H$87"]
["pp4_bl4_3_2_total",{"$f":"'T2-B(PP4)'!$J$87","v":0},"#'T2-B(PP4)'!$J$87"]
["pp4_bl4_3_2_total_in",{"$f":"'T2-B(PP4)'!$F$87","v":0},"#'T2-B(PP4)'!$F$87"]
["pp4_bl4_3_2_total_out",{"$f":"'T2-B(PP4)'!$I$87","v":0},"#'T2-B(PP4)'!$I$87"]
["pp4_bl4_3_2_unit",{"$f":"'T2-B(PP4)'!$C$87","v":0},"#'T2-B(PP4)'!$C$87"]
["pp4_bl4_3_2_unit_in",{"$f":"'T2-B(PP4)'!$D$87","v":0},"#'T2-B(PP4)'!$D$87"]
["pp4_bl4_3_2_units_out",{"$f":"'T2-B(PP4)'!$G$87","v":0},"#'T2-B(PP4)'!$G$87"]
["pp4_bl4_3_3_name",{"$f":"'T2-B(PP4)'!$B$88","v":0},"#'T2-B(PP4)'!$B$88"]
["pp4_bl4_3_3_rate_in",{"$f":"'T2-B(PP4)'!$E$88","v":0},"#'T2-B(PP4)'!$E$88"]
["pp4_bl4_3_3_rate_out",{"$f":"'T2-B(PP4)'!$H$88","v":0},"#'T2-B(PP4)'!$H$88"]
["pp4_bl4_3_3_total",{"$f":"'T2-B(PP4)'!$J$88","v":0},"#'T2-B(PP4)'!$J$88"]
["pp4_bl4_3_3_total_in",{"$f":"'T2-B(PP4)'!$F$88","v":0},"#'T2-B(PP4)'!$F$88"]
["pp4_bl4_3_3_total_out",{"$f":"'T2-B(PP4)'!$I$88","v":0},"#'T2-B(PP4)'!$I$88"]
["pp4_bl4_3_3_unit",{"$f":"'T2-B(PP4)'!$C$88","v":0},"#'T2-B(PP4)'!$C$88"]
["pp4_bl4_3_3_unit_in",{"$f":"'T2-B(PP4)'!$D$88","v":0},"#'T2-B(PP4)'!$D$88"]
["pp4_bl4_3_3_units_out",{"$f":"'T2-B(PP4)'!$G$88","v":0},"#'T2-B(PP4)'!$G$88"]
["pp4_bl4_3_4_name",{"$f":"'T2-B(PP4)'!$B$89","v":0},"#'T2-B(PP4)'!$B$89"]
["pp4_bl4_3_4_rate_in",{"$f":"'T2-B(PP4)'!$E$89","v":0},"#'T2-B(PP4)'!$E$89"]
["pp4_bl4_3_4_rate_out",{"$f":"'T2-B(PP4)'!$H$89","v":0},"#'T2-B(PP4)'!$H$89"]
["pp4_bl4_3_4_total",{"$f":"'T2-B(PP4)'!$J$89","v":0},"#'T2-B(PP4)'!$J$89"]
["pp4_bl4_3_4_total_in",{"$f":"'T2-B(PP4)'!$F$89","v":0},"#'T2-B(PP4)'!$F$89"]
["pp4_bl4_3_4_total_out",{"$f":"'T2-B(PP4)'!$I$89","v":0},"#'T2-B(PP4)'!$I$89"]
["pp4_bl4_3_4_unit",{"$f":"'T2-B(PP4)'!$C$89","v":0},"#'T2-B(PP4)'!$C$89"]
["pp4_bl4_3_4_unit_in",{"$f":"'T2-B(PP4)'!$D$89","v":0},"#'T2-B(PP4)'!$D$89"]
["pp4_bl4_3_4_units_out",{"$f":"'T2-B(PP4)'!$G$89","v":0},"#'T2-B(PP4)'!$G$89"]
["pp4_bl4_3_5_name",{"$f":"'T2-B(PP4)'!$B$90","v":0},"#'T2-B(PP4)'!$B$90"]
["pp4_bl4_3_5_rate_in",{"$f":"'T2-B(PP4)'!$E$90","v":0},"#'T2-B(PP4)'!$E$90"]
["pp4_bl4_3_5_rate_out",{"$f":"'T2-B(PP4)'!$H$90","v":0},"#'T2-B(PP4)'!$H$90"]
["pp4_bl4_3_5_total",{"$f":"'T2-B(PP4)'!$J$90","v":0},"#'T2-B(PP4)'!$J$90"]
["pp4_bl4_3_5_total_in",{"$f":"'T2-B(PP4)'!$F$90","v":0},"#'T2-B(PP4)'!$F$90"]
["pp4_bl4_3_5_total_out",{"$f":"'T2-B(PP4)'!$I$90","v":0},"#'T2-B(PP4)'!$I$90"]
["pp4_bl4_3_5_unit",{"$f":"'T2-B(PP4)'!$C$90","v":0},"#'T2-B(PP4)'!$C$90"]
["pp4_bl4_3_5_unit_in",{"$f":"'T2-B(PP4)'!$D$90","v":0},"#'T2-B(PP4)'!$D$90"]
["pp4_bl4_3_5_units_out",{"$f":"'T2-B(PP4)'!$G$90","v":0},"#'T2-B(PP4)'!$G$90"]
["pp4_bl4_3_6_name",{"$f":"'T2-B(PP4)'!$B$91","v":0},"#'T2-B(PP4)'!$B$91"]
["pp4_bl4_3_6_rate_in",{"$f":"'T2-B(PP4)'!$E$91","v":0},"#'T2-B(PP4)'!$E$91"]
["pp4_bl4_3_6_rate_out",{"$f":"'T2-B(PP4)'!$H$91","v":0},"#'T2-B(PP4)'!$H$91"]
["pp4_bl4_3_6_total",{"$f":"'T2-B(PP4)'!$J$91","v":0},"#'T2-B(PP4)'!$J$91"]
["pp4_bl4_3_6_total_in",{"$f":"'T2-B(PP4)'!$F$91","v":0},"#'T2-B(PP4)'!$F$91"]
["pp4_bl4_3_6_total_out",{"$f":"'T2-B(PP4)'!$I$91","v":0},"#'T2-B(PP4)'!$I$91"]
["pp4_bl4_3_6_unit",{"$f":"'T2-B(PP4)'!$C$91","v":0},"#'T2-B(PP4)'!$C$91"]
["pp4_bl4_3_6_unit_in",{"$f":"'T2-B(PP4)'!$D$91","v":0},"#'T2-B(PP4)'!$D$91"]
["pp4_bl4_3_6_units_out",{"$f":"'T2-B(PP4)'!$G$91","v":0},"#'T2-B(PP4)'!$G$91"]
["pp4_bl4_3_7_name",{"$f":"'T2-B(PP4)'!$B$92","v":0},"#'T2-B(PP4)'!$B$92"]
["pp4_bl4_3_7_rate_in",{"$f":"'T2-B(PP4)'!$E$92","v":0},"#'T2-B(PP4)'!$E$92"]
["pp4_bl4_3_7_rate_out",{"$f":"'T2-B(PP4)'!$H$92","v":0},"#'T2-B(PP4)'!$H$92"]
["pp4_bl4_3_7_total",{"$f":"'T2-B(PP4)'!$J$92","v":0},"#'T2-B(PP4)'!$J$92"]
["pp4_bl4_3_7_total_in",{"$f":"'T2-B(PP4)'!$F$92","v":0},"#'T2-B(PP4)'!$F$92"]
["pp4_bl4_3_7_total_out",{"$f":"'T2-B(PP4)'!$I$92","v":0},"#'T2-B(PP4)'!$I$92"]
["pp4_bl4_3_7_unit",{"$f":"'T2-B(PP4)'!$C$92","v":0},"#'T2-B(PP4)'!$C$92"]
["pp4_bl4_3_7_unit_in",{"$f":"'T2-B(PP4)'!$D$92","v":0},"#'T2-B(PP4)'!$D$92"]
["pp4_bl4_3_7_units_out",{"$f":"'T2-B(PP4)'!$G$92","v":0},"#'T2-B(PP4)'!$G$92"]
["pp4_bl4_3_8_name",{"$f":"'T2-B(PP4)'!$B$93","v":0},"#'T2-B(PP4)'!$B$93"]
["pp4_bl4_3_8_rate_in",{"$f":"'T2-B(PP4)'!$E$93","v":0},"#'T2-B(PP4)'!$E$93"]
["pp4_bl4_3_8_rate_out",{"$f":"'T2-B(PP4)'!$H$93","v":0},"#'T2-B(PP4)'!$H$93"]
["pp4_bl4_3_8_total",{"$f":"'T2-B(PP4)'!$J$93","v":0},"#'T2-B(PP4)'!$J$93"]
["pp4_bl4_3_8_total_in",{"$f":"'T2-B(PP4)'!$F$93","v":0},"#'T2-B(PP4)'!$F$93"]
["pp4_bl4_3_8_total_out",{"$f":"'T2-B(PP4)'!$I$93","v":0},"#'T2-B(PP4)'!$I$93"]
["pp4_bl4_3_8_unit",{"$f":"'T2-B(PP4)'!$C$93","v":0},"#'T2-B(PP4)'!$C$93"]
["pp4_bl4_3_8_unit_in",{"$f":"'T2-B(PP4)'!$D$93","v":0},"#'T2-B(PP4)'!$D$93"]
["pp4_bl4_3_8_units_out",{"$f":"'T2-B(PP4)'!$G$93","v":0},"#'T2-B(PP4)'!$G$93"]
["pp4_bl4_3_9_name",{"$f":"'T2-B(PP4)'!$B$94","v":0},"#'T2-B(PP4)'!$B$94"]
["pp4_bl4_3_9_rate_in",{"$f":"'T2-B(PP4)'!$E$94","v":0},"#'T2-B(PP4)'!$E$94"]
["pp4_bl4_3_9_rate_out",{"$f":"'T2-B(PP4)'!$H$94","v":0},"#'T2-B(PP4)'!$H$94"]
["pp4_bl4_3_9_total",{"$f":"'T2-B(PP4)'!$J$94","v":0},"#'T2-B(PP4)'!$J$94"]
["pp4_bl4_3_9_total_in",{"$f":"'T2-B(PP4)'!$F$94","v":0},"#'T2-B(PP4)'!$F$94"]
["pp4_bl4_3_9_total_out",{"$f":"'T2-B(PP4)'!$I$94","v":0},"#'T2-B(PP4)'!$I$94"]
["pp4_bl4_3_9_unit",{"$f":"'T2-B(PP4)'!$C$94","v":0},"#'T2-B(PP4)'!$C$94"]
["pp4_bl4_3_9_unit_in",{"$f":"'T2-B(PP4)'!$D$94","v":0},"#'T2-B(PP4)'!$D$94"]
["pp4_bl4_3_9_units_out",{"$f":"'T2-B(PP4)'!$G$94","v":0},"#'T2-B(PP4)'!$G$94"]
["pp4_bl4_3_total",{"$f":"'T2-B(PP4)'!$J$85","v":0},"#'T2-B(PP4)'!$J$85"]
["pp4_bl4_3_total_in",{"$f":"'T2-B(PP4)'!$F$85","v":0},"#'T2-B(PP4)'!$F$85"]
["pp4_bl4_3_total_out",{"$f":"'T2-B(PP4)'!$I$85","v":0},"#'T2-B(PP4)'!$I$85"]
["pp4_bl4_4_1_name",{"$f":"'T2-B(PP4)'!$B$97","v":0},"#'T2-B(PP4)'!$B$97"]
["pp4_bl4_4_1_rate_in",{"$f":"'T2-B(PP4)'!$E$97","v":0},"#'T2-B(PP4)'!$E$97"]
["pp4_bl4_4_1_rate_out",{"$f":"'T2-B(PP4)'!$H$97","v":0},"#'T2-B(PP4)'!$H$97"]
["pp4_bl4_4_1_total",{"$f":"'T2-B(PP4)'!$J$97","v":0},"#'T2-B(PP4)'!$J$97"]
["pp4_bl4_4_1_total_in",{"$f":"'T2-B(PP4)'!$F$97","v":0},"#'T2-B(PP4)'!$F$97"]
["pp4_bl4_4_1_total_out",{"$f":"'T2-B(PP4)'!$I$97","v":0},"#'T2-B(PP4)'!$I$97"]
["pp4_bl4_4_1_unit",{"$f":"'T2-B(PP4)'!$C$97","v":0},"#'T2-B(PP4)'!$C$97"]
["pp4_bl4_4_1_unit_in",{"$f":"'T2-B(PP4)'!$D$97","v":0},"#'T2-B(PP4)'!$D$97"]
["pp4_bl4_4_1_units_out",{"$f":"'T2-B(PP4)'!$G$97","v":0},"#'T2-B(PP4)'!$G$97"]
["pp4_bl4_4_10_name",{"$f":"'T2-B(PP4)'!$B$106","v":0},"#'T2-B(PP4)'!$B$106"]
["pp4_bl4_4_10_rate_in",{"$f":"'T2-B(PP4)'!$E$106","v":0},"#'T2-B(PP4)'!$E$106"]
["pp4_bl4_4_10_rate_out",{"$f":"'T2-B(PP4)'!$H$106","v":0},"#'T2-B(PP4)'!$H$106"]
["pp4_bl4_4_10_total",{"$f":"'T2-B(PP4)'!$J$106","v":0},"#'T2-B(PP4)'!$J$106"]
["pp4_bl4_4_10_total_in",{"$f":"'T2-B(PP4)'!$F$106","v":0},"#'T2-B(PP4)'!$F$106"]
["pp4_bl4_4_10_total_out",{"$f":"'T2-B(PP4)'!$I$106","v":0},"#'T2-B(PP4)'!$I$106"]
["pp4_bl4_4_10_unit",{"$f":"'T2-B(PP4)'!$C$106","v":0},"#'T2-B(PP4)'!$C$106"]
["pp4_bl4_4_10_unit_in",{"$f":"'T2-B(PP4)'!$D$106","v":0},"#'T2-B(PP4)'!$D$106"]
["pp4_bl4_4_10_units_out",{"$f":"'T2-B(PP4)'!$G$106","v":0},"#'T2-B(PP4)'!$G$106"]
["pp4_bl4_4_2_name",{"$f":"'T2-B(PP4)'!$B$98","v":0},"#'T2-B(PP4)'!$B$98"]
["pp4_bl4_4_2_rate_in",{"$f":"'T2-B(PP4)'!$E$98","v":0},"#'T2-B(PP4)'!$E$98"]
["pp4_bl4_4_2_rate_out",{"$f":"'T2-B(PP4)'!$H$98","v":0},"#'T2-B(PP4)'!$H$98"]
["pp4_bl4_4_2_total",{"$f":"'T2-B(PP4)'!$J$98","v":0},"#'T2-B(PP4)'!$J$98"]
["pp4_bl4_4_2_total_in",{"$f":"'T2-B(PP4)'!$F$98","v":0},"#'T2-B(PP4)'!$F$98"]
["pp4_bl4_4_2_total_out",{"$f":"'T2-B(PP4)'!$I$98","v":0},"#'T2-B(PP4)'!$I$98"]
["pp4_bl4_4_2_unit",{"$f":"'T2-B(PP4)'!$C$98","v":0},"#'T2-B(PP4)'!$C$98"]
["pp4_bl4_4_2_unit_in",{"$f":"'T2-B(PP4)'!$D$98","v":0},"#'T2-B(PP4)'!$D$98"]
["pp4_bl4_4_2_units_out",{"$f":"'T2-B(PP4)'!$G$98","v":0},"#'T2-B(PP4)'!$G$98"]
["pp4_bl4_4_3_name",{"$f":"'T2-B(PP4)'!$B$99","v":0},"#'T2-B(PP4)'!$B$99"]
["pp4_bl4_4_3_rate_in",{"$f":"'T2-B(PP4)'!$E$99","v":0},"#'T2-B(PP4)'!$E$99"]
["pp4_bl4_4_3_rate_out",{"$f":"'T2-B(PP4)'!$H$99","v":0},"#'T2-B(PP4)'!$H$99"]
["pp4_bl4_4_3_total",{"$f":"'T2-B(PP4)'!$J$99","v":0},"#'T2-B(PP4)'!$J$99"]
["pp4_bl4_4_3_total_in",{"$f":"'T2-B(PP4)'!$F$99","v":0},"#'T2-B(PP4)'!$F$99"]
["pp4_bl4_4_3_total_out",{"$f":"'T2-B(PP4)'!$I$99","v":0},"#'T2-B(PP4)'!$I$99"]
["pp4_bl4_4_3_unit",{"$f":"'T2-B(PP4)'!$C$99","v":0},"#'T2-B(PP4)'!$C$99"]
["pp4_bl4_4_3_unit_in",{"$f":"'T2-B(PP4)'!$D$99","v":0},"#'T2-B(PP4)'!$D$99"]
["pp4_bl4_4_3_units_out",{"$f":"'T2-B(PP4)'!$G$99","v":0},"#'T2-B(PP4)'!$G$99"]
["pp4_bl4_4_4_name",{"$f":"'T2-B(PP4)'!$B$100","v":0},"#'T2-B(PP4)'!$B$100"]
["pp4_bl4_4_4_rate_in",{"$f":"'T2-B(PP4)'!$E$100","v":0},"#'T2-B(PP4)'!$E$100"]
["pp4_bl4_4_4_rate_out",{"$f":"'T2-B(PP4)'!$H$100","v":0},"#'T2-B(PP4)'!$H$100"]
["pp4_bl4_4_4_total",{"$f":"'T2-B(PP4)'!$J$100","v":0},"#'T2-B(PP4)'!$J$100"]
["pp4_bl4_4_4_total_in",{"$f":"'T2-B(PP4)'!$F$100","v":0},"#'T2-B(PP4)'!$F$100"]
["pp4_bl4_4_4_total_out",{"$f":"'T2-B(PP4)'!$I$100","v":0},"#'T2-B(PP4)'!$I$100"]
["pp4_bl4_4_4_unit",{"$f":"'T2-B(PP4)'!$C$100","v":0},"#'T2-B(PP4)'!$C$100"]
["pp4_bl4_4_4_unit_in",{"$f":"'T2-B(PP4)'!$D$100","v":0},"#'T2-B(PP4)'!$D$100"]
["pp4_bl4_4_4_units_out",{"$f":"'T2-B(PP4)'!$G$100","v":0},"#'T2-B(PP4)'!$G$100"]
["pp4_bl4_4_5_name",{"$f":"'T2-B(PP4)'!$B$101","v":0},"#'T2-B(PP4)'!$B$101"]
["pp4_bl4_4_5_rate_in",{"$f":"'T2-B(PP4)'!$E$101","v":0},"#'T2-B(PP4)'!$E$101"]
["pp4_bl4_4_5_rate_out",{"$f":"'T2-B(PP4)'!$H$101","v":0},"#'T2-B(PP4)'!$H$101"]
["pp4_bl4_4_5_total",{"$f":"'T2-B(PP4)'!$J$101","v":0},"#'T2-B(PP4)'!$J$101"]
["pp4_bl4_4_5_total_in",{"$f":"'T2-B(PP4)'!$F$101","v":0},"#'T2-B(PP4)'!$F$101"]
["pp4_bl4_4_5_total_out",{"$f":"'T2-B(PP4)'!$I$101","v":0},"#'T2-B(PP4)'!$I$101"]
["pp4_bl4_4_5_unit",{"$f":"'T2-B(PP4)'!$C$101","v":0},"#'T2-B(PP4)'!$C$101"]
["pp4_bl4_4_5_unit_in",{"$f":"'T2-B(PP4)'!$D$101","v":0},"#'T2-B(PP4)'!$D$101"]
["pp4_bl4_4_5_units_out",{"$f":"'T2-B(PP4)'!$G$101","v":0},"#'T2-B(PP4)'!$G$101"]
["pp4_bl4_4_6_name",{"$f":"'T2-B(PP4)'!$B$102","v":0},"#'T2-B(PP4)'!$B$102"]
["pp4_bl4_4_6_rate_in",{"$f":"'T2-B(PP4)'!$E$102","v":0},"#'T2-B(PP4)'!$E$102"]
["pp4_bl4_4_6_rate_out",{"$f":"'T2-B(PP4)'!$H$102","v":0},"#'T2-B(PP4)'!$H$102"]
["pp4_bl4_4_6_total",{"$f":"'T2-B(PP4)'!$J$102","v":0},"#'T2-B(PP4)'!$J$102"]
["pp4_bl4_4_6_total_in",{"$f":"'T2-B(PP4)'!$F$102","v":0},"#'T2-B(PP4)'!$F$102"]
["pp4_bl4_4_6_total_out",{"$f":"'T2-B(PP4)'!$I$102","v":0},"#'T2-B(PP4)'!$I$102"]
["pp4_bl4_4_6_unit",{"$f":"'T2-B(PP4)'!$C$102","v":0},"#'T2-B(PP4)'!$C$102"]
["pp4_bl4_4_6_unit_in",{"$f":"'T2-B(PP4)'!$D$102","v":0},"#'T2-B(PP4)'!$D$102"]
["pp4_bl4_4_6_units_out",{"$f":"'T2-B(PP4)'!$G$102","v":0},"#'T2-B(PP4)'!$G$102"]
["pp4_bl4_4_7_name",{"$f":"'T2-B(PP4)'!$B$103","v":0},"#'T2-B(PP4)'!$B$103"]
["pp4_bl4_4_7_rate_in",{"$f":"'T2-B(PP4)'!$E$103","v":0},"#'T2-B(PP4)'!$E$103"]
["pp4_bl4_4_7_rate_out",{"$f":"'T2-B(PP4)'!$H$103","v":0},"#'T2-B(PP4)'!$H$103"]
["pp4_bl4_4_7_total",{"$f":"'T2-B(PP4)'!$J$103","v":0},"#'T2-B(PP4)'!$J$103"]
["pp4_bl4_4_7_total_in",{"$f":"'T2-B(PP4)'!$F$103","v":0},"#'T2-B(PP4)'!$F$103"]
["pp4_bl4_4_7_total_out",{"$f":"'T2-B(PP4)'!$I$103","v":0},"#'T2-B(PP4)'!$I$103"]
["pp4_bl4_4_7_unit",{"$f":"'T2-B(PP4)'!$C$103","v":0},"#'T2-B(PP4)'!$C$103"]
["pp4_bl4_4_7_unit_in",{"$f":"'T2-B(PP4)'!$D$103","v":0},"#'T2-B(PP4)'!$D$103"]
["pp4_bl4_4_7_units_out",{"$f":"'T2-B(PP4)'!$G$103","v":0},"#'T2-B(PP4)'!$G$103"]
["pp4_bl4_4_8_name",{"$f":"'T2-B(PP4)'!$B$104","v":0},"#'T2-B(PP4)'!$B$104"]
["pp4_bl4_4_8_rate_in",{"$f":"'T2-B(PP4)'!$E$104","v":0},"#'T2-B(PP4)'!$E$104"]
["pp4_bl4_4_8_rate_out",{"$f":"'T2-B(PP4)'!$H$104","v":0},"#'T2-B(PP4)'!$H$104"]
["pp4_bl4_4_8_total",{"$f":"'T2-B(PP4)'!$J$104","v":0},"#'T2-B(PP4)'!$J$104"]
["pp4_bl4_4_8_total_in",{"$f":"'T2-B(PP4)'!$F$104","v":0},"#'T2-B(PP4)'!$F$104"]
["pp4_bl4_4_8_total_out",{"$f":"'T2-B(PP4)'!$I$104","v":0},"#'T2-B(PP4)'!$I$104"]
["pp4_bl4_4_8_unit",{"$f":"'T2-B(PP4)'!$C$104","v":0},"#'T2-B(PP4)'!$C$104"]
["pp4_bl4_4_8_unit_in",{"$f":"'T2-B(PP4)'!$D$104","v":0},"#'T2-B(PP4)'!$D$104"]
["pp4_bl4_4_8_units_out",{"$f":"'T2-B(PP4)'!$G$104","v":0},"#'T2-B(PP4)'!$G$104"]
["pp4_bl4_4_9_name",{"$f":"'T2-B(PP4)'!$B$105","v":0},"#'T2-B(PP4)'!$B$105"]
["pp4_bl4_4_9_rate_in",{"$f":"'T2-B(PP4)'!$E$105","v":0},"#'T2-B(PP4)'!$E$105"]
["pp4_bl4_4_9_rate_out",{"$f":"'T2-B(PP4)'!$H$105","v":0},"#'T2-B(PP4)'!$H$105"]
["pp4_bl4_4_9_total",{"$f":"'T2-B(PP4)'!$J$105","v":0},"#'T2-B(PP4)'!$J$105"]
["pp4_bl4_4_9_total_in",{"$f":"'T2-B(PP4)'!$F$105","v":0},"#'T2-B(PP4)'!$F$105"]
["pp4_bl4_4_9_total_out",{"$f":"'T2-B(PP4)'!$I$105","v":0},"#'T2-B(PP4)'!$I$105"]
["pp4_bl4_4_9_unit",{"$f":"'T2-B(PP4)'!$C$105","v":0},"#'T2-B(PP4)'!$C$105"]
["pp4_bl4_4_9_unit_in",{"$f":"'T2-B(PP4)'!$D$105","v":0},"#'T2-B(PP4)'!$D$105"]
["pp4_bl4_4_9_units_out",{"$f":"'T2-B(PP4)'!$G$105","v":0},"#'T2-B(PP4)'!$G$105"]
["pp4_bl4_4_total",{"$f":"'T2-B(PP4)'!$J$96","v":0},"#'T2-B(PP4)'!$J$96"]
["pp4_bl4_4_total_in",{"$f":"'T2-B(PP4)'!$F$96","v":0},"#'T2-B(PP4)'!$F$96"]
["pp4_bl4_4_total_out",{"$f":"'T2-B(PP4)'!$I$96","v":0},"#'T2-B(PP4)'!$I$96"]
["pp4_bl4_5_1_name",{"$f":"'T2-B(PP4)'!$B$108","v":0},"#'T2-B(PP4)'!$B$108"]
["pp4_bl4_5_1_rate_in",{"$f":"'T2-B(PP4)'!$E$108","v":0},"#'T2-B(PP4)'!$E$108"]
["pp4_bl4_5_1_rate_out",{"$f":"'T2-B(PP4)'!$H$108","v":0},"#'T2-B(PP4)'!$H$108"]
["pp4_bl4_5_1_total",{"$f":"'T2-B(PP4)'!$J$108","v":0},"#'T2-B(PP4)'!$J$108"]
["pp4_bl4_5_1_total_in",{"$f":"'T2-B(PP4)'!$F$108","v":0},"#'T2-B(PP4)'!$F$108"]
["pp4_bl4_5_1_total_out",{"$f":"'T2-B(PP4)'!$I$108","v":0},"#'T2-B(PP4)'!$I$108"]
["pp4_bl4_5_1_unit",{"$f":"'T2-B(PP4)'!$C$108","v":0},"#'T2-B(PP4)'!$C$108"]
["pp4_bl4_5_1_unit_in",{"$f":"'T2-B(PP4)'!$D$108","v":0},"#'T2-B(PP4)'!$D$108"]
["pp4_bl4_5_1_units_out",{"$f":"'T2-B(PP4)'!$G$108","v":0},"#'T2-B(PP4)'!$G$108"]
["pp4_bl4_5_10_name",{"$f":"'T2-B(PP4)'!$B$117","v":0},"#'T2-B(PP4)'!$B$117"]
["pp4_bl4_5_10_rate_in",{"$f":"'T2-B(PP4)'!$E$117","v":0},"#'T2-B(PP4)'!$E$117"]
["pp4_bl4_5_10_rate_out",{"$f":"'T2-B(PP4)'!$H$117","v":0},"#'T2-B(PP4)'!$H$117"]
["pp4_bl4_5_10_total",{"$f":"'T2-B(PP4)'!$J$117","v":0},"#'T2-B(PP4)'!$J$117"]
["pp4_bl4_5_10_total_in",{"$f":"'T2-B(PP4)'!$F$117","v":0},"#'T2-B(PP4)'!$F$117"]
["pp4_bl4_5_10_total_out",{"$f":"'T2-B(PP4)'!$I$117","v":0},"#'T2-B(PP4)'!$I$117"]
["pp4_bl4_5_10_unit",{"$f":"'T2-B(PP4)'!$C$117","v":0},"#'T2-B(PP4)'!$C$117"]
["pp4_bl4_5_10_unit_in",{"$f":"'T2-B(PP4)'!$D$117","v":0},"#'T2-B(PP4)'!$D$117"]
["pp4_bl4_5_10_units_out",{"$f":"'T2-B(PP4)'!$G$117","v":0},"#'T2-B(PP4)'!$G$117"]
["pp4_bl4_5_2_name",{"$f":"'T2-B(PP4)'!$B$109","v":0},"#'T2-B(PP4)'!$B$109"]
["pp4_bl4_5_2_rate_in",{"$f":"'T2-B(PP4)'!$E$109","v":0},"#'T2-B(PP4)'!$E$109"]
["pp4_bl4_5_2_rate_out",{"$f":"'T2-B(PP4)'!$H$109","v":0},"#'T2-B(PP4)'!$H$109"]
["pp4_bl4_5_2_total",{"$f":"'T2-B(PP4)'!$J$109","v":0},"#'T2-B(PP4)'!$J$109"]
["pp4_bl4_5_2_total_in",{"$f":"'T2-B(PP4)'!$F$109","v":0},"#'T2-B(PP4)'!$F$109"]
["pp4_bl4_5_2_total_out",{"$f":"'T2-B(PP4)'!$I$109","v":0},"#'T2-B(PP4)'!$I$109"]
["pp4_bl4_5_2_unit",{"$f":"'T2-B(PP4)'!$C$109","v":0},"#'T2-B(PP4)'!$C$109"]
["pp4_bl4_5_2_unit_in",{"$f":"'T2-B(PP4)'!$D$109","v":0},"#'T2-B(PP4)'!$D$109"]
["pp4_bl4_5_2_units_out",{"$f":"'T2-B(PP4)'!$G$109","v":0},"#'T2-B(PP4)'!$G$109"]
["pp4_bl4_5_3_name",{"$f":"'T2-B(PP4)'!$B$110","v":0},"#'T2-B(PP4)'!$B$110"]
["pp4_bl4_5_3_rate_in",{"$f":"'T2-B(PP4)'!$E$110","v":0},"#'T2-B(PP4)'!$E$110"]
["pp4_bl4_5_3_rate_out",{"$f":"'T2-B(PP4)'!$H$110","v":0},"#'T2-B(PP4)'!$H$110"]
["pp4_bl4_5_3_total",{"$f":"'T2-B(PP4)'!$J$110","v":0},"#'T2-B(PP4)'!$J$110"]
["pp4_bl4_5_3_total_in",{"$f":"'T2-B(PP4)'!$F$110","v":0},"#'T2-B(PP4)'!$F$110"]
["pp4_bl4_5_3_total_out",{"$f":"'T2-B(PP4)'!$I$110","v":0},"#'T2-B(PP4)'!$I$110"]
["pp4_bl4_5_3_unit",{"$f":"'T2-B(PP4)'!$C$110","v":0},"#'T2-B(PP4)'!$C$110"]
["pp4_bl4_5_3_unit_in",{"$f":"'T2-B(PP4)'!$D$110","v":0},"#'T2-B(PP4)'!$D$110"]
["pp4_bl4_5_3_units_out",{"$f":"'T2-B(PP4)'!$G$110","v":0},"#'T2-B(PP4)'!$G$110"]
["pp4_bl4_5_4_name",{"$f":"'T2-B(PP4)'!$B$111","v":0},"#'T2-B(PP4)'!$B$111"]
["pp4_bl4_5_4_rate_in",{"$f":"'T2-B(PP4)'!$E$111","v":0},"#'T2-B(PP4)'!$E$111"]
["pp4_bl4_5_4_rate_out",{"$f":"'T2-B(PP4)'!$H$111","v":0},"#'T2-B(PP4)'!$H$111"]
["pp4_bl4_5_4_total",{"$f":"'T2-B(PP4)'!$J$111","v":0},"#'T2-B(PP4)'!$J$111"]
["pp4_bl4_5_4_total_in",{"$f":"'T2-B(PP4)'!$F$111","v":0},"#'T2-B(PP4)'!$F$111"]
["pp4_bl4_5_4_total_out",{"$f":"'T2-B(PP4)'!$I$111","v":0},"#'T2-B(PP4)'!$I$111"]
["pp4_bl4_5_4_unit",{"$f":"'T2-B(PP4)'!$C$111","v":0},"#'T2-B(PP4)'!$C$111"]
["pp4_bl4_5_4_unit_in",{"$f":"'T2-B(PP4)'!$D$111","v":0},"#'T2-B(PP4)'!$D$111"]
["pp4_bl4_5_4_units_out",{"$f":"'T2-B(PP4)'!$G$111","v":0},"#'T2-B(PP4)'!$G$111"]
["pp4_bl4_5_5_name",{"$f":"'T2-B(PP4)'!$B$112","v":0},"#'T2-B(PP4)'!$B$112"]
["pp4_bl4_5_5_rate_in",{"$f":"'T2-B(PP4)'!$E$112","v":0},"#'T2-B(PP4)'!$E$112"]
["pp4_bl4_5_5_rate_out",{"$f":"'T2-B(PP4)'!$H$112","v":0},"#'T2-B(PP4)'!$H$112"]
["pp4_bl4_5_5_total",{"$f":"'T2-B(PP4)'!$J$112","v":0},"#'T2-B(PP4)'!$J$112"]
["pp4_bl4_5_5_total_in",{"$f":"'T2-B(PP4)'!$F$112","v":0},"#'T2-B(PP4)'!$F$112"]
["pp4_bl4_5_5_total_out",{"$f":"'T2-B(PP4)'!$I$112","v":0},"#'T2-B(PP4)'!$I$112"]
["pp4_bl4_5_5_unit",{"$f":"'T2-B(PP4)'!$C$112","v":0},"#'T2-B(PP4)'!$C$112"]
["pp4_bl4_5_5_unit_in",{"$f":"'T2-B(PP4)'!$D$112","v":0},"#'T2-B(PP4)'!$D$112"]
["pp4_bl4_5_5_units_out",{"$f":"'T2-B(PP4)'!$G$112","v":0},"#'T2-B(PP4)'!$G$112"]
["pp4_bl4_5_6_name",{"$f":"'T2-B(PP4)'!$B$113","v":0},"#'T2-B(PP4)'!$B$113"]
["pp4_bl4_5_6_rate_in",{"$f":"'T2-B(PP4)'!$E$113","v":0},"#'T2-B(PP4)'!$E$113"]
["pp4_bl4_5_6_rate_out",{"$f":"'T2-B(PP4)'!$H$113","v":0},"#'T2-B(PP4)'!$H$113"]
["pp4_bl4_5_6_total",{"$f":"'T2-B(PP4)'!$J$113","v":0},"#'T2-B(PP4)'!$J$113"]
["pp4_bl4_5_6_total_in",{"$f":"'T2-B(PP4)'!$F$113","v":0},"#'T2-B(PP4)'!$F$113"]
["pp4_bl4_5_6_total_out",{"$f":"'T2-B(PP4)'!$I$113","v":0},"#'T2-B(PP4)'!$I$113"]
["pp4_bl4_5_6_unit",{"$f":"'T2-B(PP4)'!$C$113","v":0},"#'T2-B(PP4)'!$C$113"]
["pp4_bl4_5_6_unit_in",{"$f":"'T2-B(PP4)'!$D$113","v":0},"#'T2-B(PP4)'!$D$113"]
["pp4_bl4_5_6_units_out",{"$f":"'T2-B(PP4)'!$G$113","v":0},"#'T2-B(PP4)'!$G$113"]
["pp4_bl4_5_7_name",{"$f":"'T2-B(PP4)'!$B$114","v":0},"#'T2-B(PP4)'!$B$114"]
["pp4_bl4_5_7_rate_in",{"$f":"'T2-B(PP4)'!$E$114","v":0},"#'T2-B(PP4)'!$E$114"]
["pp4_bl4_5_7_rate_out",{"$f":"'T2-B(PP4)'!$H$114","v":0},"#'T2-B(PP4)'!$H$114"]
["pp4_bl4_5_7_total",{"$f":"'T2-B(PP4)'!$J$114","v":0},"#'T2-B(PP4)'!$J$114"]
["pp4_bl4_5_7_total_in",{"$f":"'T2-B(PP4)'!$F$114","v":0},"#'T2-B(PP4)'!$F$114"]
["pp4_bl4_5_7_total_out",{"$f":"'T2-B(PP4)'!$I$114","v":0},"#'T2-B(PP4)'!$I$114"]
["pp4_bl4_5_7_unit",{"$f":"'T2-B(PP4)'!$C$114","v":0},"#'T2-B(PP4)'!$C$114"]
["pp4_bl4_5_7_unit_in",{"$f":"'T2-B(PP4)'!$D$114","v":0},"#'T2-B(PP4)'!$D$114"]
["pp4_bl4_5_7_units_out",{"$f":"'T2-B(PP4)'!$G$114","v":0},"#'T2-B(PP4)'!$G$114"]
["pp4_bl4_5_8_name",{"$f":"'T2-B(PP4)'!$B$115","v":0},"#'T2-B(PP4)'!$B$115"]
["pp4_bl4_5_8_rate_in",{"$f":"'T2-B(PP4)'!$E$115","v":0},"#'T2-B(PP4)'!$E$115"]
["pp4_bl4_5_8_rate_out",{"$f":"'T2-B(PP4)'!$H$115","v":0},"#'T2-B(PP4)'!$H$115"]
["pp4_bl4_5_8_total",{"$f":"'T2-B(PP4)'!$J$115","v":0},"#'T2-B(PP4)'!$J$115"]
["pp4_bl4_5_8_total_in",{"$f":"'T2-B(PP4)'!$F$115","v":0},"#'T2-B(PP4)'!$F$115"]
["pp4_bl4_5_8_total_out",{"$f":"'T2-B(PP4)'!$I$115","v":0},"#'T2-B(PP4)'!$I$115"]
["pp4_bl4_5_8_unit",{"$f":"'T2-B(PP4)'!$C$115","v":0},"#'T2-B(PP4)'!$C$115"]
["pp4_bl4_5_8_unit_in",{"$f":"'T2-B(PP4)'!$D$115","v":0},"#'T2-B(PP4)'!$D$115"]
["pp4_bl4_5_8_units_out",{"$f":"'T2-B(PP4)'!$G$115","v":0},"#'T2-B(PP4)'!$G$115"]
["pp4_bl4_5_9_name",{"$f":"'T2-B(PP4)'!$B$116","v":0},"#'T2-B(PP4)'!$B$116"]
["pp4_bl4_5_9_rate_in",{"$f":"'T2-B(PP4)'!$E$116","v":0},"#'T2-B(PP4)'!$E$116"]
["pp4_bl4_5_9_rate_out",{"$f":"'T2-B(PP4)'!$H$116","v":0},"#'T2-B(PP4)'!$H$116"]
["pp4_bl4_5_9_total",{"$f":"'T2-B(PP4)'!$J$116","v":0},"#'T2-B(PP4)'!$J$116"]
["pp4_bl4_5_9_total_in",{"$f":"'T2-B(PP4)'!$F$116","v":0},"#'T2-B(PP4)'!$F$116"]
["pp4_bl4_5_9_total_out",{"$f":"'T2-B(PP4)'!$I$116","v":0},"#'T2-B(PP4)'!$I$116"]
["pp4_bl4_5_9_unit",{"$f":"'T2-B(PP4)'!$C$116","v":0},"#'T2-B(PP4)'!$C$116"]
["pp4_bl4_5_9_unit_in",{"$f":"'T2-B(PP4)'!$D$116","v":0},"#'T2-B(PP4)'!$D$116"]
["pp4_bl4_5_9_units_out",{"$f":"'T2-B(PP4)'!$G$116","v":0},"#'T2-B(PP4)'!$G$116"]
["pp4_bl4_5_total",{"$f":"'T2-B(PP4)'!$J$107","v":0},"#'T2-B(PP4)'!$J$107"]
["pp4_bl4_5_total_in",{"$f":"'T2-B(PP4)'!$F$107","v":0},"#'T2-B(PP4)'!$F$107"]
["pp4_bl4_5_total_out",{"$f":"'T2-B(PP4)'!$I$107","v":0},"#'T2-B(PP4)'!$I$107"]
["pp4_bl4_6_1_name",{"$f":"'T2-B(PP4)'!$B$119","v":0},"#'T2-B(PP4)'!$B$119"]
["pp4_bl4_6_1_rate_in",{"$f":"'T2-B(PP4)'!$E$119","v":0},"#'T2-B(PP4)'!$E$119"]
["pp4_bl4_6_1_rate_out",{"$f":"'T2-B(PP4)'!$H$119","v":0},"#'T2-B(PP4)'!$H$119"]
["pp4_bl4_6_1_total",{"$f":"'T2-B(PP4)'!$J$119","v":0},"#'T2-B(PP4)'!$J$119"]
["pp4_bl4_6_1_total_in",{"$f":"'T2-B(PP4)'!$F$119","v":0},"#'T2-B(PP4)'!$F$119"]
["pp4_bl4_6_1_total_out",{"$f":"'T2-B(PP4)'!$I$119","v":0},"#'T2-B(PP4)'!$I$119"]
["pp4_bl4_6_1_unit",{"$f":"'T2-B(PP4)'!$C$119","v":0},"#'T2-B(PP4)'!$C$119"]
["pp4_bl4_6_1_unit_in",{"$f":"'T2-B(PP4)'!$D$119","v":0},"#'T2-B(PP4)'!$D$119"]
["pp4_bl4_6_1_units_out",{"$f":"'T2-B(PP4)'!$G$119","v":0},"#'T2-B(PP4)'!$G$119"]
["pp4_bl4_6_10_name",{"$f":"'T2-B(PP4)'!$B$128","v":0},"#'T2-B(PP4)'!$B$128"]
["pp4_bl4_6_10_rate_in",{"$f":"'T2-B(PP4)'!$E$128","v":0},"#'T2-B(PP4)'!$E$128"]
["pp4_bl4_6_10_rate_out",{"$f":"'T2-B(PP4)'!$H$128","v":0},"#'T2-B(PP4)'!$H$128"]
["pp4_bl4_6_10_total",{"$f":"'T2-B(PP4)'!$J$128","v":0},"#'T2-B(PP4)'!$J$128"]
["pp4_bl4_6_10_total_in",{"$f":"'T2-B(PP4)'!$F$128","v":0},"#'T2-B(PP4)'!$F$128"]
["pp4_bl4_6_10_total_out",{"$f":"'T2-B(PP4)'!$I$128","v":0},"#'T2-B(PP4)'!$I$128"]
["pp4_bl4_6_10_unit",{"$f":"'T2-B(PP4)'!$C$128","v":0},"#'T2-B(PP4)'!$C$128"]
["pp4_bl4_6_10_unit_in",{"$f":"'T2-B(PP4)'!$D$128","v":0},"#'T2-B(PP4)'!$D$128"]
["pp4_bl4_6_10_units_out",{"$f":"'T2-B(PP4)'!$G$128","v":0},"#'T2-B(PP4)'!$G$128"]
["pp4_bl4_6_2_name",{"$f":"'T2-B(PP4)'!$B$120","v":0},"#'T2-B(PP4)'!$B$120"]
["pp4_bl4_6_2_rate_in",{"$f":"'T2-B(PP4)'!$E$120","v":0},"#'T2-B(PP4)'!$E$120"]
["pp4_bl4_6_2_rate_out",{"$f":"'T2-B(PP4)'!$H$120","v":0},"#'T2-B(PP4)'!$H$120"]
["pp4_bl4_6_2_total",{"$f":"'T2-B(PP4)'!$J$120","v":0},"#'T2-B(PP4)'!$J$120"]
["pp4_bl4_6_2_total_in",{"$f":"'T2-B(PP4)'!$F$120","v":0},"#'T2-B(PP4)'!$F$120"]
["pp4_bl4_6_2_total_out",{"$f":"'T2-B(PP4)'!$I$120","v":0},"#'T2-B(PP4)'!$I$120"]
["pp4_bl4_6_2_unit",{"$f":"'T2-B(PP4)'!$C$120","v":0},"#'T2-B(PP4)'!$C$120"]
["pp4_bl4_6_2_unit_in",{"$f":"'T2-B(PP4)'!$D$120","v":0},"#'T2-B(PP4)'!$D$120"]
["pp4_bl4_6_2_units_out",{"$f":"'T2-B(PP4)'!$G$120","v":0},"#'T2-B(PP4)'!$G$120"]
["pp4_bl4_6_3_name",{"$f":"'T2-B(PP4)'!$B$121","v":0},"#'T2-B(PP4)'!$B$121"]
["pp4_bl4_6_3_rate_in",{"$f":"'T2-B(PP4)'!$E$121","v":0},"#'T2-B(PP4)'!$E$121"]
["pp4_bl4_6_3_rate_out",{"$f":"'T2-B(PP4)'!$H$121","v":0},"#'T2-B(PP4)'!$H$121"]
["pp4_bl4_6_3_total",{"$f":"'T2-B(PP4)'!$J$121","v":0},"#'T2-B(PP4)'!$J$121"]
["pp4_bl4_6_3_total_in",{"$f":"'T2-B(PP4)'!$F$121","v":0},"#'T2-B(PP4)'!$F$121"]
["pp4_bl4_6_3_total_out",{"$f":"'T2-B(PP4)'!$I$121","v":0},"#'T2-B(PP4)'!$I$121"]
["pp4_bl4_6_3_unit",{"$f":"'T2-B(PP4)'!$C$121","v":0},"#'T2-B(PP4)'!$C$121"]
["pp4_bl4_6_3_unit_in",{"$f":"'T2-B(PP4)'!$D$121","v":0},"#'T2-B(PP4)'!$D$121"]
["pp4_bl4_6_3_units_out",{"$f":"'T2-B(PP4)'!$G$121","v":0},"#'T2-B(PP4)'!$G$121"]
["pp4_bl4_6_4_name",{"$f":"'T2-B(PP4)'!$B$122","v":0},"#'T2-B(PP4)'!$B$122"]
["pp4_bl4_6_4_rate_in",{"$f":"'T2-B(PP4)'!$E$122","v":0},"#'T2-B(PP4)'!$E$122"]
["pp4_bl4_6_4_rate_out",{"$f":"'T2-B(PP4)'!$H$122","v":0},"#'T2-B(PP4)'!$H$122"]
["pp4_bl4_6_4_total",{"$f":"'T2-B(PP4)'!$J$122","v":0},"#'T2-B(PP4)'!$J$122"]
["pp4_bl4_6_4_total_in",{"$f":"'T2-B(PP4)'!$F$122","v":0},"#'T2-B(PP4)'!$F$122"]
["pp4_bl4_6_4_total_out",{"$f":"'T2-B(PP4)'!$I$122","v":0},"#'T2-B(PP4)'!$I$122"]
["pp4_bl4_6_4_unit",{"$f":"'T2-B(PP4)'!$C$122","v":0},"#'T2-B(PP4)'!$C$122"]
["pp4_bl4_6_4_unit_in",{"$f":"'T2-B(PP4)'!$D$122","v":0},"#'T2-B(PP4)'!$D$122"]
["pp4_bl4_6_4_units_out",{"$f":"'T2-B(PP4)'!$G$122","v":0},"#'T2-B(PP4)'!$G$122"]
["pp4_bl4_6_5_name",{"$f":"'T2-B(PP4)'!$B$123","v":0},"#'T2-B(PP4)'!$B$123"]
["pp4_bl4_6_5_rate_in",{"$f":"'T2-B(PP4)'!$E$123","v":0},"#'T2-B(PP4)'!$E$123"]
["pp4_bl4_6_5_rate_out",{"$f":"'T2-B(PP4)'!$H$123","v":0},"#'T2-B(PP4)'!$H$123"]
["pp4_bl4_6_5_total",{"$f":"'T2-B(PP4)'!$J$123","v":0},"#'T2-B(PP4)'!$J$123"]
["pp4_bl4_6_5_total_in",{"$f":"'T2-B(PP4)'!$F$123","v":0},"#'T2-B(PP4)'!$F$123"]
["pp4_bl4_6_5_total_out",{"$f":"'T2-B(PP4)'!$I$123","v":0},"#'T2-B(PP4)'!$I$123"]
["pp4_bl4_6_5_unit",{"$f":"'T2-B(PP4)'!$C$123","v":0},"#'T2-B(PP4)'!$C$123"]
["pp4_bl4_6_5_unit_in",{"$f":"'T2-B(PP4)'!$D$123","v":0},"#'T2-B(PP4)'!$D$123"]
["pp4_bl4_6_5_units_out",{"$f":"'T2-B(PP4)'!$G$123","v":0},"#'T2-B(PP4)'!$G$123"]
["pp4_bl4_6_6_name",{"$f":"'T2-B(PP4)'!$B$124","v":0},"#'T2-B(PP4)'!$B$124"]
["pp4_bl4_6_6_rate_in",{"$f":"'T2-B(PP4)'!$E$124","v":0},"#'T2-B(PP4)'!$E$124"]
["pp4_bl4_6_6_rate_out",{"$f":"'T2-B(PP4)'!$H$124","v":0},"#'T2-B(PP4)'!$H$124"]
["pp4_bl4_6_6_total",{"$f":"'T2-B(PP4)'!$J$124","v":0},"#'T2-B(PP4)'!$J$124"]
["pp4_bl4_6_6_total_in",{"$f":"'T2-B(PP4)'!$F$124","v":0},"#'T2-B(PP4)'!$F$124"]
["pp4_bl4_6_6_total_out",{"$f":"'T2-B(PP4)'!$I$124","v":0},"#'T2-B(PP4)'!$I$124"]
["pp4_bl4_6_6_unit",{"$f":"'T2-B(PP4)'!$C$124","v":0},"#'T2-B(PP4)'!$C$124"]
["pp4_bl4_6_6_unit_in",{"$f":"'T2-B(PP4)'!$D$124","v":0},"#'T2-B(PP4)'!$D$124"]
["pp4_bl4_6_6_units_out",{"$f":"'T2-B(PP4)'!$G$124","v":0},"#'T2-B(PP4)'!$G$124"]
["pp4_bl4_6_7_name",{"$f":"'T2-B(PP4)'!$B$125","v":0},"#'T2-B(PP4)'!$B$125"]
["pp4_bl4_6_7_rate_in",{"$f":"'T2-B(PP4)'!$E$125","v":0},"#'T2-B(PP4)'!$E$125"]
["pp4_bl4_6_7_rate_out",{"$f":"'T2-B(PP4)'!$H$125","v":0},"#'T2-B(PP4)'!$H$125"]
["pp4_bl4_6_7_total",{"$f":"'T2-B(PP4)'!$J$125","v":0},"#'T2-B(PP4)'!$J$125"]
["pp4_bl4_6_7_total_in",{"$f":"'T2-B(PP4)'!$F$125","v":0},"#'T2-B(PP4)'!$F$125"]
["pp4_bl4_6_7_total_out",{"$f":"'T2-B(PP4)'!$I$125","v":0},"#'T2-B(PP4)'!$I$125"]
["pp4_bl4_6_7_unit",{"$f":"'T2-B(PP4)'!$C$125","v":0},"#'T2-B(PP4)'!$C$125"]
["pp4_bl4_6_7_unit_in",{"$f":"'T2-B(PP4)'!$D$125","v":0},"#'T2-B(PP4)'!$D$125"]
["pp4_bl4_6_7_units_out",{"$f":"'T2-B(PP4)'!$G$125","v":0},"#'T2-B(PP4)'!$G$125"]
["pp4_bl4_6_8_name",{"$f":"'T2-B(PP4)'!$B$126","v":0},"#'T2-B(PP4)'!$B$126"]
["pp4_bl4_6_8_rate_in",{"$f":"'T2-B(PP4)'!$E$126","v":0},"#'T2-B(PP4)'!$E$126"]
["pp4_bl4_6_8_rate_out",{"$f":"'T2-B(PP4)'!$H$126","v":0},"#'T2-B(PP4)'!$H$126"]
["pp4_bl4_6_8_total",{"$f":"'T2-B(PP4)'!$J$126","v":0},"#'T2-B(PP4)'!$J$126"]
["pp4_bl4_6_8_total_in",{"$f":"'T2-B(PP4)'!$F$126","v":0},"#'T2-B(PP4)'!$F$126"]
["pp4_bl4_6_8_total_out",{"$f":"'T2-B(PP4)'!$I$126","v":0},"#'T2-B(PP4)'!$I$126"]
["pp4_bl4_6_8_unit",{"$f":"'T2-B(PP4)'!$C$126","v":0},"#'T2-B(PP4)'!$C$126"]
["pp4_bl4_6_8_unit_in",{"$f":"'T2-B(PP4)'!$D$126","v":0},"#'T2-B(PP4)'!$D$126"]
["pp4_bl4_6_8_units_out",{"$f":"'T2-B(PP4)'!$G$126","v":0},"#'T2-B(PP4)'!$G$126"]
["pp4_bl4_6_9_name",{"$f":"'T2-B(PP4)'!$B$127","v":0},"#'T2-B(PP4)'!$B$127"]
["pp4_bl4_6_9_rate_in",{"$f":"'T2-B(PP4)'!$E$127","v":0},"#'T2-B(PP4)'!$E$127"]
["pp4_bl4_6_9_rate_out",{"$f":"'T2-B(PP4)'!$H$127","v":0},"#'T2-B(PP4)'!$H$127"]
["pp4_bl4_6_9_total",{"$f":"'T2-B(PP4)'!$J$127","v":0},"#'T2-B(PP4)'!$J$127"]
["pp4_bl4_6_9_total_in",{"$f":"'T2-B(PP4)'!$F$127","v":0},"#'T2-B(PP4)'!$F$127"]
["pp4_bl4_6_9_total_out",{"$f":"'T2-B(PP4)'!$I$127","v":0},"#'T2-B(PP4)'!$I$127"]
["pp4_bl4_6_9_unit",{"$f":"'T2-B(PP4)'!$C$127","v":0},"#'T2-B(PP4)'!$C$127"]
["pp4_bl4_6_9_unit_in",{"$f":"'T2-B(PP4)'!$D$127","v":0},"#'T2-B(PP4)'!$D$127"]
["pp4_bl4_6_9_units_out",{"$f":"'T2-B(PP4)'!$G$127","v":0},"#'T2-B(PP4)'!$G$127"]
["pp4_bl4_6_total",{"$f":"'T2-B(PP4)'!$J$118","v":0},"#'T2-B(PP4)'!$J$118"]
["pp4_bl4_6_total_in",{"$f":"'T2-B(PP4)'!$F$118","v":0},"#'T2-B(PP4)'!$F$118"]
["pp4_bl4_6_total_out",{"$f":"'T2-B(PP4)'!$I$118","v":0},"#'T2-B(PP4)'!$I$118"]
["pp4_bl4_7_1_name",{"$f":"'T2-B(PP4)'!$B$130","v":0},"#'T2-B(PP4)'!$B$130"]
["pp4_bl4_7_1_rate_in",{"$f":"'T2-B(PP4)'!$E$130","v":0},"#'T2-B(PP4)'!$E$130"]
["pp4_bl4_7_1_rate_out",{"$f":"'T2-B(PP4)'!$H$130","v":0},"#'T2-B(PP4)'!$H$130"]
["pp4_bl4_7_1_total",{"$f":"'T2-B(PP4)'!$J$130","v":0},"#'T2-B(PP4)'!$J$130"]
["pp4_bl4_7_1_total_in",{"$f":"'T2-B(PP4)'!$F$130","v":0},"#'T2-B(PP4)'!$F$130"]
["pp4_bl4_7_1_total_out",{"$f":"'T2-B(PP4)'!$I$130","v":0},"#'T2-B(PP4)'!$I$130"]
["pp4_bl4_7_1_unit",{"$f":"'T2-B(PP4)'!$C$130","v":0},"#'T2-B(PP4)'!$C$130"]
["pp4_bl4_7_1_unit_in",{"$f":"'T2-B(PP4)'!$D$130","v":0},"#'T2-B(PP4)'!$D$130"]
["pp4_bl4_7_1_units_out",{"$f":"'T2-B(PP4)'!$G$130","v":0},"#'T2-B(PP4)'!$G$130"]
["pp4_bl4_7_10_name",{"$f":"'T2-B(PP4)'!$B$139","v":0},"#'T2-B(PP4)'!$B$139"]
["pp4_bl4_7_10_rate_in",{"$f":"'T2-B(PP4)'!$E$139","v":0},"#'T2-B(PP4)'!$E$139"]
["pp4_bl4_7_10_rate_out",{"$f":"'T2-B(PP4)'!$H$139","v":0},"#'T2-B(PP4)'!$H$139"]
["pp4_bl4_7_10_total",{"$f":"'T2-B(PP4)'!$J$139","v":0},"#'T2-B(PP4)'!$J$139"]
["pp4_bl4_7_10_total_in",{"$f":"'T2-B(PP4)'!$F$139","v":0},"#'T2-B(PP4)'!$F$139"]
["pp4_bl4_7_10_total_out",{"$f":"'T2-B(PP4)'!$I$139","v":0},"#'T2-B(PP4)'!$I$139"]
["pp4_bl4_7_10_unit",{"$f":"'T2-B(PP4)'!$C$139","v":0},"#'T2-B(PP4)'!$C$139"]
["pp4_bl4_7_10_unit_in",{"$f":"'T2-B(PP4)'!$D$139","v":0},"#'T2-B(PP4)'!$D$139"]
["pp4_bl4_7_10_units_out",{"$f":"'T2-B(PP4)'!$G$139","v":0},"#'T2-B(PP4)'!$G$139"]
["pp4_bl4_7_2_name",{"$f":"'T2-B(PP4)'!$B$131","v":0},"#'T2-B(PP4)'!$B$131"]
["pp4_bl4_7_2_rate_in",{"$f":"'T2-B(PP4)'!$E$131","v":0},"#'T2-B(PP4)'!$E$131"]
["pp4_bl4_7_2_rate_out",{"$f":"'T2-B(PP4)'!$H$131","v":0},"#'T2-B(PP4)'!$H$131"]
["pp4_bl4_7_2_total",{"$f":"'T2-B(PP4)'!$J$131","v":0},"#'T2-B(PP4)'!$J$131"]
["pp4_bl4_7_2_total_in",{"$f":"'T2-B(PP4)'!$F$131","v":0},"#'T2-B(PP4)'!$F$131"]
["pp4_bl4_7_2_total_out",{"$f":"'T2-B(PP4)'!$I$131","v":0},"#'T2-B(PP4)'!$I$131"]
["pp4_bl4_7_2_unit",{"$f":"'T2-B(PP4)'!$C$131","v":0},"#'T2-B(PP4)'!$C$131"]
["pp4_bl4_7_2_unit_in",{"$f":"'T2-B(PP4)'!$D$131","v":0},"#'T2-B(PP4)'!$D$131"]
["pp4_bl4_7_2_units_out",{"$f":"'T2-B(PP4)'!$G$131","v":0},"#'T2-B(PP4)'!$G$131"]
["pp4_bl4_7_3_name",{"$f":"'T2-B(PP4)'!$B$132","v":0},"#'T2-B(PP4)'!$B$132"]
["pp4_bl4_7_3_rate_in",{"$f":"'T2-B(PP4)'!$E$132","v":0},"#'T2-B(PP4)'!$E$132"]
["pp4_bl4_7_3_rate_out",{"$f":"'T2-B(PP4)'!$H$132","v":0},"#'T2-B(PP4)'!$H$132"]
["pp4_bl4_7_3_total",{"$f":"'T2-B(PP4)'!$J$132","v":0},"#'T2-B(PP4)'!$J$132"]
["pp4_bl4_7_3_total_in",{"$f":"'T2-B(PP4)'!$F$132","v":0},"#'T2-B(PP4)'!$F$132"]
["pp4_bl4_7_3_total_out",{"$f":"'T2-B(PP4)'!$I$132","v":0},"#'T2-B(PP4)'!$I$132"]
["pp4_bl4_7_3_unit",{"$f":"'T2-B(PP4)'!$C$132","v":0},"#'T2-B(PP4)'!$C$132"]
["pp4_bl4_7_3_unit_in",{"$f":"'T2-B(PP4)'!$D$132","v":0},"#'T2-B(PP4)'!$D$132"]
["pp4_bl4_7_3_units_out",{"$f":"'T2-B(PP4)'!$G$132","v":0},"#'T2-B(PP4)'!$G$132"]
["pp4_bl4_7_4_name",{"$f":"'T2-B(PP4)'!$B$133","v":0},"#'T2-B(PP4)'!$B$133"]
["pp4_bl4_7_4_rate_in",{"$f":"'T2-B(PP4)'!$E$133","v":0},"#'T2-B(PP4)'!$E$133"]
["pp4_bl4_7_4_rate_out",{"$f":"'T2-B(PP4)'!$H$133","v":0},"#'T2-B(PP4)'!$H$133"]
["pp4_bl4_7_4_total",{"$f":"'T2-B(PP4)'!$J$133","v":0},"#'T2-B(PP4)'!$J$133"]
["pp4_bl4_7_4_total_in",{"$f":"'T2-B(PP4)'!$F$133","v":0},"#'T2-B(PP4)'!$F$133"]
["pp4_bl4_7_4_total_out",{"$f":"'T2-B(PP4)'!$I$133","v":0},"#'T2-B(PP4)'!$I$133"]
["pp4_bl4_7_4_unit",{"$f":"'T2-B(PP4)'!$C$133","v":0},"#'T2-B(PP4)'!$C$133"]
["pp4_bl4_7_4_unit_in",{"$f":"'T2-B(PP4)'!$D$133","v":0},"#'T2-B(PP4)'!$D$133"]
["pp4_bl4_7_4_units_out",{"$f":"'T2-B(PP4)'!$G$133","v":0},"#'T2-B(PP4)'!$G$133"]
["pp4_bl4_7_5_name",{"$f":"'T2-B(PP4)'!$B$134","v":0},"#'T2-B(PP4)'!$B$134"]
["pp4_bl4_7_5_rate_in",{"$f":"'T2-B(PP4)'!$E$134","v":0},"#'T2-B(PP4)'!$E$134"]
["pp4_bl4_7_5_rate_out",{"$f":"'T2-B(PP4)'!$H$134","v":0},"#'T2-B(PP4)'!$H$134"]
["pp4_bl4_7_5_total",{"$f":"'T2-B(PP4)'!$J$134","v":0},"#'T2-B(PP4)'!$J$134"]
["pp4_bl4_7_5_total_in",{"$f":"'T2-B(PP4)'!$F$134","v":0},"#'T2-B(PP4)'!$F$134"]
["pp4_bl4_7_5_total_out",{"$f":"'T2-B(PP4)'!$I$134","v":0},"#'T2-B(PP4)'!$I$134"]
["pp4_bl4_7_5_unit",{"$f":"'T2-B(PP4)'!$C$134","v":0},"#'T2-B(PP4)'!$C$134"]
["pp4_bl4_7_5_unit_in",{"$f":"'T2-B(PP4)'!$D$134","v":0},"#'T2-B(PP4)'!$D$134"]
["pp4_bl4_7_5_units_out",{"$f":"'T2-B(PP4)'!$G$134","v":0},"#'T2-B(PP4)'!$G$134"]
["pp4_bl4_7_6_name",{"$f":"'T2-B(PP4)'!$B$135","v":0},"#'T2-B(PP4)'!$B$135"]
["pp4_bl4_7_6_rate_in",{"$f":"'T2-B(PP4)'!$E$135","v":0},"#'T2-B(PP4)'!$E$135"]
["pp4_bl4_7_6_rate_out",{"$f":"'T2-B(PP4)'!$H$135","v":0},"#'T2-B(PP4)'!$H$135"]
["pp4_bl4_7_6_total",{"$f":"'T2-B(PP4)'!$J$135","v":0},"#'T2-B(PP4)'!$J$135"]
["pp4_bl4_7_6_total_in",{"$f":"'T2-B(PP4)'!$F$135","v":0},"#'T2-B(PP4)'!$F$135"]
["pp4_bl4_7_6_total_out",{"$f":"'T2-B(PP4)'!$I$135","v":0},"#'T2-B(PP4)'!$I$135"]
["pp4_bl4_7_6_unit",{"$f":"'T2-B(PP4)'!$C$135","v":0},"#'T2-B(PP4)'!$C$135"]
["pp4_bl4_7_6_unit_in",{"$f":"'T2-B(PP4)'!$D$135","v":0},"#'T2-B(PP4)'!$D$135"]
["pp4_bl4_7_6_units_out",{"$f":"'T2-B(PP4)'!$G$135","v":0},"#'T2-B(PP4)'!$G$135"]
["pp4_bl4_7_7_name",{"$f":"'T2-B(PP4)'!$B$136","v":0},"#'T2-B(PP4)'!$B$136"]
["pp4_bl4_7_7_rate_in",{"$f":"'T2-B(PP4)'!$E$136","v":0},"#'T2-B(PP4)'!$E$136"]
["pp4_bl4_7_7_rate_out",{"$f":"'T2-B(PP4)'!$H$136","v":0},"#'T2-B(PP4)'!$H$136"]
["pp4_bl4_7_7_total",{"$f":"'T2-B(PP4)'!$J$136","v":0},"#'T2-B(PP4)'!$J$136"]
["pp4_bl4_7_7_total_in",{"$f":"'T2-B(PP4)'!$F$136","v":0},"#'T2-B(PP4)'!$F$136"]
["pp4_bl4_7_7_total_out",{"$f":"'T2-B(PP4)'!$I$136","v":0},"#'T2-B(PP4)'!$I$136"]
["pp4_bl4_7_7_unit",{"$f":"'T2-B(PP4)'!$C$136","v":0},"#'T2-B(PP4)'!$C$136"]
["pp4_bl4_7_7_unit_in",{"$f":"'T2-B(PP4)'!$D$136","v":0},"#'T2-B(PP4)'!$D$136"]
["pp4_bl4_7_7_units_out",{"$f":"'T2-B(PP4)'!$G$136","v":0},"#'T2-B(PP4)'!$G$136"]
["pp4_bl4_7_8_name",{"$f":"'T2-B(PP4)'!$B$137","v":0},"#'T2-B(PP4)'!$B$137"]
["pp4_bl4_7_8_rate_in",{"$f":"'T2-B(PP4)'!$E$137","v":0},"#'T2-B(PP4)'!$E$137"]
["pp4_bl4_7_8_rate_out",{"$f":"'T2-B(PP4)'!$H$137","v":0},"#'T2-B(PP4)'!$H$137"]
["pp4_bl4_7_8_total",{"$f":"'T2-B(PP4)'!$J$137","v":0},"#'T2-B(PP4)'!$J$137"]
["pp4_bl4_7_8_total_in",{"$f":"'T2-B(PP4)'!$F$137","v":0},"#'T2-B(PP4)'!$F$137"]
["pp4_bl4_7_8_total_out",{"$f":"'T2-B(PP4)'!$I$137","v":0},"#'T2-B(PP4)'!$I$137"]
["pp4_bl4_7_8_unit",{"$f":"'T2-B(PP4)'!$C$137","v":0},"#'T2-B(PP4)'!$C$137"]
["pp4_bl4_7_8_unit_in",{"$f":"'T2-B(PP4)'!$D$137","v":0},"#'T2-B(PP4)'!$D$137"]
["pp4_bl4_7_8_units_out",{"$f":"'T2-B(PP4)'!$G$137","v":0},"#'T2-B(PP4)'!$G$137"]
["pp4_bl4_7_9_name",{"$f":"'T2-B(PP4)'!$B$138","v":0},"#'T2-B(PP4)'!$B$138"]
["pp4_bl4_7_9_rate_in",{"$f":"'T2-B(PP4)'!$E$138","v":0},"#'T2-B(PP4)'!$E$138"]
["pp4_bl4_7_9_rate_out",{"$f":"'T2-B(PP4)'!$H$138","v":0},"#'T2-B(PP4)'!$H$138"]
["pp4_bl4_7_9_total",{"$f":"'T2-B(PP4)'!$J$138","v":0},"#'T2-B(PP4)'!$J$138"]
["pp4_bl4_7_9_total_in",{"$f":"'T2-B(PP4)'!$F$138","v":0},"#'T2-B(PP4)'!$F$138"]
["pp4_bl4_7_9_total_out",{"$f":"'T2-B(PP4)'!$I$138","v":0},"#'T2-B(PP4)'!$I$138"]
["pp4_bl4_7_9_unit",{"$f":"'T2-B(PP4)'!$C$138","v":0},"#'T2-B(PP4)'!$C$138"]
["pp4_bl4_7_9_unit_in",{"$f":"'T2-B(PP4)'!$D$138","v":0},"#'T2-B(PP4)'!$D$138"]
["pp4_bl4_7_9_units_out",{"$f":"'T2-B(PP4)'!$G$138","v":0},"#'T2-B(PP4)'!$G$138"]
["pp4_bl4_7_total",{"$f":"'T2-B(PP4)'!$J$129","v":0},"#'T2-B(PP4)'!$J$129"]
["pp4_bl4_7_total_in",{"$f":"'T2-B(PP4)'!$F$129","v":0},"#'T2-B(PP4)'!$F$129"]
["pp4_bl4_7_total_out",{"$f":"'T2-B(PP4)'!$I$129","v":0},"#'T2-B(PP4)'!$I$129"]
["pp4_bl4_8_1_name",{"$f":"'T2-B(PP4)'!$B$141","v":0},"#'T2-B(PP4)'!$B$141"]
["pp4_bl4_8_1_rate_in",{"$f":"'T2-B(PP4)'!$E$141","v":0},"#'T2-B(PP4)'!$E$141"]
["pp4_bl4_8_1_rate_out",{"$f":"'T2-B(PP4)'!$H$141","v":0},"#'T2-B(PP4)'!$H$141"]
["pp4_bl4_8_1_total",{"$f":"'T2-B(PP4)'!$J$141","v":0},"#'T2-B(PP4)'!$J$141"]
["pp4_bl4_8_1_total_in",{"$f":"'T2-B(PP4)'!$F$141","v":0},"#'T2-B(PP4)'!$F$141"]
["pp4_bl4_8_1_total_out",{"$f":"'T2-B(PP4)'!$I$141","v":0},"#'T2-B(PP4)'!$I$141"]
["pp4_bl4_8_1_unit",{"$f":"'T2-B(PP4)'!$C$141","v":0},"#'T2-B(PP4)'!$C$141"]
["pp4_bl4_8_1_unit_in",{"$f":"'T2-B(PP4)'!$D$141","v":0},"#'T2-B(PP4)'!$D$141"]
["pp4_bl4_8_1_units_out",{"$f":"'T2-B(PP4)'!$G$141","v":0},"#'T2-B(PP4)'!$G$141"]
["pp4_bl4_8_10_name",{"$f":"'T2-B(PP4)'!$B$150","v":0},"#'T2-B(PP4)'!$B$150"]
["pp4_bl4_8_10_rate_in",{"$f":"'T2-B(PP4)'!$E$150","v":0},"#'T2-B(PP4)'!$E$150"]
["pp4_bl4_8_10_rate_out",{"$f":"'T2-B(PP4)'!$H$150","v":0},"#'T2-B(PP4)'!$H$150"]
["pp4_bl4_8_10_total",{"$f":"'T2-B(PP4)'!$J$150","v":0},"#'T2-B(PP4)'!$J$150"]
["pp4_bl4_8_10_total_in",{"$f":"'T2-B(PP4)'!$F$150","v":0},"#'T2-B(PP4)'!$F$150"]
["pp4_bl4_8_10_total_out",{"$f":"'T2-B(PP4)'!$I$150","v":0},"#'T2-B(PP4)'!$I$150"]
["pp4_bl4_8_10_unit",{"$f":"'T2-B(PP4)'!$C$150","v":0},"#'T2-B(PP4)'!$C$150"]
["pp4_bl4_8_10_unit_in",{"$f":"'T2-B(PP4)'!$D$150","v":0},"#'T2-B(PP4)'!$D$150"]
["pp4_bl4_8_10_units_out",{"$f":"'T2-B(PP4)'!$G$150","v":0},"#'T2-B(PP4)'!$G$150"]
["pp4_bl4_8_2_name",{"$f":"'T2-B(PP4)'!$B$142","v":0},"#'T2-B(PP4)'!$B$142"]
["pp4_bl4_8_2_rate_in",{"$f":"'T2-B(PP4)'!$E$142","v":0},"#'T2-B(PP4)'!$E$142"]
["pp4_bl4_8_2_rate_out",{"$f":"'T2-B(PP4)'!$H$142","v":0},"#'T2-B(PP4)'!$H$142"]
["pp4_bl4_8_2_total",{"$f":"'T2-B(PP4)'!$J$142","v":0},"#'T2-B(PP4)'!$J$142"]
["pp4_bl4_8_2_total_in",{"$f":"'T2-B(PP4)'!$F$142","v":0},"#'T2-B(PP4)'!$F$142"]
["pp4_bl4_8_2_total_out",{"$f":"'T2-B(PP4)'!$I$142","v":0},"#'T2-B(PP4)'!$I$142"]
["pp4_bl4_8_2_unit",{"$f":"'T2-B(PP4)'!$C$142","v":0},"#'T2-B(PP4)'!$C$142"]
["pp4_bl4_8_2_unit_in",{"$f":"'T2-B(PP4)'!$D$142","v":0},"#'T2-B(PP4)'!$D$142"]
["pp4_bl4_8_2_units_out",{"$f":"'T2-B(PP4)'!$G$142","v":0},"#'T2-B(PP4)'!$G$142"]
["pp4_bl4_8_3_name",{"$f":"'T2-B(PP4)'!$B$143","v":0},"#'T2-B(PP4)'!$B$143"]
["pp4_bl4_8_3_rate_in",{"$f":"'T2-B(PP4)'!$E$143","v":0},"#'T2-B(PP4)'!$E$143"]
["pp4_bl4_8_3_rate_out",{"$f":"'T2-B(PP4)'!$H$143","v":0},"#'T2-B(PP4)'!$H$143"]
["pp4_bl4_8_3_total",{"$f":"'T2-B(PP4)'!$J$143","v":0},"#'T2-B(PP4)'!$J$143"]
["pp4_bl4_8_3_total_in",{"$f":"'T2-B(PP4)'!$F$143","v":0},"#'T2-B(PP4)'!$F$143"]
["pp4_bl4_8_3_total_out",{"$f":"'T2-B(PP4)'!$I$143","v":0},"#'T2-B(PP4)'!$I$143"]
["pp4_bl4_8_3_unit",{"$f":"'T2-B(PP4)'!$C$143","v":0},"#'T2-B(PP4)'!$C$143"]
["pp4_bl4_8_3_unit_in",{"$f":"'T2-B(PP4)'!$D$143","v":0},"#'T2-B(PP4)'!$D$143"]
["pp4_bl4_8_3_units_out",{"$f":"'T2-B(PP4)'!$G$143","v":0},"#'T2-B(PP4)'!$G$143"]
["pp4_bl4_8_4_name",{"$f":"'T2-B(PP4)'!$B$144","v":0},"#'T2-B(PP4)'!$B$144"]
["pp4_bl4_8_4_rate_in",{"$f":"'T2-B(PP4)'!$E$144","v":0},"#'T2-B(PP4)'!$E$144"]
["pp4_bl4_8_4_rate_out",{"$f":"'T2-B(PP4)'!$H$144","v":0},"#'T2-B(PP4)'!$H$144"]
["pp4_bl4_8_4_total",{"$f":"'T2-B(PP4)'!$J$144","v":0},"#'T2-B(PP4)'!$J$144"]
["pp4_bl4_8_4_total_in",{"$f":"'T2-B(PP4)'!$F$144","v":0},"#'T2-B(PP4)'!$F$144"]
["pp4_bl4_8_4_total_out",{"$f":"'T2-B(PP4)'!$I$144","v":0},"#'T2-B(PP4)'!$I$144"]
["pp4_bl4_8_4_unit",{"$f":"'T2-B(PP4)'!$C$144","v":0},"#'T2-B(PP4)'!$C$144"]
["pp4_bl4_8_4_unit_in",{"$f":"'T2-B(PP4)'!$D$144","v":0},"#'T2-B(PP4)'!$D$144"]
["pp4_bl4_8_4_units_out",{"$f":"'T2-B(PP4)'!$G$144","v":0},"#'T2-B(PP4)'!$G$144"]
["pp4_bl4_8_5_name",{"$f":"'T2-B(PP4)'!$B$145","v":0},"#'T2-B(PP4)'!$B$145"]
["pp4_bl4_8_5_rate_in",{"$f":"'T2-B(PP4)'!$E$145","v":0},"#'T2-B(PP4)'!$E$145"]
["pp4_bl4_8_5_rate_out",{"$f":"'T2-B(PP4)'!$H$145","v":0},"#'T2-B(PP4)'!$H$145"]
["pp4_bl4_8_5_total",{"$f":"'T2-B(PP4)'!$J$145","v":0},"#'T2-B(PP4)'!$J$145"]
["pp4_bl4_8_5_total_in",{"$f":"'T2-B(PP4)'!$F$145","v":0},"#'T2-B(PP4)'!$F$145"]
["pp4_bl4_8_5_total_out",{"$f":"'T2-B(PP4)'!$I$145","v":0},"#'T2-B(PP4)'!$I$145"]
["pp4_bl4_8_5_unit",{"$f":"'T2-B(PP4)'!$C$145","v":0},"#'T2-B(PP4)'!$C$145"]
["pp4_bl4_8_5_unit_in",{"$f":"'T2-B(PP4)'!$D$145","v":0},"#'T2-B(PP4)'!$D$145"]
["pp4_bl4_8_5_units_out",{"$f":"'T2-B(PP4)'!$G$145","v":0},"#'T2-B(PP4)'!$G$145"]
["pp4_bl4_8_6_name",{"$f":"'T2-B(PP4)'!$B$146","v":0},"#'T2-B(PP4)'!$B$146"]
["pp4_bl4_8_6_rate_in",{"$f":"'T2-B(PP4)'!$E$146","v":0},"#'T2-B(PP4)'!$E$146"]
["pp4_bl4_8_6_rate_out",{"$f":"'T2-B(PP4)'!$H$146","v":0},"#'T2-B(PP4)'!$H$146"]
["pp4_bl4_8_6_total",{"$f":"'T2-B(PP4)'!$J$146","v":0},"#'T2-B(PP4)'!$J$146"]
["pp4_bl4_8_6_total_in",{"$f":"'T2-B(PP4)'!$F$146","v":0},"#'T2-B(PP4)'!$F$146"]
["pp4_bl4_8_6_total_out",{"$f":"'T2-B(PP4)'!$I$146","v":0},"#'T2-B(PP4)'!$I$146"]
["pp4_bl4_8_6_unit",{"$f":"'T2-B(PP4)'!$C$146","v":0},"#'T2-B(PP4)'!$C$146"]
["pp4_bl4_8_6_unit_in",{"$f":"'T2-B(PP4)'!$D$146","v":0},"#'T2-B(PP4)'!$D$146"]
["pp4_bl4_8_6_units_out",{"$f":"'T2-B(PP4)'!$G$146","v":0},"#'T2-B(PP4)'!$G$146"]
["pp4_bl4_8_7_name",{"$f":"'T2-B(PP4)'!$B$147","v":0},"#'T2-B(PP4)'!$B$147"]
["pp4_bl4_8_7_rate_in",{"$f":"'T2-B(PP4)'!$E$147","v":0},"#'T2-B(PP4)'!$E$147"]
["pp4_bl4_8_7_rate_out",{"$f":"'T2-B(PP4)'!$H$147","v":0},"#'T2-B(PP4)'!$H$147"]
["pp4_bl4_8_7_total",{"$f":"'T2-B(PP4)'!$J$147","v":0},"#'T2-B(PP4)'!$J$147"]
["pp4_bl4_8_7_total_in",{"$f":"'T2-B(PP4)'!$F$147","v":0},"#'T2-B(PP4)'!$F$147"]
["pp4_bl4_8_7_total_out",{"$f":"'T2-B(PP4)'!$I$147","v":0},"#'T2-B(PP4)'!$I$147"]
["pp4_bl4_8_7_unit",{"$f":"'T2-B(PP4)'!$C$147","v":0},"#'T2-B(PP4)'!$C$147"]
["pp4_bl4_8_7_unit_in",{"$f":"'T2-B(PP4)'!$D$147","v":0},"#'T2-B(PP4)'!$D$147"]
["pp4_bl4_8_7_units_out",{"$f":"'T2-B(PP4)'!$G$147","v":0},"#'T2-B(PP4)'!$G$147"]
["pp4_bl4_8_8_name",{"$f":"'T2-B(PP4)'!$B$148","v":0},"#'T2-B(PP4)'!$B$148"]
["pp4_bl4_8_8_rate_in",{"$f":"'T2-B(PP4)'!$E$148","v":0},"#'T2-B(PP4)'!$E$148"]
["pp4_bl4_8_8_rate_out",{"$f":"'T2-B(PP4)'!$H$148","v":0},"#'T2-B(PP4)'!$H$148"]
["pp4_bl4_8_8_total",{"$f":"'T2-B(PP4)'!$J$148","v":0},"#'T2-B(PP4)'!$J$148"]
["pp4_bl4_8_8_total_in",{"$f":"'T2-B(PP4)'!$F$148","v":0},"#'T2-B(PP4)'!$F$148"]
["pp4_bl4_8_8_total_out",{"$f":"'T2-B(PP4)'!$I$148","v":0},"#'T2-B(PP4)'!$I$148"]
["pp4_bl4_8_8_unit",{"$f":"'T2-B(PP4)'!$C$148","v":0},"#'T2-B(PP4)'!$C$148"]
["pp4_bl4_8_8_unit_in",{"$f":"'T2-B(PP4)'!$D$148","v":0},"#'T2-B(PP4)'!$D$148"]
["pp4_bl4_8_8_units_out",{"$f":"'T2-B(PP4)'!$G$148","v":0},"#'T2-B(PP4)'!$G$148"]
["pp4_bl4_8_9_name",{"$f":"'T2-B(PP4)'!$B$149","v":0},"#'T2-B(PP4)'!$B$149"]
["pp4_bl4_8_9_rate_in",{"$f":"'T2-B(PP4)'!$E$149","v":0},"#'T2-B(PP4)'!$E$149"]
["pp4_bl4_8_9_rate_out",{"$f":"'T2-B(PP4)'!$H$149","v":0},"#'T2-B(PP4)'!$H$149"]
["pp4_bl4_8_9_total",{"$f":"'T2-B(PP4)'!$J$149","v":0},"#'T2-B(PP4)'!$J$149"]
["pp4_bl4_8_9_total_in",{"$f":"'T2-B(PP4)'!$F$149","v":0},"#'T2-B(PP4)'!$F$149"]
["pp4_bl4_8_9_total_out",{"$f":"'T2-B(PP4)'!$I$149","v":0},"#'T2-B(PP4)'!$I$149"]
["pp4_bl4_8_9_unit",{"$f":"'T2-B(PP4)'!$C$149","v":0},"#'T2-B(PP4)'!$C$149"]
["pp4_bl4_8_9_unit_in",{"$f":"'T2-B(PP4)'!$D$149","v":0},"#'T2-B(PP4)'!$D$149"]
["pp4_bl4_8_9_units_out",{"$f":"'T2-B(PP4)'!$G$149","v":0},"#'T2-B(PP4)'!$G$149"]
["pp4_bl4_8_total",{"$f":"'T2-B(PP4)'!$J$140","v":0},"#'T2-B(PP4)'!$J$140"]
["pp4_bl4_8_total_in",{"$f":"'T2-B(PP4)'!$F$140","v":0},"#'T2-B(PP4)'!$F$140"]
["pp4_bl4_8_total_out",{"$f":"'T2-B(PP4)'!$I$140","v":0},"#'T2-B(PP4)'!$I$140"]
["pp4_bl4_9_1_name",{"$f":"'T2-B(PP4)'!$B$152","v":0},"#'T2-B(PP4)'!$B$152"]
["pp4_bl4_9_1_rate_in",{"$f":"'T2-B(PP4)'!$E$152","v":0},"#'T2-B(PP4)'!$E$152"]
["pp4_bl4_9_1_rate_out",{"$f":"'T2-B(PP4)'!$H$152","v":0},"#'T2-B(PP4)'!$H$152"]
["pp4_bl4_9_1_total",{"$f":"'T2-B(PP4)'!$J$152","v":0},"#'T2-B(PP4)'!$J$152"]
["pp4_bl4_9_1_total_in",{"$f":"'T2-B(PP4)'!$F$152","v":0},"#'T2-B(PP4)'!$F$152"]
["pp4_bl4_9_1_total_out",{"$f":"'T2-B(PP4)'!$I$152","v":0},"#'T2-B(PP4)'!$I$152"]
["pp4_bl4_9_1_unit",{"$f":"'T2-B(PP4)'!$C$152","v":0},"#'T2-B(PP4)'!$C$152"]
["pp4_bl4_9_1_unit_in",{"$f":"'T2-B(PP4)'!$D$152","v":0},"#'T2-B(PP4)'!$D$152"]
["pp4_bl4_9_1_units_out",{"$f":"'T2-B(PP4)'!$G$152","v":0},"#'T2-B(PP4)'!$G$152"]
["pp4_bl4_9_10_name",{"$f":"'T2-B(PP4)'!$B$161","v":0},"#'T2-B(PP4)'!$B$161"]
["pp4_bl4_9_10_rate_in",{"$f":"'T2-B(PP4)'!$E$161","v":0},"#'T2-B(PP4)'!$E$161"]
["pp4_bl4_9_10_rate_out",{"$f":"'T2-B(PP4)'!$H$161","v":0},"#'T2-B(PP4)'!$H$161"]
["pp4_bl4_9_10_total",{"$f":"'T2-B(PP4)'!$J$161","v":0},"#'T2-B(PP4)'!$J$161"]
["pp4_bl4_9_10_total_in",{"$f":"'T2-B(PP4)'!$F$161","v":0},"#'T2-B(PP4)'!$F$161"]
["pp4_bl4_9_10_total_out",{"$f":"'T2-B(PP4)'!$I$161","v":0},"#'T2-B(PP4)'!$I$161"]
["pp4_bl4_9_10_unit",{"$f":"'T2-B(PP4)'!$C$161","v":0},"#'T2-B(PP4)'!$C$161"]
["pp4_bl4_9_10_unit_in",{"$f":"'T2-B(PP4)'!$D$161","v":0},"#'T2-B(PP4)'!$D$161"]
["pp4_bl4_9_10_units_out",{"$f":"'T2-B(PP4)'!$G$161","v":0},"#'T2-B(PP4)'!$G$161"]
["pp4_bl4_9_2_name",{"$f":"'T2-B(PP4)'!$B$153","v":0},"#'T2-B(PP4)'!$B$153"]
["pp4_bl4_9_2_rate_in",{"$f":"'T2-B(PP4)'!$E$153","v":0},"#'T2-B(PP4)'!$E$153"]
["pp4_bl4_9_2_rate_out",{"$f":"'T2-B(PP4)'!$H$153","v":0},"#'T2-B(PP4)'!$H$153"]
["pp4_bl4_9_2_total",{"$f":"'T2-B(PP4)'!$J$153","v":0},"#'T2-B(PP4)'!$J$153"]
["pp4_bl4_9_2_total_in",{"$f":"'T2-B(PP4)'!$F$153","v":0},"#'T2-B(PP4)'!$F$153"]
["pp4_bl4_9_2_total_out",{"$f":"'T2-B(PP4)'!$I$153","v":0},"#'T2-B(PP4)'!$I$153"]
["pp4_bl4_9_2_unit",{"$f":"'T2-B(PP4)'!$C$153","v":0},"#'T2-B(PP4)'!$C$153"]
["pp4_bl4_9_2_unit_in",{"$f":"'T2-B(PP4)'!$D$153","v":0},"#'T2-B(PP4)'!$D$153"]
["pp4_bl4_9_2_units_out",{"$f":"'T2-B(PP4)'!$G$153","v":0},"#'T2-B(PP4)'!$G$153"]
["pp4_bl4_9_3_name",{"$f":"'T2-B(PP4)'!$B$154","v":0},"#'T2-B(PP4)'!$B$154"]
["pp4_bl4_9_3_rate_in",{"$f":"'T2-B(PP4)'!$E$154","v":0},"#'T2-B(PP4)'!$E$154"]
["pp4_bl4_9_3_rate_out",{"$f":"'T2-B(PP4)'!$H$154","v":0},"#'T2-B(PP4)'!$H$154"]
["pp4_bl4_9_3_total",{"$f":"'T2-B(PP4)'!$J$154","v":0},"#'T2-B(PP4)'!$J$154"]
["pp4_bl4_9_3_total_in",{"$f":"'T2-B(PP4)'!$F$154","v":0},"#'T2-B(PP4)'!$F$154"]
["pp4_bl4_9_3_total_out",{"$f":"'T2-B(PP4)'!$I$154","v":0},"#'T2-B(PP4)'!$I$154"]
["pp4_bl4_9_3_unit",{"$f":"'T2-B(PP4)'!$C$154","v":0},"#'T2-B(PP4)'!$C$154"]
["pp4_bl4_9_3_unit_in",{"$f":"'T2-B(PP4)'!$D$154","v":0},"#'T2-B(PP4)'!$D$154"]
["pp4_bl4_9_3_units_out",{"$f":"'T2-B(PP4)'!$G$154","v":0},"#'T2-B(PP4)'!$G$154"]
["pp4_bl4_9_4_name",{"$f":"'T2-B(PP4)'!$B$155","v":0},"#'T2-B(PP4)'!$B$155"]
["pp4_bl4_9_4_rate_in",{"$f":"'T2-B(PP4)'!$E$155","v":0},"#'T2-B(PP4)'!$E$155"]
["pp4_bl4_9_4_rate_out",{"$f":"'T2-B(PP4)'!$H$155","v":0},"#'T2-B(PP4)'!$H$155"]
["pp4_bl4_9_4_total",{"$f":"'T2-B(PP4)'!$J$155","v":0},"#'T2-B(PP4)'!$J$155"]
["pp4_bl4_9_4_total_in",{"$f":"'T2-B(PP4)'!$F$155","v":0},"#'T2-B(PP4)'!$F$155"]
["pp4_bl4_9_4_total_out",{"$f":"'T2-B(PP4)'!$I$155","v":0},"#'T2-B(PP4)'!$I$155"]
["pp4_bl4_9_4_unit",{"$f":"'T2-B(PP4)'!$C$155","v":0},"#'T2-B(PP4)'!$C$155"]
["pp4_bl4_9_4_unit_in",{"$f":"'T2-B(PP4)'!$D$155","v":0},"#'T2-B(PP4)'!$D$155"]
["pp4_bl4_9_4_units_out",{"$f":"'T2-B(PP4)'!$G$155","v":0},"#'T2-B(PP4)'!$G$155"]
["pp4_bl4_9_5_name",{"$f":"'T2-B(PP4)'!$B$156","v":0},"#'T2-B(PP4)'!$B$156"]
["pp4_bl4_9_5_rate_in",{"$f":"'T2-B(PP4)'!$E$156","v":0},"#'T2-B(PP4)'!$E$156"]
["pp4_bl4_9_5_rate_out",{"$f":"'T2-B(PP4)'!$H$156","v":0},"#'T2-B(PP4)'!$H$156"]
["pp4_bl4_9_5_total",{"$f":"'T2-B(PP4)'!$J$156","v":0},"#'T2-B(PP4)'!$J$156"]
["pp4_bl4_9_5_total_in",{"$f":"'T2-B(PP4)'!$F$156","v":0},"#'T2-B(PP4)'!$F$156"]
["pp4_bl4_9_5_total_out",{"$f":"'T2-B(PP4)'!$I$156","v":0},"#'T2-B(PP4)'!$I$156"]
["pp4_bl4_9_5_unit",{"$f":"'T2-B(PP4)'!$C$156","v":0},"#'T2-B(PP4)'!$C$156"]
["pp4_bl4_9_5_unit_in",{"$f":"'T2-B(PP4)'!$D$156","v":0},"#'T2-B(PP4)'!$D$156"]
["pp4_bl4_9_5_units_out",{"$f":"'T2-B(PP4)'!$G$156","v":0},"#'T2-B(PP4)'!$G$156"]
["pp4_bl4_9_6_name",{"$f":"'T2-B(PP4)'!$B$157","v":0},"#'T2-B(PP4)'!$B$157"]
["pp4_bl4_9_6_rate_in",{"$f":"'T2-B(PP4)'!$E$157","v":0},"#'T2-B(PP4)'!$E$157"]
["pp4_bl4_9_6_rate_out",{"$f":"'T2-B(PP4)'!$H$157","v":0},"#'T2-B(PP4)'!$H$157"]
["pp4_bl4_9_6_total",{"$f":"'T2-B(PP4)'!$J$157","v":0},"#'T2-B(PP4)'!$J$157"]
["pp4_bl4_9_6_total_in",{"$f":"'T2-B(PP4)'!$F$157","v":0},"#'T2-B(PP4)'!$F$157"]
["pp4_bl4_9_6_total_out",{"$f":"'T2-B(PP4)'!$I$157","v":0},"#'T2-B(PP4)'!$I$157"]
["pp4_bl4_9_6_unit",{"$f":"'T2-B(PP4)'!$C$157","v":0},"#'T2-B(PP4)'!$C$157"]
["pp4_bl4_9_6_unit_in",{"$f":"'T2-B(PP4)'!$D$157","v":0},"#'T2-B(PP4)'!$D$157"]
["pp4_bl4_9_6_units_out",{"$f":"'T2-B(PP4)'!$G$157","v":0},"#'T2-B(PP4)'!$G$157"]
["pp4_bl4_9_7_name",{"$f":"'T2-B(PP4)'!$B$158","v":0},"#'T2-B(PP4)'!$B$158"]
["pp4_bl4_9_7_rate_in",{"$f":"'T2-B(PP4)'!$E$158","v":0},"#'T2-B(PP4)'!$E$158"]
["pp4_bl4_9_7_rate_out",{"$f":"'T2-B(PP4)'!$H$158","v":0},"#'T2-B(PP4)'!$H$158"]
["pp4_bl4_9_7_total",{"$f":"'T2-B(PP4)'!$J$158","v":0},"#'T2-B(PP4)'!$J$158"]
["pp4_bl4_9_7_total_in",{"$f":"'T2-B(PP4)'!$F$158","v":0},"#'T2-B(PP4)'!$F$158"]
["pp4_bl4_9_7_total_out",{"$f":"'T2-B(PP4)'!$I$158","v":0},"#'T2-B(PP4)'!$I$158"]
["pp4_bl4_9_7_unit",{"$f":"'T2-B(PP4)'!$C$158","v":0},"#'T2-B(PP4)'!$C$158"]
["pp4_bl4_9_7_unit_in",{"$f":"'T2-B(PP4)'!$D$158","v":0},"#'T2-B(PP4)'!$D$158"]
["pp4_bl4_9_7_units_out",{"$f":"'T2-B(PP4)'!$G$158","v":0},"#'T2-B(PP4)'!$G$158"]
["pp4_bl4_9_8_name",{"$f":"'T2-B(PP4)'!$B$159","v":0},"#'T2-B(PP4)'!$B$159"]
["pp4_bl4_9_8_rate_in",{"$f":"'T2-B(PP4)'!$E$159","v":0},"#'T2-B(PP4)'!$E$159"]
["pp4_bl4_9_8_rate_out",{"$f":"'T2-B(PP4)'!$H$159","v":0},"#'T2-B(PP4)'!$H$159"]
["pp4_bl4_9_8_total",{"$f":"'T2-B(PP4)'!$J$159","v":0},"#'T2-B(PP4)'!$J$159"]
["pp4_bl4_9_8_total_in",{"$f":"'T2-B(PP4)'!$F$159","v":0},"#'T2-B(PP4)'!$F$159"]
["pp4_bl4_9_8_total_out",{"$f":"'T2-B(PP4)'!$I$159","v":0},"#'T2-B(PP4)'!$I$159"]
["pp4_bl4_9_8_unit",{"$f":"'T2-B(PP4)'!$C$159","v":0},"#'T2-B(PP4)'!$C$159"]
["pp4_bl4_9_8_unit_in",{"$f":"'T2-B(PP4)'!$D$159","v":0},"#'T2-B(PP4)'!$D$159"]
["pp4_bl4_9_8_units_out",{"$f":"'T2-B(PP4)'!$G$159","v":0},"#'T2-B(PP4)'!$G$159"]
["pp4_bl4_9_9_name",{"$f":"'T2-B(PP4)'!$B$160","v":0},"#'T2-B(PP4)'!$B$160"]
["pp4_bl4_9_9_rate_in",{"$f":"'T2-B(PP4)'!$E$160","v":0},"#'T2-B(PP4)'!$E$160"]
["pp4_bl4_9_9_rate_out",{"$f":"'T2-B(PP4)'!$H$160","v":0},"#'T2-B(PP4)'!$H$160"]
["pp4_bl4_9_9_total",{"$f":"'T2-B(PP4)'!$J$160","v":0},"#'T2-B(PP4)'!$J$160"]
["pp4_bl4_9_9_total_in",{"$f":"'T2-B(PP4)'!$F$160","v":0},"#'T2-B(PP4)'!$F$160"]
["pp4_bl4_9_9_total_out",{"$f":"'T2-B(PP4)'!$I$160","v":0},"#'T2-B(PP4)'!$I$160"]
["pp4_bl4_9_9_unit",{"$f":"'T2-B(PP4)'!$C$160","v":0},"#'T2-B(PP4)'!$C$160"]
["pp4_bl4_9_9_unit_in",{"$f":"'T2-B(PP4)'!$D$160","v":0},"#'T2-B(PP4)'!$D$160"]
["pp4_bl4_9_9_units_out",{"$f":"'T2-B(PP4)'!$G$160","v":0},"#'T2-B(PP4)'!$G$160"]
["pp4_bl4_9_total",{"$f":"'T2-B(PP4)'!$J$151","v":0},"#'T2-B(PP4)'!$J$151"]
["pp4_bl4_9_total_in",{"$f":"'T2-B(PP4)'!$F$151","v":0},"#'T2-B(PP4)'!$F$151"]
["pp4_bl4_9_total_out",{"$f":"'T2-B(PP4)'!$I$151","v":0},"#'T2-B(PP4)'!$I$151"]
["pp4_bl4_total",{"$f":"'T2-B(PP4)'!$J$217","v":0},"#'T2-B(PP4)'!$J$217"]
["pp4_bl4_total_in",{"$f":"'T2-B(PP4)'!$F$217","v":0},"#'T2-B(PP4)'!$F$217"]
["pp4_bl4_total_out",{"$f":"'T2-B(PP4)'!$I$217","v":0},"#'T2-B(PP4)'!$I$217"]
["pp4_bl5_1_1_name",{"$f":"'T2-B(PP4)'!$B$222","v":0},"#'T2-B(PP4)'!$B$222"]
["pp4_bl5_1_1_rate_in",{"$f":"'T2-B(PP4)'!$E$222","v":0},"#'T2-B(PP4)'!$E$222"]
["pp4_bl5_1_1_rate_out",{"$f":"'T2-B(PP4)'!$H$222","v":0},"#'T2-B(PP4)'!$H$222"]
["pp4_bl5_1_1_total",{"$f":"'T2-B(PP4)'!$J$222","v":0},"#'T2-B(PP4)'!$J$222"]
["pp4_bl5_1_1_total_in",{"$f":"'T2-B(PP4)'!$F$222","v":0},"#'T2-B(PP4)'!$F$222"]
["pp4_bl5_1_1_total_out",{"$f":"'T2-B(PP4)'!$I$222","v":0},"#'T2-B(PP4)'!$I$222"]
["pp4_bl5_1_1_unit",{"$f":"'T2-B(PP4)'!$C$222","v":0},"#'T2-B(PP4)'!$C$222"]
["pp4_bl5_1_1_unit_in",{"$f":"'T2-B(PP4)'!$D$222","v":0},"#'T2-B(PP4)'!$D$222"]
["pp4_bl5_1_1_units_out",{"$f":"'T2-B(PP4)'!$G$222","v":0},"#'T2-B(PP4)'!$G$222"]
["pp4_bl5_1_10_name",{"$f":"'T2-B(PP4)'!$B$231","v":0},"#'T2-B(PP4)'!$B$231"]
["pp4_bl5_1_10_rate_in",{"$f":"'T2-B(PP4)'!$E$231","v":0},"#'T2-B(PP4)'!$E$231"]
["pp4_bl5_1_10_rate_out",{"$f":"'T2-B(PP4)'!$H$231","v":0},"#'T2-B(PP4)'!$H$231"]
["pp4_bl5_1_10_total",{"$f":"'T2-B(PP4)'!$J$231","v":0},"#'T2-B(PP4)'!$J$231"]
["pp4_bl5_1_10_total_in",{"$f":"'T2-B(PP4)'!$F$231","v":0},"#'T2-B(PP4)'!$F$231"]
["pp4_bl5_1_10_total_out",{"$f":"'T2-B(PP4)'!$I$231","v":0},"#'T2-B(PP4)'!$I$231"]
["pp4_bl5_1_10_unit",{"$f":"'T2-B(PP4)'!$C$231","v":0},"#'T2-B(PP4)'!$C$231"]
["pp4_bl5_1_10_unit_in",{"$f":"'T2-B(PP4)'!$D$231","v":0},"#'T2-B(PP4)'!$D$231"]
["pp4_bl5_1_10_units_out",{"$f":"'T2-B(PP4)'!$G$231","v":0},"#'T2-B(PP4)'!$G$231"]
["pp4_bl5_1_2_name",{"$f":"'T2-B(PP4)'!$B$223","v":0},"#'T2-B(PP4)'!$B$223"]
["pp4_bl5_1_2_rate_in",{"$f":"'T2-B(PP4)'!$E$223","v":0},"#'T2-B(PP4)'!$E$223"]
["pp4_bl5_1_2_rate_out",{"$f":"'T2-B(PP4)'!$H$223","v":0},"#'T2-B(PP4)'!$H$223"]
["pp4_bl5_1_2_total",{"$f":"'T2-B(PP4)'!$J$223","v":0},"#'T2-B(PP4)'!$J$223"]
["pp4_bl5_1_2_total_in",{"$f":"'T2-B(PP4)'!$F$223","v":0},"#'T2-B(PP4)'!$F$223"]
["pp4_bl5_1_2_total_out",{"$f":"'T2-B(PP4)'!$I$223","v":0},"#'T2-B(PP4)'!$I$223"]
["pp4_bl5_1_2_unit",{"$f":"'T2-B(PP4)'!$C$223","v":0},"#'T2-B(PP4)'!$C$223"]
["pp4_bl5_1_2_unit_in",{"$f":"'T2-B(PP4)'!$D$223","v":0},"#'T2-B(PP4)'!$D$223"]
["pp4_bl5_1_2_units_out",{"$f":"'T2-B(PP4)'!$G$223","v":0},"#'T2-B(PP4)'!$G$223"]
["pp4_bl5_1_3_name",{"$f":"'T2-B(PP4)'!$B$224","v":0},"#'T2-B(PP4)'!$B$224"]
["pp4_bl5_1_3_rate_in",{"$f":"'T2-B(PP4)'!$E$224","v":0},"#'T2-B(PP4)'!$E$224"]
["pp4_bl5_1_3_rate_out",{"$f":"'T2-B(PP4)'!$H$224","v":0},"#'T2-B(PP4)'!$H$224"]
["pp4_bl5_1_3_total",{"$f":"'T2-B(PP4)'!$J$224","v":0},"#'T2-B(PP4)'!$J$224"]
["pp4_bl5_1_3_total_in",{"$f":"'T2-B(PP4)'!$F$224","v":0},"#'T2-B(PP4)'!$F$224"]
["pp4_bl5_1_3_total_out",{"$f":"'T2-B(PP4)'!$I$224","v":0},"#'T2-B(PP4)'!$I$224"]
["pp4_bl5_1_3_unit",{"$f":"'T2-B(PP4)'!$C$224","v":0},"#'T2-B(PP4)'!$C$224"]
["pp4_bl5_1_3_unit_in",{"$f":"'T2-B(PP4)'!$D$224","v":0},"#'T2-B(PP4)'!$D$224"]
["pp4_bl5_1_3_units_out",{"$f":"'T2-B(PP4)'!$G$224","v":0},"#'T2-B(PP4)'!$G$224"]
["pp4_bl5_1_4_name",{"$f":"'T2-B(PP4)'!$B$225","v":0},"#'T2-B(PP4)'!$B$225"]
["pp4_bl5_1_4_rate_in",{"$f":"'T2-B(PP4)'!$E$225","v":0},"#'T2-B(PP4)'!$E$225"]
["pp4_bl5_1_4_rate_out",{"$f":"'T2-B(PP4)'!$H$225","v":0},"#'T2-B(PP4)'!$H$225"]
["pp4_bl5_1_4_total",{"$f":"'T2-B(PP4)'!$J$225","v":0},"#'T2-B(PP4)'!$J$225"]
["pp4_bl5_1_4_total_in",{"$f":"'T2-B(PP4)'!$F$225","v":0},"#'T2-B(PP4)'!$F$225"]
["pp4_bl5_1_4_total_out",{"$f":"'T2-B(PP4)'!$I$225","v":0},"#'T2-B(PP4)'!$I$225"]
["pp4_bl5_1_4_unit",{"$f":"'T2-B(PP4)'!$C$225","v":0},"#'T2-B(PP4)'!$C$225"]
["pp4_bl5_1_4_unit_in",{"$f":"'T2-B(PP4)'!$D$225","v":0},"#'T2-B(PP4)'!$D$225"]
["pp4_bl5_1_4_units_out",{"$f":"'T2-B(PP4)'!$G$225","v":0},"#'T2-B(PP4)'!$G$225"]
["pp4_bl5_1_5_name",{"$f":"'T2-B(PP4)'!$B$226","v":0},"#'T2-B(PP4)'!$B$226"]
["pp4_bl5_1_5_rate_in",{"$f":"'T2-B(PP4)'!$E$226","v":0},"#'T2-B(PP4)'!$E$226"]
["pp4_bl5_1_5_rate_out",{"$f":"'T2-B(PP4)'!$H$226","v":0},"#'T2-B(PP4)'!$H$226"]
["pp4_bl5_1_5_total",{"$f":"'T2-B(PP4)'!$J$226","v":0},"#'T2-B(PP4)'!$J$226"]
["pp4_bl5_1_5_total_in",{"$f":"'T2-B(PP4)'!$F$226","v":0},"#'T2-B(PP4)'!$F$226"]
["pp4_bl5_1_5_total_out",{"$f":"'T2-B(PP4)'!$I$226","v":0},"#'T2-B(PP4)'!$I$226"]
["pp4_bl5_1_5_unit",{"$f":"'T2-B(PP4)'!$C$226","v":0},"#'T2-B(PP4)'!$C$226"]
["pp4_bl5_1_5_unit_in",{"$f":"'T2-B(PP4)'!$D$226","v":0},"#'T2-B(PP4)'!$D$226"]
["pp4_bl5_1_5_units_out",{"$f":"'T2-B(PP4)'!$G$226","v":0},"#'T2-B(PP4)'!$G$226"]
["pp4_bl5_1_6_name",{"$f":"'T2-B(PP4)'!$B$227","v":0},"#'T2-B(PP4)'!$B$227"]
["pp4_bl5_1_6_rate_in",{"$f":"'T2-B(PP4)'!$E$227","v":0},"#'T2-B(PP4)'!$E$227"]
["pp4_bl5_1_6_rate_out",{"$f":"'T2-B(PP4)'!$H$227","v":0},"#'T2-B(PP4)'!$H$227"]
["pp4_bl5_1_6_total",{"$f":"'T2-B(PP4)'!$J$227","v":0},"#'T2-B(PP4)'!$J$227"]
["pp4_bl5_1_6_total_in",{"$f":"'T2-B(PP4)'!$F$227","v":0},"#'T2-B(PP4)'!$F$227"]
["pp4_bl5_1_6_total_out",{"$f":"'T2-B(PP4)'!$I$227","v":0},"#'T2-B(PP4)'!$I$227"]
["pp4_bl5_1_6_unit",{"$f":"'T2-B(PP4)'!$C$227","v":0},"#'T2-B(PP4)'!$C$227"]
["pp4_bl5_1_6_unit_in",{"$f":"'T2-B(PP4)'!$D$227","v":0},"#'T2-B(PP4)'!$D$227"]
["pp4_bl5_1_6_units_out",{"$f":"'T2-B(PP4)'!$G$227","v":0},"#'T2-B(PP4)'!$G$227"]
["pp4_bl5_1_7_name",{"$f":"'T2-B(PP4)'!$B$228","v":0},"#'T2-B(PP4)'!$B$228"]
["pp4_bl5_1_7_rate_in",{"$f":"'T2-B(PP4)'!$E$228","v":0},"#'T2-B(PP4)'!$E$228"]
["pp4_bl5_1_7_rate_out",{"$f":"'T2-B(PP4)'!$H$228","v":0},"#'T2-B(PP4)'!$H$228"]
["pp4_bl5_1_7_total",{"$f":"'T2-B(PP4)'!$J$228","v":0},"#'T2-B(PP4)'!$J$228"]
["pp4_bl5_1_7_total_in",{"$f":"'T2-B(PP4)'!$F$228","v":0},"#'T2-B(PP4)'!$F$228"]
["pp4_bl5_1_7_total_out",{"$f":"'T2-B(PP4)'!$I$228","v":0},"#'T2-B(PP4)'!$I$228"]
["pp4_bl5_1_7_unit",{"$f":"'T2-B(PP4)'!$C$228","v":0},"#'T2-B(PP4)'!$C$228"]
["pp4_bl5_1_7_unit_in",{"$f":"'T2-B(PP4)'!$D$228","v":0},"#'T2-B(PP4)'!$D$228"]
["pp4_bl5_1_7_units_out",{"$f":"'T2-B(PP4)'!$G$228","v":0},"#'T2-B(PP4)'!$G$228"]
["pp4_bl5_1_8_name",{"$f":"'T2-B(PP4)'!$B$229","v":0},"#'T2-B(PP4)'!$B$229"]
["pp4_bl5_1_8_rate_in",{"$f":"'T2-B(PP4)'!$E$229","v":0},"#'T2-B(PP4)'!$E$229"]
["pp4_bl5_1_8_rate_out",{"$f":"'T2-B(PP4)'!$H$229","v":0},"#'T2-B(PP4)'!$H$229"]
["pp4_bl5_1_8_total",{"$f":"'T2-B(PP4)'!$J$229","v":0},"#'T2-B(PP4)'!$J$229"]
["pp4_bl5_1_8_total_in",{"$f":"'T2-B(PP4)'!$F$229","v":0},"#'T2-B(PP4)'!$F$229"]
["pp4_bl5_1_8_total_out",{"$f":"'T2-B(PP4)'!$I$229","v":0},"#'T2-B(PP4)'!$I$229"]
["pp4_bl5_1_8_unit",{"$f":"'T2-B(PP4)'!$C$229","v":0},"#'T2-B(PP4)'!$C$229"]
["pp4_bl5_1_8_unit_in",{"$f":"'T2-B(PP4)'!$D$229","v":0},"#'T2-B(PP4)'!$D$229"]
["pp4_bl5_1_8_units_out",{"$f":"'T2-B(PP4)'!$G$229","v":0},"#'T2-B(PP4)'!$G$229"]
["pp4_bl5_1_9_name",{"$f":"'T2-B(PP4)'!$B$230","v":0},"#'T2-B(PP4)'!$B$230"]
["pp4_bl5_1_9_rate_in",{"$f":"'T2-B(PP4)'!$E$230","v":0},"#'T2-B(PP4)'!$E$230"]
["pp4_bl5_1_9_rate_out",{"$f":"'T2-B(PP4)'!$H$230","v":0},"#'T2-B(PP4)'!$H$230"]
["pp4_bl5_1_9_total",{"$f":"'T2-B(PP4)'!$J$230","v":0},"#'T2-B(PP4)'!$J$230"]
["pp4_bl5_1_9_total_in",{"$f":"'T2-B(PP4)'!$F$230","v":0},"#'T2-B(PP4)'!$F$230"]
["pp4_bl5_1_9_total_out",{"$f":"'T2-B(PP4)'!$I$230","v":0},"#'T2-B(PP4)'!$I$230"]
["pp4_bl5_1_9_unit",{"$f":"'T2-B(PP4)'!$C$230","v":0},"#'T2-B(PP4)'!$C$230"]
["pp4_bl5_1_9_unit_in",{"$f":"'T2-B(PP4)'!$D$230","v":0},"#'T2-B(PP4)'!$D$230"]
["pp4_bl5_1_9_units_out",{"$f":"'T2-B(PP4)'!$G$230","v":0},"#'T2-B(PP4)'!$G$230"]
["pp4_bl5_1_total",{"$f":"'T2-B(PP4)'!$J$221","v":0},"#'T2-B(PP4)'!$J$221"]
["pp4_bl5_1_total_in",{"$f":"'T2-B(PP4)'!$F$221","v":0},"#'T2-B(PP4)'!$F$221"]
["pp4_bl5_1_total_out",{"$f":"'T2-B(PP4)'!$I$221","v":0},"#'T2-B(PP4)'!$I$221"]
["pp4_bl5_2_1_name",{"$f":"'T2-B(PP4)'!$B$233","v":0},"#'T2-B(PP4)'!$B$233"]
["pp4_bl5_2_1_rate_in",{"$f":"'T2-B(PP4)'!$E$233","v":0},"#'T2-B(PP4)'!$E$233"]
["pp4_bl5_2_1_rate_out",{"$f":"'T2-B(PP4)'!$H$233","v":0},"#'T2-B(PP4)'!$H$233"]
["pp4_bl5_2_1_total",{"$f":"'T2-B(PP4)'!$J$233","v":0},"#'T2-B(PP4)'!$J$233"]
["pp4_bl5_2_1_total_in",{"$f":"'T2-B(PP4)'!$F$233","v":0},"#'T2-B(PP4)'!$F$233"]
["pp4_bl5_2_1_total_out",{"$f":"'T2-B(PP4)'!$I$233","v":0},"#'T2-B(PP4)'!$I$233"]
["pp4_bl5_2_1_unit",{"$f":"'T2-B(PP4)'!$C$233","v":0},"#'T2-B(PP4)'!$C$233"]
["pp4_bl5_2_1_unit_in",{"$f":"'T2-B(PP4)'!$D$233","v":0},"#'T2-B(PP4)'!$D$233"]
["pp4_bl5_2_1_units_out",{"$f":"'T2-B(PP4)'!$G$233","v":0},"#'T2-B(PP4)'!$G$233"]
["pp4_bl5_2_10_name",{"$f":"'T2-B(PP4)'!$B$242","v":0},"#'T2-B(PP4)'!$B$242"]
["pp4_bl5_2_10_rate_in",{"$f":"'T2-B(PP4)'!$E$242","v":0},"#'T2-B(PP4)'!$E$242"]
["pp4_bl5_2_10_rate_out",{"$f":"'T2-B(PP4)'!$H$242","v":0},"#'T2-B(PP4)'!$H$242"]
["pp4_bl5_2_10_total",{"$f":"'T2-B(PP4)'!$J$242","v":0},"#'T2-B(PP4)'!$J$242"]
["pp4_bl5_2_10_total_in",{"$f":"'T2-B(PP4)'!$F$242","v":0},"#'T2-B(PP4)'!$F$242"]
["pp4_bl5_2_10_total_out",{"$f":"'T2-B(PP4)'!$I$242","v":0},"#'T2-B(PP4)'!$I$242"]
["pp4_bl5_2_10_unit",{"$f":"'T2-B(PP4)'!$C$242","v":0},"#'T2-B(PP4)'!$C$242"]
["pp4_bl5_2_10_unit_in",{"$f":"'T2-B(PP4)'!$D$242","v":0},"#'T2-B(PP4)'!$D$242"]
["pp4_bl5_2_10_units_out",{"$f":"'T2-B(PP4)'!$G$242","v":0},"#'T2-B(PP4)'!$G$242"]
["pp4_bl5_2_2_name",{"$f":"'T2-B(PP4)'!$B$234","v":0},"#'T2-B(PP4)'!$B$234"]
["pp4_bl5_2_2_rate_in",{"$f":"'T2-B(PP4)'!$E$234","v":0},"#'T2-B(PP4)'!$E$234"]
["pp4_bl5_2_2_rate_out",{"$f":"'T2-B(PP4)'!$H$234","v":0},"#'T2-B(PP4)'!$H$234"]
["pp4_bl5_2_2_total",{"$f":"'T2-B(PP4)'!$J$234","v":0},"#'T2-B(PP4)'!$J$234"]
["pp4_bl5_2_2_total_in",{"$f":"'T2-B(PP4)'!$F$234","v":0},"#'T2-B(PP4)'!$F$234"]
["pp4_bl5_2_2_total_out",{"$f":"'T2-B(PP4)'!$I$234","v":0},"#'T2-B(PP4)'!$I$234"]
["pp4_bl5_2_2_unit",{"$f":"'T2-B(PP4)'!$C$234","v":0},"#'T2-B(PP4)'!$C$234"]
["pp4_bl5_2_2_unit_in",{"$f":"'T2-B(PP4)'!$D$234","v":0},"#'T2-B(PP4)'!$D$234"]
["pp4_bl5_2_2_units_out",{"$f":"'T2-B(PP4)'!$G$234","v":0},"#'T2-B(PP4)'!$G$234"]
["pp4_bl5_2_3_name",{"$f":"'T2-B(PP4)'!$B$235","v":0},"#'T2-B(PP4)'!$B$235"]
["pp4_bl5_2_3_rate_in",{"$f":"'T2-B(PP4)'!$E$235","v":0},"#'T2-B(PP4)'!$E$235"]
["pp4_bl5_2_3_rate_out",{"$f":"'T2-B(PP4)'!$H$235","v":0},"#'T2-B(PP4)'!$H$235"]
["pp4_bl5_2_3_total",{"$f":"'T2-B(PP4)'!$J$235","v":0},"#'T2-B(PP4)'!$J$235"]
["pp4_bl5_2_3_total_in",{"$f":"'T2-B(PP4)'!$F$235","v":0},"#'T2-B(PP4)'!$F$235"]
["pp4_bl5_2_3_total_out",{"$f":"'T2-B(PP4)'!$I$235","v":0},"#'T2-B(PP4)'!$I$235"]
["pp4_bl5_2_3_unit",{"$f":"'T2-B(PP4)'!$C$235","v":0},"#'T2-B(PP4)'!$C$235"]
["pp4_bl5_2_3_unit_in",{"$f":"'T2-B(PP4)'!$D$235","v":0},"#'T2-B(PP4)'!$D$235"]
["pp4_bl5_2_3_units_out",{"$f":"'T2-B(PP4)'!$G$235","v":0},"#'T2-B(PP4)'!$G$235"]
["pp4_bl5_2_4_name",{"$f":"'T2-B(PP4)'!$B$236","v":0},"#'T2-B(PP4)'!$B$236"]
["pp4_bl5_2_4_rate_in",{"$f":"'T2-B(PP4)'!$E$236","v":0},"#'T2-B(PP4)'!$E$236"]
["pp4_bl5_2_4_rate_out",{"$f":"'T2-B(PP4)'!$H$236","v":0},"#'T2-B(PP4)'!$H$236"]
["pp4_bl5_2_4_total",{"$f":"'T2-B(PP4)'!$J$236","v":0},"#'T2-B(PP4)'!$J$236"]
["pp4_bl5_2_4_total_in",{"$f":"'T2-B(PP4)'!$F$236","v":0},"#'T2-B(PP4)'!$F$236"]
["pp4_bl5_2_4_total_out",{"$f":"'T2-B(PP4)'!$I$236","v":0},"#'T2-B(PP4)'!$I$236"]
["pp4_bl5_2_4_unit",{"$f":"'T2-B(PP4)'!$C$236","v":0},"#'T2-B(PP4)'!$C$236"]
["pp4_bl5_2_4_unit_in",{"$f":"'T2-B(PP4)'!$D$236","v":0},"#'T2-B(PP4)'!$D$236"]
["pp4_bl5_2_4_units_out",{"$f":"'T2-B(PP4)'!$G$236","v":0},"#'T2-B(PP4)'!$G$236"]
["pp4_bl5_2_5_name",{"$f":"'T2-B(PP4)'!$B$237","v":0},"#'T2-B(PP4)'!$B$237"]
["pp4_bl5_2_5_rate_in",{"$f":"'T2-B(PP4)'!$E$237","v":0},"#'T2-B(PP4)'!$E$237"]
["pp4_bl5_2_5_rate_out",{"$f":"'T2-B(PP4)'!$H$237","v":0},"#'T2-B(PP4)'!$H$237"]
["pp4_bl5_2_5_total",{"$f":"'T2-B(PP4)'!$J$237","v":0},"#'T2-B(PP4)'!$J$237"]
["pp4_bl5_2_5_total_in",{"$f":"'T2-B(PP4)'!$F$237","v":0},"#'T2-B(PP4)'!$F$237"]
["pp4_bl5_2_5_total_out",{"$f":"'T2-B(PP4)'!$I$237","v":0},"#'T2-B(PP4)'!$I$237"]
["pp4_bl5_2_5_unit",{"$f":"'T2-B(PP4)'!$C$237","v":0},"#'T2-B(PP4)'!$C$237"]
["pp4_bl5_2_5_unit_in",{"$f":"'T2-B(PP4)'!$D$237","v":0},"#'T2-B(PP4)'!$D$237"]
["pp4_bl5_2_5_units_out",{"$f":"'T2-B(PP4)'!$G$237","v":0},"#'T2-B(PP4)'!$G$237"]
["pp4_bl5_2_6_name",{"$f":"'T2-B(PP4)'!$B$238","v":0},"#'T2-B(PP4)'!$B$238"]
["pp4_bl5_2_6_rate_in",{"$f":"'T2-B(PP4)'!$E$238","v":0},"#'T2-B(PP4)'!$E$238"]
["pp4_bl5_2_6_rate_out",{"$f":"'T2-B(PP4)'!$H$238","v":0},"#'T2-B(PP4)'!$H$238"]
["pp4_bl5_2_6_total",{"$f":"'T2-B(PP4)'!$J$238","v":0},"#'T2-B(PP4)'!$J$238"]
["pp4_bl5_2_6_total_in",{"$f":"'T2-B(PP4)'!$F$238","v":0},"#'T2-B(PP4)'!$F$238"]
["pp4_bl5_2_6_total_out",{"$f":"'T2-B(PP4)'!$I$238","v":0},"#'T2-B(PP4)'!$I$238"]
["pp4_bl5_2_6_unit",{"$f":"'T2-B(PP4)'!$C$238","v":0},"#'T2-B(PP4)'!$C$238"]
["pp4_bl5_2_6_unit_in",{"$f":"'T2-B(PP4)'!$D$238","v":0},"#'T2-B(PP4)'!$D$238"]
["pp4_bl5_2_6_units_out",{"$f":"'T2-B(PP4)'!$G$238","v":0},"#'T2-B(PP4)'!$G$238"]
["pp4_bl5_2_7_name",{"$f":"'T2-B(PP4)'!$B$239","v":0},"#'T2-B(PP4)'!$B$239"]
["pp4_bl5_2_7_rate_in",{"$f":"'T2-B(PP4)'!$E$239","v":0},"#'T2-B(PP4)'!$E$239"]
["pp4_bl5_2_7_rate_out",{"$f":"'T2-B(PP4)'!$H$239","v":0},"#'T2-B(PP4)'!$H$239"]
["pp4_bl5_2_7_total",{"$f":"'T2-B(PP4)'!$J$239","v":0},"#'T2-B(PP4)'!$J$239"]
["pp4_bl5_2_7_total_in",{"$f":"'T2-B(PP4)'!$F$239","v":0},"#'T2-B(PP4)'!$F$239"]
["pp4_bl5_2_7_total_out",{"$f":"'T2-B(PP4)'!$I$239","v":0},"#'T2-B(PP4)'!$I$239"]
["pp4_bl5_2_7_unit",{"$f":"'T2-B(PP4)'!$C$239","v":0},"#'T2-B(PP4)'!$C$239"]
["pp4_bl5_2_7_unit_in",{"$f":"'T2-B(PP4)'!$D$239","v":0},"#'T2-B(PP4)'!$D$239"]
["pp4_bl5_2_7_units_out",{"$f":"'T2-B(PP4)'!$G$239","v":0},"#'T2-B(PP4)'!$G$239"]
["pp4_bl5_2_8_name",{"$f":"'T2-B(PP4)'!$B$240","v":0},"#'T2-B(PP4)'!$B$240"]
["pp4_bl5_2_8_rate_in",{"$f":"'T2-B(PP4)'!$E$240","v":0},"#'T2-B(PP4)'!$E$240"]
["pp4_bl5_2_8_rate_out",{"$f":"'T2-B(PP4)'!$H$240","v":0},"#'T2-B(PP4)'!$H$240"]
["pp4_bl5_2_8_total",{"$f":"'T2-B(PP4)'!$J$240","v":0},"#'T2-B(PP4)'!$J$240"]
["pp4_bl5_2_8_total_in",{"$f":"'T2-B(PP4)'!$F$240","v":0},"#'T2-B(PP4)'!$F$240"]
["pp4_bl5_2_8_total_out",{"$f":"'T2-B(PP4)'!$I$240","v":0},"#'T2-B(PP4)'!$I$240"]
["pp4_bl5_2_8_unit",{"$f":"'T2-B(PP4)'!$C$240","v":0},"#'T2-B(PP4)'!$C$240"]
["pp4_bl5_2_8_unit_in",{"$f":"'T2-B(PP4)'!$D$240","v":0},"#'T2-B(PP4)'!$D$240"]
["pp4_bl5_2_8_units_out",{"$f":"'T2-B(PP4)'!$G$240","v":0},"#'T2-B(PP4)'!$G$240"]
["pp4_bl5_2_9_name",{"$f":"'T2-B(PP4)'!$B$241","v":0},"#'T2-B(PP4)'!$B$241"]
["pp4_bl5_2_9_rate_in",{"$f":"'T2-B(PP4)'!$E$241","v":0},"#'T2-B(PP4)'!$E$241"]
["pp4_bl5_2_9_rate_out",{"$f":"'T2-B(PP4)'!$H$241","v":0},"#'T2-B(PP4)'!$H$241"]
["pp4_bl5_2_9_total",{"$f":"'T2-B(PP4)'!$J$241","v":0},"#'T2-B(PP4)'!$J$241"]
["pp4_bl5_2_9_total_in",{"$f":"'T2-B(PP4)'!$F$241","v":0},"#'T2-B(PP4)'!$F$241"]
["pp4_bl5_2_9_total_out",{"$f":"'T2-B(PP4)'!$I$241","v":0},"#'T2-B(PP4)'!$I$241"]
["pp4_bl5_2_9_unit",{"$f":"'T2-B(PP4)'!$C$241","v":0},"#'T2-B(PP4)'!$C$241"]
["pp4_bl5_2_9_unit_in",{"$f":"'T2-B(PP4)'!$D$241","v":0},"#'T2-B(PP4)'!$D$241"]
["pp4_bl5_2_9_units_out",{"$f":"'T2-B(PP4)'!$G$241","v":0},"#'T2-B(PP4)'!$G$241"]
["pp4_bl5_2_total",{"$f":"'T2-B(PP4)'!$J$232","v":0},"#'T2-B(PP4)'!$J$232"]
["pp4_bl5_2_total_in",{"$f":"'T2-B(PP4)'!$F$232","v":0},"#'T2-B(PP4)'!$F$232"]
["pp4_bl5_2_total_out",{"$f":"'T2-B(PP4)'!$I$232","v":0},"#'T2-B(PP4)'!$I$232"]
["pp4_bl5_total",{"$f":"'T2-B(PP4)'!$J$243","v":0},"#'T2-B(PP4)'!$J$243"]
["pp4_bl5_total_in",{"$f":"'T2-B(PP4)'!$F$243","v":0},"#'T2-B(PP4)'!$F$243"]
["pp4_bl5_total_out",{"$f":"'T2-B(PP4)'!$I$243","v":0},"#'T2-B(PP4)'!$I$243"]
["pp4_bl6_1_1_name",{"$f":"'T2-B(PP4)'!$B$247","v":0},"#'T2-B(PP4)'!$B$247"]
["pp4_bl6_1_1_rate_in",{"$f":"'T2-B(PP4)'!$E$247","v":0},"#'T2-B(PP4)'!$E$247"]
["pp4_bl6_1_1_rate_out",{"$f":"'T2-B(PP4)'!$H$247","v":0},"#'T2-B(PP4)'!$H$247"]
["pp4_bl6_1_1_total",{"$f":"'T2-B(PP4)'!$J$247","v":0},"#'T2-B(PP4)'!$J$247"]
["pp4_bl6_1_1_total_in",{"$f":"'T2-B(PP4)'!$F$247","v":0},"#'T2-B(PP4)'!$F$247"]
["pp4_bl6_1_1_total_out",{"$f":"'T2-B(PP4)'!$I$247","v":0},"#'T2-B(PP4)'!$I$247"]
["pp4_bl6_1_1_unit",{"$f":"'T2-B(PP4)'!$C$247","v":0},"#'T2-B(PP4)'!$C$247"]
["pp4_bl6_1_1_unit_in",{"$f":"'T2-B(PP4)'!$D$247","v":0},"#'T2-B(PP4)'!$D$247"]
["pp4_bl6_1_1_units_out",{"$f":"'T2-B(PP4)'!$G$247","v":0},"#'T2-B(PP4)'!$G$247"]
["pp4_bl6_1_10_name",{"$f":"'T2-B(PP4)'!$B$256","v":0},"#'T2-B(PP4)'!$B$256"]
["pp4_bl6_1_10_rate_in",{"$f":"'T2-B(PP4)'!$E$256","v":0},"#'T2-B(PP4)'!$E$256"]
["pp4_bl6_1_10_rate_out",{"$f":"'T2-B(PP4)'!$H$256","v":0},"#'T2-B(PP4)'!$H$256"]
["pp4_bl6_1_10_total",{"$f":"'T2-B(PP4)'!$J$256","v":0},"#'T2-B(PP4)'!$J$256"]
["pp4_bl6_1_10_total_in",{"$f":"'T2-B(PP4)'!$F$256","v":0},"#'T2-B(PP4)'!$F$256"]
["pp4_bl6_1_10_total_out",{"$f":"'T2-B(PP4)'!$I$256","v":0},"#'T2-B(PP4)'!$I$256"]
["pp4_bl6_1_10_unit",{"$f":"'T2-B(PP4)'!$C$256","v":0},"#'T2-B(PP4)'!$C$256"]
["pp4_bl6_1_10_unit_in",{"$f":"'T2-B(PP4)'!$D$256","v":0},"#'T2-B(PP4)'!$D$256"]
["pp4_bl6_1_10_units_out",{"$f":"'T2-B(PP4)'!$G$256","v":0},"#'T2-B(PP4)'!$G$256"]
["pp4_bl6_1_2_name",{"$f":"'T2-B(PP4)'!$B$248","v":0},"#'T2-B(PP4)'!$B$248"]
["pp4_bl6_1_2_rate_in",{"$f":"'T2-B(PP4)'!$E$248","v":0},"#'T2-B(PP4)'!$E$248"]
["pp4_bl6_1_2_rate_out",{"$f":"'T2-B(PP4)'!$H$248","v":0},"#'T2-B(PP4)'!$H$248"]
["pp4_bl6_1_2_total",{"$f":"'T2-B(PP4)'!$J$248","v":0},"#'T2-B(PP4)'!$J$248"]
["pp4_bl6_1_2_total_in",{"$f":"'T2-B(PP4)'!$F$248","v":0},"#'T2-B(PP4)'!$F$248"]
["pp4_bl6_1_2_total_out",{"$f":"'T2-B(PP4)'!$I$248","v":0},"#'T2-B(PP4)'!$I$248"]
["pp4_bl6_1_2_unit",{"$f":"'T2-B(PP4)'!$C$248","v":0},"#'T2-B(PP4)'!$C$248"]
["pp4_bl6_1_2_unit_in",{"$f":"'T2-B(PP4)'!$D$248","v":0},"#'T2-B(PP4)'!$D$248"]
["pp4_bl6_1_2_units_out",{"$f":"'T2-B(PP4)'!$G$248","v":0},"#'T2-B(PP4)'!$G$248"]
["pp4_bl6_1_3_name",{"$f":"'T2-B(PP4)'!$B$249","v":0},"#'T2-B(PP4)'!$B$249"]
["pp4_bl6_1_3_rate_in",{"$f":"'T2-B(PP4)'!$E$249","v":0},"#'T2-B(PP4)'!$E$249"]
["pp4_bl6_1_3_rate_out",{"$f":"'T2-B(PP4)'!$H$249","v":0},"#'T2-B(PP4)'!$H$249"]
["pp4_bl6_1_3_total",{"$f":"'T2-B(PP4)'!$J$249","v":0},"#'T2-B(PP4)'!$J$249"]
["pp4_bl6_1_3_total_in",{"$f":"'T2-B(PP4)'!$F$249","v":0},"#'T2-B(PP4)'!$F$249"]
["pp4_bl6_1_3_total_out",{"$f":"'T2-B(PP4)'!$I$249","v":0},"#'T2-B(PP4)'!$I$249"]
["pp4_bl6_1_3_unit",{"$f":"'T2-B(PP4)'!$C$249","v":0},"#'T2-B(PP4)'!$C$249"]
["pp4_bl6_1_3_unit_in",{"$f":"'T2-B(PP4)'!$D$249","v":0},"#'T2-B(PP4)'!$D$249"]
["pp4_bl6_1_3_units_out",{"$f":"'T2-B(PP4)'!$G$249","v":0},"#'T2-B(PP4)'!$G$249"]
["pp4_bl6_1_4_name",{"$f":"'T2-B(PP4)'!$B$250","v":0},"#'T2-B(PP4)'!$B$250"]
["pp4_bl6_1_4_rate_in",{"$f":"'T2-B(PP4)'!$E$250","v":0},"#'T2-B(PP4)'!$E$250"]
["pp4_bl6_1_4_rate_out",{"$f":"'T2-B(PP4)'!$H$250","v":0},"#'T2-B(PP4)'!$H$250"]
["pp4_bl6_1_4_total",{"$f":"'T2-B(PP4)'!$J$250","v":0},"#'T2-B(PP4)'!$J$250"]
["pp4_bl6_1_4_total_in",{"$f":"'T2-B(PP4)'!$F$250","v":0},"#'T2-B(PP4)'!$F$250"]
["pp4_bl6_1_4_total_out",{"$f":"'T2-B(PP4)'!$I$250","v":0},"#'T2-B(PP4)'!$I$250"]
["pp4_bl6_1_4_unit",{"$f":"'T2-B(PP4)'!$C$250","v":0},"#'T2-B(PP4)'!$C$250"]
["pp4_bl6_1_4_unit_in",{"$f":"'T2-B(PP4)'!$D$250","v":0},"#'T2-B(PP4)'!$D$250"]
["pp4_bl6_1_4_units_out",{"$f":"'T2-B(PP4)'!$G$250","v":0},"#'T2-B(PP4)'!$G$250"]
["pp4_bl6_1_5_name",{"$f":"'T2-B(PP4)'!$B$251","v":0},"#'T2-B(PP4)'!$B$251"]
["pp4_bl6_1_5_rate_in",{"$f":"'T2-B(PP4)'!$E$251","v":0},"#'T2-B(PP4)'!$E$251"]
["pp4_bl6_1_5_rate_out",{"$f":"'T2-B(PP4)'!$H$251","v":0},"#'T2-B(PP4)'!$H$251"]
["pp4_bl6_1_5_total",{"$f":"'T2-B(PP4)'!$J$251","v":0},"#'T2-B(PP4)'!$J$251"]
["pp4_bl6_1_5_total_in",{"$f":"'T2-B(PP4)'!$F$251","v":0},"#'T2-B(PP4)'!$F$251"]
["pp4_bl6_1_5_total_out",{"$f":"'T2-B(PP4)'!$I$251","v":0},"#'T2-B(PP4)'!$I$251"]
["pp4_bl6_1_5_unit",{"$f":"'T2-B(PP4)'!$C$251","v":0},"#'T2-B(PP4)'!$C$251"]
["pp4_bl6_1_5_unit_in",{"$f":"'T2-B(PP4)'!$D$251","v":0},"#'T2-B(PP4)'!$D$251"]
["pp4_bl6_1_5_units_out",{"$f":"'T2-B(PP4)'!$G$251","v":0},"#'T2-B(PP4)'!$G$251"]
["pp4_bl6_1_6_name",{"$f":"'T2-B(PP4)'!$B$252","v":0},"#'T2-B(PP4)'!$B$252"]
["pp4_bl6_1_6_rate_in",{"$f":"'T2-B(PP4)'!$E$252","v":0},"#'T2-B(PP4)'!$E$252"]
["pp4_bl6_1_6_rate_out",{"$f":"'T2-B(PP4)'!$H$252","v":0},"#'T2-B(PP4)'!$H$252"]
["pp4_bl6_1_6_total",{"$f":"'T2-B(PP4)'!$J$252","v":0},"#'T2-B(PP4)'!$J$252"]
["pp4_bl6_1_6_total_in",{"$f":"'T2-B(PP4)'!$F$252","v":0},"#'T2-B(PP4)'!$F$252"]
["pp4_bl6_1_6_total_out",{"$f":"'T2-B(PP4)'!$I$252","v":0},"#'T2-B(PP4)'!$I$252"]
["pp4_bl6_1_6_unit",{"$f":"'T2-B(PP4)'!$C$252","v":0},"#'T2-B(PP4)'!$C$252"]
["pp4_bl6_1_6_unit_in",{"$f":"'T2-B(PP4)'!$D$252","v":0},"#'T2-B(PP4)'!$D$252"]
["pp4_bl6_1_6_units_out",{"$f":"'T2-B(PP4)'!$G$252","v":0},"#'T2-B(PP4)'!$G$252"]
["pp4_bl6_1_7_name",{"$f":"'T2-B(PP4)'!$B$253","v":0},"#'T2-B(PP4)'!$B$253"]
["pp4_bl6_1_7_rate_in",{"$f":"'T2-B(PP4)'!$E$253","v":0},"#'T2-B(PP4)'!$E$253"]
["pp4_bl6_1_7_rate_out",{"$f":"'T2-B(PP4)'!$H$253","v":0},"#'T2-B(PP4)'!$H$253"]
["pp4_bl6_1_7_total",{"$f":"'T2-B(PP4)'!$J$253","v":0},"#'T2-B(PP4)'!$J$253"]
["pp4_bl6_1_7_total_in",{"$f":"'T2-B(PP4)'!$F$253","v":0},"#'T2-B(PP4)'!$F$253"]
["pp4_bl6_1_7_total_out",{"$f":"'T2-B(PP4)'!$I$253","v":0},"#'T2-B(PP4)'!$I$253"]
["pp4_bl6_1_7_unit",{"$f":"'T2-B(PP4)'!$C$253","v":0},"#'T2-B(PP4)'!$C$253"]
["pp4_bl6_1_7_unit_in",{"$f":"'T2-B(PP4)'!$D$253","v":0},"#'T2-B(PP4)'!$D$253"]
["pp4_bl6_1_7_units_out",{"$f":"'T2-B(PP4)'!$G$253","v":0},"#'T2-B(PP4)'!$G$253"]
["pp4_bl6_1_8_name",{"$f":"'T2-B(PP4)'!$B$254","v":0},"#'T2-B(PP4)'!$B$254"]
["pp4_bl6_1_8_rate_in",{"$f":"'T2-B(PP4)'!$E$254","v":0},"#'T2-B(PP4)'!$E$254"]
["pp4_bl6_1_8_rate_out",{"$f":"'T2-B(PP4)'!$H$254","v":0},"#'T2-B(PP4)'!$H$254"]
["pp4_bl6_1_8_total",{"$f":"'T2-B(PP4)'!$J$254","v":0},"#'T2-B(PP4)'!$J$254"]
["pp4_bl6_1_8_total_in",{"$f":"'T2-B(PP4)'!$F$254","v":0},"#'T2-B(PP4)'!$F$254"]
["pp4_bl6_1_8_total_out",{"$f":"'T2-B(PP4)'!$I$254","v":0},"#'T2-B(PP4)'!$I$254"]
["pp4_bl6_1_8_unit",{"$f":"'T2-B(PP4)'!$C$254","v":0},"#'T2-B(PP4)'!$C$254"]
["pp4_bl6_1_8_unit_in",{"$f":"'T2-B(PP4)'!$D$254","v":0},"#'T2-B(PP4)'!$D$254"]
["pp4_bl6_1_8_units_out",{"$f":"'T2-B(PP4)'!$G$254","v":0},"#'T2-B(PP4)'!$G$254"]
["pp4_bl6_1_9_name",{"$f":"'T2-B(PP4)'!$B$255","v":0},"#'T2-B(PP4)'!$B$255"]
["pp4_bl6_1_9_rate_in",{"$f":"'T2-B(PP4)'!$E$255","v":0},"#'T2-B(PP4)'!$E$255"]
["pp4_bl6_1_9_rate_out",{"$f":"'T2-B(PP4)'!$H$255","v":0},"#'T2-B(PP4)'!$H$255"]
["pp4_bl6_1_9_total",{"$f":"'T2-B(PP4)'!$J$255","v":0},"#'T2-B(PP4)'!$J$255"]
["pp4_bl6_1_9_total_in",{"$f":"'T2-B(PP4)'!$F$255","v":0},"#'T2-B(PP4)'!$F$255"]
["pp4_bl6_1_9_total_out",{"$f":"'T2-B(PP4)'!$I$255","v":0},"#'T2-B(PP4)'!$I$255"]
["pp4_bl6_1_9_unit",{"$f":"'T2-B(PP4)'!$C$255","v":0},"#'T2-B(PP4)'!$C$255"]
["pp4_bl6_1_9_unit_in",{"$f":"'T2-B(PP4)'!$D$255","v":0},"#'T2-B(PP4)'!$D$255"]
["pp4_bl6_1_9_units_out",{"$f":"'T2-B(PP4)'!$G$255","v":0},"#'T2-B(PP4)'!$G$255"]
["pp4_bl6_1_total",{"$f":"'T2-B(PP4)'!$J$246","v":0},"#'T2-B(PP4)'!$J$246"]
["pp4_bl6_1_total_in",{"$f":"'T2-B(PP4)'!$F$246","v":"TOTAL"},"#'T2-B(PP4)'!$F$246"]
["pp4_bl6_1_total_out",{"$f":"'T2-B(PP4)'!$I$246","v":"TOTAL"},"#'T2-B(PP4)'!$I$246"]
["pp4_bl6_total",{"$f":"'T2-B(PP4)'!$J$257","v":0},"#'T2-B(PP4)'!$J$257"]
["pp4_bl6_total_in",{"$f":"'T2-B(PP4)'!$F$257","v":0},"#'T2-B(PP4)'!$F$257"]
["pp4_bl6_total_out",{"$f":"'T2-B(PP4)'!$I$257","v":0},"#'T2-B(PP4)'!$I$257"]
["pp4_country",{"$f":"'PP4'!$K$14","v":1},"#'PP4'!$K$14"]
["pp4_fax",{"$f":"'PP4'!$C$29","v":0},"#'PP4'!$C$29"]
["pp4_is_bg",{"$f":"'PP4'!$D$13","v":0},"#'PP4'!$D$13"]
["pp4_is_pc",{"$f":"'PP4'!$F$13","v":0},"#'PP4'!$F$13"]
["pp4_legal_representative",{"$f":"'PP4'!$C$23","v":0},"#'PP4'!$C$23"]
["pp4_legal_representative_position",{"$f":"'PP4'!$C$25","v":0},"#'PP4'!$C$25"]
["pp4_mail",{"$f":"'PP4'!$C$31","v":0},"#'PP4'!$C$31"]
["pp4_nat_code",{"$f":"'PP4'!$C$70","v":0},"#'PP4'!$C$70"]
["pp4_nuts3",{"$f":"'PP4'!$C$15","v":0},"#'PP4'!$C$15"]
["pp4_organisation_en",{"$f":"'PP4'!$C$7","v":0},"#'PP4'!$C$7"]
["pp4_organisation_native",{"$f":"'PP4'!$C$9","v":0},"#'PP4'!$C$9"]
["pp4_pe_date1",{"$f":"'PP4'!$G$47","v":0},"#'PP4'!$G$47"]
["pp4_pe_date2",{"$f":"'PP4'!$G$55","v":0},"#'PP4'!$G$55"]
["pp4_pe_date3",{"$f":"'PP4'!$G$63","v":0},"#'PP4'!$G$63"]
["pp4_pe_ga1",{"$f":"'PP4'!$G$46","v":0},"#'PP4'!$G$46"]
["pp4_pe_ga2",{"$f":"'PP4'!$G$54","v":0},"#'PP4'!$G$54"]
["pp4_pe_ga3",{"$f":"'PP4'!$G$62","v":0},"#'PP4'!$G$62"]
["pp4_pe_ip1",{"$f":"'PP4'!$C$43","v":0},"#'PP4'!$C$43"]
["pp4_pe_ip2",{"$f":"'PP4'!$C$51","v":0},"#'PP4'!$C$51"]
["pp4_pe_ip3",{"$f":"'PP4'!$C$59","v":0},"#'PP4'!$C$59"]
["pp4_pe_or1",{"$f":"'PP4'!$C$47","v":0},"#'PP4'!$C$47"]
["pp4_pe_or2",{"$f":"'PP4'!$C$55","v":0},"#'PP4'!$C$55"]
["pp4_pe_or3",{"$f":"'PP4'!$C$63","v":0},"#'PP4'!$C$63"]
["pp4_pe_pt1",{"$f":"'PP4'!$C$44","v":0},"#'PP4'!$C$44"]
["pp4_pe_pt2",{"$f":"'PP4'!$C$52","v":0},"#'PP4'!$C$52"]
["pp4_pe_pt3",{"$f":"'PP4'!$C$60","v":0},"#'PP4'!$C$60"]
["pp4_pe_sd1",{"$f":"'PP4'!$C$45","v":0},"#'PP4'!$C$45"]
["pp4_pe_sd2",{"$f":"'PP4'!$C$53","v":0},"#'PP4'!$C$53"]
["pp4_pe_sd3",{"$f":"'PP4'!$C$61","v":0},"#'PP4'!$C$61"]
["pp4_pe_tev1",{"$f":"'PP4'!$C$46","v":0},"#'PP4'!$C$46"]
["pp4_pe_tev2",{"$f":"'PP4'!$C$54","v":0},"#'PP4'!$C$54"]
["pp4_pe_tev3",{"$f":"'PP4'!$C$62","v":0},"#'PP4'!$C$62"]
["pp4_phone",{"$f":"'PP4'!$C$27","v":0},"#'PP4'!$C$27"]
["pp4_post_code",{"$f":"'PP4'!$C$21","v":0},"#'PP4'!$C$21"]
["pp4_profile",{"$f":"'PP4'!$B$38","v":0},"#'PP4'!$B$38"]
["pp4_town",{"$f":"'PP4'!$C$17","v":0},"#'PP4'!$C$17"]
["pp4_type_org",{"$f":"'PP4'!$C$11","v":0},"#'PP4'!$C$11"]
["pp4_vat_code",{"$f":"'PP4'!$C$72","v":0},"#'PP4'!$C$72"]
["pp4_website",{"$f":"'PP4'!$C$33","v":0},"#'PP4'!$C$33"]
["pp5_2012_fulltime_staff",{"$f":"'PP5'!$D$79","v":0},"#'PP5'!$D$79"]
["pp5_2012_offices",{"$f":"'PP5'!$F$79","v":0},"#'PP5'!$F$79"]
["pp5_2012_parttime_staff",{"$f":"'PP5'!$E$79","v":0},"#'PP5'!$E$79"]
["pp5_2012_turnover",{"$f":"'PP5'!$C$79","v":0},"#'PP5'!$C$79"]
["pp5_2013_fulltime_staff",{"$f":"'PP5'!$D$78","v":0},"#'PP5'!$D$78"]
["pp5_2013_offices",{"$f":"'PP5'!$F$78","v":0},"#'PP5'!$F$78"]
["pp5_2013_parttime_staff",{"$f":"'PP5'!$E$78","v":0},"#'PP5'!$E$78"]
["pp5_2013_turnover",{"$f":"'PP5'!$C$78","v":0},"#'PP5'!$C$78"]
["pp5_2014_fulltime_staff",{"$f":"'PP5'!$D$77","v":0},"#'PP5'!$D$77"]
["pp5_2014_offices",{"$f":"'PP5'!$F$77","v":0},"#'PP5'!$F$77"]
["pp5_2014_parttime_staff",{"$f":"'PP5'!$E$77","v":0},"#'PP5'!$E$77"]
["pp5_2014_turnover",{"$f":"'PP5'!$C$77","v":0},"#'PP5'!$C$77"]
["pp5_address",{"$f":"'PP5'!$C$19","v":0},"#'PP5'!$C$19"]
["pp5_bl3_1_1_name",{"$f":"'T2-B(PP5)'!$B$16","v":0},"#'T2-B(PP5)'!$B$16"]
["pp5_bl3_1_1_rate_in",{"$f":"'T2-B(PP5)'!$E$16","v":0},"#'T2-B(PP5)'!$E$16"]
["pp5_bl3_1_1_rate_out",{"$f":"'T2-B(PP5)'!$H$16","v":0},"#'T2-B(PP5)'!$H$16"]
["pp5_bl3_1_1_total",{"$f":"'T2-B(PP5)'!$J$16","v":0},"#'T2-B(PP5)'!$J$16"]
["pp5_bl3_1_1_total_in",{"$f":"'T2-B(PP5)'!$F$16","v":0},"#'T2-B(PP5)'!$F$16"]
["pp5_bl3_1_1_total_out",{"$f":"'T2-B(PP5)'!$I$16","v":0},"#'T2-B(PP5)'!$I$16"]
["pp5_bl3_1_1_unit",{"$f":"'T2-B(PP5)'!$C$16","v":0},"#'T2-B(PP5)'!$C$16"]
["pp5_bl3_1_1_unit_in",{"$f":"'T2-B(PP5)'!$D$16","v":0},"#'T2-B(PP5)'!$D$16"]
["pp5_bl3_1_1_units_out",{"$f":"'T2-B(PP5)'!$G$16","v":0},"#'T2-B(PP5)'!$G$16"]
["pp5_bl3_1_10_name",{"$f":"'T2-B(PP5)'!$B$25","v":0},"#'T2-B(PP5)'!$B$25"]
["pp5_bl3_1_10_rate_in",{"$f":"'T2-B(PP5)'!$E$25","v":0},"#'T2-B(PP5)'!$E$25"]
["pp5_bl3_1_10_rate_out",{"$f":"'T2-B(PP5)'!$H$25","v":0},"#'T2-B(PP5)'!$H$25"]
["pp5_bl3_1_10_total",{"$f":"'T2-B(PP5)'!$J$25","v":0},"#'T2-B(PP5)'!$J$25"]
["pp5_bl3_1_10_total_in",{"$f":"'T2-B(PP5)'!$F$25","v":0},"#'T2-B(PP5)'!$F$25"]
["pp5_bl3_1_10_total_out",{"$f":"'T2-B(PP5)'!$I$25","v":0},"#'T2-B(PP5)'!$I$25"]
["pp5_bl3_1_10_unit",{"$f":"'T2-B(PP5)'!$C$25","v":0},"#'T2-B(PP5)'!$C$25"]
["pp5_bl3_1_10_unit_in",{"$f":"'T2-B(PP5)'!$D$25","v":0},"#'T2-B(PP5)'!$D$25"]
["pp5_bl3_1_10_units_out",{"$f":"'T2-B(PP5)'!$G$25","v":0},"#'T2-B(PP5)'!$G$25"]
["pp5_bl3_1_2_name",{"$f":"'T2-B(PP5)'!$B$17","v":0},"#'T2-B(PP5)'!$B$17"]
["pp5_bl3_1_2_rate_in",{"$f":"'T2-B(PP5)'!$E$17","v":0},"#'T2-B(PP5)'!$E$17"]
["pp5_bl3_1_2_rate_out",{"$f":"'T2-B(PP5)'!$H$17","v":0},"#'T2-B(PP5)'!$H$17"]
["pp5_bl3_1_2_total",{"$f":"'T2-B(PP5)'!$J$17","v":0},"#'T2-B(PP5)'!$J$17"]
["pp5_bl3_1_2_total_in",{"$f":"'T2-B(PP5)'!$F$17","v":0},"#'T2-B(PP5)'!$F$17"]
["pp5_bl3_1_2_total_out",{"$f":"'T2-B(PP5)'!$I$17","v":0},"#'T2-B(PP5)'!$I$17"]
["pp5_bl3_1_2_unit",{"$f":"'T2-B(PP5)'!$C$17","v":0},"#'T2-B(PP5)'!$C$17"]
["pp5_bl3_1_2_unit_in",{"$f":"'T2-B(PP5)'!$D$17","v":0},"#'T2-B(PP5)'!$D$17"]
["pp5_bl3_1_2_units_out",{"$f":"'T2-B(PP5)'!$G$17","v":0},"#'T2-B(PP5)'!$G$17"]
["pp5_bl3_1_3_name",{"$f":"'T2-B(PP5)'!$B$18","v":0},"#'T2-B(PP5)'!$B$18"]
["pp5_bl3_1_3_rate_in",{"$f":"'T2-B(PP5)'!$E$18","v":0},"#'T2-B(PP5)'!$E$18"]
["pp5_bl3_1_3_rate_out",{"$f":"'T2-B(PP5)'!$H$18","v":0},"#'T2-B(PP5)'!$H$18"]
["pp5_bl3_1_3_total",{"$f":"'T2-B(PP5)'!$J$18","v":0},"#'T2-B(PP5)'!$J$18"]
["pp5_bl3_1_3_total_in",{"$f":"'T2-B(PP5)'!$F$18","v":0},"#'T2-B(PP5)'!$F$18"]
["pp5_bl3_1_3_total_out",{"$f":"'T2-B(PP5)'!$I$18","v":0},"#'T2-B(PP5)'!$I$18"]
["pp5_bl3_1_3_unit",{"$f":"'T2-B(PP5)'!$C$18","v":0},"#'T2-B(PP5)'!$C$18"]
["pp5_bl3_1_3_unit_in",{"$f":"'T2-B(PP5)'!$D$18","v":0},"#'T2-B(PP5)'!$D$18"]
["pp5_bl3_1_3_units_out",{"$f":"'T2-B(PP5)'!$G$18","v":0},"#'T2-B(PP5)'!$G$18"]
["pp5_bl3_1_4_name",{"$f":"'T2-B(PP5)'!$B$19","v":0},"#'T2-B(PP5)'!$B$19"]
["pp5_bl3_1_4_rate_in",{"$f":"'T2-B(PP5)'!$E$19","v":0},"#'T2-B(PP5)'!$E$19"]
["pp5_bl3_1_4_rate_out",{"$f":"'T2-B(PP5)'!$H$19","v":0},"#'T2-B(PP5)'!$H$19"]
["pp5_bl3_1_4_total",{"$f":"'T2-B(PP5)'!$J$19","v":0},"#'T2-B(PP5)'!$J$19"]
["pp5_bl3_1_4_total_in",{"$f":"'T2-B(PP5)'!$F$19","v":0},"#'T2-B(PP5)'!$F$19"]
["pp5_bl3_1_4_total_out",{"$f":"'T2-B(PP5)'!$I$19","v":0},"#'T2-B(PP5)'!$I$19"]
["pp5_bl3_1_4_unit",{"$f":"'T2-B(PP5)'!$C$19","v":0},"#'T2-B(PP5)'!$C$19"]
["pp5_bl3_1_4_unit_in",{"$f":"'T2-B(PP5)'!$D$19","v":0},"#'T2-B(PP5)'!$D$19"]
["pp5_bl3_1_4_units_out",{"$f":"'T2-B(PP5)'!$G$19","v":0},"#'T2-B(PP5)'!$G$19"]
["pp5_bl3_1_5_name",{"$f":"'T2-B(PP5)'!$B$20","v":0},"#'T2-B(PP5)'!$B$20"]
["pp5_bl3_1_5_rate_in",{"$f":"'T2-B(PP5)'!$E$20","v":0},"#'T2-B(PP5)'!$E$20"]
["pp5_bl3_1_5_rate_out",{"$f":"'T2-B(PP5)'!$H$20","v":0},"#'T2-B(PP5)'!$H$20"]
["pp5_bl3_1_5_total",{"$f":"'T2-B(PP5)'!$J$20","v":0},"#'T2-B(PP5)'!$J$20"]
["pp5_bl3_1_5_total_in",{"$f":"'T2-B(PP5)'!$F$20","v":0},"#'T2-B(PP5)'!$F$20"]
["pp5_bl3_1_5_total_out",{"$f":"'T2-B(PP5)'!$I$20","v":0},"#'T2-B(PP5)'!$I$20"]
["pp5_bl3_1_5_unit",{"$f":"'T2-B(PP5)'!$C$20","v":0},"#'T2-B(PP5)'!$C$20"]
["pp5_bl3_1_5_unit_in",{"$f":"'T2-B(PP5)'!$D$20","v":0},"#'T2-B(PP5)'!$D$20"]
["pp5_bl3_1_5_units_out",{"$f":"'T2-B(PP5)'!$G$20","v":0},"#'T2-B(PP5)'!$G$20"]
["pp5_bl3_1_6_name",{"$f":"'T2-B(PP5)'!$B$21","v":0},"#'T2-B(PP5)'!$B$21"]
["pp5_bl3_1_6_rate_in",{"$f":"'T2-B(PP5)'!$E$21","v":0},"#'T2-B(PP5)'!$E$21"]
["pp5_bl3_1_6_rate_out",{"$f":"'T2-B(PP5)'!$H$21","v":0},"#'T2-B(PP5)'!$H$21"]
["pp5_bl3_1_6_total",{"$f":"'T2-B(PP5)'!$J$21","v":0},"#'T2-B(PP5)'!$J$21"]
["pp5_bl3_1_6_total_in",{"$f":"'T2-B(PP5)'!$F$21","v":0},"#'T2-B(PP5)'!$F$21"]
["pp5_bl3_1_6_total_out",{"$f":"'T2-B(PP5)'!$I$21","v":0},"#'T2-B(PP5)'!$I$21"]
["pp5_bl3_1_6_unit",{"$f":"'T2-B(PP5)'!$C$21","v":0},"#'T2-B(PP5)'!$C$21"]
["pp5_bl3_1_6_unit_in",{"$f":"'T2-B(PP5)'!$D$21","v":0},"#'T2-B(PP5)'!$D$21"]
["pp5_bl3_1_6_units_out",{"$f":"'T2-B(PP5)'!$G$21","v":0},"#'T2-B(PP5)'!$G$21"]
["pp5_bl3_1_7_name",{"$f":"'T2-B(PP5)'!$B$22","v":0},"#'T2-B(PP5)'!$B$22"]
["pp5_bl3_1_7_rate_in",{"$f":"'T2-B(PP5)'!$E$22","v":0},"#'T2-B(PP5)'!$E$22"]
["pp5_bl3_1_7_rate_out",{"$f":"'T2-B(PP5)'!$H$22","v":0},"#'T2-B(PP5)'!$H$22"]
["pp5_bl3_1_7_total",{"$f":"'T2-B(PP5)'!$J$22","v":0},"#'T2-B(PP5)'!$J$22"]
["pp5_bl3_1_7_total_in",{"$f":"'T2-B(PP5)'!$F$22","v":0},"#'T2-B(PP5)'!$F$22"]
["pp5_bl3_1_7_total_out",{"$f":"'T2-B(PP5)'!$I$22","v":0},"#'T2-B(PP5)'!$I$22"]
["pp5_bl3_1_7_unit",{"$f":"'T2-B(PP5)'!$C$22","v":0},"#'T2-B(PP5)'!$C$22"]
["pp5_bl3_1_7_unit_in",{"$f":"'T2-B(PP5)'!$D$22","v":0},"#'T2-B(PP5)'!$D$22"]
["pp5_bl3_1_7_units_out",{"$f":"'T2-B(PP5)'!$G$22","v":0},"#'T2-B(PP5)'!$G$22"]
["pp5_bl3_1_8_name",{"$f":"'T2-B(PP5)'!$B$23","v":0},"#'T2-B(PP5)'!$B$23"]
["pp5_bl3_1_8_rate_in",{"$f":"'T2-B(PP5)'!$E$23","v":0},"#'T2-B(PP5)'!$E$23"]
["pp5_bl3_1_8_rate_out",{"$f":"'T2-B(PP5)'!$H$23","v":0},"#'T2-B(PP5)'!$H$23"]
["pp5_bl3_1_8_total",{"$f":"'T2-B(PP5)'!$J$23","v":0},"#'T2-B(PP5)'!$J$23"]
["pp5_bl3_1_8_total_in",{"$f":"'T2-B(PP5)'!$F$23","v":0},"#'T2-B(PP5)'!$F$23"]
["pp5_bl3_1_8_total_out",{"$f":"'T2-B(PP5)'!$I$23","v":0},"#'T2-B(PP5)'!$I$23"]
["pp5_bl3_1_8_unit",{"$f":"'T2-B(PP5)'!$C$23","v":0},"#'T2-B(PP5)'!$C$23"]
["pp5_bl3_1_8_unit_in",{"$f":"'T2-B(PP5)'!$D$23","v":0},"#'T2-B(PP5)'!$D$23"]
["pp5_bl3_1_8_units_out",{"$f":"'T2-B(PP5)'!$G$23","v":0},"#'T2-B(PP5)'!$G$23"]
["pp5_bl3_1_9_name",{"$f":"'T2-B(PP5)'!$B$24","v":0},"#'T2-B(PP5)'!$B$24"]
["pp5_bl3_1_9_rate_in",{"$f":"'T2-B(PP5)'!$E$24","v":0},"#'T2-B(PP5)'!$E$24"]
["pp5_bl3_1_9_rate_out",{"$f":"'T2-B(PP5)'!$H$24","v":0},"#'T2-B(PP5)'!$H$24"]
["pp5_bl3_1_9_total",{"$f":"'T2-B(PP5)'!$J$24","v":0},"#'T2-B(PP5)'!$J$24"]
["pp5_bl3_1_9_total_in",{"$f":"'T2-B(PP5)'!$F$24","v":0},"#'T2-B(PP5)'!$F$24"]
["pp5_bl3_1_9_total_out",{"$f":"'T2-B(PP5)'!$I$24","v":0},"#'T2-B(PP5)'!$I$24"]
["pp5_bl3_1_9_unit",{"$f":"'T2-B(PP5)'!$C$24","v":0},"#'T2-B(PP5)'!$C$24"]
["pp5_bl3_1_9_unit_in",{"$f":"'T2-B(PP5)'!$D$24","v":0},"#'T2-B(PP5)'!$D$24"]
["pp5_bl3_1_9_units_out",{"$f":"'T2-B(PP5)'!$G$24","v":0},"#'T2-B(PP5)'!$G$24"]
["pp5_bl3_1_total",{"$f":"'T2-B(PP5)'!$J$15","v":0},"#'T2-B(PP5)'!$J$15"]
["pp5_bl3_1_total_in",{"$f":"'T2-B(PP5)'!$F$15","v":0},"#'T2-B(PP5)'!$F$15"]
["pp5_bl3_1_total_out",{"$f":"'T2-B(PP5)'!$I$15","v":0},"#'T2-B(PP5)'!$I$15"]
["pp5_bl3_2_1_name",{"$f":"'T2-B(PP5)'!$B$27","v":0},"#'T2-B(PP5)'!$B$27"]
["pp5_bl3_2_1_rate_in",{"$f":"'T2-B(PP5)'!$E$27","v":0},"#'T2-B(PP5)'!$E$27"]
["pp5_bl3_2_1_rate_out",{"$f":"'T2-B(PP5)'!$H$27","v":0},"#'T2-B(PP5)'!$H$27"]
["pp5_bl3_2_1_total",{"$f":"'T2-B(PP5)'!$J$27","v":0},"#'T2-B(PP5)'!$J$27"]
["pp5_bl3_2_1_total_in",{"$f":"'T2-B(PP5)'!$F$27","v":0},"#'T2-B(PP5)'!$F$27"]
["pp5_bl3_2_1_total_out",{"$f":"'T2-B(PP5)'!$I$27","v":0},"#'T2-B(PP5)'!$I$27"]
["pp5_bl3_2_1_unit",{"$f":"'T2-B(PP5)'!$C$27","v":0},"#'T2-B(PP5)'!$C$27"]
["pp5_bl3_2_1_unit_in",{"$f":"'T2-B(PP5)'!$D$27","v":0},"#'T2-B(PP5)'!$D$27"]
["pp5_bl3_2_1_units_out",{"$f":"'T2-B(PP5)'!$G$27","v":0},"#'T2-B(PP5)'!$G$27"]
["pp5_bl3_2_10_name",{"$f":"'T2-B(PP5)'!$B$36","v":0},"#'T2-B(PP5)'!$B$36"]
["pp5_bl3_2_10_rate_in",{"$f":"'T2-B(PP5)'!$E$36","v":0},"#'T2-B(PP5)'!$E$36"]
["pp5_bl3_2_10_rate_out",{"$f":"'T2-B(PP5)'!$H$36","v":0},"#'T2-B(PP5)'!$H$36"]
["pp5_bl3_2_10_total",{"$f":"'T2-B(PP5)'!$J$36","v":0},"#'T2-B(PP5)'!$J$36"]
["pp5_bl3_2_10_total_in",{"$f":"'T2-B(PP5)'!$F$36","v":0},"#'T2-B(PP5)'!$F$36"]
["pp5_bl3_2_10_total_out",{"$f":"'T2-B(PP5)'!$I$36","v":0},"#'T2-B(PP5)'!$I$36"]
["pp5_bl3_2_10_unit",{"$f":"'T2-B(PP5)'!$C$36","v":0},"#'T2-B(PP5)'!$C$36"]
["pp5_bl3_2_10_unit_in",{"$f":"'T2-B(PP5)'!$D$36","v":0},"#'T2-B(PP5)'!$D$36"]
["pp5_bl3_2_10_units_out",{"$f":"'T2-B(PP5)'!$G$36","v":0},"#'T2-B(PP5)'!$G$36"]
["pp5_bl3_2_2_name",{"$f":"'T2-B(PP5)'!$B$28","v":0},"#'T2-B(PP5)'!$B$28"]
["pp5_bl3_2_2_rate_in",{"$f":"'T2-B(PP5)'!$E$28","v":0},"#'T2-B(PP5)'!$E$28"]
["pp5_bl3_2_2_rate_out",{"$f":"'T2-B(PP5)'!$H$28","v":0},"#'T2-B(PP5)'!$H$28"]
["pp5_bl3_2_2_total",{"$f":"'T2-B(PP5)'!$J$28","v":0},"#'T2-B(PP5)'!$J$28"]
["pp5_bl3_2_2_total_in",{"$f":"'T2-B(PP5)'!$F$28","v":0},"#'T2-B(PP5)'!$F$28"]
["pp5_bl3_2_2_total_out",{"$f":"'T2-B(PP5)'!$I$28","v":0},"#'T2-B(PP5)'!$I$28"]
["pp5_bl3_2_2_unit",{"$f":"'T2-B(PP5)'!$C$28","v":0},"#'T2-B(PP5)'!$C$28"]
["pp5_bl3_2_2_unit_in",{"$f":"'T2-B(PP5)'!$D$28","v":0},"#'T2-B(PP5)'!$D$28"]
["pp5_bl3_2_2_units_out",{"$f":"'T2-B(PP5)'!$G$28","v":0},"#'T2-B(PP5)'!$G$28"]
["pp5_bl3_2_3_name",{"$f":"'T2-B(PP5)'!$B$29","v":0},"#'T2-B(PP5)'!$B$29"]
["pp5_bl3_2_3_rate_in",{"$f":"'T2-B(PP5)'!$E$29","v":0},"#'T2-B(PP5)'!$E$29"]
["pp5_bl3_2_3_rate_out",{"$f":"'T2-B(PP5)'!$H$29","v":0},"#'T2-B(PP5)'!$H$29"]
["pp5_bl3_2_3_total",{"$f":"'T2-B(PP5)'!$J$29","v":0},"#'T2-B(PP5)'!$J$29"]
["pp5_bl3_2_3_total_in",{"$f":"'T2-B(PP5)'!$F$29","v":0},"#'T2-B(PP5)'!$F$29"]
["pp5_bl3_2_3_total_out",{"$f":"'T2-B(PP5)'!$I$29","v":0},"#'T2-B(PP5)'!$I$29"]
["pp5_bl3_2_3_unit",{"$f":"'T2-B(PP5)'!$C$29","v":0},"#'T2-B(PP5)'!$C$29"]
["pp5_bl3_2_3_unit_in",{"$f":"'T2-B(PP5)'!$D$29","v":0},"#'T2-B(PP5)'!$D$29"]
["pp5_bl3_2_3_units_out",{"$f":"'T2-B(PP5)'!$G$29","v":0},"#'T2-B(PP5)'!$G$29"]
["pp5_bl3_2_4_name",{"$f":"'T2-B(PP5)'!$B$30","v":0},"#'T2-B(PP5)'!$B$30"]
["pp5_bl3_2_4_rate_in",{"$f":"'T2-B(PP5)'!$E$30","v":0},"#'T2-B(PP5)'!$E$30"]
["pp5_bl3_2_4_rate_out",{"$f":"'T2-B(PP5)'!$H$30","v":0},"#'T2-B(PP5)'!$H$30"]
["pp5_bl3_2_4_total",{"$f":"'T2-B(PP5)'!$J$30","v":0},"#'T2-B(PP5)'!$J$30"]
["pp5_bl3_2_4_total_in",{"$f":"'T2-B(PP5)'!$F$30","v":0},"#'T2-B(PP5)'!$F$30"]
["pp5_bl3_2_4_total_out",{"$f":"'T2-B(PP5)'!$I$30","v":0},"#'T2-B(PP5)'!$I$30"]
["pp5_bl3_2_4_unit",{"$f":"'T2-B(PP5)'!$C$30","v":0},"#'T2-B(PP5)'!$C$30"]
["pp5_bl3_2_4_unit_in",{"$f":"'T2-B(PP5)'!$D$30","v":0},"#'T2-B(PP5)'!$D$30"]
["pp5_bl3_2_4_units_out",{"$f":"'T2-B(PP5)'!$G$30","v":0},"#'T2-B(PP5)'!$G$30"]
["pp5_bl3_2_5_name",{"$f":"'T2-B(PP5)'!$B$31","v":0},"#'T2-B(PP5)'!$B$31"]
["pp5_bl3_2_5_rate_in",{"$f":"'T2-B(PP5)'!$E$31","v":0},"#'T2-B(PP5)'!$E$31"]
["pp5_bl3_2_5_rate_out",{"$f":"'T2-B(PP5)'!$H$31","v":0},"#'T2-B(PP5)'!$H$31"]
["pp5_bl3_2_5_total",{"$f":"'T2-B(PP5)'!$J$31","v":0},"#'T2-B(PP5)'!$J$31"]
["pp5_bl3_2_5_total_in",{"$f":"'T2-B(PP5)'!$F$31","v":0},"#'T2-B(PP5)'!$F$31"]
["pp5_bl3_2_5_total_out",{"$f":"'T2-B(PP5)'!$I$31","v":0},"#'T2-B(PP5)'!$I$31"]
["pp5_bl3_2_5_unit",{"$f":"'T2-B(PP5)'!$C$31","v":0},"#'T2-B(PP5)'!$C$31"]
["pp5_bl3_2_5_unit_in",{"$f":"'T2-B(PP5)'!$D$31","v":0},"#'T2-B(PP5)'!$D$31"]
["pp5_bl3_2_5_units_out",{"$f":"'T2-B(PP5)'!$G$31","v":0},"#'T2-B(PP5)'!$G$31"]
["pp5_bl3_2_6_name",{"$f":"'T2-B(PP5)'!$B$32","v":0},"#'T2-B(PP5)'!$B$32"]
["pp5_bl3_2_6_rate_in",{"$f":"'T2-B(PP5)'!$E$32","v":0},"#'T2-B(PP5)'!$E$32"]
["pp5_bl3_2_6_rate_out",{"$f":"'T2-B(PP5)'!$H$32","v":0},"#'T2-B(PP5)'!$H$32"]
["pp5_bl3_2_6_total",{"$f":"'T2-B(PP5)'!$J$32","v":0},"#'T2-B(PP5)'!$J$32"]
["pp5_bl3_2_6_total_in",{"$f":"'T2-B(PP5)'!$F$32","v":0},"#'T2-B(PP5)'!$F$32"]
["pp5_bl3_2_6_total_out",{"$f":"'T2-B(PP5)'!$I$32","v":0},"#'T2-B(PP5)'!$I$32"]
["pp5_bl3_2_6_unit",{"$f":"'T2-B(PP5)'!$C$32","v":0},"#'T2-B(PP5)'!$C$32"]
["pp5_bl3_2_6_unit_in",{"$f":"'T2-B(PP5)'!$D$32","v":0},"#'T2-B(PP5)'!$D$32"]
["pp5_bl3_2_6_units_out",{"$f":"'T2-B(PP5)'!$G$32","v":0},"#'T2-B(PP5)'!$G$32"]
["pp5_bl3_2_7_name",{"$f":"'T2-B(PP5)'!$B$33","v":0},"#'T2-B(PP5)'!$B$33"]
["pp5_bl3_2_7_rate_in",{"$f":"'T2-B(PP5)'!$E$33","v":0},"#'T2-B(PP5)'!$E$33"]
["pp5_bl3_2_7_rate_out",{"$f":"'T2-B(PP5)'!$H$33","v":0},"#'T2-B(PP5)'!$H$33"]
["pp5_bl3_2_7_total",{"$f":"'T2-B(PP5)'!$J$33","v":0},"#'T2-B(PP5)'!$J$33"]
["pp5_bl3_2_7_total_in",{"$f":"'T2-B(PP5)'!$F$33","v":0},"#'T2-B(PP5)'!$F$33"]
["pp5_bl3_2_7_total_out",{"$f":"'T2-B(PP5)'!$I$33","v":0},"#'T2-B(PP5)'!$I$33"]
["pp5_bl3_2_7_unit",{"$f":"'T2-B(PP5)'!$C$33","v":0},"#'T2-B(PP5)'!$C$33"]
["pp5_bl3_2_7_unit_in",{"$f":"'T2-B(PP5)'!$D$33","v":0},"#'T2-B(PP5)'!$D$33"]
["pp5_bl3_2_7_units_out",{"$f":"'T2-B(PP5)'!$G$33","v":0},"#'T2-B(PP5)'!$G$33"]
["pp5_bl3_2_8_name",{"$f":"'T2-B(PP5)'!$B$34","v":0},"#'T2-B(PP5)'!$B$34"]
["pp5_bl3_2_8_rate_in",{"$f":"'T2-B(PP5)'!$E$34","v":0},"#'T2-B(PP5)'!$E$34"]
["pp5_bl3_2_8_rate_out",{"$f":"'T2-B(PP5)'!$H$34","v":0},"#'T2-B(PP5)'!$H$34"]
["pp5_bl3_2_8_total",{"$f":"'T2-B(PP5)'!$J$34","v":0},"#'T2-B(PP5)'!$J$34"]
["pp5_bl3_2_8_total_in",{"$f":"'T2-B(PP5)'!$F$34","v":0},"#'T2-B(PP5)'!$F$34"]
["pp5_bl3_2_8_total_out",{"$f":"'T2-B(PP5)'!$I$34","v":0},"#'T2-B(PP5)'!$I$34"]
["pp5_bl3_2_8_unit",{"$f":"'T2-B(PP5)'!$C$34","v":0},"#'T2-B(PP5)'!$C$34"]
["pp5_bl3_2_8_unit_in",{"$f":"'T2-B(PP5)'!$D$34","v":0},"#'T2-B(PP5)'!$D$34"]
["pp5_bl3_2_8_units_out",{"$f":"'T2-B(PP5)'!$G$34","v":0},"#'T2-B(PP5)'!$G$34"]
["pp5_bl3_2_9_name",{"$f":"'T2-B(PP5)'!$B$35","v":0},"#'T2-B(PP5)'!$B$35"]
["pp5_bl3_2_9_rate_in",{"$f":"'T2-B(PP5)'!$E$35","v":0},"#'T2-B(PP5)'!$E$35"]
["pp5_bl3_2_9_rate_out",{"$f":"'T2-B(PP5)'!$H$35","v":0},"#'T2-B(PP5)'!$H$35"]
["pp5_bl3_2_9_total",{"$f":"'T2-B(PP5)'!$J$35","v":0},"#'T2-B(PP5)'!$J$35"]
["pp5_bl3_2_9_total_in",{"$f":"'T2-B(PP5)'!$F$35","v":0},"#'T2-B(PP5)'!$F$35"]
["pp5_bl3_2_9_total_out",{"$f":"'T2-B(PP5)'!$I$35","v":0},"#'T2-B(PP5)'!$I$35"]
["pp5_bl3_2_9_unit",{"$f":"'T2-B(PP5)'!$C$35","v":0},"#'T2-B(PP5)'!$C$35"]
["pp5_bl3_2_9_unit_in",{"$f":"'T2-B(PP5)'!$D$35","v":0},"#'T2-B(PP5)'!$D$35"]
["pp5_bl3_2_9_units_out",{"$f":"'T2-B(PP5)'!$G$35","v":0},"#'T2-B(PP5)'!$G$35"]
["pp5_bl3_2_total",{"$f":"'T2-B(PP5)'!$J$26","v":0},"#'T2-B(PP5)'!$J$26"]
["pp5_bl3_2_total_in",{"$f":"'T2-B(PP5)'!$F$26","v":0},"#'T2-B(PP5)'!$F$26"]
["pp5_bl3_2_total_out",{"$f":"'T2-B(PP5)'!$I$26","v":0},"#'T2-B(PP5)'!$I$26"]
["pp5_bl3_3_1_name",{"$f":"'T2-B(PP5)'!$B$38","v":0},"#'T2-B(PP5)'!$B$38"]
["pp5_bl3_3_1_rate_in",{"$f":"'T2-B(PP5)'!$E$38","v":0},"#'T2-B(PP5)'!$E$38"]
["pp5_bl3_3_1_rate_out",{"$f":"'T2-B(PP5)'!$H$38","v":0},"#'T2-B(PP5)'!$H$38"]
["pp5_bl3_3_1_total",{"$f":"'T2-B(PP5)'!$J$38","v":0},"#'T2-B(PP5)'!$J$38"]
["pp5_bl3_3_1_total_in",{"$f":"'T2-B(PP5)'!$F$38","v":0},"#'T2-B(PP5)'!$F$38"]
["pp5_bl3_3_1_total_out",{"$f":"'T2-B(PP5)'!$I$38","v":0},"#'T2-B(PP5)'!$I$38"]
["pp5_bl3_3_1_unit",{"$f":"'T2-B(PP5)'!$C$38","v":0},"#'T2-B(PP5)'!$C$38"]
["pp5_bl3_3_1_unit_in",{"$f":"'T2-B(PP5)'!$D$38","v":0},"#'T2-B(PP5)'!$D$38"]
["pp5_bl3_3_1_units_out",{"$f":"'T2-B(PP5)'!$G$38","v":0},"#'T2-B(PP5)'!$G$38"]
["pp5_bl3_3_10_name",{"$f":"'T2-B(PP5)'!$B$47","v":0},"#'T2-B(PP5)'!$B$47"]
["pp5_bl3_3_10_rate_in",{"$f":"'T2-B(PP5)'!$E$47","v":0},"#'T2-B(PP5)'!$E$47"]
["pp5_bl3_3_10_rate_out",{"$f":"'T2-B(PP5)'!$H$47","v":0},"#'T2-B(PP5)'!$H$47"]
["pp5_bl3_3_10_total",{"$f":"'T2-B(PP5)'!$J$47","v":0},"#'T2-B(PP5)'!$J$47"]
["pp5_bl3_3_10_total_in",{"$f":"'T2-B(PP5)'!$F$47","v":0},"#'T2-B(PP5)'!$F$47"]
["pp5_bl3_3_10_total_out",{"$f":"'T2-B(PP5)'!$I$47","v":0},"#'T2-B(PP5)'!$I$47"]
["pp5_bl3_3_10_unit",{"$f":"'T2-B(PP5)'!$C$47","v":0},"#'T2-B(PP5)'!$C$47"]
["pp5_bl3_3_10_unit_in",{"$f":"'T2-B(PP5)'!$D$47","v":0},"#'T2-B(PP5)'!$D$47"]
["pp5_bl3_3_10_units_out",{"$f":"'T2-B(PP5)'!$G$47","v":0},"#'T2-B(PP5)'!$G$47"]
["pp5_bl3_3_2_name",{"$f":"'T2-B(PP5)'!$B$39","v":0},"#'T2-B(PP5)'!$B$39"]
["pp5_bl3_3_2_rate_in",{"$f":"'T2-B(PP5)'!$E$39","v":0},"#'T2-B(PP5)'!$E$39"]
["pp5_bl3_3_2_rate_out",{"$f":"'T2-B(PP5)'!$H$39","v":0},"#'T2-B(PP5)'!$H$39"]
["pp5_bl3_3_2_total",{"$f":"'T2-B(PP5)'!$J$39","v":0},"#'T2-B(PP5)'!$J$39"]
["pp5_bl3_3_2_total_in",{"$f":"'T2-B(PP5)'!$F$39","v":0},"#'T2-B(PP5)'!$F$39"]
["pp5_bl3_3_2_total_out",{"$f":"'T2-B(PP5)'!$I$39","v":0},"#'T2-B(PP5)'!$I$39"]
["pp5_bl3_3_2_unit",{"$f":"'T2-B(PP5)'!$C$39","v":0},"#'T2-B(PP5)'!$C$39"]
["pp5_bl3_3_2_unit_in",{"$f":"'T2-B(PP5)'!$D$39","v":0},"#'T2-B(PP5)'!$D$39"]
["pp5_bl3_3_2_units_out",{"$f":"'T2-B(PP5)'!$G$39","v":0},"#'T2-B(PP5)'!$G$39"]
["pp5_bl3_3_3_name",{"$f":"'T2-B(PP5)'!$B$40","v":0},"#'T2-B(PP5)'!$B$40"]
["pp5_bl3_3_3_rate_in",{"$f":"'T2-B(PP5)'!$E$40","v":0},"#'T2-B(PP5)'!$E$40"]
["pp5_bl3_3_3_rate_out",{"$f":"'T2-B(PP5)'!$H$40","v":0},"#'T2-B(PP5)'!$H$40"]
["pp5_bl3_3_3_total",{"$f":"'T2-B(PP5)'!$J$40","v":0},"#'T2-B(PP5)'!$J$40"]
["pp5_bl3_3_3_total_in",{"$f":"'T2-B(PP5)'!$F$40","v":0},"#'T2-B(PP5)'!$F$40"]
["pp5_bl3_3_3_total_out",{"$f":"'T2-B(PP5)'!$I$40","v":0},"#'T2-B(PP5)'!$I$40"]
["pp5_bl3_3_3_unit",{"$f":"'T2-B(PP5)'!$C$40","v":0},"#'T2-B(PP5)'!$C$40"]
["pp5_bl3_3_3_unit_in",{"$f":"'T2-B(PP5)'!$D$40","v":0},"#'T2-B(PP5)'!$D$40"]
["pp5_bl3_3_3_units_out",{"$f":"'T2-B(PP5)'!$G$40","v":0},"#'T2-B(PP5)'!$G$40"]
["pp5_bl3_3_4_name",{"$f":"'T2-B(PP5)'!$B$41","v":0},"#'T2-B(PP5)'!$B$41"]
["pp5_bl3_3_4_rate_in",{"$f":"'T2-B(PP5)'!$E$41","v":0},"#'T2-B(PP5)'!$E$41"]
["pp5_bl3_3_4_rate_out",{"$f":"'T2-B(PP5)'!$H$41","v":0},"#'T2-B(PP5)'!$H$41"]
["pp5_bl3_3_4_total",{"$f":"'T2-B(PP5)'!$J$41","v":0},"#'T2-B(PP5)'!$J$41"]
["pp5_bl3_3_4_total_in",{"$f":"'T2-B(PP5)'!$F$41","v":0},"#'T2-B(PP5)'!$F$41"]
["pp5_bl3_3_4_total_out",{"$f":"'T2-B(PP5)'!$I$41","v":0},"#'T2-B(PP5)'!$I$41"]
["pp5_bl3_3_4_unit",{"$f":"'T2-B(PP5)'!$C$41","v":0},"#'T2-B(PP5)'!$C$41"]
["pp5_bl3_3_4_unit_in",{"$f":"'T2-B(PP5)'!$D$41","v":0},"#'T2-B(PP5)'!$D$41"]
["pp5_bl3_3_4_units_out",{"$f":"'T2-B(PP5)'!$G$41","v":0},"#'T2-B(PP5)'!$G$41"]
["pp5_bl3_3_5_name",{"$f":"'T2-B(PP5)'!$B$42","v":0},"#'T2-B(PP5)'!$B$42"]
["pp5_bl3_3_5_rate_in",{"$f":"'T2-B(PP5)'!$E$42","v":0},"#'T2-B(PP5)'!$E$42"]
["pp5_bl3_3_5_rate_out",{"$f":"'T2-B(PP5)'!$H$42","v":0},"#'T2-B(PP5)'!$H$42"]
["pp5_bl3_3_5_total",{"$f":"'T2-B(PP5)'!$J$42","v":0},"#'T2-B(PP5)'!$J$42"]
["pp5_bl3_3_5_total_in",{"$f":"'T2-B(PP5)'!$F$42","v":0},"#'T2-B(PP5)'!$F$42"]
["pp5_bl3_3_5_total_out",{"$f":"'T2-B(PP5)'!$I$42","v":0},"#'T2-B(PP5)'!$I$42"]
["pp5_bl3_3_5_unit",{"$f":"'T2-B(PP5)'!$C$42","v":0},"#'T2-B(PP5)'!$C$42"]
["pp5_bl3_3_5_unit_in",{"$f":"'T2-B(PP5)'!$D$42","v":0},"#'T2-B(PP5)'!$D$42"]
["pp5_bl3_3_5_units_out",{"$f":"'T2-B(PP5)'!$G$42","v":0},"#'T2-B(PP5)'!$G$42"]
["pp5_bl3_3_6_name",{"$f":"'T2-B(PP5)'!$B$43","v":0},"#'T2-B(PP5)'!$B$43"]
["pp5_bl3_3_6_rate_in",{"$f":"'T2-B(PP5)'!$E$43","v":0},"#'T2-B(PP5)'!$E$43"]
["pp5_bl3_3_6_rate_out",{"$f":"'T2-B(PP5)'!$H$43","v":0},"#'T2-B(PP5)'!$H$43"]
["pp5_bl3_3_6_total",{"$f":"'T2-B(PP5)'!$J$43","v":0},"#'T2-B(PP5)'!$J$43"]
["pp5_bl3_3_6_total_in",{"$f":"'T2-B(PP5)'!$F$43","v":0},"#'T2-B(PP5)'!$F$43"]
["pp5_bl3_3_6_total_out",{"$f":"'T2-B(PP5)'!$I$43","v":0},"#'T2-B(PP5)'!$I$43"]
["pp5_bl3_3_6_unit",{"$f":"'T2-B(PP5)'!$C$43","v":0},"#'T2-B(PP5)'!$C$43"]
["pp5_bl3_3_6_unit_in",{"$f":"'T2-B(PP5)'!$D$43","v":0},"#'T2-B(PP5)'!$D$43"]
["pp5_bl3_3_6_units_out",{"$f":"'T2-B(PP5)'!$G$43","v":0},"#'T2-B(PP5)'!$G$43"]
["pp5_bl3_3_7_name",{"$f":"'T2-B(PP5)'!$B$44","v":0},"#'T2-B(PP5)'!$B$44"]
["pp5_bl3_3_7_rate_in",{"$f":"'T2-B(PP5)'!$E$44","v":0},"#'T2-B(PP5)'!$E$44"]
["pp5_bl3_3_7_rate_out",{"$f":"'T2-B(PP5)'!$H$44","v":0},"#'T2-B(PP5)'!$H$44"]
["pp5_bl3_3_7_total",{"$f":"'T2-B(PP5)'!$J$44","v":0},"#'T2-B(PP5)'!$J$44"]
["pp5_bl3_3_7_total_in",{"$f":"'T2-B(PP5)'!$F$44","v":0},"#'T2-B(PP5)'!$F$44"]
["pp5_bl3_3_7_total_out",{"$f":"'T2-B(PP5)'!$I$44","v":0},"#'T2-B(PP5)'!$I$44"]
["pp5_bl3_3_7_unit",{"$f":"'T2-B(PP5)'!$C$44","v":0},"#'T2-B(PP5)'!$C$44"]
["pp5_bl3_3_7_unit_in",{"$f":"'T2-B(PP5)'!$D$44","v":0},"#'T2-B(PP5)'!$D$44"]
["pp5_bl3_3_7_units_out",{"$f":"'T2-B(PP5)'!$G$44","v":0},"#'T2-B(PP5)'!$G$44"]
["pp5_bl3_3_8_name",{"$f":"'T2-B(PP5)'!$B$45","v":0},"#'T2-B(PP5)'!$B$45"]
["pp5_bl3_3_8_rate_in",{"$f":"'T2-B(PP5)'!$E$45","v":0},"#'T2-B(PP5)'!$E$45"]
["pp5_bl3_3_8_rate_out",{"$f":"'T2-B(PP5)'!$H$45","v":0},"#'T2-B(PP5)'!$H$45"]
["pp5_bl3_3_8_total",{"$f":"'T2-B(PP5)'!$J$45","v":0},"#'T2-B(PP5)'!$J$45"]
["pp5_bl3_3_8_total_in",{"$f":"'T2-B(PP5)'!$F$45","v":0},"#'T2-B(PP5)'!$F$45"]
["pp5_bl3_3_8_total_out",{"$f":"'T2-B(PP5)'!$I$45","v":0},"#'T2-B(PP5)'!$I$45"]
["pp5_bl3_3_8_unit",{"$f":"'T2-B(PP5)'!$C$45","v":0},"#'T2-B(PP5)'!$C$45"]
["pp5_bl3_3_8_unit_in",{"$f":"'T2-B(PP5)'!$D$45","v":0},"#'T2-B(PP5)'!$D$45"]
["pp5_bl3_3_8_units_out",{"$f":"'T2-B(PP5)'!$G$45","v":0},"#'T2-B(PP5)'!$G$45"]
["pp5_bl3_3_9_name",{"$f":"'T2-B(PP5)'!$B$46","v":0},"#'T2-B(PP5)'!$B$46"]
["pp5_bl3_3_9_rate_in",{"$f":"'T2-B(PP5)'!$E$46","v":0},"#'T2-B(PP5)'!$E$46"]
["pp5_bl3_3_9_rate_out",{"$f":"'T2-B(PP5)'!$H$46","v":0},"#'T2-B(PP5)'!$H$46"]
["pp5_bl3_3_9_total",{"$f":"'T2-B(PP5)'!$J$46","v":0},"#'T2-B(PP5)'!$J$46"]
["pp5_bl3_3_9_total_in",{"$f":"'T2-B(PP5)'!$F$46","v":0},"#'T2-B(PP5)'!$F$46"]
["pp5_bl3_3_9_total_out",{"$f":"'T2-B(PP5)'!$I$46","v":0},"#'T2-B(PP5)'!$I$46"]
["pp5_bl3_3_9_unit",{"$f":"'T2-B(PP5)'!$C$46","v":0},"#'T2-B(PP5)'!$C$46"]
["pp5_bl3_3_9_unit_in",{"$f":"'T2-B(PP5)'!$D$46","v":0},"#'T2-B(PP5)'!$D$46"]
["pp5_bl3_3_9_units_out",{"$f":"'T2-B(PP5)'!$G$46","v":0},"#'T2-B(PP5)'!$G$46"]
["pp5_bl3_3_total",{"$f":"'T2-B(PP5)'!$J$37","v":0},"#'T2-B(PP5)'!$J$37"]
["pp5_bl3_3_total_in",{"$f":"'T2-B(PP5)'!$F$37","v":0},"#'T2-B(PP5)'!$F$37"]
["pp5_bl3_3_total_out",{"$f":"'T2-B(PP5)'!$I$37","v":0},"#'T2-B(PP5)'!$I$37"]
["pp5_bl3_4_1_name",{"$f":"'T2-B(PP5)'!$B$49","v":0},"#'T2-B(PP5)'!$B$49"]
["pp5_bl3_4_1_rate_in",{"$f":"'T2-B(PP5)'!$E$49","v":0},"#'T2-B(PP5)'!$E$49"]
["pp5_bl3_4_1_rate_out",{"$f":"'T2-B(PP5)'!$H$49","v":0},"#'T2-B(PP5)'!$H$49"]
["pp5_bl3_4_1_total",{"$f":"'T2-B(PP5)'!$J$49","v":0},"#'T2-B(PP5)'!$J$49"]
["pp5_bl3_4_1_total_in",{"$f":"'T2-B(PP5)'!$F$49","v":0},"#'T2-B(PP5)'!$F$49"]
["pp5_bl3_4_1_total_out",{"$f":"'T2-B(PP5)'!$I$49","v":0},"#'T2-B(PP5)'!$I$49"]
["pp5_bl3_4_1_unit",{"$f":"'T2-B(PP5)'!$C$49","v":0},"#'T2-B(PP5)'!$C$49"]
["pp5_bl3_4_1_unit_in",{"$f":"'T2-B(PP5)'!$D$49","v":0},"#'T2-B(PP5)'!$D$49"]
["pp5_bl3_4_1_units_out",{"$f":"'T2-B(PP5)'!$G$49","v":0},"#'T2-B(PP5)'!$G$49"]
["pp5_bl3_4_10_name",{"$f":"'T2-B(PP5)'!$B$58","v":0},"#'T2-B(PP5)'!$B$58"]
["pp5_bl3_4_10_rate_in",{"$f":"'T2-B(PP5)'!$E$58","v":0},"#'T2-B(PP5)'!$E$58"]
["pp5_bl3_4_10_rate_out",{"$f":"'T2-B(PP5)'!$H$58","v":0},"#'T2-B(PP5)'!$H$58"]
["pp5_bl3_4_10_total",{"$f":"'T2-B(PP5)'!$J$58","v":0},"#'T2-B(PP5)'!$J$58"]
["pp5_bl3_4_10_total_in",{"$f":"'T2-B(PP5)'!$F$58","v":0},"#'T2-B(PP5)'!$F$58"]
["pp5_bl3_4_10_total_out",{"$f":"'T2-B(PP5)'!$I$58","v":0},"#'T2-B(PP5)'!$I$58"]
["pp5_bl3_4_10_unit",{"$f":"'T2-B(PP5)'!$C$58","v":0},"#'T2-B(PP5)'!$C$58"]
["pp5_bl3_4_10_unit_in",{"$f":"'T2-B(PP5)'!$D$58","v":0},"#'T2-B(PP5)'!$D$58"]
["pp5_bl3_4_10_units_out",{"$f":"'T2-B(PP5)'!$G$58","v":0},"#'T2-B(PP5)'!$G$58"]
["pp5_bl3_4_2_name",{"$f":"'T2-B(PP5)'!$B$50","v":0},"#'T2-B(PP5)'!$B$50"]
["pp5_bl3_4_2_rate_in",{"$f":"'T2-B(PP5)'!$E$50","v":0},"#'T2-B(PP5)'!$E$50"]
["pp5_bl3_4_2_rate_out",{"$f":"'T2-B(PP5)'!$H$50","v":0},"#'T2-B(PP5)'!$H$50"]
["pp5_bl3_4_2_total",{"$f":"'T2-B(PP5)'!$J$50","v":0},"#'T2-B(PP5)'!$J$50"]
["pp5_bl3_4_2_total_in",{"$f":"'T2-B(PP5)'!$F$50","v":0},"#'T2-B(PP5)'!$F$50"]
["pp5_bl3_4_2_total_out",{"$f":"'T2-B(PP5)'!$I$50","v":0},"#'T2-B(PP5)'!$I$50"]
["pp5_bl3_4_2_unit",{"$f":"'T2-B(PP5)'!$C$50","v":0},"#'T2-B(PP5)'!$C$50"]
["pp5_bl3_4_2_unit_in",{"$f":"'T2-B(PP5)'!$D$50","v":0},"#'T2-B(PP5)'!$D$50"]
["pp5_bl3_4_2_units_out",{"$f":"'T2-B(PP5)'!$G$50","v":0},"#'T2-B(PP5)'!$G$50"]
["pp5_bl3_4_3_name",{"$f":"'T2-B(PP5)'!$B$51","v":0},"#'T2-B(PP5)'!$B$51"]
["pp5_bl3_4_3_rate_in",{"$f":"'T2-B(PP5)'!$E$51","v":0},"#'T2-B(PP5)'!$E$51"]
["pp5_bl3_4_3_rate_out",{"$f":"'T2-B(PP5)'!$H$51","v":0},"#'T2-B(PP5)'!$H$51"]
["pp5_bl3_4_3_total",{"$f":"'T2-B(PP5)'!$J$51","v":0},"#'T2-B(PP5)'!$J$51"]
["pp5_bl3_4_3_total_in",{"$f":"'T2-B(PP5)'!$F$51","v":0},"#'T2-B(PP5)'!$F$51"]
["pp5_bl3_4_3_total_out",{"$f":"'T2-B(PP5)'!$I$51","v":0},"#'T2-B(PP5)'!$I$51"]
["pp5_bl3_4_3_unit",{"$f":"'T2-B(PP5)'!$C$51","v":0},"#'T2-B(PP5)'!$C$51"]
["pp5_bl3_4_3_unit_in",{"$f":"'T2-B(PP5)'!$D$51","v":0},"#'T2-B(PP5)'!$D$51"]
["pp5_bl3_4_3_units_out",{"$f":"'T2-B(PP5)'!$G$51","v":0},"#'T2-B(PP5)'!$G$51"]
["pp5_bl3_4_4_name",{"$f":"'T2-B(PP5)'!$B$52","v":0},"#'T2-B(PP5)'!$B$52"]
["pp5_bl3_4_4_rate_in",{"$f":"'T2-B(PP5)'!$E$52","v":0},"#'T2-B(PP5)'!$E$52"]
["pp5_bl3_4_4_rate_out",{"$f":"'T2-B(PP5)'!$H$52","v":0},"#'T2-B(PP5)'!$H$52"]
["pp5_bl3_4_4_total",{"$f":"'T2-B(PP5)'!$J$52","v":0},"#'T2-B(PP5)'!$J$52"]
["pp5_bl3_4_4_total_in",{"$f":"'T2-B(PP5)'!$F$52","v":0},"#'T2-B(PP5)'!$F$52"]
["pp5_bl3_4_4_total_out",{"$f":"'T2-B(PP5)'!$I$52","v":0},"#'T2-B(PP5)'!$I$52"]
["pp5_bl3_4_4_unit",{"$f":"'T2-B(PP5)'!$C$52","v":0},"#'T2-B(PP5)'!$C$52"]
["pp5_bl3_4_4_unit_in",{"$f":"'T2-B(PP5)'!$D$52","v":0},"#'T2-B(PP5)'!$D$52"]
["pp5_bl3_4_4_units_out",{"$f":"'T2-B(PP5)'!$G$52","v":0},"#'T2-B(PP5)'!$G$52"]
["pp5_bl3_4_5_name",{"$f":"'T2-B(PP5)'!$B$53","v":0},"#'T2-B(PP5)'!$B$53"]
["pp5_bl3_4_5_rate_in",{"$f":"'T2-B(PP5)'!$E$53","v":0},"#'T2-B(PP5)'!$E$53"]
["pp5_bl3_4_5_rate_out",{"$f":"'T2-B(PP5)'!$H$53","v":0},"#'T2-B(PP5)'!$H$53"]
["pp5_bl3_4_5_total",{"$f":"'T2-B(PP5)'!$J$53","v":0},"#'T2-B(PP5)'!$J$53"]
["pp5_bl3_4_5_total_in",{"$f":"'T2-B(PP5)'!$F$53","v":0},"#'T2-B(PP5)'!$F$53"]
["pp5_bl3_4_5_total_out",{"$f":"'T2-B(PP5)'!$I$53","v":0},"#'T2-B(PP5)'!$I$53"]
["pp5_bl3_4_5_unit",{"$f":"'T2-B(PP5)'!$C$53","v":0},"#'T2-B(PP5)'!$C$53"]
["pp5_bl3_4_5_unit_in",{"$f":"'T2-B(PP5)'!$D$53","v":0},"#'T2-B(PP5)'!$D$53"]
["pp5_bl3_4_5_units_out",{"$f":"'T2-B(PP5)'!$G$53","v":0},"#'T2-B(PP5)'!$G$53"]
["pp5_bl3_4_6_name",{"$f":"'T2-B(PP5)'!$B$54","v":0},"#'T2-B(PP5)'!$B$54"]
["pp5_bl3_4_6_rate_in",{"$f":"'T2-B(PP5)'!$E$54","v":0},"#'T2-B(PP5)'!$E$54"]
["pp5_bl3_4_6_rate_out",{"$f":"'T2-B(PP5)'!$H$54","v":0},"#'T2-B(PP5)'!$H$54"]
["pp5_bl3_4_6_total",{"$f":"'T2-B(PP5)'!$J$54","v":0},"#'T2-B(PP5)'!$J$54"]
["pp5_bl3_4_6_total_in",{"$f":"'T2-B(PP5)'!$F$54","v":0},"#'T2-B(PP5)'!$F$54"]
["pp5_bl3_4_6_total_out",{"$f":"'T2-B(PP5)'!$I$54","v":0},"#'T2-B(PP5)'!$I$54"]
["pp5_bl3_4_6_unit",{"$f":"'T2-B(PP5)'!$C$54","v":0},"#'T2-B(PP5)'!$C$54"]
["pp5_bl3_4_6_unit_in",{"$f":"'T2-B(PP5)'!$D$54","v":0},"#'T2-B(PP5)'!$D$54"]
["pp5_bl3_4_6_units_out",{"$f":"'T2-B(PP5)'!$G$54","v":0},"#'T2-B(PP5)'!$G$54"]
["pp5_bl3_4_7_name",{"$f":"'T2-B(PP5)'!$B$55","v":0},"#'T2-B(PP5)'!$B$55"]
["pp5_bl3_4_7_rate_in",{"$f":"'T2-B(PP5)'!$E$55","v":0},"#'T2-B(PP5)'!$E$55"]
["pp5_bl3_4_7_rate_out",{"$f":"'T2-B(PP5)'!$H$55","v":0},"#'T2-B(PP5)'!$H$55"]
["pp5_bl3_4_7_total",{"$f":"'T2-B(PP5)'!$J$55","v":0},"#'T2-B(PP5)'!$J$55"]
["pp5_bl3_4_7_total_in",{"$f":"'T2-B(PP5)'!$F$55","v":0},"#'T2-B(PP5)'!$F$55"]
["pp5_bl3_4_7_total_out",{"$f":"'T2-B(PP5)'!$I$55","v":0},"#'T2-B(PP5)'!$I$55"]
["pp5_bl3_4_7_unit",{"$f":"'T2-B(PP5)'!$C$55","v":0},"#'T2-B(PP5)'!$C$55"]
["pp5_bl3_4_7_unit_in",{"$f":"'T2-B(PP5)'!$D$55","v":0},"#'T2-B(PP5)'!$D$55"]
["pp5_bl3_4_7_units_out",{"$f":"'T2-B(PP5)'!$G$55","v":0},"#'T2-B(PP5)'!$G$55"]
["pp5_bl3_4_8_name",{"$f":"'T2-B(PP5)'!$B$56","v":0},"#'T2-B(PP5)'!$B$56"]
["pp5_bl3_4_8_rate_in",{"$f":"'T2-B(PP5)'!$E$56","v":0},"#'T2-B(PP5)'!$E$56"]
["pp5_bl3_4_8_rate_out",{"$f":"'T2-B(PP5)'!$H$56","v":0},"#'T2-B(PP5)'!$H$56"]
["pp5_bl3_4_8_total",{"$f":"'T2-B(PP5)'!$J$56","v":0},"#'T2-B(PP5)'!$J$56"]
["pp5_bl3_4_8_total_in",{"$f":"'T2-B(PP5)'!$F$56","v":0},"#'T2-B(PP5)'!$F$56"]
["pp5_bl3_4_8_total_out",{"$f":"'T2-B(PP5)'!$I$56","v":0},"#'T2-B(PP5)'!$I$56"]
["pp5_bl3_4_8_unit",{"$f":"'T2-B(PP5)'!$C$56","v":0},"#'T2-B(PP5)'!$C$56"]
["pp5_bl3_4_8_unit_in",{"$f":"'T2-B(PP5)'!$D$56","v":0},"#'T2-B(PP5)'!$D$56"]
["pp5_bl3_4_8_units_out",{"$f":"'T2-B(PP5)'!$G$56","v":0},"#'T2-B(PP5)'!$G$56"]
["pp5_bl3_4_9_name",{"$f":"'T2-B(PP5)'!$B$57","v":0},"#'T2-B(PP5)'!$B$57"]
["pp5_bl3_4_9_rate_in",{"$f":"'T2-B(PP5)'!$E$57","v":0},"#'T2-B(PP5)'!$E$57"]
["pp5_bl3_4_9_rate_out",{"$f":"'T2-B(PP5)'!$H$57","v":0},"#'T2-B(PP5)'!$H$57"]
["pp5_bl3_4_9_total",{"$f":"'T2-B(PP5)'!$J$57","v":0},"#'T2-B(PP5)'!$J$57"]
["pp5_bl3_4_9_total_in",{"$f":"'T2-B(PP5)'!$F$57","v":0},"#'T2-B(PP5)'!$F$57"]
["pp5_bl3_4_9_total_out",{"$f":"'T2-B(PP5)'!$I$57","v":0},"#'T2-B(PP5)'!$I$57"]
["pp5_bl3_4_9_unit",{"$f":"'T2-B(PP5)'!$C$57","v":0},"#'T2-B(PP5)'!$C$57"]
["pp5_bl3_4_9_unit_in",{"$f":"'T2-B(PP5)'!$D$57","v":0},"#'T2-B(PP5)'!$D$57"]
["pp5_bl3_4_9_units_out",{"$f":"'T2-B(PP5)'!$G$57","v":0},"#'T2-B(PP5)'!$G$57"]
["pp5_bl3_4_total",{"$f":"'T2-B(PP5)'!$J$48","v":0},"#'T2-B(PP5)'!$J$48"]
["pp5_bl3_4_total_in",{"$f":"'T2-B(PP5)'!$F$48","v":0},"#'T2-B(PP5)'!$F$48"]
["pp5_bl3_4_total_out",{"$f":"'T2-B(PP5)'!$I$48","v":0},"#'T2-B(PP5)'!$I$48"]
["pp5_bl3_total",{"$f":"'T2-B(PP5)'!$J$59","v":0},"#'T2-B(PP5)'!$J$59"]
["pp5_bl3_total_in",{"$f":"'T2-B(PP5)'!$F$59","v":0},"#'T2-B(PP5)'!$F$59"]
["pp5_bl3_total_out",{"$f":"'T2-B(PP5)'!$I$59","v":0},"#'T2-B(PP5)'!$I$59"]
["pp5_bl4_1_1_name",{"$f":"'T2-B(PP5)'!$B$64","v":0},"#'T2-B(PP5)'!$B$64"]
["pp5_bl4_1_1_rate_in",{"$f":"'T2-B(PP5)'!$E$64","v":0},"#'T2-B(PP5)'!$E$64"]
["pp5_bl4_1_1_rate_out",{"$f":"'T2-B(PP5)'!$H$64","v":0},"#'T2-B(PP5)'!$H$64"]
["pp5_bl4_1_1_total",{"$f":"'T2-B(PP5)'!$J$64","v":0},"#'T2-B(PP5)'!$J$64"]
["pp5_bl4_1_1_total_in",{"$f":"'T2-B(PP5)'!$F$64","v":0},"#'T2-B(PP5)'!$F$64"]
["pp5_bl4_1_1_total_out",{"$f":"'T2-B(PP5)'!$I$64","v":0},"#'T2-B(PP5)'!$I$64"]
["pp5_bl4_1_1_unit",{"$f":"'T2-B(PP5)'!$C$64","v":0},"#'T2-B(PP5)'!$C$64"]
["pp5_bl4_1_1_unit_in",{"$f":"'T2-B(PP5)'!$D$64","v":0},"#'T2-B(PP5)'!$D$64"]
["pp5_bl4_1_1_units_out",{"$f":"'T2-B(PP5)'!$G$64","v":0},"#'T2-B(PP5)'!$G$64"]
["pp5_bl4_1_10_name",{"$f":"'T2-B(PP5)'!$B$73","v":0},"#'T2-B(PP5)'!$B$73"]
["pp5_bl4_1_10_rate_in",{"$f":"'T2-B(PP5)'!$E$73","v":0},"#'T2-B(PP5)'!$E$73"]
["pp5_bl4_1_10_rate_out",{"$f":"'T2-B(PP5)'!$H$73","v":0},"#'T2-B(PP5)'!$H$73"]
["pp5_bl4_1_10_total",{"$f":"'T2-B(PP5)'!$J$73","v":0},"#'T2-B(PP5)'!$J$73"]
["pp5_bl4_1_10_total_in",{"$f":"'T2-B(PP5)'!$F$73","v":0},"#'T2-B(PP5)'!$F$73"]
["pp5_bl4_1_10_total_out",{"$f":"'T2-B(PP5)'!$I$73","v":0},"#'T2-B(PP5)'!$I$73"]
["pp5_bl4_1_10_unit",{"$f":"'T2-B(PP5)'!$C$73","v":0},"#'T2-B(PP5)'!$C$73"]
["pp5_bl4_1_10_unit_in",{"$f":"'T2-B(PP5)'!$D$73","v":0},"#'T2-B(PP5)'!$D$73"]
["pp5_bl4_1_10_units_out",{"$f":"'T2-B(PP5)'!$G$73","v":0},"#'T2-B(PP5)'!$G$73"]
["pp5_bl4_1_2_name",{"$f":"'T2-B(PP5)'!$B$65","v":0},"#'T2-B(PP5)'!$B$65"]
["pp5_bl4_1_2_rate_in",{"$f":"'T2-B(PP5)'!$E$65","v":0},"#'T2-B(PP5)'!$E$65"]
["pp5_bl4_1_2_rate_out",{"$f":"'T2-B(PP5)'!$H$65","v":0},"#'T2-B(PP5)'!$H$65"]
["pp5_bl4_1_2_total",{"$f":"'T2-B(PP5)'!$J$65","v":0},"#'T2-B(PP5)'!$J$65"]
["pp5_bl4_1_2_total_in",{"$f":"'T2-B(PP5)'!$F$65","v":0},"#'T2-B(PP5)'!$F$65"]
["pp5_bl4_1_2_total_out",{"$f":"'T2-B(PP5)'!$I$65","v":0},"#'T2-B(PP5)'!$I$65"]
["pp5_bl4_1_2_unit",{"$f":"'T2-B(PP5)'!$C$65","v":0},"#'T2-B(PP5)'!$C$65"]
["pp5_bl4_1_2_unit_in",{"$f":"'T2-B(PP5)'!$D$65","v":0},"#'T2-B(PP5)'!$D$65"]
["pp5_bl4_1_2_units_out",{"$f":"'T2-B(PP5)'!$G$65","v":0},"#'T2-B(PP5)'!$G$65"]
["pp5_bl4_1_3_name",{"$f":"'T2-B(PP5)'!$B$66","v":0},"#'T2-B(PP5)'!$B$66"]
["pp5_bl4_1_3_rate_in",{"$f":"'T2-B(PP5)'!$E$66","v":0},"#'T2-B(PP5)'!$E$66"]
["pp5_bl4_1_3_rate_out",{"$f":"'T2-B(PP5)'!$H$66","v":0},"#'T2-B(PP5)'!$H$66"]
["pp5_bl4_1_3_total",{"$f":"'T2-B(PP5)'!$J$66","v":0},"#'T2-B(PP5)'!$J$66"]
["pp5_bl4_1_3_total_in",{"$f":"'T2-B(PP5)'!$F$66","v":0},"#'T2-B(PP5)'!$F$66"]
["pp5_bl4_1_3_total_out",{"$f":"'T2-B(PP5)'!$I$66","v":0},"#'T2-B(PP5)'!$I$66"]
["pp5_bl4_1_3_unit",{"$f":"'T2-B(PP5)'!$C$66","v":0},"#'T2-B(PP5)'!$C$66"]
["pp5_bl4_1_3_unit_in",{"$f":"'T2-B(PP5)'!$D$66","v":0},"#'T2-B(PP5)'!$D$66"]
["pp5_bl4_1_3_units_out",{"$f":"'T2-B(PP5)'!$G$66","v":0},"#'T2-B(PP5)'!$G$66"]
["pp5_bl4_1_4_name",{"$f":"'T2-B(PP5)'!$B$67","v":0},"#'T2-B(PP5)'!$B$67"]
["pp5_bl4_1_4_rate_in",{"$f":"'T2-B(PP5)'!$E$67","v":0},"#'T2-B(PP5)'!$E$67"]
["pp5_bl4_1_4_rate_out",{"$f":"'T2-B(PP5)'!$H$67","v":0},"#'T2-B(PP5)'!$H$67"]
["pp5_bl4_1_4_total",{"$f":"'T2-B(PP5)'!$J$67","v":0},"#'T2-B(PP5)'!$J$67"]
["pp5_bl4_1_4_total_in",{"$f":"'T2-B(PP5)'!$F$67","v":0},"#'T2-B(PP5)'!$F$67"]
["pp5_bl4_1_4_total_out",{"$f":"'T2-B(PP5)'!$I$67","v":0},"#'T2-B(PP5)'!$I$67"]
["pp5_bl4_1_4_unit",{"$f":"'T2-B(PP5)'!$C$67","v":0},"#'T2-B(PP5)'!$C$67"]
["pp5_bl4_1_4_unit_in",{"$f":"'T2-B(PP5)'!$D$67","v":0},"#'T2-B(PP5)'!$D$67"]
["pp5_bl4_1_4_units_out",{"$f":"'T2-B(PP5)'!$G$67","v":0},"#'T2-B(PP5)'!$G$67"]
["pp5_bl4_1_5_name",{"$f":"'T2-B(PP5)'!$B$68","v":0},"#'T2-B(PP5)'!$B$68"]
["pp5_bl4_1_5_rate_in",{"$f":"'T2-B(PP5)'!$E$68","v":0},"#'T2-B(PP5)'!$E$68"]
["pp5_bl4_1_5_rate_out",{"$f":"'T2-B(PP5)'!$H$68","v":0},"#'T2-B(PP5)'!$H$68"]
["pp5_bl4_1_5_total",{"$f":"'T2-B(PP5)'!$J$68","v":0},"#'T2-B(PP5)'!$J$68"]
["pp5_bl4_1_5_total_in",{"$f":"'T2-B(PP5)'!$F$68","v":0},"#'T2-B(PP5)'!$F$68"]
["pp5_bl4_1_5_total_out",{"$f":"'T2-B(PP5)'!$I$68","v":0},"#'T2-B(PP5)'!$I$68"]
["pp5_bl4_1_5_unit",{"$f":"'T2-B(PP5)'!$C$68","v":0},"#'T2-B(PP5)'!$C$68"]
["pp5_bl4_1_5_unit_in",{"$f":"'T2-B(PP5)'!$D$68","v":0},"#'T2-B(PP5)'!$D$68"]
["pp5_bl4_1_5_units_out",{"$f":"'T2-B(PP5)'!$G$68","v":0},"#'T2-B(PP5)'!$G$68"]
["pp5_bl4_1_6_name",{"$f":"'T2-B(PP5)'!$B$69","v":0},"#'T2-B(PP5)'!$B$69"]
["pp5_bl4_1_6_rate_in",{"$f":"'T2-B(PP5)'!$E$69","v":0},"#'T2-B(PP5)'!$E$69"]
["pp5_bl4_1_6_rate_out",{"$f":"'T2-B(PP5)'!$H$69","v":0},"#'T2-B(PP5)'!$H$69"]
["pp5_bl4_1_6_total",{"$f":"'T2-B(PP5)'!$J$69","v":0},"#'T2-B(PP5)'!$J$69"]
["pp5_bl4_1_6_total_in",{"$f":"'T2-B(PP5)'!$F$69","v":0},"#'T2-B(PP5)'!$F$69"]
["pp5_bl4_1_6_total_out",{"$f":"'T2-B(PP5)'!$I$69","v":0},"#'T2-B(PP5)'!$I$69"]
["pp5_bl4_1_6_unit",{"$f":"'T2-B(PP5)'!$C$69","v":0},"#'T2-B(PP5)'!$C$69"]
["pp5_bl4_1_6_unit_in",{"$f":"'T2-B(PP5)'!$D$69","v":0},"#'T2-B(PP5)'!$D$69"]
["pp5_bl4_1_6_units_out",{"$f":"'T2-B(PP5)'!$G$69","v":0},"#'T2-B(PP5)'!$G$69"]
["pp5_bl4_1_7_name",{"$f":"'T2-B(PP5)'!$B$70","v":0},"#'T2-B(PP5)'!$B$70"]
["pp5_bl4_1_7_rate_in",{"$f":"'T2-B(PP5)'!$E$70","v":0},"#'T2-B(PP5)'!$E$70"]
["pp5_bl4_1_7_rate_out",{"$f":"'T2-B(PP5)'!$H$70","v":0},"#'T2-B(PP5)'!$H$70"]
["pp5_bl4_1_7_total",{"$f":"'T2-B(PP5)'!$J$70","v":0},"#'T2-B(PP5)'!$J$70"]
["pp5_bl4_1_7_total_in",{"$f":"'T2-B(PP5)'!$F$70","v":0},"#'T2-B(PP5)'!$F$70"]
["pp5_bl4_1_7_total_out",{"$f":"'T2-B(PP5)'!$I$70","v":0},"#'T2-B(PP5)'!$I$70"]
["pp5_bl4_1_7_unit",{"$f":"'T2-B(PP5)'!$C$70","v":0},"#'T2-B(PP5)'!$C$70"]
["pp5_bl4_1_7_unit_in",{"$f":"'T2-B(PP5)'!$D$70","v":0},"#'T2-B(PP5)'!$D$70"]
["pp5_bl4_1_7_units_out",{"$f":"'T2-B(PP5)'!$G$70","v":0},"#'T2-B(PP5)'!$G$70"]
["pp5_bl4_1_8_name",{"$f":"'T2-B(PP5)'!$B$71","v":0},"#'T2-B(PP5)'!$B$71"]
["pp5_bl4_1_8_rate_in",{"$f":"'T2-B(PP5)'!$E$71","v":0},"#'T2-B(PP5)'!$E$71"]
["pp5_bl4_1_8_rate_out",{"$f":"'T2-B(PP5)'!$H$71","v":0},"#'T2-B(PP5)'!$H$71"]
["pp5_bl4_1_8_total",{"$f":"'T2-B(PP5)'!$J$71","v":0},"#'T2-B(PP5)'!$J$71"]
["pp5_bl4_1_8_total_in",{"$f":"'T2-B(PP5)'!$F$71","v":0},"#'T2-B(PP5)'!$F$71"]
["pp5_bl4_1_8_total_out",{"$f":"'T2-B(PP5)'!$I$71","v":0},"#'T2-B(PP5)'!$I$71"]
["pp5_bl4_1_8_unit",{"$f":"'T2-B(PP5)'!$C$71","v":0},"#'T2-B(PP5)'!$C$71"]
["pp5_bl4_1_8_unit_in",{"$f":"'T2-B(PP5)'!$D$71","v":0},"#'T2-B(PP5)'!$D$71"]
["pp5_bl4_1_8_units_out",{"$f":"'T2-B(PP5)'!$G$71","v":0},"#'T2-B(PP5)'!$G$71"]
["pp5_bl4_1_9_name",{"$f":"'T2-B(PP5)'!$B$72","v":0},"#'T2-B(PP5)'!$B$72"]
["pp5_bl4_1_9_rate_in",{"$f":"'T2-B(PP5)'!$E$72","v":0},"#'T2-B(PP5)'!$E$72"]
["pp5_bl4_1_9_rate_out",{"$f":"'T2-B(PP5)'!$H$72","v":0},"#'T2-B(PP5)'!$H$72"]
["pp5_bl4_1_9_total",{"$f":"'T2-B(PP5)'!$J$72","v":0},"#'T2-B(PP5)'!$J$72"]
["pp5_bl4_1_9_total_in",{"$f":"'T2-B(PP5)'!$F$72","v":0},"#'T2-B(PP5)'!$F$72"]
["pp5_bl4_1_9_total_out",{"$f":"'T2-B(PP5)'!$I$72","v":0},"#'T2-B(PP5)'!$I$72"]
["pp5_bl4_1_9_unit",{"$f":"'T2-B(PP5)'!$C$72","v":0},"#'T2-B(PP5)'!$C$72"]
["pp5_bl4_1_9_unit_in",{"$f":"'T2-B(PP5)'!$D$72","v":0},"#'T2-B(PP5)'!$D$72"]
["pp5_bl4_1_9_units_out",{"$f":"'T2-B(PP5)'!$G$72","v":0},"#'T2-B(PP5)'!$G$72"]
["pp5_bl4_1_total",{"$f":"'T2-B(PP5)'!$J$63","v":0},"#'T2-B(PP5)'!$J$63"]
["pp5_bl4_1_total_in",{"$f":"'T2-B(PP5)'!$F$63","v":0},"#'T2-B(PP5)'!$F$63"]
["pp5_bl4_1_total_out",{"$f":"'T2-B(PP5)'!$I$63","v":0},"#'T2-B(PP5)'!$I$63"]
["pp5_bl4_10_1_name",{"$f":"'T2-B(PP5)'!$B$163","v":0},"#'T2-B(PP5)'!$B$163"]
["pp5_bl4_10_1_rate_in",{"$f":"'T2-B(PP5)'!$E$163","v":0},"#'T2-B(PP5)'!$E$163"]
["pp5_bl4_10_1_rate_out",{"$f":"'T2-B(PP5)'!$H$163","v":0},"#'T2-B(PP5)'!$H$163"]
["pp5_bl4_10_1_total",{"$f":"'T2-B(PP5)'!$J$163","v":0},"#'T2-B(PP5)'!$J$163"]
["pp5_bl4_10_1_total_in",{"$f":"'T2-B(PP5)'!$F$163","v":0},"#'T2-B(PP5)'!$F$163"]
["pp5_bl4_10_1_total_out",{"$f":"'T2-B(PP5)'!$I$163","v":0},"#'T2-B(PP5)'!$I$163"]
["pp5_bl4_10_1_unit",{"$f":"'T2-B(PP5)'!$C$163","v":0},"#'T2-B(PP5)'!$C$163"]
["pp5_bl4_10_1_unit_in",{"$f":"'T2-B(PP5)'!$D$163","v":0},"#'T2-B(PP5)'!$D$163"]
["pp5_bl4_10_1_units_out",{"$f":"'T2-B(PP5)'!$G$163","v":0},"#'T2-B(PP5)'!$G$163"]
["pp5_bl4_10_10_name",{"$f":"'T2-B(PP5)'!$B$172","v":0},"#'T2-B(PP5)'!$B$172"]
["pp5_bl4_10_10_rate_in",{"$f":"'T2-B(PP5)'!$E$172","v":0},"#'T2-B(PP5)'!$E$172"]
["pp5_bl4_10_10_rate_out",{"$f":"'T2-B(PP5)'!$H$172","v":0},"#'T2-B(PP5)'!$H$172"]
["pp5_bl4_10_10_total",{"$f":"'T2-B(PP5)'!$J$172","v":0},"#'T2-B(PP5)'!$J$172"]
["pp5_bl4_10_10_total_in",{"$f":"'T2-B(PP5)'!$F$172","v":0},"#'T2-B(PP5)'!$F$172"]
["pp5_bl4_10_10_total_out",{"$f":"'T2-B(PP5)'!$I$172","v":0},"#'T2-B(PP5)'!$I$172"]
["pp5_bl4_10_10_unit",{"$f":"'T2-B(PP5)'!$C$172","v":0},"#'T2-B(PP5)'!$C$172"]
["pp5_bl4_10_10_unit_in",{"$f":"'T2-B(PP5)'!$D$172","v":0},"#'T2-B(PP5)'!$D$172"]
["pp5_bl4_10_10_units_out",{"$f":"'T2-B(PP5)'!$G$172","v":0},"#'T2-B(PP5)'!$G$172"]
["pp5_bl4_10_2_name",{"$f":"'T2-B(PP5)'!$B$164","v":0},"#'T2-B(PP5)'!$B$164"]
["pp5_bl4_10_2_rate_in",{"$f":"'T2-B(PP5)'!$E$164","v":0},"#'T2-B(PP5)'!$E$164"]
["pp5_bl4_10_2_rate_out",{"$f":"'T2-B(PP5)'!$H$164","v":0},"#'T2-B(PP5)'!$H$164"]
["pp5_bl4_10_2_total",{"$f":"'T2-B(PP5)'!$J$164","v":0},"#'T2-B(PP5)'!$J$164"]
["pp5_bl4_10_2_total_in",{"$f":"'T2-B(PP5)'!$F$164","v":0},"#'T2-B(PP5)'!$F$164"]
["pp5_bl4_10_2_total_out",{"$f":"'T2-B(PP5)'!$I$164","v":0},"#'T2-B(PP5)'!$I$164"]
["pp5_bl4_10_2_unit",{"$f":"'T2-B(PP5)'!$C$164","v":0},"#'T2-B(PP5)'!$C$164"]
["pp5_bl4_10_2_unit_in",{"$f":"'T2-B(PP5)'!$D$164","v":0},"#'T2-B(PP5)'!$D$164"]
["pp5_bl4_10_2_units_out",{"$f":"'T2-B(PP5)'!$G$164","v":0},"#'T2-B(PP5)'!$G$164"]
["pp5_bl4_10_3_name",{"$f":"'T2-B(PP5)'!$B$165","v":0},"#'T2-B(PP5)'!$B$165"]
["pp5_bl4_10_3_rate_in",{"$f":"'T2-B(PP5)'!$E$165","v":0},"#'T2-B(PP5)'!$E$165"]
["pp5_bl4_10_3_rate_out",{"$f":"'T2-B(PP5)'!$H$165","v":0},"#'T2-B(PP5)'!$H$165"]
["pp5_bl4_10_3_total",{"$f":"'T2-B(PP5)'!$J$165","v":0},"#'T2-B(PP5)'!$J$165"]
["pp5_bl4_10_3_total_in",{"$f":"'T2-B(PP5)'!$F$165","v":0},"#'T2-B(PP5)'!$F$165"]
["pp5_bl4_10_3_total_out",{"$f":"'T2-B(PP5)'!$I$165","v":0},"#'T2-B(PP5)'!$I$165"]
["pp5_bl4_10_3_unit",{"$f":"'T2-B(PP5)'!$C$165","v":0},"#'T2-B(PP5)'!$C$165"]
["pp5_bl4_10_3_unit_in",{"$f":"'T2-B(PP5)'!$D$165","v":0},"#'T2-B(PP5)'!$D$165"]
["pp5_bl4_10_3_units_out",{"$f":"'T2-B(PP5)'!$G$165","v":0},"#'T2-B(PP5)'!$G$165"]
["pp5_bl4_10_4_name",{"$f":"'T2-B(PP5)'!$B$166","v":0},"#'T2-B(PP5)'!$B$166"]
["pp5_bl4_10_4_rate_in",{"$f":"'T2-B(PP5)'!$E$166","v":0},"#'T2-B(PP5)'!$E$166"]
["pp5_bl4_10_4_rate_out",{"$f":"'T2-B(PP5)'!$H$166","v":0},"#'T2-B(PP5)'!$H$166"]
["pp5_bl4_10_4_total",{"$f":"'T2-B(PP5)'!$J$166","v":0},"#'T2-B(PP5)'!$J$166"]
["pp5_bl4_10_4_total_in",{"$f":"'T2-B(PP5)'!$F$166","v":0},"#'T2-B(PP5)'!$F$166"]
["pp5_bl4_10_4_total_out",{"$f":"'T2-B(PP5)'!$I$166","v":0},"#'T2-B(PP5)'!$I$166"]
["pp5_bl4_10_4_unit",{"$f":"'T2-B(PP5)'!$C$166","v":0},"#'T2-B(PP5)'!$C$166"]
["pp5_bl4_10_4_unit_in",{"$f":"'T2-B(PP5)'!$D$166","v":0},"#'T2-B(PP5)'!$D$166"]
["pp5_bl4_10_4_units_out",{"$f":"'T2-B(PP5)'!$G$166","v":0},"#'T2-B(PP5)'!$G$166"]
["pp5_bl4_10_5_name",{"$f":"'T2-B(PP5)'!$B$167","v":0},"#'T2-B(PP5)'!$B$167"]
["pp5_bl4_10_5_rate_in",{"$f":"'T2-B(PP5)'!$E$167","v":0},"#'T2-B(PP5)'!$E$167"]
["pp5_bl4_10_5_rate_out",{"$f":"'T2-B(PP5)'!$H$167","v":0},"#'T2-B(PP5)'!$H$167"]
["pp5_bl4_10_5_total",{"$f":"'T2-B(PP5)'!$J$167","v":0},"#'T2-B(PP5)'!$J$167"]
["pp5_bl4_10_5_total_in",{"$f":"'T2-B(PP5)'!$F$167","v":0},"#'T2-B(PP5)'!$F$167"]
["pp5_bl4_10_5_total_out",{"$f":"'T2-B(PP5)'!$I$167","v":0},"#'T2-B(PP5)'!$I$167"]
["pp5_bl4_10_5_unit",{"$f":"'T2-B(PP5)'!$C$167","v":0},"#'T2-B(PP5)'!$C$167"]
["pp5_bl4_10_5_unit_in",{"$f":"'T2-B(PP5)'!$D$167","v":0},"#'T2-B(PP5)'!$D$167"]
["pp5_bl4_10_5_units_out",{"$f":"'T2-B(PP5)'!$G$167","v":0},"#'T2-B(PP5)'!$G$167"]
["pp5_bl4_10_6_name",{"$f":"'T2-B(PP5)'!$B$168","v":0},"#'T2-B(PP5)'!$B$168"]
["pp5_bl4_10_6_rate_in",{"$f":"'T2-B(PP5)'!$E$168","v":0},"#'T2-B(PP5)'!$E$168"]
["pp5_bl4_10_6_rate_out",{"$f":"'T2-B(PP5)'!$H$168","v":0},"#'T2-B(PP5)'!$H$168"]
["pp5_bl4_10_6_total",{"$f":"'T2-B(PP5)'!$J$168","v":0},"#'T2-B(PP5)'!$J$168"]
["pp5_bl4_10_6_total_in",{"$f":"'T2-B(PP5)'!$F$168","v":0},"#'T2-B(PP5)'!$F$168"]
["pp5_bl4_10_6_total_out",{"$f":"'T2-B(PP5)'!$I$168","v":0},"#'T2-B(PP5)'!$I$168"]
["pp5_bl4_10_6_unit",{"$f":"'T2-B(PP5)'!$C$168","v":0},"#'T2-B(PP5)'!$C$168"]
["pp5_bl4_10_6_unit_in",{"$f":"'T2-B(PP5)'!$D$168","v":0},"#'T2-B(PP5)'!$D$168"]
["pp5_bl4_10_6_units_out",{"$f":"'T2-B(PP5)'!$G$168","v":0},"#'T2-B(PP5)'!$G$168"]
["pp5_bl4_10_7_name",{"$f":"'T2-B(PP5)'!$B$169","v":0},"#'T2-B(PP5)'!$B$169"]
["pp5_bl4_10_7_rate_in",{"$f":"'T2-B(PP5)'!$E$169","v":0},"#'T2-B(PP5)'!$E$169"]
["pp5_bl4_10_7_rate_out",{"$f":"'T2-B(PP5)'!$H$169","v":0},"#'T2-B(PP5)'!$H$169"]
["pp5_bl4_10_7_total",{"$f":"'T2-B(PP5)'!$J$169","v":0},"#'T2-B(PP5)'!$J$169"]
["pp5_bl4_10_7_total_in",{"$f":"'T2-B(PP5)'!$F$169","v":0},"#'T2-B(PP5)'!$F$169"]
["pp5_bl4_10_7_total_out",{"$f":"'T2-B(PP5)'!$I$169","v":0},"#'T2-B(PP5)'!$I$169"]
["pp5_bl4_10_7_unit",{"$f":"'T2-B(PP5)'!$C$169","v":0},"#'T2-B(PP5)'!$C$169"]
["pp5_bl4_10_7_unit_in",{"$f":"'T2-B(PP5)'!$D$169","v":0},"#'T2-B(PP5)'!$D$169"]
["pp5_bl4_10_7_units_out",{"$f":"'T2-B(PP5)'!$G$169","v":0},"#'T2-B(PP5)'!$G$169"]
["pp5_bl4_10_8_name",{"$f":"'T2-B(PP5)'!$B$170","v":0},"#'T2-B(PP5)'!$B$170"]
["pp5_bl4_10_8_rate_in",{"$f":"'T2-B(PP5)'!$E$170","v":0},"#'T2-B(PP5)'!$E$170"]
["pp5_bl4_10_8_rate_out",{"$f":"'T2-B(PP5)'!$H$170","v":0},"#'T2-B(PP5)'!$H$170"]
["pp5_bl4_10_8_total",{"$f":"'T2-B(PP5)'!$J$170","v":0},"#'T2-B(PP5)'!$J$170"]
["pp5_bl4_10_8_total_in",{"$f":"'T2-B(PP5)'!$F$170","v":0},"#'T2-B(PP5)'!$F$170"]
["pp5_bl4_10_8_total_out",{"$f":"'T2-B(PP5)'!$I$170","v":0},"#'T2-B(PP5)'!$I$170"]
["pp5_bl4_10_8_unit",{"$f":"'T2-B(PP5)'!$C$170","v":0},"#'T2-B(PP5)'!$C$170"]
["pp5_bl4_10_8_unit_in",{"$f":"'T2-B(PP5)'!$D$170","v":0},"#'T2-B(PP5)'!$D$170"]
["pp5_bl4_10_8_units_out",{"$f":"'T2-B(PP5)'!$G$170","v":0},"#'T2-B(PP5)'!$G$170"]
["pp5_bl4_10_9_name",{"$f":"'T2-B(PP5)'!$B$171","v":0},"#'T2-B(PP5)'!$B$171"]
["pp5_bl4_10_9_rate_in",{"$f":"'T2-B(PP5)'!$E$171","v":0},"#'T2-B(PP5)'!$E$171"]
["pp5_bl4_10_9_rate_out",{"$f":"'T2-B(PP5)'!$H$171","v":0},"#'T2-B(PP5)'!$H$171"]
["pp5_bl4_10_9_total",{"$f":"'T2-B(PP5)'!$J$171","v":0},"#'T2-B(PP5)'!$J$171"]
["pp5_bl4_10_9_total_in",{"$f":"'T2-B(PP5)'!$F$171","v":0},"#'T2-B(PP5)'!$F$171"]
["pp5_bl4_10_9_total_out",{"$f":"'T2-B(PP5)'!$I$171","v":0},"#'T2-B(PP5)'!$I$171"]
["pp5_bl4_10_9_unit",{"$f":"'T2-B(PP5)'!$C$171","v":0},"#'T2-B(PP5)'!$C$171"]
["pp5_bl4_10_9_unit_in",{"$f":"'T2-B(PP5)'!$D$171","v":0},"#'T2-B(PP5)'!$D$171"]
["pp5_bl4_10_9_units_out",{"$f":"'T2-B(PP5)'!$G$171","v":0},"#'T2-B(PP5)'!$G$171"]
["pp5_bl4_10_total",{"$f":"'T2-B(PP5)'!$J$162","v":0},"#'T2-B(PP5)'!$J$162"]
["pp5_bl4_10_total_in",{"$f":"'T2-B(PP5)'!$F$162","v":0},"#'T2-B(PP5)'!$F$162"]
["pp5_bl4_10_total_out",{"$f":"'T2-B(PP5)'!$I$162","v":0},"#'T2-B(PP5)'!$I$162"]
["pp5_bl4_11_1_name",{"$f":"'T2-B(PP5)'!$B$174","v":0},"#'T2-B(PP5)'!$B$174"]
["pp5_bl4_11_1_rate_in",{"$f":"'T2-B(PP5)'!$E$174","v":0},"#'T2-B(PP5)'!$E$174"]
["pp5_bl4_11_1_rate_out",{"$f":"'T2-B(PP5)'!$H$174","v":0},"#'T2-B(PP5)'!$H$174"]
["pp5_bl4_11_1_total",{"$f":"'T2-B(PP5)'!$J$174","v":0},"#'T2-B(PP5)'!$J$174"]
["pp5_bl4_11_1_total_in",{"$f":"'T2-B(PP5)'!$F$174","v":0},"#'T2-B(PP5)'!$F$174"]
["pp5_bl4_11_1_total_out",{"$f":"'T2-B(PP5)'!$I$174","v":0},"#'T2-B(PP5)'!$I$174"]
["pp5_bl4_11_1_unit",{"$f":"'T2-B(PP5)'!$C$174","v":0},"#'T2-B(PP5)'!$C$174"]
["pp5_bl4_11_1_unit_in",{"$f":"'T2-B(PP5)'!$D$174","v":0},"#'T2-B(PP5)'!$D$174"]
["pp5_bl4_11_1_units_out",{"$f":"'T2-B(PP5)'!$G$174","v":0},"#'T2-B(PP5)'!$G$174"]
["pp5_bl4_11_10_name",{"$f":"'T2-B(PP5)'!$B$183","v":0},"#'T2-B(PP5)'!$B$183"]
["pp5_bl4_11_10_rate_in",{"$f":"'T2-B(PP5)'!$E$183","v":0},"#'T2-B(PP5)'!$E$183"]
["pp5_bl4_11_10_rate_out",{"$f":"'T2-B(PP5)'!$H$183","v":0},"#'T2-B(PP5)'!$H$183"]
["pp5_bl4_11_10_total",{"$f":"'T2-B(PP5)'!$J$183","v":0},"#'T2-B(PP5)'!$J$183"]
["pp5_bl4_11_10_total_in",{"$f":"'T2-B(PP5)'!$F$183","v":0},"#'T2-B(PP5)'!$F$183"]
["pp5_bl4_11_10_total_out",{"$f":"'T2-B(PP5)'!$I$183","v":0},"#'T2-B(PP5)'!$I$183"]
["pp5_bl4_11_10_unit",{"$f":"'T2-B(PP5)'!$C$183","v":0},"#'T2-B(PP5)'!$C$183"]
["pp5_bl4_11_10_unit_in",{"$f":"'T2-B(PP5)'!$D$183","v":0},"#'T2-B(PP5)'!$D$183"]
["pp5_bl4_11_10_units_out",{"$f":"'T2-B(PP5)'!$G$183","v":0},"#'T2-B(PP5)'!$G$183"]
["pp5_bl4_11_2_name",{"$f":"'T2-B(PP5)'!$B$175","v":0},"#'T2-B(PP5)'!$B$175"]
["pp5_bl4_11_2_rate_in",{"$f":"'T2-B(PP5)'!$E$175","v":0},"#'T2-B(PP5)'!$E$175"]
["pp5_bl4_11_2_rate_out",{"$f":"'T2-B(PP5)'!$H$175","v":0},"#'T2-B(PP5)'!$H$175"]
["pp5_bl4_11_2_total",{"$f":"'T2-B(PP5)'!$J$175","v":0},"#'T2-B(PP5)'!$J$175"]
["pp5_bl4_11_2_total_in",{"$f":"'T2-B(PP5)'!$F$175","v":0},"#'T2-B(PP5)'!$F$175"]
["pp5_bl4_11_2_total_out",{"$f":"'T2-B(PP5)'!$I$175","v":0},"#'T2-B(PP5)'!$I$175"]
["pp5_bl4_11_2_unit",{"$f":"'T2-B(PP5)'!$C$175","v":0},"#'T2-B(PP5)'!$C$175"]
["pp5_bl4_11_2_unit_in",{"$f":"'T2-B(PP5)'!$D$175","v":0},"#'T2-B(PP5)'!$D$175"]
["pp5_bl4_11_2_units_out",{"$f":"'T2-B(PP5)'!$G$175","v":0},"#'T2-B(PP5)'!$G$175"]
["pp5_bl4_11_3_name",{"$f":"'T2-B(PP5)'!$B$176","v":0},"#'T2-B(PP5)'!$B$176"]
["pp5_bl4_11_3_rate_in",{"$f":"'T2-B(PP5)'!$E$176","v":0},"#'T2-B(PP5)'!$E$176"]
["pp5_bl4_11_3_rate_out",{"$f":"'T2-B(PP5)'!$H$176","v":0},"#'T2-B(PP5)'!$H$176"]
["pp5_bl4_11_3_total",{"$f":"'T2-B(PP5)'!$J$176","v":0},"#'T2-B(PP5)'!$J$176"]
["pp5_bl4_11_3_total_in",{"$f":"'T2-B(PP5)'!$F$176","v":0},"#'T2-B(PP5)'!$F$176"]
["pp5_bl4_11_3_total_out",{"$f":"'T2-B(PP5)'!$I$176","v":0},"#'T2-B(PP5)'!$I$176"]
["pp5_bl4_11_3_unit",{"$f":"'T2-B(PP5)'!$C$176","v":0},"#'T2-B(PP5)'!$C$176"]
["pp5_bl4_11_3_unit_in",{"$f":"'T2-B(PP5)'!$D$176","v":0},"#'T2-B(PP5)'!$D$176"]
["pp5_bl4_11_3_units_out",{"$f":"'T2-B(PP5)'!$G$176","v":0},"#'T2-B(PP5)'!$G$176"]
["pp5_bl4_11_4_name",{"$f":"'T2-B(PP5)'!$B$177","v":0},"#'T2-B(PP5)'!$B$177"]
["pp5_bl4_11_4_rate_in",{"$f":"'T2-B(PP5)'!$E$177","v":0},"#'T2-B(PP5)'!$E$177"]
["pp5_bl4_11_4_rate_out",{"$f":"'T2-B(PP5)'!$H$177","v":0},"#'T2-B(PP5)'!$H$177"]
["pp5_bl4_11_4_total",{"$f":"'T2-B(PP5)'!$J$177","v":0},"#'T2-B(PP5)'!$J$177"]
["pp5_bl4_11_4_total_in",{"$f":"'T2-B(PP5)'!$F$177","v":0},"#'T2-B(PP5)'!$F$177"]
["pp5_bl4_11_4_total_out",{"$f":"'T2-B(PP5)'!$I$177","v":0},"#'T2-B(PP5)'!$I$177"]
["pp5_bl4_11_4_unit",{"$f":"'T2-B(PP5)'!$C$177","v":0},"#'T2-B(PP5)'!$C$177"]
["pp5_bl4_11_4_unit_in",{"$f":"'T2-B(PP5)'!$D$177","v":0},"#'T2-B(PP5)'!$D$177"]
["pp5_bl4_11_4_units_out",{"$f":"'T2-B(PP5)'!$G$177","v":0},"#'T2-B(PP5)'!$G$177"]
["pp5_bl4_11_5_name",{"$f":"'T2-B(PP5)'!$B$178","v":0},"#'T2-B(PP5)'!$B$178"]
["pp5_bl4_11_5_rate_in",{"$f":"'T2-B(PP5)'!$E$178","v":0},"#'T2-B(PP5)'!$E$178"]
["pp5_bl4_11_5_rate_out",{"$f":"'T2-B(PP5)'!$H$178","v":0},"#'T2-B(PP5)'!$H$178"]
["pp5_bl4_11_5_total",{"$f":"'T2-B(PP5)'!$J$178","v":0},"#'T2-B(PP5)'!$J$178"]
["pp5_bl4_11_5_total_in",{"$f":"'T2-B(PP5)'!$F$178","v":0},"#'T2-B(PP5)'!$F$178"]
["pp5_bl4_11_5_total_out",{"$f":"'T2-B(PP5)'!$I$178","v":0},"#'T2-B(PP5)'!$I$178"]
["pp5_bl4_11_5_unit",{"$f":"'T2-B(PP5)'!$C$178","v":0},"#'T2-B(PP5)'!$C$178"]
["pp5_bl4_11_5_unit_in",{"$f":"'T2-B(PP5)'!$D$178","v":0},"#'T2-B(PP5)'!$D$178"]
["pp5_bl4_11_5_units_out",{"$f":"'T2-B(PP5)'!$G$178","v":0},"#'T2-B(PP5)'!$G$178"]
["pp5_bl4_11_6_name",{"$f":"'T2-B(PP5)'!$B$179","v":0},"#'T2-B(PP5)'!$B$179"]
["pp5_bl4_11_6_rate_in",{"$f":"'T2-B(PP5)'!$E$179","v":0},"#'T2-B(PP5)'!$E$179"]
["pp5_bl4_11_6_rate_out",{"$f":"'T2-B(PP5)'!$H$179","v":0},"#'T2-B(PP5)'!$H$179"]
["pp5_bl4_11_6_total",{"$f":"'T2-B(PP5)'!$J$179","v":0},"#'T2-B(PP5)'!$J$179"]
["pp5_bl4_11_6_total_in",{"$f":"'T2-B(PP5)'!$F$179","v":0},"#'T2-B(PP5)'!$F$179"]
["pp5_bl4_11_6_total_out",{"$f":"'T2-B(PP5)'!$I$179","v":0},"#'T2-B(PP5)'!$I$179"]
["pp5_bl4_11_6_unit",{"$f":"'T2-B(PP5)'!$C$179","v":0},"#'T2-B(PP5)'!$C$179"]
["pp5_bl4_11_6_unit_in",{"$f":"'T2-B(PP5)'!$D$179","v":0},"#'T2-B(PP5)'!$D$179"]
["pp5_bl4_11_6_units_out",{"$f":"'T2-B(PP5)'!$G$179","v":0},"#'T2-B(PP5)'!$G$179"]
["pp5_bl4_11_7_name",{"$f":"'T2-B(PP5)'!$B$180","v":0},"#'T2-B(PP5)'!$B$180"]
["pp5_bl4_11_7_rate_in",{"$f":"'T2-B(PP5)'!$E$180","v":0},"#'T2-B(PP5)'!$E$180"]
["pp5_bl4_11_7_rate_out",{"$f":"'T2-B(PP5)'!$H$180","v":0},"#'T2-B(PP5)'!$H$180"]
["pp5_bl4_11_7_total",{"$f":"'T2-B(PP5)'!$J$180","v":0},"#'T2-B(PP5)'!$J$180"]
["pp5_bl4_11_7_total_in",{"$f":"'T2-B(PP5)'!$F$180","v":0},"#'T2-B(PP5)'!$F$180"]
["pp5_bl4_11_7_total_out",{"$f":"'T2-B(PP5)'!$I$180","v":0},"#'T2-B(PP5)'!$I$180"]
["pp5_bl4_11_7_unit",{"$f":"'T2-B(PP5)'!$C$180","v":0},"#'T2-B(PP5)'!$C$180"]
["pp5_bl4_11_7_unit_in",{"$f":"'T2-B(PP5)'!$D$180","v":0},"#'T2-B(PP5)'!$D$180"]
["pp5_bl4_11_7_units_out",{"$f":"'T2-B(PP5)'!$G$180","v":0},"#'T2-B(PP5)'!$G$180"]
["pp5_bl4_11_8_name",{"$f":"'T2-B(PP5)'!$B$181","v":0},"#'T2-B(PP5)'!$B$181"]
["pp5_bl4_11_8_rate_in",{"$f":"'T2-B(PP5)'!$E$181","v":0},"#'T2-B(PP5)'!$E$181"]
["pp5_bl4_11_8_rate_out",{"$f":"'T2-B(PP5)'!$H$181","v":0},"#'T2-B(PP5)'!$H$181"]
["pp5_bl4_11_8_total",{"$f":"'T2-B(PP5)'!$J$181","v":0},"#'T2-B(PP5)'!$J$181"]
["pp5_bl4_11_8_total_in",{"$f":"'T2-B(PP5)'!$F$181","v":0},"#'T2-B(PP5)'!$F$181"]
["pp5_bl4_11_8_total_out",{"$f":"'T2-B(PP5)'!$I$181","v":0},"#'T2-B(PP5)'!$I$181"]
["pp5_bl4_11_8_unit",{"$f":"'T2-B(PP5)'!$C$181","v":0},"#'T2-B(PP5)'!$C$181"]
["pp5_bl4_11_8_unit_in",{"$f":"'T2-B(PP5)'!$D$181","v":0},"#'T2-B(PP5)'!$D$181"]
["pp5_bl4_11_8_units_out",{"$f":"'T2-B(PP5)'!$G$181","v":0},"#'T2-B(PP5)'!$G$181"]
["pp5_bl4_11_9_name",{"$f":"'T2-B(PP5)'!$B$182","v":0},"#'T2-B(PP5)'!$B$182"]
["pp5_bl4_11_9_rate_in",{"$f":"'T2-B(PP5)'!$E$182","v":0},"#'T2-B(PP5)'!$E$182"]
["pp5_bl4_11_9_rate_out",{"$f":"'T2-B(PP5)'!$H$182","v":0},"#'T2-B(PP5)'!$H$182"]
["pp5_bl4_11_9_total",{"$f":"'T2-B(PP5)'!$J$182","v":0},"#'T2-B(PP5)'!$J$182"]
["pp5_bl4_11_9_total_in",{"$f":"'T2-B(PP5)'!$F$182","v":0},"#'T2-B(PP5)'!$F$182"]
["pp5_bl4_11_9_total_out",{"$f":"'T2-B(PP5)'!$I$182","v":0},"#'T2-B(PP5)'!$I$182"]
["pp5_bl4_11_9_unit",{"$f":"'T2-B(PP5)'!$C$182","v":0},"#'T2-B(PP5)'!$C$182"]
["pp5_bl4_11_9_unit_in",{"$f":"'T2-B(PP5)'!$D$182","v":0},"#'T2-B(PP5)'!$D$182"]
["pp5_bl4_11_9_units_out",{"$f":"'T2-B(PP5)'!$G$182","v":0},"#'T2-B(PP5)'!$G$182"]
["pp5_bl4_11_total",{"$f":"'T2-B(PP5)'!$J$173","v":0},"#'T2-B(PP5)'!$J$173"]
["pp5_bl4_11_total_in",{"$f":"'T2-B(PP5)'!$F$173","v":0},"#'T2-B(PP5)'!$F$173"]
["pp5_bl4_11_total_out",{"$f":"'T2-B(PP5)'!$I$173","v":0},"#'T2-B(PP5)'!$I$173"]
["pp5_bl4_12_1_name",{"$f":"'T2-B(PP5)'!$B$185","v":0},"#'T2-B(PP5)'!$B$185"]
["pp5_bl4_12_1_rate_in",{"$f":"'T2-B(PP5)'!$E$185","v":0},"#'T2-B(PP5)'!$E$185"]
["pp5_bl4_12_1_rate_out",{"$f":"'T2-B(PP5)'!$H$185","v":0},"#'T2-B(PP5)'!$H$185"]
["pp5_bl4_12_1_total",{"$f":"'T2-B(PP5)'!$J$185","v":0},"#'T2-B(PP5)'!$J$185"]
["pp5_bl4_12_1_total_in",{"$f":"'T2-B(PP5)'!$F$185","v":0},"#'T2-B(PP5)'!$F$185"]
["pp5_bl4_12_1_total_out",{"$f":"'T2-B(PP5)'!$I$185","v":0},"#'T2-B(PP5)'!$I$185"]
["pp5_bl4_12_1_unit",{"$f":"'T2-B(PP5)'!$C$185","v":0},"#'T2-B(PP5)'!$C$185"]
["pp5_bl4_12_1_unit_in",{"$f":"'T2-B(PP5)'!$D$185","v":0},"#'T2-B(PP5)'!$D$185"]
["pp5_bl4_12_1_units_out",{"$f":"'T2-B(PP5)'!$G$185","v":0},"#'T2-B(PP5)'!$G$185"]
["pp5_bl4_12_10_name",{"$f":"'T2-B(PP5)'!$B$194","v":0},"#'T2-B(PP5)'!$B$194"]
["pp5_bl4_12_10_rate_in",{"$f":"'T2-B(PP5)'!$E$194","v":0},"#'T2-B(PP5)'!$E$194"]
["pp5_bl4_12_10_rate_out",{"$f":"'T2-B(PP5)'!$H$194","v":0},"#'T2-B(PP5)'!$H$194"]
["pp5_bl4_12_10_total",{"$f":"'T2-B(PP5)'!$J$194","v":0},"#'T2-B(PP5)'!$J$194"]
["pp5_bl4_12_10_total_in",{"$f":"'T2-B(PP5)'!$F$194","v":0},"#'T2-B(PP5)'!$F$194"]
["pp5_bl4_12_10_total_out",{"$f":"'T2-B(PP5)'!$I$194","v":0},"#'T2-B(PP5)'!$I$194"]
["pp5_bl4_12_10_unit",{"$f":"'T2-B(PP5)'!$C$194","v":0},"#'T2-B(PP5)'!$C$194"]
["pp5_bl4_12_10_unit_in",{"$f":"'T2-B(PP5)'!$D$194","v":0},"#'T2-B(PP5)'!$D$194"]
["pp5_bl4_12_10_units_out",{"$f":"'T2-B(PP5)'!$G$194","v":0},"#'T2-B(PP5)'!$G$194"]
["pp5_bl4_12_2_name",{"$f":"'T2-B(PP5)'!$B$186","v":0},"#'T2-B(PP5)'!$B$186"]
["pp5_bl4_12_2_rate_in",{"$f":"'T2-B(PP5)'!$E$186","v":0},"#'T2-B(PP5)'!$E$186"]
["pp5_bl4_12_2_rate_out",{"$f":"'T2-B(PP5)'!$H$186","v":0},"#'T2-B(PP5)'!$H$186"]
["pp5_bl4_12_2_total",{"$f":"'T2-B(PP5)'!$J$186","v":0},"#'T2-B(PP5)'!$J$186"]
["pp5_bl4_12_2_total_in",{"$f":"'T2-B(PP5)'!$F$186","v":0},"#'T2-B(PP5)'!$F$186"]
["pp5_bl4_12_2_total_out",{"$f":"'T2-B(PP5)'!$I$186","v":0},"#'T2-B(PP5)'!$I$186"]
["pp5_bl4_12_2_unit",{"$f":"'T2-B(PP5)'!$C$186","v":0},"#'T2-B(PP5)'!$C$186"]
["pp5_bl4_12_2_unit_in",{"$f":"'T2-B(PP5)'!$D$186","v":0},"#'T2-B(PP5)'!$D$186"]
["pp5_bl4_12_2_units_out",{"$f":"'T2-B(PP5)'!$G$186","v":0},"#'T2-B(PP5)'!$G$186"]
["pp5_bl4_12_3_name",{"$f":"'T2-B(PP5)'!$B$187","v":0},"#'T2-B(PP5)'!$B$187"]
["pp5_bl4_12_3_rate_in",{"$f":"'T2-B(PP5)'!$E$187","v":0},"#'T2-B(PP5)'!$E$187"]
["pp5_bl4_12_3_rate_out",{"$f":"'T2-B(PP5)'!$H$187","v":0},"#'T2-B(PP5)'!$H$187"]
["pp5_bl4_12_3_total",{"$f":"'T2-B(PP5)'!$J$187","v":0},"#'T2-B(PP5)'!$J$187"]
["pp5_bl4_12_3_total_in",{"$f":"'T2-B(PP5)'!$F$187","v":0},"#'T2-B(PP5)'!$F$187"]
["pp5_bl4_12_3_total_out",{"$f":"'T2-B(PP5)'!$I$187","v":0},"#'T2-B(PP5)'!$I$187"]
["pp5_bl4_12_3_unit",{"$f":"'T2-B(PP5)'!$C$187","v":0},"#'T2-B(PP5)'!$C$187"]
["pp5_bl4_12_3_unit_in",{"$f":"'T2-B(PP5)'!$D$187","v":0},"#'T2-B(PP5)'!$D$187"]
["pp5_bl4_12_3_units_out",{"$f":"'T2-B(PP5)'!$G$187","v":0},"#'T2-B(PP5)'!$G$187"]
["pp5_bl4_12_4_name",{"$f":"'T2-B(PP5)'!$B$188","v":0},"#'T2-B(PP5)'!$B$188"]
["pp5_bl4_12_4_rate_in",{"$f":"'T2-B(PP5)'!$E$188","v":0},"#'T2-B(PP5)'!$E$188"]
["pp5_bl4_12_4_rate_out",{"$f":"'T2-B(PP5)'!$H$188","v":0},"#'T2-B(PP5)'!$H$188"]
["pp5_bl4_12_4_total",{"$f":"'T2-B(PP5)'!$J$188","v":0},"#'T2-B(PP5)'!$J$188"]
["pp5_bl4_12_4_total_in",{"$f":"'T2-B(PP5)'!$F$188","v":0},"#'T2-B(PP5)'!$F$188"]
["pp5_bl4_12_4_total_out",{"$f":"'T2-B(PP5)'!$I$188","v":0},"#'T2-B(PP5)'!$I$188"]
["pp5_bl4_12_4_unit",{"$f":"'T2-B(PP5)'!$C$188","v":0},"#'T2-B(PP5)'!$C$188"]
["pp5_bl4_12_4_unit_in",{"$f":"'T2-B(PP5)'!$D$188","v":0},"#'T2-B(PP5)'!$D$188"]
["pp5_bl4_12_4_units_out",{"$f":"'T2-B(PP5)'!$G$188","v":0},"#'T2-B(PP5)'!$G$188"]
["pp5_bl4_12_5_name",{"$f":"'T2-B(PP5)'!$B$189","v":0},"#'T2-B(PP5)'!$B$189"]
["pp5_bl4_12_5_rate_in",{"$f":"'T2-B(PP5)'!$E$189","v":0},"#'T2-B(PP5)'!$E$189"]
["pp5_bl4_12_5_rate_out",{"$f":"'T2-B(PP5)'!$H$189","v":0},"#'T2-B(PP5)'!$H$189"]
["pp5_bl4_12_5_total",{"$f":"'T2-B(PP5)'!$J$189","v":0},"#'T2-B(PP5)'!$J$189"]
["pp5_bl4_12_5_total_in",{"$f":"'T2-B(PP5)'!$F$189","v":0},"#'T2-B(PP5)'!$F$189"]
["pp5_bl4_12_5_total_out",{"$f":"'T2-B(PP5)'!$I$189","v":0},"#'T2-B(PP5)'!$I$189"]
["pp5_bl4_12_5_unit",{"$f":"'T2-B(PP5)'!$C$189","v":0},"#'T2-B(PP5)'!$C$189"]
["pp5_bl4_12_5_unit_in",{"$f":"'T2-B(PP5)'!$D$189","v":0},"#'T2-B(PP5)'!$D$189"]
["pp5_bl4_12_5_units_out",{"$f":"'T2-B(PP5)'!$G$189","v":0},"#'T2-B(PP5)'!$G$189"]
["pp5_bl4_12_6_name",{"$f":"'T2-B(PP5)'!$B$190","v":0},"#'T2-B(PP5)'!$B$190"]
["pp5_bl4_12_6_rate_in",{"$f":"'T2-B(PP5)'!$E$190","v":0},"#'T2-B(PP5)'!$E$190"]
["pp5_bl4_12_6_rate_out",{"$f":"'T2-B(PP5)'!$H$190","v":0},"#'T2-B(PP5)'!$H$190"]
["pp5_bl4_12_6_total",{"$f":"'T2-B(PP5)'!$J$190","v":0},"#'T2-B(PP5)'!$J$190"]
["pp5_bl4_12_6_total_in",{"$f":"'T2-B(PP5)'!$F$190","v":0},"#'T2-B(PP5)'!$F$190"]
["pp5_bl4_12_6_total_out",{"$f":"'T2-B(PP5)'!$I$190","v":0},"#'T2-B(PP5)'!$I$190"]
["pp5_bl4_12_6_unit",{"$f":"'T2-B(PP5)'!$C$190","v":0},"#'T2-B(PP5)'!$C$190"]
["pp5_bl4_12_6_unit_in",{"$f":"'T2-B(PP5)'!$D$190","v":0},"#'T2-B(PP5)'!$D$190"]
["pp5_bl4_12_6_units_out",{"$f":"'T2-B(PP5)'!$G$190","v":0},"#'T2-B(PP5)'!$G$190"]
["pp5_bl4_12_7_name",{"$f":"'T2-B(PP5)'!$B$191","v":0},"#'T2-B(PP5)'!$B$191"]
["pp5_bl4_12_7_rate_in",{"$f":"'T2-B(PP5)'!$E$191","v":0},"#'T2-B(PP5)'!$E$191"]
["pp5_bl4_12_7_rate_out",{"$f":"'T2-B(PP5)'!$H$191","v":0},"#'T2-B(PP5)'!$H$191"]
["pp5_bl4_12_7_total",{"$f":"'T2-B(PP5)'!$J$191","v":0},"#'T2-B(PP5)'!$J$191"]
["pp5_bl4_12_7_total_in",{"$f":"'T2-B(PP5)'!$F$191","v":0},"#'T2-B(PP5)'!$F$191"]
["pp5_bl4_12_7_total_out",{"$f":"'T2-B(PP5)'!$I$191","v":0},"#'T2-B(PP5)'!$I$191"]
["pp5_bl4_12_7_unit",{"$f":"'T2-B(PP5)'!$C$191","v":0},"#'T2-B(PP5)'!$C$191"]
["pp5_bl4_12_7_unit_in",{"$f":"'T2-B(PP5)'!$D$191","v":0},"#'T2-B(PP5)'!$D$191"]
["pp5_bl4_12_7_units_out",{"$f":"'T2-B(PP5)'!$G$191","v":0},"#'T2-B(PP5)'!$G$191"]
["pp5_bl4_12_8_name",{"$f":"'T2-B(PP5)'!$B$192","v":0},"#'T2-B(PP5)'!$B$192"]
["pp5_bl4_12_8_rate_in",{"$f":"'T2-B(PP5)'!$E$192","v":0},"#'T2-B(PP5)'!$E$192"]
["pp5_bl4_12_8_rate_out",{"$f":"'T2-B(PP5)'!$H$192","v":0},"#'T2-B(PP5)'!$H$192"]
["pp5_bl4_12_8_total",{"$f":"'T2-B(PP5)'!$J$192","v":0},"#'T2-B(PP5)'!$J$192"]
["pp5_bl4_12_8_total_in",{"$f":"'T2-B(PP5)'!$F$192","v":0},"#'T2-B(PP5)'!$F$192"]
["pp5_bl4_12_8_total_out",{"$f":"'T2-B(PP5)'!$I$192","v":0},"#'T2-B(PP5)'!$I$192"]
["pp5_bl4_12_8_unit",{"$f":"'T2-B(PP5)'!$C$192","v":0},"#'T2-B(PP5)'!$C$192"]
["pp5_bl4_12_8_unit_in",{"$f":"'T2-B(PP5)'!$D$192","v":0},"#'T2-B(PP5)'!$D$192"]
["pp5_bl4_12_8_units_out",{"$f":"'T2-B(PP5)'!$G$192","v":0},"#'T2-B(PP5)'!$G$192"]
["pp5_bl4_12_9_name",{"$f":"'T2-B(PP5)'!$B$193","v":0},"#'T2-B(PP5)'!$B$193"]
["pp5_bl4_12_9_rate_in",{"$f":"'T2-B(PP5)'!$E$193","v":0},"#'T2-B(PP5)'!$E$193"]
["pp5_bl4_12_9_rate_out",{"$f":"'T2-B(PP5)'!$H$193","v":0},"#'T2-B(PP5)'!$H$193"]
["pp5_bl4_12_9_total",{"$f":"'T2-B(PP5)'!$J$193","v":0},"#'T2-B(PP5)'!$J$193"]
["pp5_bl4_12_9_total_in",{"$f":"'T2-B(PP5)'!$F$193","v":0},"#'T2-B(PP5)'!$F$193"]
["pp5_bl4_12_9_total_out",{"$f":"'T2-B(PP5)'!$I$193","v":0},"#'T2-B(PP5)'!$I$193"]
["pp5_bl4_12_9_unit",{"$f":"'T2-B(PP5)'!$C$193","v":0},"#'T2-B(PP5)'!$C$193"]
["pp5_bl4_12_9_unit_in",{"$f":"'T2-B(PP5)'!$D$193","v":0},"#'T2-B(PP5)'!$D$193"]
["pp5_bl4_12_9_units_out",{"$f":"'T2-B(PP5)'!$G$193","v":0},"#'T2-B(PP5)'!$G$193"]
["pp5_bl4_12_total",{"$f":"'T2-B(PP5)'!$J$184","v":0},"#'T2-B(PP5)'!$J$184"]
["pp5_bl4_12_total_in",{"$f":"'T2-B(PP5)'!$F$184","v":0},"#'T2-B(PP5)'!$F$184"]
["pp5_bl4_12_total_out",{"$f":"'T2-B(PP5)'!$I$184","v":0},"#'T2-B(PP5)'!$I$184"]
["pp5_bl4_13_1_name",{"$f":"'T2-B(PP5)'!$B$196","v":0},"#'T2-B(PP5)'!$B$196"]
["pp5_bl4_13_1_rate_in",{"$f":"'T2-B(PP5)'!$E$196","v":0},"#'T2-B(PP5)'!$E$196"]
["pp5_bl4_13_1_rate_out",{"$f":"'T2-B(PP5)'!$H$196","v":0},"#'T2-B(PP5)'!$H$196"]
["pp5_bl4_13_1_total",{"$f":"'T2-B(PP5)'!$J$196","v":0},"#'T2-B(PP5)'!$J$196"]
["pp5_bl4_13_1_total_in",{"$f":"'T2-B(PP5)'!$F$196","v":0},"#'T2-B(PP5)'!$F$196"]
["pp5_bl4_13_1_total_out",{"$f":"'T2-B(PP5)'!$I$196","v":0},"#'T2-B(PP5)'!$I$196"]
["pp5_bl4_13_1_unit",{"$f":"'T2-B(PP5)'!$C$196","v":0},"#'T2-B(PP5)'!$C$196"]
["pp5_bl4_13_1_unit_in",{"$f":"'T2-B(PP5)'!$D$196","v":0},"#'T2-B(PP5)'!$D$196"]
["pp5_bl4_13_1_units_out",{"$f":"'T2-B(PP5)'!$G$196","v":0},"#'T2-B(PP5)'!$G$196"]
["pp5_bl4_13_10_name",{"$f":"'T2-B(PP5)'!$B$205","v":0},"#'T2-B(PP5)'!$B$205"]
["pp5_bl4_13_10_rate_in",{"$f":"'T2-B(PP5)'!$E$205","v":0},"#'T2-B(PP5)'!$E$205"]
["pp5_bl4_13_10_rate_out",{"$f":"'T2-B(PP5)'!$H$205","v":0},"#'T2-B(PP5)'!$H$205"]
["pp5_bl4_13_10_total",{"$f":"'T2-B(PP5)'!$J$205","v":0},"#'T2-B(PP5)'!$J$205"]
["pp5_bl4_13_10_total_in",{"$f":"'T2-B(PP5)'!$F$205","v":0},"#'T2-B(PP5)'!$F$205"]
["pp5_bl4_13_10_total_out",{"$f":"'T2-B(PP5)'!$I$205","v":0},"#'T2-B(PP5)'!$I$205"]
["pp5_bl4_13_10_unit",{"$f":"'T2-B(PP5)'!$C$205","v":0},"#'T2-B(PP5)'!$C$205"]
["pp5_bl4_13_10_unit_in",{"$f":"'T2-B(PP5)'!$D$205","v":0},"#'T2-B(PP5)'!$D$205"]
["pp5_bl4_13_10_units_out",{"$f":"'T2-B(PP5)'!$G$205","v":0},"#'T2-B(PP5)'!$G$205"]
["pp5_bl4_13_2_name",{"$f":"'T2-B(PP5)'!$B$197","v":0},"#'T2-B(PP5)'!$B$197"]
["pp5_bl4_13_2_rate_in",{"$f":"'T2-B(PP5)'!$E$197","v":0},"#'T2-B(PP5)'!$E$197"]
["pp5_bl4_13_2_rate_out",{"$f":"'T2-B(PP5)'!$H$197","v":0},"#'T2-B(PP5)'!$H$197"]
["pp5_bl4_13_2_total",{"$f":"'T2-B(PP5)'!$J$197","v":0},"#'T2-B(PP5)'!$J$197"]
["pp5_bl4_13_2_total_in",{"$f":"'T2-B(PP5)'!$F$197","v":0},"#'T2-B(PP5)'!$F$197"]
["pp5_bl4_13_2_total_out",{"$f":"'T2-B(PP5)'!$I$197","v":0},"#'T2-B(PP5)'!$I$197"]
["pp5_bl4_13_2_unit",{"$f":"'T2-B(PP5)'!$C$197","v":0},"#'T2-B(PP5)'!$C$197"]
["pp5_bl4_13_2_unit_in",{"$f":"'T2-B(PP5)'!$D$197","v":0},"#'T2-B(PP5)'!$D$197"]
["pp5_bl4_13_2_units_out",{"$f":"'T2-B(PP5)'!$G$197","v":0},"#'T2-B(PP5)'!$G$197"]
["pp5_bl4_13_3_name",{"$f":"'T2-B(PP5)'!$B$198","v":0},"#'T2-B(PP5)'!$B$198"]
["pp5_bl4_13_3_rate_in",{"$f":"'T2-B(PP5)'!$E$198","v":0},"#'T2-B(PP5)'!$E$198"]
["pp5_bl4_13_3_rate_out",{"$f":"'T2-B(PP5)'!$H$198","v":0},"#'T2-B(PP5)'!$H$198"]
["pp5_bl4_13_3_total",{"$f":"'T2-B(PP5)'!$J$198","v":0},"#'T2-B(PP5)'!$J$198"]
["pp5_bl4_13_3_total_in",{"$f":"'T2-B(PP5)'!$F$198","v":0},"#'T2-B(PP5)'!$F$198"]
["pp5_bl4_13_3_total_out",{"$f":"'T2-B(PP5)'!$I$198","v":0},"#'T2-B(PP5)'!$I$198"]
["pp5_bl4_13_3_unit",{"$f":"'T2-B(PP5)'!$C$198","v":0},"#'T2-B(PP5)'!$C$198"]
["pp5_bl4_13_3_unit_in",{"$f":"'T2-B(PP5)'!$D$198","v":0},"#'T2-B(PP5)'!$D$198"]
["pp5_bl4_13_3_units_out",{"$f":"'T2-B(PP5)'!$G$198","v":0},"#'T2-B(PP5)'!$G$198"]
["pp5_bl4_13_4_name",{"$f":"'T2-B(PP5)'!$B$199","v":0},"#'T2-B(PP5)'!$B$199"]
["pp5_bl4_13_4_rate_in",{"$f":"'T2-B(PP5)'!$E$199","v":0},"#'T2-B(PP5)'!$E$199"]
["pp5_bl4_13_4_rate_out",{"$f":"'T2-B(PP5)'!$H$199","v":0},"#'T2-B(PP5)'!$H$199"]
["pp5_bl4_13_4_total",{"$f":"'T2-B(PP5)'!$J$199","v":0},"#'T2-B(PP5)'!$J$199"]
["pp5_bl4_13_4_total_in",{"$f":"'T2-B(PP5)'!$F$199","v":0},"#'T2-B(PP5)'!$F$199"]
["pp5_bl4_13_4_total_out",{"$f":"'T2-B(PP5)'!$I$199","v":0},"#'T2-B(PP5)'!$I$199"]
["pp5_bl4_13_4_unit",{"$f":"'T2-B(PP5)'!$C$199","v":0},"#'T2-B(PP5)'!$C$199"]
["pp5_bl4_13_4_unit_in",{"$f":"'T2-B(PP5)'!$D$199","v":0},"#'T2-B(PP5)'!$D$199"]
["pp5_bl4_13_4_units_out",{"$f":"'T2-B(PP5)'!$G$199","v":0},"#'T2-B(PP5)'!$G$199"]
["pp5_bl4_13_5_name",{"$f":"'T2-B(PP5)'!$B$200","v":0},"#'T2-B(PP5)'!$B$200"]
["pp5_bl4_13_5_rate_in",{"$f":"'T2-B(PP5)'!$E$200","v":0},"#'T2-B(PP5)'!$E$200"]
["pp5_bl4_13_5_rate_out",{"$f":"'T2-B(PP5)'!$H$200","v":0},"#'T2-B(PP5)'!$H$200"]
["pp5_bl4_13_5_total",{"$f":"'T2-B(PP5)'!$J$200","v":0},"#'T2-B(PP5)'!$J$200"]
["pp5_bl4_13_5_total_in",{"$f":"'T2-B(PP5)'!$F$200","v":0},"#'T2-B(PP5)'!$F$200"]
["pp5_bl4_13_5_total_out",{"$f":"'T2-B(PP5)'!$I$200","v":0},"#'T2-B(PP5)'!$I$200"]
["pp5_bl4_13_5_unit",{"$f":"'T2-B(PP5)'!$C$200","v":0},"#'T2-B(PP5)'!$C$200"]
["pp5_bl4_13_5_unit_in",{"$f":"'T2-B(PP5)'!$D$200","v":0},"#'T2-B(PP5)'!$D$200"]
["pp5_bl4_13_5_units_out",{"$f":"'T2-B(PP5)'!$G$200","v":0},"#'T2-B(PP5)'!$G$200"]
["pp5_bl4_13_6_name",{"$f":"'T2-B(PP5)'!$B$201","v":0},"#'T2-B(PP5)'!$B$201"]
["pp5_bl4_13_6_rate_in",{"$f":"'T2-B(PP5)'!$E$201","v":0},"#'T2-B(PP5)'!$E$201"]
["pp5_bl4_13_6_rate_out",{"$f":"'T2-B(PP5)'!$H$201","v":0},"#'T2-B(PP5)'!$H$201"]
["pp5_bl4_13_6_total",{"$f":"'T2-B(PP5)'!$J$201","v":0},"#'T2-B(PP5)'!$J$201"]
["pp5_bl4_13_6_total_in",{"$f":"'T2-B(PP5)'!$F$201","v":0},"#'T2-B(PP5)'!$F$201"]
["pp5_bl4_13_6_total_out",{"$f":"'T2-B(PP5)'!$I$201","v":0},"#'T2-B(PP5)'!$I$201"]
["pp5_bl4_13_6_unit",{"$f":"'T2-B(PP5)'!$C$201","v":0},"#'T2-B(PP5)'!$C$201"]
["pp5_bl4_13_6_unit_in",{"$f":"'T2-B(PP5)'!$D$201","v":0},"#'T2-B(PP5)'!$D$201"]
["pp5_bl4_13_6_units_out",{"$f":"'T2-B(PP5)'!$G$201","v":0},"#'T2-B(PP5)'!$G$201"]
["pp5_bl4_13_7_name",{"$f":"'T2-B(PP5)'!$B$202","v":0},"#'T2-B(PP5)'!$B$202"]
["pp5_bl4_13_7_rate_in",{"$f":"'T2-B(PP5)'!$E$202","v":0},"#'T2-B(PP5)'!$E$202"]
["pp5_bl4_13_7_rate_out",{"$f":"'T2-B(PP5)'!$H$202","v":0},"#'T2-B(PP5)'!$H$202"]
["pp5_bl4_13_7_total",{"$f":"'T2-B(PP5)'!$J$202","v":0},"#'T2-B(PP5)'!$J$202"]
["pp5_bl4_13_7_total_in",{"$f":"'T2-B(PP5)'!$F$202","v":0},"#'T2-B(PP5)'!$F$202"]
["pp5_bl4_13_7_total_out",{"$f":"'T2-B(PP5)'!$I$202","v":0},"#'T2-B(PP5)'!$I$202"]
["pp5_bl4_13_7_unit",{"$f":"'T2-B(PP5)'!$C$202","v":0},"#'T2-B(PP5)'!$C$202"]
["pp5_bl4_13_7_unit_in",{"$f":"'T2-B(PP5)'!$D$202","v":0},"#'T2-B(PP5)'!$D$202"]
["pp5_bl4_13_7_units_out",{"$f":"'T2-B(PP5)'!$G$202","v":0},"#'T2-B(PP5)'!$G$202"]
["pp5_bl4_13_8_name",{"$f":"'T2-B(PP5)'!$B$203","v":0},"#'T2-B(PP5)'!$B$203"]
["pp5_bl4_13_8_rate_in",{"$f":"'T2-B(PP5)'!$E$203","v":0},"#'T2-B(PP5)'!$E$203"]
["pp5_bl4_13_8_rate_out",{"$f":"'T2-B(PP5)'!$H$203","v":0},"#'T2-B(PP5)'!$H$203"]
["pp5_bl4_13_8_total",{"$f":"'T2-B(PP5)'!$J$203","v":0},"#'T2-B(PP5)'!$J$203"]
["pp5_bl4_13_8_total_in",{"$f":"'T2-B(PP5)'!$F$203","v":0},"#'T2-B(PP5)'!$F$203"]
["pp5_bl4_13_8_total_out",{"$f":"'T2-B(PP5)'!$I$203","v":0},"#'T2-B(PP5)'!$I$203"]
["pp5_bl4_13_8_unit",{"$f":"'T2-B(PP5)'!$C$203","v":0},"#'T2-B(PP5)'!$C$203"]
["pp5_bl4_13_8_unit_in",{"$f":"'T2-B(PP5)'!$D$203","v":0},"#'T2-B(PP5)'!$D$203"]
["pp5_bl4_13_8_units_out",{"$f":"'T2-B(PP5)'!$G$203","v":0},"#'T2-B(PP5)'!$G$203"]
["pp5_bl4_13_9_name",{"$f":"'T2-B(PP5)'!$B$204","v":0},"#'T2-B(PP5)'!$B$204"]
["pp5_bl4_13_9_rate_in",{"$f":"'T2-B(PP5)'!$E$204","v":0},"#'T2-B(PP5)'!$E$204"]
["pp5_bl4_13_9_rate_out",{"$f":"'T2-B(PP5)'!$H$204","v":0},"#'T2-B(PP5)'!$H$204"]
["pp5_bl4_13_9_total",{"$f":"'T2-B(PP5)'!$J$204","v":0},"#'T2-B(PP5)'!$J$204"]
["pp5_bl4_13_9_total_in",{"$f":"'T2-B(PP5)'!$F$204","v":0},"#'T2-B(PP5)'!$F$204"]
["pp5_bl4_13_9_total_out",{"$f":"'T2-B(PP5)'!$I$204","v":0},"#'T2-B(PP5)'!$I$204"]
["pp5_bl4_13_9_unit",{"$f":"'T2-B(PP5)'!$C$204","v":0},"#'T2-B(PP5)'!$C$204"]
["pp5_bl4_13_9_unit_in",{"$f":"'T2-B(PP5)'!$D$204","v":0},"#'T2-B(PP5)'!$D$204"]
["pp5_bl4_13_9_units_out",{"$f":"'T2-B(PP5)'!$G$204","v":0},"#'T2-B(PP5)'!$G$204"]
["pp5_bl4_13_total",{"$f":"'T2-B(PP5)'!$J$195","v":0},"#'T2-B(PP5)'!$J$195"]
["pp5_bl4_13_total_in",{"$f":"'T2-B(PP5)'!$F$195","v":0},"#'T2-B(PP5)'!$F$195"]
["pp5_bl4_13_total_out",{"$f":"'T2-B(PP5)'!$I$195","v":0},"#'T2-B(PP5)'!$I$195"]
["pp5_bl4_14_1_name",{"$f":"'T2-B(PP5)'!$B$207","v":0},"#'T2-B(PP5)'!$B$207"]
["pp5_bl4_14_1_rate_in",{"$f":"'T2-B(PP5)'!$E$207","v":0},"#'T2-B(PP5)'!$E$207"]
["pp5_bl4_14_1_rate_out",{"$f":"'T2-B(PP5)'!$H$207","v":0},"#'T2-B(PP5)'!$H$207"]
["pp5_bl4_14_1_total",{"$f":"'T2-B(PP5)'!$J$207","v":0},"#'T2-B(PP5)'!$J$207"]
["pp5_bl4_14_1_total_in",{"$f":"'T2-B(PP5)'!$F$207","v":0},"#'T2-B(PP5)'!$F$207"]
["pp5_bl4_14_1_total_out",{"$f":"'T2-B(PP5)'!$I$207","v":0},"#'T2-B(PP5)'!$I$207"]
["pp5_bl4_14_1_unit",{"$f":"'T2-B(PP5)'!$C$207","v":0},"#'T2-B(PP5)'!$C$207"]
["pp5_bl4_14_1_unit_in",{"$f":"'T2-B(PP5)'!$D$207","v":0},"#'T2-B(PP5)'!$D$207"]
["pp5_bl4_14_1_units_out",{"$f":"'T2-B(PP5)'!$G$207","v":0},"#'T2-B(PP5)'!$G$207"]
["pp5_bl4_14_10_name",{"$f":"'T2-B(PP5)'!$B$216","v":0},"#'T2-B(PP5)'!$B$216"]
["pp5_bl4_14_10_rate_in",{"$f":"'T2-B(PP5)'!$E$216","v":0},"#'T2-B(PP5)'!$E$216"]
["pp5_bl4_14_10_rate_out",{"$f":"'T2-B(PP5)'!$H$216","v":0},"#'T2-B(PP5)'!$H$216"]
["pp5_bl4_14_10_total",{"$f":"'T2-B(PP5)'!$J$216","v":0},"#'T2-B(PP5)'!$J$216"]
["pp5_bl4_14_10_total_in",{"$f":"'T2-B(PP5)'!$F$216","v":0},"#'T2-B(PP5)'!$F$216"]
["pp5_bl4_14_10_total_out",{"$f":"'T2-B(PP5)'!$I$216","v":0},"#'T2-B(PP5)'!$I$216"]
["pp5_bl4_14_10_unit",{"$f":"'T2-B(PP5)'!$C$216","v":0},"#'T2-B(PP5)'!$C$216"]
["pp5_bl4_14_10_unit_in",{"$f":"'T2-B(PP5)'!$D$216","v":0},"#'T2-B(PP5)'!$D$216"]
["pp5_bl4_14_10_units_out",{"$f":"'T2-B(PP5)'!$G$216","v":0},"#'T2-B(PP5)'!$G$216"]
["pp5_bl4_14_2_name",{"$f":"'T2-B(PP5)'!$B$208","v":0},"#'T2-B(PP5)'!$B$208"]
["pp5_bl4_14_2_rate_in",{"$f":"'T2-B(PP5)'!$E$208","v":0},"#'T2-B(PP5)'!$E$208"]
["pp5_bl4_14_2_rate_out",{"$f":"'T2-B(PP5)'!$H$208","v":0},"#'T2-B(PP5)'!$H$208"]
["pp5_bl4_14_2_total",{"$f":"'T2-B(PP5)'!$J$208","v":0},"#'T2-B(PP5)'!$J$208"]
["pp5_bl4_14_2_total_in",{"$f":"'T2-B(PP5)'!$F$208","v":0},"#'T2-B(PP5)'!$F$208"]
["pp5_bl4_14_2_total_out",{"$f":"'T2-B(PP5)'!$I$208","v":0},"#'T2-B(PP5)'!$I$208"]
["pp5_bl4_14_2_unit",{"$f":"'T2-B(PP5)'!$C$208","v":0},"#'T2-B(PP5)'!$C$208"]
["pp5_bl4_14_2_unit_in",{"$f":"'T2-B(PP5)'!$D$208","v":0},"#'T2-B(PP5)'!$D$208"]
["pp5_bl4_14_2_units_out",{"$f":"'T2-B(PP5)'!$G$208","v":0},"#'T2-B(PP5)'!$G$208"]
["pp5_bl4_14_3_name",{"$f":"'T2-B(PP5)'!$B$209","v":0},"#'T2-B(PP5)'!$B$209"]
["pp5_bl4_14_3_rate_in",{"$f":"'T2-B(PP5)'!$E$209","v":0},"#'T2-B(PP5)'!$E$209"]
["pp5_bl4_14_3_rate_out",{"$f":"'T2-B(PP5)'!$H$209","v":0},"#'T2-B(PP5)'!$H$209"]
["pp5_bl4_14_3_total",{"$f":"'T2-B(PP5)'!$J$209","v":0},"#'T2-B(PP5)'!$J$209"]
["pp5_bl4_14_3_total_in",{"$f":"'T2-B(PP5)'!$F$209","v":0},"#'T2-B(PP5)'!$F$209"]
["pp5_bl4_14_3_total_out",{"$f":"'T2-B(PP5)'!$I$209","v":0},"#'T2-B(PP5)'!$I$209"]
["pp5_bl4_14_3_unit",{"$f":"'T2-B(PP5)'!$C$209","v":0},"#'T2-B(PP5)'!$C$209"]
["pp5_bl4_14_3_unit_in",{"$f":"'T2-B(PP5)'!$D$209","v":0},"#'T2-B(PP5)'!$D$209"]
["pp5_bl4_14_3_units_out",{"$f":"'T2-B(PP5)'!$G$209","v":0},"#'T2-B(PP5)'!$G$209"]
["pp5_bl4_14_4_name",{"$f":"'T2-B(PP5)'!$B$210","v":0},"#'T2-B(PP5)'!$B$210"]
["pp5_bl4_14_4_rate_in",{"$f":"'T2-B(PP5)'!$E$210","v":0},"#'T2-B(PP5)'!$E$210"]
["pp5_bl4_14_4_rate_out",{"$f":"'T2-B(PP5)'!$H$210","v":0},"#'T2-B(PP5)'!$H$210"]
["pp5_bl4_14_4_total",{"$f":"'T2-B(PP5)'!$J$210","v":0},"#'T2-B(PP5)'!$J$210"]
["pp5_bl4_14_4_total_in",{"$f":"'T2-B(PP5)'!$F$210","v":0},"#'T2-B(PP5)'!$F$210"]
["pp5_bl4_14_4_total_out",{"$f":"'T2-B(PP5)'!$I$210","v":0},"#'T2-B(PP5)'!$I$210"]
["pp5_bl4_14_4_unit",{"$f":"'T2-B(PP5)'!$C$210","v":0},"#'T2-B(PP5)'!$C$210"]
["pp5_bl4_14_4_unit_in",{"$f":"'T2-B(PP5)'!$D$210","v":0},"#'T2-B(PP5)'!$D$210"]
["pp5_bl4_14_4_units_out",{"$f":"'T2-B(PP5)'!$G$210","v":0},"#'T2-B(PP5)'!$G$210"]
["pp5_bl4_14_5_name",{"$f":"'T2-B(PP5)'!$B$211","v":0},"#'T2-B(PP5)'!$B$211"]
["pp5_bl4_14_5_rate_in",{"$f":"'T2-B(PP5)'!$E$211","v":0},"#'T2-B(PP5)'!$E$211"]
["pp5_bl4_14_5_rate_out",{"$f":"'T2-B(PP5)'!$H$211","v":0},"#'T2-B(PP5)'!$H$211"]
["pp5_bl4_14_5_total",{"$f":"'T2-B(PP5)'!$J$211","v":0},"#'T2-B(PP5)'!$J$211"]
["pp5_bl4_14_5_total_in",{"$f":"'T2-B(PP5)'!$F$211","v":0},"#'T2-B(PP5)'!$F$211"]
["pp5_bl4_14_5_total_out",{"$f":"'T2-B(PP5)'!$I$211","v":0},"#'T2-B(PP5)'!$I$211"]
["pp5_bl4_14_5_unit",{"$f":"'T2-B(PP5)'!$C$211","v":0},"#'T2-B(PP5)'!$C$211"]
["pp5_bl4_14_5_unit_in",{"$f":"'T2-B(PP5)'!$D$211","v":0},"#'T2-B(PP5)'!$D$211"]
["pp5_bl4_14_5_units_out",{"$f":"'T2-B(PP5)'!$G$211","v":0},"#'T2-B(PP5)'!$G$211"]
["pp5_bl4_14_6_name",{"$f":"'T2-B(PP5)'!$B$212","v":0},"#'T2-B(PP5)'!$B$212"]
["pp5_bl4_14_6_rate_in",{"$f":"'T2-B(PP5)'!$E$212","v":0},"#'T2-B(PP5)'!$E$212"]
["pp5_bl4_14_6_rate_out",{"$f":"'T2-B(PP5)'!$H$212","v":0},"#'T2-B(PP5)'!$H$212"]
["pp5_bl4_14_6_total",{"$f":"'T2-B(PP5)'!$J$212","v":0},"#'T2-B(PP5)'!$J$212"]
["pp5_bl4_14_6_total_in",{"$f":"'T2-B(PP5)'!$F$212","v":0},"#'T2-B(PP5)'!$F$212"]
["pp5_bl4_14_6_total_out",{"$f":"'T2-B(PP5)'!$I$212","v":0},"#'T2-B(PP5)'!$I$212"]
["pp5_bl4_14_6_unit",{"$f":"'T2-B(PP5)'!$C$212","v":0},"#'T2-B(PP5)'!$C$212"]
["pp5_bl4_14_6_unit_in",{"$f":"'T2-B(PP5)'!$D$212","v":0},"#'T2-B(PP5)'!$D$212"]
["pp5_bl4_14_6_units_out",{"$f":"'T2-B(PP5)'!$G$212","v":0},"#'T2-B(PP5)'!$G$212"]
["pp5_bl4_14_7_name",{"$f":"'T2-B(PP5)'!$B$213","v":0},"#'T2-B(PP5)'!$B$213"]
["pp5_bl4_14_7_rate_in",{"$f":"'T2-B(PP5)'!$E$213","v":0},"#'T2-B(PP5)'!$E$213"]
["pp5_bl4_14_7_rate_out",{"$f":"'T2-B(PP5)'!$H$213","v":0},"#'T2-B(PP5)'!$H$213"]
["pp5_bl4_14_7_total",{"$f":"'T2-B(PP5)'!$J$213","v":0},"#'T2-B(PP5)'!$J$213"]
["pp5_bl4_14_7_total_in",{"$f":"'T2-B(PP5)'!$F$213","v":0},"#'T2-B(PP5)'!$F$213"]
["pp5_bl4_14_7_total_out",{"$f":"'T2-B(PP5)'!$I$213","v":0},"#'T2-B(PP5)'!$I$213"]
["pp5_bl4_14_7_unit",{"$f":"'T2-B(PP5)'!$C$213","v":0},"#'T2-B(PP5)'!$C$213"]
["pp5_bl4_14_7_unit_in",{"$f":"'T2-B(PP5)'!$D$213","v":0},"#'T2-B(PP5)'!$D$213"]
["pp5_bl4_14_7_units_out",{"$f":"'T2-B(PP5)'!$G$213","v":0},"#'T2-B(PP5)'!$G$213"]
["pp5_bl4_14_8_name",{"$f":"'T2-B(PP5)'!$B$214","v":0},"#'T2-B(PP5)'!$B$214"]
["pp5_bl4_14_8_rate_in",{"$f":"'T2-B(PP5)'!$E$214","v":0},"#'T2-B(PP5)'!$E$214"]
["pp5_bl4_14_8_rate_out",{"$f":"'T2-B(PP5)'!$H$214","v":0},"#'T2-B(PP5)'!$H$214"]
["pp5_bl4_14_8_total",{"$f":"'T2-B(PP5)'!$J$214","v":0},"#'T2-B(PP5)'!$J$214"]
["pp5_bl4_14_8_total_in",{"$f":"'T2-B(PP5)'!$F$214","v":0},"#'T2-B(PP5)'!$F$214"]
["pp5_bl4_14_8_total_out",{"$f":"'T2-B(PP5)'!$I$214","v":0},"#'T2-B(PP5)'!$I$214"]
["pp5_bl4_14_8_unit",{"$f":"'T2-B(PP5)'!$C$214","v":0},"#'T2-B(PP5)'!$C$214"]
["pp5_bl4_14_8_unit_in",{"$f":"'T2-B(PP5)'!$D$214","v":0},"#'T2-B(PP5)'!$D$214"]
["pp5_bl4_14_8_units_out",{"$f":"'T2-B(PP5)'!$G$214","v":0},"#'T2-B(PP5)'!$G$214"]
["pp5_bl4_14_9_name",{"$f":"'T2-B(PP5)'!$B$215","v":0},"#'T2-B(PP5)'!$B$215"]
["pp5_bl4_14_9_rate_in",{"$f":"'T2-B(PP5)'!$E$215","v":0},"#'T2-B(PP5)'!$E$215"]
["pp5_bl4_14_9_rate_out",{"$f":"'T2-B(PP5)'!$H$215","v":0},"#'T2-B(PP5)'!$H$215"]
["pp5_bl4_14_9_total",{"$f":"'T2-B(PP5)'!$J$215","v":0},"#'T2-B(PP5)'!$J$215"]
["pp5_bl4_14_9_total_in",{"$f":"'T2-B(PP5)'!$F$215","v":0},"#'T2-B(PP5)'!$F$215"]
["pp5_bl4_14_9_total_out",{"$f":"'T2-B(PP5)'!$I$215","v":0},"#'T2-B(PP5)'!$I$215"]
["pp5_bl4_14_9_unit",{"$f":"'T2-B(PP5)'!$C$215","v":0},"#'T2-B(PP5)'!$C$215"]
["pp5_bl4_14_9_unit_in",{"$f":"'T2-B(PP5)'!$D$215","v":0},"#'T2-B(PP5)'!$D$215"]
["pp5_bl4_14_9_units_out",{"$f":"'T2-B(PP5)'!$G$215","v":0},"#'T2-B(PP5)'!$G$215"]
["pp5_bl4_14_total",{"$f":"'T2-B(PP5)'!$J$206","v":0},"#'T2-B(PP5)'!$J$206"]
["pp5_bl4_14_total_in",{"$f":"'T2-B(PP5)'!$F$206","v":0},"#'T2-B(PP5)'!$F$206"]
["pp5_bl4_14_total_out",{"$f":"'T2-B(PP5)'!$I$206","v":0},"#'T2-B(PP5)'!$I$206"]
["pp5_bl4_2_1_name",{"$f":"'T2-B(PP5)'!$B$75","v":0},"#'T2-B(PP5)'!$B$75"]
["pp5_bl4_2_1_rate_in",{"$f":"'T2-B(PP5)'!$E$75","v":0},"#'T2-B(PP5)'!$E$75"]
["pp5_bl4_2_1_rate_out",{"$f":"'T2-B(PP5)'!$H$75","v":0},"#'T2-B(PP5)'!$H$75"]
["pp5_bl4_2_1_total",{"$f":"'T2-B(PP5)'!$J$75","v":0},"#'T2-B(PP5)'!$J$75"]
["pp5_bl4_2_1_total_in",{"$f":"'T2-B(PP5)'!$F$75","v":0},"#'T2-B(PP5)'!$F$75"]
["pp5_bl4_2_1_total_out",{"$f":"'T2-B(PP5)'!$I$75","v":0},"#'T2-B(PP5)'!$I$75"]
["pp5_bl4_2_1_unit",{"$f":"'T2-B(PP5)'!$C$75","v":0},"#'T2-B(PP5)'!$C$75"]
["pp5_bl4_2_1_unit_in",{"$f":"'T2-B(PP5)'!$D$75","v":0},"#'T2-B(PP5)'!$D$75"]
["pp5_bl4_2_1_units_out",{"$f":"'T2-B(PP5)'!$G$75","v":0},"#'T2-B(PP5)'!$G$75"]
["pp5_bl4_2_10_name",{"$f":"'T2-B(PP5)'!$B$84","v":0},"#'T2-B(PP5)'!$B$84"]
["pp5_bl4_2_10_rate_in",{"$f":"'T2-B(PP5)'!$E$84","v":0},"#'T2-B(PP5)'!$E$84"]
["pp5_bl4_2_10_rate_out",{"$f":"'T2-B(PP5)'!$H$84","v":0},"#'T2-B(PP5)'!$H$84"]
["pp5_bl4_2_10_total",{"$f":"'T2-B(PP5)'!$J$84","v":0},"#'T2-B(PP5)'!$J$84"]
["pp5_bl4_2_10_total_in",{"$f":"'T2-B(PP5)'!$F$84","v":0},"#'T2-B(PP5)'!$F$84"]
["pp5_bl4_2_10_total_out",{"$f":"'T2-B(PP5)'!$I$84","v":0},"#'T2-B(PP5)'!$I$84"]
["pp5_bl4_2_10_unit",{"$f":"'T2-B(PP5)'!$C$84","v":0},"#'T2-B(PP5)'!$C$84"]
["pp5_bl4_2_10_unit_in",{"$f":"'T2-B(PP5)'!$D$84","v":0},"#'T2-B(PP5)'!$D$84"]
["pp5_bl4_2_10_units_out",{"$f":"'T2-B(PP5)'!$G$84","v":0},"#'T2-B(PP5)'!$G$84"]
["pp5_bl4_2_2_name",{"$f":"'T2-B(PP5)'!$B$76","v":0},"#'T2-B(PP5)'!$B$76"]
["pp5_bl4_2_2_rate_in",{"$f":"'T2-B(PP5)'!$E$76","v":0},"#'T2-B(PP5)'!$E$76"]
["pp5_bl4_2_2_rate_out",{"$f":"'T2-B(PP5)'!$H$76","v":0},"#'T2-B(PP5)'!$H$76"]
["pp5_bl4_2_2_total",{"$f":"'T2-B(PP5)'!$J$76","v":0},"#'T2-B(PP5)'!$J$76"]
["pp5_bl4_2_2_total_in",{"$f":"'T2-B(PP5)'!$F$76","v":0},"#'T2-B(PP5)'!$F$76"]
["pp5_bl4_2_2_total_out",{"$f":"'T2-B(PP5)'!$I$76","v":0},"#'T2-B(PP5)'!$I$76"]
["pp5_bl4_2_2_unit",{"$f":"'T2-B(PP5)'!$C$76","v":0},"#'T2-B(PP5)'!$C$76"]
["pp5_bl4_2_2_unit_in",{"$f":"'T2-B(PP5)'!$D$76","v":0},"#'T2-B(PP5)'!$D$76"]
["pp5_bl4_2_2_units_out",{"$f":"'T2-B(PP5)'!$G$76","v":0},"#'T2-B(PP5)'!$G$76"]
["pp5_bl4_2_3_name",{"$f":"'T2-B(PP5)'!$B$77","v":0},"#'T2-B(PP5)'!$B$77"]
["pp5_bl4_2_3_rate_in",{"$f":"'T2-B(PP5)'!$E$77","v":0},"#'T2-B(PP5)'!$E$77"]
["pp5_bl4_2_3_rate_out",{"$f":"'T2-B(PP5)'!$H$77","v":0},"#'T2-B(PP5)'!$H$77"]
["pp5_bl4_2_3_total",{"$f":"'T2-B(PP5)'!$J$77","v":0},"#'T2-B(PP5)'!$J$77"]
["pp5_bl4_2_3_total_in",{"$f":"'T2-B(PP5)'!$F$77","v":0},"#'T2-B(PP5)'!$F$77"]
["pp5_bl4_2_3_total_out",{"$f":"'T2-B(PP5)'!$I$77","v":0},"#'T2-B(PP5)'!$I$77"]
["pp5_bl4_2_3_unit",{"$f":"'T2-B(PP5)'!$C$77","v":0},"#'T2-B(PP5)'!$C$77"]
["pp5_bl4_2_3_unit_in",{"$f":"'T2-B(PP5)'!$D$77","v":0},"#'T2-B(PP5)'!$D$77"]
["pp5_bl4_2_3_units_out",{"$f":"'T2-B(PP5)'!$G$77","v":0},"#'T2-B(PP5)'!$G$77"]
["pp5_bl4_2_4_name",{"$f":"'T2-B(PP5)'!$B$78","v":0},"#'T2-B(PP5)'!$B$78"]
["pp5_bl4_2_4_rate_in",{"$f":"'T2-B(PP5)'!$E$78","v":0},"#'T2-B(PP5)'!$E$78"]
["pp5_bl4_2_4_rate_out",{"$f":"'T2-B(PP5)'!$H$78","v":0},"#'T2-B(PP5)'!$H$78"]
["pp5_bl4_2_4_total",{"$f":"'T2-B(PP5)'!$J$78","v":0},"#'T2-B(PP5)'!$J$78"]
["pp5_bl4_2_4_total_in",{"$f":"'T2-B(PP5)'!$F$78","v":0},"#'T2-B(PP5)'!$F$78"]
["pp5_bl4_2_4_total_out",{"$f":"'T2-B(PP5)'!$I$78","v":0},"#'T2-B(PP5)'!$I$78"]
["pp5_bl4_2_4_unit",{"$f":"'T2-B(PP5)'!$C$78","v":0},"#'T2-B(PP5)'!$C$78"]
["pp5_bl4_2_4_unit_in",{"$f":"'T2-B(PP5)'!$D$78","v":0},"#'T2-B(PP5)'!$D$78"]
["pp5_bl4_2_4_units_out",{"$f":"'T2-B(PP5)'!$G$78","v":0},"#'T2-B(PP5)'!$G$78"]
["pp5_bl4_2_5_name",{"$f":"'T2-B(PP5)'!$B$79","v":0},"#'T2-B(PP5)'!$B$79"]
["pp5_bl4_2_5_rate_in",{"$f":"'T2-B(PP5)'!$E$79","v":0},"#'T2-B(PP5)'!$E$79"]
["pp5_bl4_2_5_rate_out",{"$f":"'T2-B(PP5)'!$H$79","v":0},"#'T2-B(PP5)'!$H$79"]
["pp5_bl4_2_5_total",{"$f":"'T2-B(PP5)'!$J$79","v":0},"#'T2-B(PP5)'!$J$79"]
["pp5_bl4_2_5_total_in",{"$f":"'T2-B(PP5)'!$F$79","v":0},"#'T2-B(PP5)'!$F$79"]
["pp5_bl4_2_5_total_out",{"$f":"'T2-B(PP5)'!$I$79","v":0},"#'T2-B(PP5)'!$I$79"]
["pp5_bl4_2_5_unit",{"$f":"'T2-B(PP5)'!$C$79","v":0},"#'T2-B(PP5)'!$C$79"]
["pp5_bl4_2_5_unit_in",{"$f":"'T2-B(PP5)'!$D$79","v":0},"#'T2-B(PP5)'!$D$79"]
["pp5_bl4_2_5_units_out",{"$f":"'T2-B(PP5)'!$G$79","v":0},"#'T2-B(PP5)'!$G$79"]
["pp5_bl4_2_6_name",{"$f":"'T2-B(PP5)'!$B$80","v":0},"#'T2-B(PP5)'!$B$80"]
["pp5_bl4_2_6_rate_in",{"$f":"'T2-B(PP5)'!$E$80","v":0},"#'T2-B(PP5)'!$E$80"]
["pp5_bl4_2_6_rate_out",{"$f":"'T2-B(PP5)'!$H$80","v":0},"#'T2-B(PP5)'!$H$80"]
["pp5_bl4_2_6_total",{"$f":"'T2-B(PP5)'!$J$80","v":0},"#'T2-B(PP5)'!$J$80"]
["pp5_bl4_2_6_total_in",{"$f":"'T2-B(PP5)'!$F$80","v":0},"#'T2-B(PP5)'!$F$80"]
["pp5_bl4_2_6_total_out",{"$f":"'T2-B(PP5)'!$I$80","v":0},"#'T2-B(PP5)'!$I$80"]
["pp5_bl4_2_6_unit",{"$f":"'T2-B(PP5)'!$C$80","v":0},"#'T2-B(PP5)'!$C$80"]
["pp5_bl4_2_6_unit_in",{"$f":"'T2-B(PP5)'!$D$80","v":0},"#'T2-B(PP5)'!$D$80"]
["pp5_bl4_2_6_units_out",{"$f":"'T2-B(PP5)'!$G$80","v":0},"#'T2-B(PP5)'!$G$80"]
["pp5_bl4_2_7_name",{"$f":"'T2-B(PP5)'!$B$81","v":0},"#'T2-B(PP5)'!$B$81"]
["pp5_bl4_2_7_rate_in",{"$f":"'T2-B(PP5)'!$E$81","v":0},"#'T2-B(PP5)'!$E$81"]
["pp5_bl4_2_7_rate_out",{"$f":"'T2-B(PP5)'!$H$81","v":0},"#'T2-B(PP5)'!$H$81"]
["pp5_bl4_2_7_total",{"$f":"'T2-B(PP5)'!$J$81","v":0},"#'T2-B(PP5)'!$J$81"]
["pp5_bl4_2_7_total_in",{"$f":"'T2-B(PP5)'!$F$81","v":0},"#'T2-B(PP5)'!$F$81"]
["pp5_bl4_2_7_total_out",{"$f":"'T2-B(PP5)'!$I$81","v":0},"#'T2-B(PP5)'!$I$81"]
["pp5_bl4_2_7_unit",{"$f":"'T2-B(PP5)'!$C$81","v":0},"#'T2-B(PP5)'!$C$81"]
["pp5_bl4_2_7_unit_in",{"$f":"'T2-B(PP5)'!$D$81","v":0},"#'T2-B(PP5)'!$D$81"]
["pp5_bl4_2_7_units_out",{"$f":"'T2-B(PP5)'!$G$81","v":0},"#'T2-B(PP5)'!$G$81"]
["pp5_bl4_2_8_name",{"$f":"'T2-B(PP5)'!$B$82","v":0},"#'T2-B(PP5)'!$B$82"]
["pp5_bl4_2_8_rate_in",{"$f":"'T2-B(PP5)'!$E$82","v":0},"#'T2-B(PP5)'!$E$82"]
["pp5_bl4_2_8_rate_out",{"$f":"'T2-B(PP5)'!$H$82","v":0},"#'T2-B(PP5)'!$H$82"]
["pp5_bl4_2_8_total",{"$f":"'T2-B(PP5)'!$J$82","v":0},"#'T2-B(PP5)'!$J$82"]
["pp5_bl4_2_8_total_in",{"$f":"'T2-B(PP5)'!$F$82","v":0},"#'T2-B(PP5)'!$F$82"]
["pp5_bl4_2_8_total_out",{"$f":"'T2-B(PP5)'!$I$82","v":0},"#'T2-B(PP5)'!$I$82"]
["pp5_bl4_2_8_unit",{"$f":"'T2-B(PP5)'!$C$82","v":0},"#'T2-B(PP5)'!$C$82"]
["pp5_bl4_2_8_unit_in",{"$f":"'T2-B(PP5)'!$D$82","v":0},"#'T2-B(PP5)'!$D$82"]
["pp5_bl4_2_8_units_out",{"$f":"'T2-B(PP5)'!$G$82","v":0},"#'T2-B(PP5)'!$G$82"]
["pp5_bl4_2_9_name",{"$f":"'T2-B(PP5)'!$B$83","v":0},"#'T2-B(PP5)'!$B$83"]
["pp5_bl4_2_9_rate_in",{"$f":"'T2-B(PP5)'!$E$83","v":0},"#'T2-B(PP5)'!$E$83"]
["pp5_bl4_2_9_rate_out",{"$f":"'T2-B(PP5)'!$H$83","v":0},"#'T2-B(PP5)'!$H$83"]
["pp5_bl4_2_9_total",{"$f":"'T2-B(PP5)'!$J$83","v":0},"#'T2-B(PP5)'!$J$83"]
["pp5_bl4_2_9_total_in",{"$f":"'T2-B(PP5)'!$F$83","v":0},"#'T2-B(PP5)'!$F$83"]
["pp5_bl4_2_9_total_out",{"$f":"'T2-B(PP5)'!$I$83","v":0},"#'T2-B(PP5)'!$I$83"]
["pp5_bl4_2_9_unit",{"$f":"'T2-B(PP5)'!$C$83","v":0},"#'T2-B(PP5)'!$C$83"]
["pp5_bl4_2_9_unit_in",{"$f":"'T2-B(PP5)'!$D$83","v":0},"#'T2-B(PP5)'!$D$83"]
["pp5_bl4_2_9_units_out",{"$f":"'T2-B(PP5)'!$G$83","v":0},"#'T2-B(PP5)'!$G$83"]
["pp5_bl4_2_total",{"$f":"'T2-B(PP5)'!$J$74","v":0},"#'T2-B(PP5)'!$J$74"]
["pp5_bl4_2_total_in",{"$f":"'T2-B(PP5)'!$F$74","v":0},"#'T2-B(PP5)'!$F$74"]
["pp5_bl4_2_total_out",{"$f":"'T2-B(PP5)'!$I$74","v":0},"#'T2-B(PP5)'!$I$74"]
["pp5_bl4_3_1_name",{"$f":"'T2-B(PP5)'!$B$86","v":0},"#'T2-B(PP5)'!$B$86"]
["pp5_bl4_3_1_rate_in",{"$f":"'T2-B(PP5)'!$E$86","v":0},"#'T2-B(PP5)'!$E$86"]
["pp5_bl4_3_1_rate_out",{"$f":"'T2-B(PP5)'!$H$86","v":0},"#'T2-B(PP5)'!$H$86"]
["pp5_bl4_3_1_total",{"$f":"'T2-B(PP5)'!$J$86","v":0},"#'T2-B(PP5)'!$J$86"]
["pp5_bl4_3_1_total_in",{"$f":"'T2-B(PP5)'!$F$86","v":0},"#'T2-B(PP5)'!$F$86"]
["pp5_bl4_3_1_total_out",{"$f":"'T2-B(PP5)'!$I$86","v":0},"#'T2-B(PP5)'!$I$86"]
["pp5_bl4_3_1_unit",{"$f":"'T2-B(PP5)'!$C$86","v":0},"#'T2-B(PP5)'!$C$86"]
["pp5_bl4_3_1_unit_in",{"$f":"'T2-B(PP5)'!$D$86","v":0},"#'T2-B(PP5)'!$D$86"]
["pp5_bl4_3_1_units_out",{"$f":"'T2-B(PP5)'!$G$86","v":0},"#'T2-B(PP5)'!$G$86"]
["pp5_bl4_3_10_name",{"$f":"'T2-B(PP5)'!$B$95","v":0},"#'T2-B(PP5)'!$B$95"]
["pp5_bl4_3_10_rate_in",{"$f":"'T2-B(PP5)'!$E$95","v":0},"#'T2-B(PP5)'!$E$95"]
["pp5_bl4_3_10_rate_out",{"$f":"'T2-B(PP5)'!$H$95","v":0},"#'T2-B(PP5)'!$H$95"]
["pp5_bl4_3_10_total",{"$f":"'T2-B(PP5)'!$J$95","v":0},"#'T2-B(PP5)'!$J$95"]
["pp5_bl4_3_10_total_in",{"$f":"'T2-B(PP5)'!$F$95","v":0},"#'T2-B(PP5)'!$F$95"]
["pp5_bl4_3_10_total_out",{"$f":"'T2-B(PP5)'!$I$95","v":0},"#'T2-B(PP5)'!$I$95"]
["pp5_bl4_3_10_unit",{"$f":"'T2-B(PP5)'!$C$95","v":0},"#'T2-B(PP5)'!$C$95"]
["pp5_bl4_3_10_unit_in",{"$f":"'T2-B(PP5)'!$D$95","v":0},"#'T2-B(PP5)'!$D$95"]
["pp5_bl4_3_10_units_out",{"$f":"'T2-B(PP5)'!$G$95","v":0},"#'T2-B(PP5)'!$G$95"]
["pp5_bl4_3_2_name",{"$f":"'T2-B(PP5)'!$B$87","v":0},"#'T2-B(PP5)'!$B$87"]
["pp5_bl4_3_2_rate_in",{"$f":"'T2-B(PP5)'!$E$87","v":0},"#'T2-B(PP5)'!$E$87"]
["pp5_bl4_3_2_rate_out",{"$f":"'T2-B(PP5)'!$H$87","v":0},"#'T2-B(PP5)'!$H$87"]
["pp5_bl4_3_2_total",{"$f":"'T2-B(PP5)'!$J$87","v":0},"#'T2-B(PP5)'!$J$87"]
["pp5_bl4_3_2_total_in",{"$f":"'T2-B(PP5)'!$F$87","v":0},"#'T2-B(PP5)'!$F$87"]
["pp5_bl4_3_2_total_out",{"$f":"'T2-B(PP5)'!$I$87","v":0},"#'T2-B(PP5)'!$I$87"]
["pp5_bl4_3_2_unit",{"$f":"'T2-B(PP5)'!$C$87","v":0},"#'T2-B(PP5)'!$C$87"]
["pp5_bl4_3_2_unit_in",{"$f":"'T2-B(PP5)'!$D$87","v":0},"#'T2-B(PP5)'!$D$87"]
["pp5_bl4_3_2_units_out",{"$f":"'T2-B(PP5)'!$G$87","v":0},"#'T2-B(PP5)'!$G$87"]
["pp5_bl4_3_3_name",{"$f":"'T2-B(PP5)'!$B$88","v":0},"#'T2-B(PP5)'!$B$88"]
["pp5_bl4_3_3_rate_in",{"$f":"'T2-B(PP5)'!$E$88","v":0},"#'T2-B(PP5)'!$E$88"]
["pp5_bl4_3_3_rate_out",{"$f":"'T2-B(PP5)'!$H$88","v":0},"#'T2-B(PP5)'!$H$88"]
["pp5_bl4_3_3_total",{"$f":"'T2-B(PP5)'!$J$88","v":0},"#'T2-B(PP5)'!$J$88"]
["pp5_bl4_3_3_total_in",{"$f":"'T2-B(PP5)'!$F$88","v":0},"#'T2-B(PP5)'!$F$88"]
["pp5_bl4_3_3_total_out",{"$f":"'T2-B(PP5)'!$I$88","v":0},"#'T2-B(PP5)'!$I$88"]
["pp5_bl4_3_3_unit",{"$f":"'T2-B(PP5)'!$C$88","v":0},"#'T2-B(PP5)'!$C$88"]
["pp5_bl4_3_3_unit_in",{"$f":"'T2-B(PP5)'!$D$88","v":0},"#'T2-B(PP5)'!$D$88"]
["pp5_bl4_3_3_units_out",{"$f":"'T2-B(PP5)'!$G$88","v":0},"#'T2-B(PP5)'!$G$88"]
["pp5_bl4_3_4_name",{"$f":"'T2-B(PP5)'!$B$89","v":0},"#'T2-B(PP5)'!$B$89"]
["pp5_bl4_3_4_rate_in",{"$f":"'T2-B(PP5)'!$E$89","v":0},"#'T2-B(PP5)'!$E$89"]
["pp5_bl4_3_4_rate_out",{"$f":"'T2-B(PP5)'!$H$89","v":0},"#'T2-B(PP5)'!$H$89"]
["pp5_bl4_3_4_total",{"$f":"'T2-B(PP5)'!$J$89","v":0},"#'T2-B(PP5)'!$J$89"]
["pp5_bl4_3_4_total_in",{"$f":"'T2-B(PP5)'!$F$89","v":0},"#'T2-B(PP5)'!$F$89"]
["pp5_bl4_3_4_total_out",{"$f":"'T2-B(PP5)'!$I$89","v":0},"#'T2-B(PP5)'!$I$89"]
["pp5_bl4_3_4_unit",{"$f":"'T2-B(PP5)'!$C$89","v":0},"#'T2-B(PP5)'!$C$89"]
["pp5_bl4_3_4_unit_in",{"$f":"'T2-B(PP5)'!$D$89","v":0},"#'T2-B(PP5)'!$D$89"]
["pp5_bl4_3_4_units_out",{"$f":"'T2-B(PP5)'!$G$89","v":0},"#'T2-B(PP5)'!$G$89"]
["pp5_bl4_3_5_name",{"$f":"'T2-B(PP5)'!$B$90","v":0},"#'T2-B(PP5)'!$B$90"]
["pp5_bl4_3_5_rate_in",{"$f":"'T2-B(PP5)'!$E$90","v":0},"#'T2-B(PP5)'!$E$90"]
["pp5_bl4_3_5_rate_out",{"$f":"'T2-B(PP5)'!$H$90","v":0},"#'T2-B(PP5)'!$H$90"]
["pp5_bl4_3_5_total",{"$f":"'T2-B(PP5)'!$J$90","v":0},"#'T2-B(PP5)'!$J$90"]
["pp5_bl4_3_5_total_in",{"$f":"'T2-B(PP5)'!$F$90","v":0},"#'T2-B(PP5)'!$F$90"]
["pp5_bl4_3_5_total_out",{"$f":"'T2-B(PP5)'!$I$90","v":0},"#'T2-B(PP5)'!$I$90"]
["pp5_bl4_3_5_unit",{"$f":"'T2-B(PP5)'!$C$90","v":0},"#'T2-B(PP5)'!$C$90"]
["pp5_bl4_3_5_unit_in",{"$f":"'T2-B(PP5)'!$D$90","v":0},"#'T2-B(PP5)'!$D$90"]
["pp5_bl4_3_5_units_out",{"$f":"'T2-B(PP5)'!$G$90","v":0},"#'T2-B(PP5)'!$G$90"]
["pp5_bl4_3_6_name",{"$f":"'T2-B(PP5)'!$B$91","v":0},"#'T2-B(PP5)'!$B$91"]
["pp5_bl4_3_6_rate_in",{"$f":"'T2-B(PP5)'!$E$91","v":0},"#'T2-B(PP5)'!$E$91"]
["pp5_bl4_3_6_rate_out",{"$f":"'T2-B(PP5)'!$H$91","v":0},"#'T2-B(PP5)'!$H$91"]
["pp5_bl4_3_6_total",{"$f":"'T2-B(PP5)'!$J$91","v":0},"#'T2-B(PP5)'!$J$91"]
["pp5_bl4_3_6_total_in",{"$f":"'T2-B(PP5)'!$F$91","v":0},"#'T2-B(PP5)'!$F$91"]
["pp5_bl4_3_6_total_out",{"$f":"'T2-B(PP5)'!$I$91","v":0},"#'T2-B(PP5)'!$I$91"]
["pp5_bl4_3_6_unit",{"$f":"'T2-B(PP5)'!$C$91","v":0},"#'T2-B(PP5)'!$C$91"]
["pp5_bl4_3_6_unit_in",{"$f":"'T2-B(PP5)'!$D$91","v":0},"#'T2-B(PP5)'!$D$91"]
["pp5_bl4_3_6_units_out",{"$f":"'T2-B(PP5)'!$G$91","v":0},"#'T2-B(PP5)'!$G$91"]
["pp5_bl4_3_7_name",{"$f":"'T2-B(PP5)'!$B$92","v":0},"#'T2-B(PP5)'!$B$92"]
["pp5_bl4_3_7_rate_in",{"$f":"'T2-B(PP5)'!$E$92","v":0},"#'T2-B(PP5)'!$E$92"]
["pp5_bl4_3_7_rate_out",{"$f":"'T2-B(PP5)'!$H$92","v":0},"#'T2-B(PP5)'!$H$92"]
["pp5_bl4_3_7_total",{"$f":"'T2-B(PP5)'!$J$92","v":0},"#'T2-B(PP5)'!$J$92"]
["pp5_bl4_3_7_total_in",{"$f":"'T2-B(PP5)'!$F$92","v":0},"#'T2-B(PP5)'!$F$92"]
["pp5_bl4_3_7_total_out",{"$f":"'T2-B(PP5)'!$I$92","v":0},"#'T2-B(PP5)'!$I$92"]
["pp5_bl4_3_7_unit",{"$f":"'T2-B(PP5)'!$C$92","v":0},"#'T2-B(PP5)'!$C$92"]
["pp5_bl4_3_7_unit_in",{"$f":"'T2-B(PP5)'!$D$92","v":0},"#'T2-B(PP5)'!$D$92"]
["pp5_bl4_3_7_units_out",{"$f":"'T2-B(PP5)'!$G$92","v":0},"#'T2-B(PP5)'!$G$92"]
["pp5_bl4_3_8_name",{"$f":"'T2-B(PP5)'!$B$93","v":0},"#'T2-B(PP5)'!$B$93"]
["pp5_bl4_3_8_rate_in",{"$f":"'T2-B(PP5)'!$E$93","v":0},"#'T2-B(PP5)'!$E$93"]
["pp5_bl4_3_8_rate_out",{"$f":"'T2-B(PP5)'!$H$93","v":0},"#'T2-B(PP5)'!$H$93"]
["pp5_bl4_3_8_total",{"$f":"'T2-B(PP5)'!$J$93","v":0},"#'T2-B(PP5)'!$J$93"]
["pp5_bl4_3_8_total_in",{"$f":"'T2-B(PP5)'!$F$93","v":0},"#'T2-B(PP5)'!$F$93"]
["pp5_bl4_3_8_total_out",{"$f":"'T2-B(PP5)'!$I$93","v":0},"#'T2-B(PP5)'!$I$93"]
["pp5_bl4_3_8_unit",{"$f":"'T2-B(PP5)'!$C$93","v":0},"#'T2-B(PP5)'!$C$93"]
["pp5_bl4_3_8_unit_in",{"$f":"'T2-B(PP5)'!$D$93","v":0},"#'T2-B(PP5)'!$D$93"]
["pp5_bl4_3_8_units_out",{"$f":"'T2-B(PP5)'!$G$93","v":0},"#'T2-B(PP5)'!$G$93"]
["pp5_bl4_3_9_name",{"$f":"'T2-B(PP5)'!$B$94","v":0},"#'T2-B(PP5)'!$B$94"]
["pp5_bl4_3_9_rate_in",{"$f":"'T2-B(PP5)'!$E$94","v":0},"#'T2-B(PP5)'!$E$94"]
["pp5_bl4_3_9_rate_out",{"$f":"'T2-B(PP5)'!$H$94","v":0},"#'T2-B(PP5)'!$H$94"]
["pp5_bl4_3_9_total",{"$f":"'T2-B(PP5)'!$J$94","v":0},"#'T2-B(PP5)'!$J$94"]
["pp5_bl4_3_9_total_in",{"$f":"'T2-B(PP5)'!$F$94","v":0},"#'T2-B(PP5)'!$F$94"]
["pp5_bl4_3_9_total_out",{"$f":"'T2-B(PP5)'!$I$94","v":0},"#'T2-B(PP5)'!$I$94"]
["pp5_bl4_3_9_unit",{"$f":"'T2-B(PP5)'!$C$94","v":0},"#'T2-B(PP5)'!$C$94"]
["pp5_bl4_3_9_unit_in",{"$f":"'T2-B(PP5)'!$D$94","v":0},"#'T2-B(PP5)'!$D$94"]
["pp5_bl4_3_9_units_out",{"$f":"'T2-B(PP5)'!$G$94","v":0},"#'T2-B(PP5)'!$G$94"]
["pp5_bl4_3_total",{"$f":"'T2-B(PP5)'!$J$85","v":0},"#'T2-B(PP5)'!$J$85"]
["pp5_bl4_3_total_in",{"$f":"'T2-B(PP5)'!$F$85","v":0},"#'T2-B(PP5)'!$F$85"]
["pp5_bl4_3_total_out",{"$f":"'T2-B(PP5)'!$I$85","v":0},"#'T2-B(PP5)'!$I$85"]
["pp5_bl4_4_1_name",{"$f":"'T2-B(PP5)'!$B$97","v":0},"#'T2-B(PP5)'!$B$97"]
["pp5_bl4_4_1_rate_in",{"$f":"'T2-B(PP5)'!$E$97","v":0},"#'T2-B(PP5)'!$E$97"]
["pp5_bl4_4_1_rate_out",{"$f":"'T2-B(PP5)'!$H$97","v":0},"#'T2-B(PP5)'!$H$97"]
["pp5_bl4_4_1_total",{"$f":"'T2-B(PP5)'!$J$97","v":0},"#'T2-B(PP5)'!$J$97"]
["pp5_bl4_4_1_total_in",{"$f":"'T2-B(PP5)'!$F$97","v":0},"#'T2-B(PP5)'!$F$97"]
["pp5_bl4_4_1_total_out",{"$f":"'T2-B(PP5)'!$I$97","v":0},"#'T2-B(PP5)'!$I$97"]
["pp5_bl4_4_1_unit",{"$f":"'T2-B(PP5)'!$C$97","v":0},"#'T2-B(PP5)'!$C$97"]
["pp5_bl4_4_1_unit_in",{"$f":"'T2-B(PP5)'!$D$97","v":0},"#'T2-B(PP5)'!$D$97"]
["pp5_bl4_4_1_units_out",{"$f":"'T2-B(PP5)'!$G$97","v":0},"#'T2-B(PP5)'!$G$97"]
["pp5_bl4_4_10_name",{"$f":"'T2-B(PP5)'!$B$106","v":0},"#'T2-B(PP5)'!$B$106"]
["pp5_bl4_4_10_rate_in",{"$f":"'T2-B(PP5)'!$E$106","v":0},"#'T2-B(PP5)'!$E$106"]
["pp5_bl4_4_10_rate_out",{"$f":"'T2-B(PP5)'!$H$106","v":0},"#'T2-B(PP5)'!$H$106"]
["pp5_bl4_4_10_total",{"$f":"'T2-B(PP5)'!$J$106","v":0},"#'T2-B(PP5)'!$J$106"]
["pp5_bl4_4_10_total_in",{"$f":"'T2-B(PP5)'!$F$106","v":0},"#'T2-B(PP5)'!$F$106"]
["pp5_bl4_4_10_total_out",{"$f":"'T2-B(PP5)'!$I$106","v":0},"#'T2-B(PP5)'!$I$106"]
["pp5_bl4_4_10_unit",{"$f":"'T2-B(PP5)'!$C$106","v":0},"#'T2-B(PP5)'!$C$106"]
["pp5_bl4_4_10_unit_in",{"$f":"'T2-B(PP5)'!$D$106","v":0},"#'T2-B(PP5)'!$D$106"]
["pp5_bl4_4_10_units_out",{"$f":"'T2-B(PP5)'!$G$106","v":0},"#'T2-B(PP5)'!$G$106"]
["pp5_bl4_4_2_name",{"$f":"'T2-B(PP5)'!$B$98","v":0},"#'T2-B(PP5)'!$B$98"]
["pp5_bl4_4_2_rate_in",{"$f":"'T2-B(PP5)'!$E$98","v":0},"#'T2-B(PP5)'!$E$98"]
["pp5_bl4_4_2_rate_out",{"$f":"'T2-B(PP5)'!$H$98","v":0},"#'T2-B(PP5)'!$H$98"]
["pp5_bl4_4_2_total",{"$f":"'T2-B(PP5)'!$J$98","v":0},"#'T2-B(PP5)'!$J$98"]
["pp5_bl4_4_2_total_in",{"$f":"'T2-B(PP5)'!$F$98","v":0},"#'T2-B(PP5)'!$F$98"]
["pp5_bl4_4_2_total_out",{"$f":"'T2-B(PP5)'!$I$98","v":0},"#'T2-B(PP5)'!$I$98"]
["pp5_bl4_4_2_unit",{"$f":"'T2-B(PP5)'!$C$98","v":0},"#'T2-B(PP5)'!$C$98"]
["pp5_bl4_4_2_unit_in",{"$f":"'T2-B(PP5)'!$D$98","v":0},"#'T2-B(PP5)'!$D$98"]
["pp5_bl4_4_2_units_out",{"$f":"'T2-B(PP5)'!$G$98","v":0},"#'T2-B(PP5)'!$G$98"]
["pp5_bl4_4_3_name",{"$f":"'T2-B(PP5)'!$B$99","v":0},"#'T2-B(PP5)'!$B$99"]
["pp5_bl4_4_3_rate_in",{"$f":"'T2-B(PP5)'!$E$99","v":0},"#'T2-B(PP5)'!$E$99"]
["pp5_bl4_4_3_rate_out",{"$f":"'T2-B(PP5)'!$H$99","v":0},"#'T2-B(PP5)'!$H$99"]
["pp5_bl4_4_3_total",{"$f":"'T2-B(PP5)'!$J$99","v":0},"#'T2-B(PP5)'!$J$99"]
["pp5_bl4_4_3_total_in",{"$f":"'T2-B(PP5)'!$F$99","v":0},"#'T2-B(PP5)'!$F$99"]
["pp5_bl4_4_3_total_out",{"$f":"'T2-B(PP5)'!$I$99","v":0},"#'T2-B(PP5)'!$I$99"]
["pp5_bl4_4_3_unit",{"$f":"'T2-B(PP5)'!$C$99","v":0},"#'T2-B(PP5)'!$C$99"]
["pp5_bl4_4_3_unit_in",{"$f":"'T2-B(PP5)'!$D$99","v":0},"#'T2-B(PP5)'!$D$99"]
["pp5_bl4_4_3_units_out",{"$f":"'T2-B(PP5)'!$G$99","v":0},"#'T2-B(PP5)'!$G$99"]
["pp5_bl4_4_4_name",{"$f":"'T2-B(PP5)'!$B$100","v":0},"#'T2-B(PP5)'!$B$100"]
["pp5_bl4_4_4_rate_in",{"$f":"'T2-B(PP5)'!$E$100","v":0},"#'T2-B(PP5)'!$E$100"]
["pp5_bl4_4_4_rate_out",{"$f":"'T2-B(PP5)'!$H$100","v":0},"#'T2-B(PP5)'!$H$100"]
["pp5_bl4_4_4_total",{"$f":"'T2-B(PP5)'!$J$100","v":0},"#'T2-B(PP5)'!$J$100"]
["pp5_bl4_4_4_total_in",{"$f":"'T2-B(PP5)'!$F$100","v":0},"#'T2-B(PP5)'!$F$100"]
["pp5_bl4_4_4_total_out",{"$f":"'T2-B(PP5)'!$I$100","v":0},"#'T2-B(PP5)'!$I$100"]
["pp5_bl4_4_4_unit",{"$f":"'T2-B(PP5)'!$C$100","v":0},"#'T2-B(PP5)'!$C$100"]
["pp5_bl4_4_4_unit_in",{"$f":"'T2-B(PP5)'!$D$100","v":0},"#'T2-B(PP5)'!$D$100"]
["pp5_bl4_4_4_units_out",{"$f":"'T2-B(PP5)'!$G$100","v":0},"#'T2-B(PP5)'!$G$100"]
["pp5_bl4_4_5_name",{"$f":"'T2-B(PP5)'!$B$101","v":0},"#'T2-B(PP5)'!$B$101"]
["pp5_bl4_4_5_rate_in",{"$f":"'T2-B(PP5)'!$E$101","v":0},"#'T2-B(PP5)'!$E$101"]
["pp5_bl4_4_5_rate_out",{"$f":"'T2-B(PP5)'!$H$101","v":0},"#'T2-B(PP5)'!$H$101"]
["pp5_bl4_4_5_total",{"$f":"'T2-B(PP5)'!$J$101","v":0},"#'T2-B(PP5)'!$J$101"]
["pp5_bl4_4_5_total_in",{"$f":"'T2-B(PP5)'!$F$101","v":0},"#'T2-B(PP5)'!$F$101"]
["pp5_bl4_4_5_total_out",{"$f":"'T2-B(PP5)'!$I$101","v":0},"#'T2-B(PP5)'!$I$101"]
["pp5_bl4_4_5_unit",{"$f":"'T2-B(PP5)'!$C$101","v":0},"#'T2-B(PP5)'!$C$101"]
["pp5_bl4_4_5_unit_in",{"$f":"'T2-B(PP5)'!$D$101","v":0},"#'T2-B(PP5)'!$D$101"]
["pp5_bl4_4_5_units_out",{"$f":"'T2-B(PP5)'!$G$101","v":0},"#'T2-B(PP5)'!$G$101"]
["pp5_bl4_4_6_name",{"$f":"'T2-B(PP5)'!$B$102","v":0},"#'T2-B(PP5)'!$B$102"]
["pp5_bl4_4_6_rate_in",{"$f":"'T2-B(PP5)'!$E$102","v":0},"#'T2-B(PP5)'!$E$102"]
["pp5_bl4_4_6_rate_out",{"$f":"'T2-B(PP5)'!$H$102","v":0},"#'T2-B(PP5)'!$H$102"]
["pp5_bl4_4_6_total",{"$f":"'T2-B(PP5)'!$J$102","v":0},"#'T2-B(PP5)'!$J$102"]
["pp5_bl4_4_6_total_in",{"$f":"'T2-B(PP5)'!$F$102","v":0},"#'T2-B(PP5)'!$F$102"]
["pp5_bl4_4_6_total_out",{"$f":"'T2-B(PP5)'!$I$102","v":0},"#'T2-B(PP5)'!$I$102"]
["pp5_bl4_4_6_unit",{"$f":"'T2-B(PP5)'!$C$102","v":0},"#'T2-B(PP5)'!$C$102"]
["pp5_bl4_4_6_unit_in",{"$f":"'T2-B(PP5)'!$D$102","v":0},"#'T2-B(PP5)'!$D$102"]
["pp5_bl4_4_6_units_out",{"$f":"'T2-B(PP5)'!$G$102","v":0},"#'T2-B(PP5)'!$G$102"]
["pp5_bl4_4_7_name",{"$f":"'T2-B(PP5)'!$B$103","v":0},"#'T2-B(PP5)'!$B$103"]
["pp5_bl4_4_7_rate_in",{"$f":"'T2-B(PP5)'!$E$103","v":0},"#'T2-B(PP5)'!$E$103"]
["pp5_bl4_4_7_rate_out",{"$f":"'T2-B(PP5)'!$H$103","v":0},"#'T2-B(PP5)'!$H$103"]
["pp5_bl4_4_7_total",{"$f":"'T2-B(PP5)'!$J$103","v":0},"#'T2-B(PP5)'!$J$103"]
["pp5_bl4_4_7_total_in",{"$f":"'T2-B(PP5)'!$F$103","v":0},"#'T2-B(PP5)'!$F$103"]
["pp5_bl4_4_7_total_out",{"$f":"'T2-B(PP5)'!$I$103","v":0},"#'T2-B(PP5)'!$I$103"]
["pp5_bl4_4_7_unit",{"$f":"'T2-B(PP5)'!$C$103","v":0},"#'T2-B(PP5)'!$C$103"]
["pp5_bl4_4_7_unit_in",{"$f":"'T2-B(PP5)'!$D$103","v":0},"#'T2-B(PP5)'!$D$103"]
["pp5_bl4_4_7_units_out",{"$f":"'T2-B(PP5)'!$G$103","v":0},"#'T2-B(PP5)'!$G$103"]
["pp5_bl4_4_8_name",{"$f":"'T2-B(PP5)'!$B$104","v":0},"#'T2-B(PP5)'!$B$104"]
["pp5_bl4_4_8_rate_in",{"$f":"'T2-B(PP5)'!$E$104","v":0},"#'T2-B(PP5)'!$E$104"]
["pp5_bl4_4_8_rate_out",{"$f":"'T2-B(PP5)'!$H$104","v":0},"#'T2-B(PP5)'!$H$104"]
["pp5_bl4_4_8_total",{"$f":"'T2-B(PP5)'!$J$104","v":0},"#'T2-B(PP5)'!$J$104"]
["pp5_bl4_4_8_total_in",{"$f":"'T2-B(PP5)'!$F$104","v":0},"#'T2-B(PP5)'!$F$104"]
["pp5_bl4_4_8_total_out",{"$f":"'T2-B(PP5)'!$I$104","v":0},"#'T2-B(PP5)'!$I$104"]
["pp5_bl4_4_8_unit",{"$f":"'T2-B(PP5)'!$C$104","v":0},"#'T2-B(PP5)'!$C$104"]
["pp5_bl4_4_8_unit_in",{"$f":"'T2-B(PP5)'!$D$104","v":0},"#'T2-B(PP5)'!$D$104"]
["pp5_bl4_4_8_units_out",{"$f":"'T2-B(PP5)'!$G$104","v":0},"#'T2-B(PP5)'!$G$104"]
["pp5_bl4_4_9_name",{"$f":"'T2-B(PP5)'!$B$105","v":0},"#'T2-B(PP5)'!$B$105"]
["pp5_bl4_4_9_rate_in",{"$f":"'T2-B(PP5)'!$E$105","v":0},"#'T2-B(PP5)'!$E$105"]
["pp5_bl4_4_9_rate_out",{"$f":"'T2-B(PP5)'!$H$105","v":0},"#'T2-B(PP5)'!$H$105"]
["pp5_bl4_4_9_total",{"$f":"'T2-B(PP5)'!$J$105","v":0},"#'T2-B(PP5)'!$J$105"]
["pp5_bl4_4_9_total_in",{"$f":"'T2-B(PP5)'!$F$105","v":0},"#'T2-B(PP5)'!$F$105"]
["pp5_bl4_4_9_total_out",{"$f":"'T2-B(PP5)'!$I$105","v":0},"#'T2-B(PP5)'!$I$105"]
["pp5_bl4_4_9_unit",{"$f":"'T2-B(PP5)'!$C$105","v":0},"#'T2-B(PP5)'!$C$105"]
["pp5_bl4_4_9_unit_in",{"$f":"'T2-B(PP5)'!$D$105","v":0},"#'T2-B(PP5)'!$D$105"]
["pp5_bl4_4_9_units_out",{"$f":"'T2-B(PP5)'!$G$105","v":0},"#'T2-B(PP5)'!$G$105"]
["pp5_bl4_4_total",{"$f":"'T2-B(PP5)'!$J$96","v":0},"#'T2-B(PP5)'!$J$96"]
["pp5_bl4_4_total_in",{"$f":"'T2-B(PP5)'!$F$96","v":0},"#'T2-B(PP5)'!$F$96"]
["pp5_bl4_4_total_out",{"$f":"'T2-B(PP5)'!$I$96","v":0},"#'T2-B(PP5)'!$I$96"]
["pp5_bl4_5_1_name",{"$f":"'T2-B(PP5)'!$B$108","v":0},"#'T2-B(PP5)'!$B$108"]
["pp5_bl4_5_1_rate_in",{"$f":"'T2-B(PP5)'!$E$108","v":0},"#'T2-B(PP5)'!$E$108"]
["pp5_bl4_5_1_rate_out",{"$f":"'T2-B(PP5)'!$H$108","v":0},"#'T2-B(PP5)'!$H$108"]
["pp5_bl4_5_1_total",{"$f":"'T2-B(PP5)'!$J$108","v":0},"#'T2-B(PP5)'!$J$108"]
["pp5_bl4_5_1_total_in",{"$f":"'T2-B(PP5)'!$F$108","v":0},"#'T2-B(PP5)'!$F$108"]
["pp5_bl4_5_1_total_out",{"$f":"'T2-B(PP5)'!$I$108","v":0},"#'T2-B(PP5)'!$I$108"]
["pp5_bl4_5_1_unit",{"$f":"'T2-B(PP5)'!$C$108","v":0},"#'T2-B(PP5)'!$C$108"]
["pp5_bl4_5_1_unit_in",{"$f":"'T2-B(PP5)'!$D$108","v":0},"#'T2-B(PP5)'!$D$108"]
["pp5_bl4_5_1_units_out",{"$f":"'T2-B(PP5)'!$G$108","v":0},"#'T2-B(PP5)'!$G$108"]
["pp5_bl4_5_10_name",{"$f":"'T2-B(PP5)'!$B$117","v":0},"#'T2-B(PP5)'!$B$117"]
["pp5_bl4_5_10_rate_in",{"$f":"'T2-B(PP5)'!$E$117","v":0},"#'T2-B(PP5)'!$E$117"]
["pp5_bl4_5_10_rate_out",{"$f":"'T2-B(PP5)'!$H$117","v":0},"#'T2-B(PP5)'!$H$117"]
["pp5_bl4_5_10_total",{"$f":"'T2-B(PP5)'!$J$117","v":0},"#'T2-B(PP5)'!$J$117"]
["pp5_bl4_5_10_total_in",{"$f":"'T2-B(PP5)'!$F$117","v":0},"#'T2-B(PP5)'!$F$117"]
["pp5_bl4_5_10_total_out",{"$f":"'T2-B(PP5)'!$I$117","v":0},"#'T2-B(PP5)'!$I$117"]
["pp5_bl4_5_10_unit",{"$f":"'T2-B(PP5)'!$C$117","v":0},"#'T2-B(PP5)'!$C$117"]
["pp5_bl4_5_10_unit_in",{"$f":"'T2-B(PP5)'!$D$117","v":0},"#'T2-B(PP5)'!$D$117"]
["pp5_bl4_5_10_units_out",{"$f":"'T2-B(PP5)'!$G$117","v":0},"#'T2-B(PP5)'!$G$117"]
["pp5_bl4_5_2_name",{"$f":"'T2-B(PP5)'!$B$109","v":0},"#'T2-B(PP5)'!$B$109"]
["pp5_bl4_5_2_rate_in",{"$f":"'T2-B(PP5)'!$E$109","v":0},"#'T2-B(PP5)'!$E$109"]
["pp5_bl4_5_2_rate_out",{"$f":"'T2-B(PP5)'!$H$109","v":0},"#'T2-B(PP5)'!$H$109"]
["pp5_bl4_5_2_total",{"$f":"'T2-B(PP5)'!$J$109","v":0},"#'T2-B(PP5)'!$J$109"]
["pp5_bl4_5_2_total_in",{"$f":"'T2-B(PP5)'!$F$109","v":0},"#'T2-B(PP5)'!$F$109"]
["pp5_bl4_5_2_total_out",{"$f":"'T2-B(PP5)'!$I$109","v":0},"#'T2-B(PP5)'!$I$109"]
["pp5_bl4_5_2_unit",{"$f":"'T2-B(PP5)'!$C$109","v":0},"#'T2-B(PP5)'!$C$109"]
["pp5_bl4_5_2_unit_in",{"$f":"'T2-B(PP5)'!$D$109","v":0},"#'T2-B(PP5)'!$D$109"]
["pp5_bl4_5_2_units_out",{"$f":"'T2-B(PP5)'!$G$109","v":0},"#'T2-B(PP5)'!$G$109"]
["pp5_bl4_5_3_name",{"$f":"'T2-B(PP5)'!$B$110","v":0},"#'T2-B(PP5)'!$B$110"]
["pp5_bl4_5_3_rate_in",{"$f":"'T2-B(PP5)'!$E$110","v":0},"#'T2-B(PP5)'!$E$110"]
["pp5_bl4_5_3_rate_out",{"$f":"'T2-B(PP5)'!$H$110","v":0},"#'T2-B(PP5)'!$H$110"]
["pp5_bl4_5_3_total",{"$f":"'T2-B(PP5)'!$J$110","v":0},"#'T2-B(PP5)'!$J$110"]
["pp5_bl4_5_3_total_in",{"$f":"'T2-B(PP5)'!$F$110","v":0},"#'T2-B(PP5)'!$F$110"]
["pp5_bl4_5_3_total_out",{"$f":"'T2-B(PP5)'!$I$110","v":0},"#'T2-B(PP5)'!$I$110"]
["pp5_bl4_5_3_unit",{"$f":"'T2-B(PP5)'!$C$110","v":0},"#'T2-B(PP5)'!$C$110"]
["pp5_bl4_5_3_unit_in",{"$f":"'T2-B(PP5)'!$D$110","v":0},"#'T2-B(PP5)'!$D$110"]
["pp5_bl4_5_3_units_out",{"$f":"'T2-B(PP5)'!$G$110","v":0},"#'T2-B(PP5)'!$G$110"]
["pp5_bl4_5_4_name",{"$f":"'T2-B(PP5)'!$B$111","v":0},"#'T2-B(PP5)'!$B$111"]
["pp5_bl4_5_4_rate_in",{"$f":"'T2-B(PP5)'!$E$111","v":0},"#'T2-B(PP5)'!$E$111"]
["pp5_bl4_5_4_rate_out",{"$f":"'T2-B(PP5)'!$H$111","v":0},"#'T2-B(PP5)'!$H$111"]
["pp5_bl4_5_4_total",{"$f":"'T2-B(PP5)'!$J$111","v":0},"#'T2-B(PP5)'!$J$111"]
["pp5_bl4_5_4_total_in",{"$f":"'T2-B(PP5)'!$F$111","v":0},"#'T2-B(PP5)'!$F$111"]
["pp5_bl4_5_4_total_out",{"$f":"'T2-B(PP5)'!$I$111","v":0},"#'T2-B(PP5)'!$I$111"]
["pp5_bl4_5_4_unit",{"$f":"'T2-B(PP5)'!$C$111","v":0},"#'T2-B(PP5)'!$C$111"]
["pp5_bl4_5_4_unit_in",{"$f":"'T2-B(PP5)'!$D$111","v":0},"#'T2-B(PP5)'!$D$111"]
["pp5_bl4_5_4_units_out",{"$f":"'T2-B(PP5)'!$G$111","v":0},"#'T2-B(PP5)'!$G$111"]
["pp5_bl4_5_5_name",{"$f":"'T2-B(PP5)'!$B$112","v":0},"#'T2-B(PP5)'!$B$112"]
["pp5_bl4_5_5_rate_in",{"$f":"'T2-B(PP5)'!$E$112","v":0},"#'T2-B(PP5)'!$E$112"]
["pp5_bl4_5_5_rate_out",{"$f":"'T2-B(PP5)'!$H$112","v":0},"#'T2-B(PP5)'!$H$112"]
["pp5_bl4_5_5_total",{"$f":"'T2-B(PP5)'!$J$112","v":0},"#'T2-B(PP5)'!$J$112"]
["pp5_bl4_5_5_total_in",{"$f":"'T2-B(PP5)'!$F$112","v":0},"#'T2-B(PP5)'!$F$112"]
["pp5_bl4_5_5_total_out",{"$f":"'T2-B(PP5)'!$I$112","v":0},"#'T2-B(PP5)'!$I$112"]
["pp5_bl4_5_5_unit",{"$f":"'T2-B(PP5)'!$C$112","v":0},"#'T2-B(PP5)'!$C$112"]
["pp5_bl4_5_5_unit_in",{"$f":"'T2-B(PP5)'!$D$112","v":0},"#'T2-B(PP5)'!$D$112"]
["pp5_bl4_5_5_units_out",{"$f":"'T2-B(PP5)'!$G$112","v":0},"#'T2-B(PP5)'!$G$112"]
["pp5_bl4_5_6_name",{"$f":"'T2-B(PP5)'!$B$113","v":0},"#'T2-B(PP5)'!$B$113"]
["pp5_bl4_5_6_rate_in",{"$f":"'T2-B(PP5)'!$E$113","v":0},"#'T2-B(PP5)'!$E$113"]
["pp5_bl4_5_6_rate_out",{"$f":"'T2-B(PP5)'!$H$113","v":0},"#'T2-B(PP5)'!$H$113"]
["pp5_bl4_5_6_total",{"$f":"'T2-B(PP5)'!$J$113","v":0},"#'T2-B(PP5)'!$J$113"]
["pp5_bl4_5_6_total_in",{"$f":"'T2-B(PP5)'!$F$113","v":0},"#'T2-B(PP5)'!$F$113"]
["pp5_bl4_5_6_total_out",{"$f":"'T2-B(PP5)'!$I$113","v":0},"#'T2-B(PP5)'!$I$113"]
["pp5_bl4_5_6_unit",{"$f":"'T2-B(PP5)'!$C$113","v":0},"#'T2-B(PP5)'!$C$113"]
["pp5_bl4_5_6_unit_in",{"$f":"'T2-B(PP5)'!$D$113","v":0},"#'T2-B(PP5)'!$D$113"]
["pp5_bl4_5_6_units_out",{"$f":"'T2-B(PP5)'!$G$113","v":0},"#'T2-B(PP5)'!$G$113"]
["pp5_bl4_5_7_name",{"$f":"'T2-B(PP5)'!$B$114","v":0},"#'T2-B(PP5)'!$B$114"]
["pp5_bl4_5_7_rate_in",{"$f":"'T2-B(PP5)'!$E$114","v":0},"#'T2-B(PP5)'!$E$114"]
["pp5_bl4_5_7_rate_out",{"$f":"'T2-B(PP5)'!$H$114","v":0},"#'T2-B(PP5)'!$H$114"]
["pp5_bl4_5_7_total",{"$f":"'T2-B(PP5)'!$J$114","v":0},"#'T2-B(PP5)'!$J$114"]
["pp5_bl4_5_7_total_in",{"$f":"'T2-B(PP5)'!$F$114","v":0},"#'T2-B(PP5)'!$F$114"]
["pp5_bl4_5_7_total_out",{"$f":"'T2-B(PP5)'!$I$114","v":0},"#'T2-B(PP5)'!$I$114"]
["pp5_bl4_5_7_unit",{"$f":"'T2-B(PP5)'!$C$114","v":0},"#'T2-B(PP5)'!$C$114"]
["pp5_bl4_5_7_unit_in",{"$f":"'T2-B(PP5)'!$D$114","v":0},"#'T2-B(PP5)'!$D$114"]
["pp5_bl4_5_7_units_out",{"$f":"'T2-B(PP5)'!$G$114","v":0},"#'T2-B(PP5)'!$G$114"]
["pp5_bl4_5_8_name",{"$f":"'T2-B(PP5)'!$B$115","v":0},"#'T2-B(PP5)'!$B$115"]
["pp5_bl4_5_8_rate_in",{"$f":"'T2-B(PP5)'!$E$115","v":0},"#'T2-B(PP5)'!$E$115"]
["pp5_bl4_5_8_rate_out",{"$f":"'T2-B(PP5)'!$H$115","v":0},"#'T2-B(PP5)'!$H$115"]
["pp5_bl4_5_8_total",{"$f":"'T2-B(PP5)'!$J$115","v":0},"#'T2-B(PP5)'!$J$115"]
["pp5_bl4_5_8_total_in",{"$f":"'T2-B(PP5)'!$F$115","v":0},"#'T2-B(PP5)'!$F$115"]
["pp5_bl4_5_8_total_out",{"$f":"'T2-B(PP5)'!$I$115","v":0},"#'T2-B(PP5)'!$I$115"]
["pp5_bl4_5_8_unit",{"$f":"'T2-B(PP5)'!$C$115","v":0},"#'T2-B(PP5)'!$C$115"]
["pp5_bl4_5_8_unit_in",{"$f":"'T2-B(PP5)'!$D$115","v":0},"#'T2-B(PP5)'!$D$115"]
["pp5_bl4_5_8_units_out",{"$f":"'T2-B(PP5)'!$G$115","v":0},"#'T2-B(PP5)'!$G$115"]
["pp5_bl4_5_9_name",{"$f":"'T2-B(PP5)'!$B$116","v":0},"#'T2-B(PP5)'!$B$116"]
["pp5_bl4_5_9_rate_in",{"$f":"'T2-B(PP5)'!$E$116","v":0},"#'T2-B(PP5)'!$E$116"]
["pp5_bl4_5_9_rate_out",{"$f":"'T2-B(PP5)'!$H$116","v":0},"#'T2-B(PP5)'!$H$116"]
["pp5_bl4_5_9_total",{"$f":"'T2-B(PP5)'!$J$116","v":0},"#'T2-B(PP5)'!$J$116"]
["pp5_bl4_5_9_total_in",{"$f":"'T2-B(PP5)'!$F$116","v":0},"#'T2-B(PP5)'!$F$116"]
["pp5_bl4_5_9_total_out",{"$f":"'T2-B(PP5)'!$I$116","v":0},"#'T2-B(PP5)'!$I$116"]
["pp5_bl4_5_9_unit",{"$f":"'T2-B(PP5)'!$C$116","v":0},"#'T2-B(PP5)'!$C$116"]
["pp5_bl4_5_9_unit_in",{"$f":"'T2-B(PP5)'!$D$116","v":0},"#'T2-B(PP5)'!$D$116"]
["pp5_bl4_5_9_units_out",{"$f":"'T2-B(PP5)'!$G$116","v":0},"#'T2-B(PP5)'!$G$116"]
["pp5_bl4_5_total",{"$f":"'T2-B(PP5)'!$J$107","v":0},"#'T2-B(PP5)'!$J$107"]
["pp5_bl4_5_total_in",{"$f":"'T2-B(PP5)'!$F$107","v":0},"#'T2-B(PP5)'!$F$107"]
["pp5_bl4_5_total_out",{"$f":"'T2-B(PP5)'!$I$107","v":0},"#'T2-B(PP5)'!$I$107"]
["pp5_bl4_6_1_name",{"$f":"'T2-B(PP5)'!$B$119","v":0},"#'T2-B(PP5)'!$B$119"]
["pp5_bl4_6_1_rate_in",{"$f":"'T2-B(PP5)'!$E$119","v":0},"#'T2-B(PP5)'!$E$119"]
["pp5_bl4_6_1_rate_out",{"$f":"'T2-B(PP5)'!$H$119","v":0},"#'T2-B(PP5)'!$H$119"]
["pp5_bl4_6_1_total",{"$f":"'T2-B(PP5)'!$J$119","v":0},"#'T2-B(PP5)'!$J$119"]
["pp5_bl4_6_1_total_in",{"$f":"'T2-B(PP5)'!$F$119","v":0},"#'T2-B(PP5)'!$F$119"]
["pp5_bl4_6_1_total_out",{"$f":"'T2-B(PP5)'!$I$119","v":0},"#'T2-B(PP5)'!$I$119"]
["pp5_bl4_6_1_unit",{"$f":"'T2-B(PP5)'!$C$119","v":0},"#'T2-B(PP5)'!$C$119"]
["pp5_bl4_6_1_unit_in",{"$f":"'T2-B(PP5)'!$D$119","v":0},"#'T2-B(PP5)'!$D$119"]
["pp5_bl4_6_1_units_out",{"$f":"'T2-B(PP5)'!$G$119","v":0},"#'T2-B(PP5)'!$G$119"]
["pp5_bl4_6_10_name",{"$f":"'T2-B(PP5)'!$B$128","v":0},"#'T2-B(PP5)'!$B$128"]
["pp5_bl4_6_10_rate_in",{"$f":"'T2-B(PP5)'!$E$128","v":0},"#'T2-B(PP5)'!$E$128"]
["pp5_bl4_6_10_rate_out",{"$f":"'T2-B(PP5)'!$H$128","v":0},"#'T2-B(PP5)'!$H$128"]
["pp5_bl4_6_10_total",{"$f":"'T2-B(PP5)'!$J$128","v":0},"#'T2-B(PP5)'!$J$128"]
["pp5_bl4_6_10_total_in",{"$f":"'T2-B(PP5)'!$F$128","v":0},"#'T2-B(PP5)'!$F$128"]
["pp5_bl4_6_10_total_out",{"$f":"'T2-B(PP5)'!$I$128","v":0},"#'T2-B(PP5)'!$I$128"]
["pp5_bl4_6_10_unit",{"$f":"'T2-B(PP5)'!$C$128","v":0},"#'T2-B(PP5)'!$C$128"]
["pp5_bl4_6_10_unit_in",{"$f":"'T2-B(PP5)'!$D$128","v":0},"#'T2-B(PP5)'!$D$128"]
["pp5_bl4_6_10_units_out",{"$f":"'T2-B(PP5)'!$G$128","v":0},"#'T2-B(PP5)'!$G$128"]
["pp5_bl4_6_2_name",{"$f":"'T2-B(PP5)'!$B$120","v":0},"#'T2-B(PP5)'!$B$120"]
["pp5_bl4_6_2_rate_in",{"$f":"'T2-B(PP5)'!$E$120","v":0},"#'T2-B(PP5)'!$E$120"]
["pp5_bl4_6_2_rate_out",{"$f":"'T2-B(PP5)'!$H$120","v":0},"#'T2-B(PP5)'!$H$120"]
["pp5_bl4_6_2_total",{"$f":"'T2-B(PP5)'!$J$120","v":0},"#'T2-B(PP5)'!$J$120"]
["pp5_bl4_6_2_total_in",{"$f":"'T2-B(PP5)'!$F$120","v":0},"#'T2-B(PP5)'!$F$120"]
["pp5_bl4_6_2_total_out",{"$f":"'T2-B(PP5)'!$I$120","v":0},"#'T2-B(PP5)'!$I$120"]
["pp5_bl4_6_2_unit",{"$f":"'T2-B(PP5)'!$C$120","v":0},"#'T2-B(PP5)'!$C$120"]
["pp5_bl4_6_2_unit_in",{"$f":"'T2-B(PP5)'!$D$120","v":0},"#'T2-B(PP5)'!$D$120"]
["pp5_bl4_6_2_units_out",{"$f":"'T2-B(PP5)'!$G$120","v":0},"#'T2-B(PP5)'!$G$120"]
["pp5_bl4_6_3_name",{"$f":"'T2-B(PP5)'!$B$121","v":0},"#'T2-B(PP5)'!$B$121"]
["pp5_bl4_6_3_rate_in",{"$f":"'T2-B(PP5)'!$E$121","v":0},"#'T2-B(PP5)'!$E$121"]
["pp5_bl4_6_3_rate_out",{"$f":"'T2-B(PP5)'!$H$121","v":0},"#'T2-B(PP5)'!$H$121"]
["pp5_bl4_6_3_total",{"$f":"'T2-B(PP5)'!$J$121","v":0},"#'T2-B(PP5)'!$J$121"]
["pp5_bl4_6_3_total_in",{"$f":"'T2-B(PP5)'!$F$121","v":0},"#'T2-B(PP5)'!$F$121"]
["pp5_bl4_6_3_total_out",{"$f":"'T2-B(PP5)'!$I$121","v":0},"#'T2-B(PP5)'!$I$121"]
["pp5_bl4_6_3_unit",{"$f":"'T2-B(PP5)'!$C$121","v":0},"#'T2-B(PP5)'!$C$121"]
["pp5_bl4_6_3_unit_in",{"$f":"'T2-B(PP5)'!$D$121","v":0},"#'T2-B(PP5)'!$D$121"]
["pp5_bl4_6_3_units_out",{"$f":"'T2-B(PP5)'!$G$121","v":0},"#'T2-B(PP5)'!$G$121"]
["pp5_bl4_6_4_name",{"$f":"'T2-B(PP5)'!$B$122","v":0},"#'T2-B(PP5)'!$B$122"]
["pp5_bl4_6_4_rate_in",{"$f":"'T2-B(PP5)'!$E$122","v":0},"#'T2-B(PP5)'!$E$122"]
["pp5_bl4_6_4_rate_out",{"$f":"'T2-B(PP5)'!$H$122","v":0},"#'T2-B(PP5)'!$H$122"]
["pp5_bl4_6_4_total",{"$f":"'T2-B(PP5)'!$J$122","v":0},"#'T2-B(PP5)'!$J$122"]
["pp5_bl4_6_4_total_in",{"$f":"'T2-B(PP5)'!$F$122","v":0},"#'T2-B(PP5)'!$F$122"]
["pp5_bl4_6_4_total_out",{"$f":"'T2-B(PP5)'!$I$122","v":0},"#'T2-B(PP5)'!$I$122"]
["pp5_bl4_6_4_unit",{"$f":"'T2-B(PP5)'!$C$122","v":0},"#'T2-B(PP5)'!$C$122"]
["pp5_bl4_6_4_unit_in",{"$f":"'T2-B(PP5)'!$D$122","v":0},"#'T2-B(PP5)'!$D$122"]
["pp5_bl4_6_4_units_out",{"$f":"'T2-B(PP5)'!$G$122","v":0},"#'T2-B(PP5)'!$G$122"]
["pp5_bl4_6_5_name",{"$f":"'T2-B(PP5)'!$B$123","v":0},"#'T2-B(PP5)'!$B$123"]
["pp5_bl4_6_5_rate_in",{"$f":"'T2-B(PP5)'!$E$123","v":0},"#'T2-B(PP5)'!$E$123"]
["pp5_bl4_6_5_rate_out",{"$f":"'T2-B(PP5)'!$H$123","v":0},"#'T2-B(PP5)'!$H$123"]
["pp5_bl4_6_5_total",{"$f":"'T2-B(PP5)'!$J$123","v":0},"#'T2-B(PP5)'!$J$123"]
["pp5_bl4_6_5_total_in",{"$f":"'T2-B(PP5)'!$F$123","v":0},"#'T2-B(PP5)'!$F$123"]
["pp5_bl4_6_5_total_out",{"$f":"'T2-B(PP5)'!$I$123","v":0},"#'T2-B(PP5)'!$I$123"]
["pp5_bl4_6_5_unit",{"$f":"'T2-B(PP5)'!$C$123","v":0},"#'T2-B(PP5)'!$C$123"]
["pp5_bl4_6_5_unit_in",{"$f":"'T2-B(PP5)'!$D$123","v":0},"#'T2-B(PP5)'!$D$123"]
["pp5_bl4_6_5_units_out",{"$f":"'T2-B(PP5)'!$G$123","v":0},"#'T2-B(PP5)'!$G$123"]
["pp5_bl4_6_6_name",{"$f":"'T2-B(PP5)'!$B$124","v":0},"#'T2-B(PP5)'!$B$124"]
["pp5_bl4_6_6_rate_in",{"$f":"'T2-B(PP5)'!$E$124","v":0},"#'T2-B(PP5)'!$E$124"]
["pp5_bl4_6_6_rate_out",{"$f":"'T2-B(PP5)'!$H$124","v":0},"#'T2-B(PP5)'!$H$124"]
["pp5_bl4_6_6_total",{"$f":"'T2-B(PP5)'!$J$124","v":0},"#'T2-B(PP5)'!$J$124"]
["pp5_bl4_6_6_total_in",{"$f":"'T2-B(PP5)'!$F$124","v":0},"#'T2-B(PP5)'!$F$124"]
["pp5_bl4_6_6_total_out",{"$f":"'T2-B(PP5)'!$I$124","v":0},"#'T2-B(PP5)'!$I$124"]
["pp5_bl4_6_6_unit",{"$f":"'T2-B(PP5)'!$C$124","v":0},"#'T2-B(PP5)'!$C$124"]
["pp5_bl4_6_6_unit_in",{"$f":"'T2-B(PP5)'!$D$124","v":0},"#'T2-B(PP5)'!$D$124"]
["pp5_bl4_6_6_units_out",{"$f":"'T2-B(PP5)'!$G$124","v":0},"#'T2-B(PP5)'!$G$124"]
["pp5_bl4_6_7_name",{"$f":"'T2-B(PP5)'!$B$125","v":0},"#'T2-B(PP5)'!$B$125"]
["pp5_bl4_6_7_rate_in",{"$f":"'T2-B(PP5)'!$E$125","v":0},"#'T2-B(PP5)'!$E$125"]
["pp5_bl4_6_7_rate_out",{"$f":"'T2-B(PP5)'!$H$125","v":0},"#'T2-B(PP5)'!$H$125"]
["pp5_bl4_6_7_total",{"$f":"'T2-B(PP5)'!$J$125","v":0},"#'T2-B(PP5)'!$J$125"]
["pp5_bl4_6_7_total_in",{"$f":"'T2-B(PP5)'!$F$125","v":0},"#'T2-B(PP5)'!$F$125"]
["pp5_bl4_6_7_total_out",{"$f":"'T2-B(PP5)'!$I$125","v":0},"#'T2-B(PP5)'!$I$125"]
["pp5_bl4_6_7_unit",{"$f":"'T2-B(PP5)'!$C$125","v":0},"#'T2-B(PP5)'!$C$125"]
["pp5_bl4_6_7_unit_in",{"$f":"'T2-B(PP5)'!$D$125","v":0},"#'T2-B(PP5)'!$D$125"]
["pp5_bl4_6_7_units_out",{"$f":"'T2-B(PP5)'!$G$125","v":0},"#'T2-B(PP5)'!$G$125"]
["pp5_bl4_6_8_name",{"$f":"'T2-B(PP5)'!$B$126","v":0},"#'T2-B(PP5)'!$B$126"]
["pp5_bl4_6_8_rate_in",{"$f":"'T2-B(PP5)'!$E$126","v":0},"#'T2-B(PP5)'!$E$126"]
["pp5_bl4_6_8_rate_out",{"$f":"'T2-B(PP5)'!$H$126","v":0},"#'T2-B(PP5)'!$H$126"]
["pp5_bl4_6_8_total",{"$f":"'T2-B(PP5)'!$J$126","v":0},"#'T2-B(PP5)'!$J$126"]
["pp5_bl4_6_8_total_in",{"$f":"'T2-B(PP5)'!$F$126","v":0},"#'T2-B(PP5)'!$F$126"]
["pp5_bl4_6_8_total_out",{"$f":"'T2-B(PP5)'!$I$126","v":0},"#'T2-B(PP5)'!$I$126"]
["pp5_bl4_6_8_unit",{"$f":"'T2-B(PP5)'!$C$126","v":0},"#'T2-B(PP5)'!$C$126"]
["pp5_bl4_6_8_unit_in",{"$f":"'T2-B(PP5)'!$D$126","v":0},"#'T2-B(PP5)'!$D$126"]
["pp5_bl4_6_8_units_out",{"$f":"'T2-B(PP5)'!$G$126","v":0},"#'T2-B(PP5)'!$G$126"]
["pp5_bl4_6_9_name",{"$f":"'T2-B(PP5)'!$B$127","v":0},"#'T2-B(PP5)'!$B$127"]
["pp5_bl4_6_9_rate_in",{"$f":"'T2-B(PP5)'!$E$127","v":0},"#'T2-B(PP5)'!$E$127"]
["pp5_bl4_6_9_rate_out",{"$f":"'T2-B(PP5)'!$H$127","v":0},"#'T2-B(PP5)'!$H$127"]
["pp5_bl4_6_9_total",{"$f":"'T2-B(PP5)'!$J$127","v":0},"#'T2-B(PP5)'!$J$127"]
["pp5_bl4_6_9_total_in",{"$f":"'T2-B(PP5)'!$F$127","v":0},"#'T2-B(PP5)'!$F$127"]
["pp5_bl4_6_9_total_out",{"$f":"'T2-B(PP5)'!$I$127","v":0},"#'T2-B(PP5)'!$I$127"]
["pp5_bl4_6_9_unit",{"$f":"'T2-B(PP5)'!$C$127","v":0},"#'T2-B(PP5)'!$C$127"]
["pp5_bl4_6_9_unit_in",{"$f":"'T2-B(PP5)'!$D$127","v":0},"#'T2-B(PP5)'!$D$127"]
["pp5_bl4_6_9_units_out",{"$f":"'T2-B(PP5)'!$G$127","v":0},"#'T2-B(PP5)'!$G$127"]
["pp5_bl4_6_total",{"$f":"'T2-B(PP5)'!$J$118","v":0},"#'T2-B(PP5)'!$J$118"]
["pp5_bl4_6_total_in",{"$f":"'T2-B(PP5)'!$F$118","v":0},"#'T2-B(PP5)'!$F$118"]
["pp5_bl4_6_total_out",{"$f":"'T2-B(PP5)'!$I$118","v":0},"#'T2-B(PP5)'!$I$118"]
["pp5_bl4_7_1_name",{"$f":"'T2-B(PP5)'!$B$130","v":0},"#'T2-B(PP5)'!$B$130"]
["pp5_bl4_7_1_rate_in",{"$f":"'T2-B(PP5)'!$E$130","v":0},"#'T2-B(PP5)'!$E$130"]
["pp5_bl4_7_1_rate_out",{"$f":"'T2-B(PP5)'!$H$130","v":0},"#'T2-B(PP5)'!$H$130"]
["pp5_bl4_7_1_total",{"$f":"'T2-B(PP5)'!$J$130","v":0},"#'T2-B(PP5)'!$J$130"]
["pp5_bl4_7_1_total_in",{"$f":"'T2-B(PP5)'!$F$130","v":0},"#'T2-B(PP5)'!$F$130"]
["pp5_bl4_7_1_total_out",{"$f":"'T2-B(PP5)'!$I$130","v":0},"#'T2-B(PP5)'!$I$130"]
["pp5_bl4_7_1_unit",{"$f":"'T2-B(PP5)'!$C$130","v":0},"#'T2-B(PP5)'!$C$130"]
["pp5_bl4_7_1_unit_in",{"$f":"'T2-B(PP5)'!$D$130","v":0},"#'T2-B(PP5)'!$D$130"]
["pp5_bl4_7_1_units_out",{"$f":"'T2-B(PP5)'!$G$130","v":0},"#'T2-B(PP5)'!$G$130"]
["pp5_bl4_7_10_name",{"$f":"'T2-B(PP5)'!$B$139","v":0},"#'T2-B(PP5)'!$B$139"]
["pp5_bl4_7_10_rate_in",{"$f":"'T2-B(PP5)'!$E$139","v":0},"#'T2-B(PP5)'!$E$139"]
["pp5_bl4_7_10_rate_out",{"$f":"'T2-B(PP5)'!$H$139","v":0},"#'T2-B(PP5)'!$H$139"]
["pp5_bl4_7_10_total",{"$f":"'T2-B(PP5)'!$J$139","v":0},"#'T2-B(PP5)'!$J$139"]
["pp5_bl4_7_10_total_in",{"$f":"'T2-B(PP5)'!$F$139","v":0},"#'T2-B(PP5)'!$F$139"]
["pp5_bl4_7_10_total_out",{"$f":"'T2-B(PP5)'!$I$139","v":0},"#'T2-B(PP5)'!$I$139"]
["pp5_bl4_7_10_unit",{"$f":"'T2-B(PP5)'!$C$139","v":0},"#'T2-B(PP5)'!$C$139"]
["pp5_bl4_7_10_unit_in",{"$f":"'T2-B(PP5)'!$D$139","v":0},"#'T2-B(PP5)'!$D$139"]
["pp5_bl4_7_10_units_out",{"$f":"'T2-B(PP5)'!$G$139","v":0},"#'T2-B(PP5)'!$G$139"]
["pp5_bl4_7_2_name",{"$f":"'T2-B(PP5)'!$B$131","v":0},"#'T2-B(PP5)'!$B$131"]
["pp5_bl4_7_2_rate_in",{"$f":"'T2-B(PP5)'!$E$131","v":0},"#'T2-B(PP5)'!$E$131"]
["pp5_bl4_7_2_rate_out",{"$f":"'T2-B(PP5)'!$H$131","v":0},"#'T2-B(PP5)'!$H$131"]
["pp5_bl4_7_2_total",{"$f":"'T2-B(PP5)'!$J$131","v":0},"#'T2-B(PP5)'!$J$131"]
["pp5_bl4_7_2_total_in",{"$f":"'T2-B(PP5)'!$F$131","v":0},"#'T2-B(PP5)'!$F$131"]
["pp5_bl4_7_2_total_out",{"$f":"'T2-B(PP5)'!$I$131","v":0},"#'T2-B(PP5)'!$I$131"]
["pp5_bl4_7_2_unit",{"$f":"'T2-B(PP5)'!$C$131","v":0},"#'T2-B(PP5)'!$C$131"]
["pp5_bl4_7_2_unit_in",{"$f":"'T2-B(PP5)'!$D$131","v":0},"#'T2-B(PP5)'!$D$131"]
["pp5_bl4_7_2_units_out",{"$f":"'T2-B(PP5)'!$G$131","v":0},"#'T2-B(PP5)'!$G$131"]
["pp5_bl4_7_3_name",{"$f":"'T2-B(PP5)'!$B$132","v":0},"#'T2-B(PP5)'!$B$132"]
["pp5_bl4_7_3_rate_in",{"$f":"'T2-B(PP5)'!$E$132","v":0},"#'T2-B(PP5)'!$E$132"]
["pp5_bl4_7_3_rate_out",{"$f":"'T2-B(PP5)'!$H$132","v":0},"#'T2-B(PP5)'!$H$132"]
["pp5_bl4_7_3_total",{"$f":"'T2-B(PP5)'!$J$132","v":0},"#'T2-B(PP5)'!$J$132"]
["pp5_bl4_7_3_total_in",{"$f":"'T2-B(PP5)'!$F$132","v":0},"#'T2-B(PP5)'!$F$132"]
["pp5_bl4_7_3_total_out",{"$f":"'T2-B(PP5)'!$I$132","v":0},"#'T2-B(PP5)'!$I$132"]
["pp5_bl4_7_3_unit",{"$f":"'T2-B(PP5)'!$C$132","v":0},"#'T2-B(PP5)'!$C$132"]
["pp5_bl4_7_3_unit_in",{"$f":"'T2-B(PP5)'!$D$132","v":0},"#'T2-B(PP5)'!$D$132"]
["pp5_bl4_7_3_units_out",{"$f":"'T2-B(PP5)'!$G$132","v":0},"#'T2-B(PP5)'!$G$132"]
["pp5_bl4_7_4_name",{"$f":"'T2-B(PP5)'!$B$133","v":0},"#'T2-B(PP5)'!$B$133"]
["pp5_bl4_7_4_rate_in",{"$f":"'T2-B(PP5)'!$E$133","v":0},"#'T2-B(PP5)'!$E$133"]
["pp5_bl4_7_4_rate_out",{"$f":"'T2-B(PP5)'!$H$133","v":0},"#'T2-B(PP5)'!$H$133"]
["pp5_bl4_7_4_total",{"$f":"'T2-B(PP5)'!$J$133","v":0},"#'T2-B(PP5)'!$J$133"]
["pp5_bl4_7_4_total_in",{"$f":"'T2-B(PP5)'!$F$133","v":0},"#'T2-B(PP5)'!$F$133"]
["pp5_bl4_7_4_total_out",{"$f":"'T2-B(PP5)'!$I$133","v":0},"#'T2-B(PP5)'!$I$133"]
["pp5_bl4_7_4_unit",{"$f":"'T2-B(PP5)'!$C$133","v":0},"#'T2-B(PP5)'!$C$133"]
["pp5_bl4_7_4_unit_in",{"$f":"'T2-B(PP5)'!$D$133","v":0},"#'T2-B(PP5)'!$D$133"]
["pp5_bl4_7_4_units_out",{"$f":"'T2-B(PP5)'!$G$133","v":0},"#'T2-B(PP5)'!$G$133"]
["pp5_bl4_7_5_name",{"$f":"'T2-B(PP5)'!$B$134","v":0},"#'T2-B(PP5)'!$B$134"]
["pp5_bl4_7_5_rate_in",{"$f":"'T2-B(PP5)'!$E$134","v":0},"#'T2-B(PP5)'!$E$134"]
["pp5_bl4_7_5_rate_out",{"$f":"'T2-B(PP5)'!$H$134","v":0},"#'T2-B(PP5)'!$H$134"]
["pp5_bl4_7_5_total",{"$f":"'T2-B(PP5)'!$J$134","v":0},"#'T2-B(PP5)'!$J$134"]
["pp5_bl4_7_5_total_in",{"$f":"'T2-B(PP5)'!$F$134","v":0},"#'T2-B(PP5)'!$F$134"]
["pp5_bl4_7_5_total_out",{"$f":"'T2-B(PP5)'!$I$134","v":0},"#'T2-B(PP5)'!$I$134"]
["pp5_bl4_7_5_unit",{"$f":"'T2-B(PP5)'!$C$134","v":0},"#'T2-B(PP5)'!$C$134"]
["pp5_bl4_7_5_unit_in",{"$f":"'T2-B(PP5)'!$D$134","v":0},"#'T2-B(PP5)'!$D$134"]
["pp5_bl4_7_5_units_out",{"$f":"'T2-B(PP5)'!$G$134","v":0},"#'T2-B(PP5)'!$G$134"]
["pp5_bl4_7_6_name",{"$f":"'T2-B(PP5)'!$B$135","v":0},"#'T2-B(PP5)'!$B$135"]
["pp5_bl4_7_6_rate_in",{"$f":"'T2-B(PP5)'!$E$135","v":0},"#'T2-B(PP5)'!$E$135"]
["pp5_bl4_7_6_rate_out",{"$f":"'T2-B(PP5)'!$H$135","v":0},"#'T2-B(PP5)'!$H$135"]
["pp5_bl4_7_6_total",{"$f":"'T2-B(PP5)'!$J$135","v":0},"#'T2-B(PP5)'!$J$135"]
["pp5_bl4_7_6_total_in",{"$f":"'T2-B(PP5)'!$F$135","v":0},"#'T2-B(PP5)'!$F$135"]
["pp5_bl4_7_6_total_out",{"$f":"'T2-B(PP5)'!$I$135","v":0},"#'T2-B(PP5)'!$I$135"]
["pp5_bl4_7_6_unit",{"$f":"'T2-B(PP5)'!$C$135","v":0},"#'T2-B(PP5)'!$C$135"]
["pp5_bl4_7_6_unit_in",{"$f":"'T2-B(PP5)'!$D$135","v":0},"#'T2-B(PP5)'!$D$135"]
["pp5_bl4_7_6_units_out",{"$f":"'T2-B(PP5)'!$G$135","v":0},"#'T2-B(PP5)'!$G$135"]
["pp5_bl4_7_7_name",{"$f":"'T2-B(PP5)'!$B$136","v":0},"#'T2-B(PP5)'!$B$136"]
["pp5_bl4_7_7_rate_in",{"$f":"'T2-B(PP5)'!$E$136","v":0},"#'T2-B(PP5)'!$E$136"]
["pp5_bl4_7_7_rate_out",{"$f":"'T2-B(PP5)'!$H$136","v":0},"#'T2-B(PP5)'!$H$136"]
["pp5_bl4_7_7_total",{"$f":"'T2-B(PP5)'!$J$136","v":0},"#'T2-B(PP5)'!$J$136"]
["pp5_bl4_7_7_total_in",{"$f":"'T2-B(PP5)'!$F$136","v":0},"#'T2-B(PP5)'!$F$136"]
["pp5_bl4_7_7_total_out",{"$f":"'T2-B(PP5)'!$I$136","v":0},"#'T2-B(PP5)'!$I$136"]
["pp5_bl4_7_7_unit",{"$f":"'T2-B(PP5)'!$C$136","v":0},"#'T2-B(PP5)'!$C$136"]
["pp5_bl4_7_7_unit_in",{"$f":"'T2-B(PP5)'!$D$136","v":0},"#'T2-B(PP5)'!$D$136"]
["pp5_bl4_7_7_units_out",{"$f":"'T2-B(PP5)'!$G$136","v":0},"#'T2-B(PP5)'!$G$136"]
["pp5_bl4_7_8_name",{"$f":"'T2-B(PP5)'!$B$137","v":0},"#'T2-B(PP5)'!$B$137"]
["pp5_bl4_7_8_rate_in",{"$f":"'T2-B(PP5)'!$E$137","v":0},"#'T2-B(PP5)'!$E$137"]
["pp5_bl4_7_8_rate_out",{"$f":"'T2-B(PP5)'!$H$137","v":0},"#'T2-B(PP5)'!$H$137"]
["pp5_bl4_7_8_total",{"$f":"'T2-B(PP5)'!$J$137","v":0},"#'T2-B(PP5)'!$J$137"]
["pp5_bl4_7_8_total_in",{"$f":"'T2-B(PP5)'!$F$137","v":0},"#'T2-B(PP5)'!$F$137"]
["pp5_bl4_7_8_total_out",{"$f":"'T2-B(PP5)'!$I$137","v":0},"#'T2-B(PP5)'!$I$137"]
["pp5_bl4_7_8_unit",{"$f":"'T2-B(PP5)'!$C$137","v":0},"#'T2-B(PP5)'!$C$137"]
["pp5_bl4_7_8_unit_in",{"$f":"'T2-B(PP5)'!$D$137","v":0},"#'T2-B(PP5)'!$D$137"]
["pp5_bl4_7_8_units_out",{"$f":"'T2-B(PP5)'!$G$137","v":0},"#'T2-B(PP5)'!$G$137"]
["pp5_bl4_7_9_name",{"$f":"'T2-B(PP5)'!$B$138","v":0},"#'T2-B(PP5)'!$B$138"]
["pp5_bl4_7_9_rate_in",{"$f":"'T2-B(PP5)'!$E$138","v":0},"#'T2-B(PP5)'!$E$138"]
["pp5_bl4_7_9_rate_out",{"$f":"'T2-B(PP5)'!$H$138","v":0},"#'T2-B(PP5)'!$H$138"]
["pp5_bl4_7_9_total",{"$f":"'T2-B(PP5)'!$J$138","v":0},"#'T2-B(PP5)'!$J$138"]
["pp5_bl4_7_9_total_in",{"$f":"'T2-B(PP5)'!$F$138","v":0},"#'T2-B(PP5)'!$F$138"]
["pp5_bl4_7_9_total_out",{"$f":"'T2-B(PP5)'!$I$138","v":0},"#'T2-B(PP5)'!$I$138"]
["pp5_bl4_7_9_unit",{"$f":"'T2-B(PP5)'!$C$138","v":0},"#'T2-B(PP5)'!$C$138"]
["pp5_bl4_7_9_unit_in",{"$f":"'T2-B(PP5)'!$D$138","v":0},"#'T2-B(PP5)'!$D$138"]
["pp5_bl4_7_9_units_out",{"$f":"'T2-B(PP5)'!$G$138","v":0},"#'T2-B(PP5)'!$G$138"]
["pp5_bl4_7_total",{"$f":"'T2-B(PP5)'!$J$129","v":0},"#'T2-B(PP5)'!$J$129"]
["pp5_bl4_7_total_in",{"$f":"'T2-B(PP5)'!$F$129","v":0},"#'T2-B(PP5)'!$F$129"]
["pp5_bl4_7_total_out",{"$f":"'T2-B(PP5)'!$I$129","v":0},"#'T2-B(PP5)'!$I$129"]
["pp5_bl4_8_1_name",{"$f":"'T2-B(PP5)'!$B$141","v":0},"#'T2-B(PP5)'!$B$141"]
["pp5_bl4_8_1_rate_in",{"$f":"'T2-B(PP5)'!$E$141","v":0},"#'T2-B(PP5)'!$E$141"]
["pp5_bl4_8_1_rate_out",{"$f":"'T2-B(PP5)'!$H$141","v":0},"#'T2-B(PP5)'!$H$141"]
["pp5_bl4_8_1_total",{"$f":"'T2-B(PP5)'!$J$141","v":0},"#'T2-B(PP5)'!$J$141"]
["pp5_bl4_8_1_total_in",{"$f":"'T2-B(PP5)'!$F$141","v":0},"#'T2-B(PP5)'!$F$141"]
["pp5_bl4_8_1_total_out",{"$f":"'T2-B(PP5)'!$I$141","v":0},"#'T2-B(PP5)'!$I$141"]
["pp5_bl4_8_1_unit",{"$f":"'T2-B(PP5)'!$C$141","v":0},"#'T2-B(PP5)'!$C$141"]
["pp5_bl4_8_1_unit_in",{"$f":"'T2-B(PP5)'!$D$141","v":0},"#'T2-B(PP5)'!$D$141"]
["pp5_bl4_8_1_units_out",{"$f":"'T2-B(PP5)'!$G$141","v":0},"#'T2-B(PP5)'!$G$141"]
["pp5_bl4_8_10_name",{"$f":"'T2-B(PP5)'!$B$150","v":0},"#'T2-B(PP5)'!$B$150"]
["pp5_bl4_8_10_rate_in",{"$f":"'T2-B(PP5)'!$E$150","v":0},"#'T2-B(PP5)'!$E$150"]
["pp5_bl4_8_10_rate_out",{"$f":"'T2-B(PP5)'!$H$150","v":0},"#'T2-B(PP5)'!$H$150"]
["pp5_bl4_8_10_total",{"$f":"'T2-B(PP5)'!$J$150","v":0},"#'T2-B(PP5)'!$J$150"]
["pp5_bl4_8_10_total_in",{"$f":"'T2-B(PP5)'!$F$150","v":0},"#'T2-B(PP5)'!$F$150"]
["pp5_bl4_8_10_total_out",{"$f":"'T2-B(PP5)'!$I$150","v":0},"#'T2-B(PP5)'!$I$150"]
["pp5_bl4_8_10_unit",{"$f":"'T2-B(PP5)'!$C$150","v":0},"#'T2-B(PP5)'!$C$150"]
["pp5_bl4_8_10_unit_in",{"$f":"'T2-B(PP5)'!$D$150","v":0},"#'T2-B(PP5)'!$D$150"]
["pp5_bl4_8_10_units_out",{"$f":"'T2-B(PP5)'!$G$150","v":0},"#'T2-B(PP5)'!$G$150"]
["pp5_bl4_8_2_name",{"$f":"'T2-B(PP5)'!$B$142","v":0},"#'T2-B(PP5)'!$B$142"]
["pp5_bl4_8_2_rate_in",{"$f":"'T2-B(PP5)'!$E$142","v":0},"#'T2-B(PP5)'!$E$142"]
["pp5_bl4_8_2_rate_out",{"$f":"'T2-B(PP5)'!$H$142","v":0},"#'T2-B(PP5)'!$H$142"]
["pp5_bl4_8_2_total",{"$f":"'T2-B(PP5)'!$J$142","v":0},"#'T2-B(PP5)'!$J$142"]
["pp5_bl4_8_2_total_in",{"$f":"'T2-B(PP5)'!$F$142","v":0},"#'T2-B(PP5)'!$F$142"]
["pp5_bl4_8_2_total_out",{"$f":"'T2-B(PP5)'!$I$142","v":0},"#'T2-B(PP5)'!$I$142"]
["pp5_bl4_8_2_unit",{"$f":"'T2-B(PP5)'!$C$142","v":0},"#'T2-B(PP5)'!$C$142"]
["pp5_bl4_8_2_unit_in",{"$f":"'T2-B(PP5)'!$D$142","v":0},"#'T2-B(PP5)'!$D$142"]
["pp5_bl4_8_2_units_out",{"$f":"'T2-B(PP5)'!$G$142","v":0},"#'T2-B(PP5)'!$G$142"]
["pp5_bl4_8_3_name",{"$f":"'T2-B(PP5)'!$B$143","v":0},"#'T2-B(PP5)'!$B$143"]
["pp5_bl4_8_3_rate_in",{"$f":"'T2-B(PP5)'!$E$143","v":0},"#'T2-B(PP5)'!$E$143"]
["pp5_bl4_8_3_rate_out",{"$f":"'T2-B(PP5)'!$H$143","v":0},"#'T2-B(PP5)'!$H$143"]
["pp5_bl4_8_3_total",{"$f":"'T2-B(PP5)'!$J$143","v":0},"#'T2-B(PP5)'!$J$143"]
["pp5_bl4_8_3_total_in",{"$f":"'T2-B(PP5)'!$F$143","v":0},"#'T2-B(PP5)'!$F$143"]
["pp5_bl4_8_3_total_out",{"$f":"'T2-B(PP5)'!$I$143","v":0},"#'T2-B(PP5)'!$I$143"]
["pp5_bl4_8_3_unit",{"$f":"'T2-B(PP5)'!$C$143","v":0},"#'T2-B(PP5)'!$C$143"]
["pp5_bl4_8_3_unit_in",{"$f":"'T2-B(PP5)'!$D$143","v":0},"#'T2-B(PP5)'!$D$143"]
["pp5_bl4_8_3_units_out",{"$f":"'T2-B(PP5)'!$G$143","v":0},"#'T2-B(PP5)'!$G$143"]
["pp5_bl4_8_4_name",{"$f":"'T2-B(PP5)'!$B$144","v":0},"#'T2-B(PP5)'!$B$144"]
["pp5_bl4_8_4_rate_in",{"$f":"'T2-B(PP5)'!$E$144","v":0},"#'T2-B(PP5)'!$E$144"]
["pp5_bl4_8_4_rate_out",{"$f":"'T2-B(PP5)'!$H$144","v":0},"#'T2-B(PP5)'!$H$144"]
["pp5_bl4_8_4_total",{"$f":"'T2-B(PP5)'!$J$144","v":0},"#'T2-B(PP5)'!$J$144"]
["pp5_bl4_8_4_total_in",{"$f":"'T2-B(PP5)'!$F$144","v":0},"#'T2-B(PP5)'!$F$144"]
["pp5_bl4_8_4_total_out",{"$f":"'T2-B(PP5)'!$I$144","v":0},"#'T2-B(PP5)'!$I$144"]
["pp5_bl4_8_4_unit",{"$f":"'T2-B(PP5)'!$C$144","v":0},"#'T2-B(PP5)'!$C$144"]
["pp5_bl4_8_4_unit_in",{"$f":"'T2-B(PP5)'!$D$144","v":0},"#'T2-B(PP5)'!$D$144"]
["pp5_bl4_8_4_units_out",{"$f":"'T2-B(PP5)'!$G$144","v":0},"#'T2-B(PP5)'!$G$144"]
["pp5_bl4_8_5_name",{"$f":"'T2-B(PP5)'!$B$145","v":0},"#'T2-B(PP5)'!$B$145"]
["pp5_bl4_8_5_rate_in",{"$f":"'T2-B(PP5)'!$E$145","v":0},"#'T2-B(PP5)'!$E$145"]
["pp5_bl4_8_5_rate_out",{"$f":"'T2-B(PP5)'!$H$145","v":0},"#'T2-B(PP5)'!$H$145"]
["pp5_bl4_8_5_total",{"$f":"'T2-B(PP5)'!$J$145","v":0},"#'T2-B(PP5)'!$J$145"]
["pp5_bl4_8_5_total_in",{"$f":"'T2-B(PP5)'!$F$145","v":0},"#'T2-B(PP5)'!$F$145"]
["pp5_bl4_8_5_total_out",{"$f":"'T2-B(PP5)'!$I$145","v":0},"#'T2-B(PP5)'!$I$145"]
["pp5_bl4_8_5_unit",{"$f":"'T2-B(PP5)'!$C$145","v":0},"#'T2-B(PP5)'!$C$145"]
["pp5_bl4_8_5_unit_in",{"$f":"'T2-B(PP5)'!$D$145","v":0},"#'T2-B(PP5)'!$D$145"]
["pp5_bl4_8_5_units_out",{"$f":"'T2-B(PP5)'!$G$145","v":0},"#'T2-B(PP5)'!$G$145"]
["pp5_bl4_8_6_name",{"$f":"'T2-B(PP5)'!$B$146","v":0},"#'T2-B(PP5)'!$B$146"]
["pp5_bl4_8_6_rate_in",{"$f":"'T2-B(PP5)'!$E$146","v":0},"#'T2-B(PP5)'!$E$146"]
["pp5_bl4_8_6_rate_out",{"$f":"'T2-B(PP5)'!$H$146","v":0},"#'T2-B(PP5)'!$H$146"]
["pp5_bl4_8_6_total",{"$f":"'T2-B(PP5)'!$J$146","v":0},"#'T2-B(PP5)'!$J$146"]
["pp5_bl4_8_6_total_in",{"$f":"'T2-B(PP5)'!$F$146","v":0},"#'T2-B(PP5)'!$F$146"]
["pp5_bl4_8_6_total_out",{"$f":"'T2-B(PP5)'!$I$146","v":0},"#'T2-B(PP5)'!$I$146"]
["pp5_bl4_8_6_unit",{"$f":"'T2-B(PP5)'!$C$146","v":0},"#'T2-B(PP5)'!$C$146"]
["pp5_bl4_8_6_unit_in",{"$f":"'T2-B(PP5)'!$D$146","v":0},"#'T2-B(PP5)'!$D$146"]
["pp5_bl4_8_6_units_out",{"$f":"'T2-B(PP5)'!$G$146","v":0},"#'T2-B(PP5)'!$G$146"]
["pp5_bl4_8_7_name",{"$f":"'T2-B(PP5)'!$B$147","v":0},"#'T2-B(PP5)'!$B$147"]
["pp5_bl4_8_7_rate_in",{"$f":"'T2-B(PP5)'!$E$147","v":0},"#'T2-B(PP5)'!$E$147"]
["pp5_bl4_8_7_rate_out",{"$f":"'T2-B(PP5)'!$H$147","v":0},"#'T2-B(PP5)'!$H$147"]
["pp5_bl4_8_7_total",{"$f":"'T2-B(PP5)'!$J$147","v":0},"#'T2-B(PP5)'!$J$147"]
["pp5_bl4_8_7_total_in",{"$f":"'T2-B(PP5)'!$F$147","v":0},"#'T2-B(PP5)'!$F$147"]
["pp5_bl4_8_7_total_out",{"$f":"'T2-B(PP5)'!$I$147","v":0},"#'T2-B(PP5)'!$I$147"]
["pp5_bl4_8_7_unit",{"$f":"'T2-B(PP5)'!$C$147","v":0},"#'T2-B(PP5)'!$C$147"]
["pp5_bl4_8_7_unit_in",{"$f":"'T2-B(PP5)'!$D$147","v":0},"#'T2-B(PP5)'!$D$147"]
["pp5_bl4_8_7_units_out",{"$f":"'T2-B(PP5)'!$G$147","v":0},"#'T2-B(PP5)'!$G$147"]
["pp5_bl4_8_8_name",{"$f":"'T2-B(PP5)'!$B$148","v":0},"#'T2-B(PP5)'!$B$148"]
["pp5_bl4_8_8_rate_in",{"$f":"'T2-B(PP5)'!$E$148","v":0},"#'T2-B(PP5)'!$E$148"]
["pp5_bl4_8_8_rate_out",{"$f":"'T2-B(PP5)'!$H$148","v":0},"#'T2-B(PP5)'!$H$148"]
["pp5_bl4_8_8_total",{"$f":"'T2-B(PP5)'!$J$148","v":0},"#'T2-B(PP5)'!$J$148"]
["pp5_bl4_8_8_total_in",{"$f":"'T2-B(PP5)'!$F$148","v":0},"#'T2-B(PP5)'!$F$148"]
["pp5_bl4_8_8_total_out",{"$f":"'T2-B(PP5)'!$I$148","v":0},"#'T2-B(PP5)'!$I$148"]
["pp5_bl4_8_8_unit",{"$f":"'T2-B(PP5)'!$C$148","v":0},"#'T2-B(PP5)'!$C$148"]
["pp5_bl4_8_8_unit_in",{"$f":"'T2-B(PP5)'!$D$148","v":0},"#'T2-B(PP5)'!$D$148"]
["pp5_bl4_8_8_units_out",{"$f":"'T2-B(PP5)'!$G$148","v":0},"#'T2-B(PP5)'!$G$148"]
["pp5_bl4_8_9_name",{"$f":"'T2-B(PP5)'!$B$149","v":0},"#'T2-B(PP5)'!$B$149"]
["pp5_bl4_8_9_rate_in",{"$f":"'T2-B(PP5)'!$E$149","v":0},"#'T2-B(PP5)'!$E$149"]
["pp5_bl4_8_9_rate_out",{"$f":"'T2-B(PP5)'!$H$149","v":0},"#'T2-B(PP5)'!$H$149"]
["pp5_bl4_8_9_total",{"$f":"'T2-B(PP5)'!$J$149","v":0},"#'T2-B(PP5)'!$J$149"]
["pp5_bl4_8_9_total_in",{"$f":"'T2-B(PP5)'!$F$149","v":0},"#'T2-B(PP5)'!$F$149"]
["pp5_bl4_8_9_total_out",{"$f":"'T2-B(PP5)'!$I$149","v":0},"#'T2-B(PP5)'!$I$149"]
["pp5_bl4_8_9_unit",{"$f":"'T2-B(PP5)'!$C$149","v":0},"#'T2-B(PP5)'!$C$149"]
["pp5_bl4_8_9_unit_in",{"$f":"'T2-B(PP5)'!$D$149","v":0},"#'T2-B(PP5)'!$D$149"]
["pp5_bl4_8_9_units_out",{"$f":"'T2-B(PP5)'!$G$149","v":0},"#'T2-B(PP5)'!$G$149"]
["pp5_bl4_8_total",{"$f":"'T2-B(PP5)'!$J$140","v":0},"#'T2-B(PP5)'!$J$140"]
["pp5_bl4_8_total_in",{"$f":"'T2-B(PP5)'!$F$140","v":0},"#'T2-B(PP5)'!$F$140"]
["pp5_bl4_8_total_out",{"$f":"'T2-B(PP5)'!$I$140","v":0},"#'T2-B(PP5)'!$I$140"]
["pp5_bl4_9_1_name",{"$f":"'T2-B(PP5)'!$B$152","v":0},"#'T2-B(PP5)'!$B$152"]
["pp5_bl4_9_1_rate_in",{"$f":"'T2-B(PP5)'!$E$152","v":0},"#'T2-B(PP5)'!$E$152"]
["pp5_bl4_9_1_rate_out",{"$f":"'T2-B(PP5)'!$H$152","v":0},"#'T2-B(PP5)'!$H$152"]
["pp5_bl4_9_1_total",{"$f":"'T2-B(PP5)'!$J$152","v":0},"#'T2-B(PP5)'!$J$152"]
["pp5_bl4_9_1_total_in",{"$f":"'T2-B(PP5)'!$F$152","v":0},"#'T2-B(PP5)'!$F$152"]
["pp5_bl4_9_1_total_out",{"$f":"'T2-B(PP5)'!$I$152","v":0},"#'T2-B(PP5)'!$I$152"]
["pp5_bl4_9_1_unit",{"$f":"'T2-B(PP5)'!$C$152","v":0},"#'T2-B(PP5)'!$C$152"]
["pp5_bl4_9_1_unit_in",{"$f":"'T2-B(PP5)'!$D$152","v":0},"#'T2-B(PP5)'!$D$152"]
["pp5_bl4_9_1_units_out",{"$f":"'T2-B(PP5)'!$G$152","v":0},"#'T2-B(PP5)'!$G$152"]
["pp5_bl4_9_10_name",{"$f":"'T2-B(PP5)'!$B$161","v":0},"#'T2-B(PP5)'!$B$161"]
["pp5_bl4_9_10_rate_in",{"$f":"'T2-B(PP5)'!$E$161","v":0},"#'T2-B(PP5)'!$E$161"]
["pp5_bl4_9_10_rate_out",{"$f":"'T2-B(PP5)'!$H$161","v":0},"#'T2-B(PP5)'!$H$161"]
["pp5_bl4_9_10_total",{"$f":"'T2-B(PP5)'!$J$161","v":0},"#'T2-B(PP5)'!$J$161"]
["pp5_bl4_9_10_total_in",{"$f":"'T2-B(PP5)'!$F$161","v":0},"#'T2-B(PP5)'!$F$161"]
["pp5_bl4_9_10_total_out",{"$f":"'T2-B(PP5)'!$I$161","v":0},"#'T2-B(PP5)'!$I$161"]
["pp5_bl4_9_10_unit",{"$f":"'T2-B(PP5)'!$C$161","v":0},"#'T2-B(PP5)'!$C$161"]
["pp5_bl4_9_10_unit_in",{"$f":"'T2-B(PP5)'!$D$161","v":0},"#'T2-B(PP5)'!$D$161"]
["pp5_bl4_9_10_units_out",{"$f":"'T2-B(PP5)'!$G$161","v":0},"#'T2-B(PP5)'!$G$161"]
["pp5_bl4_9_2_name",{"$f":"'T2-B(PP5)'!$B$153","v":0},"#'T2-B(PP5)'!$B$153"]
["pp5_bl4_9_2_rate_in",{"$f":"'T2-B(PP5)'!$E$153","v":0},"#'T2-B(PP5)'!$E$153"]
["pp5_bl4_9_2_rate_out",{"$f":"'T2-B(PP5)'!$H$153","v":0},"#'T2-B(PP5)'!$H$153"]
["pp5_bl4_9_2_total",{"$f":"'T2-B(PP5)'!$J$153","v":0},"#'T2-B(PP5)'!$J$153"]
["pp5_bl4_9_2_total_in",{"$f":"'T2-B(PP5)'!$F$153","v":0},"#'T2-B(PP5)'!$F$153"]
["pp5_bl4_9_2_total_out",{"$f":"'T2-B(PP5)'!$I$153","v":0},"#'T2-B(PP5)'!$I$153"]
["pp5_bl4_9_2_unit",{"$f":"'T2-B(PP5)'!$C$153","v":0},"#'T2-B(PP5)'!$C$153"]
["pp5_bl4_9_2_unit_in",{"$f":"'T2-B(PP5)'!$D$153","v":0},"#'T2-B(PP5)'!$D$153"]
["pp5_bl4_9_2_units_out",{"$f":"'T2-B(PP5)'!$G$153","v":0},"#'T2-B(PP5)'!$G$153"]
["pp5_bl4_9_3_name",{"$f":"'T2-B(PP5)'!$B$154","v":0},"#'T2-B(PP5)'!$B$154"]
["pp5_bl4_9_3_rate_in",{"$f":"'T2-B(PP5)'!$E$154","v":0},"#'T2-B(PP5)'!$E$154"]
["pp5_bl4_9_3_rate_out",{"$f":"'T2-B(PP5)'!$H$154","v":0},"#'T2-B(PP5)'!$H$154"]
["pp5_bl4_9_3_total",{"$f":"'T2-B(PP5)'!$J$154","v":0},"#'T2-B(PP5)'!$J$154"]
["pp5_bl4_9_3_total_in",{"$f":"'T2-B(PP5)'!$F$154","v":0},"#'T2-B(PP5)'!$F$154"]
["pp5_bl4_9_3_total_out",{"$f":"'T2-B(PP5)'!$I$154","v":0},"#'T2-B(PP5)'!$I$154"]
["pp5_bl4_9_3_unit",{"$f":"'T2-B(PP5)'!$C$154","v":0},"#'T2-B(PP5)'!$C$154"]
["pp5_bl4_9_3_unit_in",{"$f":"'T2-B(PP5)'!$D$154","v":0},"#'T2-B(PP5)'!$D$154"]
["pp5_bl4_9_3_units_out",{"$f":"'T2-B(PP5)'!$G$154","v":0},"#'T2-B(PP5)'!$G$154"]
["pp5_bl4_9_4_name",{"$f":"'T2-B(PP5)'!$B$155","v":0},"#'T2-B(PP5)'!$B$155"]
["pp5_bl4_9_4_rate_in",{"$f":"'T2-B(PP5)'!$E$155","v":0},"#'T2-B(PP5)'!$E$155"]
["pp5_bl4_9_4_rate_out",{"$f":"'T2-B(PP5)'!$H$155","v":0},"#'T2-B(PP5)'!$H$155"]
["pp5_bl4_9_4_total",{"$f":"'T2-B(PP5)'!$J$155","v":0},"#'T2-B(PP5)'!$J$155"]
["pp5_bl4_9_4_total_in",{"$f":"'T2-B(PP5)'!$F$155","v":0},"#'T2-B(PP5)'!$F$155"]
["pp5_bl4_9_4_total_out",{"$f":"'T2-B(PP5)'!$I$155","v":0},"#'T2-B(PP5)'!$I$155"]
["pp5_bl4_9_4_unit",{"$f":"'T2-B(PP5)'!$C$155","v":0},"#'T2-B(PP5)'!$C$155"]
["pp5_bl4_9_4_unit_in",{"$f":"'T2-B(PP5)'!$D$155","v":0},"#'T2-B(PP5)'!$D$155"]
["pp5_bl4_9_4_units_out",{"$f":"'T2-B(PP5)'!$G$155","v":0},"#'T2-B(PP5)'!$G$155"]
["pp5_bl4_9_5_name",{"$f":"'T2-B(PP5)'!$B$156","v":0},"#'T2-B(PP5)'!$B$156"]
["pp5_bl4_9_5_rate_in",{"$f":"'T2-B(PP5)'!$E$156","v":0},"#'T2-B(PP5)'!$E$156"]
["pp5_bl4_9_5_rate_out",{"$f":"'T2-B(PP5)'!$H$156","v":0},"#'T2-B(PP5)'!$H$156"]
["pp5_bl4_9_5_total",{"$f":"'T2-B(PP5)'!$J$156","v":0},"#'T2-B(PP5)'!$J$156"]
["pp5_bl4_9_5_total_in",{"$f":"'T2-B(PP5)'!$F$156","v":0},"#'T2-B(PP5)'!$F$156"]
["pp5_bl4_9_5_total_out",{"$f":"'T2-B(PP5)'!$I$156","v":0},"#'T2-B(PP5)'!$I$156"]
["pp5_bl4_9_5_unit",{"$f":"'T2-B(PP5)'!$C$156","v":0},"#'T2-B(PP5)'!$C$156"]
["pp5_bl4_9_5_unit_in",{"$f":"'T2-B(PP5)'!$D$156","v":0},"#'T2-B(PP5)'!$D$156"]
["pp5_bl4_9_5_units_out",{"$f":"'T2-B(PP5)'!$G$156","v":0},"#'T2-B(PP5)'!$G$156"]
["pp5_bl4_9_6_name",{"$f":"'T2-B(PP5)'!$B$157","v":0},"#'T2-B(PP5)'!$B$157"]
["pp5_bl4_9_6_rate_in",{"$f":"'T2-B(PP5)'!$E$157","v":0},"#'T2-B(PP5)'!$E$157"]
["pp5_bl4_9_6_rate_out",{"$f":"'T2-B(PP5)'!$H$157","v":0},"#'T2-B(PP5)'!$H$157"]
["pp5_bl4_9_6_total",{"$f":"'T2-B(PP5)'!$J$157","v":0},"#'T2-B(PP5)'!$J$157"]
["pp5_bl4_9_6_total_in",{"$f":"'T2-B(PP5)'!$F$157","v":0},"#'T2-B(PP5)'!$F$157"]
["pp5_bl4_9_6_total_out",{"$f":"'T2-B(PP5)'!$I$157","v":0},"#'T2-B(PP5)'!$I$157"]
["pp5_bl4_9_6_unit",{"$f":"'T2-B(PP5)'!$C$157","v":0},"#'T2-B(PP5)'!$C$157"]
["pp5_bl4_9_6_unit_in",{"$f":"'T2-B(PP5)'!$D$157","v":0},"#'T2-B(PP5)'!$D$157"]
["pp5_bl4_9_6_units_out",{"$f":"'T2-B(PP5)'!$G$157","v":0},"#'T2-B(PP5)'!$G$157"]
["pp5_bl4_9_7_name",{"$f":"'T2-B(PP5)'!$B$158","v":0},"#'T2-B(PP5)'!$B$158"]
["pp5_bl4_9_7_rate_in",{"$f":"'T2-B(PP5)'!$E$158","v":0},"#'T2-B(PP5)'!$E$158"]
["pp5_bl4_9_7_rate_out",{"$f":"'T2-B(PP5)'!$H$158","v":0},"#'T2-B(PP5)'!$H$158"]
["pp5_bl4_9_7_total",{"$f":"'T2-B(PP5)'!$J$158","v":0},"#'T2-B(PP5)'!$J$158"]
["pp5_bl4_9_7_total_in",{"$f":"'T2-B(PP5)'!$F$158","v":0},"#'T2-B(PP5)'!$F$158"]
["pp5_bl4_9_7_total_out",{"$f":"'T2-B(PP5)'!$I$158","v":0},"#'T2-B(PP5)'!$I$158"]
["pp5_bl4_9_7_unit",{"$f":"'T2-B(PP5)'!$C$158","v":0},"#'T2-B(PP5)'!$C$158"]
["pp5_bl4_9_7_unit_in",{"$f":"'T2-B(PP5)'!$D$158","v":0},"#'T2-B(PP5)'!$D$158"]
["pp5_bl4_9_7_units_out",{"$f":"'T2-B(PP5)'!$G$158","v":0},"#'T2-B(PP5)'!$G$158"]
["pp5_bl4_9_8_name",{"$f":"'T2-B(PP5)'!$B$159","v":0},"#'T2-B(PP5)'!$B$159"]
["pp5_bl4_9_8_rate_in",{"$f":"'T2-B(PP5)'!$E$159","v":0},"#'T2-B(PP5)'!$E$159"]
["pp5_bl4_9_8_rate_out",{"$f":"'T2-B(PP5)'!$H$159","v":0},"#'T2-B(PP5)'!$H$159"]
["pp5_bl4_9_8_total",{"$f":"'T2-B(PP5)'!$J$159","v":0},"#'T2-B(PP5)'!$J$159"]
["pp5_bl4_9_8_total_in",{"$f":"'T2-B(PP5)'!$F$159","v":0},"#'T2-B(PP5)'!$F$159"]
["pp5_bl4_9_8_total_out",{"$f":"'T2-B(PP5)'!$I$159","v":0},"#'T2-B(PP5)'!$I$159"]
["pp5_bl4_9_8_unit",{"$f":"'T2-B(PP5)'!$C$159","v":0},"#'T2-B(PP5)'!$C$159"]
["pp5_bl4_9_8_unit_in",{"$f":"'T2-B(PP5)'!$D$159","v":0},"#'T2-B(PP5)'!$D$159"]
["pp5_bl4_9_8_units_out",{"$f":"'T2-B(PP5)'!$G$159","v":0},"#'T2-B(PP5)'!$G$159"]
["pp5_bl4_9_9_name",{"$f":"'T2-B(PP5)'!$B$160","v":0},"#'T2-B(PP5)'!$B$160"]
["pp5_bl4_9_9_rate_in",{"$f":"'T2-B(PP5)'!$E$160","v":0},"#'T2-B(PP5)'!$E$160"]
["pp5_bl4_9_9_rate_out",{"$f":"'T2-B(PP5)'!$H$160","v":0},"#'T2-B(PP5)'!$H$160"]
["pp5_bl4_9_9_total",{"$f":"'T2-B(PP5)'!$J$160","v":0},"#'T2-B(PP5)'!$J$160"]
["pp5_bl4_9_9_total_in",{"$f":"'T2-B(PP5)'!$F$160","v":0},"#'T2-B(PP5)'!$F$160"]
["pp5_bl4_9_9_total_out",{"$f":"'T2-B(PP5)'!$I$160","v":0},"#'T2-B(PP5)'!$I$160"]
["pp5_bl4_9_9_unit",{"$f":"'T2-B(PP5)'!$C$160","v":0},"#'T2-B(PP5)'!$C$160"]
["pp5_bl4_9_9_unit_in",{"$f":"'T2-B(PP5)'!$D$160","v":0},"#'T2-B(PP5)'!$D$160"]
["pp5_bl4_9_9_units_out",{"$f":"'T2-B(PP5)'!$G$160","v":0},"#'T2-B(PP5)'!$G$160"]
["pp5_bl4_9_total",{"$f":"'T2-B(PP5)'!$J$151","v":0},"#'T2-B(PP5)'!$J$151"]
["pp5_bl4_9_total_in",{"$f":"'T2-B(PP5)'!$F$151","v":0},"#'T2-B(PP5)'!$F$151"]
["pp5_bl4_9_total_out",{"$f":"'T2-B(PP5)'!$I$151","v":0},"#'T2-B(PP5)'!$I$151"]
["pp5_bl4_total",{"$f":"'T2-B(PP5)'!$J$217","v":0},"#'T2-B(PP5)'!$J$217"]
["pp5_bl4_total_in",{"$f":"'T2-B(PP5)'!$F$217","v":0},"#'T2-B(PP5)'!$F$217"]
["pp5_bl4_total_out",{"$f":"'T2-B(PP5)'!$I$217","v":0},"#'T2-B(PP5)'!$I$217"]
["pp5_bl5_1_1_name",{"$f":"'T2-B(PP5)'!$B$222","v":0},"#'T2-B(PP5)'!$B$222"]
["pp5_bl5_1_1_rate_in",{"$f":"'T2-B(PP5)'!$E$222","v":0},"#'T2-B(PP5)'!$E$222"]
["pp5_bl5_1_1_rate_out",{"$f":"'T2-B(PP5)'!$H$222","v":0},"#'T2-B(PP5)'!$H$222"]
["pp5_bl5_1_1_total",{"$f":"'T2-B(PP5)'!$J$222","v":0},"#'T2-B(PP5)'!$J$222"]
["pp5_bl5_1_1_total_in",{"$f":"'T2-B(PP5)'!$F$222","v":0},"#'T2-B(PP5)'!$F$222"]
["pp5_bl5_1_1_total_out",{"$f":"'T2-B(PP5)'!$I$222","v":0},"#'T2-B(PP5)'!$I$222"]
["pp5_bl5_1_1_unit",{"$f":"'T2-B(PP5)'!$C$222","v":0},"#'T2-B(PP5)'!$C$222"]
["pp5_bl5_1_1_unit_in",{"$f":"'T2-B(PP5)'!$D$222","v":0},"#'T2-B(PP5)'!$D$222"]
["pp5_bl5_1_1_units_out",{"$f":"'T2-B(PP5)'!$G$222","v":0},"#'T2-B(PP5)'!$G$222"]
["pp5_bl5_1_10_name",{"$f":"'T2-B(PP5)'!$B$231","v":0},"#'T2-B(PP5)'!$B$231"]
["pp5_bl5_1_10_rate_in",{"$f":"'T2-B(PP5)'!$E$231","v":0},"#'T2-B(PP5)'!$E$231"]
["pp5_bl5_1_10_rate_out",{"$f":"'T2-B(PP5)'!$H$231","v":0},"#'T2-B(PP5)'!$H$231"]
["pp5_bl5_1_10_total",{"$f":"'T2-B(PP5)'!$J$231","v":0},"#'T2-B(PP5)'!$J$231"]
["pp5_bl5_1_10_total_in",{"$f":"'T2-B(PP5)'!$F$231","v":0},"#'T2-B(PP5)'!$F$231"]
["pp5_bl5_1_10_total_out",{"$f":"'T2-B(PP5)'!$I$231","v":0},"#'T2-B(PP5)'!$I$231"]
["pp5_bl5_1_10_unit",{"$f":"'T2-B(PP5)'!$C$231","v":0},"#'T2-B(PP5)'!$C$231"]
["pp5_bl5_1_10_unit_in",{"$f":"'T2-B(PP5)'!$D$231","v":0},"#'T2-B(PP5)'!$D$231"]
["pp5_bl5_1_10_units_out",{"$f":"'T2-B(PP5)'!$G$231","v":0},"#'T2-B(PP5)'!$G$231"]
["pp5_bl5_1_2_name",{"$f":"'T2-B(PP5)'!$B$223","v":0},"#'T2-B(PP5)'!$B$223"]
["pp5_bl5_1_2_rate_in",{"$f":"'T2-B(PP5)'!$E$223","v":0},"#'T2-B(PP5)'!$E$223"]
["pp5_bl5_1_2_rate_out",{"$f":"'T2-B(PP5)'!$H$223","v":0},"#'T2-B(PP5)'!$H$223"]
["pp5_bl5_1_2_total",{"$f":"'T2-B(PP5)'!$J$223","v":0},"#'T2-B(PP5)'!$J$223"]
["pp5_bl5_1_2_total_in",{"$f":"'T2-B(PP5)'!$F$223","v":0},"#'T2-B(PP5)'!$F$223"]
["pp5_bl5_1_2_total_out",{"$f":"'T2-B(PP5)'!$I$223","v":0},"#'T2-B(PP5)'!$I$223"]
["pp5_bl5_1_2_unit",{"$f":"'T2-B(PP5)'!$C$223","v":0},"#'T2-B(PP5)'!$C$223"]
["pp5_bl5_1_2_unit_in",{"$f":"'T2-B(PP5)'!$D$223","v":0},"#'T2-B(PP5)'!$D$223"]
["pp5_bl5_1_2_units_out",{"$f":"'T2-B(PP5)'!$G$223","v":0},"#'T2-B(PP5)'!$G$223"]
["pp5_bl5_1_3_name",{"$f":"'T2-B(PP5)'!$B$224","v":0},"#'T2-B(PP5)'!$B$224"]
["pp5_bl5_1_3_rate_in",{"$f":"'T2-B(PP5)'!$E$224","v":0},"#'T2-B(PP5)'!$E$224"]
["pp5_bl5_1_3_rate_out",{"$f":"'T2-B(PP5)'!$H$224","v":0},"#'T2-B(PP5)'!$H$224"]
["pp5_bl5_1_3_total",{"$f":"'T2-B(PP5)'!$J$224","v":0},"#'T2-B(PP5)'!$J$224"]
["pp5_bl5_1_3_total_in",{"$f":"'T2-B(PP5)'!$F$224","v":0},"#'T2-B(PP5)'!$F$224"]
["pp5_bl5_1_3_total_out",{"$f":"'T2-B(PP5)'!$I$224","v":0},"#'T2-B(PP5)'!$I$224"]
["pp5_bl5_1_3_unit",{"$f":"'T2-B(PP5)'!$C$224","v":0},"#'T2-B(PP5)'!$C$224"]
["pp5_bl5_1_3_unit_in",{"$f":"'T2-B(PP5)'!$D$224","v":0},"#'T2-B(PP5)'!$D$224"]
["pp5_bl5_1_3_units_out",{"$f":"'T2-B(PP5)'!$G$224","v":0},"#'T2-B(PP5)'!$G$224"]
["pp5_bl5_1_4_name",{"$f":"'T2-B(PP5)'!$B$225","v":0},"#'T2-B(PP5)'!$B$225"]
["pp5_bl5_1_4_rate_in",{"$f":"'T2-B(PP5)'!$E$225","v":0},"#'T2-B(PP5)'!$E$225"]
["pp5_bl5_1_4_rate_out",{"$f":"'T2-B(PP5)'!$H$225","v":0},"#'T2-B(PP5)'!$H$225"]
["pp5_bl5_1_4_total",{"$f":"'T2-B(PP5)'!$J$225","v":0},"#'T2-B(PP5)'!$J$225"]
["pp5_bl5_1_4_total_in",{"$f":"'T2-B(PP5)'!$F$225","v":0},"#'T2-B(PP5)'!$F$225"]
["pp5_bl5_1_4_total_out",{"$f":"'T2-B(PP5)'!$I$225","v":0},"#'T2-B(PP5)'!$I$225"]
["pp5_bl5_1_4_unit",{"$f":"'T2-B(PP5)'!$C$225","v":0},"#'T2-B(PP5)'!$C$225"]
["pp5_bl5_1_4_unit_in",{"$f":"'T2-B(PP5)'!$D$225","v":0},"#'T2-B(PP5)'!$D$225"]
["pp5_bl5_1_4_units_out",{"$f":"'T2-B(PP5)'!$G$225","v":0},"#'T2-B(PP5)'!$G$225"]
["pp5_bl5_1_5_name",{"$f":"'T2-B(PP5)'!$B$226","v":0},"#'T2-B(PP5)'!$B$226"]
["pp5_bl5_1_5_rate_in",{"$f":"'T2-B(PP5)'!$E$226","v":0},"#'T2-B(PP5)'!$E$226"]
["pp5_bl5_1_5_rate_out",{"$f":"'T2-B(PP5)'!$H$226","v":0},"#'T2-B(PP5)'!$H$226"]
["pp5_bl5_1_5_total",{"$f":"'T2-B(PP5)'!$J$226","v":0},"#'T2-B(PP5)'!$J$226"]
["pp5_bl5_1_5_total_in",{"$f":"'T2-B(PP5)'!$F$226","v":0},"#'T2-B(PP5)'!$F$226"]
["pp5_bl5_1_5_total_out",{"$f":"'T2-B(PP5)'!$I$226","v":0},"#'T2-B(PP5)'!$I$226"]
["pp5_bl5_1_5_unit",{"$f":"'T2-B(PP5)'!$C$226","v":0},"#'T2-B(PP5)'!$C$226"]
["pp5_bl5_1_5_unit_in",{"$f":"'T2-B(PP5)'!$D$226","v":0},"#'T2-B(PP5)'!$D$226"]
["pp5_bl5_1_5_units_out",{"$f":"'T2-B(PP5)'!$G$226","v":0},"#'T2-B(PP5)'!$G$226"]
["pp5_bl5_1_6_name",{"$f":"'T2-B(PP5)'!$B$227","v":0},"#'T2-B(PP5)'!$B$227"]
["pp5_bl5_1_6_rate_in",{"$f":"'T2-B(PP5)'!$E$227","v":0},"#'T2-B(PP5)'!$E$227"]
["pp5_bl5_1_6_rate_out",{"$f":"'T2-B(PP5)'!$H$227","v":0},"#'T2-B(PP5)'!$H$227"]
["pp5_bl5_1_6_total",{"$f":"'T2-B(PP5)'!$J$227","v":0},"#'T2-B(PP5)'!$J$227"]
["pp5_bl5_1_6_total_in",{"$f":"'T2-B(PP5)'!$F$227","v":0},"#'T2-B(PP5)'!$F$227"]
["pp5_bl5_1_6_total_out",{"$f":"'T2-B(PP5)'!$I$227","v":0},"#'T2-B(PP5)'!$I$227"]
["pp5_bl5_1_6_unit",{"$f":"'T2-B(PP5)'!$C$227","v":0},"#'T2-B(PP5)'!$C$227"]
["pp5_bl5_1_6_unit_in",{"$f":"'T2-B(PP5)'!$D$227","v":0},"#'T2-B(PP5)'!$D$227"]
["pp5_bl5_1_6_units_out",{"$f":"'T2-B(PP5)'!$G$227","v":0},"#'T2-B(PP5)'!$G$227"]
["pp5_bl5_1_7_name",{"$f":"'T2-B(PP5)'!$B$228","v":0},"#'T2-B(PP5)'!$B$228"]
["pp5_bl5_1_7_rate_in",{"$f":"'T2-B(PP5)'!$E$228","v":0},"#'T2-B(PP5)'!$E$228"]
["pp5_bl5_1_7_rate_out",{"$f":"'T2-B(PP5)'!$H$228","v":0},"#'T2-B(PP5)'!$H$228"]
["pp5_bl5_1_7_total",{"$f":"'T2-B(PP5)'!$J$228","v":0},"#'T2-B(PP5)'!$J$228"]
["pp5_bl5_1_7_total_in",{"$f":"'T2-B(PP5)'!$F$228","v":0},"#'T2-B(PP5)'!$F$228"]
["pp5_bl5_1_7_total_out",{"$f":"'T2-B(PP5)'!$I$228","v":0},"#'T2-B(PP5)'!$I$228"]
["pp5_bl5_1_7_unit",{"$f":"'T2-B(PP5)'!$C$228","v":0},"#'T2-B(PP5)'!$C$228"]
["pp5_bl5_1_7_unit_in",{"$f":"'T2-B(PP5)'!$D$228","v":0},"#'T2-B(PP5)'!$D$228"]
["pp5_bl5_1_7_units_out",{"$f":"'T2-B(PP5)'!$G$228","v":0},"#'T2-B(PP5)'!$G$228"]
["pp5_bl5_1_8_name",{"$f":"'T2-B(PP5)'!$B$229","v":0},"#'T2-B(PP5)'!$B$229"]
["pp5_bl5_1_8_rate_in",{"$f":"'T2-B(PP5)'!$E$229","v":0},"#'T2-B(PP5)'!$E$229"]
["pp5_bl5_1_8_rate_out",{"$f":"'T2-B(PP5)'!$H$229","v":0},"#'T2-B(PP5)'!$H$229"]
["pp5_bl5_1_8_total",{"$f":"'T2-B(PP5)'!$J$229","v":0},"#'T2-B(PP5)'!$J$229"]
["pp5_bl5_1_8_total_in",{"$f":"'T2-B(PP5)'!$F$229","v":0},"#'T2-B(PP5)'!$F$229"]
["pp5_bl5_1_8_total_out",{"$f":"'T2-B(PP5)'!$I$229","v":0},"#'T2-B(PP5)'!$I$229"]
["pp5_bl5_1_8_unit",{"$f":"'T2-B(PP5)'!$C$229","v":0},"#'T2-B(PP5)'!$C$229"]
["pp5_bl5_1_8_unit_in",{"$f":"'T2-B(PP5)'!$D$229","v":0},"#'T2-B(PP5)'!$D$229"]
["pp5_bl5_1_8_units_out",{"$f":"'T2-B(PP5)'!$G$229","v":0},"#'T2-B(PP5)'!$G$229"]
["pp5_bl5_1_9_name",{"$f":"'T2-B(PP5)'!$B$230","v":0},"#'T2-B(PP5)'!$B$230"]
["pp5_bl5_1_9_rate_in",{"$f":"'T2-B(PP5)'!$E$230","v":0},"#'T2-B(PP5)'!$E$230"]
["pp5_bl5_1_9_rate_out",{"$f":"'T2-B(PP5)'!$H$230","v":0},"#'T2-B(PP5)'!$H$230"]
["pp5_bl5_1_9_total",{"$f":"'T2-B(PP5)'!$J$230","v":0},"#'T2-B(PP5)'!$J$230"]
["pp5_bl5_1_9_total_in",{"$f":"'T2-B(PP5)'!$F$230","v":0},"#'T2-B(PP5)'!$F$230"]
["pp5_bl5_1_9_total_out",{"$f":"'T2-B(PP5)'!$I$230","v":0},"#'T2-B(PP5)'!$I$230"]
["pp5_bl5_1_9_unit",{"$f":"'T2-B(PP5)'!$C$230","v":0},"#'T2-B(PP5)'!$C$230"]
["pp5_bl5_1_9_unit_in",{"$f":"'T2-B(PP5)'!$D$230","v":0},"#'T2-B(PP5)'!$D$230"]
["pp5_bl5_1_9_units_out",{"$f":"'T2-B(PP5)'!$G$230","v":0},"#'T2-B(PP5)'!$G$230"]
["pp5_bl5_1_total",{"$f":"'T2-B(PP5)'!$J$221","v":0},"#'T2-B(PP5)'!$J$221"]
["pp5_bl5_1_total_in",{"$f":"'T2-B(PP5)'!$F$221","v":0},"#'T2-B(PP5)'!$F$221"]
["pp5_bl5_1_total_out",{"$f":"'T2-B(PP5)'!$I$221","v":0},"#'T2-B(PP5)'!$I$221"]
["pp5_bl5_2_1_name",{"$f":"'T2-B(PP5)'!$B$233","v":0},"#'T2-B(PP5)'!$B$233"]
["pp5_bl5_2_1_rate_in",{"$f":"'T2-B(PP5)'!$E$233","v":0},"#'T2-B(PP5)'!$E$233"]
["pp5_bl5_2_1_rate_out",{"$f":"'T2-B(PP5)'!$H$233","v":0},"#'T2-B(PP5)'!$H$233"]
["pp5_bl5_2_1_total",{"$f":"'T2-B(PP5)'!$J$233","v":0},"#'T2-B(PP5)'!$J$233"]
["pp5_bl5_2_1_total_in",{"$f":"'T2-B(PP5)'!$F$233","v":0},"#'T2-B(PP5)'!$F$233"]
["pp5_bl5_2_1_total_out",{"$f":"'T2-B(PP5)'!$I$233","v":0},"#'T2-B(PP5)'!$I$233"]
["pp5_bl5_2_1_unit",{"$f":"'T2-B(PP5)'!$C$233","v":0},"#'T2-B(PP5)'!$C$233"]
["pp5_bl5_2_1_unit_in",{"$f":"'T2-B(PP5)'!$D$233","v":0},"#'T2-B(PP5)'!$D$233"]
["pp5_bl5_2_1_units_out",{"$f":"'T2-B(PP5)'!$G$233","v":0},"#'T2-B(PP5)'!$G$233"]
["pp5_bl5_2_10_name",{"$f":"'T2-B(PP5)'!$B$242","v":0},"#'T2-B(PP5)'!$B$242"]
["pp5_bl5_2_10_rate_in",{"$f":"'T2-B(PP5)'!$E$242","v":0},"#'T2-B(PP5)'!$E$242"]
["pp5_bl5_2_10_rate_out",{"$f":"'T2-B(PP5)'!$H$242","v":0},"#'T2-B(PP5)'!$H$242"]
["pp5_bl5_2_10_total",{"$f":"'T2-B(PP5)'!$J$242","v":0},"#'T2-B(PP5)'!$J$242"]
["pp5_bl5_2_10_total_in",{"$f":"'T2-B(PP5)'!$F$242","v":0},"#'T2-B(PP5)'!$F$242"]
["pp5_bl5_2_10_total_out",{"$f":"'T2-B(PP5)'!$I$242","v":0},"#'T2-B(PP5)'!$I$242"]
["pp5_bl5_2_10_unit",{"$f":"'T2-B(PP5)'!$C$242","v":0},"#'T2-B(PP5)'!$C$242"]
["pp5_bl5_2_10_unit_in",{"$f":"'T2-B(PP5)'!$D$242","v":0},"#'T2-B(PP5)'!$D$242"]
["pp5_bl5_2_10_units_out",{"$f":"'T2-B(PP5)'!$G$242","v":0},"#'T2-B(PP5)'!$G$242"]
["pp5_bl5_2_2_name",{"$f":"'T2-B(PP5)'!$B$234","v":0},"#'T2-B(PP5)'!$B$234"]
["pp5_bl5_2_2_rate_in",{"$f":"'T2-B(PP5)'!$E$234","v":0},"#'T2-B(PP5)'!$E$234"]
["pp5_bl5_2_2_rate_out",{"$f":"'T2-B(PP5)'!$H$234","v":0},"#'T2-B(PP5)'!$H$234"]
["pp5_bl5_2_2_total",{"$f":"'T2-B(PP5)'!$J$234","v":0},"#'T2-B(PP5)'!$J$234"]
["pp5_bl5_2_2_total_in",{"$f":"'T2-B(PP5)'!$F$234","v":0},"#'T2-B(PP5)'!$F$234"]
["pp5_bl5_2_2_total_out",{"$f":"'T2-B(PP5)'!$I$234","v":0},"#'T2-B(PP5)'!$I$234"]
["pp5_bl5_2_2_unit",{"$f":"'T2-B(PP5)'!$C$234","v":0},"#'T2-B(PP5)'!$C$234"]
["pp5_bl5_2_2_unit_in",{"$f":"'T2-B(PP5)'!$D$234","v":0},"#'T2-B(PP5)'!$D$234"]
["pp5_bl5_2_2_units_out",{"$f":"'T2-B(PP5)'!$G$234","v":0},"#'T2-B(PP5)'!$G$234"]
["pp5_bl5_2_3_name",{"$f":"'T2-B(PP5)'!$B$235","v":0},"#'T2-B(PP5)'!$B$235"]
["pp5_bl5_2_3_rate_in",{"$f":"'T2-B(PP5)'!$E$235","v":0},"#'T2-B(PP5)'!$E$235"]
["pp5_bl5_2_3_rate_out",{"$f":"'T2-B(PP5)'!$H$235","v":0},"#'T2-B(PP5)'!$H$235"]
["pp5_bl5_2_3_total",{"$f":"'T2-B(PP5)'!$J$235","v":0},"#'T2-B(PP5)'!$J$235"]
["pp5_bl5_2_3_total_in",{"$f":"'T2-B(PP5)'!$F$235","v":0},"#'T2-B(PP5)'!$F$235"]
["pp5_bl5_2_3_total_out",{"$f":"'T2-B(PP5)'!$I$235","v":0},"#'T2-B(PP5)'!$I$235"]
["pp5_bl5_2_3_unit",{"$f":"'T2-B(PP5)'!$C$235","v":0},"#'T2-B(PP5)'!$C$235"]
["pp5_bl5_2_3_unit_in",{"$f":"'T2-B(PP5)'!$D$235","v":0},"#'T2-B(PP5)'!$D$235"]
["pp5_bl5_2_3_units_out",{"$f":"'T2-B(PP5)'!$G$235","v":0},"#'T2-B(PP5)'!$G$235"]
["pp5_bl5_2_4_name",{"$f":"'T2-B(PP5)'!$B$236","v":0},"#'T2-B(PP5)'!$B$236"]
["pp5_bl5_2_4_rate_in",{"$f":"'T2-B(PP5)'!$E$236","v":0},"#'T2-B(PP5)'!$E$236"]
["pp5_bl5_2_4_rate_out",{"$f":"'T2-B(PP5)'!$H$236","v":0},"#'T2-B(PP5)'!$H$236"]
["pp5_bl5_2_4_total",{"$f":"'T2-B(PP5)'!$J$236","v":0},"#'T2-B(PP5)'!$J$236"]
["pp5_bl5_2_4_total_in",{"$f":"'T2-B(PP5)'!$F$236","v":0},"#'T2-B(PP5)'!$F$236"]
["pp5_bl5_2_4_total_out",{"$f":"'T2-B(PP5)'!$I$236","v":0},"#'T2-B(PP5)'!$I$236"]
["pp5_bl5_2_4_unit",{"$f":"'T2-B(PP5)'!$C$236","v":0},"#'T2-B(PP5)'!$C$236"]
["pp5_bl5_2_4_unit_in",{"$f":"'T2-B(PP5)'!$D$236","v":0},"#'T2-B(PP5)'!$D$236"]
["pp5_bl5_2_4_units_out",{"$f":"'T2-B(PP5)'!$G$236","v":0},"#'T2-B(PP5)'!$G$236"]
["pp5_bl5_2_5_name",{"$f":"'T2-B(PP5)'!$B$237","v":0},"#'T2-B(PP5)'!$B$237"]
["pp5_bl5_2_5_rate_in",{"$f":"'T2-B(PP5)'!$E$237","v":0},"#'T2-B(PP5)'!$E$237"]
["pp5_bl5_2_5_rate_out",{"$f":"'T2-B(PP5)'!$H$237","v":0},"#'T2-B(PP5)'!$H$237"]
["pp5_bl5_2_5_total",{"$f":"'T2-B(PP5)'!$J$237","v":0},"#'T2-B(PP5)'!$J$237"]
["pp5_bl5_2_5_total_in",{"$f":"'T2-B(PP5)'!$F$237","v":0},"#'T2-B(PP5)'!$F$237"]
["pp5_bl5_2_5_total_out",{"$f":"'T2-B(PP5)'!$I$237","v":0},"#'T2-B(PP5)'!$I$237"]
["pp5_bl5_2_5_unit",{"$f":"'T2-B(PP5)'!$C$237","v":0},"#'T2-B(PP5)'!$C$237"]
["pp5_bl5_2_5_unit_in",{"$f":"'T2-B(PP5)'!$D$237","v":0},"#'T2-B(PP5)'!$D$237"]
["pp5_bl5_2_5_units_out",{"$f":"'T2-B(PP5)'!$G$237","v":0},"#'T2-B(PP5)'!$G$237"]
["pp5_bl5_2_6_name",{"$f":"'T2-B(PP5)'!$B$238","v":0},"#'T2-B(PP5)'!$B$238"]
["pp5_bl5_2_6_rate_in",{"$f":"'T2-B(PP5)'!$E$238","v":0},"#'T2-B(PP5)'!$E$238"]
["pp5_bl5_2_6_rate_out",{"$f":"'T2-B(PP5)'!$H$238","v":0},"#'T2-B(PP5)'!$H$238"]
["pp5_bl5_2_6_total",{"$f":"'T2-B(PP5)'!$J$238","v":0},"#'T2-B(PP5)'!$J$238"]
["pp5_bl5_2_6_total_in",{"$f":"'T2-B(PP5)'!$F$238","v":0},"#'T2-B(PP5)'!$F$238"]
["pp5_bl5_2_6_total_out",{"$f":"'T2-B(PP5)'!$I$238","v":0},"#'T2-B(PP5)'!$I$238"]
["pp5_bl5_2_6_unit",{"$f":"'T2-B(PP5)'!$C$238","v":0},"#'T2-B(PP5)'!$C$238"]
["pp5_bl5_2_6_unit_in",{"$f":"'T2-B(PP5)'!$D$238","v":0},"#'T2-B(PP5)'!$D$238"]
["pp5_bl5_2_6_units_out",{"$f":"'T2-B(PP5)'!$G$238","v":0},"#'T2-B(PP5)'!$G$238"]
["pp5_bl5_2_7_name",{"$f":"'T2-B(PP5)'!$B$239","v":0},"#'T2-B(PP5)'!$B$239"]
["pp5_bl5_2_7_rate_in",{"$f":"'T2-B(PP5)'!$E$239","v":0},"#'T2-B(PP5)'!$E$239"]
["pp5_bl5_2_7_rate_out",{"$f":"'T2-B(PP5)'!$H$239","v":0},"#'T2-B(PP5)'!$H$239"]
["pp5_bl5_2_7_total",{"$f":"'T2-B(PP5)'!$J$239","v":0},"#'T2-B(PP5)'!$J$239"]
["pp5_bl5_2_7_total_in",{"$f":"'T2-B(PP5)'!$F$239","v":0},"#'T2-B(PP5)'!$F$239"]
["pp5_bl5_2_7_total_out",{"$f":"'T2-B(PP5)'!$I$239","v":0},"#'T2-B(PP5)'!$I$239"]
["pp5_bl5_2_7_unit",{"$f":"'T2-B(PP5)'!$C$239","v":0},"#'T2-B(PP5)'!$C$239"]
["pp5_bl5_2_7_unit_in",{"$f":"'T2-B(PP5)'!$D$239","v":0},"#'T2-B(PP5)'!$D$239"]
["pp5_bl5_2_7_units_out",{"$f":"'T2-B(PP5)'!$G$239","v":0},"#'T2-B(PP5)'!$G$239"]
["pp5_bl5_2_8_name",{"$f":"'T2-B(PP5)'!$B$240","v":0},"#'T2-B(PP5)'!$B$240"]
["pp5_bl5_2_8_rate_in",{"$f":"'T2-B(PP5)'!$E$240","v":0},"#'T2-B(PP5)'!$E$240"]
["pp5_bl5_2_8_rate_out",{"$f":"'T2-B(PP5)'!$H$240","v":0},"#'T2-B(PP5)'!$H$240"]
["pp5_bl5_2_8_total",{"$f":"'T2-B(PP5)'!$J$240","v":0},"#'T2-B(PP5)'!$J$240"]
["pp5_bl5_2_8_total_in",{"$f":"'T2-B(PP5)'!$F$240","v":0},"#'T2-B(PP5)'!$F$240"]
["pp5_bl5_2_8_total_out",{"$f":"'T2-B(PP5)'!$I$240","v":0},"#'T2-B(PP5)'!$I$240"]
["pp5_bl5_2_8_unit",{"$f":"'T2-B(PP5)'!$C$240","v":0},"#'T2-B(PP5)'!$C$240"]
["pp5_bl5_2_8_unit_in",{"$f":"'T2-B(PP5)'!$D$240","v":0},"#'T2-B(PP5)'!$D$240"]
["pp5_bl5_2_8_units_out",{"$f":"'T2-B(PP5)'!$G$240","v":0},"#'T2-B(PP5)'!$G$240"]
["pp5_bl5_2_9_name",{"$f":"'T2-B(PP5)'!$B$241","v":0},"#'T2-B(PP5)'!$B$241"]
["pp5_bl5_2_9_rate_in",{"$f":"'T2-B(PP5)'!$E$241","v":0},"#'T2-B(PP5)'!$E$241"]
["pp5_bl5_2_9_rate_out",{"$f":"'T2-B(PP5)'!$H$241","v":0},"#'T2-B(PP5)'!$H$241"]
["pp5_bl5_2_9_total",{"$f":"'T2-B(PP5)'!$J$241","v":0},"#'T2-B(PP5)'!$J$241"]
["pp5_bl5_2_9_total_in",{"$f":"'T2-B(PP5)'!$F$241","v":0},"#'T2-B(PP5)'!$F$241"]
["pp5_bl5_2_9_total_out",{"$f":"'T2-B(PP5)'!$I$241","v":0},"#'T2-B(PP5)'!$I$241"]
["pp5_bl5_2_9_unit",{"$f":"'T2-B(PP5)'!$C$241","v":0},"#'T2-B(PP5)'!$C$241"]
["pp5_bl5_2_9_unit_in",{"$f":"'T2-B(PP5)'!$D$241","v":0},"#'T2-B(PP5)'!$D$241"]
["pp5_bl5_2_9_units_out",{"$f":"'T2-B(PP5)'!$G$241","v":0},"#'T2-B(PP5)'!$G$241"]
["pp5_bl5_2_total",{"$f":"'T2-B(PP5)'!$J$232","v":0},"#'T2-B(PP5)'!$J$232"]
["pp5_bl5_2_total_in",{"$f":"'T2-B(PP5)'!$F$232","v":0},"#'T2-B(PP5)'!$F$232"]
["pp5_bl5_2_total_out",{"$f":"'T2-B(PP5)'!$I$232","v":0},"#'T2-B(PP5)'!$I$232"]
["pp5_bl5_total",{"$f":"'T2-B(PP5)'!$J$243","v":0},"#'T2-B(PP5)'!$J$243"]
["pp5_bl5_total_in",{"$f":"'T2-B(PP5)'!$F$243","v":0},"#'T2-B(PP5)'!$F$243"]
["pp5_bl5_total_out",{"$f":"'T2-B(PP5)'!$I$243","v":0},"#'T2-B(PP5)'!$I$243"]
["pp5_bl6_1_1_name",{"$f":"'T2-B(PP5)'!$B$247","v":0},"#'T2-B(PP5)'!$B$247"]
["pp5_bl6_1_1_rate_in",{"$f":"'T2-B(PP5)'!$E$247","v":0},"#'T2-B(PP5)'!$E$247"]
["pp5_bl6_1_1_rate_out",{"$f":"'T2-B(PP5)'!$H$247","v":0},"#'T2-B(PP5)'!$H$247"]
["pp5_bl6_1_1_total",{"$f":"'T2-B(PP5)'!$J$247","v":0},"#'T2-B(PP5)'!$J$247"]
["pp5_bl6_1_1_total_in",{"$f":"'T2-B(PP5)'!$F$247","v":0},"#'T2-B(PP5)'!$F$247"]
["pp5_bl6_1_1_total_out",{"$f":"'T2-B(PP5)'!$I$247","v":0},"#'T2-B(PP5)'!$I$247"]
["pp5_bl6_1_1_unit",{"$f":"'T2-B(PP5)'!$C$247","v":0},"#'T2-B(PP5)'!$C$247"]
["pp5_bl6_1_1_unit_in",{"$f":"'T2-B(PP5)'!$D$247","v":0},"#'T2-B(PP5)'!$D$247"]
["pp5_bl6_1_1_units_out",{"$f":"'T2-B(PP5)'!$G$247","v":0},"#'T2-B(PP5)'!$G$247"]
["pp5_bl6_1_10_name",{"$f":"'T2-B(PP5)'!$B$256","v":0},"#'T2-B(PP5)'!$B$256"]
["pp5_bl6_1_10_rate_in",{"$f":"'T2-B(PP5)'!$E$256","v":0},"#'T2-B(PP5)'!$E$256"]
["pp5_bl6_1_10_rate_out",{"$f":"'T2-B(PP5)'!$H$256","v":0},"#'T2-B(PP5)'!$H$256"]
["pp5_bl6_1_10_total",{"$f":"'T2-B(PP5)'!$J$256","v":0},"#'T2-B(PP5)'!$J$256"]
["pp5_bl6_1_10_total_in",{"$f":"'T2-B(PP5)'!$F$256","v":0},"#'T2-B(PP5)'!$F$256"]
["pp5_bl6_1_10_total_out",{"$f":"'T2-B(PP5)'!$I$256","v":0},"#'T2-B(PP5)'!$I$256"]
["pp5_bl6_1_10_unit",{"$f":"'T2-B(PP5)'!$C$256","v":0},"#'T2-B(PP5)'!$C$256"]
["pp5_bl6_1_10_unit_in",{"$f":"'T2-B(PP5)'!$D$256","v":0},"#'T2-B(PP5)'!$D$256"]
["pp5_bl6_1_10_units_out",{"$f":"'T2-B(PP5)'!$G$256","v":0},"#'T2-B(PP5)'!$G$256"]
["pp5_bl6_1_2_name",{"$f":"'T2-B(PP5)'!$B$248","v":0},"#'T2-B(PP5)'!$B$248"]
["pp5_bl6_1_2_rate_in",{"$f":"'T2-B(PP5)'!$E$248","v":0},"#'T2-B(PP5)'!$E$248"]
["pp5_bl6_1_2_rate_out",{"$f":"'T2-B(PP5)'!$H$248","v":0},"#'T2-B(PP5)'!$H$248"]
["pp5_bl6_1_2_total",{"$f":"'T2-B(PP5)'!$J$248","v":0},"#'T2-B(PP5)'!$J$248"]
["pp5_bl6_1_2_total_in",{"$f":"'T2-B(PP5)'!$F$248","v":0},"#'T2-B(PP5)'!$F$248"]
["pp5_bl6_1_2_total_out",{"$f":"'T2-B(PP5)'!$I$248","v":0},"#'T2-B(PP5)'!$I$248"]
["pp5_bl6_1_2_unit",{"$f":"'T2-B(PP5)'!$C$248","v":0},"#'T2-B(PP5)'!$C$248"]
["pp5_bl6_1_2_unit_in",{"$f":"'T2-B(PP5)'!$D$248","v":0},"#'T2-B(PP5)'!$D$248"]
["pp5_bl6_1_2_units_out",{"$f":"'T2-B(PP5)'!$G$248","v":0},"#'T2-B(PP5)'!$G$248"]
["pp5_bl6_1_3_name",{"$f":"'T2-B(PP5)'!$B$249","v":0},"#'T2-B(PP5)'!$B$249"]
["pp5_bl6_1_3_rate_in",{"$f":"'T2-B(PP5)'!$E$249","v":0},"#'T2-B(PP5)'!$E$249"]
["pp5_bl6_1_3_rate_out",{"$f":"'T2-B(PP5)'!$H$249","v":0},"#'T2-B(PP5)'!$H$249"]
["pp5_bl6_1_3_total",{"$f":"'T2-B(PP5)'!$J$249","v":0},"#'T2-B(PP5)'!$J$249"]
["pp5_bl6_1_3_total_in",{"$f":"'T2-B(PP5)'!$F$249","v":0},"#'T2-B(PP5)'!$F$249"]
["pp5_bl6_1_3_total_out",{"$f":"'T2-B(PP5)'!$I$249","v":0},"#'T2-B(PP5)'!$I$249"]
["pp5_bl6_1_3_unit",{"$f":"'T2-B(PP5)'!$C$249","v":0},"#'T2-B(PP5)'!$C$249"]
["pp5_bl6_1_3_unit_in",{"$f":"'T2-B(PP5)'!$D$249","v":0},"#'T2-B(PP5)'!$D$249"]
["pp5_bl6_1_3_units_out",{"$f":"'T2-B(PP5)'!$G$249","v":0},"#'T2-B(PP5)'!$G$249"]
["pp5_bl6_1_4_name",{"$f":"'T2-B(PP5)'!$B$250","v":0},"#'T2-B(PP5)'!$B$250"]
["pp5_bl6_1_4_rate_in",{"$f":"'T2-B(PP5)'!$E$250","v":0},"#'T2-B(PP5)'!$E$250"]
["pp5_bl6_1_4_rate_out",{"$f":"'T2-B(PP5)'!$H$250","v":0},"#'T2-B(PP5)'!$H$250"]
["pp5_bl6_1_4_total",{"$f":"'T2-B(PP5)'!$J$250","v":0},"#'T2-B(PP5)'!$J$250"]
["pp5_bl6_1_4_total_in",{"$f":"'T2-B(PP5)'!$F$250","v":0},"#'T2-B(PP5)'!$F$250"]
["pp5_bl6_1_4_total_out",{"$f":"'T2-B(PP5)'!$I$250","v":0},"#'T2-B(PP5)'!$I$250"]
["pp5_bl6_1_4_unit",{"$f":"'T2-B(PP5)'!$C$250","v":0},"#'T2-B(PP5)'!$C$250"]
["pp5_bl6_1_4_unit_in",{"$f":"'T2-B(PP5)'!$D$250","v":0},"#'T2-B(PP5)'!$D$250"]
["pp5_bl6_1_4_units_out",{"$f":"'T2-B(PP5)'!$G$250","v":0},"#'T2-B(PP5)'!$G$250"]
["pp5_bl6_1_5_name",{"$f":"'T2-B(PP5)'!$B$251","v":0},"#'T2-B(PP5)'!$B$251"]
["pp5_bl6_1_5_rate_in",{"$f":"'T2-B(PP5)'!$E$251","v":0},"#'T2-B(PP5)'!$E$251"]
["pp5_bl6_1_5_rate_out",{"$f":"'T2-B(PP5)'!$H$251","v":0},"#'T2-B(PP5)'!$H$251"]
["pp5_bl6_1_5_total",{"$f":"'T2-B(PP5)'!$J$251","v":0},"#'T2-B(PP5)'!$J$251"]
["pp5_bl6_1_5_total_in",{"$f":"'T2-B(PP5)'!$F$251","v":0},"#'T2-B(PP5)'!$F$251"]
["pp5_bl6_1_5_total_out",{"$f":"'T2-B(PP5)'!$I$251","v":0},"#'T2-B(PP5)'!$I$251"]
["pp5_bl6_1_5_unit",{"$f":"'T2-B(PP5)'!$C$251","v":0},"#'T2-B(PP5)'!$C$251"]
["pp5_bl6_1_5_unit_in",{"$f":"'T2-B(PP5)'!$D$251","v":0},"#'T2-B(PP5)'!$D$251"]
["pp5_bl6_1_5_units_out",{"$f":"'T2-B(PP5)'!$G$251","v":0},"#'T2-B(PP5)'!$G$251"]
["pp5_bl6_1_6_name",{"$f":"'T2-B(PP5)'!$B$252","v":0},"#'T2-B(PP5)'!$B$252"]
["pp5_bl6_1_6_rate_in",{"$f":"'T2-B(PP5)'!$E$252","v":0},"#'T2-B(PP5)'!$E$252"]
["pp5_bl6_1_6_rate_out",{"$f":"'T2-B(PP5)'!$H$252","v":0},"#'T2-B(PP5)'!$H$252"]
["pp5_bl6_1_6_total",{"$f":"'T2-B(PP5)'!$J$252","v":0},"#'T2-B(PP5)'!$J$252"]
["pp5_bl6_1_6_total_in",{"$f":"'T2-B(PP5)'!$F$252","v":0},"#'T2-B(PP5)'!$F$252"]
["pp5_bl6_1_6_total_out",{"$f":"'T2-B(PP5)'!$I$252","v":0},"#'T2-B(PP5)'!$I$252"]
["pp5_bl6_1_6_unit",{"$f":"'T2-B(PP5)'!$C$252","v":0},"#'T2-B(PP5)'!$C$252"]
["pp5_bl6_1_6_unit_in",{"$f":"'T2-B(PP5)'!$D$252","v":0},"#'T2-B(PP5)'!$D$252"]
["pp5_bl6_1_6_units_out",{"$f":"'T2-B(PP5)'!$G$252","v":0},"#'T2-B(PP5)'!$G$252"]
["pp5_bl6_1_7_name",{"$f":"'T2-B(PP5)'!$B$253","v":0},"#'T2-B(PP5)'!$B$253"]
["pp5_bl6_1_7_rate_in",{"$f":"'T2-B(PP5)'!$E$253","v":0},"#'T2-B(PP5)'!$E$253"]
["pp5_bl6_1_7_rate_out",{"$f":"'T2-B(PP5)'!$H$253","v":0},"#'T2-B(PP5)'!$H$253"]
["pp5_bl6_1_7_total",{"$f":"'T2-B(PP5)'!$J$253","v":0},"#'T2-B(PP5)'!$J$253"]
["pp5_bl6_1_7_total_in",{"$f":"'T2-B(PP5)'!$F$253","v":0},"#'T2-B(PP5)'!$F$253"]
["pp5_bl6_1_7_total_out",{"$f":"'T2-B(PP5)'!$I$253","v":0},"#'T2-B(PP5)'!$I$253"]
["pp5_bl6_1_7_unit",{"$f":"'T2-B(PP5)'!$C$253","v":0},"#'T2-B(PP5)'!$C$253"]
["pp5_bl6_1_7_unit_in",{"$f":"'T2-B(PP5)'!$D$253","v":0},"#'T2-B(PP5)'!$D$253"]
["pp5_bl6_1_7_units_out",{"$f":"'T2-B(PP5)'!$G$253","v":0},"#'T2-B(PP5)'!$G$253"]
["pp5_bl6_1_8_name",{"$f":"'T2-B(PP5)'!$B$254","v":0},"#'T2-B(PP5)'!$B$254"]
["pp5_bl6_1_8_rate_in",{"$f":"'T2-B(PP5)'!$E$254","v":0},"#'T2-B(PP5)'!$E$254"]
["pp5_bl6_1_8_rate_out",{"$f":"'T2-B(PP5)'!$H$254","v":0},"#'T2-B(PP5)'!$H$254"]
["pp5_bl6_1_8_total",{"$f":"'T2-B(PP5)'!$J$254","v":0},"#'T2-B(PP5)'!$J$254"]
["pp5_bl6_1_8_total_in",{"$f":"'T2-B(PP5)'!$F$254","v":0},"#'T2-B(PP5)'!$F$254"]
["pp5_bl6_1_8_total_out",{"$f":"'T2-B(PP5)'!$I$254","v":0},"#'T2-B(PP5)'!$I$254"]
["pp5_bl6_1_8_unit",{"$f":"'T2-B(PP5)'!$C$254","v":0},"#'T2-B(PP5)'!$C$254"]
["pp5_bl6_1_8_unit_in",{"$f":"'T2-B(PP5)'!$D$254","v":0},"#'T2-B(PP5)'!$D$254"]
["pp5_bl6_1_8_units_out",{"$f":"'T2-B(PP5)'!$G$254","v":0},"#'T2-B(PP5)'!$G$254"]
["pp5_bl6_1_9_name",{"$f":"'T2-B(PP5)'!$B$255","v":0},"#'T2-B(PP5)'!$B$255"]
["pp5_bl6_1_9_rate_in",{"$f":"'T2-B(PP5)'!$E$255","v":0},"#'T2-B(PP5)'!$E$255"]
["pp5_bl6_1_9_rate_out",{"$f":"'T2-B(PP5)'!$H$255","v":0},"#'T2-B(PP5)'!$H$255"]
["pp5_bl6_1_9_total",{"$f":"'T2-B(PP5)'!$J$255","v":0},"#'T2-B(PP5)'!$J$255"]
["pp5_bl6_1_9_total_in",{"$f":"'T2-B(PP5)'!$F$255","v":0},"#'T2-B(PP5)'!$F$255"]
["pp5_bl6_1_9_total_out",{"$f":"'T2-B(PP5)'!$I$255","v":0},"#'T2-B(PP5)'!$I$255"]
["pp5_bl6_1_9_unit",{"$f":"'T2-B(PP5)'!$C$255","v":0},"#'T2-B(PP5)'!$C$255"]
["pp5_bl6_1_9_unit_in",{"$f":"'T2-B(PP5)'!$D$255","v":0},"#'T2-B(PP5)'!$D$255"]
["pp5_bl6_1_9_units_out",{"$f":"'T2-B(PP5)'!$G$255","v":0},"#'T2-B(PP5)'!$G$255"]
["pp5_bl6_1_total",{"$f":"'T2-B(PP5)'!$J$246","v":0},"#'T2-B(PP5)'!$J$246"]
["pp5_bl6_1_total_in",{"$f":"'T2-B(PP5)'!$F$246","v":"TOTAL"},"#'T2-B(PP5)'!$F$246"]
["pp5_bl6_1_total_out",{"$f":"'T2-B(PP5)'!$I$246","v":"TOTAL"},"#'T2-B(PP5)'!$I$246"]
["pp5_bl6_total",{"$f":"'T2-B(PP5)'!$J$257","v":0},"#'T2-B(PP5)'!$J$257"]
["pp5_bl6_total_in",{"$f":"'T2-B(PP5)'!$F$257","v":0},"#'T2-B(PP5)'!$F$257"]
["pp5_bl6_total_out",{"$f":"'T2-B(PP5)'!$I$257","v":0},"#'T2-B(PP5)'!$I$257"]
["pp5_country",{"$f":"'PP5'!$K$14","v":1},"#'PP5'!$K$14"]
["pp5_fax",{"$f":"'PP5'!$C$29","v":0},"#'PP5'!$C$29"]
["pp5_is_bg",{"$f":"'PP5'!$D$13","v":0},"#'PP5'!$D$13"]
["pp5_is_pc",{"$f":"'PP5'!$F$13","v":0},"#'PP5'!$F$13"]
["pp5_legal_representative",{"$f":"'PP5'!$C$23","v":0},"#'PP5'!$C$23"]
["pp5_legal_representative_position",{"$f":"'PP5'!$C$25","v":0},"#'PP5'!$C$25"]
["pp5_mail",{"$f":"'PP5'!$C$31","v":0},"#'PP5'!$C$31"]
["pp5_nat_code",{"$f":"'PP5'!$C$70","v":0},"#'PP5'!$C$70"]
["pp5_nuts3",{"$f":"'PP5'!$C$15","v":0},"#'PP5'!$C$15"]
["pp5_organisation_en",{"$f":"'PP5'!$C$7","v":0},"#'PP5'!$C$7"]
["pp5_organisation_native",{"$f":"'PP5'!$C$9","v":0},"#'PP5'!$C$9"]
["pp5_pe_date1",{"$f":"'PP5'!$G$47","v":0},"#'PP5'!$G$47"]
["pp5_pe_date2",{"$f":"'PP5'!$G$55","v":0},"#'PP5'!$G$55"]
["pp5_pe_date3",{"$f":"'PP5'!$G$63","v":0},"#'PP5'!$G$63"]
["pp5_pe_ga1",{"$f":"'PP5'!$G$46","v":0},"#'PP5'!$G$46"]
["pp5_pe_ga2",{"$f":"'PP5'!$G$54","v":0},"#'PP5'!$G$54"]
["pp5_pe_ga3",{"$f":"'PP5'!$G$62","v":0},"#'PP5'!$G$62"]
["pp5_pe_ip1",{"$f":"'PP5'!$C$43","v":0},"#'PP5'!$C$43"]
["pp5_pe_ip2",{"$f":"'PP5'!$C$51","v":0},"#'PP5'!$C$51"]
["pp5_pe_ip3",{"$f":"'PP5'!$C$59","v":0},"#'PP5'!$C$59"]
["pp5_pe_or1",{"$f":"'PP5'!$C$47","v":0},"#'PP5'!$C$47"]
["pp5_pe_or2",{"$f":"'PP5'!$C$55","v":0},"#'PP5'!$C$55"]
["pp5_pe_or3",{"$f":"'PP5'!$C$63","v":0},"#'PP5'!$C$63"]
["pp5_pe_pt1",{"$f":"'PP5'!$C$44","v":0},"#'PP5'!$C$44"]
["pp5_pe_pt2",{"$f":"'PP5'!$C$52","v":0},"#'PP5'!$C$52"]
["pp5_pe_pt3",{"$f":"'PP5'!$C$60","v":0},"#'PP5'!$C$60"]
["pp5_pe_sd1",{"$f":"'PP5'!$C$45","v":0},"#'PP5'!$C$45"]
["pp5_pe_sd2",{"$f":"'PP5'!$C$53","v":0},"#'PP5'!$C$53"]
["pp5_pe_sd3",{"$f":"'PP5'!$C$61","v":0},"#'PP5'!$C$61"]
["pp5_pe_tev1",{"$f":"'PP5'!$C$46","v":0},"#'PP5'!$C$46"]
["pp5_pe_tev2",{"$f":"'PP5'!$C$54","v":0},"#'PP5'!$C$54"]
["pp5_pe_tev3",{"$f":"'PP5'!$C$62","v":0},"#'PP5'!$C$62"]
["pp5_phone",{"$f":"'PP5'!$C$27","v":0},"#'PP5'!$C$27"]
["pp5_post_code",{"$f":"'PP5'!$C$21","v":0},"#'PP5'!$C$21"]
["pp5_profile",{"$f":"'PP5'!$B$38","v":0},"#'PP5'!$B$38"]
["pp5_town",{"$f":"'PP5'!$C$17","v":0},"#'PP5'!$C$17"]
["pp5_type_org",{"$f":"'PP5'!$C$11","v":0},"#'PP5'!$C$11"]
["pp5_vat_code",{"$f":"'PP5'!$C$72","v":0},"#'PP5'!$C$72"]
["pp5_website",{"$f":"'PP5'!$C$33","v":0},"#'PP5'!$C$33"]
["priority_axis",{"$f":"Cover!$C$33","v":0},"#Cover!$C$33"]
["project_activities_out",{"$f":"'Project identification'!$B$290","v":0},"#'Project identification'!$B$290"]
["project_title",{"$f":"Cover!$C$31","v":0},"#Cover!$C$31"]
["project_type",{"$f":"Cover!$C$37","v":0},"#Cover!$C$37"]
["PP2'!Region1",{"$f":"'PP2'!$L$15:$L$18","v":{"$error":"#VALUE!"}},"#'PP2'!$L$15:$L$18"]
["PP3'!Region1",{"$f":"'PP3'!$L$15:$L$18","v":{"$error":"#VALUE!"}},"#'PP3'!$L$15:$L$18"]
["PP4'!Region1",{"$f":"'PP4'!$L$15:$L$18","v":{"$error":"#VALUE!"}},"#'PP4'!$L$15:$L$18"]
["PP5'!Region1",{"$f":"'PP5'!$L$15:$L$18","v":{"$error":"#VALUE!"}},"#'PP5'!$L$15:$L$18"]
["Region1",{"$f":"'PP1(LP)'!$L$15:$L$18","v":{"$error":"#VALUE!"}},"#'PP1(LP)'!$L$15:$L$18"]
["PP2'!Region2",{"$f":"'PP2'!$M$15:$M$17","v":{"$error":"#VALUE!"}},"#'PP2'!$M$15:$M$17"]
["PP3'!Region2",{"$f":"'PP3'!$M$15:$M$17","v":{"$error":"#VALUE!"}},"#'PP3'!$M$15:$M$17"]
["PP4'!Region2",{"$f":"'PP4'!$M$15:$M$17","v":{"$error":"#VALUE!"}},"#'PP4'!$M$15:$M$17"]
["PP5'!Region2",{"$f":"'PP5'!$M$15:$M$17","v":{"$error":"#VALUE!"}},"#'PP5'!$M$15:$M$17"]
["Region2",{"$f":"'PP1(LP)'!$M$15:$M$17","v":{"$error":"#VALUE!"}},"#'PP1(LP)'!$M$15:$M$17"]
["select_partner",{"$f":"Checklist!$K$22:$K$23","v":{"$error":"#VALUE!"}},"#Checklist!$K$22:$K$23"]
["smr_duration_bg",{"$f":"Summary!$B$26","v":0},"#Summary!$B$26"]
["smr_duration_en",{"$f":"Summary!$B$8","v":0},"#Summary!$B$8"]
["smr_duration_tr",{"$f":"Summary!$B$46","v":0},"#Summary!$B$46"]
["smr_lead_partner_bg",{"$f":"Summary!$B$22","v":0},"#Summary!$B$22"]
["smr_lead_partner_en",{"$f":"Summary!$B$4","v":0},"#Summary!$B$4"]
["smr_lead_partner_tr",{"$f":"Summary!$B$41","v":0},"#Summary!$B$41"]
["smr_partners_bg",{"$f":"Summary!$B$23","v":0},"#Summary!$B$23"]
["smr_partners_en",{"$f":"Summary!$B$5","v":0},"#Summary!$B$5"]
["smr_partners_tr",{"$f":"Summary!$B$43","v":0},"#Summary!$B$43"]
["smr_priority_axis_bg",{"$f":"Summary!$B$24","v":0},"#Summary!$B$24"]
["smr_priority_axis_en",{"$f":"Summary!$B$6","v":0},"#Summary!$B$6"]
["smr_priority_axis_tr",{"$f":"Summary!$B$44","v":0},"#Summary!$B$44"]
["smr_project_activities_bg",{"$f":"Summary!$B$31","v":0},"#Summary!$B$31"]
["smr_project_activities_en",{"$f":"Summary!$B$11","v":0},"#Summary!$B$11"]
["smr_project_activities_tr",{"$f":"Summary!$B$50","v":0},"#Summary!$B$50"]
["smr_project_objectives_bg",{"$f":"Summary!$B$30","v":0},"#Summary!$B$30"]
["smr_project_objectives_en",{"$f":"Summary!$B$10","v":0},"#Summary!$B$10"]
["smr_project_objectives_tr",{"$f":"Summary!$B$49","v":0},"#Summary!$B$49"]
["smr_project_Results_bg",{"$f":"Summary!$B$32","v":0},"#Summary!$B$32"]
["smr_project_Results_en",{"$f":"Summary!$B$13","v":0},"#Summary!$B$13"]
["smr_project_Results_tr",{"$f":"Summary!$B$52","v":0},"#Summary!$B$52"]
["smr_specific_objective_bg",{"$f":"Summary!$B$25","v":0},"#Summary!$B$25"]
["smr_specific_objective_en",{"$f":"Summary!$B$7","v":0},"#Summary!$B$7"]
["smr_specific_objective_tr",{"$f":"Summary!$B$45","v":0},"#Summary!$B$45"]
["smr_target_groups_bg",{"$f":"Summary!$B$34","v":0},"#Summary!$B$34"]
["smr_target_groups_en",{"$f":"Summary!$B$15","v":0},"#Summary!$B$15"]
["smr_target_groups_tr",{"$f":"Summary!$B$54","v":0},"#Summary!$B$54"]
["smr_title_bg",{"$f":"Summary!$B$21","v":0},"#Summary!$B$21"]
["smr_title_en",{"$f":"Summary!$B$3","v":0},"#Summary!$B$3"]
["smr_title_tr",{"$f":"Summary!$B$40","v":0},"#Summary!$B$40"]
["smr_total_budget_bg",{"$f":"Summary!$B$28","v":0},"#Summary!$B$28"]
["smr_total_budget_en",{"$f":"Summary!$B$9","v":0},"#Summary!$B$9"]
["smr_total_budget_tr",{"$f":"Summary!$B$48","v":0},"#Summary!$B$48"]
["specific_objective",{"$f":"Cover!$C$35","v":0},"#Cover!$C$35"]
["t2_Bl1",{"$f":"'Table 2-total'!$D$4","v":0},"#'Table 2-total'!$D$4"]
["t2_Bl1_perc",{"$f":"'Table 2-total'!$E$4","v":{"$error":"#DIV/0!"}},"#'Table 2-total'!$E$4"]
["t2_Bl2",{"$f":"'Table 2-total'!$D$7","v":0},"#'Table 2-total'!$D$7"]
["t2_Bl2_perc",{"$f":"'Table 2-total'!$E$7","v":{"$error":"#DIV/0!"}},"#'Table 2-total'!$E$7"]
["t2_Bl3",{"$f":"'Table 2-total'!$D$14","v":0},"#'Table 2-total'!$D$14"]
["t2_Bl3_1",{"$f":"'Table 2-total'!$D$10","v":0},"#'Table 2-total'!$D$10"]
["t2_Bl3_1_in_area",{"$f":"'Table 2-total'!$B$10","v":0},"#'Table 2-total'!$B$10"]
["t2_Bl3_1_out_area",{"$f":"'Table 2-total'!$C$10","v":0},"#'Table 2-total'!$C$10"]
["t2_Bl3_1_perc",{"$f":"'Table 2-total'!$E$10","v":{"$error":"#DIV/0!"}},"#'Table 2-total'!$E$10"]
["t2_Bl3_2",{"$f":"'Table 2-total'!$D$11","v":0},"#'Table 2-total'!$D$11"]
["t2_Bl3_2_in_area",{"$f":"'Table 2-total'!$B$11","v":0},"#'Table 2-total'!$B$11"]
["t2_Bl3_2_out_area",{"$f":"'Table 2-total'!$C$11","v":0},"#'Table 2-total'!$C$11"]
["t2_Bl3_2_perc",{"$f":"'Table 2-total'!$E$11","v":{"$error":"#DIV/0!"}},"#'Table 2-total'!$E$11"]
["t2_Bl3_3",{"$f":"'Table 2-total'!$D$12","v":0},"#'Table 2-total'!$D$12"]
["t2_Bl3_3_in_area",{"$f":"'Table 2-total'!$B$12","v":0},"#'Table 2-total'!$B$12"]
["t2_Bl3_3_out_area",{"$f":"'Table 2-total'!$C$12","v":0},"#'Table 2-total'!$C$12"]
["t2_Bl3_3_perc",{"$f":"'Table 2-total'!$E$12","v":{"$error":"#DIV/0!"}},"#'Table 2-total'!$E$12"]
["t2_Bl3_4",{"$f":"'Table 2-total'!$D$13","v":0},"#'Table 2-total'!$D$13"]
["t2_Bl3_4_in_area",{"$f":"'Table 2-total'!$B$13","v":0},"#'Table 2-total'!$B$13"]
["t2_Bl3_4_out_area",{"$f":"'Table 2-total'!$C$13","v":0},"#'Table 2-total'!$C$13"]
["t2_Bl3_4_perc",{"$f":"'Table 2-total'!$E$13","v":{"$error":"#DIV/0!"}},"#'Table 2-total'!$E$13"]
["t2_Bl3_in_area",{"$f":"'Table 2-total'!$B$14","v":0},"#'Table 2-total'!$B$14"]
["t2_Bl3_out_area",{"$f":"'Table 2-total'!$C$14","v":0},"#'Table 2-total'!$C$14"]
["t2_Bl3_perc",{"$f":"'Table 2-total'!$E$14","v":{"$error":"#DIV/0!"}},"#'Table 2-total'!$E$14"]
["t2_Bl4",{"$f":"'Table 2-total'!$D$31","v":0},"#'Table 2-total'!$D$31"]
["t2_Bl4_1",{"$f":"'Table 2-total'!$D$17","v":0},"#'Table 2-total'!$D$17"]
["t2_Bl4_1_in_area",{"$f":"'Table 2-total'!$B$17","v":0},"#'Table 2-total'!$B$17"]
["t2_Bl4_1_out_area",{"$f":"'Table 2-total'!$C$17","v":0},"#'Table 2-total'!$C$17"]
["t2_Bl4_1_perc",{"$f":"'Table 2-total'!$E$17","v":{"$error":"#DIV/0!"}},"#'Table 2-total'!$E$17"]
["t2_Bl4_10",{"$f":"'Table 2-total'!$D$26","v":0},"#'Table 2-total'!$D$26"]
["t2_Bl4_10_in_area",{"$f":"'Table 2-total'!$B$26","v":0},"#'Table 2-total'!$B$26"]
["t2_Bl4_10_out_area",{"$f":"'Table 2-total'!$C$26","v":0},"#'Table 2-total'!$C$26"]
["t2_Bl4_10_perc",{"$f":"'Table 2-total'!$E$26","v":{"$error":"#DIV/0!"}},"#'Table 2-total'!$E$26"]
["t2_Bl4_11",{"$f":"'Table 2-total'!$D$27","v":0},"#'Table 2-total'!$D$27"]
["t2_Bl4_11_in_area",{"$f":"'Table 2-total'!$B$27","v":0},"#'Table 2-total'!$B$27"]
["t2_Bl4_11_out_area",{"$f":"'Table 2-total'!$C$27","v":0},"#'Table 2-total'!$C$27"]
["t2_Bl4_11_perc",{"$f":"'Table 2-total'!$E$27","v":{"$error":"#DIV/0!"}},"#'Table 2-total'!$E$27"]
["t2_Bl4_12",{"$f":"'Table 2-total'!$D$28","v":0},"#'Table 2-total'!$D$28"]
["t2_Bl4_12_in_area",{"$f":"'Table 2-total'!$B$28","v":0},"#'Table 2-total'!$B$28"]
["t2_Bl4_12_out_area",{"$f":"'Table 2-total'!$C$28","v":0},"#'Table 2-total'!$C$28"]
["t2_Bl4_12_perc",{"$f":"'Table 2-total'!$E$28","v":{"$error":"#DIV/0!"}},"#'Table 2-total'!$E$28"]
["t2_Bl4_13",{"$f":"'Table 2-total'!$D$29","v":0},"#'Table 2-total'!$D$29"]
["t2_Bl4_13_in_area",{"$f":"'Table 2-total'!$B$29","v":0},"#'Table 2-total'!$B$29"]
["t2_Bl4_13_out_area",{"$f":"'Table 2-total'!$C$29","v":0},"#'Table 2-total'!$C$29"]
["t2_Bl4_13_perc",{"$f":"'Table 2-total'!$E$29","v":{"$error":"#DIV/0!"}},"#'Table 2-total'!$E$29"]
["t2_Bl4_14",{"$f":"'Table 2-total'!$D$30","v":0},"#'Table 2-total'!$D$30"]
["t2_Bl4_14_in_area",{"$f":"'Table 2-total'!$B$30","v":0},"#'Table 2-total'!$B$30"]
["t2_Bl4_14_out_area",{"$f":"'Table 2-total'!$C$30","v":0},"#'Table 2-total'!$C$30"]
["t2_Bl4_14_perc",{"$f":"'Table 2-total'!$E$30","v":{"$error":"#DIV/0!"}},"#'Table 2-total'!$E$30"]
["t2_Bl4_2",{"$f":"'Table 2-total'!$D$18","v":0},"#'Table 2-total'!$D$18"]
["t2_Bl4_2_in_area",{"$f":"'Table 2-total'!$B$18","v":0},"#'Table 2-total'!$B$18"]
["t2_Bl4_2_out_area",{"$f":"'Table 2-total'!$C$18","v":0},"#'Table 2-total'!$C$18"]
["t2_Bl4_2_perc",{"$f":"'Table 2-total'!$E$18","v":{"$error":"#DIV/0!"}},"#'Table 2-total'!$E$18"]
["t2_Bl4_3",{"$f":"'Table 2-total'!$D$19","v":0},"#'Table 2-total'!$D$19"]
["t2_Bl4_3_in_area",{"$f":"'Table 2-total'!$B$19","v":0},"#'Table 2-total'!$B$19"]
["t2_Bl4_3_out_area",{"$f":"'Table 2-total'!$C$19","v":0},"#'Table 2-total'!$C$19"]
["t2_Bl4_3_perc",{"$f":"'Table 2-total'!$E$19","v":{"$error":"#DIV/0!"}},"#'Table 2-total'!$E$19"]
["t2_Bl4_4",{"$f":"'Table 2-total'!$D$20","v":0},"#'Table 2-total'!$D$20"]
["t2_Bl4_4_in_area",{"$f":"'Table 2-total'!$B$20","v":0},"#'Table 2-total'!$B$20"]
["t2_Bl4_4_out_area",{"$f":"'Table 2-total'!$C$20","v":0},"#'Table 2-total'!$C$20"]
["t2_Bl4_4_perc",{"$f":"'Table 2-total'!$E$20","v":{"$error":"#DIV/0!"}},"#'Table 2-total'!$E$20"]
["t2_Bl4_5",{"$f":"'Table 2-total'!$D$21","v":0},"#'Table 2-total'!$D$21"]
["t2_Bl4_5_in_area",{"$f":"'Table 2-total'!$B$21","v":0},"#'Table 2-total'!$B$21"]
["t2_Bl4_5_out_area",{"$f":"'Table 2-total'!$C$21","v":0},"#'Table 2-total'!$C$21"]
["t2_Bl4_5_perc",{"$f":"'Table 2-total'!$E$21","v":{"$error":"#DIV/0!"}},"#'Table 2-total'!$E$21"]
["t2_Bl4_6",{"$f":"'Table 2-total'!$D$22","v":0},"#'Table 2-total'!$D$22"]
["t2_Bl4_6_in_area",{"$f":"'Table 2-total'!$B$22","v":0},"#'Table 2-total'!$B$22"]
["t2_Bl4_6_out_area",{"$f":"'Table 2-total'!$C$22","v":0},"#'Table 2-total'!$C$22"]
["t2_Bl4_6_perc",{"$f":"'Table 2-total'!$E$22","v":{"$error":"#DIV/0!"}},"#'Table 2-total'!$E$22"]
["t2_Bl4_7",{"$f":"'Table 2-total'!$D$23","v":0},"#'Table 2-total'!$D$23"]
["t2_Bl4_7_in_area",{"$f":"'Table 2-total'!$B$23","v":0},"#'Table 2-total'!$B$23"]
["t2_Bl4_7_out_area",{"$f":"'Table 2-total'!$C$23","v":0},"#'Table 2-total'!$C$23"]
["t2_Bl4_7_perc",{"$f":"'Table 2-total'!$E$23","v":{"$error":"#DIV/0!"}},"#'Table 2-total'!$E$23"]
["t2_Bl4_8",{"$f":"'Table 2-total'!$D$24","v":0},"#'Table 2-total'!$D$24"]
["t2_Bl4_8_in_area",{"$f":"'Table 2-total'!$B$24","v":0},"#'Table 2-total'!$B$24"]
["t2_Bl4_8_out_area",{"$f":"'Table 2-total'!$C$24","v":0},"#'Table 2-total'!$C$24"]
["t2_Bl4_8_perc",{"$f":"'Table 2-total'!$E$24","v":{"$error":"#DIV/0!"}},"#'Table 2-total'!$E$24"]
["t2_Bl4_9",{"$f":"'Table 2-total'!$D$25","v":0},"#'Table 2-total'!$D$25"]
["t2_Bl4_9_in_area",{"$f":"'Table 2-total'!$B$25","v":0},"#'Table 2-total'!$B$25"]
["t2_Bl4_9_out_area",{"$f":"'Table 2-total'!$C$25","v":0},"#'Table 2-total'!$C$25"]
["t2_Bl4_9_perc",{"$f":"'Table 2-total'!$E$25","v":{"$error":"#DIV/0!"}},"#'Table 2-total'!$E$25"]
["t2_Bl4_in_area",{"$f":"'Table 2-total'!$B$31","v":0},"#'Table 2-total'!$B$31"]
["t2_Bl4_out_area",{"$f":"'Table 2-total'!$C$31","v":0},"#'Table 2-total'!$C$31"]
["t2_Bl4_perc",{"$f":"'Table 2-total'!$E$31","v":{"$error":"#DIV/0!"}},"#'Table 2-total'!$E$31"]
["t2_Bl5",{"$f":"'Table 2-total'!$D$36","v":0},"#'Table 2-total'!$D$36"]
["t2_Bl5_1",{"$f":"'Table 2-total'!$D$34","v":0},"#'Table 2-total'!$D$34"]
["t2_Bl5_1_in_area",{"$f":"'Table 2-total'!$B$34","v":0},"#'Table 2-total'!$B$34"]
["t2_Bl5_1_out_area",{"$f":"'Table 2-total'!$C$34","v":0},"#'Table 2-total'!$C$34"]
["t2_Bl5_1_perc",{"$f":"'Table 2-total'!$E$34","v":{"$error":"#DIV/0!"}},"#'Table 2-total'!$E$34"]
["t2_Bl5_2",{"$f":"'Table 2-total'!$D$35","v":0},"#'Table 2-total'!$D$35"]
["t2_Bl5_2_in_area",{"$f":"'Table 2-total'!$B$35","v":0},"#'Table 2-total'!$B$35"]
["t2_Bl5_2_out_area",{"$f":"'Table 2-total'!$C$35","v":0},"#'Table 2-total'!$C$35"]
["t2_Bl5_2_perc",{"$f":"'Table 2-total'!$E$36","v":{"$error":"#DIV/0!"}},"#'Table 2-total'!$E$36"]
["t2_Bl5_in_area",{"$f":"'Table 2-total'!$B$36","v":0},"#'Table 2-total'!$B$36"]
["t2_Bl5_out_area",{"$f":"'Table 2-total'!$C$36","v":0},"#'Table 2-total'!$C$36"]
["t2_Bl5_perc",{"$f":"'Table 2-total'!$E$35","v":{"$error":"#DIV/0!"}},"#'Table 2-total'!$E$35"]
["t2_Bl6",{"$f":"'Table 2-total'!$D$39","v":0},"#'Table 2-total'!$D$39"]
["t2_Bl6_in_area",{"$f":"'Table 2-total'!$B$39","v":0},"#'Table 2-total'!$B$39"]
["t2_Bl6_out_area",{"$f":"'Table 2-total'!$C$39","v":0},"#'Table 2-total'!$C$39"]
["t2_Bl6_perc",{"$f":"'Table 2-total'!$E$39","v":{"$error":"#DIV/0!"}},"#'Table 2-total'!$E$39"]
["t2_own",{"$f":"'Table 2-total'!$D$41","v":0},"#'Table 2-total'!$D$41"]
["t2_own_in_area",{"$f":"'Table 2-total'!$B$41","v":0},"#'Table 2-total'!$B$41"]
["t2_own_perc",{"$f":"'Table 2-total'!$E$41","v":{"$error":"#DIV/0!"}},"#'Table 2-total'!$E$41"]
["t2_t2_own_out_area",{"$f":"'Table 2-total'!$C$41","v":0},"#'Table 2-total'!$C$41"]
["t2_total",{"$f":"'Table 2-total'!$D$45","v":0},"#'Table 2-total'!$D$45"]
["t2_total_direct",{"$f":"'Table 2-total'!$D$43","v":0},"#'Table 2-total'!$D$43"]
["t2_total_direct_in_area",{"$f":"'Table 2-total'!$B$43","v":0},"#'Table 2-total'!$B$43"]
["t2_total_direct_out_area",{"$f":"'Table 2-total'!$C$43","v":0},"#'Table 2-total'!$C$43"]
["t2_total_direct_perc",{"$f":"'Table 2-total'!$E$43","v":{"$error":"#DIV/0!"}},"#'Table 2-total'!$E$43"]
["t2_total_in_area",{"$f":"'Table 2-total'!$B$45","v":0},"#'Table 2-total'!$B$45"]
["t2_total_out_area",{"$f":"'Table 2-total'!$C$45","v":0},"#'Table 2-total'!$C$45"]
["t2_total_perc",{"$f":"'Table 2-total'!$E$45","v":0},"#'Table 2-total'!$E$45"]
["t3_BL1_in_area",{"$f":"'Table 3-summary'!$C$5","v":0},"#'Table 3-summary'!$C$5"]
["t3_BL1_tot",{"$f":"'Table 3-summary'!$E$5","v":0},"#'Table 3-summary'!$E$5"]
["t3_BL1_tot_perc",{"$f":"'Table 3-summary'!$F$5","v":{"$error":"#DIV/0!"}},"#'Table 3-summary'!$F$5"]
["t3_BL2_in_area",{"$f":"'Table 3-summary'!$C$6","v":0},"#'Table 3-summary'!$C$6"]
["t3_BL2_tot",{"$f":"'Table 3-summary'!$E$6","v":0},"#'Table 3-summary'!$E$6"]
["t3_BL2_tot_perc",{"$f":"'Table 3-summary'!$F$6","v":{"$error":"#DIV/0!"}},"#'Table 3-summary'!$F$6"]
["t3_BL3_in_area",{"$f":"'Table 3-summary'!$C$7","v":0},"#'Table 3-summary'!$C$7"]
["t3_BL3_out_area",{"$f":"'Table 3-summary'!$D$7","v":0},"#'Table 3-summary'!$D$7"]
["t3_BL3_tot",{"$f":"'Table 3-summary'!$E$7","v":0},"#'Table 3-summary'!$E$7"]
["t3_BL3_tot_perc",{"$f":"'Table 3-summary'!$F$7","v":{"$error":"#DIV/0!"}},"#'Table 3-summary'!$F$7"]
["t3_BL4_in_area",{"$f":"'Table 3-summary'!$C$8","v":0},"#'Table 3-summary'!$C$8"]
["t3_BL4_out_area",{"$f":"'Table 3-summary'!$D$8","v":0},"#'Table 3-summary'!$D$8"]
["t3_BL4_tot",{"$f":"'Table 3-summary'!$E$8","v":0},"#'Table 3-summary'!$E$8"]
["t3_BL4_tot_perc",{"$f":"'Table 3-summary'!$F$8","v":{"$error":"#DIV/0!"}},"#'Table 3-summary'!$F$8"]
["t3_BL5_in_area",{"$f":"'Table 3-summary'!$C$9","v":0},"#'Table 3-summary'!$C$9"]
["t3_BL5_tot",{"$f":"'Table 3-summary'!$E$9","v":0},"#'Table 3-summary'!$E$9"]
["t3_BL5_tot_perc",{"$f":"'Table 3-summary'!$F$9","v":{"$error":"#DIV/0!"}},"#'Table 3-summary'!$F$9"]
["t3_BL6_in_area",{"$f":"'Table 3-summary'!$C$10","v":0},"#'Table 3-summary'!$C$10"]
["t3_BL6_tot",{"$f":"'Table 3-summary'!$E$10","v":0},"#'Table 3-summary'!$E$10"]
["t3_BL6_tot_perc",{"$f":"'Table 3-summary'!$F$10","v":{"$error":"#DIV/0!"}},"#'Table 3-summary'!$F$10"]
["t3_own_in_area",{"$f":"'Table 3-summary'!$C$13","v":0},"#'Table 3-summary'!$C$13"]
["t3_own_out_area",{"$f":"'Table 3-summary'!$D$13","v":0},"#'Table 3-summary'!$D$13"]
["t3_own_tot",{"$f":"'Table 3-summary'!$E$13","v":0},"#'Table 3-summary'!$E$13"]
["t3_own_tot_perc",{"$f":"'Table 3-summary'!$F$13","v":0},"#'Table 3-summary'!$F$13"]
["t3_total_in_area",{"$f":"'Table 3-summary'!$C$11","v":0},"#'Table 3-summary'!$C$11"]
["t3_total_out_area",{"$f":"'Table 3-summary'!$D$11","v":0},"#'Table 3-summary'!$D$11"]
["t3_total_perc_in_area",{"$f":"'Table 3-summary'!$C$15","v":0},"#'Table 3-summary'!$C$15"]
["t3_total_perc_out_area",{"$f":"'Table 3-summary'!$D$15","v":0},"#'Table 3-summary'!$D$15"]
["t3_total_perc_tot",{"$f":"'Table 3-summary'!$E$15","v":0},"#'Table 3-summary'!$E$15"]
["t3_total_perc_tot_perc",{"$f":"'Table 3-summary'!$F$15","v":0},"#'Table 3-summary'!$F$15"]
["t3_total_tot",{"$f":"'Table 3-summary'!$E$11","v":0},"#'Table 3-summary'!$E$11"]
["t3_total_tot_perc",{"$f":"'Table 3-summary'!$F$11","v":0},"#'Table 3-summary'!$F$11"]
["t4_BL1",{"$f":"'Table 4 PP`BL'!$H$4","v":0},"#'Table 4 PP`BL'!$H$4"]
["t4_BL1_pp1",{"$f":"'Table 4 PP`BL'!$C$4","v":0},"#'Table 4 PP`BL'!$C$4"]
["t4_BL1_pp2",{"$f":"'Table 4 PP`BL'!$D$4","v":0},"#'Table 4 PP`BL'!$D$4"]
["t4_BL1_pp3",{"$f":"'Table 4 PP`BL'!$E$4","v":0},"#'Table 4 PP`BL'!$E$4"]
["t4_BL1_pp4",{"$f":"'Table 4 PP`BL'!$F$4","v":0},"#'Table 4 PP`BL'!$F$4"]
["t4_BL1_pp5",{"$f":"'Table 4 PP`BL'!$G$4","v":0},"#'Table 4 PP`BL'!$G$4"]
["t4_BL2",{"$f":"'Table 4 PP`BL'!$H$5","v":0},"#'Table 4 PP`BL'!$H$5"]
["t4_BL2_pp1",{"$f":"'Table 4 PP`BL'!$C$5","v":0},"#'Table 4 PP`BL'!$C$5"]
["t4_BL2_pp2",{"$f":"'Table 4 PP`BL'!$D$5","v":0},"#'Table 4 PP`BL'!$D$5"]
["t4_BL2_pp3",{"$f":"'Table 4 PP`BL'!$E$5","v":0},"#'Table 4 PP`BL'!$E$5"]
["t4_BL2_pp4",{"$f":"'Table 4 PP`BL'!$F$5","v":0},"#'Table 4 PP`BL'!$F$5"]
["t4_BL2_pp5",{"$f":"'Table 4 PP`BL'!$G$5","v":0},"#'Table 4 PP`BL'!$G$5"]
["t4_BL3",{"$f":"'Table 4 PP`BL'!$H$6","v":0},"#'Table 4 PP`BL'!$H$6"]
["t4_BL3_pp1",{"$f":"'Table 4 PP`BL'!$C$6","v":0},"#'Table 4 PP`BL'!$C$6"]
["t4_BL3_pp2",{"$f":"'Table 4 PP`BL'!$D$6","v":0},"#'Table 4 PP`BL'!$D$6"]
["t4_BL3_pp3",{"$f":"'Table 4 PP`BL'!$E$6","v":0},"#'Table 4 PP`BL'!$E$6"]
["t4_BL3_pp4",{"$f":"'Table 4 PP`BL'!$F$6","v":0},"#'Table 4 PP`BL'!$F$6"]
["t4_BL3_pp5",{"$f":"'Table 4 PP`BL'!$G$6","v":0},"#'Table 4 PP`BL'!$G$6"]
["t4_BL4",{"$f":"'Table 4 PP`BL'!$H$7","v":0},"#'Table 4 PP`BL'!$H$7"]
["t4_BL4_pp1",{"$f":"'Table 4 PP`BL'!$C$7","v":0},"#'Table 4 PP`BL'!$C$7"]
["t4_BL4_pp2",{"$f":"'Table 4 PP`BL'!$D$7","v":0},"#'Table 4 PP`BL'!$D$7"]
["t4_BL4_pp3",{"$f":"'Table 4 PP`BL'!$E$7","v":0},"#'Table 4 PP`BL'!$E$7"]
["t4_BL4_pp4",{"$f":"'Table 4 PP`BL'!$F$7","v":0},"#'Table 4 PP`BL'!$F$7"]
["t4_BL4_pp5",{"$f":"'Table 4 PP`BL'!$G$7","v":0},"#'Table 4 PP`BL'!$G$7"]
["t4_BL5",{"$f":"'Table 4 PP`BL'!$H$8","v":0},"#'Table 4 PP`BL'!$H$8"]
["t4_BL5_pp1",{"$f":"'Table 4 PP`BL'!$C$8","v":0},"#'Table 4 PP`BL'!$C$8"]
["t4_BL5_pp2",{"$f":"'Table 4 PP`BL'!$D$8","v":0},"#'Table 4 PP`BL'!$D$8"]
["t4_BL5_pp3",{"$f":"'Table 4 PP`BL'!$E$8","v":0},"#'Table 4 PP`BL'!$E$8"]
["t4_BL5_pp4",{"$f":"'Table 4 PP`BL'!$F$8","v":0},"#'Table 4 PP`BL'!$F$8"]
["t4_BL5_pp5",{"$f":"'Table 4 PP`BL'!$G$8","v":0},"#'Table 4 PP`BL'!$G$8"]
["t4_BL6",{"$f":"'Table 4 PP`BL'!$H$9","v":0},"#'Table 4 PP`BL'!$H$9"]
["t4_BL6_pp1",{"$f":"'Table 4 PP`BL'!$C$9","v":0},"#'Table 4 PP`BL'!$C$9"]
["t4_BL6_pp2",{"$f":"'Table 4 PP`BL'!$D$9","v":0},"#'Table 4 PP`BL'!$D$9"]
["t4_BL6_pp3",{"$f":"'Table 4 PP`BL'!$E$9","v":0},"#'Table 4 PP`BL'!$E$9"]
["t4_BL6_pp4",{"$f":"'Table 4 PP`BL'!$F$9","v":0},"#'Table 4 PP`BL'!$F$9"]
["t4_BL6_pp5",{"$f":"'Table 4 PP`BL'!$G$9","v":0},"#'Table 4 PP`BL'!$G$9"]
["t4_own",{"$f":"'Table 4 PP`BL'!$H$10","v":0},"#'Table 4 PP`BL'!$H$10"]
["t4_own_pp1",{"$f":"'Table 4 PP`BL'!$C$10","v":0},"#'Table 4 PP`BL'!$C$10"]
["t4_own_pp2",{"$f":"'Table 4 PP`BL'!$D$10","v":0},"#'Table 4 PP`BL'!$D$10"]
["t4_own_pp3",{"$f":"'Table 4 PP`BL'!$E$10","v":0},"#'Table 4 PP`BL'!$E$10"]
["t4_own_pp4",{"$f":"'Table 4 PP`BL'!$F$10","v":0},"#'Table 4 PP`BL'!$F$10"]
["t4_own_pp5",{"$f":"'Table 4 PP`BL'!$G$10","v":0},"#'Table 4 PP`BL'!$G$10"]
["t4_total",{"$f":"'Table 4 PP`BL'!$H$11","v":0},"#'Table 4 PP`BL'!$H$11"]
["t4_total_perc",{"$f":"'Table 4 PP`BL'!$H$12","v":0},"#'Table 4 PP`BL'!$H$12"]
["t4_total_perc_pp1",{"$f":"'Table 4 PP`BL'!$C$12","v":{"$error":"#DIV/0!"}},"#'Table 4 PP`BL'!$C$12"]
["t4_total_perc_pp2",{"$f":"'Table 4 PP`BL'!$D$12","v":{"$error":"#DIV/0!"}},"#'Table 4 PP`BL'!$D$12"]
["t4_total_perc_pp3",{"$f":"'Table 4 PP`BL'!$E$12","v":{"$error":"#DIV/0!"}},"#'Table 4 PP`BL'!$E$12"]
["t4_total_perc_pp4",{"$f":"'Table 4 PP`BL'!$F$12","v":{"$error":"#DIV/0!"}},"#'Table 4 PP`BL'!$F$12"]
["t4_total_perc_pp5",{"$f":"'Table 4 PP`BL'!$G$12","v":{"$error":"#DIV/0!"}},"#'Table 4 PP`BL'!$G$12"]
["t4_total_pp1",{"$f":"'Table 4 PP`BL'!$C$11","v":0},"#'Table 4 PP`BL'!$C$11"]
["t4_total_pp2",{"$f":"'Table 4 PP`BL'!$D$11","v":0},"#'Table 4 PP`BL'!$D$11"]
["t4_total_pp3",{"$f":"'Table 4 PP`BL'!$E$11","v":0},"#'Table 4 PP`BL'!$E$11"]
["t4_total_pp4",{"$f":"'Table 4 PP`BL'!$F$11","v":0},"#'Table 4 PP`BL'!$F$11"]
["t4_total_pp5",{"$f":"'Table 4 PP`BL'!$G$11","v":0},"#'Table 4 PP`BL'!$G$11"]
["t5_eu_rate",{"$f":"'Table 5-Sources'!$G$9","v":{"$error":"#DIV/0!"}},"#'Table 5-Sources'!$G$9"]
["t5_eu_rate_pp1",{"$f":"'Table 5-Sources'!$B$9","v":{"$error":"#DIV/0!"}},"#'Table 5-Sources'!$B$9"]
["t5_eu_rate_pp2",{"$f":"'Table 5-Sources'!$C$9","v":{"$error":"#DIV/0!"}},"#'Table 5-Sources'!$C$9"]
["t5_eu_rate_pp3",{"$f":"'Table 5-Sources'!$D$9","v":{"$error":"#DIV/0!"}},"#'Table 5-Sources'!$D$9"]
["t5_eu_rate_pp4",{"$f":"'Table 5-Sources'!$E$9","v":{"$error":"#DIV/0!"}},"#'Table 5-Sources'!$E$9"]
["t5_eu_rate_pp5",{"$f":"'Table 5-Sources'!$F$9","v":{"$error":"#DIV/0!"}},"#'Table 5-Sources'!$F$9"]
["t5_eu_subsidy",{"$f":"'Table 5-Sources'!$G$10","v":0},"#'Table 5-Sources'!$G$10"]
["t5_eu_subsidy_pp1",{"$f":"'Table 5-Sources'!$B$10","v":0},"#'Table 5-Sources'!$B$10"]
["t5_eu_subsidy_pp2",{"$f":"'Table 5-Sources'!$C$10","v":0},"#'Table 5-Sources'!$C$10"]
["t5_eu_subsidy_pp3",{"$f":"'Table 5-Sources'!$D$10","v":0},"#'Table 5-Sources'!$D$10"]
["t5_eu_subsidy_pp4",{"$f":"'Table 5-Sources'!$E$10","v":0},"#'Table 5-Sources'!$E$10"]
["t5_eu_subsidy_pp5",{"$f":"'Table 5-Sources'!$F$10","v":0},"#'Table 5-Sources'!$F$10"]
["t5_national",{"$f":"'Table 5-Sources'!$G$6","v":0},"#'Table 5-Sources'!$G$6"]
["t5_national_pp1",{"$f":"'Table 5-Sources'!$B$6","v":0},"#'Table 5-Sources'!$B$6"]
["t5_national_pp2",{"$f":"'Table 5-Sources'!$C$6","v":0},"#'Table 5-Sources'!$C$6"]
["t5_national_pp3",{"$f":"'Table 5-Sources'!$D$6","v":0},"#'Table 5-Sources'!$D$6"]
["t5_national_pp4",{"$f":"'Table 5-Sources'!$E$6","v":0},"#'Table 5-Sources'!$E$6"]
["t5_national_pp5",{"$f":"'Table 5-Sources'!$F$6","v":0},"#'Table 5-Sources'!$F$6"]
["t5_own",{"$f":"'Table 5-Sources'!$G$8","v":0},"#'Table 5-Sources'!$G$8"]
["t5_own_pp1",{"$f":"'Table 5-Sources'!$B$8","v":0},"#'Table 5-Sources'!$B$8"]
["t5_own_pp2",{"$f":"'Table 5-Sources'!$C$8","v":0},"#'Table 5-Sources'!$C$8"]
["t5_own_pp3",{"$f":"'Table 5-Sources'!$D$8","v":0},"#'Table 5-Sources'!$D$8"]
["t5_own_pp4",{"$f":"'Table 5-Sources'!$E$8","v":0},"#'Table 5-Sources'!$E$8"]
["t5_own_pp5",{"$f":"'Table 5-Sources'!$F$8","v":0},"#'Table 5-Sources'!$F$8"]
["t5_state",{"$f":"'Table 5-Sources'!$G$7","v":0},"#'Table 5-Sources'!$G$7"]
["t5_state_pp1",{"$f":"'Table 5-Sources'!$B$7","v":0},"#'Table 5-Sources'!$B$7"]
["t5_state_pp2",{"$f":"'Table 5-Sources'!$C$7","v":0},"#'Table 5-Sources'!$C$7"]
["t5_state_pp3",{"$f":"'Table 5-Sources'!$D$7","v":0},"#'Table 5-Sources'!$D$7"]
["t5_state_pp4",{"$f":"'Table 5-Sources'!$E$7","v":0},"#'Table 5-Sources'!$E$7"]
["t5_state_pp5",{"$f":"'Table 5-Sources'!$F$7","v":0},"#'Table 5-Sources'!$F$7"]
["t5_total",{"$f":"'Table 5-Sources'!$G$5","v":0},"#'Table 5-Sources'!$G$5"]
["t5_total_pp1",{"$f":"'Table 5-Sources'!$B$5","v":0},"#'Table 5-Sources'!$B$5"]
["t5_total_pp2",{"$f":"'Table 5-Sources'!$C$5","v":0},"#'Table 5-Sources'!$C$5"]
["t5_total_pp3",{"$f":"'Table 5-Sources'!$D$5","v":0},"#'Table 5-Sources'!$D$5"]
["t5_total_pp4",{"$f":"'Table 5-Sources'!$E$5","v":0},"#'Table 5-Sources'!$E$5"]
["t5_total_pp5",{"$f":"'Table 5-Sources'!$F$5","v":0},"#'Table 5-Sources'!$F$5"]
["Cover!Tourism",{"$f":"Cover!$P$33:$P$35","v":{"$error":"#VALUE!"}},"#Cover!$P$33:$P$35"]
["Tourism",{"$f":"'Project identification'!$P$11:$P$13","v":{"$error":"#VALUE!"}},"#'Project identification'!$P$11:$P$13"]
["Cover!Tourism1",{"$f":"Cover!$O$44:$O$49","v":{"$error":"#VALUE!"}},"#Cover!$O$44:$O$49"]
["Type1",{"$f":"'Project identification'!$O$15","v":"Soft"},"#'Project identification'!$O$15"]
["Type2",{"$f":"'Project identification'!$P$15","v":"Investment"},"#'Project identification'!$P$15"]
["Type3",{"$f":"'Project identification'!$Q$15:$Q$16","v":{"$error":"#VALUE!"}},"#'Project identification'!$Q$15:$Q$16"]