{"text_format":"1","workbook":"xlsx","n_sheets":22,"sheets":["Cover","Output indicators","Checklist","PP1(LP)","PP2","PP3","PP4","PP5","Project identification","T1-PPs","T2-B(PP1)","T2-B(PP2)","T2-B(PP3)","T2-B(PP4)","T2-B(PP5)","Table 2-total","Table 3-summary","Table 4 PP`BL","Table 5-Sources","Statements","Summary","Named_ranges"],"not_rendered":{"charts":0,"images":3,"macros":1,"external_links":0,"defined_names":10407,"comments":0,"pivot_tables":0},"unopened":[],"bounds":{"document_bytes":16777216,"sheet_cells":100000,"rows_first":2000,"rows_last":500,"rows_between":2000,"halvings":0,"cell_chars":16384,"cell_head_chars":4096},"cells_cut":0,"cells_raw":0,"read":"whole","date_system":"1900"}

{"sheet":"Cover","index":0,"n_rows":46,"n_cols":18,"rows_kept":46,"cut":false,"hidden":false,"merged":[[39,2,39,9],[27,2,27,9],[29,2,29,9],[31,2,31,9],[33,2,33,9],[37,2,37,9],[35,2,35,9],[13,0,13,10],[5,0,5,10],[6,0,6,10],[7,0,7,10],[8,0,8,9],[9,0,9,10],[10,1,10,11],[14,0,14,8],[15,0,15,10],[18,1,18,9],[21,1,21,9],[24,1,24,9]]}
[]
[]
[]
[]
[]
[null,null,null,null,null,null,null,null,null,null,null,null,null,"Environment",null,"1.1. Preventing and mitigating the consequences of natural and man-made disasters in the cross-border area",3,1]
[null,null,null,null,null,null,null,null,null,null,null,null,null,"Tourism",null,"1.2. Improving the capacity for nature protection, sustainable use and management of common natural resources through cooperation initiatives in the  cross-border area",3,2]
[null,null,null,null,null,null,null,null,null,null,null,null,null,null,null,"2.1. Increasing the touristic attractiveness of the cross-border area through better utilisation of natural, cultural and historical heritage and related infrastructure",2,3]
[null,null,null,null,null,null,null,null,null,null,null,null,null,null,null,"2.2. Increasing the cross-border tourism potential by developing common destinations",1,4]
["INTERREG - IPA Cross-Border Cooperation Bulgaria-Turkey Programme",null,null,null,null,null,null,null,null,null,null,null,null,null,null,"2.3. Increasing networking for development of sustainable tourism through cross-border cooperation initiatives",1,5]
[null,"Call No: 2014TC16I5CB005 – 2020 –3"]
[null,null,null,null,null,null,null,null,null,null,null,null,null,{"$f":"VLOOKUP(C32,P6:Q10,2)","v":3},"Soft","Investment","Investment"]
[null,null,null,null,null,null,null,null,null,null,null,null,null,null,null,null,"Soft"]
["Application Form "]
[]
[]
[]
[null,"Project title"]
[null,"sadasd"]
[]
[null,"Lead Partner - Instiution"]
[null,"asdasdasdasdsadsudhn kashd saidh aui   asud a iausd hkawhd klkkdsjfu oiasdnm l  ow oos  skdj  oiasd ooapoid o"]
[]
[null,"Legal  representative – name, signature, stamp"]
[null,"sjfkdjhgskjdgfb"]
[]
[]
[null,"Project title",null,null,null,null,null,null,null,null,null,null,null,"Environment",null,"1.1. Preventing and mitigating the consequences of natural and man-made disasters in the cross-border area",3,1]
[null,null,null,null,null,null,null,null,null,null,null,null,null,"Tourism",null,"1.2. Improving the capacity for nature protection, sustainable use and management of common natural resources through cooperation initiatives in the  cross-border area",3,2]
[null,"Priority Axis","Environment",null,null,null,null,null,null,null,null,null,null,null,null,"2.1. Increasing the touristic attractiveness of the cross-border area through better utilisation of natural, cultural and historical heritage and related infrastructure",2,3]
[null,null,null,null,null,null,null,null,null,null,null,null,null,null,null,"2.2. Increasing the cross-border tourism potential by developing common destinations",1,4]
[null,"Specific Objective","1.2. Improving the capacity for nature protection, sustainable use and management of common natural resources through cooperation initiatives in the  cross-border area",null,null,null,null,null,null,null,null,null,null,null,null,"2.3. Increasing networking for development of sustainable tourism through cross-border cooperation initiatives",1,5]
[]
[null,"Type of project","Investment",null,null,null,null,null,null,null,null,null,null,{"$f":"VLOOKUP(C32,P28:Q32,2)","v":3},"Soft","Investment","Investment"]
[]
[null,"Intervention field"]
[null,null,null,null,null,null,null,null,null,null,null,null,null,null,null,null,"Soft"]
[null,"Lead Partner Organization"]
[]
[null,"Legal  representative – name, signature, stamp",null,null,null,null,null,null,null,null,null,null,null,{"$f":"C30","v":"Environment"},{"$f":"CONCATENATE(N40,\"1\")","v":"Environment1"}]
[null,null,null,null,null,null,null,null,null,null,null,null,null,"085 Protection and enhancement of biodiversity, nature protection and green infrastructure","075 Development and promotion of tourism services in or for SMEs"]
[null,null,null,null,null,null,null,null,null,null,null,null,null,"087 Adaptation to climate change measures and prevention and management of climate related risks e.g. erosion, fires, flooding, storms and drought, including awareness raising, civil protection and disaster management systems and infrastructures","079 Access to public sector information (including open data e-Tourism)"]
[null,null,null,null,null,null,null,null,null,null,null,null,null,null,"090 Cycle tracks and footpaths"]
[null,null,null,null,null,null,null,null,null,null,null,null,null,null,"092 Protection, development and promotion of public tourism assets"]
[null,null,null,null,null,null,null,null,null,null,null,null,null,null,"094 Protection, development and promotion of public cultural and heritage assets"]
[null,null,null,null,null,null,null,null,null,null,null,null,null,null,"095 Development and promotion of public cultural and heritage services"]

{"sheet":"Output indicators","index":1,"n_rows":14,"n_cols":5,"rows_kept":14,"cut":false,"hidden":false,"merged":[[12,2,12,3],[13,2,13,3],[12,4,12,8],[13,4,13,8],[5,1,5,8],[10,2,10,3],[10,4,10,8],[11,2,11,3],[11,4,11,8],[7,2,7,3],[7,4,7,8],[8,2,8,3],[8,4,8,8],[9,2,9,3],[9,4,9,8]]}
[]
[]
[]
[]
[]
[null,"Contribution of project to the Programme output indicators"]
[]
[null,"Output indicators","Quantity",null,"Justification"]
[null,{"$f":"pi_out_indicators","v":0},{"$f":"pi_monit_quant","v":0},null,{"$f":"pi_monit_justf","v":0}]
[null,{"$f":"pi_out_indicator2","v":0},{"$f":"pi_monit_quant2","v":0},null,{"$f":"pi_monit_justf2","v":0}]
[null,{"$f":"pi_out_indicator3","v":0},{"$f":"pi_monit_quant3","v":0},null,{"$f":"pi_monit_justf3","v":0}]
[null,{"$f":"pi_out_indicator4","v":0},{"$f":"pi_monit_quant4","v":0},null,{"$f":"pi_monit_justf4","v":0}]
[null,{"$f":"pi_out_indicator5","v":0},{"$f":"pi_monit_quant5","v":0},null,{"$f":"pi_monit_justf5","v":0}]
[null,{"$f":"pi_out_indicator6","v":0},{"$f":"pi_monit_quant6","v":0},null,{"$f":"pi_monit_justf6","v":0}]

{"sheet":"Checklist","index":2,"n_rows":77,"n_cols":11,"rows_kept":77,"cut":false,"hidden":false,"merged":[[0,1,1,7]]}
[null,"Application Form\nINTERREG-IPA Cross-Border Cooperation \nBulgaria-Turkey Programme\n\n     \n     \n     \n"]
[]
[]
[]
[]
[null,"Project partner 1 (Lead Beneficiery)"]
[null,null,"1.1.Detailed information",null,null,null,null,null,null,{"$f":"'PP1(LP)'!J35","v":false}]
[null,null,"1.2. Partner profile",null,null,null,null,"x",null,{"$f":"'PP1(LP)'!J39","v":false}]
[null,null,"1.3. Partner experience",null,null,null,null,"x",null,{"$f":"NOT(ISBLANK(pp1_pe_ip1))","v":false}]
[]
[null,null,"2.1. Detailed information",null,null,null,null,"x",null,{"$f":"'PP1(LP)'!J68","v":false}]
[null,null,"2.2. Financial status and human resource",null,null,null,null,"x",null,{"$f":"'PP1(LP)'!J76","v":false}]
[]
[null,"Project partner 2"]
[null,null,"1.1.Detailed information",null,null,null,null,"x",null,{"$f":"'PP2'!$J$35","v":false}]
[null,null,"1.2. Partner profile",null,null,null,null,"x",null,{"$f":"'PP2'!J$39","v":false}]
[null,null,"1.3. Partner experience",null,null,null,null,"x",null,{"$f":"NOT(ISBLANK(pp2_pe_ip1))","v":false}]
[]
[null,null,"2.1. Detailed information",null,null,null,null,"x",null,{"$f":"'PP2'!J$68","v":false}]
[null,null,"2.2. Financial status and human resource",null,null,null,null,"x",null,{"$f":"'PP2'!J$76","v":false}]
[]
[null,"Project partner 3",null,null,null,null,null,null,null,null,"x"]
[null,null,"1.1.Detailed information",null,null,null,null,"x",null,{"$f":"'PP3'!$J$35","v":false}]
[null,null,"1.2. Partner profile",null,null,null,null,"x",null,{"$f":"'PP3'!J$39","v":false}]
[null,null,"1.3. Partner experience",null,null,null,null,"x",null,{"$f":"NOT(ISBLANK(pp3_pe_ip1))","v":false}]
[]
[null,null,"2.1. Detailed information",null,null,null,null,"x",null,{"$f":"'PP3'!J$68","v":false}]
[null,null,"2.2. Financial status and human resource",null,null,null,null,"x",null,{"$f":"'PP3'!J$76","v":false}]
[]
[null,"Project partner 4"]
[null,null,"1.1.Detailed information",null,null,null,null,"x",null,{"$f":"'PP4'!$J$35","v":false}]
[null,null,"1.2. Partner profile",null,null,null,null,"x",null,{"$f":"'PP4'!J$39","v":false}]
[null,null,"1.3. Partner experience",null,null,null,null,"x",null,{"$f":"NOT(ISBLANK(pp4_pe_ip1))","v":false}]
[]
[null,null,"2.1. Detailed information",null,null,null,null,"x",null,{"$f":"'PP4'!J$68","v":false}]
[null,null,"2.2. Financial status and human resource",null,null,null,null,"x",null,{"$f":"'PP4'!J$76","v":false}]
[]
[null,"Project partner 5"]
[null,null,"1.1.Detailed information",null,null,null,null,"x",null,{"$f":"'PP5'!$J$35","v":false}]
[null,null,"1.2. Partner profile",null,null,null,null,"x",null,{"$f":"'PP5'!J$39","v":false}]
[null,null,"1.3. Partner experience",null,null,null,null,"x",null,{"$f":"NOT(ISBLANK(pp5_pe_ip1))","v":false}]
[]
[null,null,"2.1. Detailed information",null,null,null,null,"x",null,{"$f":"'PP5'!J$68","v":false}]
[null,null,"2.2. Financial status and human resource",null,null,null,null,"x",null,{"$f":"'PP5'!J$76","v":false}]
[]
[null,"Project Identification"]
[null,"1. Project Identity"]
[null,null,"1.1. Project Identity",null,null,null,null,"x",null,{"$f":"'Project identification'!L16","v":true}]
[null,null,"1.2. Project duration",null,null,null,null,"x",null,{"$f":"'Project identification'!L19","v":false}]
[null,null,"1.3 Cooperation criteria",null,null,null,null,"x",null,{"$f":"'Project identification'!O26","v":false}]
[null,null,"1.4 Cross-border impact and benefits of the project",null,null,null,null,"x",null,{"$f":"NOT(ISBLANK('Project identification'!B37))","v":false}]
[]
[null,"2. Financial information - Project budget (EUR)"]
[null,null,"2.1. Sources of financing (EUR)",null,null,null,null,"x"]
[null,null,"2.2. Breakdown of eligible expenditure (EUR)",null,null,null,null,"x"]
[]
[null,"2. Project description"]
[null,null,"2.1. Background and demand for the project proposal ",null,null,null,null,"x",null,{"$f":"NOT('Project identification'!L46)","v":false}]
[null,null,"3.2. Consistency with the Programme specific objective",null,null,null,null,"x",null,{"$f":"'Project identification'!M50","v":0}]
[null,null,"3.3. Consistency with the Programme overall aim",null,null,null,null,"x",null,{"$f":"'Project identification'!M54","v":0}]
[null,null,"2.2. Description of the target groups and beneficiaries",null,null,null,null,"x",null,{"$f":"'Project identification'!P61","v":false}]
[null,null,"2.3. Project activities ",null,null,null,null,"x",null,{"$f":"NOT(ISBLANK(pi_act_1_descrp))","v":false}]
[null,null,"2.4. Project activities outside the eligible border area ",null,null,null,null,"x",null,{"$f":"'Project identification'!N384","v":false}]
[null,null,"2.5.Communication and visibility",null,null,null,null,"x",null,{"$f":"'Project identification'!L392","v":false}]
[null,null,"2.6. Duration and action plan",null,null,null,null,"x",null,{"$f":"'Project identification'!L428","v":false}]
[]
[null,"3. Management of the project and reporting ",null,null,null,null,null,"x",null,{"$f":"'Project identification'!L436","v":false}]
[]
[null,"4. Project monitoring"]
[null,null,"4.1. Expected outputs",null,null,null,null,"x",null,{"$f":"'Project identification'!AB446","v":false}]
[null,null,"4.2. Multiplier effect",null,null,null,null,"x",null,{"$f":"'Project identification'!L457","v":false}]
[null,null,"4.3. Sustainability",null,null,null,null,"x",null,{"$f":"'Project identification'!L462","v":false}]
[]
[null,"5. Project coherence:"]
[null,null,"5.1. with other programmes/strategies",null,null,null,null,"x",null,{"$f":"'Project identification'!L470","v":false}]
[null,null,"5.2. with horizontal principles  ",null,null,null,null,"x",null,{"$f":"'Project identification'!M480","v":false}]
[null,null,"6.3. Horizontal themes",null,null,null,null,"x",null,{"$f":"'Project identification'!M480","v":false}]

{"sheet":"PP1(LP)","index":3,"n_rows":79,"n_cols":22,"rows_kept":79,"cut":false,"hidden":false,"merged":[[78,2,78,4],[78,6,78,7],[75,2,75,4],[75,6,75,7],[76,2,76,4],[76,6,76,7],[77,2,77,4],[77,6,77,7],[74,1,74,7],[65,1,65,7],[28,2,28,7],[69,2,69,7],[71,2,71,7],[73,1,73,7],[48,2,48,5],[56,2,56,5],[40,1,40,5],[61,2,61,4],[60,2,60,7],[50,2,50,7],[51,2,51,7],[52,2,52,7],[26,2,26,7],[24,2,24,7],[41,1,41,7],[62,2,62,4],[62,6,62,7],[53,2,53,4],[54,2,54,4],[61,6,61,7],[58,2,58,7],[59,2,59,7],[54,6,54,7],[53,6,53,7],[6,2,6,7],[8,2,8,7],[0,1,1,7],[4,1,4,7],[22,2,22,7],[20,2,20,7],[18,2,18,7],[16,2,16,7],[14,2,14,7],[41,16,45,16],[10,2,10,7],[45,6,45,7],[46,6,46,7],[44,2,44,7],[42,2,42,7],[43,2,43,7],[45,2,45,4],[46,2,46,4],[37,1,38,7],[36,1,36,7],[32,2,32,7],[30,2,30,7],[33,1,33,7],[34,1,34,7],[35,1,35,7]]}
[null,"Application Form\nINTERREG-IPA Cross-Border Cooperation \nBulgaria-Turkey Programme\nPART I\n     \n     \n     \n"]
[]
[null,"PROJECT PARTNER No 1"]
[]
[null,"1. Identity"]
[null,"1.1.Detailed information"]
[null,"Organization\n(in English language):",{"$f":"IF(Cover!C38=\"\",\"\",Cover!C38)","v":""},null,null,null,null,null,null,{"$f":"ISBLANK(C7)","v":false}]
[]
[null,"Organization\n(in native language):",null,null,null,null,null,null,null,{"$f":"ISBLANK(C9)","v":true}]
[null,null,null,null,null,null,null,null,null,null,null,null,null,null,null,null,null,null,null,null,null,"Administration of protected area/s"]
[null,"Type of organization:",null,null,null,null,null,null,null,{"$f":"ISBLANK(C11)","v":true},null,null,null,null,null,null,null,null,null,null,null,"Association of local/regional authorities or other organisations"]
[null,null,null,null,null,null,null,null,null,null,null,null,null,null,null,null,null,null,null,null,null,"Business support institution/organisation"]
[null,"Country:",null,null,null,null,null,null,null,null,null,null,null,null,null,null,null,null,null,null,null,"Central/Regional/Local office or structure of government institution/ administration"]
[null,null,null,null,null,null,null,null,null,null,1,null,null,null,{"$f":"VLOOKUP('Project identification'!C13,'Project identification'!P9:R13,3)","v":2},null,null,null,null,null,null,"Educational/Training institution or organisation"]
[null,"District/NUTS III",null,null,null,null,null,null,null,{"$f":"ISBLANK(C15)","v":true},null,"Bourgas","Edirne",null,null,null,null,null,null,null,null,"Euro region or other joint cross-border structure or institution"]
[null,null,null,null,null,null,null,null,null,null,null,"Yambol","Kirklareli",null,null,null,null,null,null,null,null,"Local/Regional authority"]
[null,"Town/city:",null,null,null,null,null,null,null,{"$f":"ISBLANK(C17)","v":true},null,"Haskovo","Other",null,"Local/Regional authority","Local/Regional authority","Local/Regional authority","Local/Regional authority","Local/Regional authority",null,null,"Non-Governmental organisation"]
[null,null,null,null,null,null,null,null,null,null,null,"Other",null,null,"Central/Regional office or structure of national/governmental institution/administration","Association of local/regional authorities or other organisations","Regional/Sector development agency","Central/Regional/Local office or structure of government institution/ administration","Central/Regional/Local office or structure of government institution/ administration",null,null,"Non-Governmental organisation in the field of tourism"]
[null,"Address:",null,null,null,null,null,null,null,{"$f":"ISBLANK(C19)","v":true},null,null,null,null,"Regional/Sector development agency","Central/Regional office or structure of central government institution/ administration","Central/Regional/Local office or structure of government institution/ administration","Administration of protected area/s","Administration of protected area/s",null,null,"Public cultural institute"]
[null,null,null,null,null,null,null,null,null,null,null,null,null,null,null,"Administration of protected area/s","Public cultural institute","Non-Governmental organisation in the field of tourism","Non-Governmental organisation",null,null,"Regional touristic association"]
[null,"Postal Code:",null,null,null,null,null,null,null,{"$f":"ISBLANK(C21)","v":true},null,null,null,null,null,"Euro region or other joint cross-border structure or institution","Regional touristic association","Business support institution/organisation","Business support institution or organisation",null,null,"Regional/Sector development agency"]
[null,null,null,null,null,null,null,null,null,null,null,null,null,null,null,"University/Scientific institution","Business support institution/organisation","Tourist board or association","Tourist board or association;",null,null,"Tourist board or association"]
[null,"Legal representative                  (Name):",{"$f":"IF(Cover!C40=\"\",\"\",Cover!C40)","v":""},null,null,null,null,null,null,{"$f":"ISBLANK(C23)","v":false},null,null,null,null,null,"Educational/Training institution or organisation","Non-Governmental organisation","Educational/Training institution/organization","Educational/Training institution/organization",null,null,"University/Scientific institution"]
[null,null,null,null,null,null,null,null,null,null,null,null,null,null,null,"Business support institution/organisation","Educational/Training institution or organizations","University/Scientific institution","University/Scientific organization",null,null,"Youth’s organization"]
[null,"Legal representative              (Position in the organization):",null,null,null,null,null,null,null,{"$f":"ISBLANK(C25)","v":true},null,null,null,null,null,"Non-Governmental organisation","University/Scientific institution","Public cultural institute","Community organization/institution involved in development of civil society/promotion of education, culture and sports"]
[null,null,null,null,null,null,null,null,null,null,null,null,null,null,null,"Youth’s organization",null,null,"Youth’s organization"]
[null,"Telephone:"]
[]
[null,"Fax:"]
[]
[null,"E-mail:"]
[]
[null,"Website:"]
[null,"1.2. Partner profile\n1.2.1 Partner's background\nPlease describe the profile of the organization and general competences and activities (max 2x2000 chars).",null,null,null,null,null,null,null,{"$f":"J25+J23+J21+J19+J17+J15+J11+J9+J7","v":7}]
[null,null,null,null,null,null,null,null,null,{"$f":"J34=0","v":false}]
[]
[null,"1.2.2 Partner's competence\nPlease describe whether the project partners have the competence to implement the project activities invisaged for each of them (2000 symbols)"]
[]
[null,null,null,null,null,null,null,null,null,{"$f":"LEN(B38)>0","v":false},{"$f":"LEN(B38)>2500","v":false}]
[null,"1.3. Partner experience"]
[null,"Please state if you are experienced in \nproject management of public funded projects",null,null,null,null,null,null,null,null,null,null,null,null,null,null,null,null,null,null,null,"Administration of protected area/s"]
[null,"If Yes, please fill in the table below brief description for the most relevant successfully implemented project(s) - (maximum three projects for each project partner):",null,null,null,null,null,null,null,null,"hidden until Yes on G36",null,null,null,null,null,"global check if \"yes\" inG39",null,null,null,null,"Non-Governmental organisation"]
[null,"Initiative/Programme",null,null,null,null,null,null,null,null,null,null,null,null,null,null,null,null,null,null,null,"Business support institution or organisation"]
[null,"Project title  and reference number",null,null,null,null,null,null,null,null,null,null,null,null,null,null,null,null,null,null,null,"Tourist board or association;"]
[null,"Short description including project objectives and activities \n(max. 500 characters)",null,null,null,null,null,null,null,null,null,null,null,null,null,null,null,null,null,null,null,"Educational/Training institution/organization"]
[null,"Total eligible value in euro for the project partner (for finalized projects: total eligible value after project implementation - financial execution; for ongoing projects: total contract eligible value)",null,null,null,"Grant amount:",null,null,null,null,null,null,null,null,null,null,null,null,null,null,null,"University/Scientific organization"]
[null,"Organization’s role in the project (lead partner, partner etc.)and other partners involved in the project",null,null,null,"Start date and end date of the project ",null,null,null,null,"Add button",null,null,null,null,null,null,null,null,null,null,"Community organization/institution involved in development of civil society/promotion of education, culture and sports"]
[null,null,null,null,null,null,null,null,null,null,null,null,null,null,null,null,null,null,null,null,null,"Youth’s organization"]
[null,null,"Add new project information",null,null,null,null,null,null,null,"No",null,1,null,null,null,null,null,null,null,null,"Administration of protected area/s"]
[null,null,null,null,null,null,null,null,null,null,"Visible after \"add\"",null,null,null,null,null,null,null,null,null,null,"Non-Governmental organisation"]
[null,"Initiative/Programme",null,null,null,null,null,null,null,null,null,null,null,null,null,null,null,null,null,null,null,"Business support institution or organisation"]
[null,"Project title  and reference number",null,null,null,null,null,null,null,null,null,null,null,null,null,null,null,null,null,null,null,"Tourist board or association;"]
[null,"Short description including project objectives and activities \n(max. 500 characters)",null,null,null,null,null,null,null,null,null,null,null,null,null,null,null,null,null,null,null,"Educational/Training institution/organization"]
[null,"Total eligible value in euro for the project partner (for finalized projects: total eligible value after project implementation - financial execution; for ongoing projects: total contract eligible value)",null,null,null,"Grant amount:"]
[null,"Organization’s role in the project (lead partner, partner etc.)and other partners involved in the project",null,null,null,"Start date and end date of the project ",null,null,null,null,"Add button"]
[]
[null,null,"Add new project information",null,null,null,null,null,null,null,"No",null,1,null,null,null,null,null,null,null,null,"Administration of protected area/s"]
[null,null,null,null,null,null,null,null,null,null,"Visible after \"add\"",null,null,null,null,null,null,null,null,null,null,"Non-Governmental organisation"]
[null,"Initiative/Programme",null,null,null,null,null,null,null,null,null,null,null,null,null,null,null,null,null,null,null,"Business support institution or organisation"]
[null,"Project title  and reference number",null,null,null,null,null,null,null,null,null,null,null,null,null,null,null,null,null,null,null,"Tourist board or association;"]
[null,"Short description including project objectives and activities \n(max. 500 characters)",null,null,null,null,null,null,null,null,null,null,null,null,null,null,null,null,null,null,null,"Educational/Training institution/organization"]
[null,"Total eligible value in euro for the project partner (for finalized projects: total eligible value after project implementation - financial execution; for ongoing projects: total contract eligible value)",null,null,null,"Grant amount:"]
[null,"Organization’s role in the project (lead partner, partner etc.)and other partners involved in the project",null,null,null,"Start date and end date of the project ",null,null,null,null,"Add button"]
[]
[]
[null,"2. Financial Data"]
[]
[null,"2.1. Detailed information",null,null,null,null,null,null,null,{"$f":"J73=0","v":false}]
[]
[null,"National registration code:",null,null,null,null,null,null,null,{"$f":"ISBLANK(C70)","v":true}]
[]
[null,"VAT registration (type N/A if not applicable):",null,null,null,null,null,null,null,{"$f":"ISBLANK(C72)","v":true}]
[null,null,null,null,null,null,null,null,null,{"$f":"J72+J70","v":2}]
[null,"2.2. Financial status and human resource"]
[null,"Please provide the following information on the basis of the Profit and loss account and Balance sheet of your organization  and any information related to the staff and technical capacity for the past 3 (three) years."]
[null,"Year","Turnover or equivalent\n(in EUR)",null,null,"Number of full-time staff","Number of part-time staff",null,null,{"$f":"N76=0","v":false},null,null,null,{"$f":"SUM(N77:N79)","v":9}]
[null,2016,null,null,null,null,null,null,null,null,{"$f":"ISBLANK(C77)","v":true},true,true,{"$f":"K77+L77+M77","v":3}]
[null,2017,null,null,null,null,null,null,null,null,true,true,true,{"$f":"K78+L78+M78","v":3}]
[null,2018,null,null,null,null,null,null,null,null,true,true,true,{"$f":"K79+L79+M79","v":3}]

{"sheet":"PP2","index":4,"n_rows":79,"n_cols":22,"rows_kept":79,"cut":false,"hidden":false,"merged":[[76,2,76,4],[76,6,76,7],[77,2,77,4],[77,6,77,7],[78,2,78,4],[78,6,78,7],[59,2,59,7],[60,2,60,7],[61,2,61,4],[61,6,61,7],[62,2,62,4],[62,6,62,7],[65,1,65,7],[69,2,69,7],[71,2,71,7],[74,1,74,7],[75,2,75,4],[75,6,75,7],[58,2,58,7],[46,2,46,4],[46,6,46,7],[48,2,48,5],[50,2,50,7],[51,2,51,7],[52,2,52,7],[53,2,53,4],[53,6,53,7],[54,2,54,4],[54,6,54,7],[56,2,56,5],[41,1,41,7],[41,16,45,16],[42,2,42,7],[43,2,43,7],[44,2,44,7],[45,2,45,4],[45,6,45,7],[40,1,40,5],[16,2,16,7],[18,2,18,7],[20,2,20,7],[22,2,22,7],[24,2,24,7],[26,2,26,7],[28,2,28,7],[30,2,30,7],[32,2,32,7],[36,1,36,7],[37,1,38,7],[34,1,34,7],[35,1,35,7],[33,1,33,7],[14,2,14,7],[0,1,1,7],[4,1,4,7],[6,2,6,7],[8,2,8,7],[10,2,10,7]]}
[null,"Application Form\nINTERREG-IPA Cross-Border Cooperation \nBulgaria-Turkey Programme\nPART I\n     \n     \n     \n"]
[]
[null,"PROJECT PARTNER No 2"]
[]
[null,"1. Identity"]
[null,"1.1.Detailed information"]
[null,"Organization\n(in English language):",null,null,null,null,null,null,null,{"$f":"ISBLANK(C7)","v":true}]
[]
[null,"Organization\n(in native language):",null,null,null,null,null,null,null,{"$f":"ISBLANK(C9)","v":true}]
[]
[null,"Type of organization:",null,null,null,null,null,null,null,{"$f":"ISBLANK(C11)","v":true}]
[]
[null,"Country:"]
[null,null,null,null,null,null,null,null,null,null,2,null,null,null,{"$f":"VLOOKUP('Project identification'!C13,'Project identification'!P9:R13,3)","v":2}]
[null,"District/NUTS III",null,null,null,null,null,null,null,{"$f":"ISBLANK(C15)","v":true},null,"Bourgas","Edirne"]
[null,null,null,null,null,null,null,null,null,null,null,"Yambol","Kirklareli"]
[null,"Town/city:",null,null,null,null,null,null,null,{"$f":"ISBLANK(C17)","v":true},null,"Haskovo","Other",null,"Local/Regional authority","Local/Regional authority","Local/Regional authority","Local/Regional authority","Local/Regional authority"]
[null,null,null,null,null,null,null,null,null,null,null,"Other",null,null,"Central/Regional office or structure of national/governmental institution/administration","Association of local/regional authorities or other organisations","Regional/Sector development agency","Central/Regional/Local office or structure of government institution/ administration","Central/Regional/Local office or structure of government institution/ administration"]
[null,"Address:",null,null,null,null,null,null,null,{"$f":"ISBLANK(C19)","v":true},null,null,null,null,"Regional/Sector development agency","Central/Regional office or structure of central government institution/ administration","Central/Regional/Local office or structure of government institution/ administration","Administration of protected area/s","Administration of protected area/s"]
[null,null,null,null,null,null,null,null,null,null,null,null,null,null,null,"Administration of protected area/s","Public cultural institute","Non-Governmental organisation in the field of tourism","Non-Governmental organisation"]
[null,"Postal Code:",null,null,null,null,null,null,null,{"$f":"ISBLANK(C21)","v":true},null,null,null,null,null,"Euro region or other joint cross-border structure or institution","Regional touristic association","Business support institution/organisation","Business support institution or organisation"]
[null,null,null,null,null,null,null,null,null,null,null,null,null,null,null,"University/Scientific institution","Business support institution/organisation","Tourist board or association","Tourist board or association;"]
[null,"Legal representative                   (Name):",null,null,null,null,null,null,null,{"$f":"ISBLANK(C23)","v":true},null,null,null,null,null,"Educational/Training institution or organisation","Non-Governmental organisation","Educational/Training institution/organization","Educational/Training institution/organization"]
[null,null,null,null,null,null,null,null,null,null,null,null,null,null,null,"Business support institution/organisation","Educational/Training institution or organizations","University/Scientific institution","University/Scientific organization"]
[null,"Legal representative             (Position in the organization):",null,null,null,null,null,null,null,{"$f":"ISBLANK(C25)","v":true},null,null,null,null,null,"Non-Governmental organisation","University/Scientific institution","Public cultural institute","Community organization/institution involved in development of civil society/promotion of education, culture and sports"]
[null,null,null,null,null,null,null,null,null,null,null,null,null,null,null,"Youth’s organization",null,null,"Youth’s organization"]
[null,"Telephone:"]
[]
[null,"Fax:"]
[]
[null,"E-mail:"]
[]
[null,"Website:"]
[null,"1.2. Partner profile\n1.2.1 Partner's background\nPlease describe the profile of the organization and general competences and activities (max 2x2000 chars).",null,null,null,null,null,null,null,{"$f":"J25+J23+J21+J19+J17+J15+J11+J9+J7","v":9}]
[null,null,null,null,null,null,null,null,null,{"$f":"J34=0","v":false}]
[]
[null,"1.2.2 Partner's competence\nPlease describe whether the project partners have the competence to implement the project activities invisaged for each of them (2000 symbols)"]
[]
[null,null,null,null,null,null,null,null,null,{"$f":"LEN(B38)>0","v":false},{"$f":"LEN(B38)>2500","v":false}]
[null,"1.3. Partner experience"]
[null,"Please state if you are experienced in \nproject management of public funded projects"]
[null,"If Yes, please fill in the table below brief description for the most relevant successfully implemented project(s) - (maximum three projects for each project partner):",null,null,null,null,null,null,null,null,"hidden until Yes on G36",null,null,null,null,null,"global check if \"yes\" inG39"]
[null,"Initiative/Programme",null,null,null,null,null,null,null,null,null,null,null,null,null,null,null,null,null,null,null,"Administration of protected area/s"]
[null,"Project title  and reference number",null,null,null,null,null,null,null,null,null,null,null,null,null,null,null,null,null,null,null,"Non-Governmental organisation"]
[null,"Short description including project objectives and activities \n(max. 500 characters)",null,null,null,null,null,null,null,null,null,null,null,null,null,null,null,null,null,null,null,"Business support institution or organisation"]
[null,"Total eligible value in euro for the project partner (for finalized projects: total eligible value after project implementation - financial execution; for ongoing projects: total contract eligible value)",null,null,null,"Grant amount:",null,null,null,null,null,null,null,null,null,null,null,null,null,null,null,"Tourist board or association;"]
[null,"Organization’s role in the project (lead partner, partner etc.)and other partners involved in the project",null,null,null,"Start date and end date of the project ",null,null,null,null,"Add button",null,null,null,null,null,null,null,null,null,null,"Educational/Training institution/organization"]
[]
[null,null,"Add new project information",null,null,null,null,null,null,null,"No",null,1]
[null,null,null,null,null,null,null,null,null,null,"Visible after \"add\""]
[null,"Initiative/Programme",null,null,null,null,null,null,null,null,null,null,null,null,null,null,null,null,null,null,null,"Administration of protected area/s"]
[null,"Project title  and reference number",null,null,null,null,null,null,null,null,null,null,null,null,null,null,null,null,null,null,null,"Non-Governmental organisation"]
[null,"Short description including project objectives and activities \n(max. 500 characters)",null,null,null,null,null,null,null,null,null,null,null,null,null,null,null,null,null,null,null,"Business support institution or organisation"]
[null,"Total eligible value in euro for the project partner (for finalized projects: total eligible value after project implementation - financial execution; for ongoing projects: total contract eligible value)",null,null,null,"Grant amount:",null,null,null,null,null,null,null,null,null,null,null,null,null,null,null,"Tourist board or association;"]
[null,"Organization’s role in the project (lead partner, partner etc.)and other partners involved in the project",null,null,null,"Start date and end date of the project ",null,null,null,null,"Add button",null,null,null,null,null,null,null,null,null,null,"Educational/Training institution/organization"]
[]
[null,null,"Add new project information",null,null,null,null,null,null,null,"No",null,1]
[null,null,null,null,null,null,null,null,null,null,"Visible after \"add\""]
[null,"Initiative/Programme",null,null,null,null,null,null,null,null,null,null,null,null,null,null,null,null,null,null,null,"Administration of protected area/s"]
[null,"Project title  and reference number",null,null,null,null,null,null,null,null,null,null,null,null,null,null,null,null,null,null,null,"Non-Governmental organisation"]
[null,"Short description including project objectives and activities \n(max. 500 characters)",null,null,null,null,null,null,null,null,null,null,null,null,null,null,null,null,null,null,null,"Business support institution or organisation"]
[null,"Total eligible value in euro for the project partner (for finalized projects: total eligible value after project implementation - financial execution; for ongoing projects: total contract eligible value)",null,null,null,"Grant amount:",null,null,null,null,null,null,null,null,null,null,null,null,null,null,null,"Tourist board or association;"]
[null,"Organization’s role in the project (lead partner, partner etc.)and other partners involved in the project",null,null,null,"Start date and end date of the project ",null,null,null,null,"Add button",null,null,null,null,null,null,null,null,null,null,"Educational/Training institution/organization"]
[]
[]
[null,"2. Financial Data"]
[]
[null,"2.1. Detailed information",null,null,null,null,null,null,null,{"$f":"J73=0","v":false}]
[]
[null,"National registration code:",null,null,null,null,null,null,null,{"$f":"ISBLANK(C70)","v":true}]
[]
[null,"VAT registration (type N/A if not applicable):",null,null,null,null,null,null,null,{"$f":"ISBLANK(C72)","v":true}]
[null,null,null,null,null,null,null,null,null,{"$f":"J72+J70","v":2}]
[null,"2.2. Financial status and human resource"]
[null,"Please provide the following information on the basis of the Profit and loss account and Balance sheet of your organization  and any information related to the staff and technical capacity for the past 3 (three) years."]
[null,"Year","Turnover or equivalent\n(in EUR)",null,null,"Number of full-time staff","Number of part-time staff",null,null,{"$f":"N76=0","v":false},null,null,null,{"$f":"SUM(N77:N79)","v":9},null,false,false,true,2]
[null,2016,null,null,null,null,null,null,null,null,{"$f":"ISBLANK(C77)","v":true},{"$f":"ISBLANK(D77)","v":true},true,{"$f":"K77+L77+M77","v":3},null,false,false,true,2]
[null,2017,null,null,null,null,null,null,null,null,{"$f":"ISBLANK(C78)","v":true},true,true,{"$f":"K78+L78+M78","v":3},null,false,false,true,2,true]
[null,2018,null,null,null,null,null,null,null,null,{"$f":"ISBLANK(C79)","v":true},true,true,{"$f":"K79+L79+M79","v":3}]

{"sheet":"PP3","index":5,"n_rows":79,"n_cols":22,"rows_kept":79,"cut":false,"hidden":true,"merged":[[75,6,75,7],[76,6,76,7],[77,6,77,7],[78,6,78,7],[75,2,75,4],[76,2,76,4],[77,2,77,4],[78,2,78,4],[74,1,74,7],[58,2,58,7],[59,2,59,7],[60,2,60,7],[61,2,61,4],[61,6,61,7],[62,2,62,4],[62,6,62,7],[50,2,50,7],[51,2,51,7],[65,1,65,7],[69,2,69,7],[71,2,71,7],[56,2,56,5],[52,2,52,7],[53,2,53,4],[53,6,53,7],[54,2,54,4],[54,6,54,7],[41,1,41,7],[41,16,45,16],[42,2,42,7],[43,2,43,7],[44,2,44,7],[45,2,45,4],[45,6,45,7],[46,2,46,4],[46,6,46,7],[48,2,48,5],[40,1,40,5],[16,2,16,7],[18,2,18,7],[20,2,20,7],[22,2,22,7],[24,2,24,7],[26,2,26,7],[28,2,28,7],[30,2,30,7],[32,2,32,7],[36,1,36,7],[37,1,38,7],[34,1,34,7],[35,1,35,7],[33,1,33,7],[14,2,14,7],[0,1,1,7],[4,1,4,7],[6,2,6,7],[8,2,8,7],[10,2,10,7]]}
[null,"Application Form\nINTERREG-IPA Cross-Border Cooperation \nBulgaria-Turkey Programme\nPART I\n     \n     \n     \n"]
[]
[null,"PROJECT PARTNER No 3"]
[]
[null,"1. Identity"]
[null,"1.1.Detailed information"]
[null,"Organization\n(in English language):",null,null,null,null,null,null,null,{"$f":"ISBLANK(C7)","v":true}]
[]
[null,"Organization\n(in native language):",null,null,null,null,null,null,null,{"$f":"ISBLANK(C9)","v":true}]
[]
[null,"Type of organization:",null,null,null,null,null,null,null,{"$f":"ISBLANK(C11)","v":true}]
[]
[null,"Country:"]
[null,null,null,null,null,null,null,null,null,null,2,null,null,null,{"$f":"VLOOKUP('Project identification'!C13,'Project identification'!P9:R13,3)","v":2}]
[null,"District/NUTS III",null,null,null,null,null,null,null,{"$f":"ISBLANK(C15)","v":true},null,"Bourgas","Edirne"]
[null,null,null,null,null,null,null,null,null,null,null,"Yambol","Kirklareli"]
[null,"Town/city:",null,null,null,null,null,null,null,{"$f":"ISBLANK(C17)","v":true},null,"Haskovo","Other",null,"Local/Regional authority","Local/Regional authority","Local/Regional authority","Local/Regional authority","Local/Regional authority"]
[null,null,null,null,null,null,null,null,null,null,null,"Other",null,null,"Central/Regional office or structure of national/governmental institution/administration","Association of local/regional authorities or other organisations","Regional/Sector development agency","Central/Regional/Local office or structure of government institution/ administration","Central/Regional/Local office or structure of government institution/ administration"]
[null,"Address:",null,null,null,null,null,null,null,{"$f":"ISBLANK(C19)","v":true},null,null,null,null,"Regional/Sector development agency","Central/Regional office or structure of central government institution/ administration","Central/Regional/Local office or structure of government institution/ administration","Administration of protected area/s","Administration of protected area/s"]
[null,null,null,null,null,null,null,null,null,null,null,null,null,null,null,"Administration of protected area/s","Public cultural institute","Non-Governmental organisation in the field of tourism","Non-Governmental organisation"]
[null,"Postal Code:",null,null,null,null,null,null,null,{"$f":"ISBLANK(C21)","v":true},null,null,null,null,null,"Euro region or other joint cross-border structure or institution","Regional touristic association","Business support institution/organisation","Business support institution or organisation"]
[null,null,null,null,null,null,null,null,null,null,null,null,null,null,null,"University/Scientific institution","Business support institution/organisation","Tourist board or association","Tourist board or association;"]
[null,"Legal representative (Name):",null,null,null,null,null,null,null,{"$f":"ISBLANK(C23)","v":true},null,null,null,null,null,"Educational/Training institution or organisation","Non-Governmental organisation","Educational/Training institution/organization","Educational/Training institution/organization"]
[null,null,null,null,null,null,null,null,null,null,null,null,null,null,null,"Business support institution/organisation","Educational/Training institution or organizations","University/Scientific institution","University/Scientific organization"]
[null,"Legal representative (Position):",null,null,null,null,null,null,null,{"$f":"ISBLANK(C25)","v":true},null,null,null,null,null,"Non-Governmental organisation","University/Scientific institution","Public cultural institute","Community organization/institution involved in development of civil society/promotion of education, culture and sports"]
[null,null,null,null,null,null,null,null,null,null,null,null,null,null,null,"Youth’s organization",null,null,"Youth’s organization"]
[null,"Telephone:"]
[]
[null,"Fax:"]
[]
[null,"E-mail:"]
[]
[null,"Website:"]
[null,"1.2. Partner profile\n1.2.1 Partner's background\nPlease describe the profile of the organization and general competences and activities (max 2x2000 chars).",null,null,null,null,null,null,null,{"$f":"J25+J23+J21+J19+J17+J15+J11+J9+J7","v":9}]
[null,null,null,null,null,null,null,null,null,{"$f":"J34=0","v":false}]
[]
[null,"1.2.2 Partner's competence\nPlease describe whether the project partners have the competence to implement the project activities invisaged for each of them (2000 symbols)"]
[]
[null,null,null,null,null,null,null,null,null,{"$f":"LEN(B38)>0","v":false},{"$f":"LEN(B38)>2500","v":false}]
[null,"1.3. Partner experience"]
[null,"Please state if you are experienced in \nproject management of public funded projects"]
[null,"If Yes, please fill in the table below brief description for the most relevant successfully implemented project(s) - (maximum three projects for each project partner):",null,null,null,null,null,null,null,null,"hidden until Yes on G36",null,null,null,null,null,"global check if \"yes\" inG39"]
[null,"Initiative/Programme",null,null,null,null,null,null,null,null,null,null,null,null,null,null,null,null,null,null,null,"Administration of protected area/s"]
[null,"Project title  and reference number",null,null,null,null,null,null,null,null,null,null,null,null,null,null,null,null,null,null,null,"Non-Governmental organisation"]
[null,"Short description including project objectives and activities \n(max. 500 characters)",null,null,null,null,null,null,null,null,null,null,null,null,null,null,null,null,null,null,null,"Business support institution or organisation"]
[null,"Total eligible value in euro for the project partner (for finalized projects: total eligible value after project implementation - financial execution; for ongoing projects: total contract eligible value)",null,null,null,"Grant amount:",null,null,null,null,null,null,null,null,null,null,null,null,null,null,null,"Tourist board or association;"]
[null,"Organization’s role in the project (lead partner, partner etc.)and other partners involved in the project",null,null,null,"Start date and end date of the project ",null,null,null,null,"Add button",null,null,null,null,null,null,null,null,null,null,"Educational/Training institution/organization"]
[]
[null,null,"Add new project information",null,null,null,null,null,null,null,"No",null,1]
[null,null,null,null,null,null,null,null,null,null,"Visible after \"add\""]
[null,"Initiative/Programme",null,null,null,null,null,null,null,null,null,null,null,null,null,null,null,null,null,null,null,"Administration of protected area/s"]
[null,"Project title  and reference number",null,null,null,null,null,null,null,null,null,null,null,null,null,null,null,null,null,null,null,"Non-Governmental organisation"]
[null,"Short description including project objectives and activities \n(max. 500 characters)",null,null,null,null,null,null,null,null,null,null,null,null,null,null,null,null,null,null,null,"Business support institution or organisation"]
[null,"Total eligible value in euro for the project partner (for finalized projects: total eligible value after project implementation - financial execution; for ongoing projects: total contract eligible value)",null,null,null,"Grant amount:",null,null,null,null,null,null,null,null,null,null,null,null,null,null,null,"Tourist board or association;"]
[null,"Organization’s role in the project (lead partner, partner etc.)and other partners involved in the project",null,null,null,"Start date and end date of the project ",null,null,null,null,"Add button",null,null,null,null,null,null,null,null,null,null,"Educational/Training institution/organization"]
[]
[null,null,"Add new project information",null,null,null,null,null,null,null,"No",null,1]
[null,null,null,null,null,null,null,null,null,null,"Visible after \"add\""]
[null,"Initiative/Programme",null,null,null,null,null,null,null,null,null,null,null,null,null,null,null,null,null,null,null,"Administration of protected area/s"]
[null,"Project title  and reference number",null,null,null,null,null,null,null,null,null,null,null,null,null,null,null,null,null,null,null,"Non-Governmental organisation"]
[null,"Short description including project objectives and activities \n(max. 500 characters)",null,null,null,null,null,null,null,null,null,null,null,null,null,null,null,null,null,null,null,"Business support institution or organisation"]
[null,"Total eligible value in euro for the project partner (for finalized projects: total eligible value after project implementation - financial execution; for ongoing projects: total contract eligible value)",null,null,null,"Grant amount:",null,null,null,null,null,null,null,null,null,null,null,null,null,null,null,"Tourist board or association;"]
[null,"Organization’s role in the project (lead partner, partner etc.)and other partners involved in the project",null,null,null,"Start date and end date of the project ",null,null,null,null,"Add button",null,null,null,null,null,null,null,null,null,null,"Educational/Training institution/organization"]
[]
[]
[null,"2. Financial Data"]
[]
[null,"2.1. Detailed information",null,null,null,null,null,null,null,{"$f":"J73=0","v":false}]
[]
[null,"National registration code:",null,null,null,null,null,null,null,{"$f":"ISBLANK(C70)","v":true}]
[]
[null,"VAT registration (type N/A if not applicable):",null,null,null,null,null,null,null,{"$f":"ISBLANK(C72)","v":true}]
[null,null,null,null,null,null,null,null,null,{"$f":"J72+J70","v":2}]
[null,"2.2. Financial status and human resource"]
[null,"Please provide the following information on the basis of the Profit and loss account and Balance sheet of your organization  and any information related to the staff and technical capacity for the past 3 (three) years."]
[null,"Year","Turnover or equivalent\n(in EUR)",null,null,"Number of full-time staff","Number of part-time staff",null,null,{"$f":"N76=0","v":false},null,null,null,{"$f":"SUM(N77:N79)","v":3},null,false,false,true,2]
[null,2016,null,null,null,null,null,null,null,null,{"$f":"ISBLANK(#REF!)","v":false},{"$f":"ISBLANK(#REF!)","v":false},{"$f":"ISBLANK(C77)","v":true},{"$f":"K77+L77+M77","v":1},null,false,false,true,2]
[null,2017,null,null,null,null,null,null,null,null,{"$f":"ISBLANK(#REF!)","v":false},{"$f":"ISBLANK(#REF!)","v":false},{"$f":"ISBLANK(C78)","v":true},{"$f":"K78+L78+M78","v":1},null,false,false,true,2,true]
[null,2018,null,null,null,null,null,null,null,null,{"$f":"ISBLANK(#REF!)","v":false},{"$f":"ISBLANK(#REF!)","v":false},{"$f":"ISBLANK(C79)","v":true},{"$f":"K79+L79+M79","v":1}]

{"sheet":"PP4","index":6,"n_rows":79,"n_cols":22,"rows_kept":79,"cut":false,"hidden":true,"merged":[[76,2,76,4],[76,6,76,7],[77,2,77,4],[77,6,77,7],[78,2,78,4],[78,6,78,7],[59,2,59,7],[60,2,60,7],[61,2,61,4],[61,6,61,7],[62,2,62,4],[62,6,62,7],[65,1,65,7],[69,2,69,7],[71,2,71,7],[74,1,74,7],[75,2,75,4],[75,6,75,7],[58,2,58,7],[46,2,46,4],[46,6,46,7],[48,2,48,5],[50,2,50,7],[51,2,51,7],[52,2,52,7],[53,2,53,4],[53,6,53,7],[54,2,54,4],[54,6,54,7],[56,2,56,5],[41,1,41,7],[41,16,45,16],[42,2,42,7],[43,2,43,7],[44,2,44,7],[45,2,45,4],[45,6,45,7],[40,1,40,5],[16,2,16,7],[18,2,18,7],[20,2,20,7],[22,2,22,7],[24,2,24,7],[26,2,26,7],[28,2,28,7],[30,2,30,7],[32,2,32,7],[36,1,36,7],[37,1,38,7],[34,1,34,7],[35,1,35,7],[33,1,33,7],[14,2,14,7],[0,1,1,7],[4,1,4,7],[6,2,6,7],[8,2,8,7],[10,2,10,7]]}
[null,"Application Form\nINTERREG-IPA Cross-Border Cooperation \nBulgaria-Turkey Programme\nPART I\n     \n     \n     \n"]
[]
[null,"PROJECT PARTNER No 4"]
[]
[null,"1. Identity"]
[null,"1.1.Detailed information"]
[null,"Organization\n(in English language):",null,null,null,null,null,null,null,{"$f":"ISBLANK(C7)","v":true}]
[]
[null,"Organization\n(in native language):",null,null,null,null,null,null,null,{"$f":"ISBLANK(C9)","v":true}]
[]
[null,"Type of organization:",null,null,null,null,null,null,null,{"$f":"ISBLANK(C11)","v":true}]
[]
[null,"Country:"]
[null,null,null,null,null,null,null,null,null,null,1,null,null,null,{"$f":"VLOOKUP('Project identification'!C13,'Project identification'!P9:R13,3)","v":2}]
[null,"District/NUTS III",null,null,null,null,null,null,null,{"$f":"ISBLANK(C15)","v":true},null,"Bourgas","Edirne"]
[null,null,null,null,null,null,null,null,null,null,null,"Yambol","Kirklareli"]
[null,"Town/city:",null,null,null,null,null,null,null,{"$f":"ISBLANK(C17)","v":true},null,"Haskovo","Other",null,"Local/Regional authority","Local/Regional authority","Local/Regional authority","Local/Regional authority","Local/Regional authority"]
[null,null,null,null,null,null,null,null,null,null,null,"Other",null,null,"Central/Regional office or structure of national/governmental institution/administration","Association of local/regional authorities or other organisations","Regional/Sector development agency","Central/Regional/Local office or structure of government institution/ administration","Central/Regional/Local office or structure of government institution/ administration"]
[null,"Address:",null,null,null,null,null,null,null,{"$f":"ISBLANK(C19)","v":true},null,null,null,null,"Regional/Sector development agency","Central/Regional office or structure of central government institution/ administration","Central/Regional/Local office or structure of government institution/ administration","Administration of protected area/s","Administration of protected area/s"]
[null,null,null,null,null,null,null,null,null,null,null,null,null,null,null,"Administration of protected area/s","Public cultural institute","Non-Governmental organisation in the field of tourism","Non-Governmental organisation"]
[null,"Postal Code:",null,null,null,null,null,null,null,{"$f":"ISBLANK(C21)","v":true},null,null,null,null,null,"Euro region or other joint cross-border structure or institution","Regional touristic association","Business support institution/organisation","Business support institution or organisation"]
[null,null,null,null,null,null,null,null,null,null,null,null,null,null,null,"University/Scientific institution","Business support institution/organisation","Tourist board or association","Tourist board or association;"]
[null,"Legal representative                       (Name):",null,null,null,null,null,null,null,{"$f":"ISBLANK(C23)","v":true},null,null,null,null,null,"Educational/Training institution or organisation","Non-Governmental organisation","Educational/Training institution/organization","Educational/Training institution/organization"]
[null,null,null,null,null,null,null,null,null,null,null,null,null,null,null,"Business support institution/organisation","Educational/Training institution or organizations","University/Scientific institution","University/Scientific organization"]
[null,"Legal representative        (Position in the organization):",null,null,null,null,null,null,null,{"$f":"ISBLANK(C25)","v":true},null,null,null,null,null,"Non-Governmental organisation","University/Scientific institution","Public cultural institute","Community organization/institution involved in development of civil society/promotion of education, culture and sports"]
[null,null,null,null,null,null,null,null,null,null,null,null,null,null,null,"Youth’s organization",null,null,"Youth’s organization"]
[null,"Telephone:"]
[]
[null,"Fax:"]
[]
[null,"E-mail:"]
[]
[null,"Website:"]
[null,"1.2. Partner profile\n1.2.1 Partner's background\nPlease describe the profile of the organization and general competences and activities (max 2x2000 chars).",null,null,null,null,null,null,null,{"$f":"J25+J23+J21+J19+J17+J15+J11+J9+J7","v":9}]
[null,null,null,null,null,null,null,null,null,{"$f":"J34=0","v":false}]
[]
[null,"1.2.2 Partner's competence\nPlease describe whether the project partners have the competence to implement the project activities invisaged for each of them (2000 symbols)"]
[]
[null,null,null,null,null,null,null,null,null,{"$f":"LEN(B38)>0","v":false},{"$f":"LEN(B38)>2500","v":false}]
[null,"1.3. Partner experience"]
[null,"Please state if you are experienced in \nproject management of public funded projects"]
[null,"If Yes, please fill in the table below brief description for the most relevant successfully implemented project(s) - (maximum three projects for each project partner):",null,null,null,null,null,null,null,null,"hidden until Yes on G36",null,null,null,null,null,"global check if \"yes\" inG39"]
[null,"Initiative/Programme",null,null,null,null,null,null,null,null,null,null,null,null,null,null,null,null,null,null,null,"Administration of protected area/s"]
[null,"Project title  and reference number",null,null,null,null,null,null,null,null,null,null,null,null,null,null,null,null,null,null,null,"Non-Governmental organisation"]
[null,"Short description including project objectives and activities \n(max. 500 characters)",null,null,null,null,null,null,null,null,null,null,null,null,null,null,null,null,null,null,null,"Business support institution or organisation"]
[null,"Total eligible value in euro for the project partner (for finalized projects: total eligible value after project implementation - financial execution; for ongoing projects: total contract eligible value)",null,null,null,"Grant amount:",null,null,null,null,null,null,null,null,null,null,null,null,null,null,null,"Tourist board or association;"]
[null,"Organization’s role in the project (lead partner, partner etc.)and other partners involved in the project",null,null,null,"Start date and end date of the project ",null,null,null,null,"Add button",null,null,null,null,null,null,null,null,null,null,"Educational/Training institution/organization"]
[]
[null,null,"Add new project information",null,null,null,null,null,null,null,"No",null,1]
[null,null,null,null,null,null,null,null,null,null,"Visible after \"add\""]
[null,"Initiative/Programme",null,null,null,null,null,null,null,null,null,null,null,null,null,null,null,null,null,null,null,"Administration of protected area/s"]
[null,"Project title  and reference number",null,null,null,null,null,null,null,null,null,null,null,null,null,null,null,null,null,null,null,"Non-Governmental organisation"]
[null,"Short description including project objectives and activities \n(max. 500 characters)",null,null,null,null,null,null,null,null,null,null,null,null,null,null,null,null,null,null,null,"Business support institution or organisation"]
[null,"Total eligible value in euro for the project partner (for finalized projects: total eligible value after project implementation - financial execution; for ongoing projects: total contract eligible value)",null,null,null,"Grant amount:",null,null,null,null,null,null,null,null,null,null,null,null,null,null,null,"Tourist board or association;"]
[null,"Organization’s role in the project (lead partner, partner etc.)and other partners involved in the project",null,null,null,"Start date and end date of the project ",null,null,null,null,"Add button",null,null,null,null,null,null,null,null,null,null,"Educational/Training institution/organization"]
[]
[null,null,"Add new project information",null,null,null,null,null,null,null,"No",null,1]
[null,null,null,null,null,null,null,null,null,null,"Visible after \"add\""]
[null,"Initiative/Programme",null,null,null,null,null,null,null,null,null,null,null,null,null,null,null,null,null,null,null,"Administration of protected area/s"]
[null,"Project title  and reference number",null,null,null,null,null,null,null,null,null,null,null,null,null,null,null,null,null,null,null,"Non-Governmental organisation"]
[null,"Short description including project objectives and activities \n(max. 500 characters)",null,null,null,null,null,null,null,null,null,null,null,null,null,null,null,null,null,null,null,"Business support institution or organisation"]
[null,"Total eligible value in euro for the project partner (for finalized projects: total eligible value after project implementation - financial execution; for ongoing projects: total contract eligible value)",null,null,null,"Grant amount:",null,null,null,null,null,null,null,null,null,null,null,null,null,null,null,"Tourist board or association;"]
[null,"Organization’s role in the project (lead partner, partner etc.)and other partners involved in the project",null,null,null,"Start date and end date of the project ",null,null,null,null,"Add button",null,null,null,null,null,null,null,null,null,null,"Educational/Training institution/organization"]
[]
[]
[null,"2. Financial Data"]
[]
[null,"2.1. Detailed information",null,null,null,null,null,null,null,{"$f":"J73=0","v":false}]
[]
[null,"National registration code:",null,null,null,null,null,null,null,{"$f":"ISBLANK(C70)","v":true}]
[]
[null,"VAT registration (type N/A if not applicable):",null,null,null,null,null,null,null,{"$f":"ISBLANK(C72)","v":true}]
[null,null,null,null,null,null,null,null,null,{"$f":"J72+J70","v":2}]
[null,"2.2. Financial status and human resource"]
[null,"Please provide the following information on the basis of the Profit and loss account and Balance sheet of your organization  and any information related to the staff and technical capacity for the past 3 (three) years."]
[null,"Year","Turnover or equivalent\n(in EUR)",null,null,"Number of full-time staff","Number of part-time staff",null,null,{"$f":"N76=0","v":false},null,null,null,{"$f":"SUM(N77:N79)","v":9},null,false,false,true,2]
[null,2016,null,null,null,null,null,null,null,null,{"$f":"ISBLANK(C77)","v":true},{"$f":"ISBLANK(D77)","v":true},true,{"$f":"K77+L77+M77","v":3},null,false,false,true,2]
[null,2017,null,null,null,null,null,null,null,null,{"$f":"ISBLANK(C78)","v":true},true,true,{"$f":"K78+L78+M78","v":3},null,false,false,true,2,true]
[null,2018,null,null,null,null,null,null,null,null,{"$f":"ISBLANK(C79)","v":true},true,true,{"$f":"K79+L79+M79","v":3}]

{"sheet":"PP5","index":7,"n_rows":79,"n_cols":22,"rows_kept":79,"cut":false,"hidden":true,"merged":[[76,2,76,4],[76,6,76,7],[77,2,77,4],[77,6,77,7],[78,2,78,4],[78,6,78,7],[59,2,59,7],[60,2,60,7],[61,2,61,4],[61,6,61,7],[62,2,62,4],[62,6,62,7],[65,1,65,7],[69,2,69,7],[71,2,71,7],[74,1,74,7],[75,2,75,4],[75,6,75,7],[58,2,58,7],[46,2,46,4],[46,6,46,7],[48,2,48,5],[50,2,50,7],[51,2,51,7],[52,2,52,7],[53,2,53,4],[53,6,53,7],[54,2,54,4],[54,6,54,7],[56,2,56,5],[41,1,41,7],[41,16,45,16],[42,2,42,7],[43,2,43,7],[44,2,44,7],[45,2,45,4],[45,6,45,7],[40,1,40,5],[16,2,16,7],[18,2,18,7],[20,2,20,7],[22,2,22,7],[24,2,24,7],[26,2,26,7],[28,2,28,7],[30,2,30,7],[32,2,32,7],[36,1,36,7],[37,1,38,7],[34,1,34,7],[35,1,35,7],[33,1,33,7],[14,2,14,7],[0,1,1,7],[4,1,4,7],[6,2,6,7],[8,2,8,7],[10,2,10,7]]}
[null,"Application Form\nINTERREG-IPA Cross-Border Cooperation \nBulgaria-Turkey Programme\nPART I\n     \n     \n     \n"]
[]
[null,"PROJECT PARTNER No 5"]
[]
[null,"1. Identity"]
[null,"1.1.Detailed information"]
[null,"Organization\n(in English language):",null,null,null,null,null,null,null,{"$f":"ISBLANK(C7)","v":true}]
[]
[null,"Organization\n(in native language):",null,null,null,null,null,null,null,{"$f":"ISBLANK(C9)","v":true}]
[]
[null,"Type of organization:",null,null,null,null,null,null,null,{"$f":"ISBLANK(C11)","v":true}]
[]
[null,"Country:"]
[null,null,null,null,null,null,null,null,null,null,2,null,null,null,{"$f":"VLOOKUP('Project identification'!C13,'Project identification'!P9:R13,3)","v":2}]
[null,"District/NUTS III",null,null,null,null,null,null,null,{"$f":"ISBLANK(C15)","v":true},null,"Bourgas","Edirne"]
[null,null,null,null,null,null,null,null,null,null,null,"Yambol","Kirklareli"]
[null,"Town/city:",null,null,null,null,null,null,null,{"$f":"ISBLANK(C17)","v":true},null,"Haskovo","Other",null,"Local/Regional authority","Local/Regional authority","Local/Regional authority","Local/Regional authority","Local/Regional authority"]
[null,null,null,null,null,null,null,null,null,null,null,"Other",null,null,"Central/Regional office or structure of national/governmental institution/administration","Association of local/regional authorities or other organisations","Regional/Sector development agency","Central/Regional/Local office or structure of government institution/ administration","Central/Regional/Local office or structure of government institution/ administration"]
[null,"Address:",null,null,null,null,null,null,null,{"$f":"ISBLANK(C19)","v":true},null,null,null,null,"Regional/Sector development agency","Central/Regional office or structure of central government institution/ administration","Central/Regional/Local office or structure of government institution/ administration","Administration of protected area/s","Administration of protected area/s"]
[null,null,null,null,null,null,null,null,null,null,null,null,null,null,null,"Administration of protected area/s","Public cultural institute","Non-Governmental organisation in the field of tourism","Non-Governmental organisation"]
[null,"Postal Code:",null,null,null,null,null,null,null,{"$f":"ISBLANK(C21)","v":true},null,null,null,null,null,"Euro region or other joint cross-border structure or institution","Regional touristic association","Business support institution/organisation","Business support institution or organisation"]
[null,null,null,null,null,null,null,null,null,null,null,null,null,null,null,"University/Scientific institution","Business support institution/organisation","Tourist board or association","Tourist board or association;"]
[null,"Legal representative (Name):",null,null,null,null,null,null,null,{"$f":"ISBLANK(C23)","v":true},null,null,null,null,null,"Educational/Training institution or organisation","Non-Governmental organisation","Educational/Training institution/organization","Educational/Training institution/organization"]
[null,null,null,null,null,null,null,null,null,null,null,null,null,null,null,"Business support institution/organisation","Educational/Training institution or organizations","University/Scientific institution","University/Scientific organization"]
[null,"Legal representative (Position in the organization):",null,null,null,null,null,null,null,{"$f":"ISBLANK(C25)","v":true},null,null,null,null,null,"Non-Governmental organisation","University/Scientific institution","Public cultural institute","Community organization/institution involved in development of civil society/promotion of education, culture and sports"]
[null,null,null,null,null,null,null,null,null,null,null,null,null,null,null,"Youth’s organization",null,null,"Youth’s organization"]
[null,"Telephone:"]
[]
[null,"Fax:"]
[]
[null,"E-mail:"]
[]
[null,"Website:"]
[null,"1.2. Partner profile\n1.2.1 Partner's background\nPlease describe the profile of the organization and general competences and activities (max 2x2000 chars).",null,null,null,null,null,null,null,{"$f":"J25+J23+J21+J19+J17+J15+J11+J9+J7","v":9}]
[null,null,null,null,null,null,null,null,null,{"$f":"J34=0","v":false}]
[]
[null,"1.2.2 Partner's competence\nPlease describe whether the project partners have the competence to implement the project activities invisaged for each of them (2000 symbols)"]
[]
[null,null,null,null,null,null,null,null,null,{"$f":"LEN(B38)>0","v":false},{"$f":"LEN(B38)>2500","v":false}]
[null,"1.3. Partner experience"]
[null,"Please state if you are experienced in \nproject management of public funded projects"]
[null,"If Yes, please fill in the table below brief description for the most relevant successfully implemented project(s) - (maximum three projects for each project partner):",null,null,null,null,null,null,null,null,"hidden until Yes on G36",null,null,null,null,null,"global check if \"yes\" inG39"]
[null,"Initiative/Programme",null,null,null,null,null,null,null,null,null,null,null,null,null,null,null,null,null,null,null,"Administration of protected area/s"]
[null,"Project title  and reference number",null,null,null,null,null,null,null,null,null,null,null,null,null,null,null,null,null,null,null,"Non-Governmental organisation"]
[null,"Short description including project objectives and activities \n(max. 500 characters)",null,null,null,null,null,null,null,null,null,null,null,null,null,null,null,null,null,null,null,"Business support institution or organisation"]
[null,"Total eligible value in euro for the project partner (for finalized projects: total eligible value after project implementation - financial execution; for ongoing projects: total contract eligible value)",null,null,null,"Grant amount:",null,null,null,null,null,null,null,null,null,null,null,null,null,null,null,"Tourist board or association;"]
[null,"Organization’s role in the project (lead partner, partner etc.)and other partners involved in the project",null,null,null,"Start date and end date of the project ",null,null,null,null,"Add button",null,null,null,null,null,null,null,null,null,null,"Educational/Training institution/organization"]
[]
[null,null,"Add new project information",null,null,null,null,null,null,null,"No",null,1]
[null,null,null,null,null,null,null,null,null,null,"Visible after \"add\""]
[null,"Initiative/Programme",null,null,null,null,null,null,null,null,null,null,null,null,null,null,null,null,null,null,null,"Administration of protected area/s"]
[null,"Project title  and reference number",null,null,null,null,null,null,null,null,null,null,null,null,null,null,null,null,null,null,null,"Non-Governmental organisation"]
[null,"Short description including project objectives and activities \n(max. 500 characters)",null,null,null,null,null,null,null,null,null,null,null,null,null,null,null,null,null,null,null,"Business support institution or organisation"]
[null,"Total eligible value in euro for the project partner (for finalized projects: total eligible value after project implementation - financial execution; for ongoing projects: total contract eligible value)",null,null,null,"Grant amount:",null,null,null,null,null,null,null,null,null,null,null,null,null,null,null,"Tourist board or association;"]
[null,"Organization’s role in the project (lead partner, partner etc.)and other partners involved in the project",null,null,null,"Start date and end date of the project ",null,null,null,null,"Add button",null,null,null,null,null,null,null,null,null,null,"Educational/Training institution/organization"]
[]
[null,null,"Add new project information",null,null,null,null,null,null,null,"No",null,1]
[null,null,null,null,null,null,null,null,null,null,"Visible after \"add\""]
[null,"Initiative/Programme",null,null,null,null,null,null,null,null,null,null,null,null,null,null,null,null,null,null,null,"Administration of protected area/s"]
[null,"Project title  and reference number",null,null,null,null,null,null,null,null,null,null,null,null,null,null,null,null,null,null,null,"Non-Governmental organisation"]
[null,"Short description including project objectives and activities \n(max. 500 characters)",null,null,null,null,null,null,null,null,null,null,null,null,null,null,null,null,null,null,null,"Business support institution or organisation"]
[null,"Total eligible value in euro for the project partner (for finalized projects: total eligible value after project implementation - financial execution; for ongoing projects: total contract eligible value)",null,null,null,"Grant amount:",null,null,null,null,null,null,null,null,null,null,null,null,null,null,null,"Tourist board or association;"]
[null,"Organization’s role in the project (lead partner, partner etc.)and other partners involved in the project",null,null,null,"Start date and end date of the project ",null,null,null,null,"Add button",null,null,null,null,null,null,null,null,null,null,"Educational/Training institution/organization"]
[]
[]
[null,"2. Financial Data"]
[]
[null,"2.1. Detailed information",null,null,null,null,null,null,null,{"$f":"J73=0","v":false}]
[]
[null,"National registration code:",null,null,null,null,null,null,null,{"$f":"ISBLANK(C70)","v":true}]
[]
[null,"VAT registration (type N/A if not applicable):",null,null,null,null,null,null,null,{"$f":"ISBLANK(C72)","v":true}]
[null,null,null,null,null,null,null,null,null,{"$f":"J72+J70","v":2}]
[null,"2.2. Financial status and human resource"]
[null,"Please provide the following information on the basis of the Profit and loss account and Balance sheet of your organization  and any information related to the staff and technical capacity for the past 3 (three) years."]
[null,"Year","Turnover or equivalent\n(in EUR)",null,null,"Number of full-time staff","Number of part-time staff",null,null,{"$f":"N76=0","v":false},null,null,null,{"$f":"SUM(N77:N79)","v":9},null,false,false,true,2]
[null,2016,null,null,null,null,null,null,null,null,{"$f":"ISBLANK(C77)","v":true},{"$f":"ISBLANK(D77)","v":true},true,{"$f":"K77+L77+M77","v":3},null,false,false,true,2]
[null,2017,null,null,null,null,null,null,null,null,{"$f":"ISBLANK(C78)","v":true},true,true,{"$f":"K78+L78+M78","v":3},null,false,false,true,2,true]
[null,2018,null,null,null,null,null,null,null,null,{"$f":"ISBLANK(C79)","v":true},true,true,{"$f":"K79+L79+M79","v":3}]

{"sheet":"Project identification","index":8,"n_rows":482,"n_cols":32,"rows_kept":482,"cut":false,"hidden":false,"merged":[[378,1,378,9],[364,1,364,9],[365,1,365,9],[366,1,366,9],[368,2,368,9],[369,2,369,9],[370,2,370,9],[371,1,371,9],[372,1,372,9],[373,1,373,9],[359,1,359,9],[360,1,360,9],[361,1,361,9],[362,1,362,9],[363,1,363,9],[374,1,374,9],[375,1,375,9],[376,1,376,9],[377,1,377,9],[349,1,349,9],[350,1,350,9],[351,1,351,9],[352,1,352,9],[353,1,353,9],[354,1,354,9],[356,2,356,9],[357,2,357,9],[358,2,358,9],[339,1,339,9],[340,1,340,9],[341,1,341,9],[342,1,342,9],[344,2,344,9],[345,2,345,9],[346,2,346,9],[347,1,347,9],[348,1,348,9],[329,1,329,9],[330,1,330,9],[332,2,332,9],[333,2,333,9],[334,2,334,9],[335,1,335,9],[336,1,336,9],[337,1,337,9],[338,1,338,9],[320,2,320,9],[321,2,321,9],[322,2,322,9],[323,1,323,9],[324,1,324,9],[325,1,325,9],[326,1,326,9],[327,1,327,9],[328,1,328,9],[310,2,310,9],[311,1,311,9],[312,1,312,9],[313,1,313,9],[314,1,314,9],[315,1,315,9],[316,1,316,9],[317,1,317,9],[318,1,318,9],[300,1,300,9],[301,1,301,9],[302,1,302,9],[303,1,303,9],[304,1,304,9],[305,1,305,9],[306,1,306,9],[308,2,308,9],[309,2,309,9],[293,1,293,9],[294,1,294,9],[284,2,284,9],[287,1,287,9],[290,1,290,9],[296,2,296,9],[297,2,297,9],[298,2,298,9],[299,1,299,9],[275,1,275,9],[276,1,276,9],[277,1,277,9],[278,1,278,9],[279,1,279,9],[280,1,280,9],[281,1,281,9],[282,1,282,9],[432,1,432,9],[393,1,393,2],[393,3,393,4],[393,5,393,7],[393,8,393,9],[394,1,394,2],[394,3,394,4],[394,5,394,7],[394,8,394,9],[392,1,392,9],[285,2,285,9],[286,2,286,9],[288,1,288,9],[289,1,289,9],[291,1,291,9],[292,1,292,9],[447,2,447,3],[435,1,435,9],[441,1,441,9],[442,1,442,9],[430,1,430,9],[397,1,397,2],[217,1,217,9],[248,2,248,9],[249,2,249,9],[244,1,244,9],[439,1,439,9],[397,8,397,9],[250,2,250,9],[225,1,225,9],[226,1,226,9],[227,1,227,9],[229,1,229,9],[231,1,231,9],[398,1,398,2],[398,3,398,4],[398,5,398,7],[398,8,398,9],[243,1,243,9],[245,1,245,9],[385,1,385,9],[479,2,479,9],[480,2,480,9],[444,2,444,3],[461,1,461,9],[465,1,465,9],[455,1,455,9],[456,1,456,9],[460,1,460,9],[474,1,474,9],[469,1,469,9],[467,1,467,9],[468,1,468,9],[473,1,473,9],[478,1,478,9],[445,4,445,8],[447,4,447,8],[448,4,448,8],[449,4,449,8],[450,4,450,8],[444,4,444,8],[446,4,446,8],[445,2,445,3],[446,2,446,3],[35,1,35,9],[29,2,29,3],[29,4,29,9],[30,1,30,9],[42,1,42,9],[76,1,76,9],[391,1,391,9],[396,3,396,4],[396,1,396,2],[395,8,395,9],[395,5,395,7],[204,1,204,9],[206,1,206,9],[396,5,396,7],[396,8,396,9],[395,3,395,4],[395,1,395,2],[166,1,166,9],[228,1,228,9],[230,1,230,9],[232,1,232,9],[222,2,222,9],[223,2,223,9],[224,2,224,9],[266,1,266,9],[267,1,267,9],[268,1,268,9],[0,1,1,9],[4,1,4,9],[14,2,14,9],[8,2,8,9],[10,2,10,9],[12,2,12,9],[18,2,18,9],[22,1,22,9],[26,1,26,9],[24,2,24,3],[24,4,24,9],[44,1,44,9],[31,2,31,3],[31,4,31,9],[25,2,25,3],[25,4,25,9],[27,2,27,3],[27,4,27,9],[28,1,28,9],[32,1,32,9],[36,1,36,9],[126,1,126,9],[128,1,128,9],[88,1,88,9],[95,1,95,9],[260,2,260,9],[261,2,261,9],[262,2,262,9],[263,1,263,9],[264,1,264,9],[216,1,216,9],[256,1,256,9],[218,1,218,9],[215,1,215,9],[253,1,253,9],[109,1,109,9],[119,2,119,9],[120,2,120,9],[170,2,170,9],[171,2,171,9],[172,2,172,9],[173,1,173,9],[175,1,175,9],[178,1,178,9],[167,1,167,9],[45,1,45,9],[48,1,48,9],[49,1,49,9],[52,1,52,9],[53,1,53,9],[46,1,46,9],[59,2,59,4],[60,2,60,4],[62,2,62,4],[59,5,59,8],[60,5,60,8],[62,5,62,8],[61,2,61,4],[61,5,61,8],[47,1,47,9],[448,2,448,3],[449,2,449,3],[450,2,450,3],[197,2,197,9],[185,2,185,9],[187,1,187,9],[188,1,188,9],[189,1,189,9],[190,1,190,9],[191,1,191,9],[193,1,193,9],[201,1,201,9],[269,1,269,9],[270,1,270,9],[272,2,272,9],[203,1,203,9],[205,1,205,9],[209,2,209,9],[210,2,210,9],[211,2,211,9],[212,1,212,9],[213,1,213,9],[214,1,214,9],[238,1,238,9],[451,2,451,3],[219,1,219,9],[257,1,257,9],[258,1,258,9],[259,1,259,9],[240,1,240,9],[242,1,242,9],[397,3,397,4],[397,5,397,7],[254,1,254,9],[251,1,251,9],[241,1,241,9],[235,2,235,9],[236,2,236,9],[237,2,237,9],[382,1,382,9],[390,1,390,9],[427,1,427,2],[255,1,255,9],[239,1,239,9],[252,1,252,9],[273,2,273,9],[274,2,274,9],[265,1,265,9],[481,2,481,9],[150,1,150,9],[97,1,97,9],[99,1,99,9],[101,1,101,9],[111,1,111,9],[110,1,110,9],[123,1,123,9],[125,1,125,9],[127,1,127,9],[141,1,141,9],[147,1,147,9],[107,2,107,9],[144,2,144,9],[145,2,145,9],[146,2,146,9],[202,1,202,9],[174,1,174,9],[180,1,180,9],[179,1,179,9],[183,2,183,9],[184,2,184,9],[135,1,135,9],[137,1,137,9],[79,2,79,9],[81,2,81,9],[92,2,92,9],[93,2,93,9],[94,2,94,9],[157,2,157,9],[131,2,131,9],[132,2,132,9],[134,1,134,9],[136,1,136,9],[138,1,138,9],[140,1,140,9],[133,2,133,9],[149,1,149,9],[151,1,151,9],[152,1,152,9],[153,1,153,9],[85,1,85,9],[87,1,87,9],[89,1,89,9],[96,1,96,9],[82,1,82,9],[122,1,122,9],[86,1,86,9],[80,2,80,9],[84,1,84,9],[139,1,139,9],[148,1,148,9],[108,1,108,9],[98,1,98,9],[100,1,100,9],[124,1,124,9],[164,1,164,9],[112,1,112,9],[114,1,114,9],[118,2,118,9],[121,1,121,9],[113,1,113,9],[115,1,115,9],[83,1,83,9],[154,1,154,9],[161,1,161,9],[163,1,163,9],[162,1,162,9],[160,1,160,9],[105,2,105,9],[106,2,106,9],[102,1,102,9],[158,2,158,9],[159,2,159,9],[165,1,165,9],[186,1,186,9],[192,1,192,9],[198,2,198,9],[199,1,199,9],[200,1,200,9],[176,1,176,9],[177,1,177,9],[196,2,196,9],[66,2,66,9],[67,2,67,9],[68,2,68,9],[69,1,69,9],[71,1,71,9],[65,1,65,9],[70,1,70,9],[73,1,73,9],[75,1,75,9],[72,1,72,9],[74,1,74,9]]}
[null,"Application Form\nINTERREG-IPA Cross-Border Cooperation \nBulgaria-Turkey Programme\nPART II\n     \n     \n     \n"]
[]
[null,"PROJECT IDENTIFICATION"]
[null,null,null,null,null,null,null,null,null,null,null,null,null,null,{"$f":"Cover!C34","v":"Investment"},8,15]
[null,"1. Project Identity",null,null,null,null,null,null,null,null,null,null,null,null,null,12,24]
[]
[null,"1.1. Project Identity"]
[]
[null,"Project title:",{"$f":"Cover!C28","v":0},null,null,null,null,null,null,null,null,{"$f":"ISBLANK(C9)","v":false},null,"Environment",null,"1.1. Preventing and mitigating the consequences of natural and man-made disasters in the cross-border area",3,1]
[null,null,null,null,null,null,null,null,null,null,null,null,null,"Tourism",null,"1.2. Improving the capacity for nature protection, sustainable use and management of common natural resources through cooperation initiatives in the  cross-border area",3,2]
[null,"Priority Axis",{"$f":"Cover!C30","v":"Environment"},null,null,null,null,null,null,null,null,{"$f":"ISBLANK(C11)","v":false},null,null,null,"2.1. Increasing the touristic attractiveness of the cross-border area through better utilisation of natural, cultural and historical heritage and related infrastructure",2,3]
[null,null,null,null,null,null,null,null,null,null,null,null,null,null,null,"2.2. Increasing the cross-border tourism potential by developing common destinations",1,4]
[null,"Specific Objective",{"$f":"Cover!C32","v":"1.2. Improving the capacity for nature protection, sustainable use and management of common natural resources through cooperation initiatives in the  cross-border area"},null,null,null,null,null,null,null,null,{"$f":"ISBLANK(C13)","v":false},null,null,null,"2.3. Increasing networking for development of sustainable tourism through cross-border cooperation initiatives",1,5]
[]
[null,"Type of project",{"$f":"Cover!C34","v":"Investment"},null,null,null,null,null,null,null,null,{"$f":"ISBLANK(C15)","v":false},null,{"$f":"VLOOKUP(C13,P9:Q13,2)","v":3},"Soft","Investment","Investment"]
[null,null,null,null,null,null,null,null,null,null,null,{"$f":"(L15+L13+L11+L9)=0","v":true},null,null,null,null,"Soft"]
[null,"1.2. Project duration"]
[null,null,null,null,null,null,null,null,null,null,null,{"$f":"L19=0","v":false}]
[null,"Duration in months",null,null,null,null,null,null,null,null,null,{"$f":"NOT(ISBLANK(C19))","v":false}]
[]
[]
[null,"1.3. Cooperation criteria"]
[null,"(Please, be reminded that your proposal must respect all four cooperation criteria - Joint Development, Joint Implementation, Joint Financing and Joint Staffing)"]
[]
[null,"Criteria","Applicable"]
[null,"Joint Development",{"$f":"IF(N26,\"X\",\"\")","v":""},null,"Description",null,null,null,null,null,null,false,{"$f":"L26+L27","v":0},{"$f":"LEN(pi_coop_crit1_descr)>0","v":false},{"$f":"(N26+N28+N30+N32)>2","v":false}]
[null,null,null,null,null,null,null,null,null,null,null,{"$f":"B27<>\"\"","v":false}]
[null,"Joint Implementation",{"$f":"IF(N28,\"X\",\"\")","v":""},null,"Description",null,null,null,null,null,null,false,{"$f":"L28+L29","v":0},{"$f":"LEN(pi_coop_crit2_descr)>0","v":false}]
[null,null,null,null,null,null,null,null,null,null,null,{"$f":"B29<>\"\"","v":false}]
[null,"Joint Staffing",{"$f":"IF(N30,\"X\",\"\")","v":""},null,"Description",null,null,null,null,null,null,false,{"$f":"L30+L31","v":0},{"$f":"LEN(pi_coop_crit3_descr)>0","v":false}]
[null,null,null,null,null,null,null,null,null,null,null,{"$f":"B31<>\"\"","v":false}]
[null,"Joint Financing",{"$f":"IF(N32,\"X\",\"\")","v":""},null,"Description",null,null,null,null,null,null,false,{"$f":"L32+L33","v":0},{"$f":"LEN(pi_coop_crit4_descr)>0","v":false}]
[null,null,null,null,null,null,null,null,null,null,null,{"$f":"B33<>\"\"","v":false}]
[]
[null,"1.4 Cross-border impact and benefits of the project"]
[null,"Please, describe the impact of the project and project results on the cross-border region, what the benefits from the project the Programme area, the target groups, the partner organizations will be. (3000 characters)"]
[null,null,null,null,null,null,null,null,null,null,null,{"$f":"LEN(B37)","v":0},false,{"$f":"LEN(B37)>1500","v":false},{"$f":"M37+N37","v":0},{"$f":"O37=0","v":true}]
[null,"1234567890123456789012345678901234567890123456789012345678901234567890123456789012345678901234567890123456789012345678901234567890123456789012345678901234567890123456789012345678901234567890123456789012345678901234567890123456789012345678901234567890123456789012345678901234567890123456789012345678901234567890123456789012345678901234567890123456789012345678901234567890123456789012345678901234567890123456789012345678901234567890123456789012345678901234567890123456789012345678901234567890123456789012345678901234567890123456789012345678901234567890123456789012345678901234567890123456789012345678901234567890123456789012345678901234567890123456789012345678901234567890123456789012345678901234567890123456789012345678901234567890123456789012345678901234567890123456789012345678901234567890123456789012345678901234567890123456789012345678901234567890123456789012345678901234567890123456789012345678901234567890123456789012345678901234567890123456789012345678901234567890123456789012345678901234567890"]
[]
[]
[]
[]
[null,"2. Project description\n"]
[null,"2.1. Background and demand for the strategic project proposal "]
[null,"Please provide brief information about the project background, stating the concrete needs, strengths, weaknesses and constraints of the target group(s) and target region(s) that you focus on and the proposed strategy concerning these issues (maximum 6000 characters)"]
[null,null,null,null,null,null,null,null,null,null,null,{"$f":"ISBLANK(pi_pd_back1)","v":true}]
[]
[]
[]
[]
[]
[]
[]
[]
[]
[null,"2.2. Description of the target groups and beneficiaries (estimated numbers):"]
[null,"“Target groups” are the groups/entities who will be positively affected by the project "]
[null,"“Final beneficiaries” are those who will benefit from the project in a long term "]
[]
[null,null,"Type",null,null,"Description/ \nspecification",null,null,null,"Estimated Number"]
[null,"Target groups",null,null,null,null,null,null,null,null,null,{"$f":"C61<>\"\"","v":false},{"$f":"F61<>\"\"","v":false},{"$f":"J61<>\"\"","v":false},{"$f":"N61+M61+L61+L62+M62+N62+L63+M63+N63","v":0},{"$f":"O61>6","v":false}]
[null,"Direct beneficiaries",null,null,null,null,null,null,null,null,null,{"$f":"C62<>\"\"","v":false},{"$f":"F62<>\"\"","v":false},{"$f":"J62<>\"\"","v":false}]
[null,"Final beneficiaries",null,null,null,null,null,null,null,null,null,{"$f":"C63<>\"\"","v":false},{"$f":"F63<>\"\"","v":false},{"$f":"J63<>\"\"","v":false},"Prio 3","q  SMEs and other businesses in the region"]
[null,null,null,null,null,null,null,null,null,null,null,null,null,null,null,"q  Economically active population of the region "]
[null,"2.3. Project activities - description and methods of implementation",null,null,null,null,null,null,null,null,null,null,null,null,null,"q  Research and development, education and training institutions"]
[null,"(Minimum 500 and maximum 1500 characters per activity)\nPlease multiply the table below for each additional activity!",null,null,null,null,null,null,null,null,null,null,null,null,null,"q  Regional and local authorities"]
[null,"Activity No",1,null,null,null,null,null,null,null,null,null,null,"Autonumber",null,"q  Education and training institutions"]
[null,"Title of activity:",null,null,null,null,null,null,null,null,null,null,null,null,null,"q  Regional and local authorities, their subsidiary structures and associations of local authorities"]
[null,"Location",null,null,null,null,null,null,null,null,null,null,null,null,null,"q  Small and medium enterprises (SMEs) in tourism"]
[null,"1. Brief description of the activity:",null,null,null,null,null,null,null,null,null,null,null,null,null,"q  Tourist operators"]
[null,null,null,null,null,null,null,null,null,null,null,null,"Bourgas",null,null,"q  Tourist information centres (points) "]
[null,"2. Who will be the reponsible partner for implementation and reporting of the activity?",null,null,null,null,null,null,null,null,null,null,"Haskovo",null,"Prio 1","-       Population in the region"]
[null,null,null,null,null,null,null,null,null,null,null,null,"Yambol",null,null,"-       Regional and local authorities, their subsidiary structures and associations of local authorities"]
[null,"3. What methods / resources will be used for impementation of the activity? ",null,null,null,null,null,null,null,null,null,null,"Edirne",null,null,"-       Regional structures of central public authorities (including protected areas administration and those dealing with emergency situations and nature / environment protection)"]
[null,null,null,null,null,null,null,null,null,null,null,null,"Kirklareli",null,null,"-       Euro regions and other joint cross border structures"]
[null,"4. What will be the output(s) of the activity?",null,null,null,null,null,null,null,null,null,null,null,null,null,"-       Research, education and training institutions"]
[]
[null,"Add new activity?"]
[]
[null,"Activity No",2,null,null,null,null,null,null,null,null,null,null,"Autonumber",null,"q  Education and training institutions"]
[null,"Title of activity:",null,null,null,null,null,null,null,null,null,null,null,null,null,"q  Regional and local authorities, their subsidiary structures and associations of local authorities"]
[null,"Location",null,null,null,null,null,null,null,null,null,null,null,null,null,"q  Small and medium enterprises (SMEs) in tourism"]
[null,"1. Brief description of the activity:",null,null,null,null,null,null,null,null,null,null,null,null,null,"q  Tourist operators"]
[null,null,null,null,null,null,null,null,null,null,null,null,null,null,null,"q  Tourist information centres (points) "]
[null,"2. Who will be the reponsible partner for implementation and reporting of the activity?",null,null,null,null,null,null,null,null,null,null,null,null,"Prio 1","-       Population in the region"]
[null,null,null,null,null,null,null,null,null,null,null,null,null,null,null,"-       Regional and local authorities, their subsidiary structures and associations of local authorities"]
[null,"3. What methods / resources will be used for impementation of the activity? ",null,null,null,null,null,null,null,null,null,null,null,null,null,"-       Regional structures of central public authorities (including protected areas administration and those dealing with emergency situations and nature / environment protection)"]
[null,null,null,null,null,null,null,null,null,null,null,null,null,null,null,"-       Euro regions and other joint cross border structures"]
[null,"4. What will be the output(s) of the activity?",null,null,null,null,null,null,null,null,null,null,null,null,null,"-       Research, education and training institutions"]
[]
[null,"Add new activity?"]
[]
[null,"Activity No",3]
[null,"Title of activity:"]
[null,"Location"]
[null,"1. Brief description of the activity:"]
[]
[null,"2. Who will be the reponsible partner for implementation and reporting of the activity?"]
[null,null,null,null,null,null,null,null,null,null,null,null,null,null,null,"-       Regional and local authorities, their subsidiary structures and associations of local authorities"]
[null,"3. What methods / resources will be used for impementation of the activity? ",null,null,null,null,null,null,null,null,null,null,null,null,null,"-       Regional structures of central public authorities (including protected areas administration and those dealing with emergency situations and nature / environment protection)"]
[null,null,null,null,null,null,null,null,null,null,null,null,null,null,null,"-       Euro regions and other joint cross border structures"]
[null,"4. What will be the output(s) of the activity?",null,null,null,null,null,null,null,null,null,null,null,null,null,"-       Research, education and training institutions"]
[]
[null,"Add new activity?"]
[]
[null,"Activity No",4]
[null,"Title of activity:"]
[null,"Location"]
[null,"1. Brief description of the activity:"]
[]
[null,"2. Who will be the reponsible partner for implementation and reporting of the activity?"]
[null,null,null,null,null,null,null,null,null,null,null,null,null,null,null,"-       Regional and local authorities, their subsidiary structures and associations of local authorities"]
[null,"3. What methods / resources will be used for impementation of the activity? ",null,null,null,null,null,null,null,null,null,null,null,null,null,"-       Regional structures of central public authorities (including protected areas administration and those dealing with emergency situations and nature / environment protection)"]
[null,null,null,null,null,null,null,null,null,null,null,null,null,null,null,"-       Euro regions and other joint cross border structures"]
[null,"4. What will be the output(s) of the activity?",null,null,null,null,null,null,null,null,null,null,null,null,null,"-       Research, education and training institutions"]
[]
[null,"Add new activity?"]
[]
[null,"Activity No",5]
[null,"Title of activity:"]
[null,"Location"]
[null,"1. Brief description of the activity:"]
[]
[null,"2. Who will be the reponsible partner for implementation and reporting of the activity?"]
[null,null,null,null,null,null,null,null,null,null,null,null,null,null,null,"-       Regional and local authorities, their subsidiary structures and associations of local authorities"]
[null,"3. What methods / resources will be used for impementation of the activity? ",null,null,null,null,null,null,null,null,null,null,null,null,null,"-       Regional structures of central public authorities (including protected areas administration and those dealing with emergency situations and nature / environment protection)"]
[null,null,null,null,null,null,null,null,null,null,null,null,null,null,null,"-       Euro regions and other joint cross border structures"]
[null,"4. What will be the output(s) of the activity?",null,null,null,null,null,null,null,null,null,null,null,null,null,"-       Research, education and training institutions"]
[]
[null,"Add new activity?"]
[]
[null,"Activity No",6]
[null,"Title of activity:"]
[null,"Location"]
[null,"1. Brief description of the activity:"]
[]
[null,"2. Who will be the reponsible partner for implementation and reporting of the activity?"]
[null,null,null,null,null,null,null,null,null,null,null,null,null,null,null,"-       Regional and local authorities, their subsidiary structures and associations of local authorities"]
[null,"3. What methods / resources will be used for impementation of the activity? ",null,null,null,null,null,null,null,null,null,null,null,null,null,"-       Regional structures of central public authorities (including protected areas administration and those dealing with emergency situations and nature / environment protection)"]
[null,null,null,null,null,null,null,null,null,null,null,null,null,null,null,"-       Euro regions and other joint cross border structures"]
[null,"4. What will be the output(s) of the activity?",null,null,null,null,null,null,null,null,null,null,null,null,null,"-       Research, education and training institutions"]
[]
[null,"Add new activity?"]
[]
[null,"Activity No",7]
[null,"Title of activity:"]
[null,"Location"]
[null,"1. Brief description of the activity:"]
[]
[null,"2. Who will be the reponsible partner for implementation and reporting of the activity?"]
[null,null,null,null,null,null,null,null,null,null,null,null,null,null,null,"-       Regional and local authorities, their subsidiary structures and associations of local authorities"]
[null,"3. What methods / resources will be used for impementation of the activity? ",null,null,null,null,null,null,null,null,null,null,null,null,null,"-       Regional structures of central public authorities (including protected areas administration and those dealing with emergency situations and nature / environment protection)"]
[null,null,null,null,null,null,null,null,null,null,null,null,null,null,null,"-       Euro regions and other joint cross border structures"]
[null,"4. What will be the output(s) of the activity?",null,null,null,null,null,null,null,null,null,null,null,null,null,"-       Research, education and training institutions"]
[]
[null,"Add new activity?"]
[]
[null,"Activity No",8]
[null,"Title of activity:"]
[null,"Location"]
[null,"1. Brief description of the activity:"]
[]
[null,"2. Who will be the reponsible partner for implementation and reporting of the activity?"]
[null,null,null,null,null,null,null,null,null,null,null,null,null,null,null,"-       Regional and local authorities, their subsidiary structures and associations of local authorities"]
[null,"3. What methods / resources will be used for impementation of the activity? ",null,null,null,null,null,null,null,null,null,null,null,null,null,"-       Regional structures of central public authorities (including protected areas administration and those dealing with emergency situations and nature / environment protection)"]
[null,null,null,null,null,null,null,null,null,null,null,null,null,null,null,"-       Euro regions and other joint cross border structures"]
[null,"4. What will be the output(s) of the activity?",null,null,null,null,null,null,null,null,null,null,null,null,null,"-       Research, education and training institutions"]
[]
[null,"Add new activity?"]
[]
[null,"Activity No",9]
[null,"Title of activity:"]
[null,"Location"]
[null,"1. Brief description of the activity:"]
[]
[null,"2. Who will be the reponsible partner for implementation and reporting of the activity?"]
[]
[null,"3. What methods / resources will be used for impementation of the activity? "]
[]
[null,"4. What will be the output(s) of the activity?"]
[]
[]
[]
[null,"Activity No",10]
[null,"Title of activity:"]
[null,"Location"]
[null,"1. Brief description of the activity:"]
[]
[null,"2. Who will be the reponsible partner for implementation and reporting of the activity?"]
[]
[null,"3. What methods / resources will be used for impementation of the activity? "]
[]
[null,"4. What will be the output(s) of the activity?"]
[]
[]
[]
[null,"Activity No",11]
[null,"Title of activity:"]
[null,"Location"]
[null,"1. Brief description of the activity:"]
[]
[null,"2. Who will be the reponsible partner for implementation and reporting of the activity?"]
[]
[null,"3. What methods / resources will be used for impementation of the activity? "]
[]
[null,"4. What will be the output(s) of the activity?"]
[]
[]
[]
[null,"Activity No",12]
[null,"Title of activity:"]
[null,"Location"]
[null,"1. Brief description of the activity:"]
[]
[null,"2. Who will be the reponsible partner for implementation and reporting of the activity?"]
[]
[null,"3. What methods / resources will be used for impementation of the activity? "]
[]
[null,"4. What will be the output(s) of the activity?"]
[]
[]
[]
[null,"Activity No",13]
[null,"Title of activity:"]
[null,"Location"]
[null,"1. Brief description of the activity:"]
[]
[null,"2. Who will be the reponsible partner for implementation and reporting of the activity?"]
[]
[null,"3. What methods / resources will be used for impementation of the activity? "]
[]
[null,"4. What will be the output(s) of the activity?"]
[]
[]
[]
[null,"Activity No",14]
[null,"Title of activity:"]
[null,"Location"]
[null,"1. Brief description of the activity:"]
[]
[null,"2. Who will be the reponsible partner for implementation and reporting of the activity?"]
[null,null,null,null,null,null,null,null,null,null,null,null,{"$f":"LEN(pi_act_14_report)","v":0}]
[null,"3. What methods / resources will be used for impementation of the activity? "]
[]
[null,"4. What will be the output(s) of the activity?"]
[null,null,null,null,null,null,null,null,null,null,null,null,{"$f":"LEN(pi_act_14_output)","v":0}]
[]
[]
[null,"Activity No",15]
[null,"Title of activity:"]
[null,"Location"]
[null,"1. Brief description of the activity:"]
[]
[null,"2. Who will be the reponsible partner for implementation and reporting of the activity?"]
[]
[null,"3. What methods / resources will be used for impementation of the activity? "]
[]
[null,"4. What will be the output(s) of the activity?"]
[]
[]
[null,"Activity No",16]
[null,"Title of activity:"]
[null,"Location"]
[null,"1. Brief description of the activity:"]
[]
[null,"2. Who will be the reponsible partner for implementation and reporting of the activity?"]
[]
[null,"3. What methods / resources will be used for impementation of the activity? "]
[]
[null,"4. What will be the output(s) of the activity?"]
[]
[]
[null,"Activity No",17]
[null,"Title of activity:"]
[null,"Location"]
[null,"1. Brief description of the activity:"]
[]
[null,"2. Who will be the reponsible partner for implementation and reporting of the activity?"]
[]
[null,"3. What methods / resources will be used for impementation of the activity? "]
[]
[null,"4. What will be the output(s) of the activity?"]
[]
[]
[null,"Activity No",18]
[null,"Title of activity:"]
[null,"Location"]
[null,"1. Brief description of the activity:"]
[]
[null,"2. Who will be the reponsible partner for implementation and reporting of the activity?"]
[]
[null,"3. What methods / resources will be used for impementation of the activity? "]
[]
[null,"4. What will be the output(s) of the activity?"]
[]
[]
[null,"Activity No",19]
[null,"Title of activity:"]
[null,"Location"]
[null,"1. Brief description of the activity:"]
[]
[null,"2. Who will be the reponsible partner for implementation and reporting of the activity?"]
[]
[null,"3. What methods / resources will be used for impementation of the activity? "]
[]
[null,"4. What will be the output(s) of the activity?"]
[]
[]
[null,"Activity No",20]
[null,"Title of activity:"]
[null,"Location"]
[null,"1. Brief description of the activity:"]
[]
[null,"2. Who will be the reponsible partner for implementation and reporting of the activity?"]
[]
[null,"3. What methods / resources will be used for impementation of the activity? "]
[]
[null,"4. What will be the output(s) of the activity?"]
[]
[]
[null,"Activity No",21]
[null,"Title of activity:"]
[null,"Location"]
[null,"1. Brief description of the activity:"]
[]
[null,"2. Who will be the reponsible partner for implementation and reporting of the activity?"]
[]
[null,"3. What methods / resources will be used for impementation of the activity? "]
[]
[null,"4. What will be the output(s) of the activity?"]
[]
[]
[null,"Activity No",22]
[null,"Title of activity:"]
[null,"Location"]
[null,"1. Brief description of the activity:"]
[]
[null,"2. Who will be the reponsible partner for implementation and reporting of the activity?"]
[]
[null,"3. What methods / resources will be used for impementation of the activity? "]
[]
[null,"4. What will be the output(s) of the activity?"]
[]
[]
[null,"Activity No",23]
[null,"Title of activity:"]
[null,"Location"]
[null,"1. Brief description of the activity:"]
[]
[null,"2. Who will be the reponsible partner for implementation and reporting of the activity?"]
[]
[null,"3. What methods / resources will be used for impementation of the activity? "]
[]
[null,"4. What will be the output(s) of the activity?"]
[]
[]
[null,"Activity No",24]
[null,"Title of activity:"]
[null,"Location"]
[null,"1. Brief description of the activity:"]
[]
[null,"2. Who will be the reponsible partner for implementation and reporting of the activity?"]
[]
[null,"3. What methods / resources will be used for impementation of the activity? "]
[]
[null,"4. What will be the output(s) of the activity?"]
[]
[]
[null,"Activity No",25]
[null,"Title of activity:"]
[null,"Location"]
[null,"1. Brief description of the activity:"]
[]
[null,"2. Who will be the reponsible partner for implementation and reporting of the activity?"]
[]
[null,"3. What methods / resources will be used for impementation of the activity? "]
[]
[null,"4. What will be the output(s) of the activity?"]
[]
[]
[]
[null,"2.4. Project activities outside the eligible border area (if applicable)"]
[null,"Please discribe the activity/ies that will be implemented outside the eligible border area  of the Programme as set in Applicant's Guide (type,place,involve actors,output  and justification how activity/ies will benefit the programme area)"]
[null,"Applicable",null,null,null,null,null,null,null,null,null,false,{"$f":"L384+L386","v":0},{"$f":"M384=2","v":false}]
[]
[null,null,null,null,null,null,null,null,null,null,null,{"$f":"B386<>\"\"","v":false},null,"active if H284 = yes"]
[]
[]
[null,"2.5.Communication and visibility"]
[null,"2.5.1.Communication strategy "]
[null,"Please summarize the communication and visibility activities that you foresee in your project proposal (max 1500 characters)"]
[null,null,null,null,null,null,null,null,null,null,null,{"$f":"B392<>\"\"","v":false},{"$f":"LEN(B392)>1500","v":false},"Check text size"]
[null,"2.5.2.Communication tools \nPlease describe what communication tools will be used to fulfill the strategy \n"]
[null,"Type of communication tools/materials",null,"Responsible partner",null,"Target groups",null,null,"Number of persons to be reached"]
[null,null,null,null,null,null,null,null,null,null,null,null,null,{"$f":"ISBLANK(pi_comm_tool1)","v":true},{"$f":"ISBLANK(pi_comm_partner1)","v":true},{"$f":"ISBLANK(pi_comm_target1)","v":true},{"$f":"ISBLANK(pi_comm_reach1)","v":true},{"$f":"N395+O395+P395+Q395","v":4},{"$f":"R395=0","v":false}]
[null,null,null,null,null,null,null,null,null,null,null,null,null,{"$f":"ISBLANK(pi_comm_tool2)","v":true},{"$f":"ISBLANK(pi_comm_partner2)","v":true},{"$f":"ISBLANK(pi_comm_target2)","v":true},{"$f":"ISBLANK(pi_comm_reach2)","v":true},{"$f":"N396+O396+P396+Q396","v":4},{"$f":"R396=0","v":false}]
[null,null,null,null,null,null,null,null,null,null,null,null,null,{"$f":"ISBLANK(pi_comm_tool3)","v":true},{"$f":"ISBLANK(pi_comm_partner3)","v":true},{"$f":"ISBLANK(pi_comm_target3)","v":true},{"$f":"ISBLANK(pi_comm_reach3)","v":true},{"$f":"N397+O397+P397+Q397","v":4},{"$f":"R397=0","v":false},{"$f":"(S397+S398+S399)=3","v":false}]
[null,null,null,null,null,null,null,null,null,null,null,null,null,{"$f":"ISBLANK(pi_comm_tool4)","v":true},{"$f":"ISBLANK(pi_comm_partner4)","v":true},{"$f":"ISBLANK(pi_comm_target4)","v":true},{"$f":"ISBLANK(pi_comm_reach4)","v":true},{"$f":"N398+O398+P398+Q398","v":4},{"$f":"R398=0","v":false}]
[null,null,null,null,null,null,null,null,null,null,null,null,null,{"$f":"ISBLANK(pi_comm_tool5)","v":true},{"$f":"ISBLANK(pi_comm_partner5)","v":true},{"$f":"ISBLANK(pi_comm_target5)","v":true},{"$f":"ISBLANK(pi_comm_reach5)","v":true},{"$f":"N399+O399+P399+Q399","v":4},{"$f":"R399=0","v":false}]
[null,"2.6. Duration and action plan:"]
[null,"Duration in trimesters",null,null,null,null,null,null,null,null,null,null,null,"empty","full"]
[null,"Activity","1st","2nd","3rd","4th","5th","6th","7th","8th",null,null,{"$f":"ROUNDUP(C19/3,0)","v":0},null,"x",null,"x"]
[null,{"$f":"CONCATENATE(\"1.\",C68)","v":"1."},null,null,null,null,null,null,null,null,null,null,{"$f":"B403<>0","v":true},{"$f":"IF((($N$428/$M$402<1.01)+(M403)=2),\"OK\",\"BAD\")","v":{"$error":"#DIV/0!"}},{"$f":"IF((($O$428/$M$402<1.01)+(M403)=2),\"OK\",\"BAD\")","v":{"$error":"#DIV/0!"}},{"$f":"IF(((P$428/$M$402<1.01)+($M$403)=2),\"OK\",\"BAD\")","v":{"$error":"#DIV/0!"}},{"$f":"IF(((Q$428/$M$402<1.3)+($M403)=2),\"OK\",\"BAD\")","v":{"$error":"#DIV/0!"}},{"$f":"IF(((R$428/$M$402<1.01)+(M403)=2),\"OK\",\"BAD\")","v":{"$error":"#DIV/0!"}},{"$f":"IF(((S$428/$M$402<1.1)+(M403)=2),\"OK\",\"BAD\")","v":{"$error":"#DIV/0!"}},{"$f":"IF(((T$428/$M$402<1.11)+(M403)=2),\"OK\",\"BAD\")","v":{"$error":"#DIV/0!"}},{"$f":"IF(((U$428/$M$402<1.11)+(M403)=2),\"OK\",\"BAD\")","v":{"$error":"#DIV/0!"}},null,null,{"$f":"C403=\"x\"","v":false},false,false,false,false,false,false,false]
[null,{"$f":"CONCATENATE(\"2.\",C81)","v":"2."},null,null,null,null,null,null,null,null,null,null,{"$f":"B404<>0","v":true},{"$f":"IF(((N$428/$M$402<1.01)+($M404)=2),\"OK\",\"BAD\")","v":{"$error":"#DIV/0!"}},{"$error":"#DIV/0!"},{"$error":"#DIV/0!"},{"$error":"#DIV/0!"},{"$f":"IF(((R$428/$M$402<1.01)+($M404)=2),\"OK\",\"BAD\")","v":{"$error":"#DIV/0!"}},{"$error":"#DIV/0!"},{"$error":"#DIV/0!"},{"$error":"#DIV/0!"},null,null,{"$f":"C404=\"x\"","v":false},false,false,false,false,false,false,false]
[null,{"$f":"CONCATENATE(\"3.\",C94)","v":"3."},null,null,null,null,null,null,null,null,null,null,{"$f":"B405<>0","v":true},{"$error":"#DIV/0!"},{"$error":"#DIV/0!"},{"$error":"#DIV/0!"},{"$error":"#DIV/0!"},{"$error":"#DIV/0!"},{"$error":"#DIV/0!"},{"$error":"#DIV/0!"},{"$error":"#DIV/0!"},null,null,false,false,false,false,false,false,false,false]
[null,{"$f":"CONCATENATE(\"4.\",C107)","v":"4."},null,null,null,null,null,null,null,null,null,null,{"$f":"B406<>0","v":true},{"$error":"#DIV/0!"},{"$error":"#DIV/0!"},{"$error":"#DIV/0!"},{"$error":"#DIV/0!"},{"$error":"#DIV/0!"},{"$error":"#DIV/0!"},{"$error":"#DIV/0!"},{"$error":"#DIV/0!"},null,null,false,false,false,false,false,false,false,false]
[null,{"$f":"CONCATENATE(\"5.\",C120)","v":"5."},null,null,null,null,null,null,null,null,null,null,true,{"$error":"#DIV/0!"},{"$error":"#DIV/0!"},{"$error":"#DIV/0!"},{"$error":"#DIV/0!"},{"$error":"#DIV/0!"},{"$error":"#DIV/0!"},{"$error":"#DIV/0!"},{"$error":"#DIV/0!"},null,null,false,false,false,false,false,false,false,false]
[null,{"$f":"CONCATENATE(\"6.\",C133)","v":"6."},null,null,null,null,null,null,null,null,null,null,true,{"$error":"#DIV/0!"},{"$error":"#DIV/0!"},{"$error":"#DIV/0!"},{"$error":"#DIV/0!"},{"$error":"#DIV/0!"},{"$error":"#DIV/0!"},{"$error":"#DIV/0!"},{"$error":"#DIV/0!"},null,"x",false,false,false,false,false,false,false,false]
[null,{"$f":"CONCATENATE(\"7.\",C146)","v":"7."},null,null,null,null,null,null,null,null,null,null,true,{"$error":"#DIV/0!"},{"$error":"#DIV/0!"},{"$error":"#DIV/0!"},{"$error":"#DIV/0!"},{"$error":"#DIV/0!"},{"$error":"#DIV/0!"},{"$error":"#DIV/0!"},{"$error":"#DIV/0!"},null,null,false,false,false,false,false,false,false,false]
[null,{"$f":"CONCATENATE(\"8.\",C159)","v":"8."},null,null,null,null,null,null,null,null,null,null,true,{"$error":"#DIV/0!"},{"$error":"#DIV/0!"},{"$error":"#DIV/0!"},{"$error":"#DIV/0!"},{"$error":"#DIV/0!"},{"$error":"#DIV/0!"},{"$error":"#DIV/0!"},{"$error":"#DIV/0!"},null,null,false,false,false,false,false,false,false,false]
[null,{"$f":"CONCATENATE(\"9.\",C172)","v":"9."},null,null,null,null,null,null,null,null,null,null,true,{"$error":"#DIV/0!"},{"$error":"#DIV/0!"},{"$error":"#DIV/0!"},{"$error":"#DIV/0!"},{"$error":"#DIV/0!"},{"$error":"#DIV/0!"},{"$error":"#DIV/0!"},{"$error":"#DIV/0!"},null,null,false,false,false,false,false,false,false,false]
[null,{"$f":"CONCATENATE(\"10.\",C185)","v":"10."},null,null,null,null,null,null,null,null,null,null,true,{"$error":"#DIV/0!"},{"$error":"#DIV/0!"},{"$error":"#DIV/0!"},{"$f":"IF(((Q$428/$M$402<1.1)+($M412)=2),\"OK\",\"BAD\")","v":{"$error":"#DIV/0!"}},{"$error":"#DIV/0!"},{"$error":"#DIV/0!"},{"$error":"#DIV/0!"},{"$error":"#DIV/0!"},null,null,false,false,false,false,false,false,false,false]
[null,{"$f":"CONCATENATE(\"11.\",C198)","v":"11."},null,null,null,null,null,null,null,null,null,null,true,{"$error":"#DIV/0!"},{"$error":"#DIV/0!"},{"$error":"#DIV/0!"},{"$f":"IF(((Q$428/$M$402<1.3)+($M413)=2),\"OK\",\"BAD\")","v":{"$error":"#DIV/0!"}},{"$error":"#DIV/0!"},{"$error":"#DIV/0!"},{"$error":"#DIV/0!"},{"$error":"#DIV/0!"},null,null,false,false,false,false,false,false,false,false]
[null,{"$f":"CONCATENATE(\"12.\",C211)","v":"12."},null,null,null,null,null,null,null,null,null,null,true,{"$error":"#DIV/0!"},{"$error":"#DIV/0!"},{"$error":"#DIV/0!"},{"$error":"#DIV/0!"},{"$error":"#DIV/0!"},{"$error":"#DIV/0!"},{"$error":"#DIV/0!"},{"$error":"#DIV/0!"},null,null,false,false,false,false,false,false,false,false]
[null,{"$f":"CONCATENATE(\"13.\",C224)","v":"13."},null,null,null,null,null,null,null,null,null,null,true,{"$error":"#DIV/0!"},{"$error":"#DIV/0!"},{"$error":"#DIV/0!"},{"$error":"#DIV/0!"},{"$error":"#DIV/0!"},{"$error":"#DIV/0!"},{"$error":"#DIV/0!"},{"$error":"#DIV/0!"},null,null,false,false,false,false,false,false,false,false]
[null,{"$f":"CONCATENATE(\"14.\",C237)","v":"14."},null,null,null,null,null,null,null,null,null,null,true,{"$error":"#DIV/0!"},{"$error":"#DIV/0!"},{"$error":"#DIV/0!"},{"$error":"#DIV/0!"},{"$error":"#DIV/0!"},{"$error":"#DIV/0!"},{"$error":"#DIV/0!"},{"$error":"#DIV/0!"},null,null,false,false,false,false,false,false,false,false]
[null,{"$f":"CONCATENATE(\"15.\",C250)","v":"15."},null,null,null,null,null,null,null,null,null,null,true,{"$error":"#DIV/0!"},{"$error":"#DIV/0!"},{"$error":"#DIV/0!"},{"$error":"#DIV/0!"},{"$error":"#DIV/0!"},{"$error":"#DIV/0!"},{"$error":"#DIV/0!"},{"$error":"#DIV/0!"},null,null,false,false,false,false,false,false,false,false]
[null,{"$f":"CONCATENATE(\"16.\",C262)","v":"16."},null,null,null,null,null,null,null,null,null,null,{"$f":"B418<>0","v":true},{"$error":"#DIV/0!"},{"$error":"#DIV/0!"},{"$error":"#DIV/0!"},{"$error":"#DIV/0!"},{"$error":"#DIV/0!"},{"$error":"#DIV/0!"},{"$error":"#DIV/0!"},{"$error":"#DIV/0!"},null,"x",{"$f":"C418=\"x\"","v":false},{"$f":"D418=\"x\"","v":false},{"$f":"E418=\"x\"","v":false},{"$f":"F418=\"x\"","v":false},{"$f":"G418=\"x\"","v":false},{"$f":"H418=\"x\"","v":false},{"$f":"I418=\"x\"","v":false},{"$f":"J418=\"x\"","v":false}]
[null,{"$f":"CONCATENATE(\"17.\",C274)","v":"17."},null,null,null,null,null,null,null,null,null,null,true,{"$error":"#DIV/0!"},{"$error":"#DIV/0!"},{"$error":"#DIV/0!"},{"$error":"#DIV/0!"},{"$error":"#DIV/0!"},{"$error":"#DIV/0!"},{"$error":"#DIV/0!"},{"$error":"#DIV/0!"},null,null,false,false,false,false,false,false,false,false]
[null,{"$f":"CONCATENATE(\"18.\",C286)","v":"18."},null,null,null,null,null,null,null,null,null,null,true,{"$error":"#DIV/0!"},{"$error":"#DIV/0!"},{"$error":"#DIV/0!"},{"$error":"#DIV/0!"},{"$error":"#DIV/0!"},{"$error":"#DIV/0!"},{"$error":"#DIV/0!"},{"$error":"#DIV/0!"},null,null,false,false,false,false,false,false,false,false]
[null,{"$f":"CONCATENATE(\"19.\",C298)","v":"19."},null,null,null,null,null,null,null,null,null,null,true,{"$error":"#DIV/0!"},{"$error":"#DIV/0!"},{"$error":"#DIV/0!"},{"$error":"#DIV/0!"},{"$error":"#DIV/0!"},{"$error":"#DIV/0!"},{"$error":"#DIV/0!"},{"$error":"#DIV/0!"},null,null,false,false,false,false,false,false,false,false]
[null,{"$f":"CONCATENATE(\"20.\",C310)","v":"20."},null,null,null,null,null,null,null,null,null,null,true,{"$error":"#DIV/0!"},{"$error":"#DIV/0!"},{"$error":"#DIV/0!"},{"$f":"IF(((Q$428/$M$402<1.1)+($M422)=2),\"OK\",\"BAD\")","v":{"$error":"#DIV/0!"}},{"$error":"#DIV/0!"},{"$error":"#DIV/0!"},{"$error":"#DIV/0!"},{"$error":"#DIV/0!"},null,null,false,false,false,false,false,false,false,false]
[null,{"$f":"CONCATENATE(\"21.\",C322)","v":"21."},null,null,null,null,null,null,null,null,null,null,true,{"$error":"#DIV/0!"},{"$error":"#DIV/0!"},{"$error":"#DIV/0!"},{"$f":"IF(((Q$428/$M$402<1.3)+($M423)=2),\"OK\",\"BAD\")","v":{"$error":"#DIV/0!"}},{"$error":"#DIV/0!"},{"$error":"#DIV/0!"},{"$error":"#DIV/0!"},{"$error":"#DIV/0!"},null,null,false,false,false,false,false,false,false,false]
[null,{"$f":"CONCATENATE(\"22.\",C334)","v":"22."},null,null,null,null,null,null,null,null,null,null,true,{"$error":"#DIV/0!"},{"$error":"#DIV/0!"},{"$error":"#DIV/0!"},{"$f":"IF(((Q$428/$M$402<1.3)+($M424)=2),\"OK\",\"BAD\")","v":{"$error":"#DIV/0!"}},{"$error":"#DIV/0!"},{"$error":"#DIV/0!"},{"$error":"#DIV/0!"},{"$error":"#DIV/0!"},null,null,false,false,false,false,false,false,false,false]
[null,{"$f":"CONCATENATE(\"23.\",C346)","v":"23."},null,null,null,null,null,null,null,null,null,null,true,{"$error":"#DIV/0!"},{"$error":"#DIV/0!"},{"$error":"#DIV/0!"},{"$f":"IF(((Q$428/$M$402<1.3)+($M425)=2),\"OK\",\"BAD\")","v":{"$error":"#DIV/0!"}},{"$error":"#DIV/0!"},{"$error":"#DIV/0!"},{"$error":"#DIV/0!"},{"$error":"#DIV/0!"},null,null,false,false,false,false,false,false,false,false]
[null,{"$f":"CONCATENATE(\"24.\",C358)","v":"24."},null,null,null,null,null,null,null,null,null,null,true,{"$error":"#DIV/0!"},{"$error":"#DIV/0!"},{"$error":"#DIV/0!"},{"$f":"IF(((Q$428/$M$402<1.3)+($M426)=2),\"OK\",\"BAD\")","v":{"$error":"#DIV/0!"}},{"$error":"#DIV/0!"},{"$error":"#DIV/0!"},{"$error":"#DIV/0!"},{"$error":"#DIV/0!"},null,null,false,false,false,false,false,false,false,false]
[null,{"$f":"CONCATENATE(\"25.\",C370)","v":"25."},null,null,null,null,null,null,null,null,null,null,true,{"$error":"#DIV/0!"},{"$error":"#DIV/0!"},{"$error":"#DIV/0!"},{"$f":"IF(((Q$428/$M$402<1.3)+($M427)=2),\"OK\",\"BAD\")","v":{"$error":"#DIV/0!"}},{"$error":"#DIV/0!"},{"$error":"#DIV/0!"},{"$error":"#DIV/0!"},{"$error":"#DIV/0!"},null,null,false,false,false,false,false,false,false,false]
[null,null,null,null,null,null,null,null,null,null,null,{"$f":"AF428>0","v":false},null,1,2,3,4,5,6,7,8,null,null,{"$f":"X417+X416+X415+X414+X413+X412+X411+X410+X409+X408+X407+X406+X405+X403+X404","v":0},0,0,0,0,0,0,0,{"$f":"SUM(X428:AE428)","v":0}]
[]
[]
[null,"3. Management of the project"]
[null,"Please briefly describe (maximum 2000 characters):"]
[null,"The reponsibilities of each project partner in view of the overall project implementation and reporting;"]
[null,"The structure of the project team (both Bulgarian and Turkish members); "]
[null,"The reponsibilities of each member of the project team;"]
[null,null,null,null,null,null,null,null,null,null,null,{"$f":"LEN(B436)>0","v":false},{"$f":"LEN(pi_management)","v":0},"text size check"]
[]
[]
[]
[null,"4. Monitoring of the project "]
[null,"4.1. Expected outputs"]
[null,"Please specify to which of the programme output indicators the project contributes:"]
[]
[]
[null,"Output indicators","Quantity",null,"Justification",null,null,null,null,"New indicator\n(Y/N)",null,null,null,null,"LINK TO PRIORITY AND SPECIFIC OBJECTIVE SELECTION"]
[null,null,null,null,null,null,null,null,null,null,null,false,"Y",{"$f":"VLOOKUP(C13,P9:R13,3)","v":2},null,null,null,null,null,null,{"$f":"ISBLANK(B446)","v":true},true,{"$f":"ISBLANK(E446)","v":true},{"$f":"U446+V446+W446+Z446","v":4},{"$f":"IF(X446=0,TRUE,FALSE)","v":false},{"$f":"J446<>\"Y\"","v":true},null,{"$f":"(U446+V446+W446)=0","v":false}]
[null,null,null,null,null,null,null,null,null,null,null,false,"N","OI 1.1.1","1.1.1. Number of interventions related to risk prevention and  management of natural and man-made hazards and disasters ",null,null,null,null,null,true,true,true,4,{"$f":"IF(X447=0,TRUE,FALSE)","v":false},true]
[null,null,null,null,null,null,null,null,null,null,null,true,null,"OI 1.1.2","1.1.2. Number of joint strategies / common guidelines, trainings, public awareness campaigns, exchange of experience for risk prevention and  management of natural and man-made hazards and disasters",null,null,null,null,null,true,true,true,4,{"$f":"IF(X448=0,TRUE,FALSE)","v":false},true]
[null,null,null,null,null,null,null,null,null,null,null,false,null,"OI 1.1.3","1.1.3. Population benefiting from flood protection measures",null,null,null,null,null,true,true,true,4,{"$f":"IF(X449=0,TRUE,FALSE)","v":false},true]
[null,null,null,null,null,null,null,null,null,null,null,null,null,"OI 1.1.4","1.1.4. Population benefiting from forest fire protection measure",null,null,null,null,null,true,true,true,4,false,true]
[null,null,null,null,null,null,null,null,null,null,null,null,null,"OI 1.2.1","1.2.1. Number of  nature protected areas addressed by  interventions  ",null,null,null,null,null,true,true,true,4,{"$f":"IF(X451=0,TRUE,FALSE)","v":false},true]
[null,null,null,null,null,null,null,null,null,null,null,null,null,"OI 1.2.2","1.2.2. Number of capacity building / awareness activities related to nature protection, sustainable use and management of common natural resources",null,null,null,null,null,null,{"$f":"ISBLANK(C452)","v":true},true,null,true]
[null,null,null,null,null,null,null,null,null,null,null,{"$f":"LEN(pi_monit_justf)","v":0},null,"OI 1.2.3","1.2.3. Number of people involved in training and capacity building activities in the field of nature protection"]
[null,null,null,null,null,null,null,null,null,null,null,null,null,"OI 1.2.4","1.2.4. Number of joint initiatives addressing preservation of marine and coastal environment (incl. litter reduction)"]
[null,"4.2. Multiplier effect and further actions in the field addressed by the project"]
[null,"Please describe the ideas proposal for the catalyzing further actions in the field addressed by the project and the possibilities for further development of the project idea in a subsequent project (maximum 2500 characters)",null,null,null,null,null,null,null,null,null,null,null,"OI 1.2.5","1.2.5. Number of joint management plans/ coordinated specific conservation activities for protected areas"]
[null,null,null,null,null,null,null,null,null,null,null,{"$f":"LEN(B457)>0","v":false},null,"OI-2.1-1","2.1.1. Total length of reconstructed or upgraded access roads to natural, cultural and historic tourism sites"]
[null,null,null,null,null,null,null,null,null,null,null,null,null,"OI-2.1-2","2.1.2. Total length of newly built, reconstructed or upgraded cycling routes / walking paths"]
[null,null,null,null,null,null,null,null,null,null,null,null,null,"OI-2.1-3","2.1.3. Number of newly built / reconstructed facilities in / leading to touristic sites "]
[null,"4.3. Sustainability",null,null,null,null,null,null,null,null,null,null,null,"OI-2.1-4","2.1.4. Number of reconstructed / restored cultural and historical touristic sites "]
[null,"Please describe how you intend to maintain the sustainability of the project results 5 (five) years after the end of the project. Which activities will be continued, in which way and who will be the responsible partner? \nPlease indicate the measures for effective maintenance and use of the investment after the end of the project implementation period.(maximum 2200 characters).",null,null,null,null,null,null,null,null,null,null,null,"OI-2.2-1","2.2.1. Number of  sustainable tourism strategies/action plans of common tourist destinations"]
[null,null,null,null,null,null,null,null,null,null,null,{"$f":"LEN(B462)>0","v":false},null,"OI-2.2-2","2.2.2. Number of marketing and promotional initiatives/events, addressing cross-border tourism products & services "]
[null,null,null,null,null,null,null,null,null,null,null,null,null,"OI-2.2-3","2.2.3. Number of tools developed and/or implemented for promotion of sustainable touristic potential "]
[null,null,null,null,null,null,null,null,null,null,null,null,null,"OI-2.2-4","2.2.4. Number of trainings and consultancy services in sustainable use of natural, historical  and cultural heritage and resources"]
[null,null,null,null,null,null,null,null,null,null,null,null,null,"OI-2.2-5","2.2.5. Number of people involved in training and capacity building activities in the field of sustainable tourism"]
[null,"5. Project coherence",null,null,null,null,null,null,null,null,null,null,null,"OI-2.3-1","2.3.1. Number of networking events"]
[null,"5.1. Project coherence with other programmes/strategies",null,null,null,null,null,null,null,null,null,null,null,"OI-2.3-2","2.3.2. Number of public awareness initiatives promoting sustainable use of natural, historical and cultural heritage and resources"]
[null,"The project partners should describe how the project proposal fits the larger European Union strategies concerning the Programme (please see the Programme document, Section 1, for a list of relevant policy frameworks and strategies) ",null,null,null,null,null,null,null,null,null,null,null,"OI-2.3-3","2.3.3. Number of public awareness initiatives promoting alternative forms of tourism "]
[null,"Please, indicate whether your project is a part of strategy/plan for development of the specific region/sector. Please describe the potential synergy of the project with other initiatives/ programmes/ strategies at national level. (Maximum 1500 characters)"]
[null,null,null,null,null,null,null,null,null,null,null,{"$f":"LEN(B470)>0","v":false}]
[null,null,null,null,null,null,null,null,null,null,null,null,null,"text size check"]
[]
[]
[]
[]
[]
[]
[null,"5.2. Project coherence with horizontal principles"]
[null,"Please indicate which type of the following horizontal principles applies to your project and justify (maximum 500 characters for each field):"]
[null,"Sustainable development",null,null,null,null,null,null,null,null,null,{"$f":"ISBLANK(C480)","v":true},{"$f":"(L480+L481+L482)<3","v":false}]
[null,"Equal opportunities and non-discrimination",null,null,null,null,null,null,null,null,null,{"$f":"ISBLANK(C481)","v":true}]
[null,"Equality between men and women ",null,null,null,null,null,null,null,null,null,{"$f":"ISBLANK(C482)","v":true}]

{"sheet":"T1-PPs","index":9,"n_rows":11,"n_cols":9,"rows_kept":11,"cut":false,"hidden":false,"merged":[]}
[]
[null,"TABLE 1 - TOTAL BUDGET PER PROJECT PARTNERS"]
[]
[]
[null,"PROJECT PARTNERS","Organization","Country","Total financial contribution (sum of EU and national co-financing)  in EUR"]
[null,"PP1 LP",{"$f":"lp_pp1_organisation_en","v":""},{"$f":"IF(pp1_country=1,\"BG\",\"TR\")","v":"BG"},{"$f":"t5_total_pp1","v":0},null,null,{"$f":"'PP1(LP)'!K14","v":1},{"$f":"E6<>0","v":false}]
[null,"PP2",{"$f":"IF('PP2'!$C$7=\"\",\"\",'PP2'!$C$7)","v":""},{"$f":"IF(pp2_country=1,\"BG\",\"TR\")","v":"TR"},{"$f":"t5_total_pp2","v":0},null,null,{"$f":"'PP2'!K14","v":2},{"$f":"E7<>0","v":false}]
[null,"PP3",{"$f":"IF('PP3'!$C$7=\"\",\"\",'PP3'!$C$7)","v":""},{"$f":"IF(pp3_country=1,\"BG\",\"TR\")","v":"TR"},{"$f":"t5_total_pp3","v":0},null,null,{"$f":"'PP3'!K14","v":2},{"$f":"E8<>0","v":false}]
[null,"PP4",{"$f":"IF('PP4'!$C$7=\"\",\"\",'PP4'!$C$7)","v":""},{"$f":"IF(pp4_country=1,\"BG\",\"TR\")","v":"BG"},{"$f":"t5_total_pp4","v":0},null,null,{"$f":"'PP4'!K14","v":1},{"$f":"E9<>0","v":false}]
[null,"PP5",{"$f":"IF('PP5'!$C$7=\"\",\"\",'PP5'!$C$7)","v":""},{"$f":"IF(pp5_country=1,\"BG\",\"TR\")","v":"TR"},{"$f":"t5_total_pp5","v":0},null,null,{"$f":"'PP5'!K14","v":2},{"$f":"E10<>0","v":false}]
[null,"Total",null,null,{"$f":"SUM(E6:E10)","v":0}]

{"sheet":"T2-B(PP1)","index":10,"n_rows":436,"n_cols":18,"rows_kept":436,"cut":false,"hidden":false,"merged":[[33,9,34,9],[5,8,5,9],[4,1,4,5],[5,1,5,7],[31,8,31,9],[28,6,28,7],[29,6,29,7],[30,1,30,5],[30,8,30,9],[28,1,29,5],[28,8,29,9],[31,1,31,7],[30,6,30,7],[33,1,34,1],[33,2,34,2],[33,3,33,5],[3,6,3,7],[4,6,4,7],[4,8,4,9],[2,1,3,5],[2,8,3,9],[2,6,2,7],[430,8,430,9],[33,6,33,8],[111,3,111,5],[111,6,111,8],[402,1,402,9],[403,9,404,9],[111,1,112,1],[111,2,112,2],[367,2,368,2],[111,9,112,9],[365,1,365,4],[365,6,365,7],[367,3,367,5],[367,1,368,1],[366,3,366,9],[367,9,368,9],[430,1,430,4],[427,1,427,4],[427,6,427,7],[367,6,367,8],[433,1,433,4],[432,6,432,8],[433,6,433,8],[401,1,401,4],[401,6,401,7],[429,1,429,4],[432,1,432,4],[403,1,404,1],[403,2,404,2],[403,3,403,5],[403,6,403,8],[429,8,429,9]]}
[null,"TABLE 2 - DETAILED BREAKDOWN OF BUDGET LINES - PP1/LP",null,null,null,null,null,null,null,null,null,null,null,null,null,null,null,true]
[null,null,null,null,null,null,null,null,null,null,null,null,null,null,null,null,null,true]
[null,"BL1 - STAFF COSTS",null,null,null,null,"Flat rate",null,"TOTAL",null,null,null,null,null,null,null,null,true]
[null,null,null,null,null,null,"%",null,null,null,null,null,null,null,null,null,null,true]
[null,{"$f":"M5","v":"Investment project"},null,null,null,null,0,null,{"$f":"SUM(J7:J26)","v":0},null,null,"visible/hidden depending on project identification",{"$f":"CONCATENATE('Project identification'!C15,\" project\")","v":"Investment project"},null,null,null,10,true]
[null,"TOTAL",null,null,null,null,null,null,{"$f":"I5","v":0},null,null,null,null,null,{"$f":"IF(M29=\"Soft\",15,10)","v":10},null,15,true]
[null,null,null,null,null,{"$f":"ROUND(D7*E7,2)","v":0},null,null,{"$f":"ROUND(G7*H7,2)","v":0},{"$f":"F7+I7","v":0},null,null,{"$f":"ISBLANK(B7)","v":true},{"$f":"ISBLANK(C7)","v":true},{"$f":"ISBLANK(D7)","v":true},{"$f":"ISBLANK(E7)","v":true},{"$f":"M7+N7+O7+P7","v":4},{"$f":"IF(Q7=0,TRUE,FALSE)","v":false}]
[null,null,null,null,null,{"$f":"ROUND(D8*E8,2)","v":0},null,null,{"$f":"ROUND(G8*H8,2)","v":0},{"$f":"F8+I8","v":0},null,null,{"$f":"ISBLANK(B8)","v":true},{"$f":"ISBLANK(C8)","v":true},{"$f":"ISBLANK(D8)","v":true},{"$f":"ISBLANK(E8)","v":true},{"$f":"M8+N8+O8+P8","v":4},{"$f":"IF(Q8=0,TRUE,FALSE)","v":false}]
[null,null,null,null,null,0,null,null,0,0,null,null,true,true,true,true,4,false]
[null,null,null,null,null,0,null,null,0,0,null,null,true,true,true,true,4,false]
[null,null,null,null,null,0,null,null,0,0,null,null,true,true,true,true,4,false]
[null,null,null,null,null,0,null,null,0,0,null,null,true,true,true,true,4,false]
[null,null,null,null,null,0,null,null,0,0,null,null,true,true,true,true,4,false]
[null,null,null,null,null,0,null,null,0,0,null,null,true,true,true,true,4,false]
[null,null,null,null,null,0,null,null,0,0,null,null,true,true,true,true,4,false]
[null,null,null,null,null,0,null,null,0,0,null,null,true,true,true,true,4,true]
[null,null,null,null,null,{"$f":"ROUND(D17*E17,2)","v":0},null,null,{"$f":"ROUND(G17*H17,2)","v":0},{"$f":"F17+I17","v":0},null,null,true,{"$f":"ISBLANK(C17)","v":true},{"$f":"ISBLANK(D17)","v":true},{"$f":"ISBLANK(E17)","v":true},{"$f":"M17+N17+O17+P17","v":4},{"$f":"IF(Q17=0,TRUE,FALSE)","v":false}]
[null,null,null,null,null,{"$f":"ROUND(D18*E18,2)","v":0},null,null,{"$f":"ROUND(G18*H18,2)","v":0},{"$f":"F18+I18","v":0},null,null,true,{"$f":"ISBLANK(C18)","v":true},{"$f":"ISBLANK(D18)","v":true},{"$f":"ISBLANK(E18)","v":true},{"$f":"M18+N18+O18+P18","v":4},{"$f":"IF(Q18=0,TRUE,FALSE)","v":false}]
[null,null,null,null,null,0,null,null,0,0,null,null,true,true,true,true,4,false]
[null,null,null,null,null,0,null,null,0,0,null,null,true,true,true,true,4,false]
[null,null,null,null,null,0,null,null,0,0,null,null,true,true,true,true,4,false]
[null,null,null,null,null,0,null,null,0,0,null,null,true,true,true,true,4,false]
[null,null,null,null,null,0,null,null,0,0,null,null,true,true,true,true,4,false]
[null,null,null,null,null,0,null,null,0,0,null,null,true,true,true,true,4,false]
[null,null,null,null,null,0,null,null,0,0,null,null,true,true,true,true,4,false]
[null,null,null,null,null,0,null,null,0,0,null,null,true,true,true,true,4,true]
[]
[null,null,null,null,null,null,null,null,null,null,null,null,null,null,null,null,null,true]
[null,"BL2 - OFFICE AND ADMINISTRATIVE COSTS",null,null,null,null,"Flat rate",null,"TOTAL",null,null,null,{"$f":"'Project identification'!C15","v":"Investment"},null,null,null,null,true]
[null,null,null,null,null,null,"%",null,null,null,null,null,null,null,null,null,null,true]
[null,{"$f":"M5","v":"Investment project"},null,null,null,null,null,null,{"$f":"ROUND(G31*I5/100,2)","v":0},null,null,"visible/hidden depending on project identification",null,null,null,null,2,true]
[null,"TOTAL",null,null,null,null,null,null,{"$f":"I31","v":0},null,null,null,null,null,{"$f":"IF(M29=\"Soft\",15,15)","v":15},null,5,true]
[null,null,null,null,null,null,null,null,null,null,null,null,null,null,null,null,null,true]
[null,"BL3 - TRAVEL AND ACCOMMODATION","Unit","Expenditures in the eligible area",null,null,"Expenditures outside of the eligible area",null,null,"TOTAL",null,null,null,null,null,null,null,true]
[null,null,null,"Units","Unit rate","TOTAL","Units","Unit rate","TOTAL",null,null,null,null,null,null,null,null,true]
[null,"3.1 Travel costs",null,null,null,{"$f":"SUM(F37:F56)","v":0},null,null,{"$f":"SUM(I37:I56)","v":0},{"$f":"SUM(J37:J56)","v":0},null,"Add",null,null,null,null,null,true]
[null,null,null,null,null,{"$f":"ROUND(D37*E37,2)","v":0},null,null,{"$f":"ROUND(G37*H37,2)","v":0},{"$f":"F37+I37","v":0},null,null,{"$f":"ISBLANK(B37)","v":true},{"$f":"ISBLANK(C37)","v":true},{"$f":"ISBLANK(D37)","v":true},{"$f":"ISBLANK(E37)","v":true},{"$f":"M37+N37+O37+P37","v":4},{"$f":"IF(Q37=0,TRUE,FALSE)","v":false}]
[null,null,null,null,null,{"$f":"ROUND(D38*E38,2)","v":0},null,null,{"$f":"ROUND(G38*H38,2)","v":0},{"$f":"F38+I38","v":0},null,null,{"$f":"ISBLANK(B38)","v":true},{"$f":"ISBLANK(C38)","v":true},{"$f":"ISBLANK(D38)","v":true},{"$f":"ISBLANK(E38)","v":true},{"$f":"M38+N38+O38+P38","v":4},{"$f":"IF(Q38=0,TRUE,FALSE)","v":false}]
[null,null,null,null,null,0,null,null,0,0,null,null,true,true,true,true,4,false]
[null,null,null,null,null,0,null,null,0,0,null,null,true,true,true,true,4,false]
[null,null,null,null,null,0,null,null,0,0,null,null,true,true,true,true,4,false]
[null,null,null,null,null,0,null,null,0,0,null,null,true,true,true,true,4,false]
[null,null,null,null,null,0,null,null,0,0,null,null,true,true,true,true,4,false]
[null,null,null,null,null,0,null,null,0,0,null,null,true,true,true,true,4,false]
[null,null,null,null,null,0,null,null,0,0,null,null,true,true,true,true,4,false]
[null,null,null,null,null,0,null,null,0,0,null,null,true,true,true,true,4,true]
[null,null,null,null,null,{"$f":"ROUND(D47*E47,2)","v":0},null,null,{"$f":"ROUND(G47*H47,2)","v":0},{"$f":"F47+I47","v":0},null,null,true,{"$f":"ISBLANK(C47)","v":true},{"$f":"ISBLANK(D47)","v":true},{"$f":"ISBLANK(E47)","v":true},{"$f":"M47+N47+O47+P47","v":4},{"$f":"IF(Q47=0,TRUE,FALSE)","v":false}]
[null,null,null,null,null,{"$f":"ROUND(D48*E48,2)","v":0},null,null,{"$f":"ROUND(G48*H48,2)","v":0},{"$f":"F48+I48","v":0},null,null,true,{"$f":"ISBLANK(C48)","v":true},{"$f":"ISBLANK(D48)","v":true},{"$f":"ISBLANK(E48)","v":true},{"$f":"M48+N48+O48+P48","v":4},{"$f":"IF(Q48=0,TRUE,FALSE)","v":false}]
[null,null,null,null,null,0,null,null,0,0,null,null,true,true,true,true,4,false]
[null,null,null,null,null,0,null,null,0,0,null,null,true,true,true,true,4,false]
[null,null,null,null,null,0,null,null,0,0,null,null,true,true,true,true,4,false]
[null,null,null,null,null,0,null,null,0,0,null,null,true,true,true,true,4,false]
[null,null,null,null,null,0,null,null,0,0,null,null,true,true,true,true,4,false]
[null,null,null,null,null,0,null,null,0,0,null,null,true,true,true,true,4,false]
[null,null,null,null,null,0,null,null,0,0,null,null,true,true,true,true,4,false]
[null,null,null,null,null,0,null,null,0,0,null,null,true,true,true,true,4,true]
[null,"3.2 Daily allowances",null,null,null,{"$f":"SUM(F58:F77)","v":0},null,null,{"$f":"SUM(I58:I77)","v":0},{"$f":"SUM(J58:J77)","v":0},null,"add (10 items)",null,null,null,null,null,true]
[null,null,null,null,null,{"$f":"ROUND(D58*E58,2)","v":0},null,null,{"$f":"ROUND(G58*H58,2)","v":0},{"$f":"F58+I58","v":0},null,null,{"$f":"ISBLANK(B58)","v":true},{"$f":"ISBLANK(C58)","v":true},{"$f":"ISBLANK(D58)","v":true},{"$f":"ISBLANK(E58)","v":true},{"$f":"M58+N58+O58+P58","v":4},{"$f":"IF(Q58=0,TRUE,FALSE)","v":false}]
[null,null,null,null,null,{"$f":"ROUND(D59*E59,2)","v":0},null,null,0,{"$f":"F59+I59","v":0},null,null,true,true,true,true,{"$f":"M59+N59+O59+P59","v":4},{"$f":"IF(Q59=0,TRUE,FALSE)","v":false}]
[null,null,null,null,null,0,null,null,0,0,null,null,true,true,true,true,4,false]
[null,null,null,null,null,0,null,null,0,0,null,null,true,true,true,true,4,false]
[null,null,null,null,null,0,null,null,0,0,null,null,true,true,true,true,4,false]
[null,null,null,null,null,0,null,null,0,0,null,null,true,true,true,true,4,false]
[null,null,null,null,null,0,null,null,0,0,null,null,true,true,true,true,4,false]
[null,null,null,null,null,0,null,null,0,0,null,null,true,true,true,true,4,false]
[null,null,null,null,null,0,null,null,0,0,null,null,true,true,true,true,4,false]
[null,null,null,null,null,0,null,null,0,0,null,null,true,true,true,true,4,true]
[null,null,null,null,null,{"$f":"ROUND(D68*E68,2)","v":0},null,null,{"$f":"ROUND(G68*H68,2)","v":0},{"$f":"F68+I68","v":0},null,null,true,{"$f":"ISBLANK(C68)","v":true},{"$f":"ISBLANK(D68)","v":true},{"$f":"ISBLANK(E68)","v":true},{"$f":"M68+N68+O68+P68","v":4},{"$f":"IF(Q68=0,TRUE,FALSE)","v":false}]
[null,null,null,null,null,{"$f":"ROUND(D69*E69,2)","v":0},null,null,0,{"$f":"F69+I69","v":0},null,null,true,true,true,true,{"$f":"M69+N69+O69+P69","v":4},{"$f":"IF(Q69=0,TRUE,FALSE)","v":false}]
[null,null,null,null,null,0,null,null,0,0,null,null,true,true,true,true,4,false]
[null,null,null,null,null,0,null,null,0,0,null,null,true,true,true,true,4,false]
[null,null,null,null,null,0,null,null,0,0,null,null,true,true,true,true,4,false]
[null,null,null,null,null,0,null,null,0,0,null,null,true,true,true,true,4,false]
[null,null,null,null,null,0,null,null,0,0,null,null,true,true,true,true,4,false]
[null,null,null,null,null,0,null,null,0,0,null,null,true,true,true,true,4,false]
[null,null,null,null,null,0,null,null,0,0,null,null,true,true,true,true,4,false]
[null,null,null,null,null,0,null,null,0,0,null,null,true,true,true,true,4,true]
[null,"3.3 Accommodation costs",null,null,null,{"$f":"SUM(F79:F98)","v":0},null,null,{"$f":"SUM(I79:I98)","v":0},{"$f":"SUM(J79:J98)","v":0},null,null,null,null,null,null,null,true]
[null,null,null,null,null,{"$f":"ROUND(D79*E79,2)","v":0},null,null,{"$f":"ROUND(G79*H79,2)","v":0},{"$f":"F79+I79","v":0},null,null,{"$f":"ISBLANK(B79)","v":true},{"$f":"ISBLANK(C79)","v":true},{"$f":"ISBLANK(D79)","v":true},{"$f":"ISBLANK(E79)","v":true},{"$f":"M79+N79+O79+P79","v":4},{"$f":"IF(Q79=0,TRUE,FALSE)","v":false}]
[null,null,null,null,null,{"$f":"ROUND(D80*E80,2)","v":0},null,null,0,{"$f":"F80+I80","v":0},null,null,true,true,true,true,{"$f":"M80+N80+O80+P80","v":4},{"$f":"IF(Q80=0,TRUE,FALSE)","v":false}]
[null,null,null,null,null,0,null,null,0,0,null,null,true,true,true,true,4,false]
[null,null,null,null,null,0,null,null,0,0,null,null,true,true,true,true,4,false]
[null,null,null,null,null,0,null,null,0,0,null,null,true,true,true,true,4,false]
[null,null,null,null,null,0,null,null,0,0,null,null,true,true,true,true,4,false]
[null,null,null,null,null,0,null,null,0,0,null,null,true,true,true,true,4,false]
[null,null,null,null,null,0,null,null,0,0,null,null,true,true,true,true,4,false]
[null,null,null,null,null,0,null,null,0,0,null,null,true,true,true,true,4,false]
[null,null,null,null,null,0,null,null,0,0,null,null,true,true,true,true,4,true]
[null,null,null,null,null,{"$f":"ROUND(D89*E89,2)","v":0},null,null,{"$f":"ROUND(G89*H89,2)","v":0},{"$f":"F89+I89","v":0},null,null,true,{"$f":"ISBLANK(C89)","v":true},{"$f":"ISBLANK(D89)","v":true},{"$f":"ISBLANK(E89)","v":true},{"$f":"M89+N89+O89+P89","v":4},{"$f":"IF(Q89=0,TRUE,FALSE)","v":false}]
[null,null,null,null,null,{"$f":"ROUND(D90*E90,2)","v":0},null,null,0,{"$f":"F90+I90","v":0},null,null,true,true,true,true,{"$f":"M90+N90+O90+P90","v":4},{"$f":"IF(Q90=0,TRUE,FALSE)","v":false}]
[null,null,null,null,null,0,null,null,0,0,null,null,true,true,true,true,4,false]
[null,null,null,null,null,0,null,null,0,0,null,null,true,true,true,true,4,false]
[null,null,null,null,null,0,null,null,0,0,null,null,true,true,true,true,4,false]
[null,null,null,null,null,0,null,null,0,0,null,null,true,true,true,true,4,false]
[null,null,null,null,null,0,null,null,0,0,null,null,true,true,true,true,4,false]
[null,null,null,null,null,0,null,null,0,0,null,null,true,true,true,true,4,false]
[null,null,null,null,null,0,null,null,0,0,null,null,true,true,true,true,4,false]
[null,null,null,null,null,0,null,null,0,0,null,null,true,true,true,true,4,true]
[null,"3.4 Visa costs",null,null,null,{"$f":"SUM(F100:F109)","v":0},null,null,{"$f":"SUM(I100:I109)","v":0},{"$f":"SUM(J100:J109)","v":0},null,null,null,null,null,null,null,true]
[null,null,null,null,null,{"$f":"ROUND(D100*E100,2)","v":0},null,null,{"$f":"ROUND(G100*H100,2)","v":0},{"$f":"F100+I100","v":0},null,null,{"$f":"ISBLANK(B100)","v":true},{"$f":"ISBLANK(C100)","v":true},{"$f":"ISBLANK(D100)","v":true},{"$f":"ISBLANK(E100)","v":true},{"$f":"M100+N100+O100+P100","v":4},{"$f":"IF(Q100=0,TRUE,FALSE)","v":false}]
[null,null,null,null,null,{"$f":"ROUND(D101*E101,2)","v":0},null,null,0,{"$f":"F101+I101","v":0},null,null,true,true,true,true,{"$f":"M101+N101+O101+P101","v":4},{"$f":"IF(Q101=0,TRUE,FALSE)","v":false}]
[null,null,null,null,null,0,null,null,0,0,null,null,true,true,true,true,4,false]
[null,null,null,null,null,0,null,null,0,0,null,null,true,true,true,true,4,false]
[null,null,null,null,null,0,null,null,0,0,null,null,true,true,true,true,4,false]
[null,null,null,null,null,0,null,null,0,0,null,null,true,true,true,true,4,false]
[null,null,null,null,null,0,null,null,0,0,null,null,true,true,true,true,4,false]
[null,null,null,null,null,0,null,null,0,0,null,null,true,true,true,true,4,false]
[null,null,null,null,null,0,null,null,0,0,null,null,true,true,true,true,4,false]
[null,null,null,null,null,0,null,null,0,0,null,null,true,true,true,true,4,true]
[null,"TOTAL",null,null,null,{"$f":"F99+F78+F57+F36","v":0},null,null,{"$f":"I99+I78+I57+I36","v":0},{"$f":"J99+J78+J57+J36","v":0},null,null,null,null,null,null,null,true]
[null,null,null,null,null,null,null,null,null,null,null,null,null,null,null,null,null,true]
[null,"BL4 - EXTERNAL EXPERTISE AND SERVICES COSTS","Unit","Expenditures in the eligible area",null,null,"Expenditures outside of the eligible area",null,null,"TOTAL",null,null,null,null,null,null,null,true]
[null,null,null,"Units","Unit rate","TOTAL","Units","Unit rate","TOTAL",null,null,null,null,null,null,null,null,true]
[null,"4.1 Rent of hall",null,null,null,{"$f":"SUM(F115:F134)","v":0},null,null,{"$f":"SUM(I115:I134)","v":0},{"$f":"SUM(J115:J134)","v":0},null,null,null,null,null,null,null,true]
[null,null,null,null,null,{"$f":"ROUND(D115*E115,2)","v":0},null,null,{"$f":"ROUND(G115*H115,2)","v":0},{"$f":"F115+I115","v":0},null,null,{"$f":"ISBLANK(B115)","v":true},{"$f":"ISBLANK(C115)","v":true},{"$f":"ISBLANK(D115)","v":true},{"$f":"ISBLANK(E115)","v":true},{"$f":"M115+N115+O115+P115","v":4},{"$f":"IF(Q115=0,TRUE,FALSE)","v":false}]
[null,null,null,null,null,{"$f":"ROUND(D116*E116,2)","v":0},null,null,0,{"$f":"F116+I116","v":0},null,null,true,true,true,true,{"$f":"M116+N116+O116+P116","v":4},{"$f":"IF(Q116=0,TRUE,FALSE)","v":false}]
[null,null,null,null,null,0,null,null,0,0,null,null,true,true,true,true,4,false]
[null,null,null,null,null,0,null,null,0,0,null,null,true,true,true,true,4,false]
[null,null,null,null,null,0,null,null,0,0,null,null,true,true,true,true,4,false]
[null,null,null,null,null,0,null,null,0,0,null,null,true,true,true,true,4,false]
[null,null,null,null,null,0,null,null,0,0,null,null,true,true,true,true,4,false]
[null,null,null,null,null,0,null,null,0,0,null,null,true,true,true,true,4,false]
[null,null,null,null,null,0,null,null,0,0,null,null,true,true,true,true,4,false]
[null,null,null,null,null,0,null,null,0,0,null,null,true,true,true,true,4,true]
[null,null,null,null,null,{"$f":"ROUND(D125*E125,2)","v":0},null,null,{"$f":"ROUND(G125*H125,2)","v":0},{"$f":"F125+I125","v":0},null,null,true,{"$f":"ISBLANK(C125)","v":true},{"$f":"ISBLANK(D125)","v":true},{"$f":"ISBLANK(E125)","v":true},{"$f":"M125+N125+O125+P125","v":4},{"$f":"IF(Q125=0,TRUE,FALSE)","v":false}]
[null,null,null,null,null,{"$f":"ROUND(D126*E126,2)","v":0},null,null,0,{"$f":"F126+I126","v":0},null,null,true,true,true,true,{"$f":"M126+N126+O126+P126","v":4},{"$f":"IF(Q126=0,TRUE,FALSE)","v":false}]
[null,null,null,null,null,0,null,null,0,0,null,null,true,true,true,true,4,false]
[null,null,null,null,null,0,null,null,0,0,null,null,true,true,true,true,4,false]
[null,null,null,null,null,0,null,null,0,0,null,null,true,true,true,true,4,false]
[null,null,null,null,null,0,null,null,0,0,null,null,true,true,true,true,4,false]
[null,null,null,null,null,0,null,null,0,0,null,null,true,true,true,true,4,false]
[null,null,null,null,null,0,null,null,0,0,null,null,true,true,true,true,4,false]
[null,null,null,null,null,0,null,null,0,0,null,null,true,true,true,true,4,false]
[null,null,null,null,null,0,null,null,0,0,null,null,true,true,true,true,4,true]
[null,"4.2 Rent of equipment",null,null,null,{"$f":"SUM(F136:F155)","v":0},null,null,{"$f":"SUM(I136:I155)","v":0},{"$f":"SUM(J136:J155)","v":0},null,null,null,null,null,null,null,true]
[null,null,null,null,null,{"$f":"ROUND(D136*E136,2)","v":0},null,null,{"$f":"ROUND(G136*H136,2)","v":0},{"$f":"F136+I136","v":0},null,null,{"$f":"ISBLANK(B136)","v":true},{"$f":"ISBLANK(C136)","v":true},{"$f":"ISBLANK(D136)","v":true},{"$f":"ISBLANK(E136)","v":true},{"$f":"M136+N136+O136+P136","v":4},{"$f":"IF(Q136=0,TRUE,FALSE)","v":false}]
[null,null,null,null,null,{"$f":"ROUND(D137*E137,2)","v":0},null,null,0,{"$f":"F137+I137","v":0},null,null,true,true,true,true,{"$f":"M137+N137+O137+P137","v":4},{"$f":"IF(Q137=0,TRUE,FALSE)","v":false}]
[null,null,null,null,null,0,null,null,0,0,null,null,true,true,true,true,4,false]
[null,null,null,null,null,0,null,null,0,0,null,null,true,true,true,true,4,false]
[null,null,null,null,null,0,null,null,0,0,null,null,true,true,true,true,4,false]
[null,null,null,null,null,0,null,null,0,0,null,null,true,true,true,true,4,false]
[null,null,null,null,null,0,null,null,0,0,null,null,true,true,true,true,4,false]
[null,null,null,null,null,0,null,null,0,0,null,null,true,true,true,true,4,false]
[null,null,null,null,null,0,null,null,0,0,null,null,true,true,true,true,4,false]
[null,null,null,null,null,0,null,null,0,0,null,null,true,true,true,true,4,true]
[null,null,null,null,null,{"$f":"ROUND(D146*E146,2)","v":0},null,null,{"$f":"ROUND(G146*H146,2)","v":0},{"$f":"F146+I146","v":0},null,null,true,{"$f":"ISBLANK(C146)","v":true},{"$f":"ISBLANK(D146)","v":true},{"$f":"ISBLANK(E146)","v":true},{"$f":"M146+N146+O146+P146","v":4},{"$f":"IF(Q146=0,TRUE,FALSE)","v":false}]
[null,null,null,null,null,{"$f":"ROUND(D147*E147,2)","v":0},null,null,0,{"$f":"F147+I147","v":0},null,null,true,true,true,true,{"$f":"M147+N147+O147+P147","v":4},{"$f":"IF(Q147=0,TRUE,FALSE)","v":false}]
[null,null,null,null,null,0,null,null,0,0,null,null,true,true,true,true,4,false]
[null,null,null,null,null,0,null,null,0,0,null,null,true,true,true,true,4,false]
[null,null,null,null,null,0,null,null,0,0,null,null,true,true,true,true,4,false]
[null,null,null,null,null,0,null,null,0,0,null,null,true,true,true,true,4,false]
[null,null,null,null,null,0,null,null,0,0,null,null,true,true,true,true,4,false]
[null,null,null,null,null,0,null,null,0,0,null,null,true,true,true,true,4,false]
[null,null,null,null,null,0,null,null,0,0,null,null,true,true,true,true,4,false]
[null,null,null,null,null,0,null,null,0,0,null,null,true,true,true,true,4,true]
[null,"4.3 Coffee breaks, refreshments, etc.",null,null,null,{"$f":"SUM(F157:F176)","v":0},null,null,{"$f":"SUM(I157:I176)","v":0},{"$f":"SUM(J157:J176)","v":0},null,null,null,null,null,null,null,true]
[null,null,null,null,null,{"$f":"ROUND(D157*E157,2)","v":0},null,null,{"$f":"ROUND(G157*H157,2)","v":0},{"$f":"F157+I157","v":0},null,null,{"$f":"ISBLANK(B157)","v":true},{"$f":"ISBLANK(C157)","v":true},{"$f":"ISBLANK(D157)","v":true},{"$f":"ISBLANK(E157)","v":true},{"$f":"M157+N157+O157+P157","v":4},{"$f":"IF(Q157=0,TRUE,FALSE)","v":false}]
[null,null,null,null,null,{"$f":"ROUND(D158*E158,2)","v":0},null,null,0,{"$f":"F158+I158","v":0},null,null,true,true,true,true,{"$f":"M158+N158+O158+P158","v":4},{"$f":"IF(Q158=0,TRUE,FALSE)","v":false}]
[null,null,null,null,null,0,null,null,0,0,null,null,true,true,true,true,4,false]
[null,null,null,null,null,0,null,null,0,0,null,null,true,true,true,true,4,false]
[null,null,null,null,null,0,null,null,0,0,null,null,true,true,true,true,4,false]
[null,null,null,null,null,0,null,null,0,0,null,null,true,true,true,true,4,false]
[null,null,null,null,null,0,null,null,0,0,null,null,true,true,true,true,4,false]
[null,null,null,null,null,0,null,null,0,0,null,null,true,true,true,true,4,false]
[null,null,null,null,null,0,null,null,0,0,null,null,true,true,true,true,4,false]
[null,null,null,null,null,0,null,null,0,0,null,null,true,true,true,true,4,true]
[null,null,null,null,null,{"$f":"ROUND(D167*E167,2)","v":0},null,null,{"$f":"ROUND(G167*H167,2)","v":0},{"$f":"F167+I167","v":0},null,null,true,{"$f":"ISBLANK(C167)","v":true},{"$f":"ISBLANK(D167)","v":true},{"$f":"ISBLANK(E167)","v":true},{"$f":"M167+N167+O167+P167","v":4},{"$f":"IF(Q167=0,TRUE,FALSE)","v":false}]
[null,null,null,null,null,{"$f":"ROUND(D168*E168,2)","v":0},null,null,0,{"$f":"F168+I168","v":0},null,null,true,true,true,true,{"$f":"M168+N168+O168+P168","v":4},{"$f":"IF(Q168=0,TRUE,FALSE)","v":false}]
[null,null,null,null,null,0,null,null,0,0,null,null,true,true,true,true,4,false]
[null,null,null,null,null,0,null,null,0,0,null,null,true,true,true,true,4,false]
[null,null,null,null,null,0,null,null,0,0,null,null,true,true,true,true,4,false]
[null,null,null,null,null,0,null,null,0,0,null,null,true,true,true,true,4,false]
[null,null,null,null,null,0,null,null,0,0,null,null,true,true,true,true,4,false]
[null,null,null,null,null,0,null,null,0,0,null,null,true,true,true,true,4,false]
[null,null,null,null,null,0,null,null,0,0,null,null,true,true,true,true,4,false]
[null,null,null,null,null,0,null,null,0,0,null,null,true,true,true,true,4,true]
[null,"4.4 Consumables",null,null,null,{"$f":"SUM(F178:F197)","v":0},null,null,{"$f":"SUM(I178:I197)","v":0},{"$f":"SUM(J178:J197)","v":0},null,null,null,null,null,null,null,true]
[null,null,null,null,null,{"$f":"ROUND(D178*E178,2)","v":0},null,null,{"$f":"ROUND(G178*H178,2)","v":0},{"$f":"F178+I178","v":0},null,null,{"$f":"ISBLANK(B178)","v":true},{"$f":"ISBLANK(C178)","v":true},{"$f":"ISBLANK(D178)","v":true},{"$f":"ISBLANK(E178)","v":true},{"$f":"M178+N178+O178+P178","v":4},{"$f":"IF(Q178=0,TRUE,FALSE)","v":false}]
[null,null,null,null,null,{"$f":"ROUND(D179*E179,2)","v":0},null,null,0,{"$f":"F179+I179","v":0},null,null,true,true,true,true,{"$f":"M179+N179+O179+P179","v":4},{"$f":"IF(Q179=0,TRUE,FALSE)","v":false}]
[null,null,null,null,null,0,null,null,0,0,null,null,true,true,true,true,4,false]
[null,null,null,null,null,0,null,null,0,0,null,null,true,true,true,true,4,false]
[null,null,null,null,null,0,null,null,0,0,null,null,true,true,true,true,4,false]
[null,null,null,null,null,0,null,null,0,0,null,null,true,true,true,true,4,false]
[null,null,null,null,null,0,null,null,0,0,null,null,true,true,true,true,4,false]
[null,null,null,null,null,0,null,null,0,0,null,null,true,true,true,true,4,false]
[null,null,null,null,null,0,null,null,0,0,null,null,true,true,true,true,4,false]
[null,null,null,null,null,0,null,null,0,0,null,null,true,true,true,true,4,true]
[null,null,null,null,null,{"$f":"ROUND(D188*E188,2)","v":0},null,null,{"$f":"ROUND(G188*H188,2)","v":0},{"$f":"F188+I188","v":0},null,null,true,{"$f":"ISBLANK(C188)","v":true},{"$f":"ISBLANK(D188)","v":true},{"$f":"ISBLANK(E188)","v":true},{"$f":"M188+N188+O188+P188","v":4},{"$f":"IF(Q188=0,TRUE,FALSE)","v":false}]
[null,null,null,null,null,{"$f":"ROUND(D189*E189,2)","v":0},null,null,0,{"$f":"F189+I189","v":0},null,null,true,true,true,true,{"$f":"M189+N189+O189+P189","v":4},{"$f":"IF(Q189=0,TRUE,FALSE)","v":false}]
[null,null,null,null,null,0,null,null,0,0,null,null,true,true,true,true,4,false]
[null,null,null,null,null,0,null,null,0,0,null,null,true,true,true,true,4,false]
[null,null,null,null,null,0,null,null,0,0,null,null,true,true,true,true,4,false]
[null,null,null,null,null,0,null,null,0,0,null,null,true,true,true,true,4,false]
[null,null,null,null,null,0,null,null,0,0,null,null,true,true,true,true,4,false]
[null,null,null,null,null,0,null,null,0,0,null,null,true,true,true,true,4,false]
[null,null,null,null,null,0,null,null,0,0,null,null,true,true,true,true,4,false]
[null,null,null,null,null,0,null,null,0,0,null,null,true,true,true,true,4,true]
[null,"4.5 Rent of vehicle for event",null,null,null,{"$f":"SUM(F199:F218)","v":0},null,null,{"$f":"SUM(I199:I218)","v":0},{"$f":"SUM(J199:J218)","v":0},null,null,null,null,null,null,null,true]
[null,null,null,null,null,{"$f":"ROUND(D199*E199,2)","v":0},null,null,{"$f":"ROUND(G199*H199,2)","v":0},{"$f":"F199+I199","v":0},null,null,{"$f":"ISBLANK(B199)","v":true},{"$f":"ISBLANK(C199)","v":true},{"$f":"ISBLANK(D199)","v":true},{"$f":"ISBLANK(E199)","v":true},{"$f":"M199+N199+O199+P199","v":4},{"$f":"IF(Q199=0,TRUE,FALSE)","v":false}]
[null,null,null,null,null,{"$f":"ROUND(D200*E200,2)","v":0},null,null,0,{"$f":"F200+I200","v":0},null,null,true,true,true,true,{"$f":"M200+N200+O200+P200","v":4},{"$f":"IF(Q200=0,TRUE,FALSE)","v":false}]
[null,null,null,null,null,0,null,null,0,0,null,null,true,true,true,true,4,false]
[null,null,null,null,null,0,null,null,0,0,null,null,true,true,true,true,4,false]
[null,null,null,null,null,0,null,null,0,0,null,null,true,true,true,true,4,false]
[null,null,null,null,null,0,null,null,0,0,null,null,true,true,true,true,4,false]
[null,null,null,null,null,0,null,null,0,0,null,null,true,true,true,true,4,false]
[null,null,null,null,null,0,null,null,0,0,null,null,true,true,true,true,4,false]
[null,null,null,null,null,0,null,null,0,0,null,null,true,true,true,true,4,false]
[null,null,null,null,null,0,null,null,0,0,null,null,true,true,true,true,4,true]
[null,null,null,null,null,{"$f":"ROUND(D209*E209,2)","v":0},null,null,{"$f":"ROUND(G209*H209,2)","v":0},{"$f":"F209+I209","v":0},null,null,true,{"$f":"ISBLANK(C209)","v":true},{"$f":"ISBLANK(D209)","v":true},{"$f":"ISBLANK(E209)","v":true},{"$f":"M209+N209+O209+P209","v":4},{"$f":"IF(Q209=0,TRUE,FALSE)","v":false}]
[null,null,null,null,null,{"$f":"ROUND(D210*E210,2)","v":0},null,null,0,{"$f":"F210+I210","v":0},null,null,true,true,true,true,{"$f":"M210+N210+O210+P210","v":4},{"$f":"IF(Q210=0,TRUE,FALSE)","v":false}]
[null,null,null,null,null,0,null,null,0,0,null,null,true,true,true,true,4,false]
[null,null,null,null,null,0,null,null,0,0,null,null,true,true,true,true,4,false]
[null,null,null,null,null,0,null,null,0,0,null,null,true,true,true,true,4,false]
[null,null,null,null,null,0,null,null,0,0,null,null,true,true,true,true,4,false]
[null,null,null,null,null,0,null,null,0,0,null,null,true,true,true,true,4,false]
[null,null,null,null,null,0,null,null,0,0,null,null,true,true,true,true,4,false]
[null,null,null,null,null,0,null,null,0,0,null,null,true,true,true,true,4,false]
[null,null,null,null,null,0,null,null,0,0,null,null,true,true,true,true,4,true]
[null,"4.6 Accommodations for participants in the events ",null,null,null,{"$f":"SUM(F220:F239)","v":0},null,null,{"$f":"SUM(I220:I239)","v":0},{"$f":"SUM(J220:J239)","v":0},null,null,null,null,null,null,null,true]
[null,null,null,null,null,{"$f":"ROUND(D220*E220,2)","v":0},null,null,{"$f":"ROUND(G220*H220,2)","v":0},{"$f":"F220+I220","v":0},null,null,{"$f":"ISBLANK(B220)","v":true},{"$f":"ISBLANK(C220)","v":true},{"$f":"ISBLANK(D220)","v":true},{"$f":"ISBLANK(E220)","v":true},{"$f":"M220+N220+O220+P220","v":4},{"$f":"IF(Q220=0,TRUE,FALSE)","v":false}]
[null,null,null,null,null,{"$f":"ROUND(D221*E221,2)","v":0},null,null,0,{"$f":"F221+I221","v":0},null,null,true,true,true,true,{"$f":"M221+N221+O221+P221","v":4},{"$f":"IF(Q221=0,TRUE,FALSE)","v":false}]
[null,null,null,null,null,0,null,null,0,0,null,null,true,true,true,true,4,false]
[null,null,null,null,null,0,null,null,0,0,null,null,true,true,true,true,4,false]
[null,null,null,null,null,0,null,null,0,0,null,null,true,true,true,true,4,false]
[null,null,null,null,null,0,null,null,0,0,null,null,true,true,true,true,4,false]
[null,null,null,null,null,0,null,null,0,0,null,null,true,true,true,true,4,false]
[null,null,null,null,null,0,null,null,0,0,null,null,true,true,true,true,4,false]
[null,null,null,null,null,0,null,null,0,0,null,null,true,true,true,true,4,false]
[null,null,null,null,null,0,null,null,0,0,null,null,true,true,true,true,4,true]
[null,null,null,null,null,{"$f":"ROUND(D230*E230,2)","v":0},null,null,{"$f":"ROUND(G230*H230,2)","v":0},{"$f":"F230+I230","v":0},null,null,true,{"$f":"ISBLANK(C230)","v":true},{"$f":"ISBLANK(D230)","v":true},{"$f":"ISBLANK(E230)","v":true},{"$f":"M230+N230+O230+P230","v":4},{"$f":"IF(Q230=0,TRUE,FALSE)","v":false}]
[null,null,null,null,null,{"$f":"ROUND(D231*E231,2)","v":0},null,null,0,{"$f":"F231+I231","v":0},null,null,true,true,true,true,{"$f":"M231+N231+O231+P231","v":4},{"$f":"IF(Q231=0,TRUE,FALSE)","v":false}]
[null,null,null,null,null,0,null,null,0,0,null,null,true,true,true,true,4,false]
[null,null,null,null,null,0,null,null,0,0,null,null,true,true,true,true,4,false]
[null,null,null,null,null,0,null,null,0,0,null,null,true,true,true,true,4,false]
[null,null,null,null,null,0,null,null,0,0,null,null,true,true,true,true,4,false]
[null,null,null,null,null,0,null,null,0,0,null,null,true,true,true,true,4,false]
[null,null,null,null,null,0,null,null,0,0,null,null,true,true,true,true,4,false]
[null,null,null,null,null,0,null,null,0,0,null,null,true,true,true,true,4,false]
[null,null,null,null,null,0,null,null,0,0,null,null,true,true,true,true,4,true]
[null,"4.7 Elaboration, design,translation etc.",null,null,null,{"$f":"SUM(F241:F260)","v":0},null,null,{"$f":"SUM(I241:I260)","v":0},{"$f":"SUM(J241:J260)","v":0},null,null,null,null,null,null,null,true]
[null,null,null,null,null,{"$f":"ROUND(D241*E241,2)","v":0},null,null,{"$f":"ROUND(G241*H241,2)","v":0},{"$f":"F241+I241","v":0},null,null,{"$f":"ISBLANK(B241)","v":true},{"$f":"ISBLANK(C241)","v":true},{"$f":"ISBLANK(D241)","v":true},{"$f":"ISBLANK(E241)","v":true},{"$f":"M241+N241+O241+P241","v":4},{"$f":"IF(Q241=0,TRUE,FALSE)","v":false}]
[null,null,null,null,null,{"$f":"ROUND(D242*E242,2)","v":0},null,null,0,{"$f":"F242+I242","v":0},null,null,true,true,true,true,{"$f":"M242+N242+O242+P242","v":4},{"$f":"IF(Q242=0,TRUE,FALSE)","v":false}]
[null,null,null,null,null,0,null,null,0,0,null,null,true,true,true,true,4,false]
[null,null,null,null,null,0,null,null,0,0,null,null,true,true,true,true,4,false]
[null,null,null,null,null,0,null,null,0,0,null,null,true,true,true,true,4,false]
[null,null,null,null,null,0,null,null,0,0,null,null,true,true,true,true,4,false]
[null,null,null,null,null,0,null,null,0,0,null,null,true,true,true,true,4,false]
[null,null,null,null,null,0,null,null,0,0,null,null,true,true,true,true,4,false]
[null,null,null,null,null,0,null,null,0,0,null,null,true,true,true,true,4,false]
[null,null,null,null,null,0,null,null,0,0,null,null,true,true,true,true,4,true]
[null,null,null,null,null,{"$f":"ROUND(D251*E251,2)","v":0},null,null,{"$f":"ROUND(G251*H251,2)","v":0},{"$f":"F251+I251","v":0},null,null,true,{"$f":"ISBLANK(C251)","v":true},{"$f":"ISBLANK(D251)","v":true},{"$f":"ISBLANK(E251)","v":true},{"$f":"M251+N251+O251+P251","v":4},{"$f":"IF(Q251=0,TRUE,FALSE)","v":false}]
[null,null,null,null,null,{"$f":"ROUND(D252*E252,2)","v":0},null,null,0,{"$f":"F252+I252","v":0},null,null,true,true,true,true,{"$f":"M252+N252+O252+P252","v":4},{"$f":"IF(Q252=0,TRUE,FALSE)","v":false}]
[null,null,null,null,null,0,null,null,0,0,null,null,true,true,true,true,4,false]
[null,null,null,null,null,0,null,null,0,0,null,null,true,true,true,true,4,false]
[null,null,null,null,null,0,null,null,0,0,null,null,true,true,true,true,4,false]
[null,null,null,null,null,0,null,null,0,0,null,null,true,true,true,true,4,false]
[null,null,null,null,null,0,null,null,0,0,null,null,true,true,true,true,4,false]
[null,null,null,null,null,0,null,null,0,0,null,null,true,true,true,true,4,false]
[null,null,null,null,null,0,null,null,0,0,null,null,true,true,true,true,4,false]
[null,null,null,null,null,0,null,null,0,0,null,null,true,true,true,true,4,true]
[null,"4.8 Publications in mass-media",null,null,null,{"$f":"SUM(F262:F281)","v":0},null,null,{"$f":"SUM(I262:I281)","v":0},{"$f":"SUM(J262:J281)","v":0},null,null,null,null,null,null,null,true]
[null,null,null,null,null,{"$f":"ROUND(D262*E262,2)","v":0},null,null,{"$f":"ROUND(G262*H262,2)","v":0},{"$f":"F262+I262","v":0},null,null,{"$f":"ISBLANK(B262)","v":true},{"$f":"ISBLANK(C262)","v":true},{"$f":"ISBLANK(D262)","v":true},{"$f":"ISBLANK(E262)","v":true},{"$f":"M262+N262+O262+P262","v":4},{"$f":"IF(Q262=0,TRUE,FALSE)","v":false}]
[null,null,null,null,null,{"$f":"ROUND(D263*E263,2)","v":0},null,null,0,{"$f":"F263+I263","v":0},null,null,true,true,true,true,{"$f":"M263+N263+O263+P263","v":4},{"$f":"IF(Q263=0,TRUE,FALSE)","v":false}]
[null,null,null,null,null,0,null,null,0,0,null,null,true,true,true,true,4,false]
[null,null,null,null,null,0,null,null,0,0,null,null,true,true,true,true,4,false]
[null,null,null,null,null,0,null,null,0,0,null,null,true,true,true,true,4,false]
[null,null,null,null,null,0,null,null,0,0,null,null,true,true,true,true,4,false]
[null,null,null,null,null,0,null,null,0,0,null,null,true,true,true,true,4,false]
[null,null,null,null,null,0,null,null,0,0,null,null,true,true,true,true,4,false]
[null,null,null,null,null,0,null,null,0,0,null,null,true,true,true,true,4,false]
[null,null,null,null,null,0,null,null,0,0,null,null,true,true,true,true,4,true]
[null,null,null,null,null,{"$f":"ROUND(D272*E272,2)","v":0},null,null,{"$f":"ROUND(G272*H272,2)","v":0},{"$f":"F272+I272","v":0},null,null,true,{"$f":"ISBLANK(C272)","v":true},{"$f":"ISBLANK(D272)","v":true},{"$f":"ISBLANK(E272)","v":true},{"$f":"M272+N272+O272+P272","v":4},{"$f":"IF(Q272=0,TRUE,FALSE)","v":false}]
[null,null,null,null,null,{"$f":"ROUND(D273*E273,2)","v":0},null,null,0,{"$f":"F273+I273","v":0},null,null,true,true,true,true,{"$f":"M273+N273+O273+P273","v":4},{"$f":"IF(Q273=0,TRUE,FALSE)","v":false}]
[null,null,null,null,null,0,null,null,0,0,null,null,true,true,true,true,4,false]
[null,null,null,null,null,0,null,null,0,0,null,null,true,true,true,true,4,false]
[null,null,null,null,null,0,null,null,0,0,null,null,true,true,true,true,4,false]
[null,null,null,null,null,0,null,null,0,0,null,null,true,true,true,true,4,false]
[null,null,null,null,null,0,null,null,0,0,null,null,true,true,true,true,4,false]
[null,null,null,null,null,0,null,null,0,0,null,null,true,true,true,true,4,false]
[null,null,null,null,null,0,null,null,0,0,null,null,true,true,true,true,4,false]
[null,null,null,null,null,0,null,null,0,0,null,null,true,true,true,true,4,true]
[null,"4.9 Consultancy, studies,designs, website development etc.",null,null,null,{"$f":"SUM(F283:F302)","v":0},null,null,{"$f":"SUM(I283:I302)","v":0},{"$f":"SUM(J283:J302)","v":0},null,null,null,null,null,null,null,true]
[null,null,null,null,null,{"$f":"ROUND(D283*E283,2)","v":0},null,null,{"$f":"ROUND(G283*H283,2)","v":0},{"$f":"F283+I283","v":0},null,null,{"$f":"ISBLANK(B283)","v":true},{"$f":"ISBLANK(C283)","v":true},{"$f":"ISBLANK(D283)","v":true},{"$f":"ISBLANK(E283)","v":true},{"$f":"M283+N283+O283+P283","v":4},{"$f":"IF(Q283=0,TRUE,FALSE)","v":false}]
[null,null,null,null,null,{"$f":"ROUND(D284*E284,2)","v":0},null,null,0,{"$f":"F284+I284","v":0},null,null,true,true,true,true,{"$f":"M284+N284+O284+P284","v":4},{"$f":"IF(Q284=0,TRUE,FALSE)","v":false}]
[null,null,null,null,null,0,null,null,0,0,null,null,true,true,true,true,4,false]
[null,null,null,null,null,0,null,null,0,0,null,null,true,true,true,true,4,false]
[null,null,null,null,null,0,null,null,0,0,null,null,true,true,true,true,4,false]
[null,null,null,null,null,0,null,null,0,0,null,null,true,true,true,true,4,false]
[null,null,null,null,null,0,null,null,0,0,null,null,true,true,true,true,4,false]
[null,null,null,null,null,0,null,null,0,0,null,null,true,true,true,true,4,false]
[null,null,null,null,null,0,null,null,0,0,null,null,true,true,true,true,4,false]
[null,null,null,null,null,0,null,null,0,0,null,null,true,true,true,true,4,true]
[null,null,null,null,null,{"$f":"ROUND(D293*E293,2)","v":0},null,null,{"$f":"ROUND(G293*H293,2)","v":0},{"$f":"F293+I293","v":0},null,null,true,{"$f":"ISBLANK(C293)","v":true},{"$f":"ISBLANK(D293)","v":true},{"$f":"ISBLANK(E293)","v":true},{"$f":"M293+N293+O293+P293","v":4},{"$f":"IF(Q293=0,TRUE,FALSE)","v":false}]
[null,null,null,null,null,{"$f":"ROUND(D294*E294,2)","v":0},null,null,0,{"$f":"F294+I294","v":0},null,null,true,true,true,true,{"$f":"M294+N294+O294+P294","v":4},{"$f":"IF(Q294=0,TRUE,FALSE)","v":false}]
[null,null,null,null,null,0,null,null,0,0,null,null,true,true,true,true,4,false]
[null,null,null,null,null,0,null,null,0,0,null,null,true,true,true,true,4,false]
[null,null,null,null,null,0,null,null,0,0,null,null,true,true,true,true,4,false]
[null,null,null,null,null,0,null,null,0,0,null,null,true,true,true,true,4,false]
[null,null,null,null,null,0,null,null,0,0,null,null,true,true,true,true,4,false]
[null,null,null,null,null,0,null,null,0,0,null,null,true,true,true,true,4,false]
[null,null,null,null,null,0,null,null,0,0,null,null,true,true,true,true,4,false]
[null,null,null,null,null,0,null,null,0,0,null,null,true,true,true,true,4,true]
[null,"4.10 Authorizations, certificates",null,null,null,{"$f":"SUM(F304:F323)","v":0},null,null,{"$f":"SUM(I304:I323)","v":0},{"$f":"SUM(J304:J323)","v":0},null,null,null,null,null,null,null,true]
[null,null,null,null,null,{"$f":"ROUND(D304*E304,2)","v":0},null,null,{"$f":"ROUND(G304*H304,2)","v":0},{"$f":"F304+I304","v":0},null,null,{"$f":"ISBLANK(B304)","v":true},{"$f":"ISBLANK(C304)","v":true},{"$f":"ISBLANK(D304)","v":true},{"$f":"ISBLANK(E304)","v":true},{"$f":"M304+N304+O304+P304","v":4},{"$f":"IF(Q304=0,TRUE,FALSE)","v":false}]
[null,null,null,null,null,{"$f":"ROUND(D305*E305,2)","v":0},null,null,0,{"$f":"F305+I305","v":0},null,null,true,true,true,true,{"$f":"M305+N305+O305+P305","v":4},{"$f":"IF(Q305=0,TRUE,FALSE)","v":false}]
[null,null,null,null,null,0,null,null,0,0,null,null,true,true,true,true,4,false]
[null,null,null,null,null,0,null,null,0,0,null,null,true,true,true,true,4,false]
[null,null,null,null,null,0,null,null,0,0,null,null,true,true,true,true,4,false]
[null,null,null,null,null,0,null,null,0,0,null,null,true,true,true,true,4,false]
[null,null,null,null,null,0,null,null,0,0,null,null,true,true,true,true,4,false]
[null,null,null,null,null,0,null,null,0,0,null,null,true,true,true,true,4,false]
[null,null,null,null,null,0,null,null,0,0,null,null,true,true,true,true,4,false]
[null,null,null,null,null,0,null,null,0,0,null,null,true,true,true,true,4,true]
[null,null,null,null,null,{"$f":"ROUND(D314*E314,2)","v":0},null,null,{"$f":"ROUND(G314*H314,2)","v":0},{"$f":"F314+I314","v":0},null,null,true,{"$f":"ISBLANK(C314)","v":true},{"$f":"ISBLANK(D314)","v":true},{"$f":"ISBLANK(E314)","v":true},{"$f":"M314+N314+O314+P314","v":4},{"$f":"IF(Q314=0,TRUE,FALSE)","v":false}]
[null,null,null,null,null,{"$f":"ROUND(D315*E315,2)","v":0},null,null,0,{"$f":"F315+I315","v":0},null,null,true,true,true,true,{"$f":"M315+N315+O315+P315","v":4},{"$f":"IF(Q315=0,TRUE,FALSE)","v":false}]
[null,null,null,null,null,0,null,null,0,0,null,null,true,true,true,true,4,false]
[null,null,null,null,null,0,null,null,0,0,null,null,true,true,true,true,4,false]
[null,null,null,null,null,0,null,null,0,0,null,null,true,true,true,true,4,false]
[null,null,null,null,null,0,null,null,0,0,null,null,true,true,true,true,4,false]
[null,null,null,null,null,0,null,null,0,0,null,null,true,true,true,true,4,false]
[null,null,null,null,null,0,null,null,0,0,null,null,true,true,true,true,4,false]
[null,null,null,null,null,0,null,null,0,0,null,null,true,true,true,true,4,false]
[null,null,null,null,null,0,null,null,0,0,null,null,true,true,true,true,4,true]
[null,"4.11 Interpreters, lecturers, trainers",null,null,null,{"$f":"SUM(F325:F344)","v":0},null,null,{"$f":"SUM(I325:I344)","v":0},{"$f":"SUM(J325:J344)","v":0},null,null,null,null,null,null,null,true]
[null,null,null,null,null,{"$f":"ROUND(D325*E325,2)","v":0},null,null,{"$f":"ROUND(G325*H325,2)","v":0},{"$f":"F325+I325","v":0},null,null,{"$f":"ISBLANK(B325)","v":true},{"$f":"ISBLANK(C325)","v":true},{"$f":"ISBLANK(D325)","v":true},{"$f":"ISBLANK(E325)","v":true},{"$f":"M325+N325+O325+P325","v":4},{"$f":"IF(Q325=0,TRUE,FALSE)","v":false}]
[null,null,null,null,null,{"$f":"ROUND(D326*E326,2)","v":0},null,null,0,{"$f":"F326+I326","v":0},null,null,true,true,true,true,{"$f":"M326+N326+O326+P326","v":4},{"$f":"IF(Q326=0,TRUE,FALSE)","v":false}]
[null,null,null,null,null,0,null,null,0,0,null,null,true,true,true,true,4,false]
[null,null,null,null,null,0,null,null,0,0,null,null,true,true,true,true,4,false]
[null,null,null,null,null,0,null,null,0,0,null,null,true,true,true,true,4,false]
[null,null,null,null,null,0,null,null,0,0,null,null,true,true,true,true,4,false]
[null,null,null,null,null,0,null,null,0,0,null,null,true,true,true,true,4,false]
[null,null,null,null,null,0,null,null,0,0,null,null,true,true,true,true,4,false]
[null,null,null,null,null,0,null,null,0,0,null,null,true,true,true,true,4,false]
[null,null,null,null,null,0,null,null,0,0,null,null,true,true,true,true,4,true]
[null,null,null,null,null,{"$f":"ROUND(D335*E335,2)","v":0},null,null,{"$f":"ROUND(G335*H335,2)","v":0},{"$f":"F335+I335","v":0},null,null,true,{"$f":"ISBLANK(C335)","v":true},{"$f":"ISBLANK(D335)","v":true},{"$f":"ISBLANK(E335)","v":true},{"$f":"M335+N335+O335+P335","v":4},{"$f":"IF(Q335=0,TRUE,FALSE)","v":false}]
[null,null,null,null,null,{"$f":"ROUND(D336*E336,2)","v":0},null,null,0,{"$f":"F336+I336","v":0},null,null,true,true,true,true,{"$f":"M336+N336+O336+P336","v":4},{"$f":"IF(Q336=0,TRUE,FALSE)","v":false}]
[null,null,null,null,null,0,null,null,0,0,null,null,true,true,true,true,4,false]
[null,null,null,null,null,0,null,null,0,0,null,null,true,true,true,true,4,false]
[null,null,null,null,null,0,null,null,0,0,null,null,true,true,true,true,4,false]
[null,null,null,null,null,0,null,null,0,0,null,null,true,true,true,true,4,false]
[null,null,null,null,null,0,null,null,0,0,null,null,true,true,true,true,4,false]
[null,null,null,null,null,0,null,null,0,0,null,null,true,true,true,true,4,false]
[null,null,null,null,null,0,null,null,0,0,null,null,true,true,true,true,4,false]
[null,null,null,null,null,0,null,null,0,0,null,null,true,true,true,true,4,true]
[null,"4.12 Others",null,null,null,{"$f":"SUM(F346:F365)","v":0},null,null,{"$f":"SUM(I346:I365)","v":0},{"$f":"SUM(J346:J365)","v":0},null,null,null,null,null,null,null,true]
[null,null,null,null,null,{"$f":"ROUND(D346*E346,2)","v":0},null,null,{"$f":"ROUND(G346*H346,2)","v":0},{"$f":"F346+I346","v":0},null,null,{"$f":"ISBLANK(B346)","v":true},{"$f":"ISBLANK(C346)","v":true},{"$f":"ISBLANK(D346)","v":true},{"$f":"ISBLANK(E346)","v":true},{"$f":"M346+N346+O346+P346","v":4},{"$f":"IF(Q346=0,TRUE,FALSE)","v":false}]
[null,null,null,null,null,{"$f":"ROUND(D347*E347,2)","v":0},null,null,0,{"$f":"F347+I347","v":0},null,null,true,true,true,true,{"$f":"M347+N347+O347+P347","v":4},{"$f":"IF(Q347=0,TRUE,FALSE)","v":false}]
[null,null,null,null,null,0,null,null,0,0,null,null,true,true,true,true,4,false]
[null,null,null,null,null,0,null,null,0,0,null,null,true,true,true,true,4,false]
[null,null,null,null,null,0,null,null,0,0,null,null,true,true,true,true,4,false]
[null,null,null,null,null,0,null,null,0,0,null,null,true,true,true,true,4,false]
[null,null,null,null,null,0,null,null,0,0,null,null,true,true,true,true,4,false]
[null,null,null,null,null,0,null,null,0,0,null,null,true,true,true,true,4,false]
[null,null,null,null,null,0,null,null,0,0,null,null,true,true,true,true,4,false]
[null,null,null,null,null,0,null,null,0,0,null,null,true,true,true,true,4,true]
[null,null,null,null,null,{"$f":"ROUND(D356*E356,2)","v":0},null,null,{"$f":"ROUND(G356*H356,2)","v":0},{"$f":"F356+I356","v":0},null,null,true,{"$f":"ISBLANK(C356)","v":true},{"$f":"ISBLANK(D356)","v":true},{"$f":"ISBLANK(E356)","v":true},{"$f":"M356+N356+O356+P356","v":4},{"$f":"IF(Q356=0,TRUE,FALSE)","v":false}]
[null,null,null,null,null,{"$f":"ROUND(D357*E357,2)","v":0},null,null,0,{"$f":"F357+I357","v":0},null,null,true,true,true,true,{"$f":"M357+N357+O357+P357","v":4},{"$f":"IF(Q357=0,TRUE,FALSE)","v":false}]
[null,null,null,null,null,0,null,null,0,0,null,null,true,true,true,true,4,false]
[null,null,null,null,null,0,null,null,0,0,null,null,true,true,true,true,4,false]
[null,null,null,null,null,0,null,null,0,0,null,null,true,true,true,true,4,false]
[null,null,null,null,null,0,null,null,0,0,null,null,true,true,true,true,4,false]
[null,null,null,null,null,0,null,null,0,0,null,null,true,true,true,true,4,false]
[null,null,null,null,null,0,null,null,0,0,null,null,true,true,true,true,4,false]
[null,null,null,null,null,0,null,null,0,0,null,null,true,true,true,true,4,false]
[null,null,null,null,null,0,null,null,0,0,null,null,true,true,true,true,4,true]
[null,"TOTAL",null,null,null,{"$f":"F345+F324+F303+F282+F261+F240+F219+F198+F177+F156+F135+F114","v":0},null,null,{"$f":"I345+I324+I303+I282+I261+I240+I219+I198+I177+I156+I135+I114","v":0},{"$f":"J345+J324+J303+J282+J261+J240+J219+J198+J177+J156+J135+J114","v":0},null,null,null,null,null,null,null,true]
[null,null,null,null,null,null,null,null,null,null,null,null,{"$f":"O371+P371+N367","v":2},{"$f":"M29=\"Soft\"","v":false},null,null,null,true]
[null,"BL5 - EQUIPMENT AND WORKS","Unit","Expenditures in the eligible area",null,null,"N/A",null,null,"TOTAL",null,null,null,null,null,null,null,true]
[null,null,null,"Units","Unit rate","TOTAL","Units","Unit rate","TOTAL",null,null,null,null,null,null,null,null,true]
[null,"5.1 Small scale construction",null,null,null,{"$f":"SUM(F371:F380)","v":0},null,null,{"$f":"SUM(I371:I380)","v":0},{"$f":"SUM(J371:J380)","v":0},null,null,null,null,null,null,null,true]
[null,null,null,null,null,{"$f":"ROUND(D371*E371,2)","v":0},null,null,{"$f":"ROUND(G371*H371,2)","v":0},{"$f":"F371+I371","v":0},null,null,{"$f":"ISBLANK(B371)","v":true},{"$f":"ISBLANK(C371)","v":true},{"$f":"ISBLANK(D371)","v":true},{"$f":"ISBLANK(E371)","v":true},{"$f":"M371+N371+O371+P371","v":4},{"$f":"IF(Q371=0,TRUE,FALSE)","v":false}]
[null,null,null,null,null,{"$f":"ROUND(D372*E372,2)","v":0},null,null,0,{"$f":"F372+I372","v":0},null,null,true,true,true,true,{"$f":"M372+N372+O372+P372","v":4},{"$f":"IF(Q372=0,TRUE,FALSE)","v":false}]
[null,null,null,null,null,0,null,null,0,0,null,null,true,true,true,true,4,false]
[null,null,null,null,null,0,null,null,0,0,null,null,true,true,true,true,4,false]
[null,null,null,null,null,0,null,null,0,0,null,null,true,true,true,true,4,false]
[null,null,null,null,null,0,null,null,0,0,null,null,true,true,true,true,4,false]
[null,null,null,null,null,0,null,null,0,0,null,null,true,true,true,true,4,false]
[null,null,null,null,null,0,null,null,0,0,null,null,true,true,true,true,4,false]
[null,null,null,null,null,0,null,null,0,0,null,null,true,true,true,true,4,false]
[null,null,null,null,null,0,null,null,0,0,null,null,true,true,true,true,4,true]
[null,"5.2 Supply",null,null,null,{"$f":"SUM(F382:F401)","v":0},null,null,{"$f":"SUM(I382:I401)","v":0},{"$f":"SUM(J382:J401)","v":0},null,null,null,null,null,null,null,true]
[null,null,null,null,null,{"$f":"ROUND(D382*E382,2)","v":0},null,null,{"$f":"ROUND(G382*H382,2)","v":0},{"$f":"F382+I382","v":0},null,null,{"$f":"ISBLANK(B382)","v":true},{"$f":"ISBLANK(C382)","v":true},{"$f":"ISBLANK(D382)","v":true},{"$f":"ISBLANK(E382)","v":true},{"$f":"M382+N382+O382+P382","v":4},{"$f":"IF(Q382=0,TRUE,FALSE)","v":false}]
[null,null,null,null,null,{"$f":"ROUND(D383*E383,2)","v":0},null,null,0,{"$f":"F383+I383","v":0},null,null,true,true,true,true,{"$f":"M383+N383+O383+P383","v":4},{"$f":"IF(Q383=0,TRUE,FALSE)","v":false}]
[null,null,null,null,null,0,null,null,0,0,null,null,true,true,true,true,4,false]
[null,null,null,null,null,0,null,null,0,0,null,null,true,true,true,true,4,false]
[null,null,null,null,null,0,null,null,0,0,null,null,true,true,true,true,4,false]
[null,null,null,null,null,0,null,null,0,0,null,null,true,true,true,true,4,false]
[null,null,null,null,null,0,null,null,0,0,null,null,true,true,true,true,4,false]
[null,null,null,null,null,0,null,null,0,0,null,null,true,true,true,true,4,false]
[null,null,null,null,null,0,null,null,0,0,null,null,true,true,true,true,4,false]
[null,null,null,null,null,0,null,null,0,0,null,null,true,true,true,true,4,true]
[null,null,null,null,null,{"$f":"ROUND(D392*E392,2)","v":0},null,null,{"$f":"ROUND(G392*H392,2)","v":0},{"$f":"F392+I392","v":0},null,null,true,{"$f":"ISBLANK(C392)","v":true},{"$f":"ISBLANK(D392)","v":true},{"$f":"ISBLANK(E392)","v":true},{"$f":"M392+N392+O392+P392","v":4},{"$f":"IF(Q392=0,TRUE,FALSE)","v":false}]
[null,null,null,null,null,{"$f":"ROUND(D393*E393,2)","v":0},null,null,0,{"$f":"F393+I393","v":0},null,null,true,true,true,true,{"$f":"M393+N393+O393+P393","v":4},{"$f":"IF(Q393=0,TRUE,FALSE)","v":false}]
[null,null,null,null,null,0,null,null,0,0,null,null,true,true,true,true,4,false]
[null,null,null,null,null,0,null,null,0,0,null,null,true,true,true,true,4,false]
[null,null,null,null,null,0,null,null,0,0,null,null,true,true,true,true,4,false]
[null,null,null,null,null,0,null,null,0,0,null,null,true,true,true,true,4,false]
[null,null,null,null,null,0,null,null,0,0,null,null,true,true,true,true,4,false]
[null,null,null,null,null,0,null,null,0,0,null,null,true,true,true,true,4,false]
[null,null,null,null,null,0,null,null,0,0,null,null,true,true,true,true,4,false]
[null,null,null,null,null,0,null,null,0,0,null,null,true,true,true,true,4,true]
[null,"TOTAL",null,null,null,{"$f":"F381+F370","v":0},null,null,{"$f":"I381+I370","v":0},{"$f":"J381+J370","v":0},null,null,null,null,null,null,null,true]
[null,"Preparation of Application package can not exceed 3000 euro!",null,null,null,null,null,null,null,null,null,null,null,null,null,null,null,true]
[null,"BL6 - PROJECT PREPARATION","Unit","Expenditures in the eligible area",null,null,"N/A",null,null,"TOTAL",null,null,null,null,null,null,null,true]
[null,null,null,"Units","Unit rate","TOTAL","Units","Unit rate","TOTAL",null,null,null,null,null,null,null,null,true]
[null,"6.1.Preparation of Application package ",null,null,null,{"$f":"SUM(F407:F416)","v":0},null,null,{"$f":"SUM(I407:I416)","v":0},{"$f":"SUM(J407:J416)","v":0}]
[null,null,null,null,null,{"$f":"ROUND(D407*E407,2)","v":0},null,null,{"$f":"ROUND(G407*H407,2)","v":0},{"$f":"F407+I407","v":0},null,null,{"$f":"ISBLANK(B407)","v":true},{"$f":"ISBLANK(C407)","v":true},{"$f":"ISBLANK(D407)","v":true},{"$f":"ISBLANK(E407)","v":true},{"$f":"M407+N407+O407+P407","v":4},{"$f":"IF(Q407=0,TRUE,FALSE)","v":false}]
[null,null,null,null,null,{"$f":"ROUND(D408*E408,2)","v":0},null,null,0,{"$f":"F408+I408","v":0},null,null,true,true,true,true,{"$f":"M408+N408+O408+P408","v":4},{"$f":"IF(Q408=0,TRUE,FALSE)","v":false}]
[null,null,null,null,null,0,null,null,0,0,null,null,true,true,true,true,4,false]
[null,null,null,null,null,0,null,null,0,0,null,null,true,true,true,true,4,false]
[null,null,null,null,null,0,null,null,0,0,null,null,true,true,true,true,4,false]
[null,null,null,null,null,0,null,null,0,0,null,null,true,true,true,true,4,false]
[null,null,null,null,null,0,null,null,0,0,null,null,true,true,true,true,4,false]
[null,null,null,null,null,0,null,null,0,0,null,null,true,true,true,true,4,false]
[null,null,null,null,null,0,null,null,0,0,null,null,true,true,true,true,4,false]
[null,null,null,null,null,{"$f":"ROUND(D416*E416,2)","v":0},null,null,{"$f":"ROUND(G416*H416,2)","v":0},{"$f":"F416+I416","v":0},null,null,true,{"$f":"ISBLANK(C416)","v":true},{"$f":"ISBLANK(D416)","v":true},{"$f":"ISBLANK(E416)","v":true},{"$f":"M416+N416+O416+P416","v":4},true]
[null,"6.2 Preparation of technical documentation ",null,null,null,{"$f":"SUM(F418:F427)","v":0},null,null,{"$f":"SUM(I418:I427)","v":0},{"$f":"SUM(J418:J427)","v":0},null,null,false,{"$f":"ISBLANK(C417)","v":true},{"$f":"ISBLANK(D417)","v":true},{"$f":"ISBLANK(E417)","v":true},{"$f":"M417+N417+O417+P417","v":3},{"$f":"IF(Q417=0,TRUE,FALSE)","v":false}]
[null,null,null,null,null,{"$f":"ROUND(D418*E418,2)","v":0},null,null,{"$f":"ROUND(G418*H418,2)","v":0},{"$f":"F418+I418","v":0},null,null,true]
[null,null,null,null,null,0,null,null,0,0,null,null,true,true,true,true,{"$f":"M419+N419+O419+P419","v":4},{"$f":"IF(Q419=0,TRUE,FALSE)","v":false}]
[null,null,null,null,null,0,null,null,0,0,null,null,true,true,true,true,4,false]
[null,null,null,null,null,0,null,null,0,0,null,null,true,true,true,true,4,false]
[null,null,null,null,null,0,null,null,0,0,null,null,true,true,true,true,4,false]
[null,null,null,null,null,0,null,null,0,0,null,null,true,true,true,true,4,false]
[null,null,null,null,null,0,null,null,0,0,null,null,true,true,true,true,4,false]
[null,null,null,null,null,0,null,null,0,0,null,null,true,true,true,true,4,false]
[null,null,null,null,null,0,null,null,0,0,null,null,true,true,true,true,4,false]
[null,null,null,null,null,0,null,null,0,0,null,null,true,true,true,true,4,false]
[null,"TOTAL",null,null,null,{"$f":"F406+F417","v":0},null,null,{"$f":"I406+I417","v":0},{"$f":"J406+J417","v":0},null,null,null,null,null,null,null,true]
[null,null,null,null,null,null,null,null,null,null,null,null,null,null,null,null,null,true]
[null,"Own Contribution",null,null,null,"Unit","Units","Unit rate","TOTAL",null,null,null,"Units out","Units rate out","Total out","Total in",null,true]
[null,null,null,null,null,null,null,null,{"$f":"ROUND(G431*H431,2)","v":0},null,null,null,null,null,null,null,null,true]
[null,null,null,"Expenditures outside the eligible area exceed 20 %! Reconsider budget distribution!",null,null,null,null,null,null,null,null,null,null,null,null,null,true]
[null,"Total direct project costs VAT incl. (BL3+BL4+BL5)",null,null,null,{"$f":"F402+F366+F110","v":0},{"$f":"I402+I110+I366","v":0},null,null,{"$f":"J402+J366+J110","v":0},null,null,null,null,null,null,null,true]
[null,"TOTAL PROJECT COSTS",null,null,null,{"$f":"F433+F428+I6+I32+I431","v":0},{"$f":"G433+I428","v":0},null,null,{"$f":"F434+G434","v":0},null,null,null,null,null,null,null,true]
[]
[null,null,null,null,null,null,null,null,null,null,null,null,null,{"$f":"G434/F434>0.2","v":{"$error":"#DIV/0!"}}]

{"sheet":"T2-B(PP2)","index":11,"n_rows":443,"n_cols":18,"rows_kept":443,"cut":false,"hidden":false,"merged":[[5,1,5,7],[5,8,5,9],[2,1,3,5],[2,6,2,7],[2,8,3,9],[3,6,3,7],[4,1,4,5],[4,6,4,7],[4,8,4,9],[441,1,441,4],[441,6,441,8],[442,1,442,4],[442,6,442,8],[436,1,436,4],[436,6,436,7],[438,1,438,4],[438,8,438,9],[439,1,439,4],[439,8,439,9],[412,9,413,9],[410,1,410,4],[410,6,410,7],[412,1,413,1],[412,2,413,2],[412,3,412,5],[412,6,412,8],[364,1,364,4],[364,6,364,7],[366,1,367,1],[366,2,367,2],[366,3,366,5],[366,6,366,8],[365,3,365,9],[366,9,367,9],[110,1,111,1],[110,2,111,2],[110,3,110,5],[110,6,110,8],[110,9,111,9],[30,1,30,7],[30,8,30,9],[32,1,33,1],[32,2,33,2],[32,3,32,5],[32,6,32,8],[32,9,33,9],[27,1,28,5],[27,6,27,7],[27,8,28,9],[28,6,28,7],[29,8,29,9],[29,1,29,5],[29,6,29,7]]}
[null,"TABLE 2 - DETAILED BREAKDOWN OF BUDGET LINES - PP2",null,null,null,null,null,null,null,null,null,null,null,null,null,null,null,true]
[null,null,null,null,null,null,null,null,null,null,null,null,null,null,null,null,null,true]
[null,"BL1 - STAFF COSTS",null,null,null,null,"Flat rate",null,"TOTAL",null,null,null,null,null,null,null,null,true]
[null,null,null,null,null,null,"%",null,null,null,null,null,null,null,null,null,null,true]
[null,{"$f":"M5","v":"Investment project"},null,null,null,null,0,null,{"$f":"SUM(J7:J26)","v":0},null,null,"visible/hidden depending on project identification",{"$f":"CONCATENATE('Project identification'!C15,\" project\")","v":"Investment project"},null,null,null,10,true]
[null,"TOTAL",null,null,null,null,null,null,{"$f":"I5","v":0},null,null,null,null,null,{"$f":"IF(#REF!=\"Soft\",15,10)","v":{"$error":"#REF!"}},null,15,true]
[null,null,null,null,null,{"$f":"ROUND(D7*E7,2)","v":0},null,null,{"$f":"ROUND(G7*H7,2)","v":0},{"$f":"F7+I7","v":0},null,null,{"$f":"ISBLANK(B7)","v":true},{"$f":"ISBLANK(C7)","v":true},{"$f":"ISBLANK(D7)","v":true},{"$f":"ISBLANK(E7)","v":true},{"$f":"M7+N7+O7+P7","v":4},{"$f":"IF(Q7=0,TRUE,FALSE)","v":false}]
[null,null,null,null,null,{"$f":"ROUND(D8*E8,2)","v":0},null,null,{"$f":"ROUND(G8*H8,2)","v":0},{"$f":"F8+I8","v":0},null,null,{"$f":"ISBLANK(B8)","v":true},true,true,true,{"$f":"M8+N8+O8+P8","v":4},{"$f":"IF(Q8=0,TRUE,FALSE)","v":false}]
[null,null,null,null,null,0,null,null,0,0,null,null,true,true,true,true,4,false]
[null,null,null,null,null,0,null,null,0,0,null,null,true,true,true,true,4,false]
[null,null,null,null,null,0,null,null,0,0,null,null,true,true,true,true,4,false]
[null,null,null,null,null,0,null,null,0,0,null,null,true,true,true,true,4,false]
[null,null,null,null,null,0,null,null,0,0,null,null,true,true,true,true,4,false]
[null,null,null,null,null,0,null,null,0,0,null,null,true,true,true,true,4,false]
[null,null,null,null,null,0,null,null,0,0,null,null,true,true,true,true,4,false]
[null,null,null,null,null,0,null,null,0,0,null,null,true,true,true,true,4,true]
[null,null,null,null,null,{"$f":"ROUND(D17*E17,2)","v":0},null,null,{"$f":"ROUND(G17*H17,2)","v":0},{"$f":"F17+I17","v":0},null,null,true,{"$f":"ISBLANK(C17)","v":true},{"$f":"ISBLANK(D17)","v":true},{"$f":"ISBLANK(E17)","v":true},{"$f":"M17+N17+O17+P17","v":4},{"$f":"IF(Q17=0,TRUE,FALSE)","v":false}]
[null,null,null,null,null,{"$f":"ROUND(D18*E18,2)","v":0},null,null,{"$f":"ROUND(G18*H18,2)","v":0},{"$f":"F18+I18","v":0},null,null,true,true,true,true,{"$f":"M18+N18+O18+P18","v":4},{"$f":"IF(Q18=0,TRUE,FALSE)","v":false}]
[null,null,null,null,null,0,null,null,0,0,null,null,true,true,true,true,4,false]
[null,null,null,null,null,0,null,null,0,0,null,null,true,true,true,true,4,false]
[null,null,null,null,null,0,null,null,0,0,null,null,true,true,true,true,4,false]
[null,null,null,null,null,0,null,null,0,0,null,null,true,true,true,true,4,false]
[null,null,null,null,null,0,null,null,0,0,null,null,true,true,true,true,4,false]
[null,null,null,null,null,0,null,null,0,0,null,null,true,true,true,true,4,false]
[null,null,null,null,null,0,null,null,0,0,null,null,true,true,true,true,4,false]
[null,null,null,null,null,0,null,null,0,0,null,null,true,true,true,true,4,true]
[null,null,null,null,null,null,null,null,null,null,null,null,null,null,null,null,null,true]
[null,"BL2 - OFFICE AND ADMINISTRATIVE COSTS",null,null,null,null,"Flat rate",null,"TOTAL",null,null,null,{"$f":"'Project identification'!C15","v":"Investment"},null,null,null,null,true]
[null,null,null,null,null,null,"%",null,null,null,null,null,null,null,null,null,null,true]
[null,{"$f":"M5","v":"Investment project"},null,null,null,null,0,null,{"$f":"ROUND(G30*I5/100,2)","v":0},null,null,"visible/hidden depending on project identification",null,null,null,null,2,true]
[null,"TOTAL",null,null,null,null,null,null,{"$f":"I30","v":0},null,null,null,null,null,{"$f":"IF(M28=\"Soft\",20,15)","v":15},null,5,true]
[null,null,null,null,null,null,null,null,null,null,null,null,null,null,null,null,null,true]
[null,"BL3 - TRAVEL AND ACCOMMODATION","Unit","Expenditures in the eligible area",null,null,"Expenditures outside of the eligible area",null,null,"TOTAL",null,null,null,null,null,null,null,true]
[null,null,null,"Units","Unit rate","TOTAL","Units","Unit rate","TOTAL",null,null,null,null,null,null,null,null,true]
[null,"3.1 Travel costs",null,null,null,{"$f":"SUM(F36:F55)","v":0},null,null,{"$f":"SUM(I36:I55)","v":0},{"$f":"SUM(J36:J55)","v":0},null,"Add",null,null,null,null,null,true]
[null,null,null,null,null,{"$f":"ROUND(D36*E36,2)","v":0},null,null,{"$f":"ROUND(G36*H36,2)","v":0},{"$f":"F36+I36","v":0},null,null,{"$f":"ISBLANK(B36)","v":true},{"$f":"ISBLANK(C36)","v":true},true,true,{"$f":"M36+N36+O36+P36","v":4},{"$f":"IF(Q36=0,TRUE,FALSE)","v":false}]
[null,null,null,null,null,{"$f":"ROUND(D37*E37,2)","v":0},null,null,0,{"$f":"F37+I37","v":0},null,null,{"$f":"ISBLANK(B37)","v":true},true,true,true,{"$f":"M37+N37+O37+P37","v":4},{"$f":"IF(Q37=0,TRUE,FALSE)","v":false}]
[null,null,null,null,null,0,null,null,0,0,null,null,true,true,true,true,4,false]
[null,null,null,null,null,0,null,null,0,0,null,null,true,true,true,true,4,false]
[null,null,null,null,null,0,null,null,0,0,null,null,true,true,true,true,4,false]
[null,null,null,null,null,0,null,null,0,0,null,null,true,true,true,true,4,false]
[null,null,null,null,null,0,null,null,0,0,null,null,true,true,true,true,4,false]
[null,null,null,null,null,0,null,null,0,0,null,null,true,true,true,true,4,false]
[null,null,null,null,null,0,null,null,0,0,null,null,true,true,true,true,4,false]
[null,null,null,null,null,0,null,null,0,0,null,null,true,true,true,true,4,true]
[null,null,null,null,null,{"$f":"ROUND(D46*E46,2)","v":0},null,null,{"$f":"ROUND(G46*H46,2)","v":0},{"$f":"F46+I46","v":0},null,null,{"$f":"ISBLANK(B46)","v":true},{"$f":"ISBLANK(C46)","v":true},{"$f":"ISBLANK(D46)","v":true},{"$f":"ISBLANK(E46)","v":true},{"$f":"M46+N46+O46+P46","v":4},{"$f":"IF(Q46=0,TRUE,FALSE)","v":false}]
[null,null,null,null,null,{"$f":"ROUND(D47*E47,2)","v":0},null,null,0,{"$f":"F47+I47","v":0},null,null,{"$f":"ISBLANK(B47)","v":true},true,true,true,{"$f":"M47+N47+O47+P47","v":4},{"$f":"IF(Q47=0,TRUE,FALSE)","v":false}]
[null,null,null,null,null,0,null,null,0,0,null,null,true,true,true,true,4,false]
[null,null,null,null,null,0,null,null,0,0,null,null,true,true,true,true,4,false]
[null,null,null,null,null,0,null,null,0,0,null,null,true,true,true,true,4,false]
[null,null,null,null,null,0,null,null,0,0,null,null,true,true,true,true,4,false]
[null,null,null,null,null,0,null,null,0,0,null,null,true,true,true,true,4,false]
[null,null,null,null,null,0,null,null,0,0,null,null,true,true,true,true,4,false]
[null,null,null,null,null,0,null,null,0,0,null,null,true,true,true,true,4,false]
[null,null,null,null,null,0,null,null,0,0,null,null,true,true,true,true,4,true]
[null,"3.2 Daily allowances",null,null,null,{"$f":"SUM(F57:F76)","v":0},null,null,{"$f":"SUM(I57:I76)","v":0},{"$f":"SUM(J57:J76)","v":0},null,"add (10 items)",null,null,null,null,null,true]
[null,null,null,null,null,{"$f":"ROUND(D57*E57,2)","v":0},null,null,{"$f":"ROUND(G57*H57,2)","v":0},{"$f":"F57+I57","v":0},null,null,{"$f":"ISBLANK(B57)","v":true},{"$f":"ISBLANK(C57)","v":true},true,true,{"$f":"M57+N57+O57+P57","v":4},{"$f":"IF(Q57=0,TRUE,FALSE)","v":false}]
[null,null,null,null,null,{"$f":"ROUND(D58*E58,2)","v":0},null,null,0,{"$f":"F58+I58","v":0},null,null,{"$f":"ISBLANK(B58)","v":true},true,true,true,{"$f":"M58+N58+O58+P58","v":4},{"$f":"IF(Q58=0,TRUE,FALSE)","v":false}]
[null,null,null,null,null,0,null,null,0,0,null,null,true,true,true,true,4,false]
[null,null,null,null,null,0,null,null,0,0,null,null,true,true,true,true,4,false]
[null,null,null,null,null,0,null,null,0,0,null,null,true,true,true,true,4,false]
[null,null,null,null,null,0,null,null,0,0,null,null,true,true,true,true,4,false]
[null,null,null,null,null,0,null,null,0,0,null,null,true,true,true,true,4,false]
[null,null,null,null,null,0,null,null,0,0,null,null,true,true,true,true,4,false]
[null,null,null,null,null,0,null,null,0,0,null,null,true,true,true,true,4,false]
[null,null,null,null,null,0,null,null,0,0,null,null,true,true,true,true,4,true]
[null,null,null,null,null,{"$f":"ROUND(D67*E67,2)","v":0},null,null,{"$f":"ROUND(G67*H67,2)","v":0},{"$f":"F67+I67","v":0},null,null,{"$f":"ISBLANK(B67)","v":true},{"$f":"ISBLANK(C67)","v":true},{"$f":"ISBLANK(D67)","v":true},{"$f":"ISBLANK(E67)","v":true},{"$f":"M67+N67+O67+P67","v":4},{"$f":"IF(Q67=0,TRUE,FALSE)","v":false}]
[null,null,null,null,null,{"$f":"ROUND(D68*E68,2)","v":0},null,null,0,{"$f":"F68+I68","v":0},null,null,{"$f":"ISBLANK(B68)","v":true},true,true,true,{"$f":"M68+N68+O68+P68","v":4},{"$f":"IF(Q68=0,TRUE,FALSE)","v":false}]
[null,null,null,null,null,0,null,null,0,0,null,null,true,true,true,true,4,false]
[null,null,null,null,null,0,null,null,0,0,null,null,true,true,true,true,4,false]
[null,null,null,null,null,0,null,null,0,0,null,null,true,true,true,true,4,false]
[null,null,null,null,null,0,null,null,0,0,null,null,true,true,true,true,4,false]
[null,null,null,null,null,0,null,null,0,0,null,null,true,true,true,true,4,false]
[null,null,null,null,null,0,null,null,0,0,null,null,true,true,true,true,4,false]
[null,null,null,null,null,0,null,null,0,0,null,null,true,true,true,true,4,false]
[null,null,null,null,null,0,null,null,0,0,null,null,true,true,true,true,4,true]
[null,"3.3 Accommodation costs",null,null,null,{"$f":"SUM(F78:F97)","v":0},null,null,{"$f":"SUM(I78:I97)","v":0},{"$f":"SUM(J78:J97)","v":0},null,null,null,null,null,null,null,true]
[null,null,null,null,null,{"$f":"ROUND(D78*E78,2)","v":0},null,null,{"$f":"ROUND(G78*H78,2)","v":0},{"$f":"F78+I78","v":0},null,null,{"$f":"ISBLANK(B78)","v":true},{"$f":"ISBLANK(C78)","v":true},true,true,{"$f":"M78+N78+O78+P78","v":4},{"$f":"IF(Q78=0,TRUE,FALSE)","v":false}]
[null,null,null,null,null,{"$f":"ROUND(D79*E79,2)","v":0},null,null,0,{"$f":"F79+I79","v":0},null,null,{"$f":"ISBLANK(B79)","v":true},true,true,true,{"$f":"M79+N79+O79+P79","v":4},{"$f":"IF(Q79=0,TRUE,FALSE)","v":false}]
[null,null,null,null,null,0,null,null,0,0,null,null,true,true,true,true,4,false]
[null,null,null,null,null,0,null,null,0,0,null,null,true,true,true,true,4,false]
[null,null,null,null,null,0,null,null,0,0,null,null,true,true,true,true,4,false]
[null,null,null,null,null,0,null,null,0,0,null,null,true,true,true,true,4,false]
[null,null,null,null,null,0,null,null,0,0,null,null,true,true,true,true,4,false]
[null,null,null,null,null,0,null,null,0,0,null,null,true,true,true,true,4,false]
[null,null,null,null,null,0,null,null,0,0,null,null,true,true,true,true,4,false]
[null,null,null,null,null,0,null,null,0,0,null,null,true,true,true,true,4,true]
[null,null,null,null,null,{"$f":"ROUND(D88*E88,2)","v":0},null,null,{"$f":"ROUND(G88*H88,2)","v":0},{"$f":"F88+I88","v":0},null,null,{"$f":"ISBLANK(B88)","v":true},{"$f":"ISBLANK(C88)","v":true},{"$f":"ISBLANK(D88)","v":true},{"$f":"ISBLANK(E88)","v":true},{"$f":"M88+N88+O88+P88","v":4},{"$f":"IF(Q88=0,TRUE,FALSE)","v":false}]
[null,null,null,null,null,{"$f":"ROUND(D89*E89,2)","v":0},null,null,0,{"$f":"F89+I89","v":0},null,null,{"$f":"ISBLANK(B89)","v":true},true,true,true,{"$f":"M89+N89+O89+P89","v":4},{"$f":"IF(Q89=0,TRUE,FALSE)","v":false}]
[null,null,null,null,null,0,null,null,0,0,null,null,true,true,true,true,4,false]
[null,null,null,null,null,0,null,null,0,0,null,null,true,true,true,true,4,false]
[null,null,null,null,null,0,null,null,0,0,null,null,true,true,true,true,4,false]
[null,null,null,null,null,0,null,null,0,0,null,null,true,true,true,true,4,false]
[null,null,null,null,null,0,null,null,0,0,null,null,true,true,true,true,4,false]
[null,null,null,null,null,0,null,null,0,0,null,null,true,true,true,true,4,false]
[null,null,null,null,null,0,null,null,0,0,null,null,true,true,true,true,4,false]
[null,null,null,null,null,0,null,null,0,0,null,null,true,true,true,true,4,true]
[null,"3.4 Visa costs",null,null,null,{"$f":"SUM(F99:F108)","v":0},null,null,{"$f":"SUM(I99:I108)","v":0},{"$f":"SUM(J99:J108)","v":0},null,null,null,null,null,null,null,true]
[null,null,null,null,null,{"$f":"ROUND(D99*E99,2)","v":0},null,null,{"$f":"ROUND(G99*H99,2)","v":0},{"$f":"F99+I99","v":0},null,null,{"$f":"ISBLANK(B99)","v":true},{"$f":"ISBLANK(C99)","v":true},true,true,{"$f":"M99+N99+O99+P99","v":4},{"$f":"IF(Q99=0,TRUE,FALSE)","v":false}]
[null,null,null,null,null,{"$f":"ROUND(D100*E100,2)","v":0},null,null,0,{"$f":"F100+I100","v":0},null,null,{"$f":"ISBLANK(B100)","v":true},true,true,true,{"$f":"M100+N100+O100+P100","v":4},{"$f":"IF(Q100=0,TRUE,FALSE)","v":false}]
[null,null,null,null,null,0,null,null,0,0,null,null,true,true,true,true,4,false]
[null,null,null,null,null,0,null,null,0,0,null,null,true,true,true,true,4,false]
[null,null,null,null,null,0,null,null,0,0,null,null,true,true,true,true,4,false]
[null,null,null,null,null,0,null,null,0,0,null,null,true,true,true,true,4,false]
[null,null,null,null,null,0,null,null,0,0,null,null,true,true,true,true,4,false]
[null,null,null,null,null,0,null,null,0,0,null,null,true,true,true,true,4,false]
[null,null,null,null,null,0,null,null,0,0,null,null,true,true,true,true,4,false]
[null,null,null,null,null,0,null,null,0,0,null,null,true,true,true,true,4,true]
[null,"TOTAL",null,null,null,{"$f":"F98+F77+F56+F35","v":0},null,null,{"$f":"I98+I77+I56+I35","v":0},{"$f":"J98+J77+J56+J35","v":0},null,null,null,null,null,null,null,true]
[null,null,null,null,null,null,null,null,null,null,null,null,null,null,null,null,null,true]
[null,"BL4 - EXTERNAL EXPERTISE AND SERVICES COSTS","Unit","Expenditures in the eligible area",null,null,"Expenditures outside of the eligible area",null,null,"TOTAL",null,null,null,null,null,null,null,true]
[null,null,null,"Units","Unit rate","TOTAL","Units","Unit rate","TOTAL",null,null,null,null,null,null,null,null,true]
[null,"4.1 Rent of hall",null,null,null,{"$f":"SUM(F114:F133)","v":0},null,null,{"$f":"SUM(I114:I133)","v":0},{"$f":"SUM(J114:J133)","v":0},null,null,null,null,null,null,null,true]
[null,null,null,null,null,{"$f":"ROUND(D114*E114,2)","v":0},null,null,{"$f":"ROUND(G114*H114,2)","v":0},{"$f":"F114+I114","v":0},null,null,{"$f":"ISBLANK(B114)","v":true},{"$f":"ISBLANK(C114)","v":true},true,true,{"$f":"M114+N114+O114+P114","v":4},{"$f":"IF(Q114=0,TRUE,FALSE)","v":false}]
[null,null,null,null,null,{"$f":"ROUND(D115*E115,2)","v":0},null,null,0,{"$f":"F115+I115","v":0},null,null,{"$f":"ISBLANK(B115)","v":true},true,true,true,{"$f":"M115+N115+O115+P115","v":4},{"$f":"IF(Q115=0,TRUE,FALSE)","v":false}]
[null,null,null,null,null,0,null,null,0,0,null,null,true,true,true,true,4,false]
[null,null,null,null,null,0,null,null,0,0,null,null,true,true,true,true,4,false]
[null,null,null,null,null,0,null,null,0,0,null,null,true,true,true,true,4,false]
[null,null,null,null,null,0,null,null,0,0,null,null,true,true,true,true,4,false]
[null,null,null,null,null,0,null,null,0,0,null,null,true,true,true,true,4,false]
[null,null,null,null,null,0,null,null,0,0,null,null,true,true,true,true,4,false]
[null,null,null,null,null,0,null,null,0,0,null,null,true,true,true,true,4,false]
[null,null,null,null,null,0,null,null,0,0,null,null,true,true,true,true,4,true]
[null,null,null,null,null,{"$f":"ROUND(D124*E124,2)","v":0},null,null,{"$f":"ROUND(G124*H124,2)","v":0},{"$f":"F124+I124","v":0},null,null,{"$f":"ISBLANK(B124)","v":true},{"$f":"ISBLANK(C124)","v":true},{"$f":"ISBLANK(D124)","v":true},{"$f":"ISBLANK(E124)","v":true},{"$f":"M124+N124+O124+P124","v":4},{"$f":"IF(Q124=0,TRUE,FALSE)","v":false}]
[null,null,null,null,null,{"$f":"ROUND(D125*E125,2)","v":0},null,null,0,{"$f":"F125+I125","v":0},null,null,{"$f":"ISBLANK(B125)","v":true},true,true,true,{"$f":"M125+N125+O125+P125","v":4},{"$f":"IF(Q125=0,TRUE,FALSE)","v":false}]
[null,null,null,null,null,0,null,null,0,0,null,null,true,true,true,true,4,false]
[null,null,null,null,null,0,null,null,0,0,null,null,true,true,true,true,4,false]
[null,null,null,null,null,0,null,null,0,0,null,null,true,true,true,true,4,false]
[null,null,null,null,null,0,null,null,0,0,null,null,true,true,true,true,4,false]
[null,null,null,null,null,0,null,null,0,0,null,null,true,true,true,true,4,false]
[null,null,null,null,null,0,null,null,0,0,null,null,true,true,true,true,4,false]
[null,null,null,null,null,0,null,null,0,0,null,null,true,true,true,true,4,false]
[null,null,null,null,null,0,null,null,0,0,null,null,true,true,true,true,4,true]
[null,"4.2 Rent of equipment",null,null,null,{"$f":"SUM(F135:F154)","v":0},null,null,{"$f":"SUM(I135:I154)","v":0},{"$f":"SUM(J135:J154)","v":0},null,null,null,null,null,null,null,true]
[null,null,null,null,null,{"$f":"ROUND(D135*E135,2)","v":0},null,null,{"$f":"ROUND(G135*H135,2)","v":0},{"$f":"F135+I135","v":0},null,null,{"$f":"ISBLANK(B135)","v":true},{"$f":"ISBLANK(C135)","v":true},true,true,{"$f":"M135+N135+O135+P135","v":4},{"$f":"IF(Q135=0,TRUE,FALSE)","v":false}]
[null,null,null,null,null,{"$f":"ROUND(D136*E136,2)","v":0},null,null,0,{"$f":"F136+I136","v":0},null,null,{"$f":"ISBLANK(B136)","v":true},true,true,true,{"$f":"M136+N136+O136+P136","v":4},{"$f":"IF(Q136=0,TRUE,FALSE)","v":false}]
[null,null,null,null,null,0,null,null,0,0,null,null,true,true,true,true,4,false]
[null,null,null,null,null,0,null,null,0,0,null,null,true,true,true,true,4,false]
[null,null,null,null,null,0,null,null,0,0,null,null,true,true,true,true,4,false]
[null,null,null,null,null,0,null,null,0,0,null,null,true,true,true,true,4,false]
[null,null,null,null,null,0,null,null,0,0,null,null,true,true,true,true,4,false]
[null,null,null,null,null,0,null,null,0,0,null,null,true,true,true,true,4,false]
[null,null,null,null,null,0,null,null,0,0,null,null,true,true,true,true,4,false]
[null,null,null,null,null,0,null,null,0,0,null,null,true,true,true,true,4,true]
[null,null,null,null,null,{"$f":"ROUND(D145*E145,2)","v":0},null,null,{"$f":"ROUND(G145*H145,2)","v":0},{"$f":"F145+I145","v":0},null,null,{"$f":"ISBLANK(B145)","v":true},{"$f":"ISBLANK(C145)","v":true},{"$f":"ISBLANK(D145)","v":true},{"$f":"ISBLANK(E145)","v":true},{"$f":"M145+N145+O145+P145","v":4},{"$f":"IF(Q145=0,TRUE,FALSE)","v":false}]
[null,null,null,null,null,{"$f":"ROUND(D146*E146,2)","v":0},null,null,0,{"$f":"F146+I146","v":0},null,null,{"$f":"ISBLANK(B146)","v":true},true,true,true,{"$f":"M146+N146+O146+P146","v":4},{"$f":"IF(Q146=0,TRUE,FALSE)","v":false}]
[null,null,null,null,null,0,null,null,0,0,null,null,true,true,true,true,4,false]
[null,null,null,null,null,0,null,null,0,0,null,null,true,true,true,true,4,false]
[null,null,null,null,null,0,null,null,0,0,null,null,true,true,true,true,4,false]
[null,null,null,null,null,0,null,null,0,0,null,null,true,true,true,true,4,false]
[null,null,null,null,null,0,null,null,0,0,null,null,true,true,true,true,4,false]
[null,null,null,null,null,0,null,null,0,0,null,null,true,true,true,true,4,false]
[null,null,null,null,null,0,null,null,0,0,null,null,true,true,true,true,4,false]
[null,null,null,null,null,0,null,null,0,0,null,null,true,true,true,true,4,true]
[null,"4.3 Coffee breaks, refreshments, etc.",null,null,null,{"$f":"SUM(F156:F175)","v":0},null,null,{"$f":"SUM(I156:I175)","v":0},{"$f":"SUM(J156:J175)","v":0},null,null,null,null,null,null,null,true]
[null,null,null,null,null,{"$f":"ROUND(D156*E156,2)","v":0},null,null,{"$f":"ROUND(G156*H156,2)","v":0},{"$f":"F156+I156","v":0},null,null,{"$f":"ISBLANK(B156)","v":true},{"$f":"ISBLANK(C156)","v":true},true,true,{"$f":"M156+N156+O156+P156","v":4},{"$f":"IF(Q156=0,TRUE,FALSE)","v":false}]
[null,null,null,null,null,{"$f":"ROUND(D157*E157,2)","v":0},null,null,0,{"$f":"F157+I157","v":0},null,null,{"$f":"ISBLANK(B157)","v":true},true,true,true,{"$f":"M157+N157+O157+P157","v":4},{"$f":"IF(Q157=0,TRUE,FALSE)","v":false}]
[null,null,null,null,null,0,null,null,0,0,null,null,true,true,true,true,4,false]
[null,null,null,null,null,0,null,null,0,0,null,null,true,true,true,true,4,false]
[null,null,null,null,null,0,null,null,0,0,null,null,true,true,true,true,4,false]
[null,null,null,null,null,0,null,null,0,0,null,null,true,true,true,true,4,false]
[null,null,null,null,null,0,null,null,0,0,null,null,true,true,true,true,4,false]
[null,null,null,null,null,0,null,null,0,0,null,null,true,true,true,true,4,false]
[null,null,null,null,null,0,null,null,0,0,null,null,true,true,true,true,4,false]
[null,null,null,null,null,0,null,null,0,0,null,null,true,true,true,true,4,true]
[null,null,null,null,null,{"$f":"ROUND(D166*E166,2)","v":0},null,null,{"$f":"ROUND(G166*H166,2)","v":0},{"$f":"F166+I166","v":0},null,null,{"$f":"ISBLANK(B166)","v":true},{"$f":"ISBLANK(C166)","v":true},{"$f":"ISBLANK(D166)","v":true},{"$f":"ISBLANK(E166)","v":true},{"$f":"M166+N166+O166+P166","v":4},{"$f":"IF(Q166=0,TRUE,FALSE)","v":false}]
[null,null,null,null,null,{"$f":"ROUND(D167*E167,2)","v":0},null,null,0,{"$f":"F167+I167","v":0},null,null,{"$f":"ISBLANK(B167)","v":true},true,true,true,{"$f":"M167+N167+O167+P167","v":4},{"$f":"IF(Q167=0,TRUE,FALSE)","v":false}]
[null,null,null,null,null,0,null,null,0,0,null,null,true,true,true,true,4,false]
[null,null,null,null,null,0,null,null,0,0,null,null,true,true,true,true,4,false]
[null,null,null,null,null,0,null,null,0,0,null,null,true,true,true,true,4,false]
[null,null,null,null,null,0,null,null,0,0,null,null,true,true,true,true,4,false]
[null,null,null,null,null,0,null,null,0,0,null,null,true,true,true,true,4,false]
[null,null,null,null,null,0,null,null,0,0,null,null,true,true,true,true,4,false]
[null,null,null,null,null,0,null,null,0,0,null,null,true,true,true,true,4,false]
[null,null,null,null,null,0,null,null,0,0,null,null,true,true,true,true,4,true]
[null,"4.4 Consumables",null,null,null,{"$f":"SUM(F177:F196)","v":0},null,null,{"$f":"SUM(I177:I196)","v":0},{"$f":"SUM(J177:J196)","v":0},null,null,null,null,null,null,null,true]
[null,null,null,null,null,{"$f":"ROUND(D177*E177,2)","v":0},null,null,{"$f":"ROUND(G177*H177,2)","v":0},{"$f":"F177+I177","v":0},null,null,{"$f":"ISBLANK(B177)","v":true},{"$f":"ISBLANK(C177)","v":true},true,true,{"$f":"M177+N177+O177+P177","v":4},{"$f":"IF(Q177=0,TRUE,FALSE)","v":false}]
[null,null,null,null,null,{"$f":"ROUND(D178*E178,2)","v":0},null,null,0,{"$f":"F178+I178","v":0},null,null,{"$f":"ISBLANK(B178)","v":true},true,true,true,{"$f":"M178+N178+O178+P178","v":4},{"$f":"IF(Q178=0,TRUE,FALSE)","v":false}]
[null,null,null,null,null,0,null,null,0,0,null,null,true,true,true,true,4,false]
[null,null,null,null,null,0,null,null,0,0,null,null,true,true,true,true,4,false]
[null,null,null,null,null,0,null,null,0,0,null,null,true,true,true,true,4,false]
[null,null,null,null,null,0,null,null,0,0,null,null,true,true,true,true,4,false]
[null,null,null,null,null,0,null,null,0,0,null,null,true,true,true,true,4,false]
[null,null,null,null,null,0,null,null,0,0,null,null,true,true,true,true,4,false]
[null,null,null,null,null,0,null,null,0,0,null,null,true,true,true,true,4,false]
[null,null,null,null,null,0,null,null,0,0,null,null,true,true,true,true,4,true]
[null,null,null,null,null,{"$f":"ROUND(D187*E187,2)","v":0},null,null,{"$f":"ROUND(G187*H187,2)","v":0},{"$f":"F187+I187","v":0},null,null,{"$f":"ISBLANK(B187)","v":true},{"$f":"ISBLANK(C187)","v":true},{"$f":"ISBLANK(D187)","v":true},{"$f":"ISBLANK(E187)","v":true},{"$f":"M187+N187+O187+P187","v":4},{"$f":"IF(Q187=0,TRUE,FALSE)","v":false}]
[null,null,null,null,null,{"$f":"ROUND(D188*E188,2)","v":0},null,null,0,{"$f":"F188+I188","v":0},null,null,{"$f":"ISBLANK(B188)","v":true},true,true,true,{"$f":"M188+N188+O188+P188","v":4},{"$f":"IF(Q188=0,TRUE,FALSE)","v":false}]
[null,null,null,null,null,0,null,null,0,0,null,null,true,true,true,true,4,false]
[null,null,null,null,null,0,null,null,0,0,null,null,true,true,true,true,4,false]
[null,null,null,null,null,0,null,null,0,0,null,null,true,true,true,true,4,false]
[null,null,null,null,null,0,null,null,0,0,null,null,true,true,true,true,4,false]
[null,null,null,null,null,0,null,null,0,0,null,null,true,true,true,true,4,false]
[null,null,null,null,null,0,null,null,0,0,null,null,true,true,true,true,4,false]
[null,null,null,null,null,0,null,null,0,0,null,null,true,true,true,true,4,false]
[null,null,null,null,null,0,null,null,0,0,null,null,true,true,true,true,4,true]
[null,"4.5 Rent of vehicle for event",null,null,null,{"$f":"SUM(F198:F217)","v":0},null,null,{"$f":"SUM(I198:I217)","v":0},{"$f":"SUM(J198:J217)","v":0},null,null,null,null,null,null,null,true]
[null,null,null,null,null,{"$f":"ROUND(D198*E198,2)","v":0},null,null,{"$f":"ROUND(G198*H198,2)","v":0},{"$f":"F198+I198","v":0},null,null,{"$f":"ISBLANK(B198)","v":true},{"$f":"ISBLANK(C198)","v":true},true,true,{"$f":"M198+N198+O198+P198","v":4},{"$f":"IF(Q198=0,TRUE,FALSE)","v":false}]
[null,null,null,null,null,{"$f":"ROUND(D199*E199,2)","v":0},null,null,0,{"$f":"F199+I199","v":0},null,null,{"$f":"ISBLANK(B199)","v":true},true,true,true,{"$f":"M199+N199+O199+P199","v":4},{"$f":"IF(Q199=0,TRUE,FALSE)","v":false}]
[null,null,null,null,null,0,null,null,0,0,null,null,true,true,true,true,4,false]
[null,null,null,null,null,0,null,null,0,0,null,null,true,true,true,true,4,false]
[null,null,null,null,null,0,null,null,0,0,null,null,true,true,true,true,4,false]
[null,null,null,null,null,0,null,null,0,0,null,null,true,true,true,true,4,false]
[null,null,null,null,null,0,null,null,0,0,null,null,true,true,true,true,4,false]
[null,null,null,null,null,0,null,null,0,0,null,null,true,true,true,true,4,false]
[null,null,null,null,null,0,null,null,0,0,null,null,true,true,true,true,4,false]
[null,null,null,null,null,0,null,null,0,0,null,null,true,true,true,true,4,true]
[null,null,null,null,null,{"$f":"ROUND(D208*E208,2)","v":0},null,null,{"$f":"ROUND(G208*H208,2)","v":0},{"$f":"F208+I208","v":0},null,null,{"$f":"ISBLANK(B208)","v":true},{"$f":"ISBLANK(C208)","v":true},{"$f":"ISBLANK(D208)","v":true},{"$f":"ISBLANK(E208)","v":true},{"$f":"M208+N208+O208+P208","v":4},{"$f":"IF(Q208=0,TRUE,FALSE)","v":false}]
[null,null,null,null,null,{"$f":"ROUND(D209*E209,2)","v":0},null,null,0,{"$f":"F209+I209","v":0},null,null,{"$f":"ISBLANK(B209)","v":true},true,true,true,{"$f":"M209+N209+O209+P209","v":4},{"$f":"IF(Q209=0,TRUE,FALSE)","v":false}]
[null,null,null,null,null,0,null,null,0,0,null,null,true,true,true,true,4,false]
[null,null,null,null,null,0,null,null,0,0,null,null,true,true,true,true,4,false]
[null,null,null,null,null,0,null,null,0,0,null,null,true,true,true,true,4,false]
[null,null,null,null,null,0,null,null,0,0,null,null,true,true,true,true,4,false]
[null,null,null,null,null,0,null,null,0,0,null,null,true,true,true,true,4,false]
[null,null,null,null,null,0,null,null,0,0,null,null,true,true,true,true,4,false]
[null,null,null,null,null,0,null,null,0,0,null,null,true,true,true,true,4,false]
[null,null,null,null,null,0,null,null,0,0,null,null,true,true,true,true,4,true]
[null,"4.6 Accommodations for participants in the events ",null,null,null,{"$f":"SUM(F219:F238)","v":0},null,null,{"$f":"SUM(I219:I238)","v":0},{"$f":"SUM(J219:J238)","v":0},null,null,null,null,null,null,null,true]
[null,null,null,null,null,{"$f":"ROUND(D219*E219,2)","v":0},null,null,{"$f":"ROUND(G219*H219,2)","v":0},{"$f":"F219+I219","v":0},null,null,{"$f":"ISBLANK(B219)","v":true},{"$f":"ISBLANK(C219)","v":true},true,true,{"$f":"M219+N219+O219+P219","v":4},{"$f":"IF(Q219=0,TRUE,FALSE)","v":false}]
[null,null,null,null,null,{"$f":"ROUND(D220*E220,2)","v":0},null,null,0,{"$f":"F220+I220","v":0},null,null,{"$f":"ISBLANK(B220)","v":true},true,true,true,{"$f":"M220+N220+O220+P220","v":4},{"$f":"IF(Q220=0,TRUE,FALSE)","v":false}]
[null,null,null,null,null,0,null,null,0,0,null,null,true,true,true,true,4,false]
[null,null,null,null,null,0,null,null,0,0,null,null,true,true,true,true,4,false]
[null,null,null,null,null,0,null,null,0,0,null,null,true,true,true,true,4,false]
[null,null,null,null,null,0,null,null,0,0,null,null,true,true,true,true,4,false]
[null,null,null,null,null,0,null,null,0,0,null,null,true,true,true,true,4,false]
[null,null,null,null,null,0,null,null,0,0,null,null,true,true,true,true,4,false]
[null,null,null,null,null,0,null,null,0,0,null,null,true,true,true,true,4,false]
[null,null,null,null,null,0,null,null,0,0,null,null,true,true,true,true,4,true]
[null,null,null,null,null,{"$f":"ROUND(D229*E229,2)","v":0},null,null,{"$f":"ROUND(G229*H229,2)","v":0},{"$f":"F229+I229","v":0},null,null,{"$f":"ISBLANK(B229)","v":true},{"$f":"ISBLANK(C229)","v":true},{"$f":"ISBLANK(D229)","v":true},{"$f":"ISBLANK(E229)","v":true},{"$f":"M229+N229+O229+P229","v":4},{"$f":"IF(Q229=0,TRUE,FALSE)","v":false}]
[null,null,null,null,null,{"$f":"ROUND(D230*E230,2)","v":0},null,null,0,{"$f":"F230+I230","v":0},null,null,{"$f":"ISBLANK(B230)","v":true},true,true,true,{"$f":"M230+N230+O230+P230","v":4},{"$f":"IF(Q230=0,TRUE,FALSE)","v":false}]
[null,null,null,null,null,0,null,null,0,0,null,null,true,true,true,true,4,false]
[null,null,null,null,null,0,null,null,0,0,null,null,true,true,true,true,4,false]
[null,null,null,null,null,0,null,null,0,0,null,null,true,true,true,true,4,false]
[null,null,null,null,null,0,null,null,0,0,null,null,true,true,true,true,4,false]
[null,null,null,null,null,0,null,null,0,0,null,null,true,true,true,true,4,false]
[null,null,null,null,null,0,null,null,0,0,null,null,true,true,true,true,4,false]
[null,null,null,null,null,0,null,null,0,0,null,null,true,true,true,true,4,false]
[null,null,null,null,null,0,null,null,0,0,null,null,true,true,true,true,4,true]
[null,"4.7 Elaboration, design,translation etc.",null,null,null,{"$f":"SUM(F240:F259)","v":0},null,null,{"$f":"SUM(I240:I259)","v":0},{"$f":"SUM(J240:J259)","v":0},null,null,null,null,null,null,null,true]
[null,null,null,null,null,{"$f":"ROUND(D240*E240,2)","v":0},null,null,{"$f":"ROUND(G240*H240,2)","v":0},{"$f":"F240+I240","v":0},null,null,{"$f":"ISBLANK(B240)","v":true},{"$f":"ISBLANK(C240)","v":true},true,true,{"$f":"M240+N240+O240+P240","v":4},{"$f":"IF(Q240=0,TRUE,FALSE)","v":false}]
[null,null,null,null,null,{"$f":"ROUND(D241*E241,2)","v":0},null,null,0,{"$f":"F241+I241","v":0},null,null,{"$f":"ISBLANK(B241)","v":true},true,true,true,{"$f":"M241+N241+O241+P241","v":4},{"$f":"IF(Q241=0,TRUE,FALSE)","v":false}]
[null,null,null,null,null,0,null,null,0,0,null,null,true,true,true,true,4,false]
[null,null,null,null,null,0,null,null,0,0,null,null,true,true,true,true,4,false]
[null,null,null,null,null,0,null,null,0,0,null,null,true,true,true,true,4,false]
[null,null,null,null,null,0,null,null,0,0,null,null,true,true,true,true,4,false]
[null,null,null,null,null,0,null,null,0,0,null,null,true,true,true,true,4,false]
[null,null,null,null,null,0,null,null,0,0,null,null,true,true,true,true,4,false]
[null,null,null,null,null,0,null,null,0,0,null,null,true,true,true,true,4,false]
[null,null,null,null,null,0,null,null,0,0,null,null,true,true,true,true,4,false]
[null,null,null,null,null,{"$f":"ROUND(D250*E250,2)","v":0},null,null,{"$f":"ROUND(G250*H250,2)","v":0},{"$f":"F250+I250","v":0},null,null,{"$f":"ISBLANK(B250)","v":true},{"$f":"ISBLANK(C250)","v":true},{"$f":"ISBLANK(D250)","v":true},{"$f":"ISBLANK(E250)","v":true},{"$f":"M250+N250+O250+P250","v":4},{"$f":"IF(Q250=0,TRUE,FALSE)","v":false}]
[null,null,null,null,null,{"$f":"ROUND(D251*E251,2)","v":0},null,null,0,{"$f":"F251+I251","v":0},null,null,{"$f":"ISBLANK(B251)","v":true},true,true,true,{"$f":"M251+N251+O251+P251","v":4},{"$f":"IF(Q251=0,TRUE,FALSE)","v":false}]
[null,null,null,null,null,0,null,null,0,0,null,null,true,true,true,true,4,false]
[null,null,null,null,null,0,null,null,0,0,null,null,true,true,true,true,4,false]
[null,null,null,null,null,0,null,null,0,0,null,null,true,true,true,true,4,false]
[null,null,null,null,null,0,null,null,0,0,null,null,true,true,true,true,4,false]
[null,null,null,null,null,0,null,null,0,0,null,null,true,true,true,true,4,false]
[null,null,null,null,null,0,null,null,0,0,null,null,true,true,true,true,4,false]
[null,null,null,null,null,0,null,null,0,0,null,null,true,true,true,true,4,false]
[null,null,null,null,null,0,null,null,0,0,null,null,true,true,true,true,4,false]
[null,"4.8 Publications in mass-media",null,null,null,{"$f":"SUM(F261:F280)","v":0},null,null,{"$f":"SUM(I261:I280)","v":0},{"$f":"SUM(J261:J280)","v":0},null,null,null,null,null,null,null,true]
[null,null,null,null,null,{"$f":"ROUND(D261*E261,2)","v":0},null,null,{"$f":"ROUND(G261*H261,2)","v":0},{"$f":"F261+I261","v":0},null,null,{"$f":"ISBLANK(B261)","v":true},{"$f":"ISBLANK(C261)","v":true},true,true,{"$f":"M261+N261+O261+P261","v":4},{"$f":"IF(Q261=0,TRUE,FALSE)","v":false}]
[null,null,null,null,null,{"$f":"ROUND(D262*E262,2)","v":0},null,null,0,{"$f":"F262+I262","v":0},null,null,{"$f":"ISBLANK(B262)","v":true},true,true,true,{"$f":"M262+N262+O262+P262","v":4},{"$f":"IF(Q262=0,TRUE,FALSE)","v":false}]
[null,null,null,null,null,0,null,null,0,0,null,null,true,true,true,true,4,false]
[null,null,null,null,null,0,null,null,0,0,null,null,true,true,true,true,4,false]
[null,null,null,null,null,0,null,null,0,0,null,null,true,true,true,true,4,false]
[null,null,null,null,null,0,null,null,0,0,null,null,true,true,true,true,4,false]
[null,null,null,null,null,0,null,null,0,0,null,null,true,true,true,true,4,false]
[null,null,null,null,null,0,null,null,0,0,null,null,true,true,true,true,4,false]
[null,null,null,null,null,0,null,null,0,0,null,null,true,true,true,true,4,false]
[null,null,null,null,null,0,null,null,0,0,null,null,true,true,true,true,4,true]
[null,null,null,null,null,{"$f":"ROUND(D271*E271,2)","v":0},null,null,{"$f":"ROUND(G271*H271,2)","v":0},{"$f":"F271+I271","v":0},null,null,{"$f":"ISBLANK(B271)","v":true},{"$f":"ISBLANK(C271)","v":true},{"$f":"ISBLANK(D271)","v":true},{"$f":"ISBLANK(E271)","v":true},{"$f":"M271+N271+O271+P271","v":4},{"$f":"IF(Q271=0,TRUE,FALSE)","v":false}]
[null,null,null,null,null,{"$f":"ROUND(D272*E272,2)","v":0},null,null,0,{"$f":"F272+I272","v":0},null,null,{"$f":"ISBLANK(B272)","v":true},true,true,true,{"$f":"M272+N272+O272+P272","v":4},{"$f":"IF(Q272=0,TRUE,FALSE)","v":false}]
[null,null,null,null,null,0,null,null,0,0,null,null,true,true,true,true,4,false]
[null,null,null,null,null,0,null,null,0,0,null,null,true,true,true,true,4,false]
[null,null,null,null,null,0,null,null,0,0,null,null,true,true,true,true,4,false]
[null,null,null,null,null,0,null,null,0,0,null,null,true,true,true,true,4,false]
[null,null,null,null,null,0,null,null,0,0,null,null,true,true,true,true,4,false]
[null,null,null,null,null,0,null,null,0,0,null,null,true,true,true,true,4,false]
[null,null,null,null,null,0,null,null,0,0,null,null,true,true,true,true,4,false]
[null,null,null,null,null,0,null,null,0,0,null,null,true,true,true,true,4,true]
[null,"4.9 Consultancy, studies,designs, website development etc.",null,null,null,{"$f":"SUM(F282:F301)","v":0},null,null,{"$f":"SUM(I282:I301)","v":0},{"$f":"SUM(J282:J301)","v":0},null,null,null,null,null,null,null,true]
[null,null,null,null,null,{"$f":"ROUND(D282*E282,2)","v":0},null,null,{"$f":"ROUND(G282*H282,2)","v":0},{"$f":"F282+I282","v":0},null,null,{"$f":"ISBLANK(B282)","v":true},{"$f":"ISBLANK(C282)","v":true},true,true,{"$f":"M282+N282+O282+P282","v":4},{"$f":"IF(Q282=0,TRUE,FALSE)","v":false}]
[null,null,null,null,null,{"$f":"ROUND(D283*E283,2)","v":0},null,null,0,{"$f":"F283+I283","v":0},null,null,{"$f":"ISBLANK(B283)","v":true},true,true,true,{"$f":"M283+N283+O283+P283","v":4},{"$f":"IF(Q283=0,TRUE,FALSE)","v":false}]
[null,null,null,null,null,0,null,null,0,0,null,null,true,true,true,true,4,false]
[null,null,null,null,null,0,null,null,0,0,null,null,true,true,true,true,4,false]
[null,null,null,null,null,0,null,null,0,0,null,null,true,true,true,true,4,false]
[null,null,null,null,null,0,null,null,0,0,null,null,true,true,true,true,4,false]
[null,null,null,null,null,0,null,null,0,0,null,null,true,true,true,true,4,false]
[null,null,null,null,null,0,null,null,0,0,null,null,true,true,true,true,4,false]
[null,null,null,null,null,0,null,null,0,0,null,null,true,true,true,true,4,false]
[null,null,null,null,null,0,null,null,0,0,null,null,true,true,true,true,4,true]
[null,null,null,null,null,{"$f":"ROUND(D292*E292,2)","v":0},null,null,{"$f":"ROUND(G292*H292,2)","v":0},{"$f":"F292+I292","v":0},null,null,{"$f":"ISBLANK(B292)","v":true},{"$f":"ISBLANK(C292)","v":true},{"$f":"ISBLANK(D292)","v":true},{"$f":"ISBLANK(E292)","v":true},{"$f":"M292+N292+O292+P292","v":4},{"$f":"IF(Q292=0,TRUE,FALSE)","v":false}]
[null,null,null,null,null,{"$f":"ROUND(D293*E293,2)","v":0},null,null,0,{"$f":"F293+I293","v":0},null,null,{"$f":"ISBLANK(B293)","v":true},true,true,true,{"$f":"M293+N293+O293+P293","v":4},{"$f":"IF(Q293=0,TRUE,FALSE)","v":false}]
[null,null,null,null,null,0,null,null,0,0,null,null,true,true,true,true,4,false]
[null,null,null,null,null,0,null,null,0,0,null,null,true,true,true,true,4,false]
[null,null,null,null,null,0,null,null,0,0,null,null,true,true,true,true,4,false]
[null,null,null,null,null,0,null,null,0,0,null,null,true,true,true,true,4,false]
[null,null,null,null,null,0,null,null,0,0,null,null,true,true,true,true,4,false]
[null,null,null,null,null,0,null,null,0,0,null,null,true,true,true,true,4,false]
[null,null,null,null,null,0,null,null,0,0,null,null,true,true,true,true,4,false]
[null,null,null,null,null,0,null,null,0,0,null,null,true,true,true,true,4,true]
[null,"4.10 Authorizations, certificates",null,null,null,{"$f":"SUM(F303:F322)","v":0},null,null,{"$f":"SUM(I303:I322)","v":0},{"$f":"SUM(J303:J322)","v":0},null,null,null,true,null,null,null,true]
[null,null,null,null,null,{"$f":"ROUND(D303*E303,2)","v":0},null,null,{"$f":"ROUND(G303*H303,2)","v":0},{"$f":"F303+I303","v":0},null,null,{"$f":"ISBLANK(B303)","v":true},{"$f":"ISBLANK(C303)","v":true},true,true,{"$f":"M303+N303+O303+P303","v":4},{"$f":"IF(Q303=0,TRUE,FALSE)","v":false}]
[null,null,null,null,null,{"$f":"ROUND(D304*E304,2)","v":0},null,null,0,{"$f":"F304+I304","v":0},null,null,{"$f":"ISBLANK(B304)","v":true},true,true,true,{"$f":"M304+N304+O304+P304","v":4},{"$f":"IF(Q304=0,TRUE,FALSE)","v":false}]
[null,null,null,null,null,0,null,null,0,0,null,null,true,true,true,true,4,false]
[null,null,null,null,null,0,null,null,0,0,null,null,true,true,true,true,4,false]
[null,null,null,null,null,0,null,null,0,0,null,null,true,true,true,true,4,false]
[null,null,null,null,null,0,null,null,0,0,null,null,true,true,true,true,4,false]
[null,null,null,null,null,0,null,null,0,0,null,null,true,true,true,true,4,false]
[null,null,null,null,null,0,null,null,0,0,null,null,true,true,true,true,4,false]
[null,null,null,null,null,0,null,null,0,0,null,null,true,true,true,true,4,false]
[null,null,null,null,null,0,null,null,0,0,null,null,true,true,true,true,4,true]
[null,null,null,null,null,{"$f":"ROUND(D313*E313,2)","v":0},null,null,{"$f":"ROUND(G313*H313,2)","v":0},{"$f":"F313+I313","v":0},null,null,{"$f":"ISBLANK(B313)","v":true},{"$f":"ISBLANK(C313)","v":true},{"$f":"ISBLANK(D313)","v":true},{"$f":"ISBLANK(E313)","v":true},{"$f":"M313+N313+O313+P313","v":4},{"$f":"IF(Q313=0,TRUE,FALSE)","v":false}]
[null,null,null,null,null,{"$f":"ROUND(D314*E314,2)","v":0},null,null,0,{"$f":"F314+I314","v":0},null,null,{"$f":"ISBLANK(B314)","v":true},true,true,true,{"$f":"M314+N314+O314+P314","v":4},{"$f":"IF(Q314=0,TRUE,FALSE)","v":false}]
[null,null,null,null,null,0,null,null,0,0,null,null,true,true,true,true,4,false]
[null,null,null,null,null,0,null,null,0,0,null,null,true,true,true,true,4,false]
[null,null,null,null,null,0,null,null,0,0,null,null,true,true,true,true,4,false]
[null,null,null,null,null,0,null,null,0,0,null,null,true,true,true,true,4,false]
[null,null,null,null,null,0,null,null,0,0,null,null,true,true,true,true,4,false]
[null,null,null,null,null,0,null,null,0,0,null,null,true,true,true,true,4,false]
[null,null,null,null,null,0,null,null,0,0,null,null,true,true,true,true,4,false]
[null,null,null,null,null,0,null,null,0,0,null,null,true,true,true,true,4,true]
[null,"4.11 Interpreters, lecturers, trainers",null,null,null,{"$f":"SUM(F324:F343)","v":0},null,null,{"$f":"SUM(I324:I343)","v":0},{"$f":"SUM(J324:J343)","v":0},null,null,null,null,null,null,null,true]
[null,null,null,null,null,{"$f":"ROUND(D324*E324,2)","v":0},null,null,{"$f":"ROUND(G324*H324,2)","v":0},{"$f":"F324+I324","v":0},null,null,{"$f":"ISBLANK(B324)","v":true},{"$f":"ISBLANK(C324)","v":true},true,true,{"$f":"M324+N324+O324+P324","v":4},{"$f":"IF(Q324=0,TRUE,FALSE)","v":false}]
[null,null,null,null,null,{"$f":"ROUND(D325*E325,2)","v":0},null,null,0,{"$f":"F325+I325","v":0},null,null,{"$f":"ISBLANK(B325)","v":true},true,true,true,{"$f":"M325+N325+O325+P325","v":4},{"$f":"IF(Q325=0,TRUE,FALSE)","v":false}]
[null,null,null,null,null,0,null,null,0,0,null,null,true,true,true,true,4,false]
[null,null,null,null,null,0,null,null,0,0,null,null,true,true,true,true,4,false]
[null,null,null,null,null,0,null,null,0,0,null,null,true,true,true,true,4,false]
[null,null,null,null,null,0,null,null,0,0,null,null,true,true,true,true,4,false]
[null,null,null,null,null,0,null,null,0,0,null,null,true,true,true,true,4,false]
[null,null,null,null,null,0,null,null,0,0,null,null,true,true,true,true,4,false]
[null,null,null,null,null,0,null,null,0,0,null,null,true,true,true,true,4,false]
[null,null,null,null,null,0,null,null,0,0,null,null,true,true,true,true,4,true]
[null,null,null,null,null,{"$f":"ROUND(D334*E334,2)","v":0},null,null,{"$f":"ROUND(G334*H334,2)","v":0},{"$f":"F334+I334","v":0},null,null,{"$f":"ISBLANK(B334)","v":true},{"$f":"ISBLANK(C334)","v":true},{"$f":"ISBLANK(D334)","v":true},{"$f":"ISBLANK(E334)","v":true},{"$f":"M334+N334+O334+P334","v":4},{"$f":"IF(Q334=0,TRUE,FALSE)","v":false}]
[null,null,null,null,null,{"$f":"ROUND(D335*E335,2)","v":0},null,null,0,{"$f":"F335+I335","v":0},null,null,{"$f":"ISBLANK(B335)","v":true},true,true,true,{"$f":"M335+N335+O335+P335","v":4},{"$f":"IF(Q335=0,TRUE,FALSE)","v":false}]
[null,null,null,null,null,0,null,null,0,0,null,null,true,true,true,true,4,false]
[null,null,null,null,null,0,null,null,0,0,null,null,true,true,true,true,4,false]
[null,null,null,null,null,0,null,null,0,0,null,null,true,true,true,true,4,false]
[null,null,null,null,null,0,null,null,0,0,null,null,true,true,true,true,4,false]
[null,null,null,null,null,0,null,null,0,0,null,null,true,true,true,true,4,false]
[null,null,null,null,null,0,null,null,0,0,null,null,true,true,true,true,4,false]
[null,null,null,null,null,0,null,null,0,0,null,null,true,true,true,true,4,false]
[null,null,null,null,null,0,null,null,0,0,null,null,true,true,true,true,4,true]
[null,"4.12 Others",null,null,null,{"$f":"SUM(F345:F364)","v":0},null,null,{"$f":"SUM(I345:I364)","v":0},{"$f":"SUM(J345:J364)","v":0},null,null,null,null,null,true,null,true]
[null,null,null,null,null,{"$f":"ROUND(D345*E345,2)","v":0},null,null,{"$f":"ROUND(G345*H345,2)","v":0},{"$f":"F345+I345","v":0},null,null,{"$f":"ISBLANK(B345)","v":true},{"$f":"ISBLANK(C345)","v":true},true,true,{"$f":"M345+N345+O345+P345","v":4},{"$f":"IF(Q345=0,TRUE,FALSE)","v":false}]
[null,null,null,null,null,{"$f":"ROUND(D346*E346,2)","v":0},null,null,0,{"$f":"F346+I346","v":0},null,null,{"$f":"ISBLANK(B346)","v":true},true,true,true,{"$f":"M346+N346+O346+P346","v":4},{"$f":"IF(Q346=0,TRUE,FALSE)","v":false}]
[null,null,null,null,null,0,null,null,0,0,null,null,true,true,true,true,4,false]
[null,null,null,null,null,0,null,null,0,0,null,null,true,true,true,true,4,false]
[null,null,null,null,null,0,null,null,0,0,null,null,true,true,true,true,4,false]
[null,null,null,null,null,0,null,null,0,0,null,null,true,true,true,true,4,false]
[null,null,null,null,null,0,null,null,0,0,null,null,true,true,true,true,4,false]
[null,null,null,null,null,0,null,null,0,0,null,null,true,true,true,true,4,false]
[null,null,null,null,null,0,null,null,0,0,null,null,true,true,true,true,4,false]
[null,null,null,null,null,0,null,null,0,0,null,null,true,true,true,true,4,true]
[null,null,null,null,null,{"$f":"ROUND(D355*E355,2)","v":0},null,null,{"$f":"ROUND(G355*H355,2)","v":0},{"$f":"F355+I355","v":0},null,null,{"$f":"ISBLANK(B355)","v":true},{"$f":"ISBLANK(C355)","v":true},{"$f":"ISBLANK(D355)","v":true},{"$f":"ISBLANK(E355)","v":true},{"$f":"M355+N355+O355+P355","v":4},{"$f":"IF(Q355=0,TRUE,FALSE)","v":false}]
[null,null,null,null,null,{"$f":"ROUND(D356*E356,2)","v":0},null,null,0,{"$f":"F356+I356","v":0},null,null,{"$f":"ISBLANK(B356)","v":true},true,true,true,{"$f":"M356+N356+O356+P356","v":4},{"$f":"IF(Q356=0,TRUE,FALSE)","v":false}]
[null,null,null,null,null,0,null,null,0,0,null,null,true,true,true,true,4,false]
[null,null,null,null,null,0,null,null,0,0,null,null,true,true,true,true,4,false]
[null,null,null,null,null,0,null,null,0,0,null,null,true,true,true,true,4,false]
[null,null,null,null,null,0,null,null,0,0,null,null,true,true,true,true,4,false]
[null,null,null,null,null,0,null,null,0,0,null,null,true,true,true,true,4,false]
[null,null,null,null,null,0,null,null,0,0,null,null,true,true,true,true,4,false]
[null,null,null,null,null,0,null,null,0,0,null,null,true,true,true,true,4,false]
[null,null,null,null,null,0,null,null,0,0,null,null,true,true,true,true,4,true]
[null,"TOTAL",null,null,null,{"$f":"F344+F323+F302+F281+F260+F239+F218+F197+F176+F155+F134+F113","v":0},null,null,{"$f":"I344+I323+I302+I281+I260+I239+I218+I197+I176+I155+I134+I113","v":0},{"$f":"J344+J323+J302+J281+J260+J239+J218+J197+J176+J155+J134+J113","v":0},null,null,null,null,null,null,null,true]
[null,null,null,null,null,null,null,null,null,null,null,null,{"$f":"O370+P370+N366","v":2},{"$f":"M28=\"Soft\"","v":false},null,null,null,true]
[null,"BL5 - EQUIPMENT AND WORKS","Unit","Expenditures in the eligible area",null,null,"N/A",null,null,"TOTAL",null,null,null,null,null,null,null,true]
[null,null,null,"Units","Unit rate","TOTAL","Units","Unit rate","TOTAL",null,null,null,null,null,null,null,null,true]
[null,"5.1 Small scale construction",null,null,null,{"$f":"SUM(F370:F389)","v":0},null,null,{"$f":"SUM(I370:I389)","v":0},{"$f":"SUM(J370:J389)","v":0},null,null,null,null,null,null,null,true]
[null,null,null,null,null,{"$f":"ROUND(D370*E370,2)","v":0},null,null,{"$f":"ROUND(G370*H370,2)","v":0},{"$f":"F370+I370","v":0},null,null,{"$f":"ISBLANK(B370)","v":true},{"$f":"ISBLANK(C370)","v":true},true,true,{"$f":"M370+N370+O370+P370","v":4},{"$f":"IF(Q370=0,TRUE,FALSE)","v":false}]
[null,null,null,null,null,{"$f":"ROUND(D371*E371,2)","v":0},null,null,0,{"$f":"F371+I371","v":0},null,null,{"$f":"ISBLANK(B371)","v":true},true,true,true,{"$f":"M371+N371+O371+P371","v":4},{"$f":"IF(Q371=0,TRUE,FALSE)","v":false}]
[null,null,null,null,null,0,null,null,0,0,null,null,true,true,true,true,4,false]
[null,null,null,null,null,0,null,null,0,0,null,null,true,true,true,true,4,false]
[null,null,null,null,null,0,null,null,0,0,null,null,true,true,true,true,4,false]
[null,null,null,null,null,0,null,null,0,0,null,null,true,true,true,true,4,false]
[null,null,null,null,null,0,null,null,0,0,null,null,true,true,true,true,4,false]
[null,null,null,null,null,0,null,null,0,0,null,null,true,true,true,true,4,false]
[null,null,null,null,null,0,null,null,0,0,null,null,true,true,true,true,4,false]
[null,null,null,null,null,0,null,null,0,0,null,null,true,true,true,true,4,true]
[null,null,null,null,null,{"$f":"ROUND(D380*E380,2)","v":0},null,null,{"$f":"ROUND(G380*H380,2)","v":0},{"$f":"F380+I380","v":0},null,null,{"$f":"ISBLANK(B380)","v":true},{"$f":"ISBLANK(C380)","v":true},{"$f":"ISBLANK(D380)","v":true},{"$f":"ISBLANK(E380)","v":true},{"$f":"M380+N380+O380+P380","v":4},{"$f":"IF(Q380=0,TRUE,FALSE)","v":false}]
[null,null,null,null,null,{"$f":"ROUND(D381*E381,2)","v":0},null,null,0,{"$f":"F381+I381","v":0},null,null,{"$f":"ISBLANK(B381)","v":true},true,true,true,{"$f":"M381+N381+O381+P381","v":4},{"$f":"IF(Q381=0,TRUE,FALSE)","v":false}]
[null,null,null,null,null,0,null,null,0,0,null,null,true,true,true,true,4,false]
[null,null,null,null,null,0,null,null,0,0,null,null,true,true,true,true,4,false]
[null,null,null,null,null,0,null,null,0,0,null,null,true,true,true,true,4,false]
[null,null,null,null,null,0,null,null,0,0,null,null,true,true,true,true,4,false]
[null,null,null,null,null,0,null,null,0,0,null,null,true,true,true,true,4,false]
[null,null,null,null,null,0,null,null,0,0,null,null,true,true,true,true,4,false]
[null,null,null,null,null,0,null,null,0,0,null,null,true,true,true,true,4,false]
[null,null,null,null,null,0,null,null,0,0,null,null,true,true,true,true,4,true]
[null,"5.2 Supply",null,null,null,{"$f":"SUM(F391:F410)","v":0},null,null,{"$f":"SUM(I391:I410)","v":0},{"$f":"SUM(J391:J410)","v":0},null,null,null,null,null,null,null,true]
[null,null,null,null,null,{"$f":"ROUND(D391*E391,2)","v":0},null,null,{"$f":"ROUND(G391*H391,2)","v":0},{"$f":"F391+I391","v":0},null,null,{"$f":"ISBLANK(B391)","v":true},{"$f":"ISBLANK(C391)","v":true},true,true,{"$f":"M391+N391+O391+P391","v":4},{"$f":"IF(Q391=0,TRUE,FALSE)","v":false}]
[null,null,null,null,null,{"$f":"ROUND(D392*E392,2)","v":0},null,null,0,{"$f":"F392+I392","v":0},null,null,{"$f":"ISBLANK(B392)","v":true},true,true,true,{"$f":"M392+N392+O392+P392","v":4},{"$f":"IF(Q392=0,TRUE,FALSE)","v":false}]
[null,null,null,null,null,0,null,null,0,0,null,null,true,true,true,true,4,false]
[null,null,null,null,null,0,null,null,0,0,null,null,true,true,true,true,4,false]
[null,null,null,null,null,0,null,null,0,0,null,null,true,true,true,true,4,false]
[null,null,null,null,null,0,null,null,0,0,null,null,true,true,true,true,4,false]
[null,null,null,null,null,0,null,null,0,0,null,null,true,true,true,true,4,false]
[null,null,null,null,null,0,null,null,0,0,null,null,true,true,true,true,4,false]
[null,null,null,null,null,0,null,null,0,0,null,null,true,true,true,true,4,false]
[null,null,null,null,null,0,null,null,0,0,null,null,true,true,true,true,4,true]
[null,null,null,null,null,{"$f":"ROUND(D401*E401,2)","v":0},null,null,{"$f":"ROUND(G401*H401,2)","v":0},{"$f":"F401+I401","v":0},null,null,{"$f":"ISBLANK(B401)","v":true},{"$f":"ISBLANK(C401)","v":true},{"$f":"ISBLANK(D401)","v":true},{"$f":"ISBLANK(E401)","v":true},{"$f":"M401+N401+O401+P401","v":4},{"$f":"IF(Q401=0,TRUE,FALSE)","v":false}]
[null,null,null,null,null,{"$f":"ROUND(D402*E402,2)","v":0},null,null,0,{"$f":"F402+I402","v":0},null,null,{"$f":"ISBLANK(B402)","v":true},true,true,true,{"$f":"M402+N402+O402+P402","v":4},{"$f":"IF(Q402=0,TRUE,FALSE)","v":false}]
[null,null,null,null,null,0,null,null,0,0,null,null,true,true,true,true,4,false]
[null,null,null,null,null,0,null,null,0,0,null,null,true,true,true,true,4,false]
[null,null,null,null,null,0,null,null,0,0,null,null,true,true,true,true,4,false]
[null,null,null,null,null,0,null,null,0,0,null,null,true,true,true,true,4,false]
[null,null,null,null,null,0,null,null,0,0,null,null,true,true,true,true,4,false]
[null,null,null,null,null,0,null,null,0,0,null,null,true,true,true,true,4,false]
[null,null,null,null,null,0,null,null,0,0,null,null,true,true,true,true,4,false]
[null,null,null,null,null,0,null,null,0,0,null,null,true,true,true,true,4,true]
[null,"TOTAL",null,null,null,{"$f":"F390+F369","v":0},null,null,{"$f":"I390+I369","v":0},{"$f":"J390+J369","v":0},null,null,null,null,null,null,null,true]
[null,null,null,null,null,null,null,null,null,null,null,null,null,null,null,null,null,true]
[null,"BL6 - PROJECT PREPARATION","Unit","Expenditures in the eligible area",null,null,"N/A",null,null,"TOTAL",null,null,null,null,null,null,null,true]
[null,null,null,"Units","Unit rate","TOTAL","Units","Unit rate","TOTAL",null,null,null,null,null,null,null,null,true]
[null,"6.1.Preparation of Application package ",null,null,null,{"$f":"SUM(F416:F425)","v":0},null,null,{"$f":"SUM(I416:I425)","v":0},{"$f":"SUM(J416:J425)","v":0}]
[null,null,null,null,null,{"$f":"ROUND(D416*E416,2)","v":0},null,null,{"$f":"ROUND(G416*H416,2)","v":0},{"$f":"F416+I416","v":0},null,null,{"$f":"ISBLANK(B416)","v":true},{"$f":"ISBLANK(C416)","v":true},true,true,{"$f":"M416+N416+O416+P416","v":4},{"$f":"IF(Q416=0,TRUE,FALSE)","v":false}]
[null,null,null,null,null,{"$f":"ROUND(D417*E417,2)","v":0},null,null,0,{"$f":"F417+I417","v":0},null,null,{"$f":"ISBLANK(B417)","v":true},true,true,true,{"$f":"M417+N417+O417+P417","v":4},{"$f":"IF(Q417=0,TRUE,FALSE)","v":false}]
[null,null,null,null,null,0,null,null,0,0,null,null,true,true,true,true,4,false]
[null,null,null,null,null,0,null,null,0,0,null,null,true,true,true,true,4,false]
[null,null,null,null,null,0,null,null,0,0,null,null,true,true,true,true,4,false]
[null,null,null,null,null,0,null,null,0,0,null,null,true,true,true,true,4,false]
[null,null,null,null,null,0,null,null,0,0,null,null,true,true,true,true,4,false]
[null,null,null,null,null,0,null,null,0,0,null,null,true,true,true,true,4,false]
[null,null,null,null,null,0,null,null,0,0,null,null,true,true,true,true,4,false]
[null,null,null,null,null,0,null,null,0,0,null,null,true,true,true,true,4,true]
[null,"6.2 Preparation of technical documentation ",null,null,null,{"$f":"SUM(F427:F436)","v":0},null,null,{"$f":"SUM(I427:I436)","v":0},{"$f":"SUM(J427:J436)","v":0},null,null,{"$f":"ISBLANK(B426)","v":false},true,true,true,{"$f":"M426+N426+O426+P426","v":3},{"$f":"IF(Q426=0,TRUE,FALSE)","v":false}]
[null,null,null,null,null,{"$f":"ROUND(D427*E427,2)","v":0},null,null,{"$f":"ROUND(G427*H427,2)","v":0},{"$f":"F427+I427","v":0},null,null,{"$f":"ISBLANK(B427)","v":true}]
[null,null,null,null,null,0,null,null,0,0,null,null,{"$f":"ISBLANK(B428)","v":true},true,true,true,{"$f":"M428+N428+O428+P428","v":4},{"$f":"IF(Q428=0,TRUE,FALSE)","v":false}]
[null,null,null,null,null,0,null,null,0,0,null,null,true,true,true,true,4,false]
[null,null,null,null,null,0,null,null,0,0,null,null,true,true,true,true,4,false]
[null,null,null,null,null,0,null,null,0,0,null,null,true,true,true,true,4,false]
[null,null,null,null,null,0,null,null,0,0,null,null,true,true,true,true,4,false]
[null,null,null,null,null,0,null,null,0,0,null,null,true,true,true,true,4,false]
[null,null,null,null,null,0,null,null,0,0,null,null,true,true,true,true,4,false]
[null,null,null,null,null,0,null,null,0,0,null,null,true,true,true,true,4,false]
[null,null,null,null,null,0,null,null,0,0,null,null,true,true,true,true,4,false]
[null,"TOTAL",null,null,null,{"$f":"F415+F426","v":0},null,null,{"$f":"I415+I426","v":0},{"$f":"J415+J426","v":0},null,null,null,null,null,null,null,true]
[null,null,null,null,null,null,null,null,null,null,null,null,null,null,null,null,null,true]
[null,"Own Contribution",null,null,null,"Unit","Units","Unit rate","TOTAL",null,null,null,"Units out","Units rate out","Total out","Total in",null,true]
[null,null,null,null,null,null,null,null,{"$f":"ROUND(G440*H440,2)","v":0},null,null,null,null,null,null,null,null,true]
[null,null,null,"Expenditures outside the eligible area exceed 20 %! Reconsider budget distribution!",null,null,null,null,null,null,null,null,null,null,null,null,null,true]
[null,"Total direct project costs VAT incl. (BL3+BL4+BL5)",null,null,null,{"$f":"F411+F365+F109","v":0},{"$f":"I411+I109+I365","v":0},null,null,{"$f":"J411+J365+J109","v":0},null,null,null,null,null,null,null,true]
[null,"TOTAL PROJECT COSTS",null,null,null,{"$f":"F442+F437+I6+I31+I440","v":0},{"$f":"G442+I437","v":0},null,null,{"$f":"F443+G443","v":0},null,null,null,null,null,null,null,true]

{"sheet":"T2-B(PP3)","index":12,"n_rows":443,"n_cols":18,"rows_kept":443,"cut":false,"hidden":true,"merged":[[5,1,5,7],[5,8,5,9],[2,1,3,5],[2,6,2,7],[2,8,3,9],[3,6,3,7],[4,1,4,5],[4,6,4,7],[4,8,4,9],[441,1,441,4],[441,6,441,8],[442,1,442,4],[442,6,442,8],[436,1,436,4],[436,6,436,7],[438,1,438,4],[438,8,438,9],[439,1,439,4],[439,8,439,9],[412,9,413,9],[410,1,410,4],[410,6,410,7],[412,1,413,1],[412,2,413,2],[412,3,412,5],[412,6,412,8],[364,1,364,4],[364,6,364,7],[366,1,367,1],[366,2,367,2],[366,3,366,5],[366,6,366,8],[365,3,365,9],[366,9,367,9],[110,1,111,1],[110,2,111,2],[110,3,110,5],[110,6,110,8],[110,9,111,9],[29,8,29,9],[30,1,30,7],[30,8,30,9],[32,1,33,1],[32,2,33,2],[32,3,32,5],[32,6,32,8],[32,9,33,9],[29,1,29,5],[29,6,29,7],[27,1,28,5],[27,6,27,7],[27,8,28,9],[28,6,28,7]]}
[null,"TABLE 2 - DETAILED BREAKDOWN OF BUDGET LINES - PP3",null,null,null,null,null,null,null,null,null,null,null,null,null,null,null,true]
[null,null,null,null,null,null,null,null,null,null,null,null,null,null,null,null,null,true]
[null,"BL1 - STAFF COSTS",null,null,null,null,"Flat rate",null,"TOTAL",null,null,null,null,null,null,null,null,true]
[null,null,null,null,null,null,"%",null,null,null,null,null,null,null,null,null,null,true]
[null,{"$f":"M5","v":"Investment project"},null,null,null,null,0,null,{"$f":"SUM(J7:J26)","v":0},null,null,"visible/hidden depending on project identification",{"$f":"CONCATENATE('Project identification'!C15,\" project\")","v":"Investment project"},null,null,null,10,true]
[null,"TOTAL",null,null,null,null,null,null,{"$f":"I5","v":0},null,null,null,null,null,{"$f":"IF(#REF!=\"Soft\",15,10)","v":{"$error":"#REF!"}},null,15,true]
[null,null,null,null,null,{"$f":"ROUND(D7*E7,2)","v":0},null,null,{"$f":"ROUND(G7*H7,2)","v":0},{"$f":"F7+I7","v":0},null,null,{"$f":"ISBLANK(B7)","v":true},{"$f":"ISBLANK(C7)","v":true},{"$f":"ISBLANK(D7)","v":true},{"$f":"ISBLANK(E7)","v":true},{"$f":"M7+N7+O7+P7","v":4},{"$f":"IF(Q7=0,TRUE,FALSE)","v":false}]
[null,null,null,null,null,{"$f":"ROUND(D8*E8,2)","v":0},null,null,{"$f":"ROUND(G8*H8,2)","v":0},{"$f":"F8+I8","v":0},null,null,{"$f":"ISBLANK(B8)","v":true},true,true,true,{"$f":"M8+N8+O8+P8","v":4},{"$f":"IF(Q8=0,TRUE,FALSE)","v":false}]
[null,null,null,null,null,0,null,null,0,0,null,null,true,true,true,true,4,false]
[null,null,null,null,null,0,null,null,0,0,null,null,true,true,true,true,4,false]
[null,null,null,null,null,0,null,null,0,0,null,null,true,true,true,true,4,false]
[null,null,null,null,null,0,null,null,0,0,null,null,true,true,true,true,4,false]
[null,null,null,null,null,0,null,null,0,0,null,null,true,true,true,true,4,false]
[null,null,null,null,null,0,null,null,0,0,null,null,true,true,true,true,4,false]
[null,null,null,null,null,0,null,null,0,0,null,null,true,true,true,true,4,false]
[null,null,null,null,null,0,null,null,0,0,null,null,true,true,true,true,4,true]
[null,null,null,null,null,{"$f":"ROUND(D17*E17,2)","v":0},null,null,{"$f":"ROUND(G17*H17,2)","v":0},{"$f":"F17+I17","v":0},null,null,true,{"$f":"ISBLANK(C17)","v":true},{"$f":"ISBLANK(D17)","v":true},{"$f":"ISBLANK(E17)","v":true},{"$f":"M17+N17+O17+P17","v":4},{"$f":"IF(Q17=0,TRUE,FALSE)","v":false}]
[null,null,null,null,null,{"$f":"ROUND(D18*E18,2)","v":0},null,null,{"$f":"ROUND(G18*H18,2)","v":0},{"$f":"F18+I18","v":0},null,null,true,true,true,true,{"$f":"M18+N18+O18+P18","v":4},{"$f":"IF(Q18=0,TRUE,FALSE)","v":false}]
[null,null,null,null,null,0,null,null,0,0,null,null,true,true,true,true,4,false]
[null,null,null,null,null,0,null,null,0,0,null,null,true,true,true,true,4,false]
[null,null,null,null,null,0,null,null,0,0,null,null,true,true,true,true,4,false]
[null,null,null,null,null,0,null,null,0,0,null,null,true,true,true,true,4,false]
[null,null,null,null,null,0,null,null,0,0,null,null,true,true,true,true,4,false]
[null,null,null,null,null,0,null,null,0,0,null,null,true,true,true,true,4,false]
[null,null,null,null,null,0,null,null,0,0,null,null,true,true,true,true,4,false]
[null,null,null,null,null,0,null,null,0,0,null,null,true,true,true,true,4,true]
[null,null,null,null,null,null,null,null,null,null,null,null,null,null,null,null,null,true]
[null,"BL2 - OFFICE AND ADMINISTRATIVE COSTS",null,null,null,null,"Flat rate",null,"TOTAL",null,null,null,{"$f":"'Project identification'!C15","v":"Investment"},null,null,null,null,true]
[null,null,null,null,null,null,"%",null,null,null,null,null,null,null,null,null,null,true]
[null,{"$f":"M5","v":"Investment project"},null,null,null,null,10,null,{"$f":"ROUND(G30*I5/100,2)","v":0},null,null,"visible/hidden depending on project identification",null,null,null,null,2,true]
[null,"TOTAL",null,null,null,null,null,null,{"$f":"I30","v":0},null,null,null,null,null,{"$f":"IF(M28=\"Soft\",20,15)","v":15},null,5,true]
[null,null,null,null,null,null,null,null,null,null,null,null,null,null,null,null,null,true]
[null,"BL3 - TRAVEL AND ACCOMMODATION","Unit","Expenditures in the eligible area",null,null,"Expenditures outside of the eligible area",null,null,"TOTAL",null,null,null,null,null,null,null,true]
[null,null,null,"Units","Unit rate","TOTAL","Units","Unit rate","TOTAL",null,null,null,null,null,null,null,null,true]
[null,"3.1 Travel costs",null,null,null,{"$f":"SUM(F36:F55)","v":0},null,null,{"$f":"SUM(I36:I55)","v":0},{"$f":"SUM(J36:J55)","v":0},null,"Add",null,null,null,null,null,true]
[null,null,null,null,null,{"$f":"ROUND(D36*E36,2)","v":0},null,null,{"$f":"ROUND(G36*H36,2)","v":0},{"$f":"F36+I36","v":0},null,null,{"$f":"ISBLANK(B36)","v":true},{"$f":"ISBLANK(C36)","v":true},{"$f":"ISBLANK(D36)","v":true},{"$f":"ISBLANK(E36)","v":true},{"$f":"M36+N36+O36+P36","v":4},{"$f":"IF(Q36=0,TRUE,FALSE)","v":false}]
[null,null,null,null,null,0,null,null,0,0,null,null,true,true,true,true,4,false]
[null,null,null,null,null,0,null,null,0,0,null,null,true,true,true,true,4,false]
[null,null,null,null,null,0,null,null,0,0,null,null,true,true,true,true,4,false]
[null,null,null,null,null,0,null,null,0,0,null,null,true,true,true,true,4,false]
[null,null,null,null,null,0,null,null,0,0,null,null,true,true,true,true,4,false]
[null,null,null,null,null,0,null,null,0,0,null,null,true,true,true,true,4,false]
[null,null,null,null,null,0,null,null,0,0,null,null,true,true,true,true,4,false]
[null,null,null,null,null,0,null,null,0,0,null,null,true,true,true,true,4,false]
[null,null,null,null,null,0,null,null,0,0,null,null,true,true,true,true,4,false]
[null,null,null,null,null,{"$f":"ROUND(D46*E46,2)","v":0},null,null,{"$f":"ROUND(G46*H46,2)","v":0},{"$f":"F46+I46","v":0},null,null,{"$f":"ISBLANK(B46)","v":true},{"$f":"ISBLANK(C46)","v":true},{"$f":"ISBLANK(D46)","v":true},{"$f":"ISBLANK(E46)","v":true},{"$f":"M46+N46+O46+P46","v":4},{"$f":"IF(Q46=0,TRUE,FALSE)","v":false}]
[null,null,null,null,null,0,null,null,0,0,null,null,true,true,true,true,4,false]
[null,null,null,null,null,0,null,null,0,0,null,null,true,true,true,true,4,false]
[null,null,null,null,null,0,null,null,0,0,null,null,true,true,true,true,4,false]
[null,null,null,null,null,0,null,null,0,0,null,null,true,true,true,true,4,false]
[null,null,null,null,null,0,null,null,0,0,null,null,true,true,true,true,4,false]
[null,null,null,null,null,0,null,null,0,0,null,null,true,true,true,true,4,false]
[null,null,null,null,null,0,null,null,0,0,null,null,true,true,true,true,4,false]
[null,null,null,null,null,0,null,null,0,0,null,null,true,true,true,true,4,false]
[null,null,null,null,null,0,null,null,0,0,null,null,true,true,true,true,4,false]
[null,"3.2 Daily allowances",null,null,null,{"$f":"SUM(F57:F76)","v":0},null,null,{"$f":"SUM(I57:I76)","v":0},{"$f":"SUM(J57:J76)","v":0},null,"add (10 items)",null,null,null,null,null,true]
[null,null,null,null,null,{"$f":"ROUND(D57*E57,2)","v":0},null,null,{"$f":"ROUND(G57*H57,2)","v":0},{"$f":"F57+I57","v":0},null,null,{"$f":"ISBLANK(B57)","v":true},{"$f":"ISBLANK(C57)","v":true},true,true,{"$f":"M57+N57+O57+P57","v":4},{"$f":"IF(Q57=0,TRUE,FALSE)","v":false}]
[null,null,null,null,null,{"$f":"ROUND(D58*E58,2)","v":0},null,null,0,{"$f":"F58+I58","v":0},null,null,{"$f":"ISBLANK(B58)","v":true},true,true,true,{"$f":"M58+N58+O58+P58","v":4},{"$f":"IF(Q58=0,TRUE,FALSE)","v":false}]
[null,null,null,null,null,0,null,null,0,0,null,null,true,true,true,true,4,false]
[null,null,null,null,null,0,null,null,0,0,null,null,true,true,true,true,4,false]
[null,null,null,null,null,0,null,null,0,0,null,null,true,true,true,true,4,false]
[null,null,null,null,null,0,null,null,0,0,null,null,true,true,true,true,4,false]
[null,null,null,null,null,0,null,null,0,0,null,null,true,true,true,true,4,false]
[null,null,null,null,null,0,null,null,0,0,null,null,true,true,true,true,4,false]
[null,null,null,null,null,0,null,null,0,0,null,null,true,true,true,true,4,false]
[null,null,null,null,null,0,null,null,0,0,null,null,true,true,true,true,4,true]
[null,null,null,null,null,{"$f":"ROUND(D67*E67,2)","v":0},null,null,{"$f":"ROUND(G67*H67,2)","v":0},{"$f":"F67+I67","v":0},null,null,{"$f":"ISBLANK(B67)","v":true},{"$f":"ISBLANK(C67)","v":true},{"$f":"ISBLANK(D67)","v":true},{"$f":"ISBLANK(E67)","v":true},{"$f":"M67+N67+O67+P67","v":4},{"$f":"IF(Q67=0,TRUE,FALSE)","v":false}]
[null,null,null,null,null,{"$f":"ROUND(D68*E68,2)","v":0},null,null,0,{"$f":"F68+I68","v":0},null,null,{"$f":"ISBLANK(B68)","v":true},true,true,true,{"$f":"M68+N68+O68+P68","v":4},{"$f":"IF(Q68=0,TRUE,FALSE)","v":false}]
[null,null,null,null,null,0,null,null,0,0,null,null,true,true,true,true,4,false]
[null,null,null,null,null,0,null,null,0,0,null,null,true,true,true,true,4,false]
[null,null,null,null,null,0,null,null,0,0,null,null,true,true,true,true,4,false]
[null,null,null,null,null,0,null,null,0,0,null,null,true,true,true,true,4,false]
[null,null,null,null,null,0,null,null,0,0,null,null,true,true,true,true,4,false]
[null,null,null,null,null,0,null,null,0,0,null,null,true,true,true,true,4,false]
[null,null,null,null,null,0,null,null,0,0,null,null,true,true,true,true,4,false]
[null,null,null,null,null,0,null,null,0,0,null,null,true,true,true,true,4,true]
[null,"3.3 Accommodation costs",null,null,null,{"$f":"SUM(F78:F97)","v":0},null,null,{"$f":"SUM(I78:I97)","v":0},{"$f":"SUM(J78:J97)","v":0},null,null,null,null,null,null,null,true]
[null,null,null,null,null,{"$f":"ROUND(D78*E78,2)","v":0},null,null,{"$f":"ROUND(G78*H78,2)","v":0},{"$f":"F78+I78","v":0},null,null,{"$f":"ISBLANK(B78)","v":true},{"$f":"ISBLANK(C78)","v":true},true,true,{"$f":"M78+N78+O78+P78","v":4},{"$f":"IF(Q78=0,TRUE,FALSE)","v":false}]
[null,null,null,null,null,{"$f":"ROUND(D79*E79,2)","v":0},null,null,0,{"$f":"F79+I79","v":0},null,null,{"$f":"ISBLANK(B79)","v":true},true,true,true,{"$f":"M79+N79+O79+P79","v":4},{"$f":"IF(Q79=0,TRUE,FALSE)","v":false}]
[null,null,null,null,null,0,null,null,0,0,null,null,true,true,true,true,4,false]
[null,null,null,null,null,0,null,null,0,0,null,null,true,true,true,true,4,false]
[null,null,null,null,null,0,null,null,0,0,null,null,true,true,true,true,4,false]
[null,null,null,null,null,0,null,null,0,0,null,null,true,true,true,true,4,false]
[null,null,null,null,null,0,null,null,0,0,null,null,true,true,true,true,4,false]
[null,null,null,null,null,0,null,null,0,0,null,null,true,true,true,true,4,false]
[null,null,null,null,null,0,null,null,0,0,null,null,true,true,true,true,4,false]
[null,null,null,null,null,0,null,null,0,0,null,null,true,true,true,true,4,true]
[null,null,null,null,null,{"$f":"ROUND(D88*E88,2)","v":0},null,null,{"$f":"ROUND(G88*H88,2)","v":0},{"$f":"F88+I88","v":0},null,null,{"$f":"ISBLANK(B88)","v":true},{"$f":"ISBLANK(C88)","v":true},{"$f":"ISBLANK(D88)","v":true},{"$f":"ISBLANK(E88)","v":true},{"$f":"M88+N88+O88+P88","v":4},{"$f":"IF(Q88=0,TRUE,FALSE)","v":false}]
[null,null,null,null,null,{"$f":"ROUND(D89*E89,2)","v":0},null,null,0,{"$f":"F89+I89","v":0},null,null,{"$f":"ISBLANK(B89)","v":true},true,true,true,{"$f":"M89+N89+O89+P89","v":4},{"$f":"IF(Q89=0,TRUE,FALSE)","v":false}]
[null,null,null,null,null,0,null,null,0,0,null,null,true,true,true,true,4,false]
[null,null,null,null,null,0,null,null,0,0,null,null,true,true,true,true,4,false]
[null,null,null,null,null,0,null,null,0,0,null,null,true,true,true,true,4,false]
[null,null,null,null,null,0,null,null,0,0,null,null,true,true,true,true,4,false]
[null,null,null,null,null,0,null,null,0,0,null,null,true,true,true,true,4,false]
[null,null,null,null,null,0,null,null,0,0,null,null,true,true,true,true,4,false]
[null,null,null,null,null,0,null,null,0,0,null,null,true,true,true,true,4,false]
[null,null,null,null,null,0,null,null,0,0,null,null,true,true,true,true,4,true]
[null,"3.4 Visa costs",null,null,null,{"$f":"SUM(F99:F108)","v":0},null,null,{"$f":"SUM(I99:I108)","v":0},{"$f":"SUM(J99:J108)","v":0},null,null,null,null,null,null,null,true]
[null,null,null,null,null,{"$f":"ROUND(D99*E99,2)","v":0},null,null,{"$f":"ROUND(G99*H99,2)","v":0},{"$f":"F99+I99","v":0},null,null,{"$f":"ISBLANK(B99)","v":true},{"$f":"ISBLANK(C99)","v":true},true,true,{"$f":"M99+N99+O99+P99","v":4},{"$f":"IF(Q99=0,TRUE,FALSE)","v":false}]
[null,null,null,null,null,{"$f":"ROUND(D100*E100,2)","v":0},null,null,0,{"$f":"F100+I100","v":0},null,null,{"$f":"ISBLANK(B100)","v":true},true,true,true,{"$f":"M100+N100+O100+P100","v":4},{"$f":"IF(Q100=0,TRUE,FALSE)","v":false}]
[null,null,null,null,null,0,null,null,0,0,null,null,true,true,true,true,4,false]
[null,null,null,null,null,0,null,null,0,0,null,null,true,true,true,true,4,false]
[null,null,null,null,null,0,null,null,0,0,null,null,true,true,true,true,4,false]
[null,null,null,null,null,0,null,null,0,0,null,null,true,true,true,true,4,false]
[null,null,null,null,null,0,null,null,0,0,null,null,true,true,true,true,4,false]
[null,null,null,null,null,0,null,null,0,0,null,null,true,true,true,true,4,false]
[null,null,null,null,null,0,null,null,0,0,null,null,true,true,true,true,4,false]
[null,null,null,null,null,0,null,null,0,0,null,null,true,true,true,true,4,true]
[null,"TOTAL",null,null,null,{"$f":"F98+F77+F56+F35","v":0},null,null,{"$f":"I98+I77+I56+I35","v":0},{"$f":"J98+J77+J56+J35","v":0},null,null,null,null,null,null,null,true]
[null,null,null,null,null,null,null,null,null,null,null,null,null,null,null,null,null,true]
[null,"BL4 - EXTERNAL EXPERTISE AND SERVICES COSTS","Unit","Expenditures in the eligible area",null,null,"Expenditures outside of the eligible area",null,null,"TOTAL",null,null,null,null,null,null,null,true]
[null,null,null,"Units","Unit rate","TOTAL","Units","Unit rate","TOTAL",null,null,null,null,null,null,null,null,true]
[null,"4.1 Rent of hall",null,null,null,{"$f":"SUM(F114:F133)","v":0},null,null,{"$f":"SUM(I114:I133)","v":0},{"$f":"SUM(J114:J133)","v":0},null,null,null,null,null,null,null,true]
[null,null,null,null,null,{"$f":"ROUND(D114*E114,2)","v":0},null,null,{"$f":"ROUND(G114*H114,2)","v":0},{"$f":"F114+I114","v":0},null,null,{"$f":"ISBLANK(B114)","v":true},{"$f":"ISBLANK(C114)","v":true},true,true,{"$f":"M114+N114+O114+P114","v":4},{"$f":"IF(Q114=0,TRUE,FALSE)","v":false}]
[null,null,null,null,null,{"$f":"ROUND(D115*E115,2)","v":0},null,null,0,{"$f":"F115+I115","v":0},null,null,{"$f":"ISBLANK(B115)","v":true},true,true,true,{"$f":"M115+N115+O115+P115","v":4},{"$f":"IF(Q115=0,TRUE,FALSE)","v":false}]
[null,null,null,null,null,0,null,null,0,0,null,null,true,true,true,true,4,false]
[null,null,null,null,null,0,null,null,0,0,null,null,true,true,true,true,4,false]
[null,null,null,null,null,0,null,null,0,0,null,null,true,true,true,true,4,false]
[null,null,null,null,null,0,null,null,0,0,null,null,true,true,true,true,4,false]
[null,null,null,null,null,0,null,null,0,0,null,null,true,true,true,true,4,false]
[null,null,null,null,null,0,null,null,0,0,null,null,true,true,true,true,4,false]
[null,null,null,null,null,0,null,null,0,0,null,null,true,true,true,true,4,false]
[null,null,null,null,null,0,null,null,0,0,null,null,true,true,true,true,4,true]
[null,null,null,null,null,{"$f":"ROUND(D124*E124,2)","v":0},null,null,{"$f":"ROUND(G124*H124,2)","v":0},{"$f":"F124+I124","v":0},null,null,{"$f":"ISBLANK(B124)","v":true},{"$f":"ISBLANK(C124)","v":true},{"$f":"ISBLANK(D124)","v":true},{"$f":"ISBLANK(E124)","v":true},{"$f":"M124+N124+O124+P124","v":4},{"$f":"IF(Q124=0,TRUE,FALSE)","v":false}]
[null,null,null,null,null,{"$f":"ROUND(D125*E125,2)","v":0},null,null,0,{"$f":"F125+I125","v":0},null,null,{"$f":"ISBLANK(B125)","v":true},true,true,true,{"$f":"M125+N125+O125+P125","v":4},{"$f":"IF(Q125=0,TRUE,FALSE)","v":false}]
[null,null,null,null,null,0,null,null,0,0,null,null,true,true,true,true,4,false]
[null,null,null,null,null,0,null,null,0,0,null,null,true,true,true,true,4,false]
[null,null,null,null,null,0,null,null,0,0,null,null,true,true,true,true,4,false]
[null,null,null,null,null,0,null,null,0,0,null,null,true,true,true,true,4,false]
[null,null,null,null,null,0,null,null,0,0,null,null,true,true,true,true,4,false]
[null,null,null,null,null,0,null,null,0,0,null,null,true,true,true,true,4,false]
[null,null,null,null,null,0,null,null,0,0,null,null,true,true,true,true,4,false]
[null,null,null,null,null,0,null,null,0,0,null,null,true,true,true,true,4,true]
[null,"4.2 Rent of equipment",null,null,null,{"$f":"SUM(F135:F154)","v":0},null,null,{"$f":"SUM(I135:I154)","v":0},{"$f":"SUM(J135:J154)","v":0},null,null,null,null,null,null,null,true]
[null,null,null,null,null,{"$f":"ROUND(D135*E135,2)","v":0},null,null,{"$f":"ROUND(G135*H135,2)","v":0},{"$f":"F135+I135","v":0},null,null,{"$f":"ISBLANK(B135)","v":true},{"$f":"ISBLANK(C135)","v":true},true,true,{"$f":"M135+N135+O135+P135","v":4},{"$f":"IF(Q135=0,TRUE,FALSE)","v":false}]
[null,null,null,null,null,{"$f":"ROUND(D136*E136,2)","v":0},null,null,0,{"$f":"F136+I136","v":0},null,null,{"$f":"ISBLANK(B136)","v":true},true,true,true,{"$f":"M136+N136+O136+P136","v":4},{"$f":"IF(Q136=0,TRUE,FALSE)","v":false}]
[null,null,null,null,null,0,null,null,0,0,null,null,true,true,true,true,4,false]
[null,null,null,null,null,0,null,null,0,0,null,null,true,true,true,true,4,false]
[null,null,null,null,null,0,null,null,0,0,null,null,true,true,true,true,4,false]
[null,null,null,null,null,0,null,null,0,0,null,null,true,true,true,true,4,false]
[null,null,null,null,null,0,null,null,0,0,null,null,true,true,true,true,4,false]
[null,null,null,null,null,0,null,null,0,0,null,null,true,true,true,true,4,false]
[null,null,null,null,null,0,null,null,0,0,null,null,true,true,true,true,4,false]
[null,null,null,null,null,0,null,null,0,0,null,null,true,true,true,true,4,true]
[null,null,null,null,null,{"$f":"ROUND(D145*E145,2)","v":0},null,null,{"$f":"ROUND(G145*H145,2)","v":0},{"$f":"F145+I145","v":0},null,null,{"$f":"ISBLANK(B145)","v":true},{"$f":"ISBLANK(C145)","v":true},{"$f":"ISBLANK(D145)","v":true},{"$f":"ISBLANK(E145)","v":true},{"$f":"M145+N145+O145+P145","v":4},{"$f":"IF(Q145=0,TRUE,FALSE)","v":false}]
[null,null,null,null,null,{"$f":"ROUND(D146*E146,2)","v":0},null,null,0,{"$f":"F146+I146","v":0},null,null,{"$f":"ISBLANK(B146)","v":true},true,true,true,{"$f":"M146+N146+O146+P146","v":4},{"$f":"IF(Q146=0,TRUE,FALSE)","v":false}]
[null,null,null,null,null,0,null,null,0,0,null,null,true,true,true,true,4,false]
[null,null,null,null,null,0,null,null,0,0,null,null,true,true,true,true,4,false]
[null,null,null,null,null,0,null,null,0,0,null,null,true,true,true,true,4,false]
[null,null,null,null,null,0,null,null,0,0,null,null,true,true,true,true,4,false]
[null,null,null,null,null,0,null,null,0,0,null,null,true,true,true,true,4,false]
[null,null,null,null,null,0,null,null,0,0,null,null,true,true,true,true,4,false]
[null,null,null,null,null,0,null,null,0,0,null,null,true,true,true,true,4,false]
[null,null,null,null,null,0,null,null,0,0,null,null,true,true,true,true,4,true]
[null,"4.3 Coffee breaks, refreshments, etc.",null,null,null,{"$f":"SUM(F156:F175)","v":0},null,null,{"$f":"SUM(I156:I175)","v":0},{"$f":"SUM(J156:J175)","v":0},null,null,null,null,null,null,null,true]
[null,null,null,null,null,{"$f":"ROUND(D156*E156,2)","v":0},null,null,{"$f":"ROUND(G156*H156,2)","v":0},{"$f":"F156+I156","v":0},null,null,{"$f":"ISBLANK(B156)","v":true},{"$f":"ISBLANK(C156)","v":true},true,true,{"$f":"M156+N156+O156+P156","v":4},{"$f":"IF(Q156=0,TRUE,FALSE)","v":false}]
[null,null,null,null,null,{"$f":"ROUND(D157*E157,2)","v":0},null,null,0,{"$f":"F157+I157","v":0},null,null,{"$f":"ISBLANK(B157)","v":true},true,true,true,{"$f":"M157+N157+O157+P157","v":4},{"$f":"IF(Q157=0,TRUE,FALSE)","v":false}]
[null,null,null,null,null,0,null,null,0,0,null,null,true,true,true,true,4,false]
[null,null,null,null,null,0,null,null,0,0,null,null,true,true,true,true,4,false]
[null,null,null,null,null,0,null,null,0,0,null,null,true,true,true,true,4,false]
[null,null,null,null,null,0,null,null,0,0,null,null,true,true,true,true,4,false]
[null,null,null,null,null,0,null,null,0,0,null,null,true,true,true,true,4,false]
[null,null,null,null,null,0,null,null,0,0,null,null,true,true,true,true,4,false]
[null,null,null,null,null,0,null,null,0,0,null,null,true,true,true,true,4,false]
[null,null,null,null,null,0,null,null,0,0,null,null,true,true,true,true,4,true]
[null,null,null,null,null,{"$f":"ROUND(D166*E166,2)","v":0},null,null,{"$f":"ROUND(G166*H166,2)","v":0},{"$f":"F166+I166","v":0},null,null,{"$f":"ISBLANK(B166)","v":true},{"$f":"ISBLANK(C166)","v":true},{"$f":"ISBLANK(D166)","v":true},{"$f":"ISBLANK(E166)","v":true},{"$f":"M166+N166+O166+P166","v":4},{"$f":"IF(Q166=0,TRUE,FALSE)","v":false}]
[null,null,null,null,null,{"$f":"ROUND(D167*E167,2)","v":0},null,null,0,{"$f":"F167+I167","v":0},null,null,{"$f":"ISBLANK(B167)","v":true},true,true,true,{"$f":"M167+N167+O167+P167","v":4},{"$f":"IF(Q167=0,TRUE,FALSE)","v":false}]
[null,null,null,null,null,0,null,null,0,0,null,null,true,true,true,true,4,false]
[null,null,null,null,null,0,null,null,0,0,null,null,true,true,true,true,4,false]
[null,null,null,null,null,0,null,null,0,0,null,null,true,true,true,true,4,false]
[null,null,null,null,null,0,null,null,0,0,null,null,true,true,true,true,4,false]
[null,null,null,null,null,0,null,null,0,0,null,null,true,true,true,true,4,false]
[null,null,null,null,null,0,null,null,0,0,null,null,true,true,true,true,4,false]
[null,null,null,null,null,0,null,null,0,0,null,null,true,true,true,true,4,false]
[null,null,null,null,null,0,null,null,0,0,null,null,true,true,true,true,4,true]
[null,"4.4 Consumables",null,null,null,{"$f":"SUM(F177:F196)","v":0},null,null,{"$f":"SUM(I177:I196)","v":0},{"$f":"SUM(J177:J196)","v":0},null,null,null,null,null,null,null,true]
[null,null,null,null,null,{"$f":"ROUND(D177*E177,2)","v":0},null,null,{"$f":"ROUND(G177*H177,2)","v":0},{"$f":"F177+I177","v":0},null,null,{"$f":"ISBLANK(B177)","v":true},{"$f":"ISBLANK(C177)","v":true},true,true,{"$f":"M177+N177+O177+P177","v":4},{"$f":"IF(Q177=0,TRUE,FALSE)","v":false}]
[null,null,null,null,null,{"$f":"ROUND(D178*E178,2)","v":0},null,null,0,{"$f":"F178+I178","v":0},null,null,{"$f":"ISBLANK(B178)","v":true},true,true,true,{"$f":"M178+N178+O178+P178","v":4},{"$f":"IF(Q178=0,TRUE,FALSE)","v":false}]
[null,null,null,null,null,0,null,null,0,0,null,null,true,true,true,true,4,false]
[null,null,null,null,null,0,null,null,0,0,null,null,true,true,true,true,4,false]
[null,null,null,null,null,0,null,null,0,0,null,null,true,true,true,true,4,false]
[null,null,null,null,null,0,null,null,0,0,null,null,true,true,true,true,4,false]
[null,null,null,null,null,0,null,null,0,0,null,null,true,true,true,true,4,false]
[null,null,null,null,null,0,null,null,0,0,null,null,true,true,true,true,4,false]
[null,null,null,null,null,0,null,null,0,0,null,null,true,true,true,true,4,false]
[null,null,null,null,null,0,null,null,0,0,null,null,true,true,true,true,4,true]
[null,null,null,null,null,{"$f":"ROUND(D187*E187,2)","v":0},null,null,{"$f":"ROUND(G187*H187,2)","v":0},{"$f":"F187+I187","v":0},null,null,{"$f":"ISBLANK(B187)","v":true},{"$f":"ISBLANK(C187)","v":true},{"$f":"ISBLANK(D187)","v":true},{"$f":"ISBLANK(E187)","v":true},{"$f":"M187+N187+O187+P187","v":4},{"$f":"IF(Q187=0,TRUE,FALSE)","v":false}]
[null,null,null,null,null,{"$f":"ROUND(D188*E188,2)","v":0},null,null,0,{"$f":"F188+I188","v":0},null,null,{"$f":"ISBLANK(B188)","v":true},true,true,true,{"$f":"M188+N188+O188+P188","v":4},{"$f":"IF(Q188=0,TRUE,FALSE)","v":false}]
[null,null,null,null,null,0,null,null,0,0,null,null,true,true,true,true,4,false]
[null,null,null,null,null,0,null,null,0,0,null,null,true,true,true,true,4,false]
[null,null,null,null,null,0,null,null,0,0,null,null,true,true,true,true,4,false]
[null,null,null,null,null,0,null,null,0,0,null,null,true,true,true,true,4,false]
[null,null,null,null,null,0,null,null,0,0,null,null,true,true,true,true,4,false]
[null,null,null,null,null,0,null,null,0,0,null,null,true,true,true,true,4,false]
[null,null,null,null,null,0,null,null,0,0,null,null,true,true,true,true,4,false]
[null,null,null,null,null,0,null,null,0,0,null,null,true,true,true,true,4,true]
[null,"4.5 Rent of vehicle for event",null,null,null,{"$f":"SUM(F198:F217)","v":0},null,null,{"$f":"SUM(I198:I217)","v":0},{"$f":"SUM(J198:J217)","v":0},null,null,null,null,null,null,null,true]
[null,null,null,null,null,{"$f":"ROUND(D198*E198,2)","v":0},null,null,{"$f":"ROUND(G198*H198,2)","v":0},{"$f":"F198+I198","v":0},null,null,{"$f":"ISBLANK(B198)","v":true},{"$f":"ISBLANK(C198)","v":true},true,true,{"$f":"M198+N198+O198+P198","v":4},{"$f":"IF(Q198=0,TRUE,FALSE)","v":false}]
[null,null,null,null,null,{"$f":"ROUND(D199*E199,2)","v":0},null,null,0,{"$f":"F199+I199","v":0},null,null,{"$f":"ISBLANK(B199)","v":true},true,true,true,{"$f":"M199+N199+O199+P199","v":4},{"$f":"IF(Q199=0,TRUE,FALSE)","v":false}]
[null,null,null,null,null,0,null,null,0,0,null,null,true,true,true,true,4,false]
[null,null,null,null,null,0,null,null,0,0,null,null,true,true,true,true,4,false]
[null,null,null,null,null,0,null,null,0,0,null,null,true,true,true,true,4,false]
[null,null,null,null,null,0,null,null,0,0,null,null,true,true,true,true,4,false]
[null,null,null,null,null,0,null,null,0,0,null,null,true,true,true,true,4,false]
[null,null,null,null,null,0,null,null,0,0,null,null,true,true,true,true,4,false]
[null,null,null,null,null,0,null,null,0,0,null,null,true,true,true,true,4,false]
[null,null,null,null,null,0,null,null,0,0,null,null,true,true,true,true,4,true]
[null,null,null,null,null,{"$f":"ROUND(D208*E208,2)","v":0},null,null,{"$f":"ROUND(G208*H208,2)","v":0},{"$f":"F208+I208","v":0},null,null,{"$f":"ISBLANK(B208)","v":true},{"$f":"ISBLANK(C208)","v":true},{"$f":"ISBLANK(D208)","v":true},{"$f":"ISBLANK(E208)","v":true},{"$f":"M208+N208+O208+P208","v":4},{"$f":"IF(Q208=0,TRUE,FALSE)","v":false}]
[null,null,null,null,null,{"$f":"ROUND(D209*E209,2)","v":0},null,null,0,{"$f":"F209+I209","v":0},null,null,{"$f":"ISBLANK(B209)","v":true},true,true,true,{"$f":"M209+N209+O209+P209","v":4},{"$f":"IF(Q209=0,TRUE,FALSE)","v":false}]
[null,null,null,null,null,0,null,null,0,0,null,null,true,true,true,true,4,false]
[null,null,null,null,null,0,null,null,0,0,null,null,true,true,true,true,4,false]
[null,null,null,null,null,0,null,null,0,0,null,null,true,true,true,true,4,false]
[null,null,null,null,null,0,null,null,0,0,null,null,true,true,true,true,4,false]
[null,null,null,null,null,0,null,null,0,0,null,null,true,true,true,true,4,false]
[null,null,null,null,null,0,null,null,0,0,null,null,true,true,true,true,4,false]
[null,null,null,null,null,0,null,null,0,0,null,null,true,true,true,true,4,false]
[null,null,null,null,null,0,null,null,0,0,null,null,true,true,true,true,4,true]
[null,"4.6 Accommodations for participants in the events ",null,null,null,{"$f":"SUM(F219:F238)","v":0},null,null,{"$f":"SUM(I219:I238)","v":0},{"$f":"SUM(J219:J238)","v":0},null,null,null,null,null,null,null,true]
[null,null,null,null,null,{"$f":"ROUND(D219*E219,2)","v":0},null,null,{"$f":"ROUND(G219*H219,2)","v":0},{"$f":"F219+I219","v":0},null,null,{"$f":"ISBLANK(B219)","v":true},{"$f":"ISBLANK(C219)","v":true},true,true,{"$f":"M219+N219+O219+P219","v":4},{"$f":"IF(Q219=0,TRUE,FALSE)","v":false}]
[null,null,null,null,null,{"$f":"ROUND(D220*E220,2)","v":0},null,null,0,{"$f":"F220+I220","v":0},null,null,{"$f":"ISBLANK(B220)","v":true},true,true,true,{"$f":"M220+N220+O220+P220","v":4},{"$f":"IF(Q220=0,TRUE,FALSE)","v":false}]
[null,null,null,null,null,0,null,null,0,0,null,null,true,true,true,true,4,false]
[null,null,null,null,null,0,null,null,0,0,null,null,true,true,true,true,4,false]
[null,null,null,null,null,0,null,null,0,0,null,null,true,true,true,true,4,false]
[null,null,null,null,null,0,null,null,0,0,null,null,true,true,true,true,4,false]
[null,null,null,null,null,0,null,null,0,0,null,null,true,true,true,true,4,false]
[null,null,null,null,null,0,null,null,0,0,null,null,true,true,true,true,4,false]
[null,null,null,null,null,0,null,null,0,0,null,null,true,true,true,true,4,false]
[null,null,null,null,null,0,null,null,0,0,null,null,true,true,true,true,4,true]
[null,null,null,null,null,{"$f":"ROUND(D229*E229,2)","v":0},null,null,{"$f":"ROUND(G229*H229,2)","v":0},{"$f":"F229+I229","v":0},null,null,{"$f":"ISBLANK(B229)","v":true},{"$f":"ISBLANK(C229)","v":true},{"$f":"ISBLANK(D229)","v":true},{"$f":"ISBLANK(E229)","v":true},{"$f":"M229+N229+O229+P229","v":4},{"$f":"IF(Q229=0,TRUE,FALSE)","v":false}]
[null,null,null,null,null,{"$f":"ROUND(D230*E230,2)","v":0},null,null,0,{"$f":"F230+I230","v":0},null,null,{"$f":"ISBLANK(B230)","v":true},true,true,true,{"$f":"M230+N230+O230+P230","v":4},{"$f":"IF(Q230=0,TRUE,FALSE)","v":false}]
[null,null,null,null,null,0,null,null,0,0,null,null,true,true,true,true,4,false]
[null,null,null,null,null,0,null,null,0,0,null,null,true,true,true,true,4,false]
[null,null,null,null,null,0,null,null,0,0,null,null,true,true,true,true,4,false]
[null,null,null,null,null,0,null,null,0,0,null,null,true,true,true,true,4,false]
[null,null,null,null,null,0,null,null,0,0,null,null,true,true,true,true,4,false]
[null,null,null,null,null,0,null,null,0,0,null,null,true,true,true,true,4,false]
[null,null,null,null,null,0,null,null,0,0,null,null,true,true,true,true,4,false]
[null,null,null,null,null,0,null,null,0,0,null,null,true,true,true,true,4,true]
[null,"4.7 Elaboration, design,translation etc.",null,null,null,{"$f":"SUM(F240:F259)","v":0},null,null,{"$f":"SUM(I240:I259)","v":0},{"$f":"SUM(J240:J259)","v":0},null,null,null,{"$f":"ISBLANK(C239)","v":true},null,null,null,true]
[null,null,null,null,null,{"$f":"ROUND(D240*E240,2)","v":0},null,null,{"$f":"ROUND(G240*H240,2)","v":0},{"$f":"F240+I240","v":0},null,null,{"$f":"ISBLANK(B240)","v":true},{"$f":"ISBLANK(C240)","v":true},true,true,{"$f":"M240+N240+O240+P240","v":4},{"$f":"IF(Q240=0,TRUE,FALSE)","v":false}]
[null,null,null,null,null,{"$f":"ROUND(D241*E241,2)","v":0},null,null,0,{"$f":"F241+I241","v":0},null,null,{"$f":"ISBLANK(B241)","v":true},true,true,true,{"$f":"M241+N241+O241+P241","v":4},{"$f":"IF(Q241=0,TRUE,FALSE)","v":false}]
[null,null,null,null,null,0,null,null,0,0,null,null,true,true,true,true,4,false]
[null,null,null,null,null,0,null,null,0,0,null,null,true,true,true,true,4,false]
[null,null,null,null,null,0,null,null,0,0,null,null,true,true,true,true,4,false]
[null,null,null,null,null,0,null,null,0,0,null,null,true,true,true,true,4,false]
[null,null,null,null,null,0,null,null,0,0,null,null,true,true,true,true,4,false]
[null,null,null,null,null,0,null,null,0,0,null,null,true,true,true,true,4,false]
[null,null,null,null,null,0,null,null,0,0,null,null,true,true,true,true,4,false]
[null,null,null,null,null,0,null,null,0,0,null,null,true,true,true,true,4,true]
[null,null,null,null,null,{"$f":"ROUND(D250*E250,2)","v":0},null,null,{"$f":"ROUND(G250*H250,2)","v":0},{"$f":"F250+I250","v":0},null,null,{"$f":"ISBLANK(B250)","v":true},{"$f":"ISBLANK(C250)","v":true},{"$f":"ISBLANK(D250)","v":true},{"$f":"ISBLANK(E250)","v":true},{"$f":"M250+N250+O250+P250","v":4},{"$f":"IF(Q250=0,TRUE,FALSE)","v":false}]
[null,null,null,null,null,{"$f":"ROUND(D251*E251,2)","v":0},null,null,0,{"$f":"F251+I251","v":0},null,null,{"$f":"ISBLANK(B251)","v":true},true,true,true,{"$f":"M251+N251+O251+P251","v":4},{"$f":"IF(Q251=0,TRUE,FALSE)","v":false}]
[null,null,null,null,null,0,null,null,0,0,null,null,true,true,true,true,4,false]
[null,null,null,null,null,0,null,null,0,0,null,null,true,true,true,true,4,false]
[null,null,null,null,null,0,null,null,0,0,null,null,true,true,true,true,4,false]
[null,null,null,null,null,0,null,null,0,0,null,null,true,true,true,true,4,false]
[null,null,null,null,null,0,null,null,0,0,null,null,true,true,true,true,4,false]
[null,null,null,null,null,0,null,null,0,0,null,null,true,true,true,true,4,false]
[null,null,null,null,null,0,null,null,0,0,null,null,true,true,true,true,4,false]
[null,null,null,null,null,0,null,null,0,0,null,null,true,true,true,true,4,true]
[null,"4.8 Publications in mass-media",null,null,null,{"$f":"SUM(F261:F280)","v":0},null,null,{"$f":"SUM(I261:I280)","v":0},{"$f":"SUM(J261:J280)","v":0},null,null,null,null,null,null,null,true]
[null,null,null,null,null,{"$f":"ROUND(D261*E261,2)","v":0},null,null,{"$f":"ROUND(G261*H261,2)","v":0},{"$f":"F261+I261","v":0},null,null,{"$f":"ISBLANK(B261)","v":true},{"$f":"ISBLANK(C261)","v":true},true,true,{"$f":"M261+N261+O261+P261","v":4},{"$f":"IF(Q261=0,TRUE,FALSE)","v":false}]
[null,null,null,null,null,{"$f":"ROUND(D262*E262,2)","v":0},null,null,0,{"$f":"F262+I262","v":0},null,null,{"$f":"ISBLANK(B262)","v":true},true,true,true,{"$f":"M262+N262+O262+P262","v":4},{"$f":"IF(Q262=0,TRUE,FALSE)","v":false}]
[null,null,null,null,null,0,null,null,0,0,null,null,true,true,true,true,4,false]
[null,null,null,null,null,0,null,null,0,0,null,null,true,true,true,true,4,false]
[null,null,null,null,null,0,null,null,0,0,null,null,true,true,true,true,4,false]
[null,null,null,null,null,0,null,null,0,0,null,null,true,true,true,true,4,false]
[null,null,null,null,null,0,null,null,0,0,null,null,true,true,true,true,4,false]
[null,null,null,null,null,0,null,null,0,0,null,null,true,true,true,true,4,false]
[null,null,null,null,null,0,null,null,0,0,null,null,true,true,true,true,4,false]
[null,null,null,null,null,0,null,null,0,0,null,null,true,true,true,true,4,true]
[null,null,null,null,null,{"$f":"ROUND(D271*E271,2)","v":0},null,null,{"$f":"ROUND(G271*H271,2)","v":0},{"$f":"F271+I271","v":0},null,null,{"$f":"ISBLANK(B271)","v":true},{"$f":"ISBLANK(C271)","v":true},{"$f":"ISBLANK(D271)","v":true},{"$f":"ISBLANK(E271)","v":true},{"$f":"M271+N271+O271+P271","v":4},{"$f":"IF(Q271=0,TRUE,FALSE)","v":false}]
[null,null,null,null,null,{"$f":"ROUND(D272*E272,2)","v":0},null,null,0,{"$f":"F272+I272","v":0},null,null,{"$f":"ISBLANK(B272)","v":true},true,true,true,{"$f":"M272+N272+O272+P272","v":4},{"$f":"IF(Q272=0,TRUE,FALSE)","v":false}]
[null,null,null,null,null,0,null,null,0,0,null,null,true,true,true,true,4,false]
[null,null,null,null,null,0,null,null,0,0,null,null,true,true,true,true,4,false]
[null,null,null,null,null,0,null,null,0,0,null,null,true,true,true,true,4,false]
[null,null,null,null,null,0,null,null,0,0,null,null,true,true,true,true,4,false]
[null,null,null,null,null,0,null,null,0,0,null,null,true,true,true,true,4,false]
[null,null,null,null,null,0,null,null,0,0,null,null,true,true,true,true,4,false]
[null,null,null,null,null,0,null,null,0,0,null,null,true,true,true,true,4,false]
[null,null,null,null,null,0,null,null,0,0,null,null,true,true,true,true,4,true]
[null,"4.9 Consultancy, studies,designs, website development etc.",null,null,null,{"$f":"SUM(F282:F301)","v":0},null,null,{"$f":"SUM(I282:I301)","v":0},{"$f":"SUM(J282:J301)","v":0},null,null,null,null,null,null,null,true]
[null,null,null,null,null,{"$f":"ROUND(D282*E282,2)","v":0},null,null,{"$f":"ROUND(G282*H282,2)","v":0},{"$f":"F282+I282","v":0},null,null,{"$f":"ISBLANK(B282)","v":true},{"$f":"ISBLANK(C282)","v":true},true,true,{"$f":"M282+N282+O282+P282","v":4},{"$f":"IF(Q282=0,TRUE,FALSE)","v":false}]
[null,null,null,null,null,{"$f":"ROUND(D283*E283,2)","v":0},null,null,0,{"$f":"F283+I283","v":0},null,null,{"$f":"ISBLANK(B283)","v":true},true,true,true,{"$f":"M283+N283+O283+P283","v":4},{"$f":"IF(Q283=0,TRUE,FALSE)","v":false}]
[null,null,null,null,null,0,null,null,0,0,null,null,true,true,true,true,4,false]
[null,null,null,null,null,0,null,null,0,0,null,null,true,true,true,true,4,false]
[null,null,null,null,null,0,null,null,0,0,null,null,true,true,true,true,4,false]
[null,null,null,null,null,0,null,null,0,0,null,null,true,true,true,true,4,false]
[null,null,null,null,null,0,null,null,0,0,null,null,true,true,true,true,4,false]
[null,null,null,null,null,0,null,null,0,0,null,null,true,true,true,true,4,false]
[null,null,null,null,null,0,null,null,0,0,null,null,true,true,true,true,4,false]
[null,null,null,null,null,0,null,null,0,0,null,null,true,true,true,true,4,true]
[null,null,null,null,null,{"$f":"ROUND(D292*E292,2)","v":0},null,null,{"$f":"ROUND(G292*H292,2)","v":0},{"$f":"F292+I292","v":0},null,null,{"$f":"ISBLANK(B292)","v":true},{"$f":"ISBLANK(C292)","v":true},{"$f":"ISBLANK(D292)","v":true},{"$f":"ISBLANK(E292)","v":true},{"$f":"M292+N292+O292+P292","v":4},{"$f":"IF(Q292=0,TRUE,FALSE)","v":false}]
[null,null,null,null,null,{"$f":"ROUND(D293*E293,2)","v":0},null,null,0,{"$f":"F293+I293","v":0},null,null,{"$f":"ISBLANK(B293)","v":true},true,true,true,{"$f":"M293+N293+O293+P293","v":4},{"$f":"IF(Q293=0,TRUE,FALSE)","v":false}]
[null,null,null,null,null,0,null,null,0,0,null,null,true,true,true,true,4,false]
[null,null,null,null,null,0,null,null,0,0,null,null,true,true,true,true,4,false]
[null,null,null,null,null,0,null,null,0,0,null,null,true,true,true,true,4,false]
[null,null,null,null,null,0,null,null,0,0,null,null,true,true,true,true,4,false]
[null,null,null,null,null,0,null,null,0,0,null,null,true,true,true,true,4,false]
[null,null,null,null,null,0,null,null,0,0,null,null,true,true,true,true,4,false]
[null,null,null,null,null,0,null,null,0,0,null,null,true,true,true,true,4,false]
[null,null,null,null,null,0,null,null,0,0,null,null,true,true,true,true,4,true]
[null,"4.10 Authorizations, certificates",null,null,null,{"$f":"SUM(F303:F322)","v":0},null,null,{"$f":"SUM(I303:I322)","v":0},{"$f":"SUM(J303:J322)","v":0},null,null,null,null,null,null,null,true]
[null,null,null,null,null,{"$f":"ROUND(D303*E303,2)","v":0},null,null,{"$f":"ROUND(G303*H303,2)","v":0},{"$f":"F303+I303","v":0},null,null,{"$f":"ISBLANK(B303)","v":true},{"$f":"ISBLANK(C303)","v":true},true,true,{"$f":"M303+N303+O303+P303","v":4},{"$f":"IF(Q303=0,TRUE,FALSE)","v":false}]
[null,null,null,null,null,{"$f":"ROUND(D304*E304,2)","v":0},null,null,0,{"$f":"F304+I304","v":0},null,null,{"$f":"ISBLANK(B304)","v":true},true,true,true,{"$f":"M304+N304+O304+P304","v":4},{"$f":"IF(Q304=0,TRUE,FALSE)","v":false}]
[null,null,null,null,null,0,null,null,0,0,null,null,true,true,true,true,4,false]
[null,null,null,null,null,0,null,null,0,0,null,null,true,true,true,true,4,false]
[null,null,null,null,null,0,null,null,0,0,null,null,true,true,true,true,4,false]
[null,null,null,null,null,0,null,null,0,0,null,null,true,true,true,true,4,false]
[null,null,null,null,null,0,null,null,0,0,null,null,true,true,true,true,4,false]
[null,null,null,null,null,0,null,null,0,0,null,null,true,true,true,true,4,false]
[null,null,null,null,null,0,null,null,0,0,null,null,true,true,true,true,4,false]
[null,null,null,null,null,0,null,null,0,0,null,null,true,true,true,true,4,true]
[null,null,null,null,null,{"$f":"ROUND(D313*E313,2)","v":0},null,null,{"$f":"ROUND(G313*H313,2)","v":0},{"$f":"F313+I313","v":0},null,null,{"$f":"ISBLANK(B313)","v":true},{"$f":"ISBLANK(C313)","v":true},{"$f":"ISBLANK(D313)","v":true},{"$f":"ISBLANK(E313)","v":true},{"$f":"M313+N313+O313+P313","v":4},{"$f":"IF(Q313=0,TRUE,FALSE)","v":false}]
[null,null,null,null,null,{"$f":"ROUND(D314*E314,2)","v":0},null,null,0,{"$f":"F314+I314","v":0},null,null,{"$f":"ISBLANK(B314)","v":true},true,true,true,{"$f":"M314+N314+O314+P314","v":4},{"$f":"IF(Q314=0,TRUE,FALSE)","v":false}]
[null,null,null,null,null,0,null,null,0,0,null,null,true,true,true,true,4,false]
[null,null,null,null,null,0,null,null,0,0,null,null,true,true,true,true,4,false]
[null,null,null,null,null,0,null,null,0,0,null,null,true,true,true,true,4,false]
[null,null,null,null,null,0,null,null,0,0,null,null,true,true,true,true,4,false]
[null,null,null,null,null,0,null,null,0,0,null,null,true,true,true,true,4,false]
[null,null,null,null,null,0,null,null,0,0,null,null,true,true,true,true,4,false]
[null,null,null,null,null,0,null,null,0,0,null,null,true,true,true,true,4,false]
[null,null,null,null,null,0,null,null,0,0,null,null,true,true,true,true,4,true]
[null,"4.11  Interpreters, lecturers, trainers",null,null,null,{"$f":"SUM(F324:F343)","v":0},null,null,{"$f":"SUM(I324:I343)","v":0},{"$f":"SUM(J324:J343)","v":0},null,null,null,null,null,null,null,true]
[null,null,null,null,null,{"$f":"ROUND(D324*E324,2)","v":0},null,null,{"$f":"ROUND(G324*H324,2)","v":0},{"$f":"F324+I324","v":0},null,null,{"$f":"ISBLANK(B324)","v":true},{"$f":"ISBLANK(C324)","v":true},true,true,{"$f":"M324+N324+O324+P324","v":4},{"$f":"IF(Q324=0,TRUE,FALSE)","v":false}]
[null,null,null,null,null,{"$f":"ROUND(D325*E325,2)","v":0},null,null,0,{"$f":"F325+I325","v":0},null,null,{"$f":"ISBLANK(B325)","v":true},true,true,true,{"$f":"M325+N325+O325+P325","v":4},{"$f":"IF(Q325=0,TRUE,FALSE)","v":false}]
[null,null,null,null,null,0,null,null,0,0,null,null,true,true,true,true,4,false]
[null,null,null,null,null,0,null,null,0,0,null,null,true,true,true,true,4,false]
[null,null,null,null,null,0,null,null,0,0,null,null,true,true,true,true,4,false]
[null,null,null,null,null,0,null,null,0,0,null,null,true,true,true,true,4,false]
[null,null,null,null,null,0,null,null,0,0,null,null,true,true,true,true,4,false]
[null,null,null,null,null,0,null,null,0,0,null,null,true,true,true,true,4,false]
[null,null,null,null,null,0,null,null,0,0,null,null,true,true,true,true,4,false]
[null,null,null,null,null,0,null,null,0,0,null,null,true,true,true,true,4,true]
[null,null,null,null,null,{"$f":"ROUND(D334*E334,2)","v":0},null,null,{"$f":"ROUND(G334*H334,2)","v":0},{"$f":"F334+I334","v":0},null,null,{"$f":"ISBLANK(B334)","v":true},{"$f":"ISBLANK(C334)","v":true},{"$f":"ISBLANK(D334)","v":true},{"$f":"ISBLANK(E334)","v":true},{"$f":"M334+N334+O334+P334","v":4},{"$f":"IF(Q334=0,TRUE,FALSE)","v":false}]
[null,null,null,null,null,{"$f":"ROUND(D335*E335,2)","v":0},null,null,0,{"$f":"F335+I335","v":0},null,null,{"$f":"ISBLANK(B335)","v":true},true,true,true,{"$f":"M335+N335+O335+P335","v":4},{"$f":"IF(Q335=0,TRUE,FALSE)","v":false}]
[null,null,null,null,null,0,null,null,0,0,null,null,true,true,true,true,4,false]
[null,null,null,null,null,0,null,null,0,0,null,null,true,true,true,true,4,false]
[null,null,null,null,null,0,null,null,0,0,null,null,true,true,true,true,4,false]
[null,null,null,null,null,0,null,null,0,0,null,null,true,true,true,true,4,false]
[null,null,null,null,null,0,null,null,0,0,null,null,true,true,true,true,4,false]
[null,null,null,null,null,0,null,null,0,0,null,null,true,true,true,true,4,false]
[null,null,null,null,null,0,null,null,0,0,null,null,true,true,true,true,4,false]
[null,null,null,null,null,0,null,null,0,0,null,null,true,true,true,true,4,true]
[null,"4.12 Others",null,null,null,{"$f":"SUM(F345:F364)","v":0},null,null,{"$f":"SUM(I345:I364)","v":0},{"$f":"SUM(J345:J364)","v":0},null,null,null,null,null,null,null,true]
[null,null,null,null,null,{"$f":"ROUND(D345*E345,2)","v":0},null,null,{"$f":"ROUND(G345*H345,2)","v":0},{"$f":"F345+I345","v":0},null,null,{"$f":"ISBLANK(B345)","v":true},{"$f":"ISBLANK(C345)","v":true},true,true,{"$f":"M345+N345+O345+P345","v":4},{"$f":"IF(Q345=0,TRUE,FALSE)","v":false}]
[null,null,null,null,null,{"$f":"ROUND(D346*E346,2)","v":0},null,null,0,{"$f":"F346+I346","v":0},null,null,{"$f":"ISBLANK(B346)","v":true},true,true,true,{"$f":"M346+N346+O346+P346","v":4},{"$f":"IF(Q346=0,TRUE,FALSE)","v":false}]
[null,null,null,null,null,0,null,null,0,0,null,null,true,true,true,true,4,false]
[null,null,null,null,null,0,null,null,0,0,null,null,true,true,true,true,4,false]
[null,null,null,null,null,0,null,null,0,0,null,null,true,true,true,true,4,false]
[null,null,null,null,null,0,null,null,0,0,null,null,true,true,true,true,4,false]
[null,null,null,null,null,0,null,null,0,0,null,null,true,true,true,true,4,false]
[null,null,null,null,null,0,null,null,0,0,null,null,true,true,true,true,4,false]
[null,null,null,null,null,0,null,null,0,0,null,null,true,true,true,true,4,false]
[null,null,null,null,null,0,null,null,0,0,null,null,true,true,true,true,4,true]
[null,null,null,null,null,{"$f":"ROUND(D355*E355,2)","v":0},null,null,{"$f":"ROUND(G355*H355,2)","v":0},{"$f":"F355+I355","v":0},null,null,{"$f":"ISBLANK(B355)","v":true},{"$f":"ISBLANK(C355)","v":true},{"$f":"ISBLANK(D355)","v":true},{"$f":"ISBLANK(E355)","v":true},{"$f":"M355+N355+O355+P355","v":4},{"$f":"IF(Q355=0,TRUE,FALSE)","v":false}]
[null,null,null,null,null,{"$f":"ROUND(D356*E356,2)","v":0},null,null,0,{"$f":"F356+I356","v":0},null,null,{"$f":"ISBLANK(B356)","v":true},true,true,true,{"$f":"M356+N356+O356+P356","v":4},{"$f":"IF(Q356=0,TRUE,FALSE)","v":false}]
[null,null,null,null,null,0,null,null,0,0,null,null,true,true,true,true,4,false]
[null,null,null,null,null,0,null,null,0,0,null,null,true,true,true,true,4,false]
[null,null,null,null,null,0,null,null,0,0,null,null,true,true,true,true,4,false]
[null,null,null,null,null,0,null,null,0,0,null,null,true,true,true,true,4,false]
[null,null,null,null,null,0,null,null,0,0,null,null,true,true,true,true,4,false]
[null,null,null,null,null,0,null,null,0,0,null,null,true,true,true,true,4,false]
[null,null,null,null,null,0,null,null,0,0,null,null,true,true,true,true,4,false]
[null,null,null,null,null,0,null,null,0,0,null,null,true,true,true,true,4,true]
[null,"TOTAL",null,null,null,{"$f":"F344+F323+F302+F281+F260+F239+F218+F197+F176+F155+F134+F113","v":0},null,null,{"$f":"I344+I323+I302+I281+I260+I239+I218+I197+I176+I155+I134+I113","v":0},{"$f":"J344+J323+J302+J281+J260+J239+J218+J197+J176+J155+J134+J113","v":0},null,null,null,null,null,null,null,true]
[null,null,null,null,null,null,null,null,null,null,null,null,{"$f":"O370+P370+N366","v":2},{"$f":"M28=\"Soft\"","v":false},null,null,null,true]
[null,"BL5 - EQUIPMENT AND WORKS","Unit","Expenditures in the eligible area",null,null,"N/A",null,null,"TOTAL",null,null,null,null,null,null,null,true]
[null,null,null,"Units","Unit rate","TOTAL","Units","Unit rate","TOTAL",null,null,null,null,null,null,null,null,true]
[null,"5.1 Small scale construction",null,null,null,{"$f":"SUM(F370:F389)","v":0},null,null,{"$f":"SUM(I370:I389)","v":0},{"$f":"SUM(J370:J389)","v":0},null,null,null,null,null,null,null,true]
[null,null,null,null,null,{"$f":"ROUND(D370*E370,2)","v":0},null,null,{"$f":"ROUND(G370*H370,2)","v":0},{"$f":"F370+I370","v":0},null,null,{"$f":"ISBLANK(B370)","v":true},{"$f":"ISBLANK(C370)","v":true},true,true,{"$f":"M370+N370+O370+P370","v":4},{"$f":"IF(Q370=0,TRUE,FALSE)","v":false}]
[null,null,null,null,null,{"$f":"ROUND(D371*E371,2)","v":0},null,null,0,{"$f":"F371+I371","v":0},null,null,{"$f":"ISBLANK(B371)","v":true},true,true,true,{"$f":"M371+N371+O371+P371","v":4},{"$f":"IF(Q371=0,TRUE,FALSE)","v":false}]
[null,null,null,null,null,0,null,null,0,0,null,null,true,true,true,true,4,false]
[null,null,null,null,null,0,null,null,0,0,null,null,true,true,true,true,4,false]
[null,null,null,null,null,0,null,null,0,0,null,null,true,true,true,true,4,false]
[null,null,null,null,null,0,null,null,0,0,null,null,true,true,true,true,4,false]
[null,null,null,null,null,0,null,null,0,0,null,null,true,true,true,true,4,false]
[null,null,null,null,null,0,null,null,0,0,null,null,true,true,true,true,4,false]
[null,null,null,null,null,0,null,null,0,0,null,null,true,true,true,true,4,false]
[null,null,null,null,null,0,null,null,0,0,null,null,true,true,true,true,4,true]
[null,null,null,null,null,{"$f":"ROUND(D380*E380,2)","v":0},null,null,{"$f":"ROUND(G380*H380,2)","v":0},{"$f":"F380+I380","v":0},null,null,{"$f":"ISBLANK(B380)","v":true},{"$f":"ISBLANK(C380)","v":true},{"$f":"ISBLANK(D380)","v":true},{"$f":"ISBLANK(E380)","v":true},{"$f":"M380+N380+O380+P380","v":4},{"$f":"IF(Q380=0,TRUE,FALSE)","v":false}]
[null,null,null,null,null,{"$f":"ROUND(D381*E381,2)","v":0},null,null,0,{"$f":"F381+I381","v":0},null,null,{"$f":"ISBLANK(B381)","v":true},true,true,true,{"$f":"M381+N381+O381+P381","v":4},{"$f":"IF(Q381=0,TRUE,FALSE)","v":false}]
[null,null,null,null,null,0,null,null,0,0,null,null,true,true,true,true,4,false]
[null,null,null,null,null,0,null,null,0,0,null,null,true,true,true,true,4,false]
[null,null,null,null,null,0,null,null,0,0,null,null,true,true,true,true,4,false]
[null,null,null,null,null,0,null,null,0,0,null,null,true,true,true,true,4,false]
[null,null,null,null,null,0,null,null,0,0,null,null,true,true,true,true,4,false]
[null,null,null,null,null,0,null,null,0,0,null,null,true,true,true,true,4,false]
[null,null,null,null,null,0,null,null,0,0,null,null,true,true,true,true,4,false]
[null,null,null,null,null,0,null,null,0,0,null,null,true,true,true,true,4,true]
[null,"5.2 Supply",null,null,null,{"$f":"SUM(F391:F410)","v":0},null,null,{"$f":"SUM(I391:I410)","v":0},{"$f":"SUM(J391:J410)","v":0},null,null,null,null,null,null,null,true]
[null,null,null,null,null,{"$f":"ROUND(D391*E391,2)","v":0},null,null,{"$f":"ROUND(G391*H391,2)","v":0},{"$f":"F391+I391","v":0},null,null,{"$f":"ISBLANK(B391)","v":true},{"$f":"ISBLANK(C391)","v":true},true,true,{"$f":"M391+N391+O391+P391","v":4},{"$f":"IF(Q391=0,TRUE,FALSE)","v":false}]
[null,null,null,null,null,{"$f":"ROUND(D392*E392,2)","v":0},null,null,0,{"$f":"F392+I392","v":0},null,null,{"$f":"ISBLANK(B392)","v":true},true,true,true,{"$f":"M392+N392+O392+P392","v":4},{"$f":"IF(Q392=0,TRUE,FALSE)","v":false}]
[null,null,null,null,null,0,null,null,0,0,null,null,true,true,true,true,4,false]
[null,null,null,null,null,0,null,null,0,0,null,null,true,true,true,true,4,false]
[null,null,null,null,null,0,null,null,0,0,null,null,true,true,true,true,4,false]
[null,null,null,null,null,0,null,null,0,0,null,null,true,true,true,true,4,false]
[null,null,null,null,null,0,null,null,0,0,null,null,true,true,true,true,4,false]
[null,null,null,null,null,0,null,null,0,0,null,null,true,true,true,true,4,false]
[null,null,null,null,null,0,null,null,0,0,null,null,true,true,true,true,4,false]
[null,null,null,null,null,0,null,null,0,0,null,null,true,true,true,true,4,true]
[null,null,null,null,null,{"$f":"ROUND(D401*E401,2)","v":0},null,null,{"$f":"ROUND(G401*H401,2)","v":0},{"$f":"F401+I401","v":0},null,null,{"$f":"ISBLANK(B401)","v":true},{"$f":"ISBLANK(C401)","v":true},{"$f":"ISBLANK(D401)","v":true},{"$f":"ISBLANK(E401)","v":true},{"$f":"M401+N401+O401+P401","v":4},{"$f":"IF(Q401=0,TRUE,FALSE)","v":false}]
[null,null,null,null,null,{"$f":"ROUND(D402*E402,2)","v":0},null,null,0,{"$f":"F402+I402","v":0},null,null,{"$f":"ISBLANK(B402)","v":true},true,true,true,{"$f":"M402+N402+O402+P402","v":4},{"$f":"IF(Q402=0,TRUE,FALSE)","v":false}]
[null,null,null,null,null,0,null,null,0,0,null,null,true,true,true,true,4,false]
[null,null,null,null,null,0,null,null,0,0,null,null,true,true,true,true,4,false]
[null,null,null,null,null,0,null,null,0,0,null,null,true,true,true,true,4,false]
[null,null,null,null,null,0,null,null,0,0,null,null,true,true,true,true,4,false]
[null,null,null,null,null,0,null,null,0,0,null,null,true,true,true,true,4,false]
[null,null,null,null,null,0,null,null,0,0,null,null,true,true,true,true,4,false]
[null,null,null,null,null,0,null,null,0,0,null,null,true,true,true,true,4,false]
[null,null,null,null,null,0,null,null,0,0,null,null,true,true,true,true,4,true]
[null,"TOTAL",null,null,null,{"$f":"F390+F369","v":0},null,null,{"$f":"I390+I369","v":0},{"$f":"J390+J369","v":0},null,null,null,null,null,null,null,true]
[null,null,null,null,null,null,null,null,null,null,null,null,null,null,null,null,null,true]
[null,"BL6 - PROJECT PREPARATION","Unit","Expenditures in the eligible area",null,null,"N/A",null,null,"TOTAL",null,null,null,null,null,null,null,true]
[null,null,null,"Units","Unit rate","TOTAL","Units","Unit rate","TOTAL",null,null,null,null,null,null,null,null,true]
[null,"6.1.Preparation of Application package ",null,null,null,{"$f":"SUM(F416:F425)","v":0},null,null,{"$f":"SUM(I416:I425)","v":0},{"$f":"SUM(J416:J425)","v":0}]
[null,null,null,null,null,{"$f":"ROUND(D416*E416,2)","v":0},null,null,{"$f":"ROUND(G416*H416,2)","v":0},{"$f":"F416+I416","v":0},null,null,{"$f":"ISBLANK(B416)","v":true},{"$f":"ISBLANK(C416)","v":true},true,true,{"$f":"M416+N416+O416+P416","v":4},{"$f":"IF(Q416=0,TRUE,FALSE)","v":false}]
[null,null,null,null,null,{"$f":"ROUND(D417*E417,2)","v":0},null,null,0,{"$f":"F417+I417","v":0},null,null,{"$f":"ISBLANK(B417)","v":true},true,true,true,{"$f":"M417+N417+O417+P417","v":4},{"$f":"IF(Q417=0,TRUE,FALSE)","v":false}]
[null,null,null,null,null,0,null,null,0,0,null,null,true,true,true,true,4,false]
[null,null,null,null,null,0,null,null,0,0,null,null,true,true,true,true,4,false]
[null,null,null,null,null,0,null,null,0,0,null,null,true,true,true,true,4,false]
[null,null,null,null,null,0,null,null,0,0,null,null,true,true,true,true,4,false]
[null,null,null,null,null,0,null,null,0,0,null,null,true,true,true,true,4,false]
[null,null,null,null,null,0,null,null,0,0,null,null,true,true,true,true,4,false]
[null,null,null,null,null,0,null,null,0,0,null,null,true,true,true,true,4,false]
[null,null,null,null,null,0,null,null,0,0,null,null,true,true,true,true,4,true]
[null,"6.2 Preparation of technical documentation ",null,null,null,{"$f":"SUM(F427:F436)","v":0},null,null,{"$f":"SUM(I427:I436)","v":0},{"$f":"SUM(J427:J436)","v":0},null,null,{"$f":"ISBLANK(B426)","v":false},true,true,true,{"$f":"M426+N426+O426+P426","v":3},{"$f":"IF(Q426=0,TRUE,FALSE)","v":false}]
[null,null,null,null,null,{"$f":"ROUND(D427*E427,2)","v":0},null,null,{"$f":"ROUND(G427*H427,2)","v":0},{"$f":"F427+I427","v":0},null,null,{"$f":"ISBLANK(B427)","v":true}]
[null,null,null,null,null,0,null,null,0,0,null,null,{"$f":"ISBLANK(B428)","v":true},true,true,true,{"$f":"M428+N428+O428+P428","v":4},{"$f":"IF(Q428=0,TRUE,FALSE)","v":false}]
[null,null,null,null,null,0,null,null,0,0,null,null,true,true,true,true,4,false]
[null,null,null,null,null,0,null,null,0,0,null,null,true,true,true,true,4,false]
[null,null,null,null,null,0,null,null,0,0,null,null,true,true,true,true,4,false]
[null,null,null,null,null,0,null,null,0,0,null,null,true,true,true,true,4,false]
[null,null,null,null,null,0,null,null,0,0,null,null,true,true,true,true,4,false]
[null,null,null,null,null,0,null,null,0,0,null,null,true,true,true,true,4,false]
[null,null,null,null,null,0,null,null,0,0,null,null,true,true,true,true,4,false]
[null,null,null,null,null,0,null,null,0,0,null,null,true,true,true,true,4,false]
[null,"TOTAL",null,null,null,{"$f":"F415+F426","v":0},null,null,{"$f":"I415+I426","v":0},{"$f":"J415+J426","v":0},null,null,null,null,null,null,null,true]
[null,null,null,null,null,null,null,null,null,null,null,null,null,null,null,null,null,true]
[null,"Own Contribution",null,null,null,"Unit","Units","Unit rate","TOTAL",null,null,null,"Units out","Units rate out","Total out","Total in",null,true]
[null,null,null,null,null,null,null,null,{"$f":"ROUND(G440*H440,2)","v":0},null,null,null,null,null,null,null,null,true]
[null,null,null,"Expenditures outside the eligible area exceed 20 %! Reconsider budget distribution!",null,null,null,null,null,null,null,null,null,null,null,null,null,true]
[null,"Total direct project costs VAT incl. (BL3+BL4+BL5)",null,null,null,{"$f":"F411+F365+F109","v":0},{"$f":"I411+I109+I365","v":0},null,null,{"$f":"J411+J365+J109","v":0},null,null,null,null,null,null,null,true]
[null,"TOTAL PROJECT COSTS",null,null,null,{"$f":"F442+F437+I6+I31+I440","v":0},{"$f":"G442+I437","v":0},null,null,{"$f":"F443+G443","v":0},null,null,null,null,null,null,null,true]

{"sheet":"T2-B(PP4)","index":13,"n_rows":443,"n_cols":18,"rows_kept":443,"cut":false,"hidden":true,"merged":[[5,1,5,7],[5,8,5,9],[2,1,3,5],[2,6,2,7],[2,8,3,9],[3,6,3,7],[4,1,4,5],[4,6,4,7],[4,8,4,9],[441,1,441,4],[441,6,441,8],[442,1,442,4],[442,6,442,8],[436,1,436,4],[436,6,436,7],[438,1,438,4],[438,8,438,9],[439,1,439,4],[439,8,439,9],[412,9,413,9],[410,1,410,4],[410,6,410,7],[412,1,413,1],[412,2,413,2],[412,3,412,5],[412,6,412,8],[364,1,364,4],[364,6,364,7],[366,1,367,1],[366,2,367,2],[366,3,366,5],[366,6,366,8],[365,3,365,9],[366,9,367,9],[110,1,111,1],[110,2,111,2],[110,3,110,5],[110,6,110,8],[110,9,111,9],[29,8,29,9],[30,1,30,7],[30,8,30,9],[32,1,33,1],[32,2,33,2],[32,3,32,5],[32,6,32,8],[32,9,33,9],[29,1,29,5],[29,6,29,7],[27,1,28,5],[27,6,27,7],[27,8,28,9],[28,6,28,7]]}
[null,"TABLE 2 - DETAILED BREAKDOWN OF BUDGET LINES - PP4",null,null,null,null,null,null,null,null,null,null,null,null,null,null,null,true]
[null,null,null,null,null,null,null,null,null,null,null,null,null,null,null,null,null,true]
[null,"BL1 - STAFF COSTS",null,null,null,null,"Flat rate",null,"TOTAL",null,null,null,null,null,null,null,null,true]
[null,null,null,null,null,null,"%",null,null,null,null,null,null,null,null,null,null,true]
[null,{"$f":"M5","v":"Investment project"},null,null,null,null,0,null,{"$f":"SUM(J7:J26)","v":0},null,null,"visible/hidden depending on project identification",{"$f":"CONCATENATE('Project identification'!C15,\" project\")","v":"Investment project"},null,null,null,10,true]
[null,"TOTAL",null,null,null,null,null,null,{"$f":"I5","v":0},null,null,null,null,null,{"$f":"IF(#REF!=\"Soft\",15,10)","v":{"$error":"#REF!"}},null,15,true]
[null,null,null,null,null,{"$f":"ROUND(D7*E7,2)","v":0},null,null,{"$f":"ROUND(G7*H7,2)","v":0},{"$f":"F7+I7","v":0},null,null,{"$f":"ISBLANK(B7)","v":true},{"$f":"ISBLANK(C7)","v":true},{"$f":"ISBLANK(D7)","v":true},{"$f":"ISBLANK(E7)","v":true},{"$f":"M7+N7+O7+P7","v":4},{"$f":"IF(Q7=0,TRUE,FALSE)","v":false}]
[null,null,null,null,null,{"$f":"ROUND(D8*E8,2)","v":0},null,null,{"$f":"ROUND(G8*H8,2)","v":0},{"$f":"F8+I8","v":0},null,null,{"$f":"ISBLANK(B8)","v":true},true,true,true,{"$f":"M8+N8+O8+P8","v":4},{"$f":"IF(Q8=0,TRUE,FALSE)","v":false}]
[null,null,null,null,null,0,null,null,0,0,null,null,true,true,true,true,4,false]
[null,null,null,null,null,0,null,null,0,0,null,null,true,true,true,true,4,false]
[null,null,null,null,null,0,null,null,0,0,null,null,true,true,true,true,4,false]
[null,null,null,null,null,0,null,null,0,0,null,null,true,true,true,true,4,false]
[null,null,null,null,null,0,null,null,0,0,null,null,true,true,true,true,4,false]
[null,null,null,null,null,0,null,null,0,0,null,null,true,true,true,true,4,false]
[null,null,null,null,null,0,null,null,0,0,null,null,true,true,true,true,4,false]
[null,null,null,null,null,0,null,null,0,0,null,null,true,true,true,true,4,true]
[null,null,null,null,null,{"$f":"ROUND(D17*E17,2)","v":0},null,null,{"$f":"ROUND(G17*H17,2)","v":0},{"$f":"F17+I17","v":0},null,null,true,{"$f":"ISBLANK(C17)","v":true},{"$f":"ISBLANK(D17)","v":true},{"$f":"ISBLANK(E17)","v":true},{"$f":"M17+N17+O17+P17","v":4},{"$f":"IF(Q17=0,TRUE,FALSE)","v":false}]
[null,null,null,null,null,{"$f":"ROUND(D18*E18,2)","v":0},null,null,{"$f":"ROUND(G18*H18,2)","v":0},{"$f":"F18+I18","v":0},null,null,true,true,true,true,{"$f":"M18+N18+O18+P18","v":4},{"$f":"IF(Q18=0,TRUE,FALSE)","v":false}]
[null,null,null,null,null,0,null,null,0,0,null,null,true,true,true,true,4,false]
[null,null,null,null,null,0,null,null,0,0,null,null,true,true,true,true,4,false]
[null,null,null,null,null,0,null,null,0,0,null,null,true,true,true,true,4,false]
[null,null,null,null,null,0,null,null,0,0,null,null,true,true,true,true,4,false]
[null,null,null,null,null,0,null,null,0,0,null,null,true,true,true,true,4,false]
[null,null,null,null,null,0,null,null,0,0,null,null,true,true,true,true,4,false]
[null,null,null,null,null,0,null,null,0,0,null,null,true,true,true,true,4,false]
[null,null,null,null,null,0,null,null,0,0,null,null,true,true,true,true,4,true]
[null,null,null,null,null,null,null,null,null,null,null,null,null,null,null,null,null,true]
[null,"BL2 - OFFICE AND ADMINISTRATIVE COSTS",null,null,null,null,"Flat rate",null,"TOTAL",null,null,null,{"$f":"'Project identification'!C15","v":"Investment"},null,null,null,null,true]
[null,null,null,null,null,null,"%",null,null,null,null,null,null,null,null,null,null,true]
[null,{"$f":"M5","v":"Investment project"},null,null,null,null,0,null,{"$f":"ROUND(G30*I5/100,2)","v":0},null,null,"visible/hidden depending on project identification",null,null,null,null,2,true]
[null,"TOTAL",null,null,null,null,null,null,{"$f":"I30","v":0},null,null,null,null,null,{"$f":"IF(M28=\"Soft\",20,15)","v":15},null,5,true]
[null,null,null,null,null,null,null,null,null,null,null,null,null,null,null,null,null,true]
[null,"BL3 - TRAVEL AND ACCOMMODATION","Unit","Expenditures in the eligible area",null,null,"Expenditures outside of the eligible area",null,null,"TOTAL",null,null,null,null,null,null,null,true]
[null,null,null,"Units","Unit rate","TOTAL","Units","Unit rate","TOTAL",null,null,null,null,null,null,null,null,true]
[null,"3.1 Travel costs",null,null,null,{"$f":"SUM(F36:F55)","v":0},null,null,{"$f":"SUM(I36:I55)","v":0},{"$f":"SUM(J36:J55)","v":0},null,"Add",null,null,null,null,null,true]
[null,null,null,null,null,{"$f":"ROUND(D36*E36,2)","v":0},null,null,{"$f":"ROUND(G36*H36,2)","v":0},{"$f":"F36+I36","v":0},null,null,{"$f":"ISBLANK(B36)","v":true},{"$f":"ISBLANK(C36)","v":true},true,true,{"$f":"M36+N36+O36+P36","v":4},{"$f":"IF(Q36=0,TRUE,FALSE)","v":false}]
[null,null,null,null,null,{"$f":"ROUND(D37*E37,2)","v":0},null,null,0,{"$f":"F37+I37","v":0},null,null,{"$f":"ISBLANK(B37)","v":true},true,true,true,{"$f":"M37+N37+O37+P37","v":4},{"$f":"IF(Q37=0,TRUE,FALSE)","v":false}]
[null,null,null,null,null,0,null,null,0,0,null,null,true,true,true,true,4,false]
[null,null,null,null,null,0,null,null,0,0,null,null,true,true,true,true,4,false]
[null,null,null,null,null,0,null,null,0,0,null,null,true,true,true,true,4,false]
[null,null,null,null,null,0,null,null,0,0,null,null,true,true,true,true,4,false]
[null,null,null,null,null,0,null,null,0,0,null,null,true,true,true,true,4,false]
[null,null,null,null,null,0,null,null,0,0,null,null,true,true,true,true,4,false]
[null,null,null,null,null,0,null,null,0,0,null,null,true,true,true,true,4,false]
[null,null,null,null,null,0,null,null,0,0,null,null,true,true,true,true,4,true]
[null,null,null,null,null,{"$f":"ROUND(D46*E46,2)","v":0},null,null,{"$f":"ROUND(G46*H46,2)","v":0},{"$f":"F46+I46","v":0},null,null,{"$f":"ISBLANK(B46)","v":true},{"$f":"ISBLANK(C46)","v":true},{"$f":"ISBLANK(D46)","v":true},{"$f":"ISBLANK(E46)","v":true},{"$f":"M46+N46+O46+P46","v":4},{"$f":"IF(Q46=0,TRUE,FALSE)","v":false}]
[null,null,null,null,null,{"$f":"ROUND(D47*E47,2)","v":0},null,null,0,{"$f":"F47+I47","v":0},null,null,{"$f":"ISBLANK(B47)","v":true},true,true,true,{"$f":"M47+N47+O47+P47","v":4},{"$f":"IF(Q47=0,TRUE,FALSE)","v":false}]
[null,null,null,null,null,0,null,null,0,0,null,null,true,true,true,true,4,false]
[null,null,null,null,null,0,null,null,0,0,null,null,true,true,true,true,4,false]
[null,null,null,null,null,0,null,null,0,0,null,null,true,true,true,true,4,false]
[null,null,null,null,null,0,null,null,0,0,null,null,true,true,true,true,4,false]
[null,null,null,null,null,0,null,null,0,0,null,null,true,true,true,true,4,false]
[null,null,null,null,null,0,null,null,0,0,null,null,true,true,true,true,4,false]
[null,null,null,null,null,0,null,null,0,0,null,null,true,true,true,true,4,false]
[null,null,null,null,null,0,null,null,0,0,null,null,true,true,true,true,4,true]
[null,"3.2 Daily allowances",null,null,null,{"$f":"SUM(F57:F76)","v":0},null,null,{"$f":"SUM(I57:I76)","v":0},{"$f":"SUM(J57:J76)","v":0},null,"add (10 items)",null,null,null,null,null,true]
[null,null,null,null,null,{"$f":"ROUND(D57*E57,2)","v":0},null,null,{"$f":"ROUND(G57*H57,2)","v":0},{"$f":"F57+I57","v":0},null,null,{"$f":"ISBLANK(B57)","v":true},{"$f":"ISBLANK(C57)","v":true},true,true,{"$f":"M57+N57+O57+P57","v":4},{"$f":"IF(Q57=0,TRUE,FALSE)","v":false}]
[null,null,null,null,null,{"$f":"ROUND(D58*E58,2)","v":0},null,null,0,{"$f":"F58+I58","v":0},null,null,{"$f":"ISBLANK(B58)","v":true},true,true,true,{"$f":"M58+N58+O58+P58","v":4},{"$f":"IF(Q58=0,TRUE,FALSE)","v":false}]
[null,null,null,null,null,0,null,null,0,0,null,null,true,true,true,true,4,false]
[null,null,null,null,null,0,null,null,0,0,null,null,true,true,true,true,4,false]
[null,null,null,null,null,0,null,null,0,0,null,null,true,true,true,true,4,false]
[null,null,null,null,null,0,null,null,0,0,null,null,true,true,true,true,4,false]
[null,null,null,null,null,0,null,null,0,0,null,null,true,true,true,true,4,false]
[null,null,null,null,null,0,null,null,0,0,null,null,true,true,true,true,4,false]
[null,null,null,null,null,0,null,null,0,0,null,null,true,true,true,true,4,false]
[null,null,null,null,null,0,null,null,0,0,null,null,true,true,true,true,4,true]
[null,null,null,null,null,{"$f":"ROUND(D67*E67,2)","v":0},null,null,{"$f":"ROUND(G67*H67,2)","v":0},{"$f":"F67+I67","v":0},null,null,{"$f":"ISBLANK(B67)","v":true},{"$f":"ISBLANK(C67)","v":true},{"$f":"ISBLANK(D67)","v":true},{"$f":"ISBLANK(E67)","v":true},{"$f":"M67+N67+O67+P67","v":4},{"$f":"IF(Q67=0,TRUE,FALSE)","v":false}]
[null,null,null,null,null,{"$f":"ROUND(D68*E68,2)","v":0},null,null,0,{"$f":"F68+I68","v":0},null,null,{"$f":"ISBLANK(B68)","v":true},true,true,true,{"$f":"M68+N68+O68+P68","v":4},{"$f":"IF(Q68=0,TRUE,FALSE)","v":false}]
[null,null,null,null,null,0,null,null,0,0,null,null,true,true,true,true,4,false]
[null,null,null,null,null,0,null,null,0,0,null,null,true,true,true,true,4,false]
[null,null,null,null,null,0,null,null,0,0,null,null,true,true,true,true,4,false]
[null,null,null,null,null,0,null,null,0,0,null,null,true,true,true,true,4,false]
[null,null,null,null,null,0,null,null,0,0,null,null,true,true,true,true,4,false]
[null,null,null,null,null,0,null,null,0,0,null,null,true,true,true,true,4,false]
[null,null,null,null,null,0,null,null,0,0,null,null,true,true,true,true,4,false]
[null,null,null,null,null,0,null,null,0,0,null,null,true,true,true,true,4,true]
[null,"3.3 Accommodation costs",null,null,null,{"$f":"SUM(F78:F97)","v":0},null,null,{"$f":"SUM(I78:I97)","v":0},{"$f":"SUM(J78:J97)","v":0},null,null,null,null,null,null,null,true]
[null,null,null,null,null,{"$f":"ROUND(D78*E78,2)","v":0},null,null,{"$f":"ROUND(G78*H78,2)","v":0},{"$f":"F78+I78","v":0},null,null,{"$f":"ISBLANK(B78)","v":true},{"$f":"ISBLANK(C78)","v":true},true,true,{"$f":"M78+N78+O78+P78","v":4},{"$f":"IF(Q78=0,TRUE,FALSE)","v":false}]
[null,null,null,null,null,{"$f":"ROUND(D79*E79,2)","v":0},null,null,0,{"$f":"F79+I79","v":0},null,null,{"$f":"ISBLANK(B79)","v":true},true,true,true,{"$f":"M79+N79+O79+P79","v":4},{"$f":"IF(Q79=0,TRUE,FALSE)","v":false}]
[null,null,null,null,null,0,null,null,0,0,null,null,true,true,true,true,4,false]
[null,null,null,null,null,0,null,null,0,0,null,null,true,true,true,true,4,false]
[null,null,null,null,null,0,null,null,0,0,null,null,true,true,true,true,4,false]
[null,null,null,null,null,0,null,null,0,0,null,null,true,true,true,true,4,false]
[null,null,null,null,null,0,null,null,0,0,null,null,true,true,true,true,4,false]
[null,null,null,null,null,0,null,null,0,0,null,null,true,true,true,true,4,false]
[null,null,null,null,null,0,null,null,0,0,null,null,true,true,true,true,4,false]
[null,null,null,null,null,0,null,null,0,0,null,null,true,true,true,true,4,true]
[null,null,null,null,null,{"$f":"ROUND(D88*E88,2)","v":0},null,null,{"$f":"ROUND(G88*H88,2)","v":0},{"$f":"F88+I88","v":0},null,null,{"$f":"ISBLANK(B88)","v":true},{"$f":"ISBLANK(C88)","v":true},{"$f":"ISBLANK(D88)","v":true},{"$f":"ISBLANK(E88)","v":true},{"$f":"M88+N88+O88+P88","v":4},{"$f":"IF(Q88=0,TRUE,FALSE)","v":false}]
[null,null,null,null,null,{"$f":"ROUND(D89*E89,2)","v":0},null,null,0,{"$f":"F89+I89","v":0},null,null,{"$f":"ISBLANK(B89)","v":true},true,true,true,{"$f":"M89+N89+O89+P89","v":4},{"$f":"IF(Q89=0,TRUE,FALSE)","v":false}]
[null,null,null,null,null,0,null,null,0,0,null,null,true,true,true,true,4,false]
[null,null,null,null,null,0,null,null,0,0,null,null,true,true,true,true,4,false]
[null,null,null,null,null,0,null,null,0,0,null,null,true,true,true,true,4,false]
[null,null,null,null,null,0,null,null,0,0,null,null,true,true,true,true,4,false]
[null,null,null,null,null,0,null,null,0,0,null,null,true,true,true,true,4,false]
[null,null,null,null,null,0,null,null,0,0,null,null,true,true,true,true,4,false]
[null,null,null,null,null,0,null,null,0,0,null,null,true,true,true,true,4,false]
[null,null,null,null,null,0,null,null,0,0,null,null,true,true,true,true,4,true]
[null,"3.4 Visa costs",null,null,null,{"$f":"SUM(F99:F108)","v":0},null,null,{"$f":"SUM(I99:I108)","v":0},{"$f":"SUM(J99:J108)","v":0},null,null,null,null,null,null,null,true]
[null,null,null,null,null,{"$f":"ROUND(D99*E99,2)","v":0},null,null,{"$f":"ROUND(G99*H99,2)","v":0},{"$f":"F99+I99","v":0},null,null,{"$f":"ISBLANK(B99)","v":true},{"$f":"ISBLANK(C99)","v":true},true,true,{"$f":"M99+N99+O99+P99","v":4},{"$f":"IF(Q99=0,TRUE,FALSE)","v":false}]
[null,null,null,null,null,{"$f":"ROUND(D100*E100,2)","v":0},null,null,0,{"$f":"F100+I100","v":0},null,null,{"$f":"ISBLANK(B100)","v":true},true,true,true,{"$f":"M100+N100+O100+P100","v":4},{"$f":"IF(Q100=0,TRUE,FALSE)","v":false}]
[null,null,null,null,null,0,null,null,0,0,null,null,true,true,true,true,4,false]
[null,null,null,null,null,0,null,null,0,0,null,null,true,true,true,true,4,false]
[null,null,null,null,null,0,null,null,0,0,null,null,true,true,true,true,4,false]
[null,null,null,null,null,0,null,null,0,0,null,null,true,true,true,true,4,false]
[null,null,null,null,null,0,null,null,0,0,null,null,true,true,true,true,4,false]
[null,null,null,null,null,0,null,null,0,0,null,null,true,true,true,true,4,false]
[null,null,null,null,null,0,null,null,0,0,null,null,true,true,true,true,4,false]
[null,null,null,null,null,0,null,null,0,0,null,null,true,true,true,true,4,true]
[null,"TOTAL",null,null,null,{"$f":"F98+F77+F56+F35","v":0},null,null,{"$f":"I98+I77+I56+I35","v":0},{"$f":"J98+J77+J56+J35","v":0},null,null,null,null,null,null,null,true]
[null,null,null,null,null,null,null,null,null,null,null,null,null,null,null,null,null,true]
[null,"BL4 - EXTERNAL EXPERTISE AND SERVICES COSTS","Unit","Expenditures in the eligible area",null,null,"Expenditures outside of the eligible area",null,null,"TOTAL",null,null,null,null,null,null,null,true]
[null,null,null,"Units","Unit rate","TOTAL","Units","Unit rate","TOTAL",null,null,null,null,null,null,null,null,true]
[null,"4.1 Rent of hall",null,null,null,{"$f":"SUM(F114:F133)","v":0},null,null,{"$f":"SUM(I114:I133)","v":0},{"$f":"SUM(J114:J133)","v":0},null,null,null,null,null,null,null,true]
[null,null,null,null,null,{"$f":"ROUND(D114*E114,2)","v":0},null,null,{"$f":"ROUND(G114*H114,2)","v":0},{"$f":"F114+I114","v":0},null,null,{"$f":"ISBLANK(B114)","v":true},{"$f":"ISBLANK(C114)","v":true},true,true,{"$f":"M114+N114+O114+P114","v":4},{"$f":"IF(Q114=0,TRUE,FALSE)","v":false}]
[null,null,null,null,null,{"$f":"ROUND(D115*E115,2)","v":0},null,null,0,{"$f":"F115+I115","v":0},null,null,{"$f":"ISBLANK(B115)","v":true},true,true,true,{"$f":"M115+N115+O115+P115","v":4},{"$f":"IF(Q115=0,TRUE,FALSE)","v":false}]
[null,null,null,null,null,0,null,null,0,0,null,null,true,true,true,true,4,false]
[null,null,null,null,null,0,null,null,0,0,null,null,true,true,true,true,4,false]
[null,null,null,null,null,0,null,null,0,0,null,null,true,true,true,true,4,false]
[null,null,null,null,null,0,null,null,0,0,null,null,true,true,true,true,4,false]
[null,null,null,null,null,0,null,null,0,0,null,null,true,true,true,true,4,false]
[null,null,null,null,null,0,null,null,0,0,null,null,true,true,true,true,4,false]
[null,null,null,null,null,0,null,null,0,0,null,null,true,true,true,true,4,false]
[null,null,null,null,null,0,null,null,0,0,null,null,true,true,true,true,4,true]
[null,null,null,null,null,{"$f":"ROUND(D124*E124,2)","v":0},null,null,{"$f":"ROUND(G124*H124,2)","v":0},{"$f":"F124+I124","v":0},null,null,{"$f":"ISBLANK(B124)","v":true},{"$f":"ISBLANK(C124)","v":true},{"$f":"ISBLANK(D124)","v":true},{"$f":"ISBLANK(E124)","v":true},{"$f":"M124+N124+O124+P124","v":4},{"$f":"IF(Q124=0,TRUE,FALSE)","v":false}]
[null,null,null,null,null,{"$f":"ROUND(D125*E125,2)","v":0},null,null,0,{"$f":"F125+I125","v":0},null,null,{"$f":"ISBLANK(B125)","v":true},true,true,true,{"$f":"M125+N125+O125+P125","v":4},{"$f":"IF(Q125=0,TRUE,FALSE)","v":false}]
[null,null,null,null,null,0,null,null,0,0,null,null,true,true,true,true,4,false]
[null,null,null,null,null,0,null,null,0,0,null,null,true,true,true,true,4,false]
[null,null,null,null,null,0,null,null,0,0,null,null,true,true,true,true,4,false]
[null,null,null,null,null,0,null,null,0,0,null,null,true,true,true,true,4,false]
[null,null,null,null,null,0,null,null,0,0,null,null,true,true,true,true,4,false]
[null,null,null,null,null,0,null,null,0,0,null,null,true,true,true,true,4,false]
[null,null,null,null,null,0,null,null,0,0,null,null,true,true,true,true,4,false]
[null,null,null,null,null,0,null,null,0,0,null,null,true,true,true,true,4,true]
[null,"4.2 Rent of equipment",null,null,null,{"$f":"SUM(F135:F154)","v":0},null,null,{"$f":"SUM(I135:I154)","v":0},{"$f":"SUM(J135:J154)","v":0},null,null,null,null,null,null,null,true]
[null,null,null,null,null,{"$f":"ROUND(D135*E135,2)","v":0},null,null,{"$f":"ROUND(G135*H135,2)","v":0},{"$f":"F135+I135","v":0},null,null,{"$f":"ISBLANK(B135)","v":true},{"$f":"ISBLANK(C135)","v":true},true,true,{"$f":"M135+N135+O135+P135","v":4},{"$f":"IF(Q135=0,TRUE,FALSE)","v":false}]
[null,null,null,null,null,{"$f":"ROUND(D136*E136,2)","v":0},null,null,0,{"$f":"F136+I136","v":0},null,null,{"$f":"ISBLANK(B136)","v":true},true,true,true,{"$f":"M136+N136+O136+P136","v":4},{"$f":"IF(Q136=0,TRUE,FALSE)","v":false}]
[null,null,null,null,null,0,null,null,0,0,null,null,true,true,true,true,4,false]
[null,null,null,null,null,0,null,null,0,0,null,null,true,true,true,true,4,false]
[null,null,null,null,null,0,null,null,0,0,null,null,true,true,true,true,4,false]
[null,null,null,null,null,0,null,null,0,0,null,null,true,true,true,true,4,false]
[null,null,null,null,null,0,null,null,0,0,null,null,true,true,true,true,4,false]
[null,null,null,null,null,0,null,null,0,0,null,null,true,true,true,true,4,false]
[null,null,null,null,null,0,null,null,0,0,null,null,true,true,true,true,4,false]
[null,null,null,null,null,0,null,null,0,0,null,null,true,true,true,true,4,true]
[null,null,null,null,null,{"$f":"ROUND(D145*E145,2)","v":0},null,null,{"$f":"ROUND(G145*H145,2)","v":0},{"$f":"F145+I145","v":0},null,null,{"$f":"ISBLANK(B145)","v":true},{"$f":"ISBLANK(C145)","v":true},{"$f":"ISBLANK(D145)","v":true},{"$f":"ISBLANK(E145)","v":true},{"$f":"M145+N145+O145+P145","v":4},{"$f":"IF(Q145=0,TRUE,FALSE)","v":false}]
[null,null,null,null,null,{"$f":"ROUND(D146*E146,2)","v":0},null,null,0,{"$f":"F146+I146","v":0},null,null,{"$f":"ISBLANK(B146)","v":true},true,true,true,{"$f":"M146+N146+O146+P146","v":4},{"$f":"IF(Q146=0,TRUE,FALSE)","v":false}]
[null,null,null,null,null,0,null,null,0,0,null,null,true,true,true,true,4,false]
[null,null,null,null,null,0,null,null,0,0,null,null,true,true,true,true,4,false]
[null,null,null,null,null,0,null,null,0,0,null,null,true,true,true,true,4,false]
[null,null,null,null,null,0,null,null,0,0,null,null,true,true,true,true,4,false]
[null,null,null,null,null,0,null,null,0,0,null,null,true,true,true,true,4,false]
[null,null,null,null,null,0,null,null,0,0,null,null,true,true,true,true,4,false]
[null,null,null,null,null,0,null,null,0,0,null,null,true,true,true,true,4,false]
[null,null,null,null,null,0,null,null,0,0,null,null,true,true,true,true,4,true]
[null,"4.3 Coffee breaks, refreshments, etc.",null,null,null,{"$f":"SUM(F156:F175)","v":0},null,null,{"$f":"SUM(I156:I175)","v":0},{"$f":"SUM(J156:J175)","v":0},null,null,null,null,null,null,null,true]
[null,null,null,null,null,{"$f":"ROUND(D156*E156,2)","v":0},null,null,{"$f":"ROUND(G156*H156,2)","v":0},{"$f":"F156+I156","v":0},null,null,{"$f":"ISBLANK(B156)","v":true},{"$f":"ISBLANK(C156)","v":true},true,true,{"$f":"M156+N156+O156+P156","v":4},{"$f":"IF(Q156=0,TRUE,FALSE)","v":false}]
[null,null,null,null,null,{"$f":"ROUND(D157*E157,2)","v":0},null,null,0,{"$f":"F157+I157","v":0},null,null,{"$f":"ISBLANK(B157)","v":true},true,true,true,{"$f":"M157+N157+O157+P157","v":4},{"$f":"IF(Q157=0,TRUE,FALSE)","v":false}]
[null,null,null,null,null,0,null,null,0,0,null,null,true,true,true,true,4,false]
[null,null,null,null,null,0,null,null,0,0,null,null,true,true,true,true,4,false]
[null,null,null,null,null,0,null,null,0,0,null,null,true,true,true,true,4,false]
[null,null,null,null,null,0,null,null,0,0,null,null,true,true,true,true,4,false]
[null,null,null,null,null,0,null,null,0,0,null,null,true,true,true,true,4,false]
[null,null,null,null,null,0,null,null,0,0,null,null,true,true,true,true,4,false]
[null,null,null,null,null,0,null,null,0,0,null,null,true,true,true,true,4,false]
[null,null,null,null,null,0,null,null,0,0,null,null,true,true,true,true,4,true]
[null,null,null,null,null,{"$f":"ROUND(D166*E166,2)","v":0},null,null,{"$f":"ROUND(G166*H166,2)","v":0},{"$f":"F166+I166","v":0},null,null,{"$f":"ISBLANK(B166)","v":true},{"$f":"ISBLANK(C166)","v":true},{"$f":"ISBLANK(D166)","v":true},{"$f":"ISBLANK(E166)","v":true},{"$f":"M166+N166+O166+P166","v":4},{"$f":"IF(Q166=0,TRUE,FALSE)","v":false}]
[null,null,null,null,null,{"$f":"ROUND(D167*E167,2)","v":0},null,null,0,{"$f":"F167+I167","v":0},null,null,{"$f":"ISBLANK(B167)","v":true},true,true,true,{"$f":"M167+N167+O167+P167","v":4},{"$f":"IF(Q167=0,TRUE,FALSE)","v":false}]
[null,null,null,null,null,0,null,null,0,0,null,null,true,true,true,true,4,false]
[null,null,null,null,null,0,null,null,0,0,null,null,true,true,true,true,4,false]
[null,null,null,null,null,0,null,null,0,0,null,null,true,true,true,true,4,false]
[null,null,null,null,null,0,null,null,0,0,null,null,true,true,true,true,4,false]
[null,null,null,null,null,0,null,null,0,0,null,null,true,true,true,true,4,false]
[null,null,null,null,null,0,null,null,0,0,null,null,true,true,true,true,4,false]
[null,null,null,null,null,0,null,null,0,0,null,null,true,true,true,true,4,false]
[null,null,null,null,null,0,null,null,0,0,null,null,true,true,true,true,4,true]
[null,"4.4 Consumables",null,null,null,{"$f":"SUM(F177:F196)","v":0},null,null,{"$f":"SUM(I177:I196)","v":0},{"$f":"SUM(J177:J196)","v":0},null,null,null,null,null,null,null,true]
[null,null,null,null,null,{"$f":"ROUND(D177*E177,2)","v":0},null,null,{"$f":"ROUND(G177*H177,2)","v":0},{"$f":"F177+I177","v":0},null,null,{"$f":"ISBLANK(B177)","v":true},{"$f":"ISBLANK(C177)","v":true},true,true,{"$f":"M177+N177+O177+P177","v":4},{"$f":"IF(Q177=0,TRUE,FALSE)","v":false}]
[null,null,null,null,null,{"$f":"ROUND(D178*E178,2)","v":0},null,null,0,{"$f":"F178+I178","v":0},null,null,{"$f":"ISBLANK(B178)","v":true},true,true,true,{"$f":"M178+N178+O178+P178","v":4},{"$f":"IF(Q178=0,TRUE,FALSE)","v":false}]
[null,null,null,null,null,0,null,null,0,0,null,null,true,true,true,true,4,false]
[null,null,null,null,null,0,null,null,0,0,null,null,true,true,true,true,4,false]
[null,null,null,null,null,0,null,null,0,0,null,null,true,true,true,true,4,false]
[null,null,null,null,null,0,null,null,0,0,null,null,true,true,true,true,4,false]
[null,null,null,null,null,0,null,null,0,0,null,null,true,true,true,true,4,false]
[null,null,null,null,null,0,null,null,0,0,null,null,true,true,true,true,4,false]
[null,null,null,null,null,0,null,null,0,0,null,null,true,true,true,true,4,false]
[null,null,null,null,null,0,null,null,0,0,null,null,true,true,true,true,4,true]
[null,null,null,null,null,{"$f":"ROUND(D187*E187,2)","v":0},null,null,{"$f":"ROUND(G187*H187,2)","v":0},{"$f":"F187+I187","v":0},null,null,{"$f":"ISBLANK(B187)","v":true},{"$f":"ISBLANK(C187)","v":true},{"$f":"ISBLANK(D187)","v":true},{"$f":"ISBLANK(E187)","v":true},{"$f":"M187+N187+O187+P187","v":4},{"$f":"IF(Q187=0,TRUE,FALSE)","v":false}]
[null,null,null,null,null,{"$f":"ROUND(D188*E188,2)","v":0},null,null,0,{"$f":"F188+I188","v":0},null,null,{"$f":"ISBLANK(B188)","v":true},true,true,true,{"$f":"M188+N188+O188+P188","v":4},{"$f":"IF(Q188=0,TRUE,FALSE)","v":false}]
[null,null,null,null,null,0,null,null,0,0,null,null,true,true,true,true,4,false]
[null,null,null,null,null,0,null,null,0,0,null,null,true,true,true,true,4,false]
[null,null,null,null,null,0,null,null,0,0,null,null,true,true,true,true,4,false]
[null,null,null,null,null,0,null,null,0,0,null,null,true,true,true,true,4,false]
[null,null,null,null,null,0,null,null,0,0,null,null,true,true,true,true,4,false]
[null,null,null,null,null,0,null,null,0,0,null,null,true,true,true,true,4,false]
[null,null,null,null,null,0,null,null,0,0,null,null,true,true,true,true,4,false]
[null,null,null,null,null,0,null,null,0,0,null,null,true,true,true,true,4,true]
[null,"4.5 Rent of vehicle for event",null,null,null,{"$f":"SUM(F198:F217)","v":0},null,null,{"$f":"SUM(I198:I217)","v":0},{"$f":"SUM(J198:J217)","v":0},null,null,null,null,null,null,null,true]
[null,null,null,null,null,{"$f":"ROUND(D198*E198,2)","v":0},null,null,{"$f":"ROUND(G198*H198,2)","v":0},{"$f":"F198+I198","v":0},null,null,{"$f":"ISBLANK(B198)","v":true},{"$f":"ISBLANK(C198)","v":true},true,true,{"$f":"M198+N198+O198+P198","v":4},{"$f":"IF(Q198=0,TRUE,FALSE)","v":false}]
[null,null,null,null,null,{"$f":"ROUND(D199*E199,2)","v":0},null,null,0,{"$f":"F199+I199","v":0},null,null,{"$f":"ISBLANK(B199)","v":true},true,true,true,{"$f":"M199+N199+O199+P199","v":4},{"$f":"IF(Q199=0,TRUE,FALSE)","v":false}]
[null,null,null,null,null,0,null,null,0,0,null,null,true,true,true,true,4,false]
[null,null,null,null,null,0,null,null,0,0,null,null,true,true,true,true,4,false]
[null,null,null,null,null,0,null,null,0,0,null,null,true,true,true,true,4,false]
[null,null,null,null,null,0,null,null,0,0,null,null,true,true,true,true,4,false]
[null,null,null,null,null,0,null,null,0,0,null,null,true,true,true,true,4,false]
[null,null,null,null,null,0,null,null,0,0,null,null,true,true,true,true,4,false]
[null,null,null,null,null,0,null,null,0,0,null,null,true,true,true,true,4,false]
[null,null,null,null,null,0,null,null,0,0,null,null,true,true,true,true,4,true]
[null,null,null,null,null,{"$f":"ROUND(D208*E208,2)","v":0},null,null,{"$f":"ROUND(G208*H208,2)","v":0},{"$f":"F208+I208","v":0},null,null,{"$f":"ISBLANK(B208)","v":true},{"$f":"ISBLANK(C208)","v":true},{"$f":"ISBLANK(D208)","v":true},{"$f":"ISBLANK(E208)","v":true},{"$f":"M208+N208+O208+P208","v":4},{"$f":"IF(Q208=0,TRUE,FALSE)","v":false}]
[null,null,null,null,null,{"$f":"ROUND(D209*E209,2)","v":0},null,null,0,{"$f":"F209+I209","v":0},null,null,{"$f":"ISBLANK(B209)","v":true},true,true,true,{"$f":"M209+N209+O209+P209","v":4},{"$f":"IF(Q209=0,TRUE,FALSE)","v":false}]
[null,null,null,null,null,0,null,null,0,0,null,null,true,true,true,true,4,false]
[null,null,null,null,null,0,null,null,0,0,null,null,true,true,true,true,4,false]
[null,null,null,null,null,0,null,null,0,0,null,null,true,true,true,true,4,false]
[null,null,null,null,null,0,null,null,0,0,null,null,true,true,true,true,4,false]
[null,null,null,null,null,0,null,null,0,0,null,null,true,true,true,true,4,false]
[null,null,null,null,null,0,null,null,0,0,null,null,true,true,true,true,4,false]
[null,null,null,null,null,0,null,null,0,0,null,null,true,true,true,true,4,false]
[null,null,null,null,null,0,null,null,0,0,null,null,true,true,true,true,4,true]
[null,"4.6 Accommodations for participants in the events ",null,null,null,{"$f":"SUM(F219:F238)","v":0},null,null,{"$f":"SUM(I219:I238)","v":0},{"$f":"SUM(J219:J238)","v":0},null,null,null,null,null,null,null,true]
[null,null,null,null,null,{"$f":"ROUND(D219*E219,2)","v":0},null,null,{"$f":"ROUND(G219*H219,2)","v":0},{"$f":"F219+I219","v":0},null,null,{"$f":"ISBLANK(B219)","v":true},{"$f":"ISBLANK(C219)","v":true},true,true,{"$f":"M219+N219+O219+P219","v":4},{"$f":"IF(Q219=0,TRUE,FALSE)","v":false}]
[null,null,null,null,null,{"$f":"ROUND(D220*E220,2)","v":0},null,null,0,{"$f":"F220+I220","v":0},null,null,{"$f":"ISBLANK(B220)","v":true},true,true,true,{"$f":"M220+N220+O220+P220","v":4},{"$f":"IF(Q220=0,TRUE,FALSE)","v":false}]
[null,null,null,null,null,0,null,null,0,0,null,null,true,true,true,true,4,false]
[null,null,null,null,null,0,null,null,0,0,null,null,true,true,true,true,4,false]
[null,null,null,null,null,0,null,null,0,0,null,null,true,true,true,true,4,false]
[null,null,null,null,null,0,null,null,0,0,null,null,true,true,true,true,4,false]
[null,null,null,null,null,0,null,null,0,0,null,null,true,true,true,true,4,false]
[null,null,null,null,null,0,null,null,0,0,null,null,true,true,true,true,4,false]
[null,null,null,null,null,0,null,null,0,0,null,null,true,true,true,true,4,false]
[null,null,null,null,null,0,null,null,0,0,null,null,true,true,true,true,4,true]
[null,null,null,null,null,{"$f":"ROUND(D229*E229,2)","v":0},null,null,{"$f":"ROUND(G229*H229,2)","v":0},{"$f":"F229+I229","v":0},null,null,{"$f":"ISBLANK(B229)","v":true},{"$f":"ISBLANK(C229)","v":true},{"$f":"ISBLANK(D229)","v":true},{"$f":"ISBLANK(E229)","v":true},{"$f":"M229+N229+O229+P229","v":4},{"$f":"IF(Q229=0,TRUE,FALSE)","v":false}]
[null,null,null,null,null,{"$f":"ROUND(D230*E230,2)","v":0},null,null,0,{"$f":"F230+I230","v":0},null,null,{"$f":"ISBLANK(B230)","v":true},true,true,true,{"$f":"M230+N230+O230+P230","v":4},{"$f":"IF(Q230=0,TRUE,FALSE)","v":false}]
[null,null,null,null,null,0,null,null,0,0,null,null,true,true,true,true,4,false]
[null,null,null,null,null,0,null,null,0,0,null,null,true,true,true,true,4,false]
[null,null,null,null,null,0,null,null,0,0,null,null,true,true,true,true,4,false]
[null,null,null,null,null,0,null,null,0,0,null,null,true,true,true,true,4,false]
[null,null,null,null,null,0,null,null,0,0,null,null,true,true,true,true,4,false]
[null,null,null,null,null,0,null,null,0,0,null,null,true,true,true,true,4,false]
[null,null,null,null,null,0,null,null,0,0,null,null,true,true,true,true,4,false]
[null,null,null,null,null,0,null,null,0,0,null,null,true,true,true,true,4,true]
[null,"4.7 Elaboration, design,translation etc.",null,null,null,{"$f":"SUM(F240:F259)","v":0},null,null,{"$f":"SUM(I240:I259)","v":0},{"$f":"SUM(J240:J259)","v":0},null,null,null,null,null,null,null,true]
[null,null,null,null,null,{"$f":"ROUND(D240*E240,2)","v":0},null,null,{"$f":"ROUND(G240*H240,2)","v":0},{"$f":"F240+I240","v":0},null,null,{"$f":"ISBLANK(B240)","v":true},{"$f":"ISBLANK(C240)","v":true},true,true,{"$f":"M240+N240+O240+P240","v":4},{"$f":"IF(Q240=0,TRUE,FALSE)","v":false}]
[null,null,null,null,null,{"$f":"ROUND(D241*E241,2)","v":0},null,null,0,{"$f":"F241+I241","v":0},null,null,{"$f":"ISBLANK(B241)","v":true},true,true,true,{"$f":"M241+N241+O241+P241","v":4},{"$f":"IF(Q241=0,TRUE,FALSE)","v":false}]
[null,null,null,null,null,0,null,null,0,0,null,null,true,true,true,true,4,false]
[null,null,null,null,null,0,null,null,0,0,null,null,true,true,true,true,4,false]
[null,null,null,null,null,0,null,null,0,0,null,null,true,true,true,true,4,false]
[null,null,null,null,null,0,null,null,0,0,null,null,true,true,true,true,4,false]
[null,null,null,null,null,0,null,null,0,0,null,null,true,true,true,true,4,false]
[null,null,null,null,null,0,null,null,0,0,null,null,true,true,true,true,4,false]
[null,null,null,null,null,{"$f":"ROUND(D248*E248,2)","v":0},null,null,0,0,null,null,true,true,true,true,4,false]
[null,null,null,null,null,{"$f":"ROUND(D249*E249,2)","v":0},null,null,0,0,null,null,true,true,true,true,4,true]
[null,null,null,null,null,{"$f":"ROUND(D250*E250,2)","v":0},null,null,{"$f":"ROUND(G250*H250,2)","v":0},{"$f":"F250+I250","v":0},null,null,{"$f":"ISBLANK(B250)","v":true},{"$f":"ISBLANK(C250)","v":true},{"$f":"ISBLANK(D250)","v":true},{"$f":"ISBLANK(E250)","v":true},{"$f":"M250+N250+O250+P250","v":4},{"$f":"IF(Q250=0,TRUE,FALSE)","v":false}]
[null,null,null,null,null,{"$f":"ROUND(D251*E251,2)","v":0},null,null,0,{"$f":"F251+I251","v":0},null,null,{"$f":"ISBLANK(B251)","v":true},true,true,true,{"$f":"M251+N251+O251+P251","v":4},{"$f":"IF(Q251=0,TRUE,FALSE)","v":false}]
[null,null,null,null,null,0,null,null,0,0,null,null,true,true,true,true,4,false]
[null,null,null,null,null,0,null,null,0,0,null,null,true,true,true,true,4,false]
[null,null,null,null,null,0,null,null,0,0,null,null,true,true,true,true,4,false]
[null,null,null,null,null,0,null,null,0,0,null,null,true,true,true,true,4,false]
[null,null,null,null,null,0,null,null,0,0,null,null,true,true,true,true,4,false]
[null,null,null,null,null,0,null,null,0,0,null,null,true,true,true,true,4,false]
[null,null,null,null,null,{"$f":"ROUND(D258*E258,2)","v":0},null,null,0,0,null,null,true,true,true,true,4,false]
[null,null,null,null,null,{"$f":"ROUND(D259*E259,2)","v":0},null,null,0,0,null,null,true,true,true,true,4,true]
[null,"4.8 Publications in mass-media",null,null,null,{"$f":"SUM(F261:F280)","v":0},null,null,{"$f":"SUM(I261:I280)","v":0},{"$f":"SUM(J261:J280)","v":0},null,null,null,null,null,null,null,true]
[null,null,null,null,null,{"$f":"ROUND(D261*E261,2)","v":0},null,null,{"$f":"ROUND(G261*H261,2)","v":0},{"$f":"F261+I261","v":0},null,null,{"$f":"ISBLANK(B261)","v":true},{"$f":"ISBLANK(C261)","v":true},true,true,{"$f":"M261+N261+O261+P261","v":4},{"$f":"IF(Q261=0,TRUE,FALSE)","v":false}]
[null,null,null,null,null,{"$f":"ROUND(D262*E262,2)","v":0},null,null,0,{"$f":"F262+I262","v":0},null,null,{"$f":"ISBLANK(B262)","v":true},true,true,true,{"$f":"M262+N262+O262+P262","v":4},{"$f":"IF(Q262=0,TRUE,FALSE)","v":false}]
[null,null,null,null,null,0,null,null,0,0,null,null,true,true,true,true,4,false]
[null,null,null,null,null,0,null,null,0,0,null,null,true,true,true,true,4,false]
[null,null,null,null,null,0,null,null,0,0,null,null,true,true,true,true,4,false]
[null,null,null,null,null,0,null,null,0,0,null,null,true,true,true,true,4,false]
[null,null,null,null,null,0,null,null,0,0,null,null,true,true,true,true,4,false]
[null,null,null,null,null,0,null,null,0,0,null,null,true,true,true,true,4,false]
[null,null,null,null,null,0,null,null,0,0,null,null,true,true,true,true,4,false]
[null,null,null,null,null,0,null,null,0,0,null,null,true,true,true,true,4,true]
[null,null,null,null,null,{"$f":"ROUND(D271*E271,2)","v":0},null,null,{"$f":"ROUND(G271*H271,2)","v":0},{"$f":"F271+I271","v":0},null,null,{"$f":"ISBLANK(B271)","v":true},{"$f":"ISBLANK(C271)","v":true},{"$f":"ISBLANK(D271)","v":true},{"$f":"ISBLANK(E271)","v":true},{"$f":"M271+N271+O271+P271","v":4},{"$f":"IF(Q271=0,TRUE,FALSE)","v":false}]
[null,null,null,null,null,{"$f":"ROUND(D272*E272,2)","v":0},null,null,0,{"$f":"F272+I272","v":0},null,null,{"$f":"ISBLANK(B272)","v":true},true,true,true,{"$f":"M272+N272+O272+P272","v":4},{"$f":"IF(Q272=0,TRUE,FALSE)","v":false}]
[null,null,null,null,null,0,null,null,0,0,null,null,true,true,true,true,4,false]
[null,null,null,null,null,0,null,null,0,0,null,null,true,true,true,true,4,false]
[null,null,null,null,null,0,null,null,0,0,null,null,true,true,true,true,4,false]
[null,null,null,null,null,0,null,null,0,0,null,null,true,true,true,true,4,false]
[null,null,null,null,null,0,null,null,0,0,null,null,true,true,true,true,4,false]
[null,null,null,null,null,0,null,null,0,0,null,null,true,true,true,true,4,false]
[null,null,null,null,null,0,null,null,0,0,null,null,true,true,true,true,4,false]
[null,null,null,null,null,0,null,null,0,0,null,null,true,true,true,true,4,true]
[null,"4.9 Consultancy, studies,designs, website development etc.",null,null,null,{"$f":"SUM(F282:F301)","v":0},null,null,{"$f":"SUM(I282:I301)","v":0},{"$f":"SUM(J282:J301)","v":0},null,null,null,null,null,null,null,true]
[null,null,null,null,null,{"$f":"ROUND(D282*E282,2)","v":0},null,null,{"$f":"ROUND(G282*H282,2)","v":0},{"$f":"F282+I282","v":0},null,null,{"$f":"ISBLANK(B282)","v":true},{"$f":"ISBLANK(C282)","v":true},true,true,{"$f":"M282+N282+O282+P282","v":4},{"$f":"IF(Q282=0,TRUE,FALSE)","v":false}]
[null,null,null,null,null,{"$f":"ROUND(D283*E283,2)","v":0},null,null,0,{"$f":"F283+I283","v":0},null,null,{"$f":"ISBLANK(B283)","v":true},true,true,true,{"$f":"M283+N283+O283+P283","v":4},{"$f":"IF(Q283=0,TRUE,FALSE)","v":false}]
[null,null,null,null,null,0,null,null,0,0,null,null,true,true,true,true,4,false]
[null,null,null,null,null,0,null,null,0,0,null,null,true,true,true,true,4,false]
[null,null,null,null,null,0,null,null,0,0,null,null,true,true,true,true,4,false]
[null,null,null,null,null,0,null,null,0,0,null,null,true,true,true,true,4,false]
[null,null,null,null,null,0,null,null,0,0,null,null,true,true,true,true,4,false]
[null,null,null,null,null,0,null,null,0,0,null,null,true,true,true,true,4,false]
[null,null,null,null,null,0,null,null,0,0,null,null,true,true,true,true,4,false]
[null,null,null,null,null,0,null,null,0,0,null,null,true,true,true,true,4,true]
[null,null,null,null,null,{"$f":"ROUND(D292*E292,2)","v":0},null,null,{"$f":"ROUND(G292*H292,2)","v":0},{"$f":"F292+I292","v":0},null,null,{"$f":"ISBLANK(B292)","v":true},{"$f":"ISBLANK(C292)","v":true},{"$f":"ISBLANK(D292)","v":true},{"$f":"ISBLANK(E292)","v":true},{"$f":"M292+N292+O292+P292","v":4},{"$f":"IF(Q292=0,TRUE,FALSE)","v":false}]
[null,null,null,null,null,{"$f":"ROUND(D293*E293,2)","v":0},null,null,0,{"$f":"F293+I293","v":0},null,null,{"$f":"ISBLANK(B293)","v":true},true,true,true,{"$f":"M293+N293+O293+P293","v":4},{"$f":"IF(Q293=0,TRUE,FALSE)","v":false}]
[null,null,null,null,null,0,null,null,0,0,null,null,true,true,true,true,4,false]
[null,null,null,null,null,0,null,null,0,0,null,null,true,true,true,true,4,false]
[null,null,null,null,null,0,null,null,0,0,null,null,true,true,true,true,4,false]
[null,null,null,null,null,0,null,null,0,0,null,null,true,true,true,true,4,false]
[null,null,null,null,null,0,null,null,0,0,null,null,true,true,true,true,4,false]
[null,null,null,null,null,0,null,null,0,0,null,null,true,true,true,true,4,false]
[null,null,null,null,null,0,null,null,0,0,null,null,true,true,true,true,4,false]
[null,null,null,null,null,0,null,null,0,0,null,null,true,true,true,true,4,true]
[null,"4.10 Authorizations, certificates",null,null,null,{"$f":"SUM(F303:F322)","v":0},null,null,{"$f":"SUM(I303:I322)","v":0},{"$f":"SUM(J303:J322)","v":0},null,null,null,null,null,null,null,true]
[null,null,null,null,null,{"$f":"ROUND(D303*E303,2)","v":0},null,null,{"$f":"ROUND(G303*H303,2)","v":0},{"$f":"F303+I303","v":0},null,null,{"$f":"ISBLANK(B303)","v":true},{"$f":"ISBLANK(C303)","v":true},true,true,{"$f":"M303+N303+O303+P303","v":4},{"$f":"IF(Q303=0,TRUE,FALSE)","v":false}]
[null,null,null,null,null,{"$f":"ROUND(D304*E304,2)","v":0},null,null,0,{"$f":"F304+I304","v":0},null,null,{"$f":"ISBLANK(B304)","v":true},true,true,true,{"$f":"M304+N304+O304+P304","v":4},{"$f":"IF(Q304=0,TRUE,FALSE)","v":false}]
[null,null,null,null,null,0,null,null,0,0,null,null,true,true,true,true,4,false]
[null,null,null,null,null,0,null,null,0,0,null,null,true,true,true,true,4,false]
[null,null,null,null,null,0,null,null,0,0,null,null,true,true,true,true,4,false]
[null,null,null,null,null,0,null,null,0,0,null,null,true,true,true,true,4,false]
[null,null,null,null,null,0,null,null,0,0,null,null,true,true,true,true,4,false]
[null,null,null,null,null,0,null,null,0,0,null,null,true,true,true,true,4,false]
[null,null,null,null,null,0,null,null,0,0,null,null,true,true,true,true,4,false]
[null,null,null,null,null,0,null,null,0,0,null,null,true,true,true,true,4,true]
[null,null,null,null,null,{"$f":"ROUND(D313*E313,2)","v":0},null,null,{"$f":"ROUND(G313*H313,2)","v":0},{"$f":"F313+I313","v":0},null,null,{"$f":"ISBLANK(B313)","v":true},{"$f":"ISBLANK(C313)","v":true},{"$f":"ISBLANK(D313)","v":true},{"$f":"ISBLANK(E313)","v":true},{"$f":"M313+N313+O313+P313","v":4},{"$f":"IF(Q313=0,TRUE,FALSE)","v":false}]
[null,null,null,null,null,{"$f":"ROUND(D314*E314,2)","v":0},null,null,0,{"$f":"F314+I314","v":0},null,null,{"$f":"ISBLANK(B314)","v":true},true,true,true,{"$f":"M314+N314+O314+P314","v":4},{"$f":"IF(Q314=0,TRUE,FALSE)","v":false}]
[null,null,null,null,null,0,null,null,0,0,null,null,true,true,true,true,4,false]
[null,null,null,null,null,0,null,null,0,0,null,null,true,true,true,true,4,false]
[null,null,null,null,null,0,null,null,0,0,null,null,true,true,true,true,4,false]
[null,null,null,null,null,0,null,null,0,0,null,null,true,true,true,true,4,false]
[null,null,null,null,null,0,null,null,0,0,null,null,true,true,true,true,4,false]
[null,null,null,null,null,0,null,null,0,0,null,null,true,true,true,true,4,false]
[null,null,null,null,null,0,null,null,0,0,null,null,true,true,true,true,4,false]
[null,null,null,null,null,0,null,null,0,0,null,null,true,true,true,true,4,true]
[null,"4.11 Interpreters, lecturers, trainers",null,null,null,{"$f":"SUM(F324:F343)","v":0},null,null,{"$f":"SUM(I324:I343)","v":0},{"$f":"SUM(J324:J343)","v":0},null,null,null,null,null,null,null,true]
[null,null,null,null,null,{"$f":"ROUND(D324*E324,2)","v":0},null,null,{"$f":"ROUND(G324*H324,2)","v":0},{"$f":"F324+I324","v":0},null,null,{"$f":"ISBLANK(B324)","v":true},{"$f":"ISBLANK(C324)","v":true},true,true,{"$f":"M324+N324+O324+P324","v":4},{"$f":"IF(Q324=0,TRUE,FALSE)","v":false}]
[null,null,null,null,null,{"$f":"ROUND(D325*E325,2)","v":0},null,null,0,{"$f":"F325+I325","v":0},null,null,{"$f":"ISBLANK(B325)","v":true},true,true,true,{"$f":"M325+N325+O325+P325","v":4},{"$f":"IF(Q325=0,TRUE,FALSE)","v":false}]
[null,null,null,null,null,0,null,null,0,0,null,null,true,true,true,true,4,false]
[null,null,null,null,null,0,null,null,0,0,null,null,true,true,true,true,4,false]
[null,null,null,null,null,0,null,null,0,0,null,null,true,true,true,true,4,false]
[null,null,null,null,null,0,null,null,0,0,null,null,true,true,true,true,4,false]
[null,null,null,null,null,0,null,null,0,0,null,null,true,true,true,true,4,false]
[null,null,null,null,null,0,null,null,0,0,null,null,true,true,true,true,4,false]
[null,null,null,null,null,0,null,null,0,0,null,null,true,true,true,true,4,false]
[null,null,null,null,null,0,null,null,0,0,null,null,true,true,true,true,4,true]
[null,null,null,null,null,{"$f":"ROUND(D334*E334,2)","v":0},null,null,{"$f":"ROUND(G334*H334,2)","v":0},{"$f":"F334+I334","v":0},null,null,{"$f":"ISBLANK(B334)","v":true},{"$f":"ISBLANK(C334)","v":true},{"$f":"ISBLANK(D334)","v":true},{"$f":"ISBLANK(E334)","v":true},{"$f":"M334+N334+O334+P334","v":4},{"$f":"IF(Q334=0,TRUE,FALSE)","v":false}]
[null,null,null,null,null,{"$f":"ROUND(D335*E335,2)","v":0},null,null,0,{"$f":"F335+I335","v":0},null,null,{"$f":"ISBLANK(B335)","v":true},true,true,true,{"$f":"M335+N335+O335+P335","v":4},{"$f":"IF(Q335=0,TRUE,FALSE)","v":false}]
[null,null,null,null,null,0,null,null,0,0,null,null,true,true,true,true,4,false]
[null,null,null,null,null,0,null,null,0,0,null,null,true,true,true,true,4,false]
[null,null,null,null,null,0,null,null,0,0,null,null,true,true,true,true,4,false]
[null,null,null,null,null,0,null,null,0,0,null,null,true,true,true,true,4,false]
[null,null,null,null,null,0,null,null,0,0,null,null,true,true,true,true,4,false]
[null,null,null,null,null,0,null,null,0,0,null,null,true,true,true,true,4,false]
[null,null,null,null,null,0,null,null,0,0,null,null,true,true,true,true,4,false]
[null,null,null,null,null,0,null,null,0,0,null,null,true,true,true,true,4,true]
[null,"4.12 Others",null,null,null,{"$f":"SUM(F345:F364)","v":0},null,null,{"$f":"SUM(I345:I364)","v":0},{"$f":"SUM(J345:J364)","v":0},null,null,null,null,null,null,null,true]
[null,null,null,null,null,{"$f":"ROUND(D345*E345,2)","v":0},null,null,{"$f":"ROUND(G345*H345,2)","v":0},{"$f":"F345+I345","v":0},null,null,{"$f":"ISBLANK(B345)","v":true},{"$f":"ISBLANK(C345)","v":true},true,true,{"$f":"M345+N345+O345+P345","v":4},{"$f":"IF(Q345=0,TRUE,FALSE)","v":false}]
[null,null,null,null,null,{"$f":"ROUND(D346*E346,2)","v":0},null,null,0,{"$f":"F346+I346","v":0},null,null,{"$f":"ISBLANK(B346)","v":true},true,true,true,{"$f":"M346+N346+O346+P346","v":4},{"$f":"IF(Q346=0,TRUE,FALSE)","v":false}]
[null,null,null,null,null,0,null,null,0,0,null,null,true,true,true,true,4,false]
[null,null,null,null,null,0,null,null,0,0,null,null,true,true,true,true,4,false]
[null,null,null,null,null,0,null,null,0,0,null,null,true,true,true,true,4,false]
[null,null,null,null,null,0,null,null,0,0,null,null,true,true,true,true,4,false]
[null,null,null,null,null,0,null,null,0,0,null,null,true,true,true,true,4,false]
[null,null,null,null,null,0,null,null,0,0,null,null,true,true,true,true,4,false]
[null,null,null,null,null,0,null,null,0,0,null,null,true,true,true,true,4,false]
[null,null,null,null,null,0,null,null,0,0,null,null,true,true,true,true,4,true]
[null,null,null,null,null,{"$f":"ROUND(D355*E355,2)","v":0},null,null,{"$f":"ROUND(G355*H355,2)","v":0},{"$f":"F355+I355","v":0},null,null,{"$f":"ISBLANK(B355)","v":true},{"$f":"ISBLANK(C355)","v":true},{"$f":"ISBLANK(D355)","v":true},{"$f":"ISBLANK(E355)","v":true},{"$f":"M355+N355+O355+P355","v":4},{"$f":"IF(Q355=0,TRUE,FALSE)","v":false}]
[null,null,null,null,null,{"$f":"ROUND(D356*E356,2)","v":0},null,null,0,{"$f":"F356+I356","v":0},null,null,{"$f":"ISBLANK(B356)","v":true},true,true,true,{"$f":"M356+N356+O356+P356","v":4},{"$f":"IF(Q356=0,TRUE,FALSE)","v":false}]
[null,null,null,null,null,0,null,null,0,0,null,null,true,true,true,true,4,false]
[null,null,null,null,null,0,null,null,0,0,null,null,true,true,true,true,4,false]
[null,null,null,null,null,0,null,null,0,0,null,null,true,true,true,true,4,false]
[null,null,null,null,null,0,null,null,0,0,null,null,true,true,true,true,4,false]
[null,null,null,null,null,0,null,null,0,0,null,null,true,true,true,true,4,false]
[null,null,null,null,null,0,null,null,0,0,null,null,true,true,true,true,4,false]
[null,null,null,null,null,0,null,null,0,0,null,null,true,true,true,true,4,false]
[null,null,null,null,null,0,null,null,0,0,null,null,true,true,true,true,4,true]
[null,null,null,null,null,{"$f":"F344+F323+F302+F281+F260+F239+F218+F197+F176+F155+F134+F113","v":0},null,null,{"$f":"I344+I323+I302+I281+I260+I239+I218+I197+I176+I155+I134+I113","v":0},{"$f":"J344+J323+J302+J281+J260+J239+J218+J197+J176+J155+J134+J113","v":0},null,null,null,null,null,null,null,true]
[null,null,null,null,null,null,null,null,null,null,null,null,{"$f":"O370+P370+N366","v":2},{"$f":"M28=\"Soft\"","v":false},null,null,null,true]
[null,"BL5 - EQUIPMENT AND WORKS","Unit","Expenditures in the eligible area",null,null,"N/A",null,null,"TOTAL",null,null,null,null,null,null,null,true]
[null,null,null,"Units","Unit rate","TOTAL","Units","Unit rate","TOTAL",null,null,null,null,null,null,null,null,true]
[null,"5.1 Small scale construction",null,null,null,{"$f":"SUM(F370:F389)","v":0},null,null,{"$f":"SUM(I370:I389)","v":0},{"$f":"SUM(J370:J389)","v":0},null,null,null,null,null,null,null,true]
[null,null,null,null,null,{"$f":"ROUND(D370*E370,2)","v":0},null,null,{"$f":"ROUND(G370*H370,2)","v":0},{"$f":"F370+I370","v":0},null,null,{"$f":"ISBLANK(B370)","v":true},{"$f":"ISBLANK(C370)","v":true},true,true,{"$f":"M370+N370+O370+P370","v":4},{"$f":"IF(Q370=0,TRUE,FALSE)","v":false}]
[null,null,null,null,null,{"$f":"ROUND(D371*E371,2)","v":0},null,null,0,{"$f":"F371+I371","v":0},null,null,{"$f":"ISBLANK(B371)","v":true},true,true,true,{"$f":"M371+N371+O371+P371","v":4},{"$f":"IF(Q371=0,TRUE,FALSE)","v":false}]
[null,null,null,null,null,0,null,null,0,0,null,null,true,true,true,true,4,false]
[null,null,null,null,null,0,null,null,0,0,null,null,true,true,true,true,4,false]
[null,null,null,null,null,0,null,null,0,0,null,null,true,true,true,true,4,false]
[null,null,null,null,null,0,null,null,0,0,null,null,true,true,true,true,4,false]
[null,null,null,null,null,0,null,null,0,0,null,null,true,true,true,true,4,false]
[null,null,null,null,null,0,null,null,0,0,null,null,true,true,true,true,4,false]
[null,null,null,null,null,0,null,null,0,0,null,null,true,true,true,true,4,false]
[null,null,null,null,null,0,null,null,0,0,null,null,true,true,true,true,4,true]
[null,null,null,null,null,{"$f":"ROUND(D380*E380,2)","v":0},null,null,{"$f":"ROUND(G380*H380,2)","v":0},{"$f":"F380+I380","v":0},null,null,{"$f":"ISBLANK(B380)","v":true},{"$f":"ISBLANK(C380)","v":true},{"$f":"ISBLANK(D380)","v":true},{"$f":"ISBLANK(E380)","v":true},{"$f":"M380+N380+O380+P380","v":4},{"$f":"IF(Q380=0,TRUE,FALSE)","v":false}]
[null,null,null,null,null,{"$f":"ROUND(D381*E381,2)","v":0},null,null,0,{"$f":"F381+I381","v":0},null,null,{"$f":"ISBLANK(B381)","v":true},true,true,true,{"$f":"M381+N381+O381+P381","v":4},{"$f":"IF(Q381=0,TRUE,FALSE)","v":false}]
[null,null,null,null,null,0,null,null,0,0,null,null,true,true,true,true,4,false]
[null,null,null,null,null,0,null,null,0,0,null,null,true,true,true,true,4,false]
[null,null,null,null,null,0,null,null,0,0,null,null,true,true,true,true,4,false]
[null,null,null,null,null,0,null,null,0,0,null,null,true,true,true,true,4,false]
[null,null,null,null,null,0,null,null,0,0,null,null,true,true,true,true,4,false]
[null,null,null,null,null,0,null,null,0,0,null,null,true,true,true,true,4,false]
[null,null,null,null,null,0,null,null,0,0,null,null,true,true,true,true,4,false]
[null,null,null,null,null,0,null,null,0,0,null,null,true,true,true,true,4,true]
[null,"5.2 Supply",null,null,null,{"$f":"SUM(F391:F410)","v":0},null,null,{"$f":"SUM(I391:I410)","v":0},{"$f":"SUM(J391:J410)","v":0},null,null,null,null,null,null,null,true]
[null,null,null,null,null,{"$f":"ROUND(D391*E391,2)","v":0},null,null,{"$f":"ROUND(G391*H391,2)","v":0},{"$f":"F391+I391","v":0},null,null,{"$f":"ISBLANK(B391)","v":true},{"$f":"ISBLANK(C391)","v":true},true,true,{"$f":"M391+N391+O391+P391","v":4},{"$f":"IF(Q391=0,TRUE,FALSE)","v":false}]
[null,null,null,null,null,{"$f":"ROUND(D392*E392,2)","v":0},null,null,0,{"$f":"F392+I392","v":0},null,null,{"$f":"ISBLANK(B392)","v":true},true,true,true,{"$f":"M392+N392+O392+P392","v":4},{"$f":"IF(Q392=0,TRUE,FALSE)","v":false}]
[null,null,null,null,null,0,null,null,0,0,null,null,true,true,true,true,4,false]
[null,null,null,null,null,0,null,null,0,0,null,null,true,true,true,true,4,false]
[null,null,null,null,null,0,null,null,0,0,null,null,true,true,true,true,4,false]
[null,null,null,null,null,0,null,null,0,0,null,null,true,true,true,true,4,false]
[null,null,null,null,null,0,null,null,0,0,null,null,true,true,true,true,4,false]
[null,null,null,null,null,0,null,null,0,0,null,null,true,true,true,true,4,false]
[null,null,null,null,null,0,null,null,0,0,null,null,true,true,true,true,4,false]
[null,null,null,null,null,0,null,null,0,0,null,null,true,true,true,true,4,true]
[null,null,null,null,null,{"$f":"ROUND(D401*E401,2)","v":0},null,null,{"$f":"ROUND(G401*H401,2)","v":0},{"$f":"F401+I401","v":0},null,null,{"$f":"ISBLANK(B401)","v":true},{"$f":"ISBLANK(C401)","v":true},{"$f":"ISBLANK(D401)","v":true},{"$f":"ISBLANK(E401)","v":true},{"$f":"M401+N401+O401+P401","v":4},{"$f":"IF(Q401=0,TRUE,FALSE)","v":false}]
[null,null,null,null,null,{"$f":"ROUND(D402*E402,2)","v":0},null,null,0,{"$f":"F402+I402","v":0},null,null,{"$f":"ISBLANK(B402)","v":true},true,true,true,{"$f":"M402+N402+O402+P402","v":4},{"$f":"IF(Q402=0,TRUE,FALSE)","v":false}]
[null,null,null,null,null,0,null,null,0,0,null,null,true,true,true,true,4,false]
[null,null,null,null,null,0,null,null,0,0,null,null,true,true,true,true,4,false]
[null,null,null,null,null,0,null,null,0,0,null,null,true,true,true,true,4,false]
[null,null,null,null,null,0,null,null,0,0,null,null,true,true,true,true,4,false]
[null,null,null,null,null,0,null,null,0,0,null,null,true,true,true,true,4,false]
[null,null,null,null,null,0,null,null,0,0,null,null,true,true,true,true,4,false]
[null,null,null,null,null,0,null,null,0,0,null,null,true,true,true,true,4,false]
[null,null,null,null,null,0,null,null,0,0,null,null,true,true,true,true,4,true]
[null,"TOTAL",null,null,null,{"$f":"F390+F369","v":0},null,null,{"$f":"I390+I369","v":0},{"$f":"J390+J369","v":0},null,null,null,null,null,null,null,true]
[null,null,null,null,null,null,null,null,null,null,null,null,null,null,null,null,null,true]
[null,"BL6 - PROJECT PREPARATION","Unit","Expenditures in the eligible area",null,null,"N/A",null,null,"TOTAL",null,null,null,null,null,null,null,true]
[null,null,null,"Units","Unit rate","TOTAL","Units","Unit rate","TOTAL",null,null,null,null,null,null,null,null,true]
[null,"6.1.Preparation of Application package ",null,null,null,{"$f":"SUM(F416:F425)","v":0},null,null,{"$f":"SUM(I416:I425)","v":0},{"$f":"SUM(J416:J425)","v":0}]
[null,null,null,null,null,{"$f":"ROUND(D416*E416,2)","v":0},null,null,{"$f":"ROUND(G416*H416,2)","v":0},{"$f":"F416+I416","v":0},null,null,{"$f":"ISBLANK(B416)","v":true},{"$f":"ISBLANK(C416)","v":true},true,true,{"$f":"M416+N416+O416+P416","v":4},{"$f":"IF(Q416=0,TRUE,FALSE)","v":false}]
[null,null,null,null,null,{"$f":"ROUND(D417*E417,2)","v":0},null,null,0,{"$f":"F417+I417","v":0},null,null,{"$f":"ISBLANK(B417)","v":true},true,true,true,{"$f":"M417+N417+O417+P417","v":4},{"$f":"IF(Q417=0,TRUE,FALSE)","v":false}]
[null,null,null,null,null,0,null,null,0,0,null,null,true,true,true,true,4,false]
[null,null,null,null,null,0,null,null,0,0,null,null,true,true,true,true,4,false]
[null,null,null,null,null,0,null,null,0,0,null,null,true,true,true,true,4,false]
[null,null,null,null,null,0,null,null,0,0,null,null,true,true,true,true,4,false]
[null,null,null,null,null,0,null,null,0,0,null,null,true,true,true,true,4,false]
[null,null,null,null,null,0,null,null,0,0,null,null,true,true,true,true,4,false]
[null,null,null,null,null,0,null,null,0,0,null,null,true,true,true,true,4,false]
[null,null,null,null,null,0,null,null,0,0,null,null,true,true,true,true,4,true]
[null,"6.2 Preparation of technical documentation ",null,null,null,{"$f":"SUM(F427:F436)","v":0},null,null,{"$f":"SUM(I427:I436)","v":0},{"$f":"SUM(J427:J436)","v":0},null,null,{"$f":"ISBLANK(B426)","v":false},true,true,true,{"$f":"M426+N426+O426+P426","v":3},{"$f":"IF(Q426=0,TRUE,FALSE)","v":false}]
[null,null,null,null,null,{"$f":"ROUND(D427*E427,2)","v":0},null,null,{"$f":"ROUND(G427*H427,2)","v":0},{"$f":"F427+I427","v":0},null,null,{"$f":"ISBLANK(B427)","v":true}]
[null,null,null,null,null,0,null,null,0,0,null,null,{"$f":"ISBLANK(B428)","v":true},true,true,true,{"$f":"M428+N428+O428+P428","v":4},{"$f":"IF(Q428=0,TRUE,FALSE)","v":false}]
[null,null,null,null,null,0,null,null,0,0,null,null,true,true,true,true,4,false]
[null,null,null,null,null,0,null,null,0,0,null,null,true,true,true,true,4,false]
[null,null,null,null,null,0,null,null,0,0,null,null,true,true,true,true,4,false]
[null,null,null,null,null,0,null,null,0,0,null,null,true,true,true,true,4,false]
[null,null,null,null,null,0,null,null,0,0,null,null,true,true,true,true,4,false]
[null,null,null,null,null,0,null,null,0,0,null,null,true,true,true,true,4,false]
[null,null,null,null,null,0,null,null,0,0,null,null,true,true,true,true,4,false]
[null,null,null,null,null,0,null,null,0,0,null,null,true,true,true,true,4,false]
[null,"TOTAL",null,null,null,{"$f":"F415+F426","v":0},null,null,{"$f":"I415+I426","v":0},{"$f":"J415+J426","v":0},null,null,null,null,null,null,null,true]
[null,null,null,null,null,null,null,null,null,null,null,null,null,null,null,null,null,true]
[null,"Own Contribution",null,null,null,"Unit","Units","Unit rate","TOTAL",null,null,null,"Units out","Units rate out","Total out","Total in",null,true]
[null,null,null,null,null,null,null,null,{"$f":"ROUND(G440*H440,2)","v":0},null,null,null,null,null,null,null,null,true]
[null,null,null,"Expenditures outside the eligible area exceed 20 %! Reconsider budget distribution!",null,null,null,null,null,null,null,null,null,null,null,null,null,true]
[null,"Total direct project costs VAT incl. (BL3+BL4+BL5)",null,null,null,{"$f":"F411+F365+F109","v":0},{"$f":"I411+I109+I365","v":0},null,null,{"$f":"J411+J365+J109","v":0},null,null,null,null,null,null,null,true]
[null,"TOTAL PROJECT COSTS",null,null,null,{"$f":"F442+F437+I6+I31+I440","v":0},{"$f":"G442+I437","v":0},null,null,{"$f":"F443+G443","v":0},null,null,null,null,null,null,null,true]

{"sheet":"T2-B(PP5)","index":14,"n_rows":443,"n_cols":18,"rows_kept":443,"cut":false,"hidden":true,"merged":[[5,1,5,7],[5,8,5,9],[2,1,3,5],[2,6,2,7],[2,8,3,9],[3,6,3,7],[4,1,4,5],[4,6,4,7],[4,8,4,9],[441,1,441,4],[441,6,441,8],[442,1,442,4],[442,6,442,8],[436,1,436,4],[436,6,436,7],[438,1,438,4],[438,8,438,9],[439,1,439,4],[439,8,439,9],[412,9,413,9],[410,1,410,4],[410,6,410,7],[412,1,413,1],[412,2,413,2],[412,3,412,5],[412,6,412,8],[364,1,364,4],[364,6,364,7],[366,1,367,1],[366,2,367,2],[366,3,366,5],[366,6,366,8],[365,3,365,9],[366,9,367,9],[110,1,111,1],[110,2,111,2],[110,3,110,5],[110,6,110,8],[110,9,111,9],[29,8,29,9],[30,1,30,7],[30,8,30,9],[32,1,33,1],[32,2,33,2],[32,3,32,5],[32,6,32,8],[32,9,33,9],[29,1,29,5],[29,6,29,7],[27,1,28,5],[27,6,27,7],[27,8,28,9],[28,6,28,7]]}
[null,"TABLE 2 - DETAILED BREAKDOWN OF BUDGET LINES - PP5",null,null,null,null,null,null,null,null,null,null,null,null,null,null,null,true]
[null,null,null,null,null,null,null,null,null,null,null,null,null,null,null,null,null,true]
[null,"BL1 - STAFF COSTS",null,null,null,null,"Flat rate",null,"TOTAL",null,null,null,null,null,null,null,null,true]
[null,null,null,null,null,null,"%",null,null,null,null,null,null,null,null,null,null,true]
[null,{"$f":"M5","v":"Investment project"},null,null,null,null,0,null,{"$f":"SUM(J7:J26)","v":0},null,null,"visible/hidden depending on project identification",{"$f":"CONCATENATE('Project identification'!C15,\" project\")","v":"Investment project"},null,null,null,10,true]
[null,"TOTAL",null,null,null,null,null,null,{"$f":"I5","v":0},null,null,null,null,null,{"$f":"IF(#REF!=\"Soft\",15,10)","v":{"$error":"#REF!"}},null,15,true]
[null,null,null,null,null,{"$f":"ROUND(D7*E7,2)","v":0},null,null,{"$f":"ROUND(G7*H7,2)","v":0},{"$f":"F7+I7","v":0},null,null,{"$f":"ISBLANK(B7)","v":true},{"$f":"ISBLANK(C7)","v":true},{"$f":"ISBLANK(D7)","v":true},{"$f":"ISBLANK(E7)","v":true},{"$f":"M7+N7+O7+P7","v":4},{"$f":"IF(Q7=0,TRUE,FALSE)","v":false}]
[null,null,null,null,null,{"$f":"ROUND(D8*E8,2)","v":0},null,null,{"$f":"ROUND(G8*H8,2)","v":0},{"$f":"F8+I8","v":0},null,null,{"$f":"ISBLANK(B8)","v":true},true,true,true,{"$f":"M8+N8+O8+P8","v":4},{"$f":"IF(Q8=0,TRUE,FALSE)","v":false}]
[null,null,null,null,null,0,null,null,0,0,null,null,true,true,true,true,4,false]
[null,null,null,null,null,0,null,null,0,0,null,null,true,true,true,true,4,false]
[null,null,null,null,null,0,null,null,0,0,null,null,true,true,true,true,4,false]
[null,null,null,null,null,0,null,null,0,0,null,null,true,true,true,true,4,false]
[null,null,null,null,null,0,null,null,0,0,null,null,true,true,true,true,4,false]
[null,null,null,null,null,0,null,null,0,0,null,null,true,true,true,true,4,false]
[null,null,null,null,null,0,null,null,0,0,null,null,true,true,true,true,4,false]
[null,null,null,null,null,0,null,null,0,0,null,null,true,true,true,true,4,true]
[null,null,null,null,null,{"$f":"ROUND(D17*E17,2)","v":0},null,null,{"$f":"ROUND(G17*H17,2)","v":0},{"$f":"F17+I17","v":0},null,null,true,{"$f":"ISBLANK(C17)","v":true},{"$f":"ISBLANK(D17)","v":true},{"$f":"ISBLANK(E17)","v":true},{"$f":"M17+N17+O17+P17","v":4},{"$f":"IF(Q17=0,TRUE,FALSE)","v":false}]
[null,null,null,null,null,{"$f":"ROUND(D18*E18,2)","v":0},null,null,{"$f":"ROUND(G18*H18,2)","v":0},{"$f":"F18+I18","v":0},null,null,true,true,true,true,{"$f":"M18+N18+O18+P18","v":4},{"$f":"IF(Q18=0,TRUE,FALSE)","v":false}]
[null,null,null,null,null,0,null,null,0,0,null,null,true,true,true,true,4,false]
[null,null,null,null,null,0,null,null,0,0,null,null,true,true,true,true,4,false]
[null,null,null,null,null,0,null,null,0,0,null,null,true,true,true,true,4,false]
[null,null,null,null,null,0,null,null,0,0,null,null,true,true,true,true,4,false]
[null,null,null,null,null,0,null,null,0,0,null,null,true,true,true,true,4,false]
[null,null,null,null,null,0,null,null,0,0,null,null,true,true,true,true,4,false]
[null,null,null,null,null,0,null,null,0,0,null,null,true,true,true,true,4,false]
[null,null,null,null,null,0,null,null,0,0,null,null,true,true,true,true,4,true]
[null,null,null,null,null,null,null,null,null,null,null,null,null,null,null,null,null,true]
[null,"BL2 - OFFICE AND ADMINISTRATIVE COSTS",null,null,null,null,"Flat rate",null,"TOTAL",null,null,null,{"$f":"'Project identification'!C15","v":"Investment"},null,null,null,null,true]
[null,null,null,null,null,null,"%",null,null,null,null,null,null,null,null,null,null,true]
[null,{"$f":"M5","v":"Investment project"},null,null,null,null,0,null,{"$f":"ROUND(G30*I5/100,2)","v":0},null,null,"visible/hidden depending on project identification",null,null,null,null,2,true]
[null,"TOTAL",null,null,null,null,null,null,{"$f":"I30","v":0},null,null,null,null,null,{"$f":"IF(M28=\"Soft\",15,15)","v":15},null,5,true]
[null,null,null,null,null,null,null,null,null,null,null,null,null,null,null,null,null,true]
[null,"BL3 - TRAVEL AND ACCOMMODATION","Unit","Expenditures in the eligible area",null,null,"Expenditures outside of the eligible area",null,null,"TOTAL",null,null,null,null,null,null,null,true]
[null,null,null,"Units","Unit rate","TOTAL","Units","Unit rate","TOTAL",null,null,null,null,null,null,null,null,true]
[null,"3.1 Travel costs",null,null,null,{"$f":"SUM(F36:F55)","v":0},null,null,{"$f":"SUM(I36:I55)","v":0},{"$f":"SUM(J36:J55)","v":0},null,"Add",null,null,null,null,null,true]
[null,null,null,null,null,{"$f":"ROUND(D36*E36,2)","v":0},null,null,{"$f":"ROUND(G36*H36,2)","v":0},{"$f":"F36+I36","v":0},null,null,{"$f":"ISBLANK(B36)","v":true},{"$f":"ISBLANK(C36)","v":true},true,true,{"$f":"M36+N36+O36+P36","v":4},{"$f":"IF(Q36=0,TRUE,FALSE)","v":false}]
[null,null,null,null,null,{"$f":"ROUND(D37*E37,2)","v":0},null,null,0,{"$f":"F37+I37","v":0},null,null,{"$f":"ISBLANK(B37)","v":true},true,true,true,{"$f":"M37+N37+O37+P37","v":4},{"$f":"IF(Q37=0,TRUE,FALSE)","v":false}]
[null,null,null,null,null,0,null,null,0,0,null,null,true,true,true,true,4,false]
[null,null,null,null,null,0,null,null,0,0,null,null,true,true,true,true,4,false]
[null,null,null,null,null,0,null,null,0,0,null,null,true,true,true,true,4,false]
[null,null,null,null,null,0,null,null,0,0,null,null,true,true,true,true,4,false]
[null,null,null,null,null,0,null,null,0,0,null,null,true,true,true,true,4,false]
[null,null,null,null,null,0,null,null,0,0,null,null,true,true,true,true,4,false]
[null,null,null,null,null,0,null,null,0,0,null,null,true,true,true,true,4,false]
[null,null,null,null,null,0,null,null,0,0,null,null,true,true,true,true,4,true]
[null,null,null,null,null,{"$f":"ROUND(D46*E46,2)","v":0},null,null,{"$f":"ROUND(G46*H46,2)","v":0},{"$f":"F46+I46","v":0},null,null,{"$f":"ISBLANK(B46)","v":true},{"$f":"ISBLANK(C46)","v":true},{"$f":"ISBLANK(D46)","v":true},{"$f":"ISBLANK(E46)","v":true},{"$f":"M46+N46+O46+P46","v":4},{"$f":"IF(Q46=0,TRUE,FALSE)","v":false}]
[null,null,null,null,null,{"$f":"ROUND(D47*E47,2)","v":0},null,null,0,{"$f":"F47+I47","v":0},null,null,{"$f":"ISBLANK(B47)","v":true},true,true,true,{"$f":"M47+N47+O47+P47","v":4},{"$f":"IF(Q47=0,TRUE,FALSE)","v":false}]
[null,null,null,null,null,0,null,null,0,0,null,null,true,true,true,true,4,false]
[null,null,null,null,null,0,null,null,0,0,null,null,true,true,true,true,4,false]
[null,null,null,null,null,0,null,null,0,0,null,null,true,true,true,true,4,false]
[null,null,null,null,null,0,null,null,0,0,null,null,true,true,true,true,4,false]
[null,null,null,null,null,0,null,null,0,0,null,null,true,true,true,true,4,false]
[null,null,null,null,null,0,null,null,0,0,null,null,true,true,true,true,4,false]
[null,null,null,null,null,0,null,null,0,0,null,null,true,true,true,true,4,false]
[null,null,null,null,null,0,null,null,0,0,null,null,true,true,true,true,4,true]
[null,"3.2 Daily allowances",null,null,null,{"$f":"SUM(F57:F76)","v":0},null,null,{"$f":"SUM(I57:I76)","v":0},{"$f":"SUM(J57:J76)","v":0},null,"add (10 items)",null,null,null,null,null,true]
[null,null,null,null,null,{"$f":"ROUND(D57*E57,2)","v":0},null,null,{"$f":"ROUND(G57*H57,2)","v":0},{"$f":"F57+I57","v":0},null,null,{"$f":"ISBLANK(B57)","v":true},{"$f":"ISBLANK(C57)","v":true},true,true,{"$f":"M57+N57+O57+P57","v":4},{"$f":"IF(Q57=0,TRUE,FALSE)","v":false}]
[null,null,null,null,null,{"$f":"ROUND(D58*E58,2)","v":0},null,null,0,{"$f":"F58+I58","v":0},null,null,{"$f":"ISBLANK(B58)","v":true},true,true,true,{"$f":"M58+N58+O58+P58","v":4},{"$f":"IF(Q58=0,TRUE,FALSE)","v":false}]
[null,null,null,null,null,0,null,null,0,0,null,null,true,true,true,true,4,false]
[null,null,null,null,null,0,null,null,0,0,null,null,true,true,true,true,4,false]
[null,null,null,null,null,0,null,null,0,0,null,null,true,true,true,true,4,false]
[null,null,null,null,null,0,null,null,0,0,null,null,true,true,true,true,4,false]
[null,null,null,null,null,0,null,null,0,0,null,null,true,true,true,true,4,false]
[null,null,null,null,null,0,null,null,0,0,null,null,true,true,true,true,4,false]
[null,null,null,null,null,0,null,null,0,0,null,null,true,true,true,true,4,false]
[null,null,null,null,null,0,null,null,0,0,null,null,true,true,true,true,4,true]
[null,null,null,null,null,{"$f":"ROUND(D67*E67,2)","v":0},null,null,{"$f":"ROUND(G67*H67,2)","v":0},{"$f":"F67+I67","v":0},null,null,{"$f":"ISBLANK(B67)","v":true},{"$f":"ISBLANK(C67)","v":true},{"$f":"ISBLANK(D67)","v":true},{"$f":"ISBLANK(E67)","v":true},{"$f":"M67+N67+O67+P67","v":4},{"$f":"IF(Q67=0,TRUE,FALSE)","v":false}]
[null,null,null,null,null,{"$f":"ROUND(D68*E68,2)","v":0},null,null,0,{"$f":"F68+I68","v":0},null,null,{"$f":"ISBLANK(B68)","v":true},true,true,true,{"$f":"M68+N68+O68+P68","v":4},{"$f":"IF(Q68=0,TRUE,FALSE)","v":false}]
[null,null,null,null,null,0,null,null,0,0,null,null,true,true,true,true,4,false]
[null,null,null,null,null,0,null,null,0,0,null,null,true,true,true,true,4,false]
[null,null,null,null,null,0,null,null,0,0,null,null,true,true,true,true,4,false]
[null,null,null,null,null,0,null,null,0,0,null,null,true,true,true,true,4,false]
[null,null,null,null,null,0,null,null,0,0,null,null,true,true,true,true,4,false]
[null,null,null,null,null,0,null,null,0,0,null,null,true,true,true,true,4,false]
[null,null,null,null,null,0,null,null,0,0,null,null,true,true,true,true,4,false]
[null,null,null,null,null,0,null,null,0,0,null,null,true,true,true,true,4,true]
[null,"3.3 Accommodation costs",null,null,null,{"$f":"SUM(F78:F97)","v":0},null,null,{"$f":"SUM(I78:I97)","v":0},{"$f":"SUM(J78:J97)","v":0},null,null,null,null,null,null,null,true]
[null,null,null,null,null,{"$f":"ROUND(D78*E78,2)","v":0},null,null,{"$f":"ROUND(G78*H78,2)","v":0},{"$f":"F78+I78","v":0},null,null,{"$f":"ISBLANK(B78)","v":true},{"$f":"ISBLANK(C78)","v":true},true,true,{"$f":"M78+N78+O78+P78","v":4},{"$f":"IF(Q78=0,TRUE,FALSE)","v":false}]
[null,null,null,null,null,{"$f":"ROUND(D79*E79,2)","v":0},null,null,0,{"$f":"F79+I79","v":0},null,null,{"$f":"ISBLANK(B79)","v":true},true,true,true,{"$f":"M79+N79+O79+P79","v":4},{"$f":"IF(Q79=0,TRUE,FALSE)","v":false}]
[null,null,null,null,null,0,null,null,0,0,null,null,true,true,true,true,4,false]
[null,null,null,null,null,0,null,null,0,0,null,null,true,true,true,true,4,false]
[null,null,null,null,null,0,null,null,0,0,null,null,true,true,true,true,4,false]
[null,null,null,null,null,0,null,null,0,0,null,null,true,true,true,true,4,false]
[null,null,null,null,null,0,null,null,0,0,null,null,true,true,true,true,4,false]
[null,null,null,null,null,0,null,null,0,0,null,null,true,true,true,true,4,false]
[null,null,null,null,null,0,null,null,0,0,null,null,true,true,true,true,4,false]
[null,null,null,null,null,0,null,null,0,0,null,null,true,true,true,true,4,true]
[null,null,null,null,null,{"$f":"ROUND(D88*E88,2)","v":0},null,null,{"$f":"ROUND(G88*H88,2)","v":0},{"$f":"F88+I88","v":0},null,null,{"$f":"ISBLANK(B88)","v":true},{"$f":"ISBLANK(C88)","v":true},{"$f":"ISBLANK(D88)","v":true},{"$f":"ISBLANK(E88)","v":true},{"$f":"M88+N88+O88+P88","v":4},{"$f":"IF(Q88=0,TRUE,FALSE)","v":false}]
[null,null,null,null,null,{"$f":"ROUND(D89*E89,2)","v":0},null,null,0,{"$f":"F89+I89","v":0},null,null,{"$f":"ISBLANK(B89)","v":true},true,true,true,{"$f":"M89+N89+O89+P89","v":4},{"$f":"IF(Q89=0,TRUE,FALSE)","v":false}]
[null,null,null,null,null,0,null,null,0,0,null,null,true,true,true,true,4,false]
[null,null,null,null,null,0,null,null,0,0,null,null,true,true,true,true,4,false]
[null,null,null,null,null,0,null,null,0,0,null,null,true,true,true,true,4,false]
[null,null,null,null,null,0,null,null,0,0,null,null,true,true,true,true,4,false]
[null,null,null,null,null,0,null,null,0,0,null,null,true,true,true,true,4,false]
[null,null,null,null,null,0,null,null,0,0,null,null,true,true,true,true,4,false]
[null,null,null,null,null,0,null,null,0,0,null,null,true,true,true,true,4,false]
[null,null,null,null,null,0,null,null,0,0,null,null,true,true,true,true,4,true]
[null,"3.4 Visa costs",null,null,null,{"$f":"SUM(F99:F108)","v":0},null,null,{"$f":"SUM(I99:I108)","v":0},{"$f":"SUM(J99:J108)","v":0},null,null,null,null,null,null,null,true]
[null,null,null,null,null,{"$f":"ROUND(D99*E99,2)","v":0},null,null,{"$f":"ROUND(G99*H99,2)","v":0},{"$f":"F99+I99","v":0},null,null,{"$f":"ISBLANK(B99)","v":true},{"$f":"ISBLANK(C99)","v":true},true,true,{"$f":"M99+N99+O99+P99","v":4},{"$f":"IF(Q99=0,TRUE,FALSE)","v":false}]
[null,null,null,null,null,{"$f":"ROUND(D100*E100,2)","v":0},null,null,0,{"$f":"F100+I100","v":0},null,null,{"$f":"ISBLANK(B100)","v":true},true,true,true,{"$f":"M100+N100+O100+P100","v":4},{"$f":"IF(Q100=0,TRUE,FALSE)","v":false}]
[null,null,null,null,null,0,null,null,0,0,null,null,true,true,true,true,4,false]
[null,null,null,null,null,0,null,null,0,0,null,null,true,true,true,true,4,false]
[null,null,null,null,null,0,null,null,0,0,null,null,true,true,true,true,4,false]
[null,null,null,null,null,0,null,null,0,0,null,null,true,true,true,true,4,false]
[null,null,null,null,null,0,null,null,0,0,null,null,true,true,true,true,4,false]
[null,null,null,null,null,0,null,null,0,0,null,null,true,true,true,true,4,false]
[null,null,null,null,null,0,null,null,0,0,null,null,true,true,true,true,4,false]
[null,null,null,null,null,0,null,null,0,0,null,null,true,true,true,true,4,true]
[null,"TOTAL",null,null,null,{"$f":"F98+F77+F56+F35","v":0},null,null,{"$f":"I98+I77+I56+I35","v":0},{"$f":"J98+J77+J56+J35","v":0},null,null,null,null,null,null,null,true]
[null,null,null,null,null,null,null,null,null,null,null,null,null,null,null,null,null,true]
[null,"BL4 - EXTERNAL EXPERTISE AND SERVICES COSTS","Unit","Expenditures in the eligible area",null,null,"Expenditures outside of the eligible area",null,null,"TOTAL",null,null,null,null,null,null,null,true]
[null,null,null,"Units","Unit rate","TOTAL","Units","Unit rate","TOTAL",null,null,null,null,null,null,null,null,true]
[null,"4.1 Rent of hall",null,null,null,{"$f":"SUM(F114:F133)","v":0},null,null,{"$f":"SUM(I114:I133)","v":0},{"$f":"SUM(J114:J133)","v":0},null,null,null,null,null,null,null,true]
[null,null,null,null,null,{"$f":"ROUND(D114*E114,2)","v":0},null,null,{"$f":"ROUND(G114*H114,2)","v":0},{"$f":"F114+I114","v":0},null,null,{"$f":"ISBLANK(B114)","v":true},{"$f":"ISBLANK(C114)","v":true},true,true,{"$f":"M114+N114+O114+P114","v":4},{"$f":"IF(Q114=0,TRUE,FALSE)","v":false}]
[null,null,null,null,null,{"$f":"ROUND(D115*E115,2)","v":0},null,null,0,{"$f":"F115+I115","v":0},null,null,{"$f":"ISBLANK(B115)","v":true},true,true,true,{"$f":"M115+N115+O115+P115","v":4},{"$f":"IF(Q115=0,TRUE,FALSE)","v":false}]
[null,null,null,null,null,0,null,null,0,0,null,null,true,true,true,true,4,false]
[null,null,null,null,null,0,null,null,0,0,null,null,true,true,true,true,4,false]
[null,null,null,null,null,0,null,null,0,0,null,null,true,true,true,true,4,false]
[null,null,null,null,null,0,null,null,0,0,null,null,true,true,true,true,4,false]
[null,null,null,null,null,0,null,null,0,0,null,null,true,true,true,true,4,false]
[null,null,null,null,null,0,null,null,0,0,null,null,true,true,true,true,4,false]
[null,null,null,null,null,0,null,null,0,0,null,null,true,true,true,true,4,false]
[null,null,null,null,null,0,null,null,0,0,null,null,true,true,true,true,4,true]
[null,null,null,null,null,{"$f":"ROUND(D124*E124,2)","v":0},null,null,{"$f":"ROUND(G124*H124,2)","v":0},{"$f":"F124+I124","v":0},null,null,{"$f":"ISBLANK(B124)","v":true},{"$f":"ISBLANK(C124)","v":true},{"$f":"ISBLANK(D124)","v":true},{"$f":"ISBLANK(E124)","v":true},{"$f":"M124+N124+O124+P124","v":4},{"$f":"IF(Q124=0,TRUE,FALSE)","v":false}]
[null,null,null,null,null,{"$f":"ROUND(D125*E125,2)","v":0},null,null,0,{"$f":"F125+I125","v":0},null,null,{"$f":"ISBLANK(B125)","v":true},true,true,true,{"$f":"M125+N125+O125+P125","v":4},{"$f":"IF(Q125=0,TRUE,FALSE)","v":false}]
[null,null,null,null,null,0,null,null,0,0,null,null,true,true,true,true,4,false]
[null,null,null,null,null,0,null,null,0,0,null,null,true,true,true,true,4,false]
[null,null,null,null,null,0,null,null,0,0,null,null,true,true,true,true,4,false]
[null,null,null,null,null,0,null,null,0,0,null,null,true,true,true,true,4,false]
[null,null,null,null,null,0,null,null,0,0,null,null,true,true,true,true,4,false]
[null,null,null,null,null,0,null,null,0,0,null,null,true,true,true,true,4,false]
[null,null,null,null,null,0,null,null,0,0,null,null,true,true,true,true,4,false]
[null,null,null,null,null,0,null,null,0,0,null,null,true,true,true,true,4,true]
[null,"4.2 Rent of equipment",null,null,null,{"$f":"SUM(F135:F154)","v":0},null,null,{"$f":"SUM(I135:I154)","v":0},{"$f":"SUM(J135:J154)","v":0},null,null,null,null,null,null,null,true]
[null,null,null,null,null,{"$f":"ROUND(D135*E135,2)","v":0},null,null,{"$f":"ROUND(G135*H135,2)","v":0},{"$f":"F135+I135","v":0},null,null,{"$f":"ISBLANK(B135)","v":true},{"$f":"ISBLANK(C135)","v":true},true,true,{"$f":"M135+N135+O135+P135","v":4},{"$f":"IF(Q135=0,TRUE,FALSE)","v":false}]
[null,null,null,null,null,{"$f":"ROUND(D136*E136,2)","v":0},null,null,0,{"$f":"F136+I136","v":0},null,null,{"$f":"ISBLANK(B136)","v":true},true,true,true,{"$f":"M136+N136+O136+P136","v":4},{"$f":"IF(Q136=0,TRUE,FALSE)","v":false}]
[null,null,null,null,null,0,null,null,0,0,null,null,true,true,true,true,4,false]
[null,null,null,null,null,0,null,null,0,0,null,null,true,true,true,true,4,false]
[null,null,null,null,null,0,null,null,0,0,null,null,true,true,true,true,4,false]
[null,null,null,null,null,0,null,null,0,0,null,null,true,true,true,true,4,false]
[null,null,null,null,null,0,null,null,0,0,null,null,true,true,true,true,4,false]
[null,null,null,null,null,0,null,null,0,0,null,null,true,true,true,true,4,false]
[null,null,null,null,null,0,null,null,0,0,null,null,true,true,true,true,4,false]
[null,null,null,null,null,0,null,null,0,0,null,null,true,true,true,true,4,true]
[null,null,null,null,null,{"$f":"ROUND(D145*E145,2)","v":0},null,null,{"$f":"ROUND(G145*H145,2)","v":0},{"$f":"F145+I145","v":0},null,null,{"$f":"ISBLANK(B145)","v":true},{"$f":"ISBLANK(C145)","v":true},{"$f":"ISBLANK(D145)","v":true},{"$f":"ISBLANK(E145)","v":true},{"$f":"M145+N145+O145+P145","v":4},{"$f":"IF(Q145=0,TRUE,FALSE)","v":false}]
[null,null,null,null,null,{"$f":"ROUND(D146*E146,2)","v":0},null,null,0,{"$f":"F146+I146","v":0},null,null,{"$f":"ISBLANK(B146)","v":true},true,true,true,{"$f":"M146+N146+O146+P146","v":4},{"$f":"IF(Q146=0,TRUE,FALSE)","v":false}]
[null,null,null,null,null,0,null,null,0,0,null,null,true,true,true,true,4,false]
[null,null,null,null,null,0,null,null,0,0,null,null,true,true,true,true,4,false]
[null,null,null,null,null,0,null,null,0,0,null,null,true,true,true,true,4,false]
[null,null,null,null,null,0,null,null,0,0,null,null,true,true,true,true,4,false]
[null,null,null,null,null,0,null,null,0,0,null,null,true,true,true,true,4,false]
[null,null,null,null,null,0,null,null,0,0,null,null,true,true,true,true,4,false]
[null,null,null,null,null,0,null,null,0,0,null,null,true,true,true,true,4,false]
[null,null,null,null,null,0,null,null,0,0,null,null,true,true,true,true,4,true]
[null,"4.3 Coffee breaks, refreshments, etc.",null,null,null,{"$f":"SUM(F156:F175)","v":0},null,null,{"$f":"SUM(I156:I175)","v":0},{"$f":"SUM(J156:J175)","v":0},null,null,null,null,null,null,null,true]
[null,null,null,null,null,{"$f":"ROUND(D156*E156,2)","v":0},null,null,{"$f":"ROUND(G156*H156,2)","v":0},{"$f":"F156+I156","v":0},null,null,{"$f":"ISBLANK(B156)","v":true},{"$f":"ISBLANK(C156)","v":true},true,true,{"$f":"M156+N156+O156+P156","v":4},{"$f":"IF(Q156=0,TRUE,FALSE)","v":false}]
[null,null,null,null,null,{"$f":"ROUND(D157*E157,2)","v":0},null,null,0,{"$f":"F157+I157","v":0},null,null,{"$f":"ISBLANK(B157)","v":true},true,true,true,{"$f":"M157+N157+O157+P157","v":4},{"$f":"IF(Q157=0,TRUE,FALSE)","v":false}]
[null,null,null,null,null,0,null,null,0,0,null,null,true,true,true,true,4,false]
[null,null,null,null,null,0,null,null,0,0,null,null,true,true,true,true,4,false]
[null,null,null,null,null,0,null,null,0,0,null,null,true,true,true,true,4,false]
[null,null,null,null,null,0,null,null,0,0,null,null,true,true,true,true,4,false]
[null,null,null,null,null,0,null,null,0,0,null,null,true,true,true,true,4,false]
[null,null,null,null,null,0,null,null,0,0,null,null,true,true,true,true,4,false]
[null,null,null,null,null,0,null,null,0,0,null,null,true,true,true,true,4,false]
[null,null,null,null,null,0,null,null,0,0,null,null,true,true,true,true,4,true]
[null,null,null,null,null,{"$f":"ROUND(D166*E166,2)","v":0},null,null,{"$f":"ROUND(G166*H166,2)","v":0},{"$f":"F166+I166","v":0},null,null,{"$f":"ISBLANK(B166)","v":true},{"$f":"ISBLANK(C166)","v":true},{"$f":"ISBLANK(D166)","v":true},{"$f":"ISBLANK(E166)","v":true},{"$f":"M166+N166+O166+P166","v":4},{"$f":"IF(Q166=0,TRUE,FALSE)","v":false}]
[null,null,null,null,null,{"$f":"ROUND(D167*E167,2)","v":0},null,null,0,{"$f":"F167+I167","v":0},null,null,{"$f":"ISBLANK(B167)","v":true},true,true,true,{"$f":"M167+N167+O167+P167","v":4},{"$f":"IF(Q167=0,TRUE,FALSE)","v":false}]
[null,null,null,null,null,0,null,null,0,0,null,null,true,true,true,true,4,false]
[null,null,null,null,null,0,null,null,0,0,null,null,true,true,true,true,4,false]
[null,null,null,null,null,0,null,null,0,0,null,null,true,true,true,true,4,false]
[null,null,null,null,null,0,null,null,0,0,null,null,true,true,true,true,4,false]
[null,null,null,null,null,0,null,null,0,0,null,null,true,true,true,true,4,false]
[null,null,null,null,null,0,null,null,0,0,null,null,true,true,true,true,4,false]
[null,null,null,null,null,0,null,null,0,0,null,null,true,true,true,true,4,false]
[null,null,null,null,null,0,null,null,0,0,null,null,true,true,true,true,4,true]
[null,"4.4  Consumables",null,null,null,{"$f":"SUM(F177:F196)","v":0},null,null,{"$f":"SUM(I177:I196)","v":0},{"$f":"SUM(J177:J196)","v":0},null,null,null,null,null,null,null,true]
[null,null,null,null,null,{"$f":"ROUND(D177*E177,2)","v":0},null,null,{"$f":"ROUND(G177*H177,2)","v":0},{"$f":"F177+I177","v":0},null,null,{"$f":"ISBLANK(B177)","v":true},{"$f":"ISBLANK(C177)","v":true},true,true,{"$f":"M177+N177+O177+P177","v":4},{"$f":"IF(Q177=0,TRUE,FALSE)","v":false}]
[null,null,null,null,null,{"$f":"ROUND(D178*E178,2)","v":0},null,null,0,{"$f":"F178+I178","v":0},null,null,{"$f":"ISBLANK(B178)","v":true},true,true,true,{"$f":"M178+N178+O178+P178","v":4},{"$f":"IF(Q178=0,TRUE,FALSE)","v":false}]
[null,null,null,null,null,0,null,null,0,0,null,null,true,true,true,true,4,false]
[null,null,null,null,null,0,null,null,0,0,null,null,true,true,true,true,4,false]
[null,null,null,null,null,0,null,null,0,0,null,null,true,true,true,true,4,false]
[null,null,null,null,null,0,null,null,0,0,null,null,true,true,true,true,4,false]
[null,null,null,null,null,0,null,null,0,0,null,null,true,true,true,true,4,false]
[null,null,null,null,null,0,null,null,0,0,null,null,true,true,true,true,4,false]
[null,null,null,null,null,0,null,null,0,0,null,null,true,true,true,true,4,false]
[null,null,null,null,null,0,null,null,0,0,null,null,true,true,true,true,4,true]
[null,null,null,null,null,{"$f":"ROUND(D187*E187,2)","v":0},null,null,{"$f":"ROUND(G187*H187,2)","v":0},{"$f":"F187+I187","v":0},null,null,{"$f":"ISBLANK(B187)","v":true},{"$f":"ISBLANK(C187)","v":true},{"$f":"ISBLANK(D187)","v":true},{"$f":"ISBLANK(E187)","v":true},{"$f":"M187+N187+O187+P187","v":4},{"$f":"IF(Q187=0,TRUE,FALSE)","v":false}]
[null,null,null,null,null,{"$f":"ROUND(D188*E188,2)","v":0},null,null,0,{"$f":"F188+I188","v":0},null,null,{"$f":"ISBLANK(B188)","v":true},true,true,true,{"$f":"M188+N188+O188+P188","v":4},{"$f":"IF(Q188=0,TRUE,FALSE)","v":false}]
[null,null,null,null,null,0,null,null,0,0,null,null,true,true,true,true,4,false]
[null,null,null,null,null,0,null,null,0,0,null,null,true,true,true,true,4,false]
[null,null,null,null,null,0,null,null,0,0,null,null,true,true,true,true,4,false]
[null,null,null,null,null,0,null,null,0,0,null,null,true,true,true,true,4,false]
[null,null,null,null,null,0,null,null,0,0,null,null,true,true,true,true,4,false]
[null,null,null,null,null,0,null,null,0,0,null,null,true,true,true,true,4,false]
[null,null,null,null,null,0,null,null,0,0,null,null,true,true,true,true,4,false]
[null,null,null,null,null,0,null,null,0,0,null,null,true,true,true,true,4,true]
[null,"4.5 Rent of vehicle for event",null,null,null,{"$f":"SUM(F198:F217)","v":0},null,null,{"$f":"SUM(I198:I217)","v":0},{"$f":"SUM(J198:J217)","v":0},null,null,null,null,null,null,null,true]
[null,null,null,null,null,{"$f":"ROUND(D198*E198,2)","v":0},null,null,{"$f":"ROUND(G198*H198,2)","v":0},{"$f":"F198+I198","v":0},null,null,{"$f":"ISBLANK(B198)","v":true},{"$f":"ISBLANK(C198)","v":true},true,true,{"$f":"M198+N198+O198+P198","v":4},{"$f":"IF(Q198=0,TRUE,FALSE)","v":false}]
[null,null,null,null,null,{"$f":"ROUND(D199*E199,2)","v":0},null,null,0,{"$f":"F199+I199","v":0},null,null,{"$f":"ISBLANK(B199)","v":true},true,true,true,{"$f":"M199+N199+O199+P199","v":4},{"$f":"IF(Q199=0,TRUE,FALSE)","v":false}]
[null,null,null,null,null,0,null,null,0,0,null,null,true,true,true,true,4,false]
[null,null,null,null,null,0,null,null,0,0,null,null,true,true,true,true,4,false]
[null,null,null,null,null,0,null,null,0,0,null,null,true,true,true,true,4,false]
[null,null,null,null,null,0,null,null,0,0,null,null,true,true,true,true,4,false]
[null,null,null,null,null,0,null,null,0,0,null,null,true,true,true,true,4,false]
[null,null,null,null,null,0,null,null,0,0,null,null,true,true,true,true,4,false]
[null,null,null,null,null,0,null,null,0,0,null,null,true,true,true,true,4,false]
[null,null,null,null,null,0,null,null,0,0,null,null,true,true,true,true,4,true]
[null,null,null,null,null,{"$f":"ROUND(D208*E208,2)","v":0},null,null,{"$f":"ROUND(G208*H208,2)","v":0},{"$f":"F208+I208","v":0},null,null,{"$f":"ISBLANK(B208)","v":true},{"$f":"ISBLANK(C208)","v":true},{"$f":"ISBLANK(D208)","v":true},{"$f":"ISBLANK(E208)","v":true},{"$f":"M208+N208+O208+P208","v":4},{"$f":"IF(Q208=0,TRUE,FALSE)","v":false}]
[null,null,null,null,null,{"$f":"ROUND(D209*E209,2)","v":0},null,null,0,{"$f":"F209+I209","v":0},null,null,{"$f":"ISBLANK(B209)","v":true},true,true,true,{"$f":"M209+N209+O209+P209","v":4},{"$f":"IF(Q209=0,TRUE,FALSE)","v":false}]
[null,null,null,null,null,0,null,null,0,0,null,null,true,true,true,true,4,false]
[null,null,null,null,null,0,null,null,0,0,null,null,true,true,true,true,4,false]
[null,null,null,null,null,0,null,null,0,0,null,null,true,true,true,true,4,false]
[null,null,null,null,null,0,null,null,0,0,null,null,true,true,true,true,4,false]
[null,null,null,null,null,0,null,null,0,0,null,null,true,true,true,true,4,false]
[null,null,null,null,null,0,null,null,0,0,null,null,true,true,true,true,4,false]
[null,null,null,null,null,0,null,null,0,0,null,null,true,true,true,true,4,false]
[null,null,null,null,null,0,null,null,0,0,null,null,true,true,true,true,4,true]
[null,"4.6 Accommodations for participants in the events ",null,null,null,{"$f":"SUM(F219:F238)","v":0},null,null,{"$f":"SUM(I219:I238)","v":0},{"$f":"SUM(J219:J238)","v":0},null,null,null,null,null,null,null,true]
[null,null,null,null,null,{"$f":"ROUND(D219*E219,2)","v":0},null,null,{"$f":"ROUND(G219*H219,2)","v":0},{"$f":"F219+I219","v":0},null,null,{"$f":"ISBLANK(B219)","v":true},{"$f":"ISBLANK(C219)","v":true},true,true,{"$f":"M219+N219+O219+P219","v":4},{"$f":"IF(Q219=0,TRUE,FALSE)","v":false}]
[null,null,null,null,null,{"$f":"ROUND(D220*E220,2)","v":0},null,null,0,{"$f":"F220+I220","v":0},null,null,{"$f":"ISBLANK(B220)","v":true},true,true,true,{"$f":"M220+N220+O220+P220","v":4},{"$f":"IF(Q220=0,TRUE,FALSE)","v":false}]
[null,null,null,null,null,0,null,null,0,0,null,null,true,true,true,true,4,false]
[null,null,null,null,null,0,null,null,0,0,null,null,true,true,true,true,4,false]
[null,null,null,null,null,0,null,null,0,0,null,null,true,true,true,true,4,false]
[null,null,null,null,null,0,null,null,0,0,null,null,true,true,true,true,4,false]
[null,null,null,null,null,0,null,null,0,0,null,null,true,true,true,true,4,false]
[null,null,null,null,null,0,null,null,0,0,null,null,true,true,true,true,4,false]
[null,null,null,null,null,0,null,null,0,0,null,null,true,true,true,true,4,false]
[null,null,null,null,null,0,null,null,0,0,null,null,true,true,true,true,4,true]
[null,null,null,null,null,{"$f":"ROUND(D229*E229,2)","v":0},null,null,{"$f":"ROUND(G229*H229,2)","v":0},{"$f":"F229+I229","v":0},null,null,{"$f":"ISBLANK(B229)","v":true},{"$f":"ISBLANK(C229)","v":true},{"$f":"ISBLANK(D229)","v":true},{"$f":"ISBLANK(E229)","v":true},{"$f":"M229+N229+O229+P229","v":4},{"$f":"IF(Q229=0,TRUE,FALSE)","v":false}]
[null,null,null,null,null,{"$f":"ROUND(D230*E230,2)","v":0},null,null,0,{"$f":"F230+I230","v":0},null,null,{"$f":"ISBLANK(B230)","v":true},true,true,true,{"$f":"M230+N230+O230+P230","v":4},{"$f":"IF(Q230=0,TRUE,FALSE)","v":false}]
[null,null,null,null,null,0,null,null,0,0,null,null,true,true,true,true,4,false]
[null,null,null,null,null,0,null,null,0,0,null,null,true,true,true,true,4,false]
[null,null,null,null,null,0,null,null,0,0,null,null,true,true,true,true,4,false]
[null,null,null,null,null,0,null,null,0,0,null,null,true,true,true,true,4,false]
[null,null,null,null,null,0,null,null,0,0,null,null,true,true,true,true,4,false]
[null,null,null,null,null,0,null,null,0,0,null,null,true,true,true,true,4,false]
[null,null,null,null,null,0,null,null,0,0,null,null,true,true,true,true,4,false]
[null,null,null,null,null,0,null,null,0,0,null,null,true,true,true,true,4,true]
[null,"4.7 Elaboration, design,translation etc.",null,null,null,{"$f":"SUM(F240:F259)","v":0},null,null,{"$f":"SUM(I240:I259)","v":0},{"$f":"SUM(J240:J259)","v":0},null,null,null,null,null,null,null,true]
[null,null,null,null,null,{"$f":"ROUND(D240*E240,2)","v":0},null,null,{"$f":"ROUND(G240*H240,2)","v":0},{"$f":"F240+I240","v":0},null,null,{"$f":"ISBLANK(B240)","v":true},{"$f":"ISBLANK(C240)","v":true},true,true,{"$f":"M240+N240+O240+P240","v":4},{"$f":"IF(Q240=0,TRUE,FALSE)","v":false}]
[null,null,null,null,null,{"$f":"ROUND(D241*E241,2)","v":0},null,null,0,{"$f":"F241+I241","v":0},null,null,{"$f":"ISBLANK(B241)","v":true},true,true,true,{"$f":"M241+N241+O241+P241","v":4},{"$f":"IF(Q241=0,TRUE,FALSE)","v":false}]
[null,null,null,null,null,0,null,null,0,0,null,null,true,true,true,true,4,false]
[null,null,null,null,null,0,null,null,0,0,null,null,true,true,true,true,4,false]
[null,null,null,null,null,0,null,null,0,0,null,null,true,true,true,true,4,false]
[null,null,null,null,null,0,null,null,0,0,null,null,true,true,true,true,4,false]
[null,null,null,null,null,0,null,null,0,0,null,null,true,true,true,true,4,false]
[null,null,null,null,null,0,null,null,0,0,null,null,true,true,true,true,4,false]
[null,null,null,null,null,0,null,null,0,0,null,null,true,true,true,true,4,false]
[null,null,null,null,null,0,null,null,0,0,null,null,true,true,true,true,4,true]
[null,null,null,null,null,{"$f":"ROUND(D250*E250,2)","v":0},null,null,{"$f":"ROUND(G250*H250,2)","v":0},{"$f":"F250+I250","v":0},null,null,{"$f":"ISBLANK(B250)","v":true},{"$f":"ISBLANK(C250)","v":true},{"$f":"ISBLANK(D250)","v":true},{"$f":"ISBLANK(E250)","v":true},{"$f":"M250+N250+O250+P250","v":4},{"$f":"IF(Q250=0,TRUE,FALSE)","v":false}]
[null,null,null,null,null,{"$f":"ROUND(D251*E251,2)","v":0},null,null,0,{"$f":"F251+I251","v":0},null,null,{"$f":"ISBLANK(B251)","v":true},true,true,true,{"$f":"M251+N251+O251+P251","v":4},{"$f":"IF(Q251=0,TRUE,FALSE)","v":false}]
[null,null,null,null,null,0,null,null,0,0,null,null,true,true,true,true,4,false]
[null,null,null,null,null,0,null,null,0,0,null,null,true,true,true,true,4,false]
[null,null,null,null,null,0,null,null,0,0,null,null,true,true,true,true,4,false]
[null,null,null,null,null,0,null,null,0,0,null,null,true,true,true,true,4,false]
[null,null,null,null,null,0,null,null,0,0,null,null,true,true,true,true,4,false]
[null,null,null,null,null,0,null,null,0,0,null,null,true,true,true,true,4,false]
[null,null,null,null,null,0,null,null,0,0,null,null,true,true,true,true,4,false]
[null,null,null,null,null,0,null,null,0,0,null,null,true,true,true,true,4,true]
[null,"4.8 Publications in mass-media",null,null,null,{"$f":"SUM(F261:F280)","v":0},null,null,{"$f":"SUM(I261:I280)","v":0},{"$f":"SUM(J261:J280)","v":0},null,null,null,null,null,null,null,true]
[null,null,null,null,null,{"$f":"ROUND(D261*E261,2)","v":0},null,null,{"$f":"ROUND(G261*H261,2)","v":0},{"$f":"F261+I261","v":0},null,null,{"$f":"ISBLANK(B261)","v":true},{"$f":"ISBLANK(C261)","v":true},true,true,{"$f":"M261+N261+O261+P261","v":4},{"$f":"IF(Q261=0,TRUE,FALSE)","v":false}]
[null,null,null,null,null,{"$f":"ROUND(D262*E262,2)","v":0},null,null,0,{"$f":"F262+I262","v":0},null,null,{"$f":"ISBLANK(B262)","v":true},true,true,true,{"$f":"M262+N262+O262+P262","v":4},{"$f":"IF(Q262=0,TRUE,FALSE)","v":false}]
[null,null,null,null,null,0,null,null,0,0,null,null,true,true,true,true,4,false]
[null,null,null,null,null,0,null,null,0,0,null,null,true,true,true,true,4,false]
[null,null,null,null,null,0,null,null,0,0,null,null,true,true,true,true,4,false]
[null,null,null,null,null,0,null,null,0,0,null,null,true,true,true,true,4,false]
[null,null,null,null,null,0,null,null,0,0,null,null,true,true,true,true,4,false]
[null,null,null,null,null,0,null,null,0,0,null,null,true,true,true,true,4,false]
[null,null,null,null,null,0,null,null,0,0,null,null,true,true,true,true,4,false]
[null,null,null,null,null,0,null,null,0,0,null,null,true,true,true,true,4,true]
[null,null,null,null,null,{"$f":"ROUND(D271*E271,2)","v":0},null,null,{"$f":"ROUND(G271*H271,2)","v":0},{"$f":"F271+I271","v":0},null,null,{"$f":"ISBLANK(B271)","v":true},{"$f":"ISBLANK(C271)","v":true},{"$f":"ISBLANK(D271)","v":true},{"$f":"ISBLANK(E271)","v":true},{"$f":"M271+N271+O271+P271","v":4},{"$f":"IF(Q271=0,TRUE,FALSE)","v":false}]
[null,null,null,null,null,{"$f":"ROUND(D272*E272,2)","v":0},null,null,0,{"$f":"F272+I272","v":0},null,null,{"$f":"ISBLANK(B272)","v":true},true,true,true,{"$f":"M272+N272+O272+P272","v":4},{"$f":"IF(Q272=0,TRUE,FALSE)","v":false}]
[null,null,null,null,null,0,null,null,0,0,null,null,true,true,true,true,4,false]
[null,null,null,null,null,0,null,null,0,0,null,null,true,true,true,true,4,false]
[null,null,null,null,null,0,null,null,0,0,null,null,true,true,true,true,4,false]
[null,null,null,null,null,0,null,null,0,0,null,null,true,true,true,true,4,false]
[null,null,null,null,null,0,null,null,0,0,null,null,true,true,true,true,4,false]
[null,null,null,null,null,0,null,null,0,0,null,null,true,true,true,true,4,false]
[null,null,null,null,null,0,null,null,0,0,null,null,true,true,true,true,4,false]
[null,null,null,null,null,0,null,null,0,0,null,null,true,true,true,true,4,true]
[null,"4.9 Consultancy, studies,designs, website development etc.",null,null,null,{"$f":"SUM(F282:F301)","v":0},null,null,{"$f":"SUM(I282:I301)","v":0},{"$f":"SUM(J282:J301)","v":0},null,null,null,null,null,null,null,true]
[null,null,null,null,null,{"$f":"ROUND(D282*E282,2)","v":0},null,null,{"$f":"ROUND(G282*H282,2)","v":0},{"$f":"F282+I282","v":0},null,null,{"$f":"ISBLANK(B282)","v":true},{"$f":"ISBLANK(C282)","v":true},true,true,{"$f":"M282+N282+O282+P282","v":4},{"$f":"IF(Q282=0,TRUE,FALSE)","v":false}]
[null,null,null,null,null,{"$f":"ROUND(D283*E283,2)","v":0},null,null,0,{"$f":"F283+I283","v":0},null,null,{"$f":"ISBLANK(B283)","v":true},true,true,true,{"$f":"M283+N283+O283+P283","v":4},{"$f":"IF(Q283=0,TRUE,FALSE)","v":false}]
[null,null,null,null,null,0,null,null,0,0,null,null,true,true,true,true,4,false]
[null,null,null,null,null,0,null,null,0,0,null,null,true,true,true,true,4,false]
[null,null,null,null,null,0,null,null,0,0,null,null,true,true,true,true,4,false]
[null,null,null,null,null,0,null,null,0,0,null,null,true,true,true,true,4,false]
[null,null,null,null,null,0,null,null,0,0,null,null,true,true,true,true,4,false]
[null,null,null,null,null,0,null,null,0,0,null,null,true,true,true,true,4,false]
[null,null,null,null,null,0,null,null,0,0,null,null,true,true,true,true,4,false]
[null,null,null,null,null,0,null,null,0,0,null,null,true,true,true,true,4,true]
[null,null,null,null,null,{"$f":"ROUND(D292*E292,2)","v":0},null,null,{"$f":"ROUND(G292*H292,2)","v":0},{"$f":"F292+I292","v":0},null,null,{"$f":"ISBLANK(B292)","v":true},{"$f":"ISBLANK(C292)","v":true},{"$f":"ISBLANK(D292)","v":true},{"$f":"ISBLANK(E292)","v":true},{"$f":"M292+N292+O292+P292","v":4},{"$f":"IF(Q292=0,TRUE,FALSE)","v":false}]
[null,null,null,null,null,{"$f":"ROUND(D293*E293,2)","v":0},null,null,0,{"$f":"F293+I293","v":0},null,null,{"$f":"ISBLANK(B293)","v":true},true,true,true,{"$f":"M293+N293+O293+P293","v":4},{"$f":"IF(Q293=0,TRUE,FALSE)","v":false}]
[null,null,null,null,null,0,null,null,0,0,null,null,true,true,true,true,4,false]
[null,null,null,null,null,0,null,null,0,0,null,null,true,true,true,true,4,false]
[null,null,null,null,null,0,null,null,0,0,null,null,true,true,true,true,4,false]
[null,null,null,null,null,0,null,null,0,0,null,null,true,true,true,true,4,false]
[null,null,null,null,null,0,null,null,0,0,null,null,true,true,true,true,4,false]
[null,null,null,null,null,0,null,null,0,0,null,null,true,true,true,true,4,false]
[null,null,null,null,null,0,null,null,0,0,null,null,true,true,true,true,4,false]
[null,null,null,null,null,0,null,null,0,0,null,null,true,true,true,true,4,true]
[null,"4.10  Authorizations, certificates",null,null,null,{"$f":"SUM(F303:F322)","v":0},null,null,{"$f":"SUM(I303:I322)","v":0},{"$f":"SUM(J303:J322)","v":0},null,null,null,null,null,null,null,true]
[null,null,null,null,null,{"$f":"ROUND(D303*E303,2)","v":0},null,null,{"$f":"ROUND(G303*H303,2)","v":0},{"$f":"F303+I303","v":0},null,null,{"$f":"ISBLANK(B303)","v":true},{"$f":"ISBLANK(C303)","v":true},true,true,{"$f":"M303+N303+O303+P303","v":4},{"$f":"IF(Q303=0,TRUE,FALSE)","v":false}]
[null,null,null,null,null,{"$f":"ROUND(D304*E304,2)","v":0},null,null,0,{"$f":"F304+I304","v":0},null,null,{"$f":"ISBLANK(B304)","v":true},true,true,true,{"$f":"M304+N304+O304+P304","v":4},{"$f":"IF(Q304=0,TRUE,FALSE)","v":false}]
[null,null,null,null,null,0,null,null,0,0,null,null,true,true,true,true,4,false]
[null,null,null,null,null,0,null,null,0,0,null,null,true,true,true,true,4,false]
[null,null,null,null,null,0,null,null,0,0,null,null,true,true,true,true,4,false]
[null,null,null,null,null,0,null,null,0,0,null,null,true,true,true,true,4,false]
[null,null,null,null,null,0,null,null,0,0,null,null,true,true,true,true,4,false]
[null,null,null,null,null,0,null,null,0,0,null,null,true,true,true,true,4,false]
[null,null,null,null,null,0,null,null,0,0,null,null,true,true,true,true,4,false]
[null,null,null,null,null,0,null,null,0,0,null,null,true,true,true,true,4,true]
[null,null,null,null,null,{"$f":"ROUND(D313*E313,2)","v":0},null,null,{"$f":"ROUND(G313*H313,2)","v":0},{"$f":"F313+I313","v":0},null,null,{"$f":"ISBLANK(B313)","v":true},{"$f":"ISBLANK(C313)","v":true},{"$f":"ISBLANK(D313)","v":true},{"$f":"ISBLANK(E313)","v":true},{"$f":"M313+N313+O313+P313","v":4},{"$f":"IF(Q313=0,TRUE,FALSE)","v":false}]
[null,null,null,null,null,{"$f":"ROUND(D314*E314,2)","v":0},null,null,0,{"$f":"F314+I314","v":0},null,null,{"$f":"ISBLANK(B314)","v":true},true,true,true,{"$f":"M314+N314+O314+P314","v":4},{"$f":"IF(Q314=0,TRUE,FALSE)","v":false}]
[null,null,null,null,null,0,null,null,0,0,null,null,true,true,true,true,4,false]
[null,null,null,null,null,0,null,null,0,0,null,null,true,true,true,true,4,false]
[null,null,null,null,null,0,null,null,0,0,null,null,true,true,true,true,4,false]
[null,null,null,null,null,0,null,null,0,0,null,null,true,true,true,true,4,false]
[null,null,null,null,null,0,null,null,0,0,null,null,true,true,true,true,4,false]
[null,null,null,null,null,0,null,null,0,0,null,null,true,true,true,true,4,false]
[null,null,null,null,null,0,null,null,0,0,null,null,true,true,true,true,4,false]
[null,null,null,null,null,0,null,null,0,0,null,null,true,true,true,true,4,true]
[null,"4.11  Interpreters, lecturers, trainers",null,null,null,{"$f":"SUM(F324:F343)","v":0},null,null,{"$f":"SUM(I324:I343)","v":0},{"$f":"SUM(J324:J343)","v":0},null,null,null,null,null,null,null,true]
[null,null,null,null,null,{"$f":"ROUND(D324*E324,2)","v":0},null,null,{"$f":"ROUND(G324*H324,2)","v":0},{"$f":"F324+I324","v":0},null,null,{"$f":"ISBLANK(B324)","v":true},{"$f":"ISBLANK(C324)","v":true},true,true,{"$f":"M324+N324+O324+P324","v":4},{"$f":"IF(Q324=0,TRUE,FALSE)","v":false}]
[null,null,null,null,null,{"$f":"ROUND(D325*E325,2)","v":0},null,null,0,{"$f":"F325+I325","v":0},null,null,{"$f":"ISBLANK(B325)","v":true},true,true,true,{"$f":"M325+N325+O325+P325","v":4},{"$f":"IF(Q325=0,TRUE,FALSE)","v":false}]
[null,null,null,null,null,0,null,null,0,0,null,null,true,true,true,true,4,false]
[null,null,null,null,null,0,null,null,0,0,null,null,true,true,true,true,4,false]
[null,null,null,null,null,0,null,null,0,0,null,null,true,true,true,true,4,false]
[null,null,null,null,null,0,null,null,0,0,null,null,true,true,true,true,4,false]
[null,null,null,null,null,0,null,null,0,0,null,null,true,true,true,true,4,false]
[null,null,null,null,null,0,null,null,0,0,null,null,true,true,true,true,4,false]
[null,null,null,null,null,0,null,null,0,0,null,null,true,true,true,true,4,false]
[null,null,null,null,null,0,null,null,0,0,null,null,true,true,true,true,4,true]
[null,null,null,null,null,{"$f":"ROUND(D334*E334,2)","v":0},null,null,{"$f":"ROUND(G334*H334,2)","v":0},{"$f":"F334+I334","v":0},null,null,{"$f":"ISBLANK(B334)","v":true},{"$f":"ISBLANK(C334)","v":true},{"$f":"ISBLANK(D334)","v":true},{"$f":"ISBLANK(E334)","v":true},{"$f":"M334+N334+O334+P334","v":4},{"$f":"IF(Q334=0,TRUE,FALSE)","v":false}]
[null,null,null,null,null,{"$f":"ROUND(D335*E335,2)","v":0},null,null,0,{"$f":"F335+I335","v":0},null,null,{"$f":"ISBLANK(B335)","v":true},true,true,true,{"$f":"M335+N335+O335+P335","v":4},{"$f":"IF(Q335=0,TRUE,FALSE)","v":false}]
[null,null,null,null,null,0,null,null,0,0,null,null,true,true,true,true,4,false]
[null,null,null,null,null,0,null,null,0,0,null,null,true,true,true,true,4,false]
[null,null,null,null,null,0,null,null,0,0,null,null,true,true,true,true,4,false]
[null,null,null,null,null,0,null,null,0,0,null,null,true,true,true,true,4,false]
[null,null,null,null,null,0,null,null,0,0,null,null,true,true,true,true,4,false]
[null,null,null,null,null,0,null,null,0,0,null,null,true,true,true,true,4,false]
[null,null,null,null,null,0,null,null,0,0,null,null,true,true,true,true,4,false]
[null,null,null,null,null,0,null,null,0,0,null,null,true,true,true,true,4,true]
[null,"4.12 Others",null,null,null,{"$f":"SUM(F345:F364)","v":0},null,null,{"$f":"SUM(I345:I364)","v":0},{"$f":"SUM(J345:J364)","v":0},null,null,null,null,null,null,null,true]
[null,null,null,null,null,{"$f":"ROUND(D345*E345,2)","v":0},null,null,{"$f":"ROUND(G345*H345,2)","v":0},{"$f":"F345+I345","v":0},null,null,{"$f":"ISBLANK(B345)","v":true},{"$f":"ISBLANK(C345)","v":true},true,true,{"$f":"M345+N345+O345+P345","v":4},{"$f":"IF(Q345=0,TRUE,FALSE)","v":false}]
[null,null,null,null,null,{"$f":"ROUND(D346*E346,2)","v":0},null,null,0,{"$f":"F346+I346","v":0},null,null,{"$f":"ISBLANK(B346)","v":true},true,true,true,{"$f":"M346+N346+O346+P346","v":4},{"$f":"IF(Q346=0,TRUE,FALSE)","v":false}]
[null,null,null,null,null,0,null,null,0,0,null,null,true,true,true,true,4,false]
[null,null,null,null,null,0,null,null,0,0,null,null,true,true,true,true,4,false]
[null,null,null,null,null,0,null,null,0,0,null,null,true,true,true,true,4,false]
[null,null,null,null,null,0,null,null,0,0,null,null,true,true,true,true,4,false]
[null,null,null,null,null,0,null,null,0,0,null,null,true,true,true,true,4,false]
[null,null,null,null,null,0,null,null,0,0,null,null,true,true,true,true,4,false]
[null,null,null,null,null,0,null,null,0,0,null,null,true,true,true,true,4,false]
[null,null,null,null,null,0,null,null,0,0,null,null,true,true,true,true,4,true]
[null,null,null,null,null,{"$f":"ROUND(D355*E355,2)","v":0},null,null,{"$f":"ROUND(G355*H355,2)","v":0},{"$f":"F355+I355","v":0},null,null,{"$f":"ISBLANK(B355)","v":true},{"$f":"ISBLANK(C355)","v":true},{"$f":"ISBLANK(D355)","v":true},{"$f":"ISBLANK(E355)","v":true},{"$f":"M355+N355+O355+P355","v":4},{"$f":"IF(Q355=0,TRUE,FALSE)","v":false}]
[null,null,null,null,null,{"$f":"ROUND(D356*E356,2)","v":0},null,null,0,{"$f":"F356+I356","v":0},null,null,{"$f":"ISBLANK(B356)","v":true},true,true,true,{"$f":"M356+N356+O356+P356","v":4},{"$f":"IF(Q356=0,TRUE,FALSE)","v":false}]
[null,null,null,null,null,0,null,null,0,0,null,null,true,true,true,true,4,false]
[null,null,null,null,null,0,null,null,0,0,null,null,true,true,true,true,4,false]
[null,null,null,null,null,0,null,null,0,0,null,null,true,true,true,true,4,false]
[null,null,null,null,null,0,null,null,0,0,null,null,true,true,true,true,4,false]
[null,null,null,null,null,0,null,null,0,0,null,null,true,true,true,true,4,false]
[null,null,null,null,null,0,null,null,0,0,null,null,true,true,true,true,4,false]
[null,null,null,null,null,0,null,null,0,0,null,null,true,true,true,true,4,false]
[null,null,null,null,null,0,null,null,0,0,null,null,true,true,true,true,4,true]
[null,"TOTAL",null,null,null,{"$f":"F344+F323+F302+F281+F260+F239+F218+F197+F176+F155+F134+F113","v":0},null,null,{"$f":"I344+I323+I302+I281+I260+I239+I218+I197+I176+I155+I134+I113","v":0},{"$f":"J344+J323+J302+J281+J260+J239+J218+J197+J176+J155+J134+J113","v":0},null,null,null,null,null,null,null,true]
[null,null,null,null,null,null,null,null,null,null,null,null,{"$f":"O370+P370+N366","v":2},{"$f":"M28=\"Soft\"","v":false},null,null,null,true]
[null,"BL5 - EQUIPMENT AND WORKS","Unit","Expenditures in the eligible area",null,null,"N/A",null,null,"TOTAL",null,null,null,null,null,null,null,true]
[null,null,null,"Units","Unit rate","TOTAL","Units","Unit rate","TOTAL",null,null,null,null,null,null,null,null,true]
[null,"5.1 Small scale construction",null,null,null,{"$f":"SUM(F370:F389)","v":0},null,null,{"$f":"SUM(I370:I389)","v":0},{"$f":"SUM(J370:J389)","v":0},null,null,null,null,null,null,null,true]
[null,null,null,null,null,{"$f":"ROUND(D370*E370,2)","v":0},null,null,{"$f":"ROUND(G370*H370,2)","v":0},{"$f":"F370+I370","v":0},null,null,{"$f":"ISBLANK(B370)","v":true},{"$f":"ISBLANK(C370)","v":true},true,true,{"$f":"M370+N370+O370+P370","v":4},{"$f":"IF(Q370=0,TRUE,FALSE)","v":false}]
[null,null,null,null,null,{"$f":"ROUND(D371*E371,2)","v":0},null,null,0,{"$f":"F371+I371","v":0},null,null,{"$f":"ISBLANK(B371)","v":true},true,true,true,{"$f":"M371+N371+O371+P371","v":4},{"$f":"IF(Q371=0,TRUE,FALSE)","v":false}]
[null,null,null,null,null,0,null,null,0,0,null,null,true,true,true,true,4,false]
[null,null,null,null,null,0,null,null,0,0,null,null,true,true,true,true,4,false]
[null,null,null,null,null,0,null,null,0,0,null,null,true,true,true,true,4,false]
[null,null,null,null,null,0,null,null,0,0,null,null,true,true,true,true,4,false]
[null,null,null,null,null,0,null,null,0,0,null,null,true,true,true,true,4,false]
[null,null,null,null,null,0,null,null,0,0,null,null,true,true,true,true,4,false]
[null,null,null,null,null,0,null,null,0,0,null,null,true,true,true,true,4,false]
[null,null,null,null,null,0,null,null,0,0,null,null,true,true,true,true,4,true]
[null,null,null,null,null,{"$f":"ROUND(D380*E380,2)","v":0},null,null,{"$f":"ROUND(G380*H380,2)","v":0},{"$f":"F380+I380","v":0},null,null,{"$f":"ISBLANK(B380)","v":true},{"$f":"ISBLANK(C380)","v":true},{"$f":"ISBLANK(D380)","v":true},{"$f":"ISBLANK(E380)","v":true},{"$f":"M380+N380+O380+P380","v":4},{"$f":"IF(Q380=0,TRUE,FALSE)","v":false}]
[null,null,null,null,null,{"$f":"ROUND(D381*E381,2)","v":0},null,null,0,{"$f":"F381+I381","v":0},null,null,{"$f":"ISBLANK(B381)","v":true},true,true,true,{"$f":"M381+N381+O381+P381","v":4},{"$f":"IF(Q381=0,TRUE,FALSE)","v":false}]
[null,null,null,null,null,0,null,null,0,0,null,null,true,true,true,true,4,false]
[null,null,null,null,null,0,null,null,0,0,null,null,true,true,true,true,4,false]
[null,null,null,null,null,0,null,null,0,0,null,null,true,true,true,true,4,false]
[null,null,null,null,null,0,null,null,0,0,null,null,true,true,true,true,4,false]
[null,null,null,null,null,0,null,null,0,0,null,null,true,true,true,true,4,false]
[null,null,null,null,null,0,null,null,0,0,null,null,true,true,true,true,4,false]
[null,null,null,null,null,0,null,null,0,0,null,null,true,true,true,true,4,false]
[null,null,null,null,null,0,null,null,0,0,null,null,true,true,true,true,4,true]
[null,"5.2 Supply",null,null,null,{"$f":"SUM(F391:F410)","v":0},null,null,{"$f":"SUM(I391:I410)","v":0},{"$f":"SUM(J391:J410)","v":0},null,null,null,true,null,null,null,true]
[null,null,null,null,null,{"$f":"ROUND(D391*E391,2)","v":0},null,null,{"$f":"ROUND(G391*H391,2)","v":0},{"$f":"F391+I391","v":0},null,null,{"$f":"ISBLANK(B391)","v":true},{"$f":"ISBLANK(C391)","v":true},true,true,{"$f":"M391+N391+O391+P391","v":4},{"$f":"IF(Q391=0,TRUE,FALSE)","v":false}]
[null,null,null,null,null,{"$f":"ROUND(D392*E392,2)","v":0},null,null,0,{"$f":"F392+I392","v":0},null,null,{"$f":"ISBLANK(B392)","v":true},true,true,true,{"$f":"M392+N392+O392+P392","v":4},{"$f":"IF(Q392=0,TRUE,FALSE)","v":false}]
[null,null,null,null,null,0,null,null,0,0,null,null,true,true,true,true,4,false]
[null,null,null,null,null,0,null,null,0,0,null,null,true,true,true,true,4,false]
[null,null,null,null,null,0,null,null,0,0,null,null,true,true,true,true,4,false]
[null,null,null,null,null,0,null,null,0,0,null,null,true,true,true,true,4,false]
[null,null,null,null,null,0,null,null,0,0,null,null,true,true,true,true,4,false]
[null,null,null,null,null,0,null,null,0,0,null,null,true,true,true,true,4,false]
[null,null,null,null,null,0,null,null,0,0,null,null,true,true,true,true,4,false]
[null,null,null,null,null,0,null,null,0,0,null,null,true,true,true,true,4,true]
[null,null,null,null,null,{"$f":"ROUND(D401*E401,2)","v":0},null,null,{"$f":"ROUND(G401*H401,2)","v":0},{"$f":"F401+I401","v":0},null,null,{"$f":"ISBLANK(B401)","v":true},{"$f":"ISBLANK(C401)","v":true},{"$f":"ISBLANK(D401)","v":true},{"$f":"ISBLANK(E401)","v":true},{"$f":"M401+N401+O401+P401","v":4},{"$f":"IF(Q401=0,TRUE,FALSE)","v":false}]
[null,null,null,null,null,{"$f":"ROUND(D402*E402,2)","v":0},null,null,0,{"$f":"F402+I402","v":0},null,null,{"$f":"ISBLANK(B402)","v":true},true,true,true,{"$f":"M402+N402+O402+P402","v":4},{"$f":"IF(Q402=0,TRUE,FALSE)","v":false}]
[null,null,null,null,null,0,null,null,0,0,null,null,true,true,true,true,4,false]
[null,null,null,null,null,0,null,null,0,0,null,null,true,true,true,true,4,false]
[null,null,null,null,null,0,null,null,0,0,null,null,true,true,true,true,4,false]
[null,null,null,null,null,0,null,null,0,0,null,null,true,true,true,true,4,false]
[null,null,null,null,null,0,null,null,0,0,null,null,true,true,true,true,4,false]
[null,null,null,null,null,0,null,null,0,0,null,null,true,true,true,true,4,false]
[null,null,null,null,null,0,null,null,0,0,null,null,true,true,true,true,4,false]
[null,null,null,null,null,0,null,null,0,0,null,null,true,true,true,true,4,true]
[null,"TOTAL",null,null,null,{"$f":"F390+F369","v":0},null,null,{"$f":"I390+I369","v":0},{"$f":"J390+J369","v":0},null,null,null,null,null,null,null,true]
[null,null,null,null,null,null,null,null,null,null,null,null,null,null,null,null,null,true]
[null,"BL6 - PROJECT PREPARATION","Unit","Expenditures in the eligible area",null,null,"N/A",null,null,"TOTAL",null,null,null,null,null,null,null,true]
[null,null,null,"Units","Unit rate","TOTAL","Units","Unit rate","TOTAL",null,null,null,null,null,null,null,null,true]
[null,"6.1.Preparation of Application package ",null,null,null,{"$f":"SUM(F416:F425)","v":0},null,null,{"$f":"SUM(I416:I425)","v":0},{"$f":"SUM(J416:J425)","v":0}]
[null,null,null,null,null,{"$f":"ROUND(D416*E416,2)","v":0},null,null,{"$f":"ROUND(G416*H416,2)","v":0},{"$f":"F416+I416","v":0},null,null,{"$f":"ISBLANK(B416)","v":true},{"$f":"ISBLANK(C416)","v":true},true,true,{"$f":"M416+N416+O416+P416","v":4},{"$f":"IF(Q416=0,TRUE,FALSE)","v":false}]
[null,null,null,null,null,{"$f":"ROUND(D417*E417,2)","v":0},null,null,0,{"$f":"F417+I417","v":0},null,null,{"$f":"ISBLANK(B417)","v":true},true,true,true,{"$f":"M417+N417+O417+P417","v":4},{"$f":"IF(Q417=0,TRUE,FALSE)","v":false}]
[null,null,null,null,null,0,null,null,0,0,null,null,true,true,true,true,4,false]
[null,null,null,null,null,0,null,null,0,0,null,null,true,true,true,true,4,false]
[null,null,null,null,null,0,null,null,0,0,null,null,true,true,true,true,4,false]
[null,null,null,null,null,0,null,null,0,0,null,null,true,true,true,true,4,false]
[null,null,null,null,null,0,null,null,0,0,null,null,true,true,true,true,4,false]
[null,null,null,null,null,0,null,null,0,0,null,null,true,true,true,true,4,false]
[null,null,null,null,null,0,null,null,0,0,null,null,true,true,true,true,4,false]
[null,null,null,null,null,0,null,null,0,0,null,null,true,true,true,true,4,true]
[null,"6.2 Preparation of technical documentation ",null,null,null,{"$f":"SUM(F427:F436)","v":0},null,null,{"$f":"SUM(I427:I436)","v":0},{"$f":"SUM(J427:J436)","v":0},null,null,{"$f":"ISBLANK(B426)","v":false},true,true,true,{"$f":"M426+N426+O426+P426","v":3},{"$f":"IF(Q426=0,TRUE,FALSE)","v":false}]
[null,null,null,null,null,{"$f":"ROUND(D427*E427,2)","v":0},null,null,{"$f":"ROUND(G427*H427,2)","v":0},{"$f":"F427+I427","v":0},null,null,{"$f":"ISBLANK(B427)","v":true}]
[null,null,null,null,null,0,null,null,0,0,null,null,{"$f":"ISBLANK(B428)","v":true},true,true,true,{"$f":"M428+N428+O428+P428","v":4},{"$f":"IF(Q428=0,TRUE,FALSE)","v":false}]
[null,null,null,null,null,0,null,null,0,0,null,null,true,true,true,true,4,false]
[null,null,null,null,null,0,null,null,0,0,null,null,true,true,true,true,4,false]
[null,null,null,null,null,0,null,null,0,0,null,null,true,true,true,true,4,false]
[null,null,null,null,null,0,null,null,0,0,null,null,true,true,true,true,4,false]
[null,null,null,null,null,0,null,null,0,0,null,null,true,true,true,true,4,false]
[null,null,null,null,null,0,null,null,0,0,null,null,true,true,true,true,4,false]
[null,null,null,null,null,0,null,null,0,0,null,null,true,true,true,true,4,false]
[null,null,null,null,null,0,null,null,0,0,null,null,true,true,true,true,4,false]
[null,"TOTAL",null,null,null,{"$f":"F415+F426","v":0},null,null,{"$f":"I415+I426","v":0},{"$f":"J415+J426","v":0},null,null,null,null,null,null,null,true]
[null,null,null,null,null,null,null,null,null,null,null,null,null,null,null,null,null,true]
[null,"Own Contribution",null,null,null,"Unit","Units","Unit rate","TOTAL",null,null,null,"Units out","Units rate out","Total out","Total in",null,true]
[null,null,null,null,null,null,null,null,{"$f":"ROUND(G440*H440,2)","v":0},null,null,null,null,null,null,null,null,true]
[null,null,null,"Expenditures outside the eligible area exceed 20 %! Reconsider budget distribution!",null,null,null,null,null,null,null,null,null,null,null,null,null,true]
[null,"Total direct project costs VAT incl. (BL3+BL4+BL5)",null,null,null,{"$f":"F411+F365+F109","v":0},{"$f":"I411+I109+I365","v":0},null,null,{"$f":"J411+J365+J109","v":0},null,null,null,null,null,null,null,true]
[null,"TOTAL PROJECT COSTS",null,null,null,{"$f":"F442+F437+I6+I31+I440","v":0},{"$f":"G442+I437","v":0},null,null,{"$f":"F443+G443","v":0},null,null,null,null,null,null,null,true]

{"sheet":"Table 2-total","index":15,"n_rows":45,"n_cols":5,"rows_kept":45,"cut":false,"hidden":false,"merged":[[2,0,3,2],[5,0,6,2],[40,1,40,3]]}
["TABLE 2 - DETAILED BREAKDOWN OF BUDGET LINES - TOTAL"]
[]
["BL1 - STAFF COSTS",null,null,"TOTAL","%"]
[null,null,null,{"$f":"'T2-B(PP1)'!I6+'T2-B(PP2)'!I6+'T2-B(PP3)'!I6+'T2-B(PP4)'!I6+'T2-B(PP5)'!I6","v":0},{"$f":"D4/$D$45","v":{"$error":"#DIV/0!"}}]
[]
["BL2 - OFFICE AND ADMINISTRATIVE COSTS",null,null,"TOTAL","TOTAL"]
[null,null,null,{"$f":"'T2-B(PP1)'!I32+'T2-B(PP2)'!I31+'T2-B(PP3)'!I31+'T2-B(PP4)'!I31+'T2-B(PP5)'!I31","v":0},{"$f":"D7/$D$45","v":{"$error":"#DIV/0!"}}]
[]
["BL3 - TRAVEL AND ACCOMMODATION","Eligible area","Outside eligible area","TOTAL","%"]
["Travel costs",{"$f":"'T2-B(PP1)'!F36+'T2-B(PP2)'!F35+'T2-B(PP3)'!F35+'T2-B(PP4)'!F35+'T2-B(PP5)'!F35","v":0},{"$f":"'T2-B(PP1)'!I36+'T2-B(PP2)'!I35+'T2-B(PP3)'!I35+'T2-B(PP4)'!I35+'T2-B(PP5)'!I35","v":0},{"$f":"B10+C10","v":0},{"$f":"D10/$D$45","v":{"$error":"#DIV/0!"}}]
["Daily allowances",{"$f":"'T2-B(PP1)'!F57+'T2-B(PP2)'!F56+'T2-B(PP3)'!F56+'T2-B(PP4)'!F56+'T2-B(PP5)'!F56","v":0},{"$f":"'T2-B(PP1)'!I57+'T2-B(PP2)'!I56+'T2-B(PP3)'!I56+'T2-B(PP4)'!I56+'T2-B(PP5)'!I56","v":0},{"$f":"B11+C11","v":0},{"$f":"D11/$D$45","v":{"$error":"#DIV/0!"}}]
["Accommodation costs",{"$f":"'T2-B(PP1)'!F78+'T2-B(PP2)'!F77+'T2-B(PP3)'!F77+'T2-B(PP4)'!F77+'T2-B(PP5)'!F77","v":0},{"$f":"'T2-B(PP1)'!I78+'T2-B(PP2)'!I77+'T2-B(PP3)'!I77+'T2-B(PP4)'!I77+'T2-B(PP5)'!I77","v":0},{"$f":"B12+C12","v":0},{"$f":"D12/$D$45","v":{"$error":"#DIV/0!"}}]
["Visa costs",{"$f":"'T2-B(PP1)'!F99+'T2-B(PP2)'!F98+'T2-B(PP3)'!F98+'T2-B(PP4)'!F98+'T2-B(PP5)'!F98","v":0},{"$f":"'T2-B(PP1)'!I99+'T2-B(PP2)'!I98+'T2-B(PP3)'!I98+'T2-B(PP4)'!I98+'T2-B(PP5)'!I98","v":0},{"$f":"B13+C13","v":0},{"$f":"D13/$D$45","v":{"$error":"#DIV/0!"}}]
["TOTAL",{"$f":"SUM(B10:B13)","v":0},{"$f":"SUM(C10:C13)","v":0},{"$f":"SUM(D10:D13)","v":0},{"$f":"D14/$D$45","v":{"$error":"#DIV/0!"}}]
[]
["BL4 - EXTERNAL EXPERTISE AND SERVICES COSTS","Eligible area","Outside eligible area","TOTAL","%"]
["Rent of hall",{"$f":"'T2-B(PP1)'!F114+'T2-B(PP2)'!F113+'T2-B(PP3)'!F113+'T2-B(PP4)'!F113+'T2-B(PP5)'!F113","v":0},{"$f":"'T2-B(PP1)'!I114+'T2-B(PP2)'!I113+'T2-B(PP3)'!I113+'T2-B(PP4)'!I113+'T2-B(PP5)'!I113","v":0},{"$f":"B17+C17","v":0},{"$f":"D17/$D$45","v":{"$error":"#DIV/0!"}}]
["Rent of equipment",{"$f":"'T2-B(PP1)'!F135+'T2-B(PP2)'!F134+'T2-B(PP3)'!F134+'T2-B(PP4)'!F134+'T2-B(PP5)'!F134","v":0},{"$f":"'T2-B(PP1)'!I135+'T2-B(PP2)'!I134+'T2-B(PP3)'!I134+'T2-B(PP4)'!I134+'T2-B(PP5)'!I134","v":0},{"$f":"B18+C18","v":0},{"$error":"#DIV/0!"}]
["Coffee breaks, refreshments, etc.",{"$f":"'T2-B(PP1)'!F156+'T2-B(PP2)'!F155+'T2-B(PP3)'!F155+'T2-B(PP4)'!F155+'T2-B(PP5)'!F155","v":0},{"$f":"'T2-B(PP1)'!I156+'T2-B(PP2)'!I155+'T2-B(PP3)'!I155+'T2-B(PP4)'!I155+'T2-B(PP5)'!I155","v":0},0,{"$error":"#DIV/0!"}]
["Consumables",{"$f":"'T2-B(PP1)'!F177+'T2-B(PP2)'!F176+'T2-B(PP3)'!F176+'T2-B(PP4)'!F176+'T2-B(PP5)'!F176","v":0},{"$f":"'T2-B(PP1)'!I177+'T2-B(PP2)'!I176+'T2-B(PP3)'!I176+'T2-B(PP4)'!I176+'T2-B(PP5)'!I176","v":0},0,{"$error":"#DIV/0!"}]
["Rent of vehicle for event",{"$f":"'T2-B(PP1)'!F198+'T2-B(PP2)'!F197+'T2-B(PP3)'!F197+'T2-B(PP4)'!F197+'T2-B(PP5)'!F197","v":0},{"$f":"'T2-B(PP1)'!I198+'T2-B(PP2)'!I197+'T2-B(PP3)'!I197+'T2-B(PP4)'!I197+'T2-B(PP5)'!I197","v":0},0,{"$error":"#DIV/0!"}]
["Accommodations for participants in the events ",{"$f":"'T2-B(PP1)'!F219+'T2-B(PP2)'!F218+'T2-B(PP3)'!F218+'T2-B(PP4)'!F218+'T2-B(PP5)'!F218","v":0},{"$f":"'T2-B(PP1)'!I219+'T2-B(PP2)'!I218+'T2-B(PP3)'!I218+'T2-B(PP4)'!I218+'T2-B(PP5)'!I218","v":0},0,{"$error":"#DIV/0!"}]
["Elaboration, design, translation etc.",{"$f":"'T2-B(PP1)'!F240+'T2-B(PP2)'!F239+'T2-B(PP3)'!F239+'T2-B(PP4)'!F239+'T2-B(PP5)'!F239","v":0},{"$f":"'T2-B(PP1)'!I240+'T2-B(PP2)'!I239+'T2-B(PP3)'!I239+'T2-B(PP4)'!I239+'T2-B(PP5)'!I239","v":0},0,{"$error":"#DIV/0!"}]
["Publications in mass-media",{"$f":"'T2-B(PP1)'!F261+'T2-B(PP2)'!F260+'T2-B(PP3)'!F260+'T2-B(PP4)'!F260+'T2-B(PP5)'!F260","v":0},{"$f":"'T2-B(PP1)'!I240+'T2-B(PP2)'!I260+'T2-B(PP3)'!I260+'T2-B(PP4)'!I260+'T2-B(PP5)'!I260","v":0},0,{"$error":"#DIV/0!"}]
["Consultancy,studies,designs, web site development etc.",{"$f":"'T2-B(PP1)'!F282+'T2-B(PP2)'!F281+'T2-B(PP3)'!F281+'T2-B(PP4)'!F281+'T2-B(PP5)'!F281","v":0},{"$f":"'T2-B(PP1)'!I282+'T2-B(PP2)'!I281+'T2-B(PP3)'!I281+'T2-B(PP4)'!I281+'T2-B(PP5)'!I281","v":0},0,{"$error":"#DIV/0!"}]
["Authorizations, certificates",{"$f":"'T2-B(PP1)'!F303+'T2-B(PP2)'!F302+'T2-B(PP3)'!F302+'T2-B(PP4)'!F302+'T2-B(PP5)'!F302","v":0},{"$f":"'T2-B(PP1)'!I303+'T2-B(PP2)'!I302+'T2-B(PP3)'!I302+'T2-B(PP4)'!I302+'T2-B(PP5)'!I302","v":0},0,{"$error":"#DIV/0!"}]
["Interpreters, lecturers, trainers",{"$f":"'T2-B(PP1)'!F324+'T2-B(PP2)'!F323+'T2-B(PP3)'!F323+'T2-B(PP4)'!F323+'T2-B(PP5)'!F323","v":0},{"$f":"'T2-B(PP1)'!I324+'T2-B(PP2)'!I323+'T2-B(PP3)'!I323+'T2-B(PP4)'!I323+'T2-B(PP5)'!I323","v":0},0,{"$error":"#DIV/0!"}]
["Others",{"$f":"'T2-B(PP1)'!F345+'T2-B(PP2)'!F344+'T2-B(PP3)'!F344+'T2-B(PP4)'!F344+'T2-B(PP5)'!F344","v":0},{"$f":"'T2-B(PP1)'!I345+'T2-B(PP2)'!I344+'T2-B(PP3)'!I344+'T2-B(PP4)'!I344+'T2-B(PP5)'!I344","v":0},0,{"$error":"#DIV/0!"}]
["TOTAL",{"$f":"SUM(B17:B28)","v":0},{"$f":"SUM(C17:C28)","v":0},{"$f":"SUM(D17:D28)","v":0},{"$error":"#DIV/0!"}]
[]
["BL5 -EQUIPMENT AND WORKS","Eligible area","N/A","TOTAL","%"]
["Small scale construction",{"$f":"'T2-B(PP1)'!F370+'T2-B(PP2)'!F369+'T2-B(PP3)'!F369+'T2-B(PP4)'!F369+'T2-B(PP5)'!F369","v":0},{"$f":"'T2-B(PP1)'!I370+'T2-B(PP2)'!I369+'T2-B(PP3)'!I369+'T2-B(PP4)'!I369+'T2-B(PP5)'!I369","v":0},{"$f":"B32+C32","v":0},{"$f":"D32/$D$45","v":{"$error":"#DIV/0!"}}]
["Supply",{"$f":"'T2-B(PP1)'!F381+'T2-B(PP2)'!F390+'T2-B(PP3)'!F390+'T2-B(PP4)'!F390+'T2-B(PP5)'!F390","v":0},{"$f":"'T2-B(PP1)'!I381+'T2-B(PP2)'!I390+'T2-B(PP3)'!I390+'T2-B(PP4)'!I390+'T2-B(PP5)'!I390","v":0},{"$f":"B33+C33","v":0},{"$f":"D33/$D$45","v":{"$error":"#DIV/0!"}}]
["TOTAL",{"$f":"SUM(B32:B33)","v":0},{"$f":"SUM(C32:C33)","v":0},{"$f":"SUM(D32:D33)","v":0},{"$f":"D34/$D$45","v":{"$error":"#DIV/0!"}}]
[]
["BL6 - PROJECT PREPARATION","Eligible area","N/A","TOTAL","%"]
["Preparation of Application package ",{"$f":"'T2-B(PP1)'!F406+'T2-B(PP2)'!F415+'T2-B(PP3)'!F415+'T2-B(PP4)'!F415+'T2-B(PP5)'!F415","v":0},{"$f":"'T2-B(PP1)'!I428+'T2-B(PP2)'!I425+'T2-B(PP3)'!I425+'T2-B(PP4)'!I425+'T2-B(PP5)'!I425","v":0},{"$f":"B37+C37","v":0},{"$f":"D37/$D$45","v":{"$error":"#DIV/0!"}}]
["Preparation of technical documentation ",{"$f":"'T2-B(PP1)'!F417+'T2-B(PP2)'!F426+'T2-B(PP3)'!F426+'T2-B(PP4)'!F426+'T2-B(PP5)'!F426","v":0},{"$f":"'T2-B(PP1)'!I429+'T2-B(PP2)'!I426+'T2-B(PP3)'!I426+'T2-B(PP4)'!I426+'T2-B(PP5)'!I426","v":0},{"$f":"B38+C38","v":0},{"$f":"D38/$D$45","v":{"$error":"#DIV/0!"}}]
["TOTAL",{"$f":"SUM(B37:B38)","v":0},{"$f":"SUM(C37:C38)","v":0},{"$f":"SUM(D37:D38)","v":0},{"$f":"D39/$D$45","v":{"$error":"#DIV/0!"}}]
[]
["Own contribution",{"$f":"'T2-B(PP1)'!I431+'T2-B(PP2)'!I440+'T2-B(PP3)'!I440+'T2-B(PP4)'!I440+'T2-B(PP5)'!I440","v":0},null,null,{"$f":"D41/$D$45","v":{"$error":"#DIV/0!"}}]
[]
["Total direct project costs (BL3+BL4+BL5)",{"$f":"B29+B14+B34","v":0},{"$f":"C34+C29+C14","v":0},{"$f":"B43+C43","v":0},{"$f":"D43/$D$45","v":{"$error":"#DIV/0!"}}]
[]
["TOTAL PROJECT COSTS",{"$f":"B43+B41+D7+D4+t2_Bl6","v":0},{"$f":"C43+C34","v":0},{"$f":"SUM(B45:C45)","v":0}]

{"sheet":"Table 3-summary","index":16,"n_rows":39,"n_cols":13,"rows_kept":39,"cut":false,"hidden":false,"merged":[[2,9,2,10],[10,0,10,1],[14,0,14,1],[16,1,16,5],[2,0,3,0],[2,1,3,1],[2,2,3,2],[2,4,3,4],[2,5,3,5],[2,3,5,3]]}
["TABLE 3 - SUMMARY BREAKDOWN OF BUDGET LINES"]
[]
["No","BUDGET LINE","Expenditures in the eligible area","Expenditures outside of the eligible area","TOTAL"," % of total project costs",null,null,0,"Limits"]
[null,null,null,null,null,null,null,null,"Line","Lower","Upper"]
["BL 1","Staff costs",{"$f":"'Table 2-total'!D4","v":0},null,{"$f":"C5","v":0},{"$f":"E5/$E$15","v":{"$error":"#DIV/0!"}},null,null,"Administrative costs",0,0.15]
["BL 2 ","Ofiice and administrative costs",{"$f":"'Table 2-total'!D7","v":0},null,{"$f":"C6","v":0},{"$error":"#DIV/0!"},null,null,"Travel & Accomodation",0,0.1]
["BL 3 ","Travel and accomodation",{"$f":"'Table 2-total'!B14","v":0},{"$f":"'Table 2-total'!C14","v":0},{"$f":"SUM(C7:D7)","v":0},{"$error":"#DIV/0!"}]
["BL 4 ","External expertise and services",{"$f":"'Table 2-total'!B29","v":0},{"$f":"'Table 2-total'!C29","v":0},{"$f":"SUM(C8:D8)","v":0},{"$error":"#DIV/0!"}]
["BL 5 ","Equipment and works",{"$f":"'Table 2-total'!B34","v":0},null,{"$f":"SUM(C9:D9)","v":0},{"$error":"#DIV/0!"},null,null,{"$f":"'Table 5-Sources'!G8","v":0}]
["BL 6","Project preparation",{"$f":"'Table 2-total'!D39","v":0},null,{"$f":"C10","v":0},{"$error":"#DIV/0!"}]
["TOTAL ",null,{"$f":"SUM(C5:C10)","v":0},{"$f":"SUM(D5:D10)","v":0},{"$f":"SUM(E5:E10)","v":0}]
[null,null,null,null,null,null,null,null,"Define Errors"]
[null,"Own contribution",{"$f":"'Table 2-total'!B41","v":0},null,{"$f":"C13","v":0},0,null,null,{"$f":"IF((J29<I25),\"Budget is lower than prescribed limits for this Specific objective\",IF(t3_total_perc_tot>J25,\"Budget is higher than prescribed limits for this Specific objective\",\"\"))","v":"Budget is lower than prescribed limits for this Specific objective"}]
[]
["TOTAL PROJECT",null,{"$f":"SUM(C11+C13)","v":0},{"$f":"SUM(D7:D9)","v":0},{"$f":"SUM(E11+E13)","v":0}]
[]
[null,null,null,null,null,null,null,null,null,null,{"$f":"C9/E11","v":{"$error":"#DIV/0!"}},{"$f":"IF(J26=\"Soft\",K17>0.5,K17<0.5)","v":{"$error":"#DIV/0!"}}]
[null,{"$f":"IF(L21,CONCATENATE(\"Preparation of application package [\",ROUND(t2_Bl6_1,2),\" euro] exceed the 3000 euro limit!\"),\"\")","v":""}]
[null,{"$f":"IF(I13<>\"\",I13,\"\")","v":"Budget is lower than prescribed limits for this Specific objective"},null,null,null,null,null,null,true]
[null,{"$f":"IF(L17,CONCATENATE(\"Your BL5 is not within the limits for \",J26,\" project.\"),\"\")","v":{"$error":"#DIV/0!"}},null,null,null,null,null,null,null,"Total direct",{"$f":"SUM(C7:D8)+C9","v":0}]
[null,{"$f":"IF(F32,\"Preparation cost exceed 1 % of total direct cost!\",\"\")","v":{"$error":"#DIV/0!"}},null,null,null,null,null,null,null,null,null,{"$f":"t2_Bl6_1>3000","v":false}]
[null,null,null,null,null,null,null,null,"Project Preparation",0,0.01,{"$f":"C10>3000","v":false}]
[]
[null,null,null,null,null,null,null,null,"Lower limit","Upper limit",null,"Error margin low"]
[null,null,null,null,null,null,null,null,{"$f":"VLOOKUP(I35,J32:L39,2)","v":50000},{"$f":"VLOOKUP(I35,J32:L39,3)","v":2340588},null,"Error margin up"]
[null,null,null,null,null,null,null,null," ",{"$f":"Cover!C34","v":"Investment"}]
[]
[]
[null,null,null,null,null,null,null,null,"total project",{"$f":"t3_total_perc_tot","v":0},null,{"$f":"J29<I25","v":true},{"$f":"J29>J25","v":false}]
[]
[]
[null,null,null,null,{"$f":"t3_BL6_tot/(t3_BL5_tot+t3_BL4_tot+t3_BL3_tot)","v":{"$error":"#DIV/0!"}},{"$f":"E32>0.03","v":{"$error":"#DIV/0!"}},null,null,{"$f":"pi_specific_objective","v":"1.2. Improving the capacity for nature protection, sustainable use and management of common natural resources through cooperation initiatives in the  cross-border area"},"SO"]
[null,null,null,null,{"$f":"t3_BL6_tot_perc","v":{"$error":"#DIV/0!"}},null,null,null,{"$f":"LEFT(I32,3)","v":"1.2"},"1.1.1",250000,600000]
[null,null,null,null,null,null,null,null,{"$f":"IF(J26=\"Soft\",2,1)","v":1},"1.1.2",50000,120000]
[null,null,null,null,null,null,null,null,{"$f":"CONCATENATE(I33,\".\",I34)","v":"1.2.1"},"1.2.1",50000,2340588]
[null,null,null,null,null,null,null,null,null,"1.2.2",50000,2340588]
[null,null,null,null,null,null,null,null,null,"2.1.1",250000,500000]
[null,null,null,null,null,null,null,null,null,"2.2.2",50000,120000]
[null,null,null,null,null,null,null,null,null,"2.3.2",50000,100000]

{"sheet":"Table 4 PP`BL","index":17,"n_rows":18,"n_cols":8,"rows_kept":18,"cut":false,"hidden":false,"merged":[[10,0,10,1],[11,0,11,1]]}
["TABLE 4 - SUMMARY BREAKDOWN OF BUDGET LINES PER PROJECT PARTNERS"]
[]
["No","BUDGET LINE","PP1 LP","PP2","PP3","PP4","PP5","Total"]
["BL 1","Staff costs",{"$f":"'T2-B(PP1)'!I6","v":0},{"$f":"'T2-B(PP2)'!I6","v":0},{"$f":"'T2-B(PP3)'!I6","v":0},{"$f":"'T2-B(PP4)'!I6","v":0},{"$f":"'T2-B(PP5)'!I6","v":0},{"$f":"SUM(C4:G4)","v":0}]
["BL 2 ","Ofiice and administrative costs",{"$f":"'T2-B(PP1)'!I31","v":0},{"$f":"'T2-B(PP2)'!I30","v":0},{"$f":"'T2-B(PP3)'!I30","v":0},{"$f":"'T2-B(PP4)'!I30","v":0},{"$f":"'T2-B(PP5)'!I30","v":0},{"$f":"SUM(C5:G5)","v":0}]
["BL 3 ","Travel and accomodation",{"$f":"'T2-B(PP1)'!J110","v":0},{"$f":"'T2-B(PP2)'!J109","v":0},{"$f":"'T2-B(PP3)'!J109","v":0},{"$f":"'T2-B(PP4)'!J109","v":0},{"$f":"'T2-B(PP5)'!J109","v":0},0]
["BL 4 ","External expertise and services",{"$f":"'T2-B(PP1)'!J366","v":0},{"$f":"'T2-B(PP2)'!J365","v":0},{"$f":"'T2-B(PP3)'!J365","v":0},{"$f":"'T2-B(PP4)'!J365","v":0},{"$f":"'T2-B(PP5)'!J365","v":0},0]
["BL 5 ","Equipment and works",{"$f":"'T2-B(PP1)'!J402","v":0},{"$f":"'T2-B(PP2)'!J411","v":0},{"$f":"'T2-B(PP3)'!J411","v":0},{"$f":"'T2-B(PP4)'!J411","v":0},{"$f":"'T2-B(PP5)'!J411","v":0},0]
["BL 6","Project preparation",{"$f":"'T2-B(PP1)'!J428","v":0},{"$f":"'T2-B(PP2)'!J437","v":0},{"$f":"'T2-B(PP3)'!J437","v":0},{"$f":"'T2-B(PP4)'!J437","v":0},{"$f":"'T2-B(PP5)'!J437","v":0},0]
[null,"Own contribution",{"$f":"'T2-B(PP1)'!I431","v":0},{"$f":"'T2-B(PP2)'!I440","v":0},{"$f":"'T2-B(PP3)'!I440","v":0},{"$f":"'T2-B(PP4)'!I440","v":0},{"$f":"'T2-B(PP5)'!I440","v":0},0]
["TOTAL ",null,{"$f":"SUM(C4:C10)","v":0},0,0,0,0,0]
["% from TOTAL ",null,{"$f":"C11/$H$11","v":{"$error":"#DIV/0!"}},{"$f":"D11/$H$11","v":{"$error":"#DIV/0!"}},{"$f":"E11/$H$11","v":{"$error":"#DIV/0!"}},{"$f":"F11/$H$11","v":{"$error":"#DIV/0!"}},{"$f":"G11/$H$11","v":{"$error":"#DIV/0!"}}]
[]
[null,"Eligible area",null,null,null,null,null,0]
[null,"%",null,null,null,null,null,{"$error":"#DIV/0!"}]
[null,"Adjacent area",null,null,null,null,null,0]
[null,"%",null,null,null,null,null,{"$error":"#DIV/0!"}]
[null,"TOTAL",null,null,null,null,null,0]

{"sheet":"Table 5-Sources","index":18,"n_rows":24,"n_cols":13,"rows_kept":24,"cut":false,"hidden":false,"merged":[]}
["TABLE 5 - PROJECT SOURCES / PARTNERS' CONTRIBUTION"]
[]
["Project partners","PP1 LP","PP2","PP3","PP4","PP5","Total"]
["Country (code)","","","","","",null,null,null,"Proper Axis","Type"]
["Total partner's contribution             (including EU + national co-financing)",{"$f":"'Table 4 PP`BL'!C11","v":0},{"$f":"'Table 4 PP`BL'!D11","v":0},{"$f":"'Table 4 PP`BL'!E11","v":0},{"$f":"'Table 4 PP`BL'!F11","v":0},{"$f":"'Table 4 PP`BL'!G11","v":0},{"$f":"SUM(B5:F5)","v":0},null,null,{"$error":"#REF!"},0]
["National co-financing",{"$f":"B7+B8","v":0},{"$f":"C7+C8","v":0},{"$f":"D7+D8","v":0},{"$f":"E7+E8","v":0},{"$f":"F7+F8","v":0},{"$f":"SUM(B6:F6)","v":0},null,null,null,"Min","Max","match"]
[" Thereof state co-financing",{"$f":"ROUNDUP((B5-B8)*0.15,2)","v":0},{"$f":"ROUNDUP((C5-C8)*0.15,2)","v":0},{"$f":"ROUNDUP((D5-D8)*0.15,2)","v":0},{"$f":"ROUNDUP((E5-E8)*0.15,2)","v":0},{"$f":"ROUNDUP((F5-F8)*0.15,2)","v":0},{"$f":"SUM(B7:F7)","v":0},null,null,"Soft",50000,150000,false]
["Own co-finanacing",null,null,null,null,null,{"$f":"SUM(B8:F8)","v":0}]
["EU co-financing rate",{"$f":"B10/B5","v":{"$error":"#DIV/0!"}},{"$error":"#DIV/0!"},{"$error":"#DIV/0!"},{"$error":"#DIV/0!"},{"$error":"#DIV/0!"},{"$error":"#DIV/0!"},null,null,"Soft",50000,150000,false]
["EU subsidy",{"$f":"B5-B6","v":0},{"$f":"C5-C6","v":0},{"$f":"D5-D6","v":0},{"$f":"E5-E6","v":0},{"$f":"F5-F6","v":0},{"$f":"SUM(B10:F10)","v":0},null,null,null,50000,150000]
[]
[null,"Wrong choice of Priority/Area of Intervention",null,null,null,null,null,null,null,false]
[{"$error":"#REF!"},null,null,null,null,null,null,null,null,false]
[null,null,null,null,null,null,null,null,null,"Errors on page"]
[null,null,null,null,null,null,null,null,null,{"$error":"#REF!"}]
[null,null,null,null,null,null,null,null,null,{"$error":"#REF!"}]
[]
[]
[]
[]
[]
[]
[]
[null,null," "]

{"sheet":"Statements","index":19,"n_rows":180,"n_cols":7,"rows_kept":180,"cut":false,"hidden":false,"merged":[[63,0,63,1],[128,1,128,3],[165,1,165,3],[136,0,136,1],[137,0,137,1],[153,0,153,8],[158,0,158,8],[168,0,168,8],[170,0,170,4],[159,0,159,8],[172,0,172,4],[173,0,173,1],[174,0,174,1],[79,0,79,8],[84,0,84,8],[121,0,121,8],[131,0,131,8],[133,0,133,4],[91,1,91,3],[135,0,135,4],[85,0,85,8],[122,0,122,8],[94,0,94,8],[96,0,96,4],[98,0,98,4],[99,0,99,1],[100,0,100,1],[116,0,116,8],[10,0,10,8],[5,0,5,8],[26,0,26,1],[42,0,42,8],[25,0,25,1],[20,0,20,8],[24,0,24,4],[22,0,22,4],[17,1,17,3],[47,0,47,8],[57,0,57,8],[59,0,59,4],[61,0,61,4],[62,0,62,1],[54,1,54,3],[48,0,48,8]]}
[]
[]
["                      PARTNERSHIP AND CO-FINANCING STATEMENT"]
[]
[]
[{"$f":"IF(Cover!C28=\"\",\"\",Cover!C28)","v":""}]
["(Project Title)"]
[]
[]
["In the case of approval of the above mentioned project, applying for assistance from the "]
["INTERREG-IPA CBC Bulgaria-Turkey Programme we hereby declare that "]
[{"$f":"IF(Cover!C38=\"\",\"\",Cover!C38)","v":""}]
["(Name of Institution)"]
[]
["listed as PP 1 / LP in Table 1 of the Application form - Part 3,"]
["has examined and agreed on his tasks and activities described in the Application form - Part 2,"]
["undertakes to comply with the principles of good partnership practice and to provide"]
["EUR",{"$f":"'Table 5-Sources'!B8","v":0}]
["as own contribution and/or other sources to the INTERREG-IPA CBC Bulgaria-Turkey project budget."]
["We furthermore confirm that any project expenditure related to the above mentioned project"]
["will not be funded by any other EU programme."]
[]
[{"$f":"'PP1(LP)'!C23","v":""}]
["(Name of the legal representative of the Project Partner)"]
[{"$f":"'PP1(LP)'!C25","v":0}]
["(Position)"]
[]
["(Date)"]
[]
[]
[null,null,null,null,null,null,"(Signature)"]
[null,null,null,null,null,null,"(Official Stamp of Project Partner)"]
[]
[]
[]
[]
[]
[]
[]
["                      PARTNERSHIP AND CO-FINANCING STATEMENT"]
[]
[]
[{"$f":"Cover!C28","v":0}]
["(Project Title)"]
[]
[]
["In the case of approval of the above mentioned project, applying for assistance from the "]
["INTERREG-IPA CBC Bulgaria-Turkey Programme we hereby declare that "]
[{"$f":"'PP2'!C7","v":0}]
["(Name of Institution)"]
[]
["listed as PP 2 in Table 1 of the Application form - Part 3,"]
["has examined and agreed on his tasks and activities described in the Application form - Part 2,"]
["undertakes to comply with the principles of good partnership practice and to provide"]
["EUR",{"$f":"'Table 5-Sources'!C8","v":0}]
["as own contribution and/or other sources to the INTERREG-IPA CBC Bulgaria-Turkey project budget."]
["We furthermore confirm that any project expenditure related to the above mentioned project"]
["will not be funded by any other EU programme."]
[]
[{"$f":"'PP2'!C23","v":0}]
["(Name of the legal representative of the Project Partner)"]
[{"$f":"'PP2'!C25","v":0}]
["(Position)"]
[]
["(Date)"]
[]
[]
[null,null,null,null,null,null,"(Signature)"]
[null,null,null,null,null,null,"(Official Stamp of Project Partner)"]
[]
[]
[]
[]
[]
[]
[]
["                      PARTNERSHIP AND CO-FINANCING STATEMENT"]
[]
[]
[{"$f":"A43","v":0}]
["(Project Title)"]
[]
[]
["In the case of approval of the above mentioned project, applying for assistance from the "]
["INTERREG-IPA CBC Bulgaria-Turkey Programme we hereby declare that "]
[{"$f":"'PP3'!C7","v":0}]
["(Name of Institution)"]
[]
["listed as PP 3 in Table 1 of the Application form - Part 3,"]
["has examined and agreed on his tasks and activities described in the Application form - Part 2,"]
["undertakes to comply with the principles of good partnership practice and to provide"]
["EUR",{"$f":"'Table 5-Sources'!D8","v":0}]
["as own contribution and/or other sources to the INTERREG-IPA CBC Bulgaria-Turkey project budget."]
["We furthermore confirm that any project expenditure related to the above mentioned project"]
["will not be funded by any other EU programme."]
[]
[{"$f":"'PP3'!C23","v":0}]
["(Name of the legal representative of the Project Partner)"]
[{"$f":"'PP3'!C25","v":0}]
["(Position)"]
[]
["(Date)"]
[]
[]
[null,null,null,null,null,null,"(Signature)"]
[null,null,null,null,null,null,"(Official Stamp of Project Partner)"]
[]
[]
[]
[]
[]
[]
[]
["                      PARTNERSHIP AND CO-FINANCING STATEMENT"]
[]
[]
[{"$f":"A80","v":0}]
["(Project Title)"]
[]
[]
["In the case of approval of the above mentioned project, applying for assistance from the "]
["INTERREG-IPA CBC Bulgaria-Turkey Programme we hereby declare that "]
[{"$f":"'PP4'!C7","v":0}]
["(Name of Institution)"]
[]
["listed as PP 4 in Table 1 of the Application form - Part 3,"]
["has examined and agreed on his tasks and activities described in the Application form - Part 2,"]
["undertakes to comply with the principles of good partnership practice and to provide"]
["EUR",{"$f":"'Table 5-Sources'!E8","v":0}]
["as own contribution and/or other sources to the INTERREG-IPA CBC Bulgaria-Turkey project budget."]
["We furthermore confirm that any project expenditure related to the above mentioned project"]
["will not be funded by any other EU programme."]
[]
[{"$f":"'PP4'!C23","v":0}]
["(Name of the legal representative of the Project Partner)"]
[{"$f":"'PP4'!C25","v":0}]
["(Position)"]
[]
["(Date)"]
[]
[]
[null,null,null,null,null,null,"(Signature)"]
[null,null,null,null,null,null,"(Official Stamp of Project Partner)"]
[]
[]
[]
[]
[]
[]
[]
["                      PARTNERSHIP AND CO-FINANCING STATEMENT"]
[]
[]
[{"$f":"A117","v":0}]
["(Project Title)"]
[]
[]
["In the case of approval of the above mentioned project, applying for assistance from the "]
["INTERREG-IPA CBC Bulgaria-Turkey Programme we hereby declare that "]
[{"$f":"'PP5'!C7","v":0}]
["(Name of Institution)"]
[]
["listed as PP 5 in Table 1 of the Application form - Part 3,"]
["has examined and agreed on his tasks and activities described in the Application form - Part 2,"]
["undertakes to comply with the principles of good partnership practice and to provide"]
["EUR",{"$f":"'Table 5-Sources'!F8","v":0}]
["as own contribution and/or other sources to the INTERREG-IPA CBC Bulgaria-Turkey project budget."]
["We furthermore confirm that any project expenditure related to the above mentioned project"]
["will not be funded by any other EU programme."]
[]
[{"$f":"'PP5'!C23","v":0}]
["(Name of the legal representative of the Project Partner)"]
[{"$f":"'PP5'!C25","v":0}]
["(Position)"]
[]
["(Date)"]
[]
[]
[null,null,null,null,null,null,"(Signature)"]
[null,null,null,null,null,null,"(Official Stamp of Project Partner)"]

{"sheet":"Summary","index":20,"n_rows":55,"n_cols":2,"rows_kept":55,"cut":false,"hidden":false,"merged":[[10,1,11,1],[12,1,13,1],[14,1,16,1],[40,1,41,1],[45,1,46,1],[31,1,32,1],[33,1,35,1],[18,0,18,1],[49,1,50,1],[51,1,52,1],[53,1,54,1],[25,1,26,1],[27,1,28,1]]}
["Project summary"]
[]
["Project title"]
["Lead Partner (name/country)"]
["Partners "]
["Priority axis"]
["Specific objective"]
["Duration (in months)"]
["Total budget (in €)"]
["Project Objectives"]
["Project Activities"]
["(Provide a brief description of the major activities that will be done under the project   - what, where and how for each major activity)"]
["Project Results"]
["(describe results/benefits to be achieved  by  this project)"]
["Target Groups"]
["(describe main target groups that will benefit from project results and outputs)"]
[]
[]
["РЕЗЮМЕ НА ПРОЕКТА"]
[]
["Заглавие на проекта"]
["Водещ партньор (име/ държава) "]
["Проектни партньори"]
["Приоритетна ос"]
["Специфична цел"]
["Продължителност"]
["(в месеци) "]
["Общ бюджет "]
["(в евро) "]
["Цели на проекта"]
["Дейности по проекта (Моля, опишете на кратко основните дейности, които ще бъдат извършени в рамките на проекта - какво, къде и как за всяка основна дейност)"]
["Резултати по проекта"]
["(Моля, опишете какви резултати/ ползи ще се постигнат с реализацията на проекта)"]
["Целеви групи"]
["(Моля, опишете основните целеви групи, които ще се възползват от резултатите и продуктите по проекта)"]
[]
[]
["PROJE ÖZETİ"]
[]
["Proje Adı","Bizim Ortak Tarihimiz"]
["Ana Yararlanıcı "]
["(Ad/Ülke)"]
["Proje Ortakları"]
["Öncelik Alanı"]
["Özel Amaç"]
["Süre "]
["(Ay cinsinden)"]
["Toplam Bütçe (Avro)"]
["Proje Amaçları"]
["Proje Faaliyetleri"]
["(Proje kapsamında uygulanacak olan ana faaliyetleri kısaca açıklayınız – açıklama, her bir ana faaliyet için ne, nerede ve nasıl sorularına cevaplar içermelidir.)"]
["Proje Sonuçları"]
["(Bu projeyle elde edilecek olan sonuç/faydaları açıklayınız.)"]
["Hedef Gruplar"]
["(Proje çıktı ve sonuçlarından faydalanacak olan ana grupları açıklayınız.)"]

{"sheet":"Named_ranges","index":21,"n_rows":10407,"n_cols":3,"rows_kept":10407,"cut":false,"hidden":true,"merged":[]}
["action_plan_actv_1",{"$f":"'Project identification'!$B$403","v":"1."},"#'Project identification'!$B$403"]
["action_plan_actv_1_1",{"$f":"'Project identification'!$C$403","v":0},"#'Project identification'!$C$403"]
["action_plan_actv_1_2",{"$f":"'Project identification'!$D$403","v":0},"#'Project identification'!$D$403"]
["action_plan_actv_1_3",{"$f":"'Project identification'!$E$403","v":0},"#'Project identification'!$E$403"]
["action_plan_actv_1_4",{"$f":"'Project identification'!$G$403","v":0},"#'Project identification'!$G$403"]
["action_plan_actv_1_5",{"$f":"'Project identification'!$H$403","v":0},"#'Project identification'!$H$403"]
["action_plan_actv_1_6",{"$f":"'Project identification'!$F$403","v":0},"#'Project identification'!$F$403"]
["action_plan_actv_1_7",{"$f":"'Project identification'!$I$403","v":0},"#'Project identification'!$I$403"]
["action_plan_actv_1_8",{"$f":"'Project identification'!$J$403","v":0},"#'Project identification'!$J$403"]
["action_plan_actv_10",{"$f":"'Project identification'!$B$412","v":"10."},"#'Project identification'!$B$412"]
["action_plan_actv_10_1",{"$f":"'Project identification'!$C$412","v":0},"#'Project identification'!$C$412"]
["action_plan_actv_10_2",{"$f":"'Project identification'!$D$412","v":0},"#'Project identification'!$D$412"]
["action_plan_actv_10_3",{"$f":"'Project identification'!$E$412","v":0},"#'Project identification'!$E$412"]
["action_plan_actv_10_4",{"$f":"'Project identification'!$G$412","v":0},"#'Project identification'!$G$412"]
["action_plan_actv_10_5",{"$f":"'Project identification'!$H$412","v":0},"#'Project identification'!$H$412"]
["action_plan_actv_10_6",{"$f":"'Project identification'!$F$412","v":0},"#'Project identification'!$F$412"]
["action_plan_actv_10_7",{"$f":"'Project identification'!$I$412","v":0},"#'Project identification'!$I$412"]
["action_plan_actv_10_8",{"$f":"'Project identification'!$J$412","v":0},"#'Project identification'!$J$412"]
["action_plan_actv_11",{"$f":"'Project identification'!$B$413","v":"11."},"#'Project identification'!$B$413"]
["action_plan_actv_11_1",{"$f":"'Project identification'!$C$413","v":0},"#'Project identification'!$C$413"]
["action_plan_actv_11_2",{"$f":"'Project identification'!$D$413","v":0},"#'Project identification'!$D$413"]
["action_plan_actv_11_3",{"$f":"'Project identification'!$E$413","v":0},"#'Project identification'!$E$413"]
["action_plan_actv_11_4",{"$f":"'Project identification'!$G$413","v":0},"#'Project identification'!$G$413"]
["action_plan_actv_11_5",{"$f":"'Project identification'!$H$413","v":0},"#'Project identification'!$H$413"]
["action_plan_actv_11_6",{"$f":"'Project identification'!$F$413","v":0},"#'Project identification'!$F$413"]
["action_plan_actv_11_7",{"$f":"'Project identification'!$I$413","v":0},"#'Project identification'!$I$413"]
["action_plan_actv_11_8",{"$f":"'Project identification'!$J$413","v":0},"#'Project identification'!$J$413"]
["action_plan_actv_12",{"$f":"'Project identification'!$B$414","v":"12."},"#'Project identification'!$B$414"]
["action_plan_actv_12_1",{"$f":"'Project identification'!$C$414","v":0},"#'Project identification'!$C$414"]
["action_plan_actv_12_2",{"$f":"'Project identification'!$D$414","v":0},"#'Project identification'!$D$414"]
["action_plan_actv_12_3",{"$f":"'Project identification'!$E$414","v":0},"#'Project identification'!$E$414"]
["action_plan_actv_12_4",{"$f":"'Project identification'!$G$414","v":0},"#'Project identification'!$G$414"]
["action_plan_actv_12_5",{"$f":"'Project identification'!$H$414","v":0},"#'Project identification'!$H$414"]
["action_plan_actv_12_6",{"$f":"'Project identification'!$F$414","v":0},"#'Project identification'!$F$414"]
["action_plan_actv_12_7",{"$f":"'Project identification'!$I$414","v":0},"#'Project identification'!$I$414"]
["action_plan_actv_12_8",{"$f":"'Project identification'!$J$414","v":0},"#'Project identification'!$J$414"]
["action_plan_actv_13",{"$f":"'Project identification'!$B$415","v":"13."},"#'Project identification'!$B$415"]
["action_plan_actv_13_1",{"$f":"'Project identification'!$C$415","v":0},"#'Project identification'!$C$415"]
["action_plan_actv_13_2",{"$f":"'Project identification'!$D$415","v":0},"#'Project identification'!$D$415"]
["action_plan_actv_13_3",{"$f":"'Project identification'!$E$415","v":0},"#'Project identification'!$E$415"]
["action_plan_actv_13_4",{"$f":"'Project identification'!$G$415","v":0},"#'Project identification'!$G$415"]
["action_plan_actv_13_5",{"$f":"'Project identification'!$H$415","v":0},"#'Project identification'!$H$415"]
["action_plan_actv_13_6",{"$f":"'Project identification'!$F$415","v":0},"#'Project identification'!$F$415"]
["action_plan_actv_13_7",{"$f":"'Project identification'!$I$415","v":0},"#'Project identification'!$I$415"]
["action_plan_actv_13_8",{"$f":"'Project identification'!$J$415","v":0},"#'Project identification'!$J$415"]
["action_plan_actv_14",{"$f":"'Project identification'!$B$416","v":"14."},"#'Project identification'!$B$416"]
["action_plan_actv_14_1",{"$f":"'Project identification'!$C$416","v":0},"#'Project identification'!$C$416"]
["action_plan_actv_14_2",{"$f":"'Project identification'!$D$416","v":0},"#'Project identification'!$D$416"]
["action_plan_actv_14_3",{"$f":"'Project identification'!$E$416","v":0},"#'Project identification'!$E$416"]
["action_plan_actv_14_4",{"$f":"'Project identification'!$G$416","v":0},"#'Project identification'!$G$416"]
["action_plan_actv_14_5",{"$f":"'Project identification'!$H$416","v":0},"#'Project identification'!$H$416"]
["action_plan_actv_14_6",{"$f":"'Project identification'!$F$416","v":0},"#'Project identification'!$F$416"]
["action_plan_actv_14_7",{"$f":"'Project identification'!$I$416","v":0},"#'Project identification'!$I$416"]
["action_plan_actv_14_8",{"$f":"'Project identification'!$J$416","v":0},"#'Project identification'!$J$416"]
["action_plan_actv_15",{"$f":"'Project identification'!$B$417","v":"15."},"#'Project identification'!$B$417"]
["action_plan_actv_15_1",{"$f":"'Project identification'!$C$417","v":0},"#'Project identification'!$C$417"]
["action_plan_actv_15_2",{"$f":"'Project identification'!$D$417","v":0},"#'Project identification'!$D$417"]
["action_plan_actv_15_3",{"$f":"'Project identification'!$E$417","v":0},"#'Project identification'!$E$417"]
["action_plan_actv_15_4",{"$f":"'Project identification'!$G$417","v":0},"#'Project identification'!$G$417"]
["action_plan_actv_15_5",{"$f":"'Project identification'!$H$417","v":0},"#'Project identification'!$H$417"]
["action_plan_actv_15_6",{"$f":"'Project identification'!$F$417","v":0},"#'Project identification'!$F$417"]
["action_plan_actv_15_7",{"$f":"'Project identification'!$I$417","v":0},"#'Project identification'!$I$417"]
["action_plan_actv_15_8",{"$f":"'Project identification'!$J$417","v":0},"#'Project identification'!$J$417"]
["action_plan_actv_2",{"$f":"'Project identification'!$B$404","v":"2."},"#'Project identification'!$B$404"]
["action_plan_actv_2_1",{"$f":"'Project identification'!$C$404","v":0},"#'Project identification'!$C$404"]
["action_plan_actv_2_2",{"$f":"'Project identification'!$D$404","v":0},"#'Project identification'!$D$404"]
["action_plan_actv_2_3",{"$f":"'Project identification'!$E$404","v":0},"#'Project identification'!$E$404"]
["action_plan_actv_2_4",{"$f":"'Project identification'!$G$404","v":0},"#'Project identification'!$G$404"]
["action_plan_actv_2_5",{"$f":"'Project identification'!$H$404","v":0},"#'Project identification'!$H$404"]
["action_plan_actv_2_6",{"$f":"'Project identification'!$F$404","v":0},"#'Project identification'!$F$404"]
["action_plan_actv_2_7",{"$f":"'Project identification'!$I$404","v":0},"#'Project identification'!$I$404"]
["action_plan_actv_2_8",{"$f":"'Project identification'!$J$404","v":0},"#'Project identification'!$J$404"]
["action_plan_actv_3",{"$f":"'Project identification'!$B$405","v":"3."},"#'Project identification'!$B$405"]
["action_plan_actv_3_1",{"$f":"'Project identification'!$C$405","v":0},"#'Project identification'!$C$405"]
["action_plan_actv_3_2",{"$f":"'Project identification'!$D$405","v":0},"#'Project identification'!$D$405"]
["action_plan_actv_3_3",{"$f":"'Project identification'!$E$405","v":0},"#'Project identification'!$E$405"]
["action_plan_actv_3_4",{"$f":"'Project identification'!$G$405","v":0},"#'Project identification'!$G$405"]
["action_plan_actv_3_5",{"$f":"'Project identification'!$H$405","v":0},"#'Project identification'!$H$405"]
["action_plan_actv_3_6",{"$f":"'Project identification'!$F$405","v":0},"#'Project identification'!$F$405"]
["action_plan_actv_3_7",{"$f":"'Project identification'!$I$405","v":0},"#'Project identification'!$I$405"]
["action_plan_actv_3_8",{"$f":"'Project identification'!$J$405","v":0},"#'Project identification'!$J$405"]
["action_plan_actv_4",{"$f":"'Project identification'!$B$406","v":"4."},"#'Project identification'!$B$406"]
["action_plan_actv_4_1",{"$f":"'Project identification'!$C$406","v":0},"#'Project identification'!$C$406"]
["action_plan_actv_4_2",{"$f":"'Project identification'!$D$406","v":0},"#'Project identification'!$D$406"]
["action_plan_actv_4_3",{"$f":"'Project identification'!$E$406","v":0},"#'Project identification'!$E$406"]
["action_plan_actv_4_4",{"$f":"'Project identification'!$G$406","v":0},"#'Project identification'!$G$406"]
["action_plan_actv_4_5",{"$f":"'Project identification'!$H$406","v":0},"#'Project identification'!$H$406"]
["action_plan_actv_4_6",{"$f":"'Project identification'!$F$406","v":0},"#'Project identification'!$F$406"]
["action_plan_actv_4_7",{"$f":"'Project identification'!$I$406","v":0},"#'Project identification'!$I$406"]
["action_plan_actv_4_8",{"$f":"'Project identification'!$J$406","v":0},"#'Project identification'!$J$406"]
["action_plan_actv_5",{"$f":"'Project identification'!$B$407","v":"5."},"#'Project identification'!$B$407"]
["action_plan_actv_5_1",{"$f":"'Project identification'!$C$407","v":0},"#'Project identification'!$C$407"]
["action_plan_actv_5_2",{"$f":"'Project identification'!$D$407","v":0},"#'Project identification'!$D$407"]
["action_plan_actv_5_3",{"$f":"'Project identification'!$E$407","v":0},"#'Project identification'!$E$407"]
["action_plan_actv_5_4",{"$f":"'Project identification'!$G$407","v":0},"#'Project identification'!$G$407"]
["action_plan_actv_5_5",{"$f":"'Project identification'!$H$407","v":0},"#'Project identification'!$H$407"]
["action_plan_actv_5_6",{"$f":"'Project identification'!$F$407","v":0},"#'Project identification'!$F$407"]
["action_plan_actv_5_7",{"$f":"'Project identification'!$I$407","v":0},"#'Project identification'!$I$407"]
["action_plan_actv_5_8",{"$f":"'Project identification'!$J$407","v":0},"#'Project identification'!$J$407"]
["action_plan_actv_6",{"$f":"'Project identification'!$B$408","v":"6."},"#'Project identification'!$B$408"]
["action_plan_actv_6_1",{"$f":"'Project identification'!$C$408","v":0},"#'Project identification'!$C$408"]
["action_plan_actv_6_2",{"$f":"'Project identification'!$D$408","v":0},"#'Project identification'!$D$408"]
["action_plan_actv_6_3",{"$f":"'Project identification'!$E$408","v":0},"#'Project identification'!$E$408"]
["action_plan_actv_6_4",{"$f":"'Project identification'!$G$408","v":0},"#'Project identification'!$G$408"]
["action_plan_actv_6_5",{"$f":"'Project identification'!$H$408","v":0},"#'Project identification'!$H$408"]
["action_plan_actv_6_6",{"$f":"'Project identification'!$F$408","v":0},"#'Project identification'!$F$408"]
["action_plan_actv_6_7",{"$f":"'Project identification'!$I$408","v":0},"#'Project identification'!$I$408"]
["action_plan_actv_6_8",{"$f":"'Project identification'!$J$408","v":0},"#'Project identification'!$J$408"]
["action_plan_actv_7",{"$f":"'Project identification'!$B$409","v":"7."},"#'Project identification'!$B$409"]
["action_plan_actv_7_1",{"$f":"'Project identification'!$C$409","v":0},"#'Project identification'!$C$409"]
["action_plan_actv_7_2",{"$f":"'Project identification'!$D$409","v":0},"#'Project identification'!$D$409"]
["action_plan_actv_7_3",{"$f":"'Project identification'!$E$409","v":0},"#'Project identification'!$E$409"]
["action_plan_actv_7_4",{"$f":"'Project identification'!$G$409","v":0},"#'Project identification'!$G$409"]
["action_plan_actv_7_5",{"$f":"'Project identification'!$H$409","v":0},"#'Project identification'!$H$409"]
["action_plan_actv_7_6",{"$f":"'Project identification'!$F$409","v":0},"#'Project identification'!$F$409"]
["action_plan_actv_7_7",{"$f":"'Project identification'!$I$409","v":0},"#'Project identification'!$I$409"]
["action_plan_actv_7_8",{"$f":"'Project identification'!$J$409","v":0},"#'Project identification'!$J$409"]
["action_plan_actv_8",{"$f":"'Project identification'!$B$410","v":"8."},"#'Project identification'!$B$410"]
["action_plan_actv_8_1",{"$f":"'Project identification'!$C$410","v":0},"#'Project identification'!$C$410"]
["action_plan_actv_8_2",{"$f":"'Project identification'!$D$410","v":0},"#'Project identification'!$D$410"]
["action_plan_actv_8_3",{"$f":"'Project identification'!$E$410","v":0},"#'Project identification'!$E$410"]
["action_plan_actv_8_4",{"$f":"'Project identification'!$G$410","v":0},"#'Project identification'!$G$410"]
["action_plan_actv_8_5",{"$f":"'Project identification'!$H$410","v":0},"#'Project identification'!$H$410"]
["action_plan_actv_8_6",{"$f":"'Project identification'!$F$410","v":0},"#'Project identification'!$F$410"]
["action_plan_actv_8_7",{"$f":"'Project identification'!$I$410","v":0},"#'Project identification'!$I$410"]
["action_plan_actv_8_8",{"$f":"'Project identification'!$J$410","v":0},"#'Project identification'!$J$410"]
["action_plan_actv_9",{"$f":"'Project identification'!$B$411","v":"9."},"#'Project identification'!$B$411"]
["action_plan_actv_9_1",{"$f":"'Project identification'!$C$411","v":0},"#'Project identification'!$C$411"]
["action_plan_actv_9_2",{"$f":"'Project identification'!$D$411","v":0},"#'Project identification'!$D$411"]
["action_plan_actv_9_3",{"$f":"'Project identification'!$E$411","v":0},"#'Project identification'!$E$411"]
["action_plan_actv_9_4",{"$f":"'Project identification'!$G$411","v":0},"#'Project identification'!$G$411"]
["action_plan_actv_9_5",{"$f":"'Project identification'!$H$411","v":0},"#'Project identification'!$H$411"]
["action_plan_actv_9_6",{"$f":"'Project identification'!$F$411","v":0},"#'Project identification'!$F$411"]
["action_plan_actv_9_7",{"$f":"'Project identification'!$I$411","v":0},"#'Project identification'!$I$411"]
["action_plan_actv_9_8",{"$f":"'Project identification'!$J$411","v":0},"#'Project identification'!$J$411"]
["Project identification'!BAD",{"$f":"'Project identification'!$R$402","v":0},"#'Project identification'!$R$402"]
["duration_project",{"$f":"'Project identification'!$C$19","v":0},"#'Project identification'!$C$19"]
["Cover!Environment",{"$f":"Cover!$P$28:$P$29","v":{"$error":"#VALUE!"}},"#Cover!$P$28:$P$29"]
["Environment",{"$f":"'Project identification'!$P$9:$P$10","v":{"$error":"#VALUE!"}},"#'Project identification'!$P$9:$P$10"]
["Cover!Environment1",{"$f":"Cover!$N$41:$N$42","v":{"$error":"#VALUE!"}},"#Cover!$N$41:$N$42"]
["Indicators1",{"$f":"'Project identification'!$O$447:$O$450","v":{"$error":"#VALUE!"}},"#'Project identification'!$O$447:$O$450"]
["Indicators2",{"$f":"'Project identification'!$O$451:$O$456","v":{"$error":"#VALUE!"}},"#'Project identification'!$O$451:$O$456"]
["Indicators3",{"$f":"'Project identification'!$O$457:$O$460","v":{"$error":"#VALUE!"}},"#'Project identification'!$O$457:$O$460"]
["Indicators4",{"$f":"'Project identification'!$O$461:$O$465","v":{"$error":"#VALUE!"}},"#'Project identification'!$O$461:$O$465"]
["Indicators5",{"$f":"'Project identification'!$O$466:$O$468","v":{"$error":"#VALUE!"}},"#'Project identification'!$O$466:$O$468"]
["invention_fild",{"$f":"Cover!$C$36","v":0},"#Cover!$C$36"]
["is_pp3",{"$f":"Checklist!$D$22","v":0},"#Checklist!$D$22"]
["is_pp4",{"$f":"Checklist!$D$30","v":0},"#Checklist!$D$30"]
["is_pp5",{"$f":"Checklist!$D$38","v":0},"#Checklist!$D$38"]
["Locations",{"$f":"'Project identification'!$M$71:$M$75","v":{"$error":"#VALUE!"}},"#'Project identification'!$M$71:$M$75"]
["lp_pp1_legal_representative",{"$f":"'PP1(LP)'!$C$23","v":""},"#'PP1(LP)'!$C$23"]
["lp_pp1_organisation_en",{"$f":"'PP1(LP)'!$C$7","v":""},"#'PP1(LP)'!$C$7"]
["oi_monit_justf",{"$f":"'Output indicators'!$E$9","v":0},"#'Output indicators'!$E$9"]
["oi_monit_justf2",{"$f":"'Output indicators'!$E$10","v":0},"#'Output indicators'!$E$10"]
["oi_monit_justf3",{"$f":"'Output indicators'!$E$11","v":0},"#'Output indicators'!$E$11"]
["oi_monit_justf4",{"$f":"'Output indicators'!$E$12","v":0},"#'Output indicators'!$E$12"]
["oi_monit_justf5",{"$f":"'Output indicators'!$E$13","v":0},"#'Output indicators'!$E$13"]
["oi_monit_justf6",{"$f":"'Output indicators'!$E$14","v":0},"#'Output indicators'!$E$14"]
["oi_monit_quant",{"$f":"'Output indicators'!$C$9","v":0},"#'Output indicators'!$C$9"]
["oi_monit_quant2",{"$f":"'Output indicators'!$C$10","v":0},"#'Output indicators'!$C$10"]
["oi_monit_quant3",{"$f":"'Output indicators'!$C$11","v":0},"#'Output indicators'!$C$11"]
["oi_monit_quant4",{"$f":"'Output indicators'!$C$12","v":0},"#'Output indicators'!$C$12"]
["oi_monit_quant5",{"$f":"'Output indicators'!$C$13","v":0},"#'Output indicators'!$C$13"]
["oi_monit_quant6",{"$f":"'Output indicators'!$C$14","v":0},"#'Output indicators'!$C$14"]
["oi_out_indicator",{"$f":"'Output indicators'!$B$9","v":0},"#'Output indicators'!$B$9"]
["oi_out_indicator2",{"$f":"'Output indicators'!$B$10","v":0},"#'Output indicators'!$B$10"]
["oi_out_indicator3",{"$f":"'Output indicators'!$B$11","v":0},"#'Output indicators'!$B$11"]
["oi_out_indicator4",{"$f":"'Output indicators'!$B$12","v":0},"#'Output indicators'!$B$12"]
["oi_out_indicator5",{"$f":"'Output indicators'!$B$13","v":0},"#'Output indicators'!$B$13"]
["oi_out_indicator6",{"$f":"'Output indicators'!$B$14","v":0},"#'Output indicators'!$B$14"]
["OK",{"$f":"'Project identification'!$W$408:$W$409","v":{"$error":"#VALUE!"}},"#'Project identification'!$W$408:$W$409"]
["PP2'!Organ1",{"$f":"'PP2'!$O$17:$O$19","v":{"$error":"#VALUE!"}},"#'PP2'!$O$17:$O$19"]
["PP3'!Organ1",{"$f":"'PP3'!$O$17:$O$19","v":{"$error":"#VALUE!"}},"#'PP3'!$O$17:$O$19"]
["PP4'!Organ1",{"$f":"'PP4'!$O$17:$O$19","v":{"$error":"#VALUE!"}},"#'PP4'!$O$17:$O$19"]
["PP5'!Organ1",{"$f":"'PP5'!$O$17:$O$19","v":{"$error":"#VALUE!"}},"#'PP5'!$O$17:$O$19"]
["Organ1",{"$f":"'PP1(LP)'!$O$17:$O$19","v":{"$error":"#VALUE!"}},"#'PP1(LP)'!$O$17:$O$19"]
["PP2'!Organ2",{"$f":"'PP2'!$P$17:$P$26","v":{"$error":"#VALUE!"}},"#'PP2'!$P$17:$P$26"]
["PP3'!Organ2",{"$f":"'PP3'!$P$17:$P$26","v":{"$error":"#VALUE!"}},"#'PP3'!$P$17:$P$26"]
["PP4'!Organ2",{"$f":"'PP4'!$P$17:$P$26","v":{"$error":"#VALUE!"}},"#'PP4'!$P$17:$P$26"]
["PP5'!Organ2",{"$f":"'PP5'!$P$17:$P$26","v":{"$error":"#VALUE!"}},"#'PP5'!$P$17:$P$26"]
["Organ2",{"$f":"'PP1(LP)'!$P$17:$P$26","v":{"$error":"#VALUE!"}},"#'PP1(LP)'!$P$17:$P$26"]
["PP2'!Organ3",{"$f":"'PP2'!$Q$17:$Q$25","v":{"$error":"#VALUE!"}},"#'PP2'!$Q$17:$Q$25"]
["PP3'!Organ3",{"$f":"'PP3'!$Q$17:$Q$25","v":{"$error":"#VALUE!"}},"#'PP3'!$Q$17:$Q$25"]
["PP4'!Organ3",{"$f":"'PP4'!$Q$17:$Q$25","v":{"$error":"#VALUE!"}},"#'PP4'!$Q$17:$Q$25"]
["PP5'!Organ3",{"$f":"'PP5'!$Q$17:$Q$25","v":{"$error":"#VALUE!"}},"#'PP5'!$Q$17:$Q$25"]
["Organ3",{"$f":"'PP1(LP)'!$Q$17:$Q$25","v":{"$error":"#VALUE!"}},"#'PP1(LP)'!$Q$17:$Q$25"]
["PP2'!Organ4",{"$f":"'PP2'!$R$17:$R$24","v":{"$error":"#VALUE!"}},"#'PP2'!$R$17:$R$24"]
["PP3'!Organ4",{"$f":"'PP3'!$R$17:$R$24","v":{"$error":"#VALUE!"}},"#'PP3'!$R$17:$R$24"]
["PP4'!Organ4",{"$f":"'PP4'!$R$17:$R$24","v":{"$error":"#VALUE!"}},"#'PP4'!$R$17:$R$24"]
["PP5'!Organ4",{"$f":"'PP5'!$R$17:$R$24","v":{"$error":"#VALUE!"}},"#'PP5'!$R$17:$R$24"]
["Organ4",{"$f":"'PP1(LP)'!$R$17:$R$24","v":{"$error":"#VALUE!"}},"#'PP1(LP)'!$R$17:$R$24"]
["PP2'!Organ5",{"$f":"'PP2'!$S$17:$S$26","v":{"$error":"#VALUE!"}},"#'PP2'!$S$17:$S$26"]
["PP3'!Organ5",{"$f":"'PP3'!$S$17:$S$26","v":{"$error":"#VALUE!"}},"#'PP3'!$S$17:$S$26"]
["PP4'!Organ5",{"$f":"'PP4'!$S$17:$S$26","v":{"$error":"#VALUE!"}},"#'PP4'!$S$17:$S$26"]
["PP5'!Organ5",{"$f":"'PP5'!$S$17:$S$26","v":{"$error":"#VALUE!"}},"#'PP5'!$S$17:$S$26"]
["Organ5",{"$f":"'PP1(LP)'!$S$17:$S$26","v":{"$error":"#VALUE!"}},"#'PP1(LP)'!$S$17:$S$26"]
["Organization",{"$f":"'PP1(LP)'!$V$10:$V$24","v":{"$error":"#VALUE!"}},"#'PP1(LP)'!$V$10:$V$24"]
["pi_act_1_descrp",{"$f":"'Project identification'!$B$71","v":0},"#'Project identification'!$B$71"]
["pi_act_1_location",{"$f":"'Project identification'!$C$69","v":0},"#'Project identification'!$C$69"]
["pi_act_1_metod",{"$f":"'Project identification'!$B$75","v":0},"#'Project identification'!$B$75"]
["pi_act_1_output",{"$f":"'Project identification'!$B$77","v":0},"#'Project identification'!$B$77"]
["pi_act_1_report",{"$f":"'Project identification'!$B$73","v":0},"#'Project identification'!$B$73"]
["pi_act_1_title",{"$f":"'Project identification'!$C$68","v":0},"#'Project identification'!$C$68"]
["pi_act_10_descrp",{"$f":"'Project identification'!$B$188","v":0},"#'Project identification'!$B$188"]
["pi_act_10_location",{"$f":"'Project identification'!$C$186","v":0},"#'Project identification'!$C$186"]
["pi_act_10_metod",{"$f":"'Project identification'!$B$192","v":0},"#'Project identification'!$B$192"]
["pi_act_10_output",{"$f":"'Project identification'!$B$194","v":0},"#'Project identification'!$B$194"]
["pi_act_10_report",{"$f":"'Project identification'!$B$190","v":0},"#'Project identification'!$B$190"]
["pi_act_10_title",{"$f":"'Project identification'!$C$185","v":0},"#'Project identification'!$C$185"]
["pi_act_11_descrp",{"$f":"'Project identification'!$B$201","v":0},"#'Project identification'!$B$201"]
["pi_act_11_location",{"$f":"'Project identification'!$C$199","v":0},"#'Project identification'!$C$199"]
["pi_act_11_metod",{"$f":"'Project identification'!$B$205","v":0},"#'Project identification'!$B$205"]
["pi_act_11_output",{"$f":"'Project identification'!$B$207","v":0},"#'Project identification'!$B$207"]
["pi_act_11_report",{"$f":"'Project identification'!$B$203","v":0},"#'Project identification'!$B$203"]
["pi_act_11_title",{"$f":"'Project identification'!$C$198","v":0},"#'Project identification'!$C$198"]
["pi_act_12_descrp",{"$f":"'Project identification'!$B$214","v":0},"#'Project identification'!$B$214"]
["pi_act_12_location",{"$f":"'Project identification'!$C$212","v":0},"#'Project identification'!$C$212"]
["pi_act_12_metod",{"$f":"'Project identification'!$B$218","v":0},"#'Project identification'!$B$218"]
["pi_act_12_output",{"$f":"'Project identification'!$B$220","v":0},"#'Project identification'!$B$220"]
["pi_act_12_report",{"$f":"'Project identification'!$B$216","v":0},"#'Project identification'!$B$216"]
["pi_act_12_title",{"$f":"'Project identification'!$C$211","v":0},"#'Project identification'!$C$211"]
["pi_act_13_descrp",{"$f":"'Project identification'!$B$227","v":0},"#'Project identification'!$B$227"]
["pi_act_13_location",{"$f":"'Project identification'!$C$225","v":0},"#'Project identification'!$C$225"]
["pi_act_13_metod",{"$f":"'Project identification'!$B$231","v":0},"#'Project identification'!$B$231"]
["pi_act_13_output",{"$f":"'Project identification'!$B$233","v":0},"#'Project identification'!$B$233"]
["pi_act_13_report",{"$f":"'Project identification'!$B$229","v":0},"#'Project identification'!$B$229"]
["pi_act_13_title",{"$f":"'Project identification'!$C$224","v":0},"#'Project identification'!$C$224"]
["pi_act_14_descrp",{"$f":"'Project identification'!$B$240","v":0},"#'Project identification'!$B$240"]
["pi_act_14_location",{"$f":"'Project identification'!$C$238","v":0},"#'Project identification'!$C$238"]
["pi_act_14_metod",{"$f":"'Project identification'!$B$244","v":0},"#'Project identification'!$B$244"]
["pi_act_14_output",{"$f":"'Project identification'!$B$246","v":0},"#'Project identification'!$B$246"]
["pi_act_14_report",{"$f":"'Project identification'!$B$242","v":0},"#'Project identification'!$B$242"]
["pi_act_14_title",{"$f":"'Project identification'!$C$237","v":0},"#'Project identification'!$C$237"]
["pi_act_15_descrp",{"$f":"'Project identification'!$B$253","v":0},"#'Project identification'!$B$253"]
["pi_act_15_location",{"$f":"'Project identification'!$C$251","v":0},"#'Project identification'!$C$251"]
["pi_act_15_metod",{"$f":"'Project identification'!$B$257","v":0},"#'Project identification'!$B$257"]
["pi_act_15_output",{"$f":"'Project identification'!$B$259","v":0},"#'Project identification'!$B$259"]
["pi_act_15_report",{"$f":"'Project identification'!$B$255","v":0},"#'Project identification'!$B$255"]
["pi_act_15_title",{"$f":"'Project identification'!$C$250","v":0},"#'Project identification'!$C$250"]
["pi_act_2_descrp",{"$f":"'Project identification'!$B$84","v":0},"#'Project identification'!$B$84"]
["pi_act_2_location",{"$f":"'Project identification'!$C$82","v":0},"#'Project identification'!$C$82"]
["pi_act_2_metod",{"$f":"'Project identification'!$B$88","v":0},"#'Project identification'!$B$88"]
["pi_act_2_output",{"$f":"'Project identification'!$B$90","v":0},"#'Project identification'!$B$90"]
["pi_act_2_report",{"$f":"'Project identification'!$B$86","v":0},"#'Project identification'!$B$86"]
["pi_act_2_title",{"$f":"'Project identification'!$C$81","v":0},"#'Project identification'!$C$81"]
["pi_act_3_descrp",{"$f":"'Project identification'!$B$97","v":0},"#'Project identification'!$B$97"]
["pi_act_3_location",{"$f":"'Project identification'!$C$95","v":0},"#'Project identification'!$C$95"]
["pi_act_3_metod",{"$f":"'Project identification'!$B$101","v":0},"#'Project identification'!$B$101"]
["pi_act_3_output",{"$f":"'Project identification'!$B$103","v":0},"#'Project identification'!$B$103"]
["pi_act_3_report",{"$f":"'Project identification'!$B$99","v":0},"#'Project identification'!$B$99"]
["pi_act_3_title",{"$f":"'Project identification'!$C$94","v":0},"#'Project identification'!$C$94"]
["pi_act_4_descrp",{"$f":"'Project identification'!$B$110","v":0},"#'Project identification'!$B$110"]
["pi_act_4_location",{"$f":"'Project identification'!$C$108","v":0},"#'Project identification'!$C$108"]
["pi_act_4_metod",{"$f":"'Project identification'!$B$114","v":0},"#'Project identification'!$B$114"]
["pi_act_4_output",{"$f":"'Project identification'!$B$116","v":0},"#'Project identification'!$B$116"]
["pi_act_4_report",{"$f":"'Project identification'!$B$112","v":0},"#'Project identification'!$B$112"]
["pi_act_4_title",{"$f":"'Project identification'!$C$107","v":0},"#'Project identification'!$C$107"]
["pi_act_5_descrp",{"$f":"'Project identification'!$B$123","v":0},"#'Project identification'!$B$123"]
["pi_act_5_location",{"$f":"'Project identification'!$C$121","v":0},"#'Project identification'!$C$121"]
["pi_act_5_metod",{"$f":"'Project identification'!$B$127","v":0},"#'Project identification'!$B$127"]
["pi_act_5_output",{"$f":"'Project identification'!$B$129","v":0},"#'Project identification'!$B$129"]
["pi_act_5_report",{"$f":"'Project identification'!$B$125","v":0},"#'Project identification'!$B$125"]
["pi_act_5_title",{"$f":"'Project identification'!$C$120","v":0},"#'Project identification'!$C$120"]
["pi_act_6_descrp",{"$f":"'Project identification'!$B$136","v":0},"#'Project identification'!$B$136"]
["pi_act_6_location",{"$f":"'Project identification'!$C$134","v":0},"#'Project identification'!$C$134"]
["pi_act_6_metod",{"$f":"'Project identification'!$B$140","v":0},"#'Project identification'!$B$140"]
["pi_act_6_output",{"$f":"'Project identification'!$B$142","v":0},"#'Project identification'!$B$142"]
["pi_act_6_report",{"$f":"'Project identification'!$B$138","v":0},"#'Project identification'!$B$138"]
["pi_act_6_title",{"$f":"'Project identification'!$C$133","v":0},"#'Project identification'!$C$133"]
["pi_act_7_descrp",{"$f":"'Project identification'!$B$149","v":0},"#'Project identification'!$B$149"]
["pi_act_7_location",{"$f":"'Project identification'!$C$147","v":0},"#'Project identification'!$C$147"]
["pi_act_7_metod",{"$f":"'Project identification'!$B$153","v":0},"#'Project identification'!$B$153"]
["pi_act_7_output",{"$f":"'Project identification'!$B$155","v":0},"#'Project identification'!$B$155"]
["pi_act_7_report",{"$f":"'Project identification'!$B$151","v":0},"#'Project identification'!$B$151"]
["pi_act_7_title",{"$f":"'Project identification'!$C$146","v":0},"#'Project identification'!$C$146"]
["pi_act_8_descrp",{"$f":"'Project identification'!$B$162","v":0},"#'Project identification'!$B$162"]
["pi_act_8_location",{"$f":"'Project identification'!$C$160","v":0},"#'Project identification'!$C$160"]
["pi_act_8_metod",{"$f":"'Project identification'!$B$166","v":0},"#'Project identification'!$B$166"]
["pi_act_8_output",{"$f":"'Project identification'!$B$168","v":0},"#'Project identification'!$B$168"]
["pi_act_8_report",{"$f":"'Project identification'!$B$164","v":0},"#'Project identification'!$B$164"]
["pi_act_8_title",{"$f":"'Project identification'!$C$159","v":0},"#'Project identification'!$C$159"]
["pi_act_9_descrp",{"$f":"'Project identification'!$B$175","v":0},"#'Project identification'!$B$175"]
["pi_act_9_location",{"$f":"'Project identification'!$C$173","v":0},"#'Project identification'!$C$173"]
["pi_act_9_metod",{"$f":"'Project identification'!$B$179","v":0},"#'Project identification'!$B$179"]
["pi_act_9_output",{"$f":"'Project identification'!$B$181","v":0},"#'Project identification'!$B$181"]
["pi_act_9_report",{"$f":"'Project identification'!$B$177","v":0},"#'Project identification'!$B$177"]
["pi_act_9_title",{"$f":"'Project identification'!$C$172","v":0},"#'Project identification'!$C$172"]
["pi_comm_partner1",{"$f":"'Project identification'!$D$395","v":0},"#'Project identification'!$D$395"]
["pi_comm_partner2",{"$f":"'Project identification'!$D$396","v":0},"#'Project identification'!$D$396"]
["pi_comm_partner3",{"$f":"'Project identification'!$D$397","v":0},"#'Project identification'!$D$397"]
["pi_comm_partner4",{"$f":"'Project identification'!$D$398","v":0},"#'Project identification'!$D$398"]
["pi_comm_partner5",{"$f":"'Project identification'!$D$399","v":0},"#'Project identification'!$D$399"]
["pi_comm_reach1",{"$f":"'Project identification'!$I$395","v":0},"#'Project identification'!$I$395"]
["pi_comm_reach2",{"$f":"'Project identification'!$I$396","v":0},"#'Project identification'!$I$396"]
["pi_comm_reach3",{"$f":"'Project identification'!$I$397","v":0},"#'Project identification'!$I$397"]
["pi_comm_reach4",{"$f":"'Project identification'!$I$398","v":0},"#'Project identification'!$I$398"]
["pi_comm_reach5",{"$f":"'Project identification'!$I$399","v":0},"#'Project identification'!$I$399"]
["pi_comm_str",{"$f":"'Project identification'!$B$392","v":0},"#'Project identification'!$B$392"]
["pi_comm_target1",{"$f":"'Project identification'!$F$395","v":0},"#'Project identification'!$F$395"]
["pi_comm_target2",{"$f":"'Project identification'!$F$396","v":0},"#'Project identification'!$F$396"]
["pi_comm_target3",{"$f":"'Project identification'!$F$397","v":0},"#'Project identification'!$F$397"]
["pi_comm_target4",{"$f":"'Project identification'!$F$398","v":0},"#'Project identification'!$F$398"]
["pi_comm_target5",{"$f":"'Project identification'!$F$399","v":0},"#'Project identification'!$F$399"]
["pi_comm_tool1",{"$f":"'Project identification'!$B$395","v":0},"#'Project identification'!$B$395"]
["pi_comm_tool2",{"$f":"'Project identification'!$B$396","v":0},"#'Project identification'!$B$396"]
["pi_comm_tool3",{"$f":"'Project identification'!$B$397","v":0},"#'Project identification'!$B$397"]
["pi_comm_tool4",{"$f":"'Project identification'!$B$398","v":0},"#'Project identification'!$B$398"]
["pi_comm_tool5",{"$f":"'Project identification'!$B$399","v":0},"#'Project identification'!$B$399"]
["pi_coop_crit1_check",{"$f":"'Project identification'!$C$26","v":""},"#'Project identification'!$C$26"]
["pi_coop_crit1_descr",{"$f":"'Project identification'!$B$27","v":0},"#'Project identification'!$B$27"]
["pi_coop_crit2_check",{"$f":"'Project identification'!$C$28","v":""},"#'Project identification'!$C$28"]
["pi_coop_crit2_descr",{"$f":"'Project identification'!$B$29","v":0},"#'Project identification'!$B$29"]
["pi_coop_crit3_check",{"$f":"'Project identification'!$C$30","v":""},"#'Project identification'!$C$30"]
["pi_coop_crit3_descr",{"$f":"'Project identification'!$B$31","v":0},"#'Project identification'!$B$31"]
["pi_coop_crit4_check",{"$f":"'Project identification'!$C$32","v":""},"#'Project identification'!$C$32"]
["pi_coop_crit4_descr",{"$f":"'Project identification'!$B$33","v":0},"#'Project identification'!$B$33"]
["pi_correspondence",{"$f":"'Project identification'!$B$54","v":0},"#'Project identification'!$B$54"]
["pi_cross_border_impact",{"$f":"'Project identification'!$B$37","v":0},"#'Project identification'!$B$37"]
["pi_efect",{"$f":"'Project identification'!$B$457","v":0},"#'Project identification'!$B$457"]
["pi_hrz_1",{"$f":"'Project identification'!$C$480","v":0},"#'Project identification'!$C$480"]
["pi_hrz_2",{"$f":"'Project identification'!$C$481","v":0},"#'Project identification'!$C$481"]
["pi_hrz_3",{"$f":"'Project identification'!$C$482","v":0},"#'Project identification'!$C$482"]
["pi_management",{"$f":"'Project identification'!$B$436","v":0},"#'Project identification'!$B$436"]
["pi_monit_justf",{"$f":"'Project identification'!$E$446","v":0},"#'Project identification'!$E$446"]
["pi_monit_justf2",{"$f":"'Project identification'!$E$447","v":0},"#'Project identification'!$E$447"]
["pi_monit_justf3",{"$f":"'Project identification'!$E$448","v":0},"#'Project identification'!$E$448"]
["pi_monit_justf4",{"$f":"'Project identification'!$E$449","v":0},"#'Project identification'!$E$449"]
["pi_monit_justf5",{"$f":"'Project identification'!$E$450","v":0},"#'Project identification'!$E$450"]
["pi_monit_justf6",{"$f":"'Project identification'!$E$451","v":0},"#'Project identification'!$E$451"]
["pi_monit_quant",{"$f":"'Project identification'!$C$446","v":0},"#'Project identification'!$C$446"]
["pi_monit_quant2",{"$f":"'Project identification'!$C$447","v":0},"#'Project identification'!$C$447"]
["pi_monit_quant3",{"$f":"'Project identification'!$C$448","v":0},"#'Project identification'!$C$448"]
["pi_monit_quant4",{"$f":"'Project identification'!$C$449","v":0},"#'Project identification'!$C$449"]
["pi_monit_quant5",{"$f":"'Project identification'!$C$450","v":0},"#'Project identification'!$C$450"]
["pi_monit_quant6",{"$f":"'Project identification'!$C$451","v":0},"#'Project identification'!$C$451"]
["pi_new_indicator",{"$f":"'Project identification'!$J$446","v":0},"#'Project identification'!$J$446"]
["pi_new_indicator2",{"$f":"'Project identification'!$J$447","v":0},"#'Project identification'!$J$447"]
["pi_new_indicator3",{"$f":"'Project identification'!$J$448","v":0},"#'Project identification'!$J$448"]
["pi_new_indicator4",{"$f":"'Project identification'!$J$449","v":0},"#'Project identification'!$J$449"]
["pi_new_indicator5",{"$f":"'Project identification'!$J$450","v":0},"#'Project identification'!$J$450"]
["pi_new_indicator6",{"$f":"'Project identification'!$J$451","v":0},"#'Project identification'!$J$451"]
["pi_other_prj",{"$f":"'Project identification'!$B$475","v":0},"#'Project identification'!$B$475"]
["pi_other_str",{"$f":"'Project identification'!$B$470","v":0},"#'Project identification'!$B$470"]
["pi_out_indicator2",{"$f":"'Project identification'!$B$447","v":0},"#'Project identification'!$B$447"]
["pi_out_indicator3",{"$f":"'Project identification'!$B$448","v":0},"#'Project identification'!$B$448"]
["pi_out_indicator4",{"$f":"'Project identification'!$B$449","v":0},"#'Project identification'!$B$449"]
["pi_out_indicator5",{"$f":"'Project identification'!$B$450","v":0},"#'Project identification'!$B$450"]
["pi_out_indicator6",{"$f":"'Project identification'!$B$451","v":0},"#'Project identification'!$B$451"]
["pi_out_indicators",{"$f":"'Project identification'!$B$446","v":0},"#'Project identification'!$B$446"]
["pi_pd_back1",{"$f":"'Project identification'!$B$46","v":0},"#'Project identification'!$B$46"]
["pi_pd_back2",{"$f":"'Project identification'!$B$47","v":0},"#'Project identification'!$B$47"]
["pi_pd_c83",{"$f":"'Project identification'!$C$61","v":0},"#'Project identification'!$C$61"]
["pi_pd_c84",{"$f":"'Project identification'!$C$62","v":0},"#'Project identification'!$C$62"]
["pi_pd_c85",{"$f":"'Project identification'!$C$63","v":0},"#'Project identification'!$C$63"]
["pi_pd_const",{"$f":"'Project identification'!$B$50","v":0},"#'Project identification'!$B$50"]
["pi_pd_e83",{"$f":"'Project identification'!$F$61","v":0},"#'Project identification'!$F$61"]
["pi_pd_e84",{"$f":"'Project identification'!$F$62","v":0},"#'Project identification'!$F$62"]
["pi_pd_e85",{"$f":"'Project identification'!$F$63","v":0},"#'Project identification'!$F$63"]
["pi_pd_i83",{"$f":"'Project identification'!$J$61","v":0},"#'Project identification'!$J$61"]
["pi_pd_i84",{"$f":"'Project identification'!$J$62","v":0},"#'Project identification'!$J$62"]
["pi_pd_i85",{"$f":"'Project identification'!$J$63","v":0},"#'Project identification'!$J$63"]
["pi_priority_axis",{"$f":"'Project identification'!$C$11","v":"Environment"},"#'Project identification'!$C$11"]
["pi_project_title",{"$f":"'Project identification'!$C$9","v":0},"#'Project identification'!$C$9"]
["pi_project_type",{"$f":"'Project identification'!$C$15","v":"Investment"},"#'Project identification'!$C$15"]
["pi_specific_objective",{"$f":"'Project identification'!$C$13","v":"1.2. Improving the capacity for nature protection, sustainable use and management of common natural resources through cooperation initiatives in the  cross-border area"},"#'Project identification'!$C$13"]
["pi_sustainability",{"$f":"'Project identification'!$B$462","v":0},"#'Project identification'!$B$462"]
["pp_1_bl1_1_name",{"$f":"'T2-B(PP1)'!$B$5","v":"Investment project"},"#'T2-B(PP1)'!$B$5"]
["pp_1_bl1_1_perc",{"$f":"'T2-B(PP1)'!$G$5","v":0},"#'T2-B(PP1)'!$G$5"]
["pp_1_bl1_1_total",{"$f":"'T2-B(PP1)'!$I$5","v":0},"#'T2-B(PP1)'!$I$5"]
["pp_1_bl1_total",{"$f":"'T2-B(PP1)'!$I$6","v":0},"#'T2-B(PP1)'!$I$6"]
["pp_1_bl2_1_name",{"$f":"'T2-B(PP1)'!$B$31","v":"Investment project"},"#'T2-B(PP1)'!$B$31"]
["pp_1_bl2_1_perc",{"$f":"'T2-B(PP1)'!$G$31","v":0},"#'T2-B(PP1)'!$G$31"]
["pp_1_bl2_1_total",{"$f":"'T2-B(PP1)'!$I$31","v":0},"#'T2-B(PP1)'!$I$31"]
["pp_1_bl2_total",{"$f":"'T2-B(PP1)'!$I$32","v":0},"#'T2-B(PP1)'!$I$32"]
["pp_1_proj_direct_total",{"$f":"'T2-B(PP1)'!$J$433","v":0},"#'T2-B(PP1)'!$J$433"]
["pp_1_proj_direct_total_in",{"$f":"'T2-B(PP1)'!$F$433","v":0},"#'T2-B(PP1)'!$F$433"]
["pp_1_proj_direct_total_out",{"$f":"'T2-B(PP1)'!$G$433","v":0},"#'T2-B(PP1)'!$G$433"]
["pp_1_proj_total",{"$f":"'T2-B(PP1)'!$J$434","v":0},"#'T2-B(PP1)'!$J$434"]
["pp_1_proj_total_in",{"$f":"'T2-B(PP1)'!$F$434","v":0},"#'T2-B(PP1)'!$F$434"]
["pp_1_proj_total_out",{"$f":"'T2-B(PP1)'!$G$434","v":0},"#'T2-B(PP1)'!$G$434"]
["pp_2_bl1_1_name",{"$f":"'T2-B(PP2)'!#REF!","v":{"$error":"#REF!"}},"#'T2-B(PP2)'!#REF!"]
["pp_2_bl1_1_perc",{"$f":"'T2-B(PP2)'!#REF!","v":{"$error":"#REF!"}},"#'T2-B(PP2)'!#REF!"]
["pp_2_bl1_1_total",{"$f":"'T2-B(PP2)'!#REF!","v":{"$error":"#REF!"}},"#'T2-B(PP2)'!#REF!"]
["pp_2_bl1_total",{"$f":"'T2-B(PP2)'!#REF!","v":{"$error":"#REF!"}},"#'T2-B(PP2)'!#REF!"]
["pp_2_bl2_1_name",{"$f":"'T2-B(PP2)'!$B$30","v":"Investment project"},"#'T2-B(PP2)'!$B$30"]
["pp_2_bl2_1_perc",{"$f":"'T2-B(PP2)'!$G$30","v":0},"#'T2-B(PP2)'!$G$30"]
["pp_2_bl2_1_total",{"$f":"'T2-B(PP2)'!$I$30","v":0},"#'T2-B(PP2)'!$I$30"]
["pp_2_bl2_total",{"$f":"'T2-B(PP2)'!$I$31","v":0},"#'T2-B(PP2)'!$I$31"]
["pp_2_proj_direct_total",{"$f":"'T2-B(PP2)'!$J$442","v":0},"#'T2-B(PP2)'!$J$442"]
["pp_2_proj_direct_total_in",{"$f":"'T2-B(PP2)'!$F$442","v":0},"#'T2-B(PP2)'!$F$442"]
["pp_2_proj_direct_total_out",{"$f":"'T2-B(PP2)'!$G$442","v":0},"#'T2-B(PP2)'!$G$442"]
["pp_2_proj_total",{"$f":"'T2-B(PP2)'!$J$443","v":0},"#'T2-B(PP2)'!$J$443"]
["pp_2_proj_total_in",{"$f":"'T2-B(PP2)'!$F$443","v":0},"#'T2-B(PP2)'!$F$443"]
["pp_2_proj_total_out",{"$f":"'T2-B(PP2)'!$G$443","v":0},"#'T2-B(PP2)'!$G$443"]
["pp_3_bl1_1_name",{"$f":"'T2-B(PP3)'!#REF!","v":{"$error":"#REF!"}},"#'T2-B(PP3)'!#REF!"]
["pp_3_bl1_1_perc",{"$f":"'T2-B(PP3)'!#REF!","v":{"$error":"#REF!"}},"#'T2-B(PP3)'!#REF!"]
["pp_3_bl1_1_total",{"$f":"'T2-B(PP3)'!#REF!","v":{"$error":"#REF!"}},"#'T2-B(PP3)'!#REF!"]
["pp_3_bl1_total",{"$f":"'T2-B(PP3)'!#REF!","v":{"$error":"#REF!"}},"#'T2-B(PP3)'!#REF!"]
["pp_3_bl2_1_name",{"$f":"'T2-B(PP3)'!$B$30","v":"Investment project"},"#'T2-B(PP3)'!$B$30"]
["pp_3_bl2_1_perc",{"$f":"'T2-B(PP3)'!$G$30","v":10},"#'T2-B(PP3)'!$G$30"]
["pp_3_bl2_1_total",{"$f":"'T2-B(PP3)'!$I$30","v":0},"#'T2-B(PP3)'!$I$30"]
["pp_3_bl2_total",{"$f":"'T2-B(PP3)'!$I$31","v":0},"#'T2-B(PP3)'!$I$31"]
["pp_3_proj_direct_total",{"$f":"'T2-B(PP3)'!$J$442","v":0},"#'T2-B(PP3)'!$J$442"]
["pp_3_proj_direct_total_in",{"$f":"'T2-B(PP3)'!$F$442","v":0},"#'T2-B(PP3)'!$F$442"]
["pp_3_proj_direct_total_out",{"$f":"'T2-B(PP3)'!$G$442","v":0},"#'T2-B(PP3)'!$G$442"]
["pp_3_proj_total",{"$f":"'T2-B(PP3)'!$J$443","v":0},"#'T2-B(PP3)'!$J$443"]
["pp_3_proj_total_in",{"$f":"'T2-B(PP3)'!$F$443","v":0},"#'T2-B(PP3)'!$F$443"]
["pp_3_proj_total_out",{"$f":"'T2-B(PP3)'!$G$443","v":0},"#'T2-B(PP3)'!$G$443"]
["pp_4_bl1_1_name",{"$f":"'T2-B(PP4)'!#REF!","v":{"$error":"#REF!"}},"#'T2-B(PP4)'!#REF!"]
["pp_4_bl1_1_perc",{"$f":"'T2-B(PP4)'!#REF!","v":{"$error":"#REF!"}},"#'T2-B(PP4)'!#REF!"]
["pp_4_bl1_1_total",{"$f":"'T2-B(PP4)'!#REF!","v":{"$error":"#REF!"}},"#'T2-B(PP4)'!#REF!"]
["pp_4_bl1_total",{"$f":"'T2-B(PP4)'!#REF!","v":{"$error":"#REF!"}},"#'T2-B(PP4)'!#REF!"]
["pp_4_bl2_1_name",{"$f":"'T2-B(PP4)'!$B$30","v":"Investment project"},"#'T2-B(PP4)'!$B$30"]
["pp_4_bl2_1_perc",{"$f":"'T2-B(PP4)'!$G$30","v":0},"#'T2-B(PP4)'!$G$30"]
["pp_4_bl2_1_total",{"$f":"'T2-B(PP4)'!$I$30","v":0},"#'T2-B(PP4)'!$I$30"]
["pp_4_bl2_total",{"$f":"'T2-B(PP4)'!$I$31","v":0},"#'T2-B(PP4)'!$I$31"]
["pp_4_proj_direct_total",{"$f":"'T2-B(PP4)'!$J$442","v":0},"#'T2-B(PP4)'!$J$442"]
["pp_4_proj_direct_total_in",{"$f":"'T2-B(PP4)'!$F$442","v":0},"#'T2-B(PP4)'!$F$442"]
["pp_4_proj_direct_total_out",{"$f":"'T2-B(PP4)'!$G$442","v":0},"#'T2-B(PP4)'!$G$442"]
["pp_4_proj_total",{"$f":"'T2-B(PP4)'!$J$443","v":0},"#'T2-B(PP4)'!$J$443"]
["pp_4_proj_total_in",{"$f":"'T2-B(PP4)'!$F$443","v":0},"#'T2-B(PP4)'!$F$443"]
["pp_4_proj_total_out",{"$f":"'T2-B(PP4)'!$G$443","v":0},"#'T2-B(PP4)'!$G$443"]
["pp_5_bl1_1_name",{"$f":"'T2-B(PP5)'!#REF!","v":{"$error":"#REF!"}},"#'T2-B(PP5)'!#REF!"]
["pp_5_bl1_1_perc",{"$f":"'T2-B(PP5)'!#REF!","v":{"$error":"#REF!"}},"#'T2-B(PP5)'!#REF!"]
["pp_5_bl1_1_total",{"$f":"'T2-B(PP5)'!#REF!","v":{"$error":"#REF!"}},"#'T2-B(PP5)'!#REF!"]
["pp_5_bl1_total",{"$f":"'T2-B(PP5)'!#REF!","v":{"$error":"#REF!"}},"#'T2-B(PP5)'!#REF!"]
["pp_5_bl2_1_name",{"$f":"'T2-B(PP5)'!$B$30","v":"Investment project"},"#'T2-B(PP5)'!$B$30"]
["pp_5_bl2_1_perc",{"$f":"'T2-B(PP5)'!$G$30","v":0},"#'T2-B(PP5)'!$G$30"]
["pp_5_bl2_1_total",{"$f":"'T2-B(PP5)'!$I$30","v":0},"#'T2-B(PP5)'!$I$30"]
["pp_5_bl2_total",{"$f":"'T2-B(PP5)'!$I$31","v":0},"#'T2-B(PP5)'!$I$31"]
["pp_5_proj_direct_total",{"$f":"'T2-B(PP5)'!$J$442","v":0},"#'T2-B(PP5)'!$J$442"]
["pp_5_proj_direct_total_in",{"$f":"'T2-B(PP5)'!$F$442","v":0},"#'T2-B(PP5)'!$F$442"]
["pp_5_proj_direct_total_out",{"$f":"'T2-B(PP5)'!$G$442","v":0},"#'T2-B(PP5)'!$G$442"]
["pp_5_proj_total",{"$f":"'T2-B(PP5)'!$J$443","v":0},"#'T2-B(PP5)'!$J$443"]
["pp_5_proj_total_in",{"$f":"'T2-B(PP5)'!$F$443","v":0},"#'T2-B(PP5)'!$F$443"]
["pp_5_proj_total_out",{"$f":"'T2-B(PP5)'!$G$443","v":0},"#'T2-B(PP5)'!$G$443"]
["pp1_2014_fulltime_staff",{"$f":"'PP1(LP)'!$F$77","v":0},"#'PP1(LP)'!$F$77"]
["pp1_2014_parttime_staff",{"$f":"'PP1(LP)'!$G$77","v":0},"#'PP1(LP)'!$G$77"]
["pp1_2014_turnover",{"$f":"'PP1(LP)'!$C$77","v":0},"#'PP1(LP)'!$C$77"]
["pp1_2015_fulltime_staff",{"$f":"'PP1(LP)'!$F$78","v":0},"#'PP1(LP)'!$F$78"]
["pp1_2015_parttime_staff",{"$f":"'PP1(LP)'!$G$78","v":0},"#'PP1(LP)'!$G$78"]
["pp1_2015_turnover",{"$f":"'PP1(LP)'!$C$78","v":0},"#'PP1(LP)'!$C$78"]
["pp1_2016_fulltime_staff",{"$f":"'PP1(LP)'!$F$79","v":0},"#'PP1(LP)'!$F$79"]
["pp1_2016_parttime_staff",{"$f":"'PP1(LP)'!$G$79","v":0},"#'PP1(LP)'!$G$79"]
["pp1_2016_turnover",{"$f":"'PP1(LP)'!$C$79","v":0},"#'PP1(LP)'!$C$79"]
["pp1_address",{"$f":"'PP1(LP)'!$C$19","v":0},"#'PP1(LP)'!$C$19"]
["pp1_background1",{"$f":"'PP1(LP)'!$B$35","v":0},"#'PP1(LP)'!$B$35"]
["pp1_background2",{"$f":"'PP1(LP)'!$B$36","v":0},"#'PP1(LP)'!$B$36"]
["pp1_bl3_1_1_name",{"$f":"'T2-B(PP1)'!$B$37","v":0},"#'T2-B(PP1)'!$B$37"]
["pp1_bl3_1_1_rate_in",{"$f":"'T2-B(PP1)'!$E$37","v":0},"#'T2-B(PP1)'!$E$37"]
["pp1_bl3_1_1_rate_out",{"$f":"'T2-B(PP1)'!$H$37","v":0},"#'T2-B(PP1)'!$H$37"]
["pp1_bl3_1_1_total",{"$f":"'T2-B(PP1)'!$J$37","v":0},"#'T2-B(PP1)'!$J$37"]
["pp1_bl3_1_1_total_in",{"$f":"'T2-B(PP1)'!$F$37","v":0},"#'T2-B(PP1)'!$F$37"]
["pp1_bl3_1_1_total_out",{"$f":"'T2-B(PP1)'!$I$37","v":0},"#'T2-B(PP1)'!$I$37"]
["pp1_bl3_1_1_unit",{"$f":"'T2-B(PP1)'!$C$37","v":0},"#'T2-B(PP1)'!$C$37"]
["pp1_bl3_1_1_unit_in",{"$f":"'T2-B(PP1)'!$D$37","v":0},"#'T2-B(PP1)'!$D$37"]
["pp1_bl3_1_1_units_out",{"$f":"'T2-B(PP1)'!$G$37","v":0},"#'T2-B(PP1)'!$G$37"]
["pp1_bl3_1_10_name",{"$f":"'T2-B(PP1)'!$B$46","v":0},"#'T2-B(PP1)'!$B$46"]
["pp1_bl3_1_10_rate_in",{"$f":"'T2-B(PP1)'!$E$46","v":0},"#'T2-B(PP1)'!$E$46"]
["pp1_bl3_1_10_rate_out",{"$f":"'T2-B(PP1)'!$H$46","v":0},"#'T2-B(PP1)'!$H$46"]
["pp1_bl3_1_10_total",{"$f":"'T2-B(PP1)'!$J$46","v":0},"#'T2-B(PP1)'!$J$46"]
["pp1_bl3_1_10_total_in",{"$f":"'T2-B(PP1)'!$F$46","v":0},"#'T2-B(PP1)'!$F$46"]
["pp1_bl3_1_10_total_out",{"$f":"'T2-B(PP1)'!$I$46","v":0},"#'T2-B(PP1)'!$I$46"]
["pp1_bl3_1_10_unit",{"$f":"'T2-B(PP1)'!$C$46","v":0},"#'T2-B(PP1)'!$C$46"]
["pp1_bl3_1_10_unit_in",{"$f":"'T2-B(PP1)'!$D$46","v":0},"#'T2-B(PP1)'!$D$46"]
["pp1_bl3_1_10_units_out",{"$f":"'T2-B(PP1)'!$G$46","v":0},"#'T2-B(PP1)'!$G$46"]
["pp1_bl3_1_2_name",{"$f":"'T2-B(PP1)'!$B$38","v":0},"#'T2-B(PP1)'!$B$38"]
["pp1_bl3_1_2_rate_in",{"$f":"'T2-B(PP1)'!$E$38","v":0},"#'T2-B(PP1)'!$E$38"]
["pp1_bl3_1_2_rate_out",{"$f":"'T2-B(PP1)'!$H$38","v":0},"#'T2-B(PP1)'!$H$38"]
["pp1_bl3_1_2_total",{"$f":"'T2-B(PP1)'!$J$38","v":0},"#'T2-B(PP1)'!$J$38"]
["pp1_bl3_1_2_total_in",{"$f":"'T2-B(PP1)'!$F$38","v":0},"#'T2-B(PP1)'!$F$38"]
["pp1_bl3_1_2_total_out",{"$f":"'T2-B(PP1)'!$I$38","v":0},"#'T2-B(PP1)'!$I$38"]
["pp1_bl3_1_2_unit",{"$f":"'T2-B(PP1)'!$C$38","v":0},"#'T2-B(PP1)'!$C$38"]
["pp1_bl3_1_2_unit_in",{"$f":"'T2-B(PP1)'!$D$38","v":0},"#'T2-B(PP1)'!$D$38"]
["pp1_bl3_1_2_units_out",{"$f":"'T2-B(PP1)'!$G$38","v":0},"#'T2-B(PP1)'!$G$38"]
["pp1_bl3_1_3_name",{"$f":"'T2-B(PP1)'!$B$39","v":0},"#'T2-B(PP1)'!$B$39"]
["pp1_bl3_1_3_rate_in",{"$f":"'T2-B(PP1)'!$E$39","v":0},"#'T2-B(PP1)'!$E$39"]
["pp1_bl3_1_3_rate_out",{"$f":"'T2-B(PP1)'!$H$39","v":0},"#'T2-B(PP1)'!$H$39"]
["pp1_bl3_1_3_total",{"$f":"'T2-B(PP1)'!$J$39","v":0},"#'T2-B(PP1)'!$J$39"]
["pp1_bl3_1_3_total_in",{"$f":"'T2-B(PP1)'!$F$39","v":0},"#'T2-B(PP1)'!$F$39"]
["pp1_bl3_1_3_total_out",{"$f":"'T2-B(PP1)'!$I$39","v":0},"#'T2-B(PP1)'!$I$39"]
["pp1_bl3_1_3_unit",{"$f":"'T2-B(PP1)'!$C$39","v":0},"#'T2-B(PP1)'!$C$39"]
["pp1_bl3_1_3_unit_in",{"$f":"'T2-B(PP1)'!$D$39","v":0},"#'T2-B(PP1)'!$D$39"]
["pp1_bl3_1_3_units_out",{"$f":"'T2-B(PP1)'!$G$39","v":0},"#'T2-B(PP1)'!$G$39"]
["pp1_bl3_1_4_name",{"$f":"'T2-B(PP1)'!$B$40","v":0},"#'T2-B(PP1)'!$B$40"]
["pp1_bl3_1_4_rate_in",{"$f":"'T2-B(PP1)'!$E$40","v":0},"#'T2-B(PP1)'!$E$40"]
["pp1_bl3_1_4_rate_out",{"$f":"'T2-B(PP1)'!$H$40","v":0},"#'T2-B(PP1)'!$H$40"]
["pp1_bl3_1_4_total",{"$f":"'T2-B(PP1)'!$J$40","v":0},"#'T2-B(PP1)'!$J$40"]
["pp1_bl3_1_4_total_in",{"$f":"'T2-B(PP1)'!$F$40","v":0},"#'T2-B(PP1)'!$F$40"]
["pp1_bl3_1_4_total_out",{"$f":"'T2-B(PP1)'!$I$40","v":0},"#'T2-B(PP1)'!$I$40"]
["pp1_bl3_1_4_unit",{"$f":"'T2-B(PP1)'!$C$40","v":0},"#'T2-B(PP1)'!$C$40"]
["pp1_bl3_1_4_unit_in",{"$f":"'T2-B(PP1)'!$D$40","v":0},"#'T2-B(PP1)'!$D$40"]
["pp1_bl3_1_4_units_out",{"$f":"'T2-B(PP1)'!$G$40","v":0},"#'T2-B(PP1)'!$G$40"]
["pp1_bl3_1_5_name",{"$f":"'T2-B(PP1)'!$B$41","v":0},"#'T2-B(PP1)'!$B$41"]
["pp1_bl3_1_5_rate_in",{"$f":"'T2-B(PP1)'!$E$41","v":0},"#'T2-B(PP1)'!$E$41"]
["pp1_bl3_1_5_rate_out",{"$f":"'T2-B(PP1)'!$H$41","v":0},"#'T2-B(PP1)'!$H$41"]
["pp1_bl3_1_5_total",{"$f":"'T2-B(PP1)'!$J$41","v":0},"#'T2-B(PP1)'!$J$41"]
["pp1_bl3_1_5_total_in",{"$f":"'T2-B(PP1)'!$F$41","v":0},"#'T2-B(PP1)'!$F$41"]
["pp1_bl3_1_5_total_out",{"$f":"'T2-B(PP1)'!$I$41","v":0},"#'T2-B(PP1)'!$I$41"]
["pp1_bl3_1_5_unit",{"$f":"'T2-B(PP1)'!$C$41","v":0},"#'T2-B(PP1)'!$C$41"]
["pp1_bl3_1_5_unit_in",{"$f":"'T2-B(PP1)'!$D$41","v":0},"#'T2-B(PP1)'!$D$41"]
["pp1_bl3_1_5_units_out",{"$f":"'T2-B(PP1)'!$G$41","v":0},"#'T2-B(PP1)'!$G$41"]
["pp1_bl3_1_6_name",{"$f":"'T2-B(PP1)'!$B$42","v":0},"#'T2-B(PP1)'!$B$42"]
["pp1_bl3_1_6_rate_in",{"$f":"'T2-B(PP1)'!$E$42","v":0},"#'T2-B(PP1)'!$E$42"]
["pp1_bl3_1_6_rate_out",{"$f":"'T2-B(PP1)'!$H$42","v":0},"#'T2-B(PP1)'!$H$42"]
["pp1_bl3_1_6_total",{"$f":"'T2-B(PP1)'!$J$42","v":0},"#'T2-B(PP1)'!$J$42"]
["pp1_bl3_1_6_total_in",{"$f":"'T2-B(PP1)'!$F$42","v":0},"#'T2-B(PP1)'!$F$42"]
["pp1_bl3_1_6_total_out",{"$f":"'T2-B(PP1)'!$I$42","v":0},"#'T2-B(PP1)'!$I$42"]
["pp1_bl3_1_6_unit",{"$f":"'T2-B(PP1)'!$C$42","v":0},"#'T2-B(PP1)'!$C$42"]
["pp1_bl3_1_6_unit_in",{"$f":"'T2-B(PP1)'!$D$42","v":0},"#'T2-B(PP1)'!$D$42"]
["pp1_bl3_1_6_units_out",{"$f":"'T2-B(PP1)'!$G$42","v":0},"#'T2-B(PP1)'!$G$42"]
["pp1_bl3_1_7_name",{"$f":"'T2-B(PP1)'!$B$43","v":0},"#'T2-B(PP1)'!$B$43"]
["pp1_bl3_1_7_rate_in",{"$f":"'T2-B(PP1)'!$E$43","v":0},"#'T2-B(PP1)'!$E$43"]
["pp1_bl3_1_7_rate_out",{"$f":"'T2-B(PP1)'!$H$43","v":0},"#'T2-B(PP1)'!$H$43"]
["pp1_bl3_1_7_total",{"$f":"'T2-B(PP1)'!$J$43","v":0},"#'T2-B(PP1)'!$J$43"]
["pp1_bl3_1_7_total_in",{"$f":"'T2-B(PP1)'!$F$43","v":0},"#'T2-B(PP1)'!$F$43"]
["pp1_bl3_1_7_total_out",{"$f":"'T2-B(PP1)'!$I$43","v":0},"#'T2-B(PP1)'!$I$43"]
["pp1_bl3_1_7_unit",{"$f":"'T2-B(PP1)'!$C$43","v":0},"#'T2-B(PP1)'!$C$43"]
["pp1_bl3_1_7_unit_in",{"$f":"'T2-B(PP1)'!$D$43","v":0},"#'T2-B(PP1)'!$D$43"]
["pp1_bl3_1_7_units_out",{"$f":"'T2-B(PP1)'!$G$43","v":0},"#'T2-B(PP1)'!$G$43"]
["pp1_bl3_1_8_name",{"$f":"'T2-B(PP1)'!$B$44","v":0},"#'T2-B(PP1)'!$B$44"]
["pp1_bl3_1_8_rate_in",{"$f":"'T2-B(PP1)'!$E$44","v":0},"#'T2-B(PP1)'!$E$44"]
["pp1_bl3_1_8_rate_out",{"$f":"'T2-B(PP1)'!$H$44","v":0},"#'T2-B(PP1)'!$H$44"]
["pp1_bl3_1_8_total",{"$f":"'T2-B(PP1)'!$J$44","v":0},"#'T2-B(PP1)'!$J$44"]
["pp1_bl3_1_8_total_in",{"$f":"'T2-B(PP1)'!$F$44","v":0},"#'T2-B(PP1)'!$F$44"]
["pp1_bl3_1_8_total_out",{"$f":"'T2-B(PP1)'!$I$44","v":0},"#'T2-B(PP1)'!$I$44"]
["pp1_bl3_1_8_unit",{"$f":"'T2-B(PP1)'!$C$44","v":0},"#'T2-B(PP1)'!$C$44"]
["pp1_bl3_1_8_unit_in",{"$f":"'T2-B(PP1)'!$D$44","v":0},"#'T2-B(PP1)'!$D$44"]
["pp1_bl3_1_8_units_out",{"$f":"'T2-B(PP1)'!$G$44","v":0},"#'T2-B(PP1)'!$G$44"]
["pp1_bl3_1_9_name",{"$f":"'T2-B(PP1)'!$B$45","v":0},"#'T2-B(PP1)'!$B$45"]
["pp1_bl3_1_9_rate_in",{"$f":"'T2-B(PP1)'!$E$45","v":0},"#'T2-B(PP1)'!$E$45"]
["pp1_bl3_1_9_rate_out",{"$f":"'T2-B(PP1)'!$H$45","v":0},"#'T2-B(PP1)'!$H$45"]
["pp1_bl3_1_9_total",{"$f":"'T2-B(PP1)'!$J$45","v":0},"#'T2-B(PP1)'!$J$45"]
["pp1_bl3_1_9_total_in",{"$f":"'T2-B(PP1)'!$F$45","v":0},"#'T2-B(PP1)'!$F$45"]
["pp1_bl3_1_9_total_out",{"$f":"'T2-B(PP1)'!$I$45","v":0},"#'T2-B(PP1)'!$I$45"]
["pp1_bl3_1_9_unit",{"$f":"'T2-B(PP1)'!$C$45","v":0},"#'T2-B(PP1)'!$C$45"]
["pp1_bl3_1_9_unit_in",{"$f":"'T2-B(PP1)'!$D$45","v":0},"#'T2-B(PP1)'!$D$45"]
["pp1_bl3_1_9_units_out",{"$f":"'T2-B(PP1)'!$G$45","v":0},"#'T2-B(PP1)'!$G$45"]
["pp1_bl3_1_total",{"$f":"'T2-B(PP1)'!$J$36","v":0},"#'T2-B(PP1)'!$J$36"]
["pp1_bl3_1_total_in",{"$f":"'T2-B(PP1)'!$F$36","v":0},"#'T2-B(PP1)'!$F$36"]
["pp1_bl3_1_total_out",{"$f":"'T2-B(PP1)'!$I$36","v":0},"#'T2-B(PP1)'!$I$36"]
["pp1_bl3_2_1_name",{"$f":"'T2-B(PP1)'!$B$58","v":0},"#'T2-B(PP1)'!$B$58"]
["pp1_bl3_2_1_rate_in",{"$f":"'T2-B(PP1)'!$E$58","v":0},"#'T2-B(PP1)'!$E$58"]
["pp1_bl3_2_1_rate_out",{"$f":"'T2-B(PP1)'!$H$58","v":0},"#'T2-B(PP1)'!$H$58"]
["pp1_bl3_2_1_total",{"$f":"'T2-B(PP1)'!$J$58","v":0},"#'T2-B(PP1)'!$J$58"]
["pp1_bl3_2_1_total_in",{"$f":"'T2-B(PP1)'!$F$58","v":0},"#'T2-B(PP1)'!$F$58"]
["pp1_bl3_2_1_total_out",{"$f":"'T2-B(PP1)'!$I$58","v":0},"#'T2-B(PP1)'!$I$58"]
["pp1_bl3_2_1_unit",{"$f":"'T2-B(PP1)'!$C$58","v":0},"#'T2-B(PP1)'!$C$58"]
["pp1_bl3_2_1_unit_in",{"$f":"'T2-B(PP1)'!$D$58","v":0},"#'T2-B(PP1)'!$D$58"]
["pp1_bl3_2_1_units_out",{"$f":"'T2-B(PP1)'!$G$58","v":0},"#'T2-B(PP1)'!$G$58"]
["pp1_bl3_2_10_name",{"$f":"'T2-B(PP1)'!$B$67","v":0},"#'T2-B(PP1)'!$B$67"]
["pp1_bl3_2_10_rate_in",{"$f":"'T2-B(PP1)'!$E$67","v":0},"#'T2-B(PP1)'!$E$67"]
["pp1_bl3_2_10_rate_out",{"$f":"'T2-B(PP1)'!$H$67","v":0},"#'T2-B(PP1)'!$H$67"]
["pp1_bl3_2_10_total",{"$f":"'T2-B(PP1)'!$J$67","v":0},"#'T2-B(PP1)'!$J$67"]
["pp1_bl3_2_10_total_in",{"$f":"'T2-B(PP1)'!$F$67","v":0},"#'T2-B(PP1)'!$F$67"]
["pp1_bl3_2_10_total_out",{"$f":"'T2-B(PP1)'!$I$67","v":0},"#'T2-B(PP1)'!$I$67"]
["pp1_bl3_2_10_unit",{"$f":"'T2-B(PP1)'!$C$67","v":0},"#'T2-B(PP1)'!$C$67"]
["pp1_bl3_2_10_unit_in",{"$f":"'T2-B(PP1)'!$D$67","v":0},"#'T2-B(PP1)'!$D$67"]
["pp1_bl3_2_10_units_out",{"$f":"'T2-B(PP1)'!$G$67","v":0},"#'T2-B(PP1)'!$G$67"]
["pp1_bl3_2_2_name",{"$f":"'T2-B(PP1)'!$B$59","v":0},"#'T2-B(PP1)'!$B$59"]
["pp1_bl3_2_2_rate_in",{"$f":"'T2-B(PP1)'!$E$59","v":0},"#'T2-B(PP1)'!$E$59"]
["pp1_bl3_2_2_rate_out",{"$f":"'T2-B(PP1)'!$H$59","v":0},"#'T2-B(PP1)'!$H$59"]
["pp1_bl3_2_2_total",{"$f":"'T2-B(PP1)'!$J$59","v":0},"#'T2-B(PP1)'!$J$59"]
["pp1_bl3_2_2_total_in",{"$f":"'T2-B(PP1)'!$F$59","v":0},"#'T2-B(PP1)'!$F$59"]
["pp1_bl3_2_2_total_out",{"$f":"'T2-B(PP1)'!$I$59","v":0},"#'T2-B(PP1)'!$I$59"]
["pp1_bl3_2_2_unit",{"$f":"'T2-B(PP1)'!$C$59","v":0},"#'T2-B(PP1)'!$C$59"]
["pp1_bl3_2_2_unit_in",{"$f":"'T2-B(PP1)'!$D$59","v":0},"#'T2-B(PP1)'!$D$59"]
["pp1_bl3_2_2_units_out",{"$f":"'T2-B(PP1)'!$G$59","v":0},"#'T2-B(PP1)'!$G$59"]
["pp1_bl3_2_3_name",{"$f":"'T2-B(PP1)'!$B$60","v":0},"#'T2-B(PP1)'!$B$60"]
["pp1_bl3_2_3_rate_in",{"$f":"'T2-B(PP1)'!$E$60","v":0},"#'T2-B(PP1)'!$E$60"]
["pp1_bl3_2_3_rate_out",{"$f":"'T2-B(PP1)'!$H$60","v":0},"#'T2-B(PP1)'!$H$60"]
["pp1_bl3_2_3_total",{"$f":"'T2-B(PP1)'!$J$60","v":0},"#'T2-B(PP1)'!$J$60"]
["pp1_bl3_2_3_total_in",{"$f":"'T2-B(PP1)'!$F$60","v":0},"#'T2-B(PP1)'!$F$60"]
["pp1_bl3_2_3_total_out",{"$f":"'T2-B(PP1)'!$I$60","v":0},"#'T2-B(PP1)'!$I$60"]
["pp1_bl3_2_3_unit",{"$f":"'T2-B(PP1)'!$C$60","v":0},"#'T2-B(PP1)'!$C$60"]
["pp1_bl3_2_3_unit_in",{"$f":"'T2-B(PP1)'!$D$60","v":0},"#'T2-B(PP1)'!$D$60"]
["pp1_bl3_2_3_units_out",{"$f":"'T2-B(PP1)'!$G$60","v":0},"#'T2-B(PP1)'!$G$60"]
["pp1_bl3_2_4_name",{"$f":"'T2-B(PP1)'!$B$61","v":0},"#'T2-B(PP1)'!$B$61"]
["pp1_bl3_2_4_rate_in",{"$f":"'T2-B(PP1)'!$E$61","v":0},"#'T2-B(PP1)'!$E$61"]
["pp1_bl3_2_4_rate_out",{"$f":"'T2-B(PP1)'!$H$61","v":0},"#'T2-B(PP1)'!$H$61"]
["pp1_bl3_2_4_total",{"$f":"'T2-B(PP1)'!$J$61","v":0},"#'T2-B(PP1)'!$J$61"]
["pp1_bl3_2_4_total_in",{"$f":"'T2-B(PP1)'!$F$61","v":0},"#'T2-B(PP1)'!$F$61"]
["pp1_bl3_2_4_total_out",{"$f":"'T2-B(PP1)'!$I$61","v":0},"#'T2-B(PP1)'!$I$61"]
["pp1_bl3_2_4_unit",{"$f":"'T2-B(PP1)'!$C$61","v":0},"#'T2-B(PP1)'!$C$61"]
["pp1_bl3_2_4_unit_in",{"$f":"'T2-B(PP1)'!$D$61","v":0},"#'T2-B(PP1)'!$D$61"]
["pp1_bl3_2_4_units_out",{"$f":"'T2-B(PP1)'!$G$61","v":0},"#'T2-B(PP1)'!$G$61"]
["pp1_bl3_2_5_name",{"$f":"'T2-B(PP1)'!$B$62","v":0},"#'T2-B(PP1)'!$B$62"]
["pp1_bl3_2_5_rate_in",{"$f":"'T2-B(PP1)'!$E$62","v":0},"#'T2-B(PP1)'!$E$62"]
["pp1_bl3_2_5_rate_out",{"$f":"'T2-B(PP1)'!$H$62","v":0},"#'T2-B(PP1)'!$H$62"]
["pp1_bl3_2_5_total",{"$f":"'T2-B(PP1)'!$J$62","v":0},"#'T2-B(PP1)'!$J$62"]
["pp1_bl3_2_5_total_in",{"$f":"'T2-B(PP1)'!$F$62","v":0},"#'T2-B(PP1)'!$F$62"]
["pp1_bl3_2_5_total_out",{"$f":"'T2-B(PP1)'!$I$62","v":0},"#'T2-B(PP1)'!$I$62"]
["pp1_bl3_2_5_unit",{"$f":"'T2-B(PP1)'!$C$62","v":0},"#'T2-B(PP1)'!$C$62"]
["pp1_bl3_2_5_unit_in",{"$f":"'T2-B(PP1)'!$D$62","v":0},"#'T2-B(PP1)'!$D$62"]
["pp1_bl3_2_5_units_out",{"$f":"'T2-B(PP1)'!$G$62","v":0},"#'T2-B(PP1)'!$G$62"]
["pp1_bl3_2_6_name",{"$f":"'T2-B(PP1)'!$B$63","v":0},"#'T2-B(PP1)'!$B$63"]
["pp1_bl3_2_6_rate_in",{"$f":"'T2-B(PP1)'!$E$63","v":0},"#'T2-B(PP1)'!$E$63"]
["pp1_bl3_2_6_rate_out",{"$f":"'T2-B(PP1)'!$H$63","v":0},"#'T2-B(PP1)'!$H$63"]
["pp1_bl3_2_6_total",{"$f":"'T2-B(PP1)'!$J$63","v":0},"#'T2-B(PP1)'!$J$63"]
["pp1_bl3_2_6_total_in",{"$f":"'T2-B(PP1)'!$F$63","v":0},"#'T2-B(PP1)'!$F$63"]
["pp1_bl3_2_6_total_out",{"$f":"'T2-B(PP1)'!$I$63","v":0},"#'T2-B(PP1)'!$I$63"]
["pp1_bl3_2_6_unit",{"$f":"'T2-B(PP1)'!$C$63","v":0},"#'T2-B(PP1)'!$C$63"]
["pp1_bl3_2_6_unit_in",{"$f":"'T2-B(PP1)'!$D$63","v":0},"#'T2-B(PP1)'!$D$63"]
["pp1_bl3_2_6_units_out",{"$f":"'T2-B(PP1)'!$G$63","v":0},"#'T2-B(PP1)'!$G$63"]
["pp1_bl3_2_7_name",{"$f":"'T2-B(PP1)'!$B$64","v":0},"#'T2-B(PP1)'!$B$64"]
["pp1_bl3_2_7_rate_in",{"$f":"'T2-B(PP1)'!$E$64","v":0},"#'T2-B(PP1)'!$E$64"]
["pp1_bl3_2_7_rate_out",{"$f":"'T2-B(PP1)'!$H$64","v":0},"#'T2-B(PP1)'!$H$64"]
["pp1_bl3_2_7_total",{"$f":"'T2-B(PP1)'!$J$64","v":0},"#'T2-B(PP1)'!$J$64"]
["pp1_bl3_2_7_total_in",{"$f":"'T2-B(PP1)'!$F$64","v":0},"#'T2-B(PP1)'!$F$64"]
["pp1_bl3_2_7_total_out",{"$f":"'T2-B(PP1)'!$I$64","v":0},"#'T2-B(PP1)'!$I$64"]
["pp1_bl3_2_7_unit",{"$f":"'T2-B(PP1)'!$C$64","v":0},"#'T2-B(PP1)'!$C$64"]
["pp1_bl3_2_7_unit_in",{"$f":"'T2-B(PP1)'!$D$64","v":0},"#'T2-B(PP1)'!$D$64"]
["pp1_bl3_2_7_units_out",{"$f":"'T2-B(PP1)'!$G$64","v":0},"#'T2-B(PP1)'!$G$64"]
["pp1_bl3_2_8_name",{"$f":"'T2-B(PP1)'!$B$65","v":0},"#'T2-B(PP1)'!$B$65"]
["pp1_bl3_2_8_rate_in",{"$f":"'T2-B(PP1)'!$E$65","v":0},"#'T2-B(PP1)'!$E$65"]
["pp1_bl3_2_8_rate_out",{"$f":"'T2-B(PP1)'!$H$65","v":0},"#'T2-B(PP1)'!$H$65"]
["pp1_bl3_2_8_total",{"$f":"'T2-B(PP1)'!$J$65","v":0},"#'T2-B(PP1)'!$J$65"]
["pp1_bl3_2_8_total_in",{"$f":"'T2-B(PP1)'!$F$65","v":0},"#'T2-B(PP1)'!$F$65"]
["pp1_bl3_2_8_total_out",{"$f":"'T2-B(PP1)'!$I$65","v":0},"#'T2-B(PP1)'!$I$65"]
["pp1_bl3_2_8_unit",{"$f":"'T2-B(PP1)'!$C$65","v":0},"#'T2-B(PP1)'!$C$65"]
["pp1_bl3_2_8_unit_in",{"$f":"'T2-B(PP1)'!$D$65","v":0},"#'T2-B(PP1)'!$D$65"]
["pp1_bl3_2_8_units_out",{"$f":"'T2-B(PP1)'!$G$65","v":0},"#'T2-B(PP1)'!$G$65"]
["pp1_bl3_2_9_name",{"$f":"'T2-B(PP1)'!$B$66","v":0},"#'T2-B(PP1)'!$B$66"]
["pp1_bl3_2_9_rate_in",{"$f":"'T2-B(PP1)'!$E$66","v":0},"#'T2-B(PP1)'!$E$66"]
["pp1_bl3_2_9_rate_out",{"$f":"'T2-B(PP1)'!$H$66","v":0},"#'T2-B(PP1)'!$H$66"]
["pp1_bl3_2_9_total",{"$f":"'T2-B(PP1)'!$J$66","v":0},"#'T2-B(PP1)'!$J$66"]
["pp1_bl3_2_9_total_in",{"$f":"'T2-B(PP1)'!$F$66","v":0},"#'T2-B(PP1)'!$F$66"]
["pp1_bl3_2_9_total_out",{"$f":"'T2-B(PP1)'!$I$66","v":0},"#'T2-B(PP1)'!$I$66"]
["pp1_bl3_2_9_unit",{"$f":"'T2-B(PP1)'!$C$66","v":0},"#'T2-B(PP1)'!$C$66"]
["pp1_bl3_2_9_unit_in",{"$f":"'T2-B(PP1)'!$D$66","v":0},"#'T2-B(PP1)'!$D$66"]
["pp1_bl3_2_9_units_out",{"$f":"'T2-B(PP1)'!$G$66","v":0},"#'T2-B(PP1)'!$G$66"]
["pp1_bl3_2_total",{"$f":"'T2-B(PP1)'!$J$57","v":0},"#'T2-B(PP1)'!$J$57"]
["pp1_bl3_2_total_in",{"$f":"'T2-B(PP1)'!$F$57","v":0},"#'T2-B(PP1)'!$F$57"]
["pp1_bl3_2_total_out",{"$f":"'T2-B(PP1)'!$I$57","v":0},"#'T2-B(PP1)'!$I$57"]
["pp1_bl3_3_1_name",{"$f":"'T2-B(PP1)'!$B$79","v":0},"#'T2-B(PP1)'!$B$79"]
["pp1_bl3_3_1_rate_in",{"$f":"'T2-B(PP1)'!$E$79","v":0},"#'T2-B(PP1)'!$E$79"]
["pp1_bl3_3_1_rate_out",{"$f":"'T2-B(PP1)'!$H$79","v":0},"#'T2-B(PP1)'!$H$79"]
["pp1_bl3_3_1_total",{"$f":"'T2-B(PP1)'!$J$79","v":0},"#'T2-B(PP1)'!$J$79"]
["pp1_bl3_3_1_total_in",{"$f":"'T2-B(PP1)'!$F$79","v":0},"#'T2-B(PP1)'!$F$79"]
["pp1_bl3_3_1_total_out",{"$f":"'T2-B(PP1)'!$I$79","v":0},"#'T2-B(PP1)'!$I$79"]
["pp1_bl3_3_1_unit",{"$f":"'T2-B(PP1)'!$C$79","v":0},"#'T2-B(PP1)'!$C$79"]
["pp1_bl3_3_1_unit_in",{"$f":"'T2-B(PP1)'!$D$79","v":0},"#'T2-B(PP1)'!$D$79"]
["pp1_bl3_3_1_units_out",{"$f":"'T2-B(PP1)'!$G$79","v":0},"#'T2-B(PP1)'!$G$79"]
["pp1_bl3_3_10_name",{"$f":"'T2-B(PP1)'!$B$88","v":0},"#'T2-B(PP1)'!$B$88"]
["pp1_bl3_3_10_rate_in",{"$f":"'T2-B(PP1)'!$E$88","v":0},"#'T2-B(PP1)'!$E$88"]
["pp1_bl3_3_10_rate_out",{"$f":"'T2-B(PP1)'!$H$88","v":0},"#'T2-B(PP1)'!$H$88"]
["pp1_bl3_3_10_total",{"$f":"'T2-B(PP1)'!$J$88","v":0},"#'T2-B(PP1)'!$J$88"]
["pp1_bl3_3_10_total_in",{"$f":"'T2-B(PP1)'!$F$88","v":0},"#'T2-B(PP1)'!$F$88"]
["pp1_bl3_3_10_total_out",{"$f":"'T2-B(PP1)'!$I$88","v":0},"#'T2-B(PP1)'!$I$88"]
["pp1_bl3_3_10_unit",{"$f":"'T2-B(PP1)'!$C$88","v":0},"#'T2-B(PP1)'!$C$88"]
["pp1_bl3_3_10_unit_in",{"$f":"'T2-B(PP1)'!$D$88","v":0},"#'T2-B(PP1)'!$D$88"]
["pp1_bl3_3_10_units_out",{"$f":"'T2-B(PP1)'!$G$88","v":0},"#'T2-B(PP1)'!$G$88"]
["pp1_bl3_3_2_name",{"$f":"'T2-B(PP1)'!$B$80","v":0},"#'T2-B(PP1)'!$B$80"]
["pp1_bl3_3_2_rate_in",{"$f":"'T2-B(PP1)'!$E$80","v":0},"#'T2-B(PP1)'!$E$80"]
["pp1_bl3_3_2_rate_out",{"$f":"'T2-B(PP1)'!$H$80","v":0},"#'T2-B(PP1)'!$H$80"]
["pp1_bl3_3_2_total",{"$f":"'T2-B(PP1)'!$J$80","v":0},"#'T2-B(PP1)'!$J$80"]
["pp1_bl3_3_2_total_in",{"$f":"'T2-B(PP1)'!$F$80","v":0},"#'T2-B(PP1)'!$F$80"]
["pp1_bl3_3_2_total_out",{"$f":"'T2-B(PP1)'!$I$80","v":0},"#'T2-B(PP1)'!$I$80"]
["pp1_bl3_3_2_unit",{"$f":"'T2-B(PP1)'!$C$80","v":0},"#'T2-B(PP1)'!$C$80"]
["pp1_bl3_3_2_unit_in",{"$f":"'T2-B(PP1)'!$D$80","v":0},"#'T2-B(PP1)'!$D$80"]
["pp1_bl3_3_2_units_out",{"$f":"'T2-B(PP1)'!$G$80","v":0},"#'T2-B(PP1)'!$G$80"]
["pp1_bl3_3_3_name",{"$f":"'T2-B(PP1)'!$B$81","v":0},"#'T2-B(PP1)'!$B$81"]
["pp1_bl3_3_3_rate_in",{"$f":"'T2-B(PP1)'!$E$81","v":0},"#'T2-B(PP1)'!$E$81"]
["pp1_bl3_3_3_rate_out",{"$f":"'T2-B(PP1)'!$H$81","v":0},"#'T2-B(PP1)'!$H$81"]
["pp1_bl3_3_3_total",{"$f":"'T2-B(PP1)'!$J$81","v":0},"#'T2-B(PP1)'!$J$81"]
["pp1_bl3_3_3_total_in",{"$f":"'T2-B(PP1)'!$F$81","v":0},"#'T2-B(PP1)'!$F$81"]
["pp1_bl3_3_3_total_out",{"$f":"'T2-B(PP1)'!$I$81","v":0},"#'T2-B(PP1)'!$I$81"]
["pp1_bl3_3_3_unit",{"$f":"'T2-B(PP1)'!$C$81","v":0},"#'T2-B(PP1)'!$C$81"]
["pp1_bl3_3_3_unit_in",{"$f":"'T2-B(PP1)'!$D$81","v":0},"#'T2-B(PP1)'!$D$81"]
["pp1_bl3_3_3_units_out",{"$f":"'T2-B(PP1)'!$G$81","v":0},"#'T2-B(PP1)'!$G$81"]
["pp1_bl3_3_4_name",{"$f":"'T2-B(PP1)'!$B$82","v":0},"#'T2-B(PP1)'!$B$82"]
["pp1_bl3_3_4_rate_in",{"$f":"'T2-B(PP1)'!$E$82","v":0},"#'T2-B(PP1)'!$E$82"]
["pp1_bl3_3_4_rate_out",{"$f":"'T2-B(PP1)'!$H$82","v":0},"#'T2-B(PP1)'!$H$82"]
["pp1_bl3_3_4_total",{"$f":"'T2-B(PP1)'!$J$82","v":0},"#'T2-B(PP1)'!$J$82"]
["pp1_bl3_3_4_total_in",{"$f":"'T2-B(PP1)'!$F$82","v":0},"#'T2-B(PP1)'!$F$82"]
["pp1_bl3_3_4_total_out",{"$f":"'T2-B(PP1)'!$I$82","v":0},"#'T2-B(PP1)'!$I$82"]
["pp1_bl3_3_4_unit",{"$f":"'T2-B(PP1)'!$C$82","v":0},"#'T2-B(PP1)'!$C$82"]
["pp1_bl3_3_4_unit_in",{"$f":"'T2-B(PP1)'!$D$82","v":0},"#'T2-B(PP1)'!$D$82"]
["pp1_bl3_3_4_units_out",{"$f":"'T2-B(PP1)'!$G$82","v":0},"#'T2-B(PP1)'!$G$82"]
["pp1_bl3_3_5_name",{"$f":"'T2-B(PP1)'!$B$83","v":0},"#'T2-B(PP1)'!$B$83"]
["pp1_bl3_3_5_rate_in",{"$f":"'T2-B(PP1)'!$E$83","v":0},"#'T2-B(PP1)'!$E$83"]
["pp1_bl3_3_5_rate_out",{"$f":"'T2-B(PP1)'!$H$83","v":0},"#'T2-B(PP1)'!$H$83"]
["pp1_bl3_3_5_total",{"$f":"'T2-B(PP1)'!$J$83","v":0},"#'T2-B(PP1)'!$J$83"]
["pp1_bl3_3_5_total_in",{"$f":"'T2-B(PP1)'!$F$83","v":0},"#'T2-B(PP1)'!$F$83"]
["pp1_bl3_3_5_total_out",{"$f":"'T2-B(PP1)'!$I$83","v":0},"#'T2-B(PP1)'!$I$83"]
["pp1_bl3_3_5_unit",{"$f":"'T2-B(PP1)'!$C$83","v":0},"#'T2-B(PP1)'!$C$83"]
["pp1_bl3_3_5_unit_in",{"$f":"'T2-B(PP1)'!$D$83","v":0},"#'T2-B(PP1)'!$D$83"]
["pp1_bl3_3_5_units_out",{"$f":"'T2-B(PP1)'!$G$83","v":0},"#'T2-B(PP1)'!$G$83"]
["pp1_bl3_3_6_name",{"$f":"'T2-B(PP1)'!$B$84","v":0},"#'T2-B(PP1)'!$B$84"]
["pp1_bl3_3_6_rate_in",{"$f":"'T2-B(PP1)'!$E$84","v":0},"#'T2-B(PP1)'!$E$84"]
["pp1_bl3_3_6_rate_out",{"$f":"'T2-B(PP1)'!$H$84","v":0},"#'T2-B(PP1)'!$H$84"]
["pp1_bl3_3_6_total",{"$f":"'T2-B(PP1)'!$J$84","v":0},"#'T2-B(PP1)'!$J$84"]
["pp1_bl3_3_6_total_in",{"$f":"'T2-B(PP1)'!$F$84","v":0},"#'T2-B(PP1)'!$F$84"]
["pp1_bl3_3_6_total_out",{"$f":"'T2-B(PP1)'!$I$84","v":0},"#'T2-B(PP1)'!$I$84"]
["pp1_bl3_3_6_unit",{"$f":"'T2-B(PP1)'!$C$84","v":0},"#'T2-B(PP1)'!$C$84"]
["pp1_bl3_3_6_unit_in",{"$f":"'T2-B(PP1)'!$D$84","v":0},"#'T2-B(PP1)'!$D$84"]
["pp1_bl3_3_6_units_out",{"$f":"'T2-B(PP1)'!$G$84","v":0},"#'T2-B(PP1)'!$G$84"]
["pp1_bl3_3_7_name",{"$f":"'T2-B(PP1)'!$B$85","v":0},"#'T2-B(PP1)'!$B$85"]
["pp1_bl3_3_7_rate_in",{"$f":"'T2-B(PP1)'!$E$85","v":0},"#'T2-B(PP1)'!$E$85"]
["pp1_bl3_3_7_rate_out",{"$f":"'T2-B(PP1)'!$H$85","v":0},"#'T2-B(PP1)'!$H$85"]
["pp1_bl3_3_7_total",{"$f":"'T2-B(PP1)'!$J$85","v":0},"#'T2-B(PP1)'!$J$85"]
["pp1_bl3_3_7_total_in",{"$f":"'T2-B(PP1)'!$F$85","v":0},"#'T2-B(PP1)'!$F$85"]
["pp1_bl3_3_7_total_out",{"$f":"'T2-B(PP1)'!$I$85","v":0},"#'T2-B(PP1)'!$I$85"]
["pp1_bl3_3_7_unit",{"$f":"'T2-B(PP1)'!$C$85","v":0},"#'T2-B(PP1)'!$C$85"]
["pp1_bl3_3_7_unit_in",{"$f":"'T2-B(PP1)'!$D$85","v":0},"#'T2-B(PP1)'!$D$85"]
["pp1_bl3_3_7_units_out",{"$f":"'T2-B(PP1)'!$G$85","v":0},"#'T2-B(PP1)'!$G$85"]
["pp1_bl3_3_8_name",{"$f":"'T2-B(PP1)'!$B$86","v":0},"#'T2-B(PP1)'!$B$86"]
["pp1_bl3_3_8_rate_in",{"$f":"'T2-B(PP1)'!$E$86","v":0},"#'T2-B(PP1)'!$E$86"]
["pp1_bl3_3_8_rate_out",{"$f":"'T2-B(PP1)'!$H$86","v":0},"#'T2-B(PP1)'!$H$86"]
["pp1_bl3_3_8_total",{"$f":"'T2-B(PP1)'!$J$86","v":0},"#'T2-B(PP1)'!$J$86"]
["pp1_bl3_3_8_total_in",{"$f":"'T2-B(PP1)'!$F$86","v":0},"#'T2-B(PP1)'!$F$86"]
["pp1_bl3_3_8_total_out",{"$f":"'T2-B(PP1)'!$I$86","v":0},"#'T2-B(PP1)'!$I$86"]
["pp1_bl3_3_8_unit",{"$f":"'T2-B(PP1)'!$C$86","v":0},"#'T2-B(PP1)'!$C$86"]
["pp1_bl3_3_8_unit_in",{"$f":"'T2-B(PP1)'!$D$86","v":0},"#'T2-B(PP1)'!$D$86"]
["pp1_bl3_3_8_units_out",{"$f":"'T2-B(PP1)'!$G$86","v":0},"#'T2-B(PP1)'!$G$86"]
["pp1_bl3_3_9_name",{"$f":"'T2-B(PP1)'!$B$87","v":0},"#'T2-B(PP1)'!$B$87"]
["pp1_bl3_3_9_rate_in",{"$f":"'T2-B(PP1)'!$E$87","v":0},"#'T2-B(PP1)'!$E$87"]
["pp1_bl3_3_9_rate_out",{"$f":"'T2-B(PP1)'!$H$87","v":0},"#'T2-B(PP1)'!$H$87"]
["pp1_bl3_3_9_total",{"$f":"'T2-B(PP1)'!$J$87","v":0},"#'T2-B(PP1)'!$J$87"]
["pp1_bl3_3_9_total_in",{"$f":"'T2-B(PP1)'!$F$87","v":0},"#'T2-B(PP1)'!$F$87"]
["pp1_bl3_3_9_total_out",{"$f":"'T2-B(PP1)'!$I$87","v":0},"#'T2-B(PP1)'!$I$87"]
["pp1_bl3_3_9_unit",{"$f":"'T2-B(PP1)'!$C$87","v":0},"#'T2-B(PP1)'!$C$87"]
["pp1_bl3_3_9_unit_in",{"$f":"'T2-B(PP1)'!$D$87","v":0},"#'T2-B(PP1)'!$D$87"]
["pp1_bl3_3_9_units_out",{"$f":"'T2-B(PP1)'!$G$87","v":0},"#'T2-B(PP1)'!$G$87"]
["pp1_bl3_3_total",{"$f":"'T2-B(PP1)'!$J$78","v":0},"#'T2-B(PP1)'!$J$78"]
["pp1_bl3_3_total_in",{"$f":"'T2-B(PP1)'!$F$78","v":0},"#'T2-B(PP1)'!$F$78"]
["pp1_bl3_3_total_out",{"$f":"'T2-B(PP1)'!$I$78","v":0},"#'T2-B(PP1)'!$I$78"]
["pp1_bl3_4_1_name",{"$f":"'T2-B(PP1)'!$B$100","v":0},"#'T2-B(PP1)'!$B$100"]
["pp1_bl3_4_1_rate_in",{"$f":"'T2-B(PP1)'!$E$100","v":0},"#'T2-B(PP1)'!$E$100"]
["pp1_bl3_4_1_rate_out",{"$f":"'T2-B(PP1)'!$H$100","v":0},"#'T2-B(PP1)'!$H$100"]
["pp1_bl3_4_1_total",{"$f":"'T2-B(PP1)'!$J$100","v":0},"#'T2-B(PP1)'!$J$100"]
["pp1_bl3_4_1_total_in",{"$f":"'T2-B(PP1)'!$F$100","v":0},"#'T2-B(PP1)'!$F$100"]
["pp1_bl3_4_1_total_out",{"$f":"'T2-B(PP1)'!$I$100","v":0},"#'T2-B(PP1)'!$I$100"]
["pp1_bl3_4_1_unit",{"$f":"'T2-B(PP1)'!$C$100","v":0},"#'T2-B(PP1)'!$C$100"]
["pp1_bl3_4_1_unit_in",{"$f":"'T2-B(PP1)'!$D$100","v":0},"#'T2-B(PP1)'!$D$100"]
["pp1_bl3_4_1_units_out",{"$f":"'T2-B(PP1)'!$G$100","v":0},"#'T2-B(PP1)'!$G$100"]
["pp1_bl3_4_10_name",{"$f":"'T2-B(PP1)'!$B$109","v":0},"#'T2-B(PP1)'!$B$109"]
["pp1_bl3_4_10_rate_in",{"$f":"'T2-B(PP1)'!$E$109","v":0},"#'T2-B(PP1)'!$E$109"]
["pp1_bl3_4_10_rate_out",{"$f":"'T2-B(PP1)'!$H$109","v":0},"#'T2-B(PP1)'!$H$109"]
["pp1_bl3_4_10_total",{"$f":"'T2-B(PP1)'!$J$109","v":0},"#'T2-B(PP1)'!$J$109"]
["pp1_bl3_4_10_total_in",{"$f":"'T2-B(PP1)'!$F$109","v":0},"#'T2-B(PP1)'!$F$109"]
["pp1_bl3_4_10_total_out",{"$f":"'T2-B(PP1)'!$I$109","v":0},"#'T2-B(PP1)'!$I$109"]
["pp1_bl3_4_10_unit",{"$f":"'T2-B(PP1)'!$C$109","v":0},"#'T2-B(PP1)'!$C$109"]
["pp1_bl3_4_10_unit_in",{"$f":"'T2-B(PP1)'!$D$109","v":0},"#'T2-B(PP1)'!$D$109"]
["pp1_bl3_4_10_units_out",{"$f":"'T2-B(PP1)'!$G$109","v":0},"#'T2-B(PP1)'!$G$109"]
["pp1_bl3_4_2_name",{"$f":"'T2-B(PP1)'!$B$101","v":0},"#'T2-B(PP1)'!$B$101"]
["pp1_bl3_4_2_rate_in",{"$f":"'T2-B(PP1)'!$E$101","v":0},"#'T2-B(PP1)'!$E$101"]
["pp1_bl3_4_2_rate_out",{"$f":"'T2-B(PP1)'!$H$101","v":0},"#'T2-B(PP1)'!$H$101"]
["pp1_bl3_4_2_total",{"$f":"'T2-B(PP1)'!$J$101","v":0},"#'T2-B(PP1)'!$J$101"]
["pp1_bl3_4_2_total_in",{"$f":"'T2-B(PP1)'!$F$101","v":0},"#'T2-B(PP1)'!$F$101"]
["pp1_bl3_4_2_total_out",{"$f":"'T2-B(PP1)'!$I$101","v":0},"#'T2-B(PP1)'!$I$101"]
["pp1_bl3_4_2_unit",{"$f":"'T2-B(PP1)'!$C$101","v":0},"#'T2-B(PP1)'!$C$101"]
["pp1_bl3_4_2_unit_in",{"$f":"'T2-B(PP1)'!$D$101","v":0},"#'T2-B(PP1)'!$D$101"]
["pp1_bl3_4_2_units_out",{"$f":"'T2-B(PP1)'!$G$101","v":0},"#'T2-B(PP1)'!$G$101"]
["pp1_bl3_4_3_name",{"$f":"'T2-B(PP1)'!$B$102","v":0},"#'T2-B(PP1)'!$B$102"]
["pp1_bl3_4_3_rate_in",{"$f":"'T2-B(PP1)'!$E$102","v":0},"#'T2-B(PP1)'!$E$102"]
["pp1_bl3_4_3_rate_out",{"$f":"'T2-B(PP1)'!$H$102","v":0},"#'T2-B(PP1)'!$H$102"]
["pp1_bl3_4_3_total",{"$f":"'T2-B(PP1)'!$J$102","v":0},"#'T2-B(PP1)'!$J$102"]
["pp1_bl3_4_3_total_in",{"$f":"'T2-B(PP1)'!$F$102","v":0},"#'T2-B(PP1)'!$F$102"]
["pp1_bl3_4_3_total_out",{"$f":"'T2-B(PP1)'!$I$102","v":0},"#'T2-B(PP1)'!$I$102"]
["pp1_bl3_4_3_unit",{"$f":"'T2-B(PP1)'!$C$102","v":0},"#'T2-B(PP1)'!$C$102"]
["pp1_bl3_4_3_unit_in",{"$f":"'T2-B(PP1)'!$D$102","v":0},"#'T2-B(PP1)'!$D$102"]
["pp1_bl3_4_3_units_out",{"$f":"'T2-B(PP1)'!$G$102","v":0},"#'T2-B(PP1)'!$G$102"]
["pp1_bl3_4_4_name",{"$f":"'T2-B(PP1)'!$B$103","v":0},"#'T2-B(PP1)'!$B$103"]
["pp1_bl3_4_4_rate_in",{"$f":"'T2-B(PP1)'!$E$103","v":0},"#'T2-B(PP1)'!$E$103"]
["pp1_bl3_4_4_rate_out",{"$f":"'T2-B(PP1)'!$H$103","v":0},"#'T2-B(PP1)'!$H$103"]
["pp1_bl3_4_4_total",{"$f":"'T2-B(PP1)'!$J$103","v":0},"#'T2-B(PP1)'!$J$103"]
["pp1_bl3_4_4_total_in",{"$f":"'T2-B(PP1)'!$F$103","v":0},"#'T2-B(PP1)'!$F$103"]
["pp1_bl3_4_4_total_out",{"$f":"'T2-B(PP1)'!$I$103","v":0},"#'T2-B(PP1)'!$I$103"]
["pp1_bl3_4_4_unit",{"$f":"'T2-B(PP1)'!$C$103","v":0},"#'T2-B(PP1)'!$C$103"]
["pp1_bl3_4_4_unit_in",{"$f":"'T2-B(PP1)'!$D$103","v":0},"#'T2-B(PP1)'!$D$103"]
["pp1_bl3_4_4_units_out",{"$f":"'T2-B(PP1)'!$G$103","v":0},"#'T2-B(PP1)'!$G$103"]
["pp1_bl3_4_5_name",{"$f":"'T2-B(PP1)'!$B$104","v":0},"#'T2-B(PP1)'!$B$104"]
["pp1_bl3_4_5_rate_in",{"$f":"'T2-B(PP1)'!$E$104","v":0},"#'T2-B(PP1)'!$E$104"]
["pp1_bl3_4_5_rate_out",{"$f":"'T2-B(PP1)'!$H$104","v":0},"#'T2-B(PP1)'!$H$104"]
["pp1_bl3_4_5_total",{"$f":"'T2-B(PP1)'!$J$104","v":0},"#'T2-B(PP1)'!$J$104"]
["pp1_bl3_4_5_total_in",{"$f":"'T2-B(PP1)'!$F$104","v":0},"#'T2-B(PP1)'!$F$104"]
["pp1_bl3_4_5_total_out",{"$f":"'T2-B(PP1)'!$I$104","v":0},"#'T2-B(PP1)'!$I$104"]
["pp1_bl3_4_5_unit",{"$f":"'T2-B(PP1)'!$C$104","v":0},"#'T2-B(PP1)'!$C$104"]
["pp1_bl3_4_5_unit_in",{"$f":"'T2-B(PP1)'!$D$104","v":0},"#'T2-B(PP1)'!$D$104"]
["pp1_bl3_4_5_units_out",{"$f":"'T2-B(PP1)'!$G$104","v":0},"#'T2-B(PP1)'!$G$104"]
["pp1_bl3_4_6_name",{"$f":"'T2-B(PP1)'!$B$105","v":0},"#'T2-B(PP1)'!$B$105"]
["pp1_bl3_4_6_rate_in",{"$f":"'T2-B(PP1)'!$E$105","v":0},"#'T2-B(PP1)'!$E$105"]
["pp1_bl3_4_6_rate_out",{"$f":"'T2-B(PP1)'!$H$105","v":0},"#'T2-B(PP1)'!$H$105"]
["pp1_bl3_4_6_total",{"$f":"'T2-B(PP1)'!$J$105","v":0},"#'T2-B(PP1)'!$J$105"]
["pp1_bl3_4_6_total_in",{"$f":"'T2-B(PP1)'!$F$105","v":0},"#'T2-B(PP1)'!$F$105"]
["pp1_bl3_4_6_total_out",{"$f":"'T2-B(PP1)'!$I$105","v":0},"#'T2-B(PP1)'!$I$105"]
["pp1_bl3_4_6_unit",{"$f":"'T2-B(PP1)'!$C$105","v":0},"#'T2-B(PP1)'!$C$105"]
["pp1_bl3_4_6_unit_in",{"$f":"'T2-B(PP1)'!$D$105","v":0},"#'T2-B(PP1)'!$D$105"]
["pp1_bl3_4_6_units_out",{"$f":"'T2-B(PP1)'!$G$105","v":0},"#'T2-B(PP1)'!$G$105"]
["pp1_bl3_4_7_name",{"$f":"'T2-B(PP1)'!$B$106","v":0},"#'T2-B(PP1)'!$B$106"]
["pp1_bl3_4_7_rate_in",{"$f":"'T2-B(PP1)'!$E$106","v":0},"#'T2-B(PP1)'!$E$106"]
["pp1_bl3_4_7_rate_out",{"$f":"'T2-B(PP1)'!$H$106","v":0},"#'T2-B(PP1)'!$H$106"]
["pp1_bl3_4_7_total",{"$f":"'T2-B(PP1)'!$J$106","v":0},"#'T2-B(PP1)'!$J$106"]
["pp1_bl3_4_7_total_in",{"$f":"'T2-B(PP1)'!$F$106","v":0},"#'T2-B(PP1)'!$F$106"]
["pp1_bl3_4_7_total_out",{"$f":"'T2-B(PP1)'!$I$106","v":0},"#'T2-B(PP1)'!$I$106"]
["pp1_bl3_4_7_unit",{"$f":"'T2-B(PP1)'!$C$106","v":0},"#'T2-B(PP1)'!$C$106"]
["pp1_bl3_4_7_unit_in",{"$f":"'T2-B(PP1)'!$D$106","v":0},"#'T2-B(PP1)'!$D$106"]
["pp1_bl3_4_7_units_out",{"$f":"'T2-B(PP1)'!$G$106","v":0},"#'T2-B(PP1)'!$G$106"]
["pp1_bl3_4_8_name",{"$f":"'T2-B(PP1)'!$B$107","v":0},"#'T2-B(PP1)'!$B$107"]
["pp1_bl3_4_8_rate_in",{"$f":"'T2-B(PP1)'!$E$107","v":0},"#'T2-B(PP1)'!$E$107"]
["pp1_bl3_4_8_rate_out",{"$f":"'T2-B(PP1)'!$H$107","v":0},"#'T2-B(PP1)'!$H$107"]
["pp1_bl3_4_8_total",{"$f":"'T2-B(PP1)'!$J$107","v":0},"#'T2-B(PP1)'!$J$107"]
["pp1_bl3_4_8_total_in",{"$f":"'T2-B(PP1)'!$F$107","v":0},"#'T2-B(PP1)'!$F$107"]
["pp1_bl3_4_8_total_out",{"$f":"'T2-B(PP1)'!$I$107","v":0},"#'T2-B(PP1)'!$I$107"]
["pp1_bl3_4_8_unit",{"$f":"'T2-B(PP1)'!$C$107","v":0},"#'T2-B(PP1)'!$C$107"]
["pp1_bl3_4_8_unit_in",{"$f":"'T2-B(PP1)'!$D$107","v":0},"#'T2-B(PP1)'!$D$107"]
["pp1_bl3_4_8_units_out",{"$f":"'T2-B(PP1)'!$G$107","v":0},"#'T2-B(PP1)'!$G$107"]
["pp1_bl3_4_9_name",{"$f":"'T2-B(PP1)'!$B$108","v":0},"#'T2-B(PP1)'!$B$108"]
["pp1_bl3_4_9_rate_in",{"$f":"'T2-B(PP1)'!$E$108","v":0},"#'T2-B(PP1)'!$E$108"]
["pp1_bl3_4_9_rate_out",{"$f":"'T2-B(PP1)'!$H$108","v":0},"#'T2-B(PP1)'!$H$108"]
["pp1_bl3_4_9_total",{"$f":"'T2-B(PP1)'!$J$108","v":0},"#'T2-B(PP1)'!$J$108"]
["pp1_bl3_4_9_total_in",{"$f":"'T2-B(PP1)'!$F$108","v":0},"#'T2-B(PP1)'!$F$108"]
["pp1_bl3_4_9_total_out",{"$f":"'T2-B(PP1)'!$I$108","v":0},"#'T2-B(PP1)'!$I$108"]
["pp1_bl3_4_9_unit",{"$f":"'T2-B(PP1)'!$C$108","v":0},"#'T2-B(PP1)'!$C$108"]
["pp1_bl3_4_9_unit_in",{"$f":"'T2-B(PP1)'!$D$108","v":0},"#'T2-B(PP1)'!$D$108"]
["pp1_bl3_4_9_units_out",{"$f":"'T2-B(PP1)'!$G$108","v":0},"#'T2-B(PP1)'!$G$108"]
["pp1_bl3_4_total",{"$f":"'T2-B(PP1)'!$J$99","v":0},"#'T2-B(PP1)'!$J$99"]
["pp1_bl3_4_total_in",{"$f":"'T2-B(PP1)'!$F$99","v":0},"#'T2-B(PP1)'!$F$99"]
["pp1_bl3_4_total_out",{"$f":"'T2-B(PP1)'!$I$99","v":0},"#'T2-B(PP1)'!$I$99"]
["pp1_bl3_total",{"$f":"'T2-B(PP1)'!$J$110","v":0},"#'T2-B(PP1)'!$J$110"]
["pp1_bl3_total_in",{"$f":"'T2-B(PP1)'!$F$110","v":0},"#'T2-B(PP1)'!$F$110"]
["pp1_bl3_total_out",{"$f":"'T2-B(PP1)'!$I$110","v":0},"#'T2-B(PP1)'!$I$110"]
["pp1_bl4_1_1_name",{"$f":"'T2-B(PP1)'!$B$115","v":0},"#'T2-B(PP1)'!$B$115"]
["pp1_bl4_1_1_rate_in",{"$f":"'T2-B(PP1)'!$E$115","v":0},"#'T2-B(PP1)'!$E$115"]
["pp1_bl4_1_1_rate_out",{"$f":"'T2-B(PP1)'!$H$115","v":0},"#'T2-B(PP1)'!$H$115"]
["pp1_bl4_1_1_total",{"$f":"'T2-B(PP1)'!$J$115","v":0},"#'T2-B(PP1)'!$J$115"]
["pp1_bl4_1_1_total_in",{"$f":"'T2-B(PP1)'!$F$115","v":0},"#'T2-B(PP1)'!$F$115"]
["pp1_bl4_1_1_total_out",{"$f":"'T2-B(PP1)'!$I$115","v":0},"#'T2-B(PP1)'!$I$115"]
["pp1_bl4_1_1_unit",{"$f":"'T2-B(PP1)'!$C$115","v":0},"#'T2-B(PP1)'!$C$115"]
["pp1_bl4_1_1_unit_in",{"$f":"'T2-B(PP1)'!$D$115","v":0},"#'T2-B(PP1)'!$D$115"]
["pp1_bl4_1_1_units_out",{"$f":"'T2-B(PP1)'!$G$115","v":0},"#'T2-B(PP1)'!$G$115"]
["pp1_bl4_1_10_name",{"$f":"'T2-B(PP1)'!$B$124","v":0},"#'T2-B(PP1)'!$B$124"]
["pp1_bl4_1_10_rate_in",{"$f":"'T2-B(PP1)'!$E$124","v":0},"#'T2-B(PP1)'!$E$124"]
["pp1_bl4_1_10_rate_out",{"$f":"'T2-B(PP1)'!$H$124","v":0},"#'T2-B(PP1)'!$H$124"]
["pp1_bl4_1_10_total",{"$f":"'T2-B(PP1)'!$J$124","v":0},"#'T2-B(PP1)'!$J$124"]
["pp1_bl4_1_10_total_in",{"$f":"'T2-B(PP1)'!$F$124","v":0},"#'T2-B(PP1)'!$F$124"]
["pp1_bl4_1_10_total_out",{"$f":"'T2-B(PP1)'!$I$124","v":0},"#'T2-B(PP1)'!$I$124"]
["pp1_bl4_1_10_unit",{"$f":"'T2-B(PP1)'!$C$124","v":0},"#'T2-B(PP1)'!$C$124"]
["pp1_bl4_1_10_unit_in",{"$f":"'T2-B(PP1)'!$D$124","v":0},"#'T2-B(PP1)'!$D$124"]
["pp1_bl4_1_10_units_out",{"$f":"'T2-B(PP1)'!$G$124","v":0},"#'T2-B(PP1)'!$G$124"]
["pp1_bl4_1_2_name",{"$f":"'T2-B(PP1)'!$B$116","v":0},"#'T2-B(PP1)'!$B$116"]
["pp1_bl4_1_2_rate_in",{"$f":"'T2-B(PP1)'!$E$116","v":0},"#'T2-B(PP1)'!$E$116"]
["pp1_bl4_1_2_rate_out",{"$f":"'T2-B(PP1)'!$H$116","v":0},"#'T2-B(PP1)'!$H$116"]
["pp1_bl4_1_2_total",{"$f":"'T2-B(PP1)'!$J$116","v":0},"#'T2-B(PP1)'!$J$116"]
["pp1_bl4_1_2_total_in",{"$f":"'T2-B(PP1)'!$F$116","v":0},"#'T2-B(PP1)'!$F$116"]
["pp1_bl4_1_2_total_out",{"$f":"'T2-B(PP1)'!$I$116","v":0},"#'T2-B(PP1)'!$I$116"]
["pp1_bl4_1_2_unit",{"$f":"'T2-B(PP1)'!$C$116","v":0},"#'T2-B(PP1)'!$C$116"]
["pp1_bl4_1_2_unit_in",{"$f":"'T2-B(PP1)'!$D$116","v":0},"#'T2-B(PP1)'!$D$116"]
["pp1_bl4_1_2_units_out",{"$f":"'T2-B(PP1)'!$G$116","v":0},"#'T2-B(PP1)'!$G$116"]
["pp1_bl4_1_3_name",{"$f":"'T2-B(PP1)'!$B$117","v":0},"#'T2-B(PP1)'!$B$117"]
["pp1_bl4_1_3_rate_in",{"$f":"'T2-B(PP1)'!$E$117","v":0},"#'T2-B(PP1)'!$E$117"]
["pp1_bl4_1_3_rate_out",{"$f":"'T2-B(PP1)'!$H$117","v":0},"#'T2-B(PP1)'!$H$117"]
["pp1_bl4_1_3_total",{"$f":"'T2-B(PP1)'!$J$117","v":0},"#'T2-B(PP1)'!$J$117"]
["pp1_bl4_1_3_total_in",{"$f":"'T2-B(PP1)'!$F$117","v":0},"#'T2-B(PP1)'!$F$117"]
["pp1_bl4_1_3_total_out",{"$f":"'T2-B(PP1)'!$I$117","v":0},"#'T2-B(PP1)'!$I$117"]
["pp1_bl4_1_3_unit",{"$f":"'T2-B(PP1)'!$C$117","v":0},"#'T2-B(PP1)'!$C$117"]
["pp1_bl4_1_3_unit_in",{"$f":"'T2-B(PP1)'!$D$117","v":0},"#'T2-B(PP1)'!$D$117"]
["pp1_bl4_1_3_units_out",{"$f":"'T2-B(PP1)'!$G$117","v":0},"#'T2-B(PP1)'!$G$117"]
["pp1_bl4_1_4_name",{"$f":"'T2-B(PP1)'!$B$118","v":0},"#'T2-B(PP1)'!$B$118"]
["pp1_bl4_1_4_rate_in",{"$f":"'T2-B(PP1)'!$E$118","v":0},"#'T2-B(PP1)'!$E$118"]
["pp1_bl4_1_4_rate_out",{"$f":"'T2-B(PP1)'!$H$118","v":0},"#'T2-B(PP1)'!$H$118"]
["pp1_bl4_1_4_total",{"$f":"'T2-B(PP1)'!$J$118","v":0},"#'T2-B(PP1)'!$J$118"]
["pp1_bl4_1_4_total_in",{"$f":"'T2-B(PP1)'!$F$118","v":0},"#'T2-B(PP1)'!$F$118"]
["pp1_bl4_1_4_total_out",{"$f":"'T2-B(PP1)'!$I$118","v":0},"#'T2-B(PP1)'!$I$118"]
["pp1_bl4_1_4_unit",{"$f":"'T2-B(PP1)'!$C$118","v":0},"#'T2-B(PP1)'!$C$118"]
["pp1_bl4_1_4_unit_in",{"$f":"'T2-B(PP1)'!$D$118","v":0},"#'T2-B(PP1)'!$D$118"]
["pp1_bl4_1_4_units_out",{"$f":"'T2-B(PP1)'!$G$118","v":0},"#'T2-B(PP1)'!$G$118"]
["pp1_bl4_1_5_name",{"$f":"'T2-B(PP1)'!$B$119","v":0},"#'T2-B(PP1)'!$B$119"]
["pp1_bl4_1_5_rate_in",{"$f":"'T2-B(PP1)'!$E$119","v":0},"#'T2-B(PP1)'!$E$119"]
["pp1_bl4_1_5_rate_out",{"$f":"'T2-B(PP1)'!$H$119","v":0},"#'T2-B(PP1)'!$H$119"]
["pp1_bl4_1_5_total",{"$f":"'T2-B(PP1)'!$J$119","v":0},"#'T2-B(PP1)'!$J$119"]
["pp1_bl4_1_5_total_in",{"$f":"'T2-B(PP1)'!$F$119","v":0},"#'T2-B(PP1)'!$F$119"]
["pp1_bl4_1_5_total_out",{"$f":"'T2-B(PP1)'!$I$119","v":0},"#'T2-B(PP1)'!$I$119"]
["pp1_bl4_1_5_unit",{"$f":"'T2-B(PP1)'!$C$119","v":0},"#'T2-B(PP1)'!$C$119"]
["pp1_bl4_1_5_unit_in",{"$f":"'T2-B(PP1)'!$D$119","v":0},"#'T2-B(PP1)'!$D$119"]
["pp1_bl4_1_5_units_out",{"$f":"'T2-B(PP1)'!$G$119","v":0},"#'T2-B(PP1)'!$G$119"]
["pp1_bl4_1_6_name",{"$f":"'T2-B(PP1)'!$B$120","v":0},"#'T2-B(PP1)'!$B$120"]
["pp1_bl4_1_6_rate_in",{"$f":"'T2-B(PP1)'!$E$120","v":0},"#'T2-B(PP1)'!$E$120"]
["pp1_bl4_1_6_rate_out",{"$f":"'T2-B(PP1)'!$H$120","v":0},"#'T2-B(PP1)'!$H$120"]
["pp1_bl4_1_6_total",{"$f":"'T2-B(PP1)'!$J$120","v":0},"#'T2-B(PP1)'!$J$120"]
["pp1_bl4_1_6_total_in",{"$f":"'T2-B(PP1)'!$F$120","v":0},"#'T2-B(PP1)'!$F$120"]
["pp1_bl4_1_6_total_out",{"$f":"'T2-B(PP1)'!$I$120","v":0},"#'T2-B(PP1)'!$I$120"]
["pp1_bl4_1_6_unit",{"$f":"'T2-B(PP1)'!$C$120","v":0},"#'T2-B(PP1)'!$C$120"]
["pp1_bl4_1_6_unit_in",{"$f":"'T2-B(PP1)'!$D$120","v":0},"#'T2-B(PP1)'!$D$120"]
["pp1_bl4_1_6_units_out",{"$f":"'T2-B(PP1)'!$G$120","v":0},"#'T2-B(PP1)'!$G$120"]
["pp1_bl4_1_7_name",{"$f":"'T2-B(PP1)'!$B$121","v":0},"#'T2-B(PP1)'!$B$121"]
["pp1_bl4_1_7_rate_in",{"$f":"'T2-B(PP1)'!$E$121","v":0},"#'T2-B(PP1)'!$E$121"]
["pp1_bl4_1_7_rate_out",{"$f":"'T2-B(PP1)'!$H$121","v":0},"#'T2-B(PP1)'!$H$121"]
["pp1_bl4_1_7_total",{"$f":"'T2-B(PP1)'!$J$121","v":0},"#'T2-B(PP1)'!$J$121"]
["pp1_bl4_1_7_total_in",{"$f":"'T2-B(PP1)'!$F$121","v":0},"#'T2-B(PP1)'!$F$121"]
["pp1_bl4_1_7_total_out",{"$f":"'T2-B(PP1)'!$I$121","v":0},"#'T2-B(PP1)'!$I$121"]
["pp1_bl4_1_7_unit",{"$f":"'T2-B(PP1)'!$C$121","v":0},"#'T2-B(PP1)'!$C$121"]
["pp1_bl4_1_7_unit_in",{"$f":"'T2-B(PP1)'!$D$121","v":0},"#'T2-B(PP1)'!$D$121"]
["pp1_bl4_1_7_units_out",{"$f":"'T2-B(PP1)'!$G$121","v":0},"#'T2-B(PP1)'!$G$121"]
["pp1_bl4_1_8_name",{"$f":"'T2-B(PP1)'!$B$122","v":0},"#'T2-B(PP1)'!$B$122"]
["pp1_bl4_1_8_rate_in",{"$f":"'T2-B(PP1)'!$E$122","v":0},"#'T2-B(PP1)'!$E$122"]
["pp1_bl4_1_8_rate_out",{"$f":"'T2-B(PP1)'!$H$122","v":0},"#'T2-B(PP1)'!$H$122"]
["pp1_bl4_1_8_total",{"$f":"'T2-B(PP1)'!$J$122","v":0},"#'T2-B(PP1)'!$J$122"]
["pp1_bl4_1_8_total_in",{"$f":"'T2-B(PP1)'!$F$122","v":0},"#'T2-B(PP1)'!$F$122"]
["pp1_bl4_1_8_total_out",{"$f":"'T2-B(PP1)'!$I$122","v":0},"#'T2-B(PP1)'!$I$122"]
["pp1_bl4_1_8_unit",{"$f":"'T2-B(PP1)'!$C$122","v":0},"#'T2-B(PP1)'!$C$122"]
["pp1_bl4_1_8_unit_in",{"$f":"'T2-B(PP1)'!$D$122","v":0},"#'T2-B(PP1)'!$D$122"]
["pp1_bl4_1_8_units_out",{"$f":"'T2-B(PP1)'!$G$122","v":0},"#'T2-B(PP1)'!$G$122"]
["pp1_bl4_1_9_name",{"$f":"'T2-B(PP1)'!$B$123","v":0},"#'T2-B(PP1)'!$B$123"]
["pp1_bl4_1_9_rate_in",{"$f":"'T2-B(PP1)'!$E$123","v":0},"#'T2-B(PP1)'!$E$123"]
["pp1_bl4_1_9_rate_out",{"$f":"'T2-B(PP1)'!$H$123","v":0},"#'T2-B(PP1)'!$H$123"]
["pp1_bl4_1_9_total",{"$f":"'T2-B(PP1)'!$J$123","v":0},"#'T2-B(PP1)'!$J$123"]
["pp1_bl4_1_9_total_in",{"$f":"'T2-B(PP1)'!$F$123","v":0},"#'T2-B(PP1)'!$F$123"]
["pp1_bl4_1_9_total_out",{"$f":"'T2-B(PP1)'!$I$123","v":0},"#'T2-B(PP1)'!$I$123"]
["pp1_bl4_1_9_unit",{"$f":"'T2-B(PP1)'!$C$123","v":0},"#'T2-B(PP1)'!$C$123"]
["pp1_bl4_1_9_unit_in",{"$f":"'T2-B(PP1)'!$D$123","v":0},"#'T2-B(PP1)'!$D$123"]
["pp1_bl4_1_9_units_out",{"$f":"'T2-B(PP1)'!$G$123","v":0},"#'T2-B(PP1)'!$G$123"]
["pp1_bl4_1_total",{"$f":"'T2-B(PP1)'!$J$114","v":0},"#'T2-B(PP1)'!$J$114"]
["pp1_bl4_1_total_in",{"$f":"'T2-B(PP1)'!$F$114","v":0},"#'T2-B(PP1)'!$F$114"]
["pp1_bl4_1_total_out",{"$f":"'T2-B(PP1)'!$I$114","v":0},"#'T2-B(PP1)'!$I$114"]
["pp1_bl4_10_1_name",{"$f":"'T2-B(PP1)'!$B$304","v":0},"#'T2-B(PP1)'!$B$304"]
["pp1_bl4_10_1_rate_in",{"$f":"'T2-B(PP1)'!$E$304","v":0},"#'T2-B(PP1)'!$E$304"]
["pp1_bl4_10_1_rate_out",{"$f":"'T2-B(PP1)'!$H$304","v":0},"#'T2-B(PP1)'!$H$304"]
["pp1_bl4_10_1_total",{"$f":"'T2-B(PP1)'!$J$304","v":0},"#'T2-B(PP1)'!$J$304"]
["pp1_bl4_10_1_total_in",{"$f":"'T2-B(PP1)'!$F$304","v":0},"#'T2-B(PP1)'!$F$304"]
["pp1_bl4_10_1_total_out",{"$f":"'T2-B(PP1)'!$I$304","v":0},"#'T2-B(PP1)'!$I$304"]
["pp1_bl4_10_1_unit",{"$f":"'T2-B(PP1)'!$C$304","v":0},"#'T2-B(PP1)'!$C$304"]
["pp1_bl4_10_1_unit_in",{"$f":"'T2-B(PP1)'!$D$304","v":0},"#'T2-B(PP1)'!$D$304"]
["pp1_bl4_10_1_units_out",{"$f":"'T2-B(PP1)'!$G$304","v":0},"#'T2-B(PP1)'!$G$304"]
["pp1_bl4_10_10_name",{"$f":"'T2-B(PP1)'!$B$313","v":0},"#'T2-B(PP1)'!$B$313"]
["pp1_bl4_10_10_rate_in",{"$f":"'T2-B(PP1)'!$E$313","v":0},"#'T2-B(PP1)'!$E$313"]
["pp1_bl4_10_10_rate_out",{"$f":"'T2-B(PP1)'!$H$313","v":0},"#'T2-B(PP1)'!$H$313"]
["pp1_bl4_10_10_total",{"$f":"'T2-B(PP1)'!$J$313","v":0},"#'T2-B(PP1)'!$J$313"]
["pp1_bl4_10_10_total_in",{"$f":"'T2-B(PP1)'!$F$313","v":0},"#'T2-B(PP1)'!$F$313"]
["pp1_bl4_10_10_total_out",{"$f":"'T2-B(PP1)'!$I$313","v":0},"#'T2-B(PP1)'!$I$313"]
["pp1_bl4_10_10_unit",{"$f":"'T2-B(PP1)'!$C$313","v":0},"#'T2-B(PP1)'!$C$313"]
["pp1_bl4_10_10_unit_in",{"$f":"'T2-B(PP1)'!$D$313","v":0},"#'T2-B(PP1)'!$D$313"]
["pp1_bl4_10_10_units_out",{"$f":"'T2-B(PP1)'!$G$313","v":0},"#'T2-B(PP1)'!$G$313"]
["pp1_bl4_10_2_name",{"$f":"'T2-B(PP1)'!$B$305","v":0},"#'T2-B(PP1)'!$B$305"]
["pp1_bl4_10_2_rate_in",{"$f":"'T2-B(PP1)'!$E$305","v":0},"#'T2-B(PP1)'!$E$305"]
["pp1_bl4_10_2_rate_out",{"$f":"'T2-B(PP1)'!$H$305","v":0},"#'T2-B(PP1)'!$H$305"]
["pp1_bl4_10_2_total",{"$f":"'T2-B(PP1)'!$J$305","v":0},"#'T2-B(PP1)'!$J$305"]
["pp1_bl4_10_2_total_in",{"$f":"'T2-B(PP1)'!$F$305","v":0},"#'T2-B(PP1)'!$F$305"]
["pp1_bl4_10_2_total_out",{"$f":"'T2-B(PP1)'!$I$305","v":0},"#'T2-B(PP1)'!$I$305"]
["pp1_bl4_10_2_unit",{"$f":"'T2-B(PP1)'!$C$305","v":0},"#'T2-B(PP1)'!$C$305"]
["pp1_bl4_10_2_unit_in",{"$f":"'T2-B(PP1)'!$D$305","v":0},"#'T2-B(PP1)'!$D$305"]
["pp1_bl4_10_2_units_out",{"$f":"'T2-B(PP1)'!$G$305","v":0},"#'T2-B(PP1)'!$G$305"]
["pp1_bl4_10_3_name",{"$f":"'T2-B(PP1)'!$B$306","v":0},"#'T2-B(PP1)'!$B$306"]
["pp1_bl4_10_3_rate_in",{"$f":"'T2-B(PP1)'!$E$306","v":0},"#'T2-B(PP1)'!$E$306"]
["pp1_bl4_10_3_rate_out",{"$f":"'T2-B(PP1)'!$H$306","v":0},"#'T2-B(PP1)'!$H$306"]
["pp1_bl4_10_3_total",{"$f":"'T2-B(PP1)'!$J$306","v":0},"#'T2-B(PP1)'!$J$306"]
["pp1_bl4_10_3_total_in",{"$f":"'T2-B(PP1)'!$F$306","v":0},"#'T2-B(PP1)'!$F$306"]
["pp1_bl4_10_3_total_out",{"$f":"'T2-B(PP1)'!$I$306","v":0},"#'T2-B(PP1)'!$I$306"]
["pp1_bl4_10_3_unit",{"$f":"'T2-B(PP1)'!$C$306","v":0},"#'T2-B(PP1)'!$C$306"]
["pp1_bl4_10_3_unit_in",{"$f":"'T2-B(PP1)'!$D$306","v":0},"#'T2-B(PP1)'!$D$306"]
["pp1_bl4_10_3_units_out",{"$f":"'T2-B(PP1)'!$G$306","v":0},"#'T2-B(PP1)'!$G$306"]
["pp1_bl4_10_4_name",{"$f":"'T2-B(PP1)'!$B$307","v":0},"#'T2-B(PP1)'!$B$307"]
["pp1_bl4_10_4_rate_in",{"$f":"'T2-B(PP1)'!$E$307","v":0},"#'T2-B(PP1)'!$E$307"]
["pp1_bl4_10_4_rate_out",{"$f":"'T2-B(PP1)'!$H$307","v":0},"#'T2-B(PP1)'!$H$307"]
["pp1_bl4_10_4_total",{"$f":"'T2-B(PP1)'!$J$307","v":0},"#'T2-B(PP1)'!$J$307"]
["pp1_bl4_10_4_total_in",{"$f":"'T2-B(PP1)'!$F$307","v":0},"#'T2-B(PP1)'!$F$307"]
["pp1_bl4_10_4_total_out",{"$f":"'T2-B(PP1)'!$I$307","v":0},"#'T2-B(PP1)'!$I$307"]
["pp1_bl4_10_4_unit",{"$f":"'T2-B(PP1)'!$C$307","v":0},"#'T2-B(PP1)'!$C$307"]
["pp1_bl4_10_4_unit_in",{"$f":"'T2-B(PP1)'!$D$307","v":0},"#'T2-B(PP1)'!$D$307"]
["pp1_bl4_10_4_units_out",{"$f":"'T2-B(PP1)'!$G$307","v":0},"#'T2-B(PP1)'!$G$307"]
["pp1_bl4_10_5_name",{"$f":"'T2-B(PP1)'!$B$308","v":0},"#'T2-B(PP1)'!$B$308"]
["pp1_bl4_10_5_rate_in",{"$f":"'T2-B(PP1)'!$E$308","v":0},"#'T2-B(PP1)'!$E$308"]
["pp1_bl4_10_5_rate_out",{"$f":"'T2-B(PP1)'!$H$308","v":0},"#'T2-B(PP1)'!$H$308"]
["pp1_bl4_10_5_total",{"$f":"'T2-B(PP1)'!$J$308","v":0},"#'T2-B(PP1)'!$J$308"]
["pp1_bl4_10_5_total_in",{"$f":"'T2-B(PP1)'!$F$308","v":0},"#'T2-B(PP1)'!$F$308"]
["pp1_bl4_10_5_total_out",{"$f":"'T2-B(PP1)'!$I$308","v":0},"#'T2-B(PP1)'!$I$308"]
["pp1_bl4_10_5_unit",{"$f":"'T2-B(PP1)'!$C$308","v":0},"#'T2-B(PP1)'!$C$308"]
["pp1_bl4_10_5_unit_in",{"$f":"'T2-B(PP1)'!$D$308","v":0},"#'T2-B(PP1)'!$D$308"]
["pp1_bl4_10_5_units_out",{"$f":"'T2-B(PP1)'!$G$308","v":0},"#'T2-B(PP1)'!$G$308"]
["pp1_bl4_10_6_name",{"$f":"'T2-B(PP1)'!$B$309","v":0},"#'T2-B(PP1)'!$B$309"]
["pp1_bl4_10_6_rate_in",{"$f":"'T2-B(PP1)'!$E$309","v":0},"#'T2-B(PP1)'!$E$309"]
["pp1_bl4_10_6_rate_out",{"$f":"'T2-B(PP1)'!$H$309","v":0},"#'T2-B(PP1)'!$H$309"]
["pp1_bl4_10_6_total",{"$f":"'T2-B(PP1)'!$J$309","v":0},"#'T2-B(PP1)'!$J$309"]
["pp1_bl4_10_6_total_in",{"$f":"'T2-B(PP1)'!$F$309","v":0},"#'T2-B(PP1)'!$F$309"]
["pp1_bl4_10_6_total_out",{"$f":"'T2-B(PP1)'!$I$309","v":0},"#'T2-B(PP1)'!$I$309"]
["pp1_bl4_10_6_unit",{"$f":"'T2-B(PP1)'!$C$309","v":0},"#'T2-B(PP1)'!$C$309"]
["pp1_bl4_10_6_unit_in",{"$f":"'T2-B(PP1)'!$D$309","v":0},"#'T2-B(PP1)'!$D$309"]
["pp1_bl4_10_6_units_out",{"$f":"'T2-B(PP1)'!$G$309","v":0},"#'T2-B(PP1)'!$G$309"]
["pp1_bl4_10_7_name",{"$f":"'T2-B(PP1)'!$B$310","v":0},"#'T2-B(PP1)'!$B$310"]
["pp1_bl4_10_7_rate_in",{"$f":"'T2-B(PP1)'!$E$310","v":0},"#'T2-B(PP1)'!$E$310"]
["pp1_bl4_10_7_rate_out",{"$f":"'T2-B(PP1)'!$H$310","v":0},"#'T2-B(PP1)'!$H$310"]
["pp1_bl4_10_7_total",{"$f":"'T2-B(PP1)'!$J$310","v":0},"#'T2-B(PP1)'!$J$310"]
["pp1_bl4_10_7_total_in",{"$f":"'T2-B(PP1)'!$F$310","v":0},"#'T2-B(PP1)'!$F$310"]
["pp1_bl4_10_7_total_out",{"$f":"'T2-B(PP1)'!$I$310","v":0},"#'T2-B(PP1)'!$I$310"]
["pp1_bl4_10_7_unit",{"$f":"'T2-B(PP1)'!$C$310","v":0},"#'T2-B(PP1)'!$C$310"]
["pp1_bl4_10_7_unit_in",{"$f":"'T2-B(PP1)'!$D$310","v":0},"#'T2-B(PP1)'!$D$310"]
["pp1_bl4_10_7_units_out",{"$f":"'T2-B(PP1)'!$G$310","v":0},"#'T2-B(PP1)'!$G$310"]
["pp1_bl4_10_8_name",{"$f":"'T2-B(PP1)'!$B$311","v":0},"#'T2-B(PP1)'!$B$311"]
["pp1_bl4_10_8_rate_in",{"$f":"'T2-B(PP1)'!$E$311","v":0},"#'T2-B(PP1)'!$E$311"]
["pp1_bl4_10_8_rate_out",{"$f":"'T2-B(PP1)'!$H$311","v":0},"#'T2-B(PP1)'!$H$311"]
["pp1_bl4_10_8_total",{"$f":"'T2-B(PP1)'!$J$311","v":0},"#'T2-B(PP1)'!$J$311"]
["pp1_bl4_10_8_total_in",{"$f":"'T2-B(PP1)'!$F$311","v":0},"#'T2-B(PP1)'!$F$311"]
["pp1_bl4_10_8_total_out",{"$f":"'T2-B(PP1)'!$I$311","v":0},"#'T2-B(PP1)'!$I$311"]
["pp1_bl4_10_8_unit",{"$f":"'T2-B(PP1)'!$C$311","v":0},"#'T2-B(PP1)'!$C$311"]
["pp1_bl4_10_8_unit_in",{"$f":"'T2-B(PP1)'!$D$311","v":0},"#'T2-B(PP1)'!$D$311"]
["pp1_bl4_10_8_units_out",{"$f":"'T2-B(PP1)'!$G$311","v":0},"#'T2-B(PP1)'!$G$311"]
["pp1_bl4_10_9_name",{"$f":"'T2-B(PP1)'!$B$312","v":0},"#'T2-B(PP1)'!$B$312"]
["pp1_bl4_10_9_rate_in",{"$f":"'T2-B(PP1)'!$E$312","v":0},"#'T2-B(PP1)'!$E$312"]
["pp1_bl4_10_9_rate_out",{"$f":"'T2-B(PP1)'!$H$312","v":0},"#'T2-B(PP1)'!$H$312"]
["pp1_bl4_10_9_total",{"$f":"'T2-B(PP1)'!$J$312","v":0},"#'T2-B(PP1)'!$J$312"]
["pp1_bl4_10_9_total_in",{"$f":"'T2-B(PP1)'!$F$312","v":0},"#'T2-B(PP1)'!$F$312"]
["pp1_bl4_10_9_total_out",{"$f":"'T2-B(PP1)'!$I$312","v":0},"#'T2-B(PP1)'!$I$312"]
["pp1_bl4_10_9_unit",{"$f":"'T2-B(PP1)'!$C$312","v":0},"#'T2-B(PP1)'!$C$312"]
["pp1_bl4_10_9_unit_in",{"$f":"'T2-B(PP1)'!$D$312","v":0},"#'T2-B(PP1)'!$D$312"]
["pp1_bl4_10_9_units_out",{"$f":"'T2-B(PP1)'!$G$312","v":0},"#'T2-B(PP1)'!$G$312"]
["pp1_bl4_10_total",{"$f":"'T2-B(PP1)'!$J$303","v":0},"#'T2-B(PP1)'!$J$303"]
["pp1_bl4_10_total_in",{"$f":"'T2-B(PP1)'!$F$303","v":0},"#'T2-B(PP1)'!$F$303"]
["pp1_bl4_10_total_out",{"$f":"'T2-B(PP1)'!$I$303","v":0},"#'T2-B(PP1)'!$I$303"]
["pp1_bl4_11_1_name",{"$f":"'T2-B(PP1)'!$B$325","v":0},"#'T2-B(PP1)'!$B$325"]
["pp1_bl4_11_1_rate_in",{"$f":"'T2-B(PP1)'!$E$325","v":0},"#'T2-B(PP1)'!$E$325"]
["pp1_bl4_11_1_rate_out",{"$f":"'T2-B(PP1)'!$H$325","v":0},"#'T2-B(PP1)'!$H$325"]
["pp1_bl4_11_1_total",{"$f":"'T2-B(PP1)'!$J$325","v":0},"#'T2-B(PP1)'!$J$325"]
["pp1_bl4_11_1_total_in",{"$f":"'T2-B(PP1)'!$F$325","v":0},"#'T2-B(PP1)'!$F$325"]
["pp1_bl4_11_1_total_out",{"$f":"'T2-B(PP1)'!$I$325","v":0},"#'T2-B(PP1)'!$I$325"]
["pp1_bl4_11_1_unit",{"$f":"'T2-B(PP1)'!$C$325","v":0},"#'T2-B(PP1)'!$C$325"]
["pp1_bl4_11_1_unit_in",{"$f":"'T2-B(PP1)'!$D$325","v":0},"#'T2-B(PP1)'!$D$325"]
["pp1_bl4_11_1_units_out",{"$f":"'T2-B(PP1)'!$G$325","v":0},"#'T2-B(PP1)'!$G$325"]
["pp1_bl4_11_10_name",{"$f":"'T2-B(PP1)'!$B$334","v":0},"#'T2-B(PP1)'!$B$334"]
["pp1_bl4_11_10_rate_in",{"$f":"'T2-B(PP1)'!$E$334","v":0},"#'T2-B(PP1)'!$E$334"]
["pp1_bl4_11_10_rate_out",{"$f":"'T2-B(PP1)'!$H$334","v":0},"#'T2-B(PP1)'!$H$334"]
["pp1_bl4_11_10_total",{"$f":"'T2-B(PP1)'!$J$334","v":0},"#'T2-B(PP1)'!$J$334"]
["pp1_bl4_11_10_total_in",{"$f":"'T2-B(PP1)'!$F$334","v":0},"#'T2-B(PP1)'!$F$334"]
["pp1_bl4_11_10_total_out",{"$f":"'T2-B(PP1)'!$I$334","v":0},"#'T2-B(PP1)'!$I$334"]
["pp1_bl4_11_10_unit",{"$f":"'T2-B(PP1)'!$C$334","v":0},"#'T2-B(PP1)'!$C$334"]
["pp1_bl4_11_10_unit_in",{"$f":"'T2-B(PP1)'!$D$334","v":0},"#'T2-B(PP1)'!$D$334"]
["pp1_bl4_11_10_units_out",{"$f":"'T2-B(PP1)'!$G$334","v":0},"#'T2-B(PP1)'!$G$334"]
["pp1_bl4_11_2_name",{"$f":"'T2-B(PP1)'!$B$326","v":0},"#'T2-B(PP1)'!$B$326"]
["pp1_bl4_11_2_rate_in",{"$f":"'T2-B(PP1)'!$E$326","v":0},"#'T2-B(PP1)'!$E$326"]
["pp1_bl4_11_2_rate_out",{"$f":"'T2-B(PP1)'!$H$326","v":0},"#'T2-B(PP1)'!$H$326"]
["pp1_bl4_11_2_total",{"$f":"'T2-B(PP1)'!$J$326","v":0},"#'T2-B(PP1)'!$J$326"]
["pp1_bl4_11_2_total_in",{"$f":"'T2-B(PP1)'!$F$326","v":0},"#'T2-B(PP1)'!$F$326"]
["pp1_bl4_11_2_total_out",{"$f":"'T2-B(PP1)'!$I$326","v":0},"#'T2-B(PP1)'!$I$326"]
["pp1_bl4_11_2_unit",{"$f":"'T2-B(PP1)'!$C$326","v":0},"#'T2-B(PP1)'!$C$326"]
["pp1_bl4_11_2_unit_in",{"$f":"'T2-B(PP1)'!$D$326","v":0},"#'T2-B(PP1)'!$D$326"]
["pp1_bl4_11_2_units_out",{"$f":"'T2-B(PP1)'!$G$326","v":0},"#'T2-B(PP1)'!$G$326"]
["pp1_bl4_11_3_name",{"$f":"'T2-B(PP1)'!$B$327","v":0},"#'T2-B(PP1)'!$B$327"]
["pp1_bl4_11_3_rate_in",{"$f":"'T2-B(PP1)'!$E$327","v":0},"#'T2-B(PP1)'!$E$327"]
["pp1_bl4_11_3_rate_out",{"$f":"'T2-B(PP1)'!$H$327","v":0},"#'T2-B(PP1)'!$H$327"]
["pp1_bl4_11_3_total",{"$f":"'T2-B(PP1)'!$J$327","v":0},"#'T2-B(PP1)'!$J$327"]
["pp1_bl4_11_3_total_in",{"$f":"'T2-B(PP1)'!$F$327","v":0},"#'T2-B(PP1)'!$F$327"]
["pp1_bl4_11_3_total_out",{"$f":"'T2-B(PP1)'!$I$327","v":0},"#'T2-B(PP1)'!$I$327"]
["pp1_bl4_11_3_unit",{"$f":"'T2-B(PP1)'!$C$327","v":0},"#'T2-B(PP1)'!$C$327"]
["pp1_bl4_11_3_unit_in",{"$f":"'T2-B(PP1)'!$D$327","v":0},"#'T2-B(PP1)'!$D$327"]
["pp1_bl4_11_3_units_out",{"$f":"'T2-B(PP1)'!$G$327","v":0},"#'T2-B(PP1)'!$G$327"]
["pp1_bl4_11_4_name",{"$f":"'T2-B(PP1)'!$B$328","v":0},"#'T2-B(PP1)'!$B$328"]
["pp1_bl4_11_4_rate_in",{"$f":"'T2-B(PP1)'!$E$328","v":0},"#'T2-B(PP1)'!$E$328"]
["pp1_bl4_11_4_rate_out",{"$f":"'T2-B(PP1)'!$H$328","v":0},"#'T2-B(PP1)'!$H$328"]
["pp1_bl4_11_4_total",{"$f":"'T2-B(PP1)'!$J$328","v":0},"#'T2-B(PP1)'!$J$328"]
["pp1_bl4_11_4_total_in",{"$f":"'T2-B(PP1)'!$F$328","v":0},"#'T2-B(PP1)'!$F$328"]
["pp1_bl4_11_4_total_out",{"$f":"'T2-B(PP1)'!$I$328","v":0},"#'T2-B(PP1)'!$I$328"]
["pp1_bl4_11_4_unit",{"$f":"'T2-B(PP1)'!$C$328","v":0},"#'T2-B(PP1)'!$C$328"]
["pp1_bl4_11_4_unit_in",{"$f":"'T2-B(PP1)'!$D$328","v":0},"#'T2-B(PP1)'!$D$328"]
["pp1_bl4_11_4_units_out",{"$f":"'T2-B(PP1)'!$G$328","v":0},"#'T2-B(PP1)'!$G$328"]
["pp1_bl4_11_5_name",{"$f":"'T2-B(PP1)'!$B$329","v":0},"#'T2-B(PP1)'!$B$329"]
["pp1_bl4_11_5_rate_in",{"$f":"'T2-B(PP1)'!$E$329","v":0},"#'T2-B(PP1)'!$E$329"]
["pp1_bl4_11_5_rate_out",{"$f":"'T2-B(PP1)'!$H$329","v":0},"#'T2-B(PP1)'!$H$329"]
["pp1_bl4_11_5_total",{"$f":"'T2-B(PP1)'!$J$329","v":0},"#'T2-B(PP1)'!$J$329"]
["pp1_bl4_11_5_total_in",{"$f":"'T2-B(PP1)'!$F$329","v":0},"#'T2-B(PP1)'!$F$329"]
["pp1_bl4_11_5_total_out",{"$f":"'T2-B(PP1)'!$I$329","v":0},"#'T2-B(PP1)'!$I$329"]
["pp1_bl4_11_5_unit",{"$f":"'T2-B(PP1)'!$C$329","v":0},"#'T2-B(PP1)'!$C$329"]
["pp1_bl4_11_5_unit_in",{"$f":"'T2-B(PP1)'!$D$329","v":0},"#'T2-B(PP1)'!$D$329"]
["pp1_bl4_11_5_units_out",{"$f":"'T2-B(PP1)'!$G$329","v":0},"#'T2-B(PP1)'!$G$329"]
["pp1_bl4_11_6_name",{"$f":"'T2-B(PP1)'!$B$330","v":0},"#'T2-B(PP1)'!$B$330"]
["pp1_bl4_11_6_rate_in",{"$f":"'T2-B(PP1)'!$E$330","v":0},"#'T2-B(PP1)'!$E$330"]
["pp1_bl4_11_6_rate_out",{"$f":"'T2-B(PP1)'!$H$330","v":0},"#'T2-B(PP1)'!$H$330"]
["pp1_bl4_11_6_total",{"$f":"'T2-B(PP1)'!$J$330","v":0},"#'T2-B(PP1)'!$J$330"]
["pp1_bl4_11_6_total_in",{"$f":"'T2-B(PP1)'!$F$330","v":0},"#'T2-B(PP1)'!$F$330"]
["pp1_bl4_11_6_total_out",{"$f":"'T2-B(PP1)'!$I$330","v":0},"#'T2-B(PP1)'!$I$330"]
["pp1_bl4_11_6_unit",{"$f":"'T2-B(PP1)'!$C$330","v":0},"#'T2-B(PP1)'!$C$330"]
["pp1_bl4_11_6_unit_in",{"$f":"'T2-B(PP1)'!$D$330","v":0},"#'T2-B(PP1)'!$D$330"]
["pp1_bl4_11_6_units_out",{"$f":"'T2-B(PP1)'!$G$330","v":0},"#'T2-B(PP1)'!$G$330"]
["pp1_bl4_11_7_name",{"$f":"'T2-B(PP1)'!$B$331","v":0},"#'T2-B(PP1)'!$B$331"]
["pp1_bl4_11_7_rate_in",{"$f":"'T2-B(PP1)'!$E$331","v":0},"#'T2-B(PP1)'!$E$331"]
["pp1_bl4_11_7_rate_out",{"$f":"'T2-B(PP1)'!$H$331","v":0},"#'T2-B(PP1)'!$H$331"]
["pp1_bl4_11_7_total",{"$f":"'T2-B(PP1)'!$J$331","v":0},"#'T2-B(PP1)'!$J$331"]
["pp1_bl4_11_7_total_in",{"$f":"'T2-B(PP1)'!$F$331","v":0},"#'T2-B(PP1)'!$F$331"]
["pp1_bl4_11_7_total_out",{"$f":"'T2-B(PP1)'!$I$331","v":0},"#'T2-B(PP1)'!$I$331"]
["pp1_bl4_11_7_unit",{"$f":"'T2-B(PP1)'!$C$331","v":0},"#'T2-B(PP1)'!$C$331"]
["pp1_bl4_11_7_unit_in",{"$f":"'T2-B(PP1)'!$D$331","v":0},"#'T2-B(PP1)'!$D$331"]
["pp1_bl4_11_7_units_out",{"$f":"'T2-B(PP1)'!$G$331","v":0},"#'T2-B(PP1)'!$G$331"]
["pp1_bl4_11_8_name",{"$f":"'T2-B(PP1)'!$B$332","v":0},"#'T2-B(PP1)'!$B$332"]
["pp1_bl4_11_8_rate_in",{"$f":"'T2-B(PP1)'!$E$332","v":0},"#'T2-B(PP1)'!$E$332"]
["pp1_bl4_11_8_rate_out",{"$f":"'T2-B(PP1)'!$H$332","v":0},"#'T2-B(PP1)'!$H$332"]
["pp1_bl4_11_8_total",{"$f":"'T2-B(PP1)'!$J$332","v":0},"#'T2-B(PP1)'!$J$332"]
["pp1_bl4_11_8_total_in",{"$f":"'T2-B(PP1)'!$F$332","v":0},"#'T2-B(PP1)'!$F$332"]
["pp1_bl4_11_8_total_out",{"$f":"'T2-B(PP1)'!$I$332","v":0},"#'T2-B(PP1)'!$I$332"]
["pp1_bl4_11_8_unit",{"$f":"'T2-B(PP1)'!$C$332","v":0},"#'T2-B(PP1)'!$C$332"]
["pp1_bl4_11_8_unit_in",{"$f":"'T2-B(PP1)'!$D$332","v":0},"#'T2-B(PP1)'!$D$332"]
["pp1_bl4_11_8_units_out",{"$f":"'T2-B(PP1)'!$G$332","v":0},"#'T2-B(PP1)'!$G$332"]
["pp1_bl4_11_9_name",{"$f":"'T2-B(PP1)'!$B$333","v":0},"#'T2-B(PP1)'!$B$333"]
["pp1_bl4_11_9_rate_in",{"$f":"'T2-B(PP1)'!$E$333","v":0},"#'T2-B(PP1)'!$E$333"]
["pp1_bl4_11_9_rate_out",{"$f":"'T2-B(PP1)'!$H$333","v":0},"#'T2-B(PP1)'!$H$333"]
["pp1_bl4_11_9_total",{"$f":"'T2-B(PP1)'!$J$333","v":0},"#'T2-B(PP1)'!$J$333"]
["pp1_bl4_11_9_total_in",{"$f":"'T2-B(PP1)'!$F$333","v":0},"#'T2-B(PP1)'!$F$333"]
["pp1_bl4_11_9_total_out",{"$f":"'T2-B(PP1)'!$I$333","v":0},"#'T2-B(PP1)'!$I$333"]
["pp1_bl4_11_9_unit",{"$f":"'T2-B(PP1)'!$C$333","v":0},"#'T2-B(PP1)'!$C$333"]
["pp1_bl4_11_9_unit_in",{"$f":"'T2-B(PP1)'!$D$333","v":0},"#'T2-B(PP1)'!$D$333"]
["pp1_bl4_11_9_units_out",{"$f":"'T2-B(PP1)'!$G$333","v":0},"#'T2-B(PP1)'!$G$333"]
["pp1_bl4_11_total",{"$f":"'T2-B(PP1)'!$J$324","v":0},"#'T2-B(PP1)'!$J$324"]
["pp1_bl4_11_total_in",{"$f":"'T2-B(PP1)'!$F$324","v":0},"#'T2-B(PP1)'!$F$324"]
["pp1_bl4_11_total_out",{"$f":"'T2-B(PP1)'!$I$324","v":0},"#'T2-B(PP1)'!$I$324"]
["pp1_bl4_12_1_name",{"$f":"'T2-B(PP1)'!$B$346","v":0},"#'T2-B(PP1)'!$B$346"]
["pp1_bl4_12_1_rate_in",{"$f":"'T2-B(PP1)'!$E$346","v":0},"#'T2-B(PP1)'!$E$346"]
["pp1_bl4_12_1_rate_out",{"$f":"'T2-B(PP1)'!$H$346","v":0},"#'T2-B(PP1)'!$H$346"]
["pp1_bl4_12_1_total",{"$f":"'T2-B(PP1)'!$J$346","v":0},"#'T2-B(PP1)'!$J$346"]
["pp1_bl4_12_1_total_in",{"$f":"'T2-B(PP1)'!$F$346","v":0},"#'T2-B(PP1)'!$F$346"]
["pp1_bl4_12_1_total_out",{"$f":"'T2-B(PP1)'!$I$346","v":0},"#'T2-B(PP1)'!$I$346"]
["pp1_bl4_12_1_unit",{"$f":"'T2-B(PP1)'!$C$346","v":0},"#'T2-B(PP1)'!$C$346"]
["pp1_bl4_12_1_unit_in",{"$f":"'T2-B(PP1)'!$D$346","v":0},"#'T2-B(PP1)'!$D$346"]
["pp1_bl4_12_1_units_out",{"$f":"'T2-B(PP1)'!$G$346","v":0},"#'T2-B(PP1)'!$G$346"]
["pp1_bl4_12_10_name",{"$f":"'T2-B(PP1)'!$B$355","v":0},"#'T2-B(PP1)'!$B$355"]
["pp1_bl4_12_10_rate_in",{"$f":"'T2-B(PP1)'!$E$355","v":0},"#'T2-B(PP1)'!$E$355"]
["pp1_bl4_12_10_rate_out",{"$f":"'T2-B(PP1)'!$H$355","v":0},"#'T2-B(PP1)'!$H$355"]
["pp1_bl4_12_10_total",{"$f":"'T2-B(PP1)'!$J$355","v":0},"#'T2-B(PP1)'!$J$355"]
["pp1_bl4_12_10_total_in",{"$f":"'T2-B(PP1)'!$F$355","v":0},"#'T2-B(PP1)'!$F$355"]
["pp1_bl4_12_10_total_out",{"$f":"'T2-B(PP1)'!$I$355","v":0},"#'T2-B(PP1)'!$I$355"]
["pp1_bl4_12_10_unit",{"$f":"'T2-B(PP1)'!$C$355","v":0},"#'T2-B(PP1)'!$C$355"]
["pp1_bl4_12_10_unit_in",{"$f":"'T2-B(PP1)'!$D$355","v":0},"#'T2-B(PP1)'!$D$355"]
["pp1_bl4_12_10_units_out",{"$f":"'T2-B(PP1)'!$G$355","v":0},"#'T2-B(PP1)'!$G$355"]
["pp1_bl4_12_2_name",{"$f":"'T2-B(PP1)'!$B$347","v":0},"#'T2-B(PP1)'!$B$347"]
["pp1_bl4_12_2_rate_in",{"$f":"'T2-B(PP1)'!$E$347","v":0},"#'T2-B(PP1)'!$E$347"]
["pp1_bl4_12_2_rate_out",{"$f":"'T2-B(PP1)'!$H$347","v":0},"#'T2-B(PP1)'!$H$347"]
["pp1_bl4_12_2_total",{"$f":"'T2-B(PP1)'!$J$347","v":0},"#'T2-B(PP1)'!$J$347"]
["pp1_bl4_12_2_total_in",{"$f":"'T2-B(PP1)'!$F$347","v":0},"#'T2-B(PP1)'!$F$347"]
["pp1_bl4_12_2_total_out",{"$f":"'T2-B(PP1)'!$I$347","v":0},"#'T2-B(PP1)'!$I$347"]
["pp1_bl4_12_2_unit",{"$f":"'T2-B(PP1)'!$C$347","v":0},"#'T2-B(PP1)'!$C$347"]
["pp1_bl4_12_2_unit_in",{"$f":"'T2-B(PP1)'!$D$347","v":0},"#'T2-B(PP1)'!$D$347"]
["pp1_bl4_12_2_units_out",{"$f":"'T2-B(PP1)'!$G$347","v":0},"#'T2-B(PP1)'!$G$347"]
["pp1_bl4_12_3_name",{"$f":"'T2-B(PP1)'!$B$348","v":0},"#'T2-B(PP1)'!$B$348"]
["pp1_bl4_12_3_rate_in",{"$f":"'T2-B(PP1)'!$E$348","v":0},"#'T2-B(PP1)'!$E$348"]
["pp1_bl4_12_3_rate_out",{"$f":"'T2-B(PP1)'!$H$348","v":0},"#'T2-B(PP1)'!$H$348"]
["pp1_bl4_12_3_total",{"$f":"'T2-B(PP1)'!$J$348","v":0},"#'T2-B(PP1)'!$J$348"]
["pp1_bl4_12_3_total_in",{"$f":"'T2-B(PP1)'!$F$348","v":0},"#'T2-B(PP1)'!$F$348"]
["pp1_bl4_12_3_total_out",{"$f":"'T2-B(PP1)'!$I$348","v":0},"#'T2-B(PP1)'!$I$348"]
["pp1_bl4_12_3_unit",{"$f":"'T2-B(PP1)'!$C$348","v":0},"#'T2-B(PP1)'!$C$348"]
["pp1_bl4_12_3_unit_in",{"$f":"'T2-B(PP1)'!$D$348","v":0},"#'T2-B(PP1)'!$D$348"]
["pp1_bl4_12_3_units_out",{"$f":"'T2-B(PP1)'!$G$348","v":0},"#'T2-B(PP1)'!$G$348"]
["pp1_bl4_12_4_name",{"$f":"'T2-B(PP1)'!$B$349","v":0},"#'T2-B(PP1)'!$B$349"]
["pp1_bl4_12_4_rate_in",{"$f":"'T2-B(PP1)'!$E$349","v":0},"#'T2-B(PP1)'!$E$349"]
["pp1_bl4_12_4_rate_out",{"$f":"'T2-B(PP1)'!$H$349","v":0},"#'T2-B(PP1)'!$H$349"]
["pp1_bl4_12_4_total",{"$f":"'T2-B(PP1)'!$J$349","v":0},"#'T2-B(PP1)'!$J$349"]
["pp1_bl4_12_4_total_in",{"$f":"'T2-B(PP1)'!$F$349","v":0},"#'T2-B(PP1)'!$F$349"]
["pp1_bl4_12_4_total_out",{"$f":"'T2-B(PP1)'!$I$349","v":0},"#'T2-B(PP1)'!$I$349"]
["pp1_bl4_12_4_unit",{"$f":"'T2-B(PP1)'!$C$349","v":0},"#'T2-B(PP1)'!$C$349"]
["pp1_bl4_12_4_unit_in",{"$f":"'T2-B(PP1)'!$D$349","v":0},"#'T2-B(PP1)'!$D$349"]
["pp1_bl4_12_4_units_out",{"$f":"'T2-B(PP1)'!$G$349","v":0},"#'T2-B(PP1)'!$G$349"]
["pp1_bl4_12_5_name",{"$f":"'T2-B(PP1)'!$B$350","v":0},"#'T2-B(PP1)'!$B$350"]
["pp1_bl4_12_5_rate_in",{"$f":"'T2-B(PP1)'!$E$350","v":0},"#'T2-B(PP1)'!$E$350"]
["pp1_bl4_12_5_rate_out",{"$f":"'T2-B(PP1)'!$H$350","v":0},"#'T2-B(PP1)'!$H$350"]
["pp1_bl4_12_5_total",{"$f":"'T2-B(PP1)'!$J$350","v":0},"#'T2-B(PP1)'!$J$350"]
["pp1_bl4_12_5_total_in",{"$f":"'T2-B(PP1)'!$F$350","v":0},"#'T2-B(PP1)'!$F$350"]
["pp1_bl4_12_5_total_out",{"$f":"'T2-B(PP1)'!$I$350","v":0},"#'T2-B(PP1)'!$I$350"]
["pp1_bl4_12_5_unit",{"$f":"'T2-B(PP1)'!$C$350","v":0},"#'T2-B(PP1)'!$C$350"]
["pp1_bl4_12_5_unit_in",{"$f":"'T2-B(PP1)'!$D$350","v":0},"#'T2-B(PP1)'!$D$350"]
["pp1_bl4_12_5_units_out",{"$f":"'T2-B(PP1)'!$G$350","v":0},"#'T2-B(PP1)'!$G$350"]
["pp1_bl4_12_6_name",{"$f":"'T2-B(PP1)'!$B$351","v":0},"#'T2-B(PP1)'!$B$351"]
["pp1_bl4_12_6_rate_in",{"$f":"'T2-B(PP1)'!$E$351","v":0},"#'T2-B(PP1)'!$E$351"]
["pp1_bl4_12_6_rate_out",{"$f":"'T2-B(PP1)'!$H$351","v":0},"#'T2-B(PP1)'!$H$351"]
["pp1_bl4_12_6_total",{"$f":"'T2-B(PP1)'!$J$351","v":0},"#'T2-B(PP1)'!$J$351"]
["pp1_bl4_12_6_total_in",{"$f":"'T2-B(PP1)'!$F$351","v":0},"#'T2-B(PP1)'!$F$351"]
["pp1_bl4_12_6_total_out",{"$f":"'T2-B(PP1)'!$I$351","v":0},"#'T2-B(PP1)'!$I$351"]
["pp1_bl4_12_6_unit",{"$f":"'T2-B(PP1)'!$C$351","v":0},"#'T2-B(PP1)'!$C$351"]
["pp1_bl4_12_6_unit_in",{"$f":"'T2-B(PP1)'!$D$351","v":0},"#'T2-B(PP1)'!$D$351"]
["pp1_bl4_12_6_units_out",{"$f":"'T2-B(PP1)'!$G$351","v":0},"#'T2-B(PP1)'!$G$351"]
["pp1_bl4_12_7_name",{"$f":"'T2-B(PP1)'!$B$352","v":0},"#'T2-B(PP1)'!$B$352"]
["pp1_bl4_12_7_rate_in",{"$f":"'T2-B(PP1)'!$E$352","v":0},"#'T2-B(PP1)'!$E$352"]
["pp1_bl4_12_7_rate_out",{"$f":"'T2-B(PP1)'!$H$352","v":0},"#'T2-B(PP1)'!$H$352"]
["pp1_bl4_12_7_total",{"$f":"'T2-B(PP1)'!$J$352","v":0},"#'T2-B(PP1)'!$J$352"]
["pp1_bl4_12_7_total_in",{"$f":"'T2-B(PP1)'!$F$352","v":0},"#'T2-B(PP1)'!$F$352"]
["pp1_bl4_12_7_total_out",{"$f":"'T2-B(PP1)'!$I$352","v":0},"#'T2-B(PP1)'!$I$352"]
["pp1_bl4_12_7_unit",{"$f":"'T2-B(PP1)'!$C$352","v":0},"#'T2-B(PP1)'!$C$352"]
["pp1_bl4_12_7_unit_in",{"$f":"'T2-B(PP1)'!$D$352","v":0},"#'T2-B(PP1)'!$D$352"]
["pp1_bl4_12_7_units_out",{"$f":"'T2-B(PP1)'!$G$352","v":0},"#'T2-B(PP1)'!$G$352"]
["pp1_bl4_12_8_name",{"$f":"'T2-B(PP1)'!$B$353","v":0},"#'T2-B(PP1)'!$B$353"]
["pp1_bl4_12_8_rate_in",{"$f":"'T2-B(PP1)'!$E$353","v":0},"#'T2-B(PP1)'!$E$353"]
["pp1_bl4_12_8_rate_out",{"$f":"'T2-B(PP1)'!$H$353","v":0},"#'T2-B(PP1)'!$H$353"]
["pp1_bl4_12_8_total",{"$f":"'T2-B(PP1)'!$J$353","v":0},"#'T2-B(PP1)'!$J$353"]
["pp1_bl4_12_8_total_in",{"$f":"'T2-B(PP1)'!$F$353","v":0},"#'T2-B(PP1)'!$F$353"]
["pp1_bl4_12_8_total_out",{"$f":"'T2-B(PP1)'!$I$353","v":0},"#'T2-B(PP1)'!$I$353"]
["pp1_bl4_12_8_unit",{"$f":"'T2-B(PP1)'!$C$353","v":0},"#'T2-B(PP1)'!$C$353"]
["pp1_bl4_12_8_unit_in",{"$f":"'T2-B(PP1)'!$D$353","v":0},"#'T2-B(PP1)'!$D$353"]
["pp1_bl4_12_8_units_out",{"$f":"'T2-B(PP1)'!$G$353","v":0},"#'T2-B(PP1)'!$G$353"]
["pp1_bl4_12_9_name",{"$f":"'T2-B(PP1)'!$B$354","v":0},"#'T2-B(PP1)'!$B$354"]
["pp1_bl4_12_9_rate_in",{"$f":"'T2-B(PP1)'!$E$354","v":0},"#'T2-B(PP1)'!$E$354"]
["pp1_bl4_12_9_rate_out",{"$f":"'T2-B(PP1)'!$H$354","v":0},"#'T2-B(PP1)'!$H$354"]
["pp1_bl4_12_9_total",{"$f":"'T2-B(PP1)'!$J$354","v":0},"#'T2-B(PP1)'!$J$354"]
["pp1_bl4_12_9_total_in",{"$f":"'T2-B(PP1)'!$F$354","v":0},"#'T2-B(PP1)'!$F$354"]
["pp1_bl4_12_9_total_out",{"$f":"'T2-B(PP1)'!$I$354","v":0},"#'T2-B(PP1)'!$I$354"]
["pp1_bl4_12_9_unit",{"$f":"'T2-B(PP1)'!$C$354","v":0},"#'T2-B(PP1)'!$C$354"]
["pp1_bl4_12_9_unit_in",{"$f":"'T2-B(PP1)'!$D$354","v":0},"#'T2-B(PP1)'!$D$354"]
["pp1_bl4_12_9_units_out",{"$f":"'T2-B(PP1)'!$G$354","v":0},"#'T2-B(PP1)'!$G$354"]
["pp1_bl4_12_total",{"$f":"'T2-B(PP1)'!$J$345","v":0},"#'T2-B(PP1)'!$J$345"]
["pp1_bl4_12_total_in",{"$f":"'T2-B(PP1)'!$F$345","v":0},"#'T2-B(PP1)'!$F$345"]
["pp1_bl4_12_total_out",{"$f":"'T2-B(PP1)'!$I$345","v":0},"#'T2-B(PP1)'!$I$345"]
["pp1_bl4_2_1_name",{"$f":"'T2-B(PP1)'!$B$136","v":0},"#'T2-B(PP1)'!$B$136"]
["pp1_bl4_2_1_rate_in",{"$f":"'T2-B(PP1)'!$E$136","v":0},"#'T2-B(PP1)'!$E$136"]
["pp1_bl4_2_1_rate_out",{"$f":"'T2-B(PP1)'!$H$136","v":0},"#'T2-B(PP1)'!$H$136"]
["pp1_bl4_2_1_total",{"$f":"'T2-B(PP1)'!$J$136","v":0},"#'T2-B(PP1)'!$J$136"]
["pp1_bl4_2_1_total_in",{"$f":"'T2-B(PP1)'!$F$136","v":0},"#'T2-B(PP1)'!$F$136"]
["pp1_bl4_2_1_total_out",{"$f":"'T2-B(PP1)'!$I$136","v":0},"#'T2-B(PP1)'!$I$136"]
["pp1_bl4_2_1_unit",{"$f":"'T2-B(PP1)'!$C$136","v":0},"#'T2-B(PP1)'!$C$136"]
["pp1_bl4_2_1_unit_in",{"$f":"'T2-B(PP1)'!$D$136","v":0},"#'T2-B(PP1)'!$D$136"]
["pp1_bl4_2_1_units_out",{"$f":"'T2-B(PP1)'!$G$136","v":0},"#'T2-B(PP1)'!$G$136"]
["pp1_bl4_2_10_name",{"$f":"'T2-B(PP1)'!$B$145","v":0},"#'T2-B(PP1)'!$B$145"]
["pp1_bl4_2_10_rate_in",{"$f":"'T2-B(PP1)'!$E$145","v":0},"#'T2-B(PP1)'!$E$145"]
["pp1_bl4_2_10_rate_out",{"$f":"'T2-B(PP1)'!$H$145","v":0},"#'T2-B(PP1)'!$H$145"]
["pp1_bl4_2_10_total",{"$f":"'T2-B(PP1)'!$J$145","v":0},"#'T2-B(PP1)'!$J$145"]
["pp1_bl4_2_10_total_in",{"$f":"'T2-B(PP1)'!$F$145","v":0},"#'T2-B(PP1)'!$F$145"]
["pp1_bl4_2_10_total_out",{"$f":"'T2-B(PP1)'!$I$145","v":0},"#'T2-B(PP1)'!$I$145"]
["pp1_bl4_2_10_unit",{"$f":"'T2-B(PP1)'!$C$145","v":0},"#'T2-B(PP1)'!$C$145"]
["pp1_bl4_2_10_unit_in",{"$f":"'T2-B(PP1)'!$D$145","v":0},"#'T2-B(PP1)'!$D$145"]
["pp1_bl4_2_10_units_out",{"$f":"'T2-B(PP1)'!$G$145","v":0},"#'T2-B(PP1)'!$G$145"]
["pp1_bl4_2_2_name",{"$f":"'T2-B(PP1)'!$B$137","v":0},"#'T2-B(PP1)'!$B$137"]
["pp1_bl4_2_2_rate_in",{"$f":"'T2-B(PP1)'!$E$137","v":0},"#'T2-B(PP1)'!$E$137"]
["pp1_bl4_2_2_rate_out",{"$f":"'T2-B(PP1)'!$H$137","v":0},"#'T2-B(PP1)'!$H$137"]
["pp1_bl4_2_2_total",{"$f":"'T2-B(PP1)'!$J$137","v":0},"#'T2-B(PP1)'!$J$137"]
["pp1_bl4_2_2_total_in",{"$f":"'T2-B(PP1)'!$F$137","v":0},"#'T2-B(PP1)'!$F$137"]
["pp1_bl4_2_2_total_out",{"$f":"'T2-B(PP1)'!$I$137","v":0},"#'T2-B(PP1)'!$I$137"]
["pp1_bl4_2_2_unit",{"$f":"'T2-B(PP1)'!$C$137","v":0},"#'T2-B(PP1)'!$C$137"]
["pp1_bl4_2_2_unit_in",{"$f":"'T2-B(PP1)'!$D$137","v":0},"#'T2-B(PP1)'!$D$137"]
["pp1_bl4_2_2_units_out",{"$f":"'T2-B(PP1)'!$G$137","v":0},"#'T2-B(PP1)'!$G$137"]
["pp1_bl4_2_3_name",{"$f":"'T2-B(PP1)'!$B$138","v":0},"#'T2-B(PP1)'!$B$138"]
["pp1_bl4_2_3_rate_in",{"$f":"'T2-B(PP1)'!$E$138","v":0},"#'T2-B(PP1)'!$E$138"]
["pp1_bl4_2_3_rate_out",{"$f":"'T2-B(PP1)'!$H$138","v":0},"#'T2-B(PP1)'!$H$138"]
["pp1_bl4_2_3_total",{"$f":"'T2-B(PP1)'!$J$138","v":0},"#'T2-B(PP1)'!$J$138"]
["pp1_bl4_2_3_total_in",{"$f":"'T2-B(PP1)'!$F$138","v":0},"#'T2-B(PP1)'!$F$138"]
["pp1_bl4_2_3_total_out",{"$f":"'T2-B(PP1)'!$I$138","v":0},"#'T2-B(PP1)'!$I$138"]
["pp1_bl4_2_3_unit",{"$f":"'T2-B(PP1)'!$C$138","v":0},"#'T2-B(PP1)'!$C$138"]
["pp1_bl4_2_3_unit_in",{"$f":"'T2-B(PP1)'!$D$138","v":0},"#'T2-B(PP1)'!$D$138"]
["pp1_bl4_2_3_units_out",{"$f":"'T2-B(PP1)'!$G$138","v":0},"#'T2-B(PP1)'!$G$138"]
["pp1_bl4_2_4_name",{"$f":"'T2-B(PP1)'!$B$139","v":0},"#'T2-B(PP1)'!$B$139"]
["pp1_bl4_2_4_rate_in",{"$f":"'T2-B(PP1)'!$E$139","v":0},"#'T2-B(PP1)'!$E$139"]
["pp1_bl4_2_4_rate_out",{"$f":"'T2-B(PP1)'!$H$139","v":0},"#'T2-B(PP1)'!$H$139"]
["pp1_bl4_2_4_total",{"$f":"'T2-B(PP1)'!$J$139","v":0},"#'T2-B(PP1)'!$J$139"]
["pp1_bl4_2_4_total_in",{"$f":"'T2-B(PP1)'!$F$139","v":0},"#'T2-B(PP1)'!$F$139"]
["pp1_bl4_2_4_total_out",{"$f":"'T2-B(PP1)'!$I$139","v":0},"#'T2-B(PP1)'!$I$139"]
["pp1_bl4_2_4_unit",{"$f":"'T2-B(PP1)'!$C$139","v":0},"#'T2-B(PP1)'!$C$139"]
["pp1_bl4_2_4_unit_in",{"$f":"'T2-B(PP1)'!$D$139","v":0},"#'T2-B(PP1)'!$D$139"]
["pp1_bl4_2_4_units_out",{"$f":"'T2-B(PP1)'!$G$139","v":0},"#'T2-B(PP1)'!$G$139"]
["pp1_bl4_2_5_name",{"$f":"'T2-B(PP1)'!$B$140","v":0},"#'T2-B(PP1)'!$B$140"]
["pp1_bl4_2_5_rate_in",{"$f":"'T2-B(PP1)'!$E$140","v":0},"#'T2-B(PP1)'!$E$140"]
["pp1_bl4_2_5_rate_out",{"$f":"'T2-B(PP1)'!$H$140","v":0},"#'T2-B(PP1)'!$H$140"]
["pp1_bl4_2_5_total",{"$f":"'T2-B(PP1)'!$J$140","v":0},"#'T2-B(PP1)'!$J$140"]
["pp1_bl4_2_5_total_in",{"$f":"'T2-B(PP1)'!$F$140","v":0},"#'T2-B(PP1)'!$F$140"]
["pp1_bl4_2_5_total_out",{"$f":"'T2-B(PP1)'!$I$140","v":0},"#'T2-B(PP1)'!$I$140"]
["pp1_bl4_2_5_unit",{"$f":"'T2-B(PP1)'!$C$140","v":0},"#'T2-B(PP1)'!$C$140"]
["pp1_bl4_2_5_unit_in",{"$f":"'T2-B(PP1)'!$D$140","v":0},"#'T2-B(PP1)'!$D$140"]
["pp1_bl4_2_5_units_out",{"$f":"'T2-B(PP1)'!$G$140","v":0},"#'T2-B(PP1)'!$G$140"]
["pp1_bl4_2_6_name",{"$f":"'T2-B(PP1)'!$B$141","v":0},"#'T2-B(PP1)'!$B$141"]
["pp1_bl4_2_6_rate_in",{"$f":"'T2-B(PP1)'!$E$141","v":0},"#'T2-B(PP1)'!$E$141"]
["pp1_bl4_2_6_rate_out",{"$f":"'T2-B(PP1)'!$H$141","v":0},"#'T2-B(PP1)'!$H$141"]
["pp1_bl4_2_6_total",{"$f":"'T2-B(PP1)'!$J$141","v":0},"#'T2-B(PP1)'!$J$141"]
["pp1_bl4_2_6_total_in",{"$f":"'T2-B(PP1)'!$F$141","v":0},"#'T2-B(PP1)'!$F$141"]
["pp1_bl4_2_6_total_out",{"$f":"'T2-B(PP1)'!$I$141","v":0},"#'T2-B(PP1)'!$I$141"]
["pp1_bl4_2_6_unit",{"$f":"'T2-B(PP1)'!$C$141","v":0},"#'T2-B(PP1)'!$C$141"]
["pp1_bl4_2_6_unit_in",{"$f":"'T2-B(PP1)'!$D$141","v":0},"#'T2-B(PP1)'!$D$141"]
["pp1_bl4_2_6_units_out",{"$f":"'T2-B(PP1)'!$G$141","v":0},"#'T2-B(PP1)'!$G$141"]
["pp1_bl4_2_7_name",{"$f":"'T2-B(PP1)'!$B$142","v":0},"#'T2-B(PP1)'!$B$142"]
["pp1_bl4_2_7_rate_in",{"$f":"'T2-B(PP1)'!$E$142","v":0},"#'T2-B(PP1)'!$E$142"]
["pp1_bl4_2_7_rate_out",{"$f":"'T2-B(PP1)'!$H$142","v":0},"#'T2-B(PP1)'!$H$142"]
["pp1_bl4_2_7_total",{"$f":"'T2-B(PP1)'!$J$142","v":0},"#'T2-B(PP1)'!$J$142"]
["pp1_bl4_2_7_total_in",{"$f":"'T2-B(PP1)'!$F$142","v":0},"#'T2-B(PP1)'!$F$142"]
["pp1_bl4_2_7_total_out",{"$f":"'T2-B(PP1)'!$I$142","v":0},"#'T2-B(PP1)'!$I$142"]
["pp1_bl4_2_7_unit",{"$f":"'T2-B(PP1)'!$C$142","v":0},"#'T2-B(PP1)'!$C$142"]
["pp1_bl4_2_7_unit_in",{"$f":"'T2-B(PP1)'!$D$142","v":0},"#'T2-B(PP1)'!$D$142"]
["pp1_bl4_2_7_units_out",{"$f":"'T2-B(PP1)'!$G$142","v":0},"#'T2-B(PP1)'!$G$142"]
["pp1_bl4_2_8_name",{"$f":"'T2-B(PP1)'!$B$143","v":0},"#'T2-B(PP1)'!$B$143"]
["pp1_bl4_2_8_rate_in",{"$f":"'T2-B(PP1)'!$E$143","v":0},"#'T2-B(PP1)'!$E$143"]
["pp1_bl4_2_8_rate_out",{"$f":"'T2-B(PP1)'!$H$143","v":0},"#'T2-B(PP1)'!$H$143"]
["pp1_bl4_2_8_total",{"$f":"'T2-B(PP1)'!$J$143","v":0},"#'T2-B(PP1)'!$J$143"]
["pp1_bl4_2_8_total_in",{"$f":"'T2-B(PP1)'!$F$143","v":0},"#'T2-B(PP1)'!$F$143"]
["pp1_bl4_2_8_total_out",{"$f":"'T2-B(PP1)'!$I$143","v":0},"#'T2-B(PP1)'!$I$143"]
["pp1_bl4_2_8_unit",{"$f":"'T2-B(PP1)'!$C$143","v":0},"#'T2-B(PP1)'!$C$143"]
["pp1_bl4_2_8_unit_in",{"$f":"'T2-B(PP1)'!$D$143","v":0},"#'T2-B(PP1)'!$D$143"]
["pp1_bl4_2_8_units_out",{"$f":"'T2-B(PP1)'!$G$143","v":0},"#'T2-B(PP1)'!$G$143"]
["pp1_bl4_2_9_name",{"$f":"'T2-B(PP1)'!$B$144","v":0},"#'T2-B(PP1)'!$B$144"]
["pp1_bl4_2_9_rate_in",{"$f":"'T2-B(PP1)'!$E$144","v":0},"#'T2-B(PP1)'!$E$144"]
["pp1_bl4_2_9_rate_out",{"$f":"'T2-B(PP1)'!$H$144","v":0},"#'T2-B(PP1)'!$H$144"]
["pp1_bl4_2_9_total",{"$f":"'T2-B(PP1)'!$J$144","v":0},"#'T2-B(PP1)'!$J$144"]
["pp1_bl4_2_9_total_in",{"$f":"'T2-B(PP1)'!$F$144","v":0},"#'T2-B(PP1)'!$F$144"]
["pp1_bl4_2_9_total_out",{"$f":"'T2-B(PP1)'!$I$144","v":0},"#'T2-B(PP1)'!$I$144"]
["pp1_bl4_2_9_unit",{"$f":"'T2-B(PP1)'!$C$144","v":0},"#'T2-B(PP1)'!$C$144"]
["pp1_bl4_2_9_unit_in",{"$f":"'T2-B(PP1)'!$D$144","v":0},"#'T2-B(PP1)'!$D$144"]
["pp1_bl4_2_9_units_out",{"$f":"'T2-B(PP1)'!$G$144","v":0},"#'T2-B(PP1)'!$G$144"]
["pp1_bl4_2_total",{"$f":"'T2-B(PP1)'!$J$135","v":0},"#'T2-B(PP1)'!$J$135"]
["pp1_bl4_2_total_in",{"$f":"'T2-B(PP1)'!$F$135","v":0},"#'T2-B(PP1)'!$F$135"]
["pp1_bl4_2_total_out",{"$f":"'T2-B(PP1)'!$I$135","v":0},"#'T2-B(PP1)'!$I$135"]
["pp1_bl4_3_1_name",{"$f":"'T2-B(PP1)'!$B$157","v":0},"#'T2-B(PP1)'!$B$157"]
["pp1_bl4_3_1_rate_in",{"$f":"'T2-B(PP1)'!$E$157","v":0},"#'T2-B(PP1)'!$E$157"]
["pp1_bl4_3_1_rate_out",{"$f":"'T2-B(PP1)'!$H$157","v":0},"#'T2-B(PP1)'!$H$157"]
["pp1_bl4_3_1_total",{"$f":"'T2-B(PP1)'!$J$157","v":0},"#'T2-B(PP1)'!$J$157"]
["pp1_bl4_3_1_total_in",{"$f":"'T2-B(PP1)'!$F$157","v":0},"#'T2-B(PP1)'!$F$157"]
["pp1_bl4_3_1_total_out",{"$f":"'T2-B(PP1)'!$I$157","v":0},"#'T2-B(PP1)'!$I$157"]
["pp1_bl4_3_1_unit",{"$f":"'T2-B(PP1)'!$C$157","v":0},"#'T2-B(PP1)'!$C$157"]
["pp1_bl4_3_1_unit_in",{"$f":"'T2-B(PP1)'!$D$157","v":0},"#'T2-B(PP1)'!$D$157"]
["pp1_bl4_3_1_units_out",{"$f":"'T2-B(PP1)'!$G$157","v":0},"#'T2-B(PP1)'!$G$157"]
["pp1_bl4_3_10_name",{"$f":"'T2-B(PP1)'!$B$166","v":0},"#'T2-B(PP1)'!$B$166"]
["pp1_bl4_3_10_rate_in",{"$f":"'T2-B(PP1)'!$E$166","v":0},"#'T2-B(PP1)'!$E$166"]
["pp1_bl4_3_10_rate_out",{"$f":"'T2-B(PP1)'!$H$166","v":0},"#'T2-B(PP1)'!$H$166"]
["pp1_bl4_3_10_total",{"$f":"'T2-B(PP1)'!$J$166","v":0},"#'T2-B(PP1)'!$J$166"]
["pp1_bl4_3_10_total_in",{"$f":"'T2-B(PP1)'!$F$166","v":0},"#'T2-B(PP1)'!$F$166"]
["pp1_bl4_3_10_total_out",{"$f":"'T2-B(PP1)'!$I$166","v":0},"#'T2-B(PP1)'!$I$166"]
["pp1_bl4_3_10_unit",{"$f":"'T2-B(PP1)'!$C$166","v":0},"#'T2-B(PP1)'!$C$166"]
["pp1_bl4_3_10_unit_in",{"$f":"'T2-B(PP1)'!$D$166","v":0},"#'T2-B(PP1)'!$D$166"]
["pp1_bl4_3_10_units_out",{"$f":"'T2-B(PP1)'!$G$166","v":0},"#'T2-B(PP1)'!$G$166"]
["pp1_bl4_3_2_name",{"$f":"'T2-B(PP1)'!$B$158","v":0},"#'T2-B(PP1)'!$B$158"]
["pp1_bl4_3_2_rate_in",{"$f":"'T2-B(PP1)'!$E$158","v":0},"#'T2-B(PP1)'!$E$158"]
["pp1_bl4_3_2_rate_out",{"$f":"'T2-B(PP1)'!$H$158","v":0},"#'T2-B(PP1)'!$H$158"]
["pp1_bl4_3_2_total",{"$f":"'T2-B(PP1)'!$J$158","v":0},"#'T2-B(PP1)'!$J$158"]
["pp1_bl4_3_2_total_in",{"$f":"'T2-B(PP1)'!$F$158","v":0},"#'T2-B(PP1)'!$F$158"]
["pp1_bl4_3_2_total_out",{"$f":"'T2-B(PP1)'!$I$158","v":0},"#'T2-B(PP1)'!$I$158"]
["pp1_bl4_3_2_unit",{"$f":"'T2-B(PP1)'!$C$158","v":0},"#'T2-B(PP1)'!$C$158"]
["pp1_bl4_3_2_unit_in",{"$f":"'T2-B(PP1)'!$D$158","v":0},"#'T2-B(PP1)'!$D$158"]
["pp1_bl4_3_2_units_out",{"$f":"'T2-B(PP1)'!$G$158","v":0},"#'T2-B(PP1)'!$G$158"]
["pp1_bl4_3_3_name",{"$f":"'T2-B(PP1)'!$B$159","v":0},"#'T2-B(PP1)'!$B$159"]
["pp1_bl4_3_3_rate_in",{"$f":"'T2-B(PP1)'!$E$159","v":0},"#'T2-B(PP1)'!$E$159"]
["pp1_bl4_3_3_rate_out",{"$f":"'T2-B(PP1)'!$H$159","v":0},"#'T2-B(PP1)'!$H$159"]
["pp1_bl4_3_3_total",{"$f":"'T2-B(PP1)'!$J$159","v":0},"#'T2-B(PP1)'!$J$159"]
["pp1_bl4_3_3_total_in",{"$f":"'T2-B(PP1)'!$F$159","v":0},"#'T2-B(PP1)'!$F$159"]
["pp1_bl4_3_3_total_out",{"$f":"'T2-B(PP1)'!$I$159","v":0},"#'T2-B(PP1)'!$I$159"]
["pp1_bl4_3_3_unit",{"$f":"'T2-B(PP1)'!$C$159","v":0},"#'T2-B(PP1)'!$C$159"]
["pp1_bl4_3_3_unit_in",{"$f":"'T2-B(PP1)'!$D$159","v":0},"#'T2-B(PP1)'!$D$159"]
["pp1_bl4_3_3_units_out",{"$f":"'T2-B(PP1)'!$G$159","v":0},"#'T2-B(PP1)'!$G$159"]
["pp1_bl4_3_4_name",{"$f":"'T2-B(PP1)'!$B$160","v":0},"#'T2-B(PP1)'!$B$160"]
["pp1_bl4_3_4_rate_in",{"$f":"'T2-B(PP1)'!$E$160","v":0},"#'T2-B(PP1)'!$E$160"]
["pp1_bl4_3_4_rate_out",{"$f":"'T2-B(PP1)'!$H$160","v":0},"#'T2-B(PP1)'!$H$160"]
["pp1_bl4_3_4_total",{"$f":"'T2-B(PP1)'!$J$160","v":0},"#'T2-B(PP1)'!$J$160"]
["pp1_bl4_3_4_total_in",{"$f":"'T2-B(PP1)'!$F$160","v":0},"#'T2-B(PP1)'!$F$160"]
["pp1_bl4_3_4_total_out",{"$f":"'T2-B(PP1)'!$I$160","v":0},"#'T2-B(PP1)'!$I$160"]
["pp1_bl4_3_4_unit",{"$f":"'T2-B(PP1)'!$C$160","v":0},"#'T2-B(PP1)'!$C$160"]
["pp1_bl4_3_4_unit_in",{"$f":"'T2-B(PP1)'!$D$160","v":0},"#'T2-B(PP1)'!$D$160"]
["pp1_bl4_3_4_units_out",{"$f":"'T2-B(PP1)'!$G$160","v":0},"#'T2-B(PP1)'!$G$160"]
["pp1_bl4_3_5_name",{"$f":"'T2-B(PP1)'!$B$161","v":0},"#'T2-B(PP1)'!$B$161"]
["pp1_bl4_3_5_rate_in",{"$f":"'T2-B(PP1)'!$E$161","v":0},"#'T2-B(PP1)'!$E$161"]
["pp1_bl4_3_5_rate_out",{"$f":"'T2-B(PP1)'!$H$161","v":0},"#'T2-B(PP1)'!$H$161"]
["pp1_bl4_3_5_total",{"$f":"'T2-B(PP1)'!$J$161","v":0},"#'T2-B(PP1)'!$J$161"]
["pp1_bl4_3_5_total_in",{"$f":"'T2-B(PP1)'!$F$161","v":0},"#'T2-B(PP1)'!$F$161"]
["pp1_bl4_3_5_total_out",{"$f":"'T2-B(PP1)'!$I$161","v":0},"#'T2-B(PP1)'!$I$161"]
["pp1_bl4_3_5_unit",{"$f":"'T2-B(PP1)'!$C$161","v":0},"#'T2-B(PP1)'!$C$161"]
["pp1_bl4_3_5_unit_in",{"$f":"'T2-B(PP1)'!$D$161","v":0},"#'T2-B(PP1)'!$D$161"]
["pp1_bl4_3_5_units_out",{"$f":"'T2-B(PP1)'!$G$161","v":0},"#'T2-B(PP1)'!$G$161"]
["pp1_bl4_3_6_name",{"$f":"'T2-B(PP1)'!$B$162","v":0},"#'T2-B(PP1)'!$B$162"]
["pp1_bl4_3_6_rate_in",{"$f":"'T2-B(PP1)'!$E$162","v":0},"#'T2-B(PP1)'!$E$162"]
["pp1_bl4_3_6_rate_out",{"$f":"'T2-B(PP1)'!$H$162","v":0},"#'T2-B(PP1)'!$H$162"]
["pp1_bl4_3_6_total",{"$f":"'T2-B(PP1)'!$J$162","v":0},"#'T2-B(PP1)'!$J$162"]
["pp1_bl4_3_6_total_in",{"$f":"'T2-B(PP1)'!$F$162","v":0},"#'T2-B(PP1)'!$F$162"]
["pp1_bl4_3_6_total_out",{"$f":"'T2-B(PP1)'!$I$162","v":0},"#'T2-B(PP1)'!$I$162"]
["pp1_bl4_3_6_unit",{"$f":"'T2-B(PP1)'!$C$162","v":0},"#'T2-B(PP1)'!$C$162"]
["pp1_bl4_3_6_unit_in",{"$f":"'T2-B(PP1)'!$D$162","v":0},"#'T2-B(PP1)'!$D$162"]
["pp1_bl4_3_6_units_out",{"$f":"'T2-B(PP1)'!$G$162","v":0},"#'T2-B(PP1)'!$G$162"]
["pp1_bl4_3_7_name",{"$f":"'T2-B(PP1)'!$B$163","v":0},"#'T2-B(PP1)'!$B$163"]
["pp1_bl4_3_7_rate_in",{"$f":"'T2-B(PP1)'!$E$163","v":0},"#'T2-B(PP1)'!$E$163"]
["pp1_bl4_3_7_rate_out",{"$f":"'T2-B(PP1)'!$H$163","v":0},"#'T2-B(PP1)'!$H$163"]
["pp1_bl4_3_7_total",{"$f":"'T2-B(PP1)'!$J$163","v":0},"#'T2-B(PP1)'!$J$163"]
["pp1_bl4_3_7_total_in",{"$f":"'T2-B(PP1)'!$F$163","v":0},"#'T2-B(PP1)'!$F$163"]
["pp1_bl4_3_7_total_out",{"$f":"'T2-B(PP1)'!$I$163","v":0},"#'T2-B(PP1)'!$I$163"]
["pp1_bl4_3_7_unit",{"$f":"'T2-B(PP1)'!$C$163","v":0},"#'T2-B(PP1)'!$C$163"]
["pp1_bl4_3_7_unit_in",{"$f":"'T2-B(PP1)'!$D$163","v":0},"#'T2-B(PP1)'!$D$163"]
["pp1_bl4_3_7_units_out",{"$f":"'T2-B(PP1)'!$G$163","v":0},"#'T2-B(PP1)'!$G$163"]
["pp1_bl4_3_8_name",{"$f":"'T2-B(PP1)'!$B$164","v":0},"#'T2-B(PP1)'!$B$164"]
["pp1_bl4_3_8_rate_in",{"$f":"'T2-B(PP1)'!$E$164","v":0},"#'T2-B(PP1)'!$E$164"]
["pp1_bl4_3_8_rate_out",{"$f":"'T2-B(PP1)'!$H$164","v":0},"#'T2-B(PP1)'!$H$164"]
["pp1_bl4_3_8_total",{"$f":"'T2-B(PP1)'!$J$164","v":0},"#'T2-B(PP1)'!$J$164"]
["pp1_bl4_3_8_total_in",{"$f":"'T2-B(PP1)'!$F$164","v":0},"#'T2-B(PP1)'!$F$164"]
["pp1_bl4_3_8_total_out",{"$f":"'T2-B(PP1)'!$I$164","v":0},"#'T2-B(PP1)'!$I$164"]
["pp1_bl4_3_8_unit",{"$f":"'T2-B(PP1)'!$C$164","v":0},"#'T2-B(PP1)'!$C$164"]
["pp1_bl4_3_8_unit_in",{"$f":"'T2-B(PP1)'!$D$164","v":0},"#'T2-B(PP1)'!$D$164"]
["pp1_bl4_3_8_units_out",{"$f":"'T2-B(PP1)'!$G$164","v":0},"#'T2-B(PP1)'!$G$164"]
["pp1_bl4_3_9_name",{"$f":"'T2-B(PP1)'!$B$165","v":0},"#'T2-B(PP1)'!$B$165"]
["pp1_bl4_3_9_rate_in",{"$f":"'T2-B(PP1)'!$E$165","v":0},"#'T2-B(PP1)'!$E$165"]
["pp1_bl4_3_9_rate_out",{"$f":"'T2-B(PP1)'!$H$165","v":0},"#'T2-B(PP1)'!$H$165"]
["pp1_bl4_3_9_total",{"$f":"'T2-B(PP1)'!$J$165","v":0},"#'T2-B(PP1)'!$J$165"]
["pp1_bl4_3_9_total_in",{"$f":"'T2-B(PP1)'!$F$165","v":0},"#'T2-B(PP1)'!$F$165"]
["pp1_bl4_3_9_total_out",{"$f":"'T2-B(PP1)'!$I$165","v":0},"#'T2-B(PP1)'!$I$165"]
["pp1_bl4_3_9_unit",{"$f":"'T2-B(PP1)'!$C$165","v":0},"#'T2-B(PP1)'!$C$165"]
["pp1_bl4_3_9_unit_in",{"$f":"'T2-B(PP1)'!$D$165","v":0},"#'T2-B(PP1)'!$D$165"]
["pp1_bl4_3_9_units_out",{"$f":"'T2-B(PP1)'!$G$165","v":0},"#'T2-B(PP1)'!$G$165"]
["pp1_bl4_3_total",{"$f":"'T2-B(PP1)'!$J$156","v":0},"#'T2-B(PP1)'!$J$156"]
["pp1_bl4_3_total_in",{"$f":"'T2-B(PP1)'!$F$156","v":0},"#'T2-B(PP1)'!$F$156"]
["pp1_bl4_3_total_out",{"$f":"'T2-B(PP1)'!$I$156","v":0},"#'T2-B(PP1)'!$I$156"]
["pp1_bl4_4_1_name",{"$f":"'T2-B(PP1)'!$B$178","v":0},"#'T2-B(PP1)'!$B$178"]
["pp1_bl4_4_1_rate_in",{"$f":"'T2-B(PP1)'!$E$178","v":0},"#'T2-B(PP1)'!$E$178"]
["pp1_bl4_4_1_rate_out",{"$f":"'T2-B(PP1)'!$H$178","v":0},"#'T2-B(PP1)'!$H$178"]
["pp1_bl4_4_1_total",{"$f":"'T2-B(PP1)'!$J$178","v":0},"#'T2-B(PP1)'!$J$178"]
["pp1_bl4_4_1_total_in",{"$f":"'T2-B(PP1)'!$F$178","v":0},"#'T2-B(PP1)'!$F$178"]
["pp1_bl4_4_1_total_out",{"$f":"'T2-B(PP1)'!$I$178","v":0},"#'T2-B(PP1)'!$I$178"]
["pp1_bl4_4_1_unit",{"$f":"'T2-B(PP1)'!$C$178","v":0},"#'T2-B(PP1)'!$C$178"]
["pp1_bl4_4_1_unit_in",{"$f":"'T2-B(PP1)'!$D$178","v":0},"#'T2-B(PP1)'!$D$178"]
["pp1_bl4_4_1_units_out",{"$f":"'T2-B(PP1)'!$G$178","v":0},"#'T2-B(PP1)'!$G$178"]
["pp1_bl4_4_10_name",{"$f":"'T2-B(PP1)'!$B$187","v":0},"#'T2-B(PP1)'!$B$187"]
["pp1_bl4_4_10_rate_in",{"$f":"'T2-B(PP1)'!$E$187","v":0},"#'T2-B(PP1)'!$E$187"]
["pp1_bl4_4_10_rate_out",{"$f":"'T2-B(PP1)'!$H$187","v":0},"#'T2-B(PP1)'!$H$187"]
["pp1_bl4_4_10_total",{"$f":"'T2-B(PP1)'!$J$187","v":0},"#'T2-B(PP1)'!$J$187"]
["pp1_bl4_4_10_total_in",{"$f":"'T2-B(PP1)'!$F$187","v":0},"#'T2-B(PP1)'!$F$187"]
["pp1_bl4_4_10_total_out",{"$f":"'T2-B(PP1)'!$I$187","v":0},"#'T2-B(PP1)'!$I$187"]
["pp1_bl4_4_10_unit",{"$f":"'T2-B(PP1)'!$C$187","v":0},"#'T2-B(PP1)'!$C$187"]
["pp1_bl4_4_10_unit_in",{"$f":"'T2-B(PP1)'!$D$187","v":0},"#'T2-B(PP1)'!$D$187"]
["pp1_bl4_4_10_units_out",{"$f":"'T2-B(PP1)'!$G$187","v":0},"#'T2-B(PP1)'!$G$187"]
["pp1_bl4_4_2_name",{"$f":"'T2-B(PP1)'!$B$179","v":0},"#'T2-B(PP1)'!$B$179"]
["pp1_bl4_4_2_rate_in",{"$f":"'T2-B(PP1)'!$E$179","v":0},"#'T2-B(PP1)'!$E$179"]
["pp1_bl4_4_2_rate_out",{"$f":"'T2-B(PP1)'!$H$179","v":0},"#'T2-B(PP1)'!$H$179"]
["pp1_bl4_4_2_total",{"$f":"'T2-B(PP1)'!$J$179","v":0},"#'T2-B(PP1)'!$J$179"]
["pp1_bl4_4_2_total_in",{"$f":"'T2-B(PP1)'!$F$179","v":0},"#'T2-B(PP1)'!$F$179"]
["pp1_bl4_4_2_total_out",{"$f":"'T2-B(PP1)'!$I$179","v":0},"#'T2-B(PP1)'!$I$179"]
["pp1_bl4_4_2_unit",{"$f":"'T2-B(PP1)'!$C$179","v":0},"#'T2-B(PP1)'!$C$179"]
["pp1_bl4_4_2_unit_in",{"$f":"'T2-B(PP1)'!$D$179","v":0},"#'T2-B(PP1)'!$D$179"]
["pp1_bl4_4_2_units_out",{"$f":"'T2-B(PP1)'!$G$179","v":0},"#'T2-B(PP1)'!$G$179"]
["pp1_bl4_4_3_name",{"$f":"'T2-B(PP1)'!$B$180","v":0},"#'T2-B(PP1)'!$B$180"]
["pp1_bl4_4_3_rate_in",{"$f":"'T2-B(PP1)'!$E$180","v":0},"#'T2-B(PP1)'!$E$180"]
["pp1_bl4_4_3_rate_out",{"$f":"'T2-B(PP1)'!$H$180","v":0},"#'T2-B(PP1)'!$H$180"]
["pp1_bl4_4_3_total",{"$f":"'T2-B(PP1)'!$J$180","v":0},"#'T2-B(PP1)'!$J$180"]
["pp1_bl4_4_3_total_in",{"$f":"'T2-B(PP1)'!$F$180","v":0},"#'T2-B(PP1)'!$F$180"]
["pp1_bl4_4_3_total_out",{"$f":"'T2-B(PP1)'!$I$180","v":0},"#'T2-B(PP1)'!$I$180"]
["pp1_bl4_4_3_unit",{"$f":"'T2-B(PP1)'!$C$180","v":0},"#'T2-B(PP1)'!$C$180"]
["pp1_bl4_4_3_unit_in",{"$f":"'T2-B(PP1)'!$D$180","v":0},"#'T2-B(PP1)'!$D$180"]
["pp1_bl4_4_3_units_out",{"$f":"'T2-B(PP1)'!$G$180","v":0},"#'T2-B(PP1)'!$G$180"]
["pp1_bl4_4_4_name",{"$f":"'T2-B(PP1)'!$B$181","v":0},"#'T2-B(PP1)'!$B$181"]
["pp1_bl4_4_4_rate_in",{"$f":"'T2-B(PP1)'!$E$181","v":0},"#'T2-B(PP1)'!$E$181"]
["pp1_bl4_4_4_rate_out",{"$f":"'T2-B(PP1)'!$H$181","v":0},"#'T2-B(PP1)'!$H$181"]
["pp1_bl4_4_4_total",{"$f":"'T2-B(PP1)'!$J$181","v":0},"#'T2-B(PP1)'!$J$181"]
["pp1_bl4_4_4_total_in",{"$f":"'T2-B(PP1)'!$F$181","v":0},"#'T2-B(PP1)'!$F$181"]
["pp1_bl4_4_4_total_out",{"$f":"'T2-B(PP1)'!$I$181","v":0},"#'T2-B(PP1)'!$I$181"]
["pp1_bl4_4_4_unit",{"$f":"'T2-B(PP1)'!$C$181","v":0},"#'T2-B(PP1)'!$C$181"]
["pp1_bl4_4_4_unit_in",{"$f":"'T2-B(PP1)'!$D$181","v":0},"#'T2-B(PP1)'!$D$181"]
["pp1_bl4_4_4_units_out",{"$f":"'T2-B(PP1)'!$G$181","v":0},"#'T2-B(PP1)'!$G$181"]
["pp1_bl4_4_5_name",{"$f":"'T2-B(PP1)'!$B$182","v":0},"#'T2-B(PP1)'!$B$182"]
["pp1_bl4_4_5_rate_in",{"$f":"'T2-B(PP1)'!$E$182","v":0},"#'T2-B(PP1)'!$E$182"]
["pp1_bl4_4_5_rate_out",{"$f":"'T2-B(PP1)'!$H$182","v":0},"#'T2-B(PP1)'!$H$182"]
["pp1_bl4_4_5_total",{"$f":"'T2-B(PP1)'!$J$182","v":0},"#'T2-B(PP1)'!$J$182"]
["pp1_bl4_4_5_total_in",{"$f":"'T2-B(PP1)'!$F$182","v":0},"#'T2-B(PP1)'!$F$182"]
["pp1_bl4_4_5_total_out",{"$f":"'T2-B(PP1)'!$I$182","v":0},"#'T2-B(PP1)'!$I$182"]
["pp1_bl4_4_5_unit",{"$f":"'T2-B(PP1)'!$C$182","v":0},"#'T2-B(PP1)'!$C$182"]
["pp1_bl4_4_5_unit_in",{"$f":"'T2-B(PP1)'!$D$182","v":0},"#'T2-B(PP1)'!$D$182"]
["pp1_bl4_4_5_units_out",{"$f":"'T2-B(PP1)'!$G$182","v":0},"#'T2-B(PP1)'!$G$182"]
["pp1_bl4_4_6_name",{"$f":"'T2-B(PP1)'!$B$183","v":0},"#'T2-B(PP1)'!$B$183"]
["pp1_bl4_4_6_rate_in",{"$f":"'T2-B(PP1)'!$E$183","v":0},"#'T2-B(PP1)'!$E$183"]
["pp1_bl4_4_6_rate_out",{"$f":"'T2-B(PP1)'!$H$183","v":0},"#'T2-B(PP1)'!$H$183"]
["pp1_bl4_4_6_total",{"$f":"'T2-B(PP1)'!$J$183","v":0},"#'T2-B(PP1)'!$J$183"]
["pp1_bl4_4_6_total_in",{"$f":"'T2-B(PP1)'!$F$183","v":0},"#'T2-B(PP1)'!$F$183"]
["pp1_bl4_4_6_total_out",{"$f":"'T2-B(PP1)'!$I$183","v":0},"#'T2-B(PP1)'!$I$183"]
["pp1_bl4_4_6_unit",{"$f":"'T2-B(PP1)'!$C$183","v":0},"#'T2-B(PP1)'!$C$183"]
["pp1_bl4_4_6_unit_in",{"$f":"'T2-B(PP1)'!$D$183","v":0},"#'T2-B(PP1)'!$D$183"]
["pp1_bl4_4_6_units_out",{"$f":"'T2-B(PP1)'!$G$183","v":0},"#'T2-B(PP1)'!$G$183"]
["pp1_bl4_4_7_name",{"$f":"'T2-B(PP1)'!$B$184","v":0},"#'T2-B(PP1)'!$B$184"]
["pp1_bl4_4_7_rate_in",{"$f":"'T2-B(PP1)'!$E$184","v":0},"#'T2-B(PP1)'!$E$184"]
["pp1_bl4_4_7_rate_out",{"$f":"'T2-B(PP1)'!$H$184","v":0},"#'T2-B(PP1)'!$H$184"]
["pp1_bl4_4_7_total",{"$f":"'T2-B(PP1)'!$J$184","v":0},"#'T2-B(PP1)'!$J$184"]
["pp1_bl4_4_7_total_in",{"$f":"'T2-B(PP1)'!$F$184","v":0},"#'T2-B(PP1)'!$F$184"]
["pp1_bl4_4_7_total_out",{"$f":"'T2-B(PP1)'!$I$184","v":0},"#'T2-B(PP1)'!$I$184"]
["pp1_bl4_4_7_unit",{"$f":"'T2-B(PP1)'!$C$184","v":0},"#'T2-B(PP1)'!$C$184"]
["pp1_bl4_4_7_unit_in",{"$f":"'T2-B(PP1)'!$D$184","v":0},"#'T2-B(PP1)'!$D$184"]
["pp1_bl4_4_7_units_out",{"$f":"'T2-B(PP1)'!$G$184","v":0},"#'T2-B(PP1)'!$G$184"]
["pp1_bl4_4_8_name",{"$f":"'T2-B(PP1)'!$B$185","v":0},"#'T2-B(PP1)'!$B$185"]
["pp1_bl4_4_8_rate_in",{"$f":"'T2-B(PP1)'!$E$185","v":0},"#'T2-B(PP1)'!$E$185"]
["pp1_bl4_4_8_rate_out",{"$f":"'T2-B(PP1)'!$H$185","v":0},"#'T2-B(PP1)'!$H$185"]
["pp1_bl4_4_8_total",{"$f":"'T2-B(PP1)'!$J$185","v":0},"#'T2-B(PP1)'!$J$185"]
["pp1_bl4_4_8_total_in",{"$f":"'T2-B(PP1)'!$F$185","v":0},"#'T2-B(PP1)'!$F$185"]
["pp1_bl4_4_8_total_out",{"$f":"'T2-B(PP1)'!$I$185","v":0},"#'T2-B(PP1)'!$I$185"]
["pp1_bl4_4_8_unit",{"$f":"'T2-B(PP1)'!$C$185","v":0},"#'T2-B(PP1)'!$C$185"]
["pp1_bl4_4_8_unit_in",{"$f":"'T2-B(PP1)'!$D$185","v":0},"#'T2-B(PP1)'!$D$185"]
["pp1_bl4_4_8_units_out",{"$f":"'T2-B(PP1)'!$G$185","v":0},"#'T2-B(PP1)'!$G$185"]
["pp1_bl4_4_9_name",{"$f":"'T2-B(PP1)'!$B$186","v":0},"#'T2-B(PP1)'!$B$186"]
["pp1_bl4_4_9_rate_in",{"$f":"'T2-B(PP1)'!$E$186","v":0},"#'T2-B(PP1)'!$E$186"]
["pp1_bl4_4_9_rate_out",{"$f":"'T2-B(PP1)'!$H$186","v":0},"#'T2-B(PP1)'!$H$186"]
["pp1_bl4_4_9_total",{"$f":"'T2-B(PP1)'!$J$186","v":0},"#'T2-B(PP1)'!$J$186"]
["pp1_bl4_4_9_total_in",{"$f":"'T2-B(PP1)'!$F$186","v":0},"#'T2-B(PP1)'!$F$186"]
["pp1_bl4_4_9_total_out",{"$f":"'T2-B(PP1)'!$I$186","v":0},"#'T2-B(PP1)'!$I$186"]
["pp1_bl4_4_9_unit",{"$f":"'T2-B(PP1)'!$C$186","v":0},"#'T2-B(PP1)'!$C$186"]
["pp1_bl4_4_9_unit_in",{"$f":"'T2-B(PP1)'!$D$186","v":0},"#'T2-B(PP1)'!$D$186"]
["pp1_bl4_4_9_units_out",{"$f":"'T2-B(PP1)'!$G$186","v":0},"#'T2-B(PP1)'!$G$186"]
["pp1_bl4_4_total",{"$f":"'T2-B(PP1)'!$J$177","v":0},"#'T2-B(PP1)'!$J$177"]
["pp1_bl4_4_total_in",{"$f":"'T2-B(PP1)'!$F$177","v":0},"#'T2-B(PP1)'!$F$177"]
["pp1_bl4_4_total_out",{"$f":"'T2-B(PP1)'!$I$177","v":0},"#'T2-B(PP1)'!$I$177"]
["pp1_bl4_5_1_name",{"$f":"'T2-B(PP1)'!$B$199","v":0},"#'T2-B(PP1)'!$B$199"]
["pp1_bl4_5_1_rate_in",{"$f":"'T2-B(PP1)'!$E$199","v":0},"#'T2-B(PP1)'!$E$199"]
["pp1_bl4_5_1_rate_out",{"$f":"'T2-B(PP1)'!$H$199","v":0},"#'T2-B(PP1)'!$H$199"]
["pp1_bl4_5_1_total",{"$f":"'T2-B(PP1)'!$J$199","v":0},"#'T2-B(PP1)'!$J$199"]
["pp1_bl4_5_1_total_in",{"$f":"'T2-B(PP1)'!$F$199","v":0},"#'T2-B(PP1)'!$F$199"]
["pp1_bl4_5_1_total_out",{"$f":"'T2-B(PP1)'!$I$199","v":0},"#'T2-B(PP1)'!$I$199"]
["pp1_bl4_5_1_unit",{"$f":"'T2-B(PP1)'!$C$199","v":0},"#'T2-B(PP1)'!$C$199"]
["pp1_bl4_5_1_unit_in",{"$f":"'T2-B(PP1)'!$D$199","v":0},"#'T2-B(PP1)'!$D$199"]
["pp1_bl4_5_1_units_out",{"$f":"'T2-B(PP1)'!$G$199","v":0},"#'T2-B(PP1)'!$G$199"]
["pp1_bl4_5_10_name",{"$f":"'T2-B(PP1)'!$B$208","v":0},"#'T2-B(PP1)'!$B$208"]
["pp1_bl4_5_10_rate_in",{"$f":"'T2-B(PP1)'!$E$208","v":0},"#'T2-B(PP1)'!$E$208"]
["pp1_bl4_5_10_rate_out",{"$f":"'T2-B(PP1)'!$H$208","v":0},"#'T2-B(PP1)'!$H$208"]
["pp1_bl4_5_10_total",{"$f":"'T2-B(PP1)'!$J$208","v":0},"#'T2-B(PP1)'!$J$208"]
["pp1_bl4_5_10_total_in",{"$f":"'T2-B(PP1)'!$F$208","v":0},"#'T2-B(PP1)'!$F$208"]
["pp1_bl4_5_10_total_out",{"$f":"'T2-B(PP1)'!$I$208","v":0},"#'T2-B(PP1)'!$I$208"]
["pp1_bl4_5_10_unit",{"$f":"'T2-B(PP1)'!$C$208","v":0},"#'T2-B(PP1)'!$C$208"]
["pp1_bl4_5_10_unit_in",{"$f":"'T2-B(PP1)'!$D$208","v":0},"#'T2-B(PP1)'!$D$208"]
["pp1_bl4_5_10_units_out",{"$f":"'T2-B(PP1)'!$G$208","v":0},"#'T2-B(PP1)'!$G$208"]
["pp1_bl4_5_2_name",{"$f":"'T2-B(PP1)'!$B$200","v":0},"#'T2-B(PP1)'!$B$200"]
["pp1_bl4_5_2_rate_in",{"$f":"'T2-B(PP1)'!$E$200","v":0},"#'T2-B(PP1)'!$E$200"]
["pp1_bl4_5_2_rate_out",{"$f":"'T2-B(PP1)'!$H$200","v":0},"#'T2-B(PP1)'!$H$200"]
["pp1_bl4_5_2_total",{"$f":"'T2-B(PP1)'!$J$200","v":0},"#'T2-B(PP1)'!$J$200"]
["pp1_bl4_5_2_total_in",{"$f":"'T2-B(PP1)'!$F$200","v":0},"#'T2-B(PP1)'!$F$200"]
["pp1_bl4_5_2_total_out",{"$f":"'T2-B(PP1)'!$I$200","v":0},"#'T2-B(PP1)'!$I$200"]
["pp1_bl4_5_2_unit",{"$f":"'T2-B(PP1)'!$C$200","v":0},"#'T2-B(PP1)'!$C$200"]
["pp1_bl4_5_2_unit_in",{"$f":"'T2-B(PP1)'!$D$200","v":0},"#'T2-B(PP1)'!$D$200"]
["pp1_bl4_5_2_units_out",{"$f":"'T2-B(PP1)'!$G$200","v":0},"#'T2-B(PP1)'!$G$200"]
["pp1_bl4_5_3_name",{"$f":"'T2-B(PP1)'!$B$201","v":0},"#'T2-B(PP1)'!$B$201"]
["pp1_bl4_5_3_rate_in",{"$f":"'T2-B(PP1)'!$E$201","v":0},"#'T2-B(PP1)'!$E$201"]
["pp1_bl4_5_3_rate_out",{"$f":"'T2-B(PP1)'!$H$201","v":0},"#'T2-B(PP1)'!$H$201"]
["pp1_bl4_5_3_total",{"$f":"'T2-B(PP1)'!$J$201","v":0},"#'T2-B(PP1)'!$J$201"]
["pp1_bl4_5_3_total_in",{"$f":"'T2-B(PP1)'!$F$201","v":0},"#'T2-B(PP1)'!$F$201"]
["pp1_bl4_5_3_total_out",{"$f":"'T2-B(PP1)'!$I$201","v":0},"#'T2-B(PP1)'!$I$201"]
["pp1_bl4_5_3_unit",{"$f":"'T2-B(PP1)'!$C$201","v":0},"#'T2-B(PP1)'!$C$201"]
["pp1_bl4_5_3_unit_in",{"$f":"'T2-B(PP1)'!$D$201","v":0},"#'T2-B(PP1)'!$D$201"]
["pp1_bl4_5_3_units_out",{"$f":"'T2-B(PP1)'!$G$201","v":0},"#'T2-B(PP1)'!$G$201"]
["pp1_bl4_5_4_name",{"$f":"'T2-B(PP1)'!$B$202","v":0},"#'T2-B(PP1)'!$B$202"]
["pp1_bl4_5_4_rate_in",{"$f":"'T2-B(PP1)'!$E$202","v":0},"#'T2-B(PP1)'!$E$202"]
["pp1_bl4_5_4_rate_out",{"$f":"'T2-B(PP1)'!$H$202","v":0},"#'T2-B(PP1)'!$H$202"]
["pp1_bl4_5_4_total",{"$f":"'T2-B(PP1)'!$J$202","v":0},"#'T2-B(PP1)'!$J$202"]
["pp1_bl4_5_4_total_in",{"$f":"'T2-B(PP1)'!$F$202","v":0},"#'T2-B(PP1)'!$F$202"]
["pp1_bl4_5_4_total_out",{"$f":"'T2-B(PP1)'!$I$202","v":0},"#'T2-B(PP1)'!$I$202"]
["pp1_bl4_5_4_unit",{"$f":"'T2-B(PP1)'!$C$202","v":0},"#'T2-B(PP1)'!$C$202"]
["pp1_bl4_5_4_unit_in",{"$f":"'T2-B(PP1)'!$D$202","v":0},"#'T2-B(PP1)'!$D$202"]
["pp1_bl4_5_4_units_out",{"$f":"'T2-B(PP1)'!$G$202","v":0},"#'T2-B(PP1)'!$G$202"]
["pp1_bl4_5_5_name",{"$f":"'T2-B(PP1)'!$B$203","v":0},"#'T2-B(PP1)'!$B$203"]
["pp1_bl4_5_5_rate_in",{"$f":"'T2-B(PP1)'!$E$203","v":0},"#'T2-B(PP1)'!$E$203"]
["pp1_bl4_5_5_rate_out",{"$f":"'T2-B(PP1)'!$H$203","v":0},"#'T2-B(PP1)'!$H$203"]
["pp1_bl4_5_5_total",{"$f":"'T2-B(PP1)'!$J$203","v":0},"#'T2-B(PP1)'!$J$203"]
["pp1_bl4_5_5_total_in",{"$f":"'T2-B(PP1)'!$F$203","v":0},"#'T2-B(PP1)'!$F$203"]
["pp1_bl4_5_5_total_out",{"$f":"'T2-B(PP1)'!$I$203","v":0},"#'T2-B(PP1)'!$I$203"]
["pp1_bl4_5_5_unit",{"$f":"'T2-B(PP1)'!$C$203","v":0},"#'T2-B(PP1)'!$C$203"]
["pp1_bl4_5_5_unit_in",{"$f":"'T2-B(PP1)'!$D$203","v":0},"#'T2-B(PP1)'!$D$203"]
["pp1_bl4_5_5_units_out",{"$f":"'T2-B(PP1)'!$G$203","v":0},"#'T2-B(PP1)'!$G$203"]
["pp1_bl4_5_6_name",{"$f":"'T2-B(PP1)'!$B$204","v":0},"#'T2-B(PP1)'!$B$204"]
["pp1_bl4_5_6_rate_in",{"$f":"'T2-B(PP1)'!$E$204","v":0},"#'T2-B(PP1)'!$E$204"]
["pp1_bl4_5_6_rate_out",{"$f":"'T2-B(PP1)'!$H$204","v":0},"#'T2-B(PP1)'!$H$204"]
["pp1_bl4_5_6_total",{"$f":"'T2-B(PP1)'!$J$204","v":0},"#'T2-B(PP1)'!$J$204"]
["pp1_bl4_5_6_total_in",{"$f":"'T2-B(PP1)'!$F$204","v":0},"#'T2-B(PP1)'!$F$204"]
["pp1_bl4_5_6_total_out",{"$f":"'T2-B(PP1)'!$I$204","v":0},"#'T2-B(PP1)'!$I$204"]
["pp1_bl4_5_6_unit",{"$f":"'T2-B(PP1)'!$C$204","v":0},"#'T2-B(PP1)'!$C$204"]
["pp1_bl4_5_6_unit_in",{"$f":"'T2-B(PP1)'!$D$204","v":0},"#'T2-B(PP1)'!$D$204"]
["pp1_bl4_5_6_units_out",{"$f":"'T2-B(PP1)'!$G$204","v":0},"#'T2-B(PP1)'!$G$204"]
["pp1_bl4_5_7_name",{"$f":"'T2-B(PP1)'!$B$205","v":0},"#'T2-B(PP1)'!$B$205"]
["pp1_bl4_5_7_rate_in",{"$f":"'T2-B(PP1)'!$E$205","v":0},"#'T2-B(PP1)'!$E$205"]
["pp1_bl4_5_7_rate_out",{"$f":"'T2-B(PP1)'!$H$205","v":0},"#'T2-B(PP1)'!$H$205"]
["pp1_bl4_5_7_total",{"$f":"'T2-B(PP1)'!$J$205","v":0},"#'T2-B(PP1)'!$J$205"]
["pp1_bl4_5_7_total_in",{"$f":"'T2-B(PP1)'!$F$205","v":0},"#'T2-B(PP1)'!$F$205"]
["pp1_bl4_5_7_total_out",{"$f":"'T2-B(PP1)'!$I$205","v":0},"#'T2-B(PP1)'!$I$205"]
["pp1_bl4_5_7_unit",{"$f":"'T2-B(PP1)'!$C$205","v":0},"#'T2-B(PP1)'!$C$205"]
["pp1_bl4_5_7_unit_in",{"$f":"'T2-B(PP1)'!$D$205","v":0},"#'T2-B(PP1)'!$D$205"]
["pp1_bl4_5_7_units_out",{"$f":"'T2-B(PP1)'!$G$205","v":0},"#'T2-B(PP1)'!$G$205"]
["pp1_bl4_5_8_name",{"$f":"'T2-B(PP1)'!$B$206","v":0},"#'T2-B(PP1)'!$B$206"]
["pp1_bl4_5_8_rate_in",{"$f":"'T2-B(PP1)'!$E$206","v":0},"#'T2-B(PP1)'!$E$206"]
["pp1_bl4_5_8_rate_out",{"$f":"'T2-B(PP1)'!$H$206","v":0},"#'T2-B(PP1)'!$H$206"]
["pp1_bl4_5_8_total",{"$f":"'T2-B(PP1)'!$J$206","v":0},"#'T2-B(PP1)'!$J$206"]
["pp1_bl4_5_8_total_in",{"$f":"'T2-B(PP1)'!$F$206","v":0},"#'T2-B(PP1)'!$F$206"]
["pp1_bl4_5_8_total_out",{"$f":"'T2-B(PP1)'!$I$206","v":0},"#'T2-B(PP1)'!$I$206"]
["pp1_bl4_5_8_unit",{"$f":"'T2-B(PP1)'!$C$206","v":0},"#'T2-B(PP1)'!$C$206"]
["pp1_bl4_5_8_unit_in",{"$f":"'T2-B(PP1)'!$D$206","v":0},"#'T2-B(PP1)'!$D$206"]
["pp1_bl4_5_8_units_out",{"$f":"'T2-B(PP1)'!$G$206","v":0},"#'T2-B(PP1)'!$G$206"]
["pp1_bl4_5_9_name",{"$f":"'T2-B(PP1)'!$B$207","v":0},"#'T2-B(PP1)'!$B$207"]
["pp1_bl4_5_9_rate_in",{"$f":"'T2-B(PP1)'!$E$207","v":0},"#'T2-B(PP1)'!$E$207"]
["pp1_bl4_5_9_rate_out",{"$f":"'T2-B(PP1)'!$H$207","v":0},"#'T2-B(PP1)'!$H$207"]
["pp1_bl4_5_9_total",{"$f":"'T2-B(PP1)'!$J$207","v":0},"#'T2-B(PP1)'!$J$207"]
["pp1_bl4_5_9_total_in",{"$f":"'T2-B(PP1)'!$F$207","v":0},"#'T2-B(PP1)'!$F$207"]
["pp1_bl4_5_9_total_out",{"$f":"'T2-B(PP1)'!$I$207","v":0},"#'T2-B(PP1)'!$I$207"]
["pp1_bl4_5_9_unit",{"$f":"'T2-B(PP1)'!$C$207","v":0},"#'T2-B(PP1)'!$C$207"]
["pp1_bl4_5_9_unit_in",{"$f":"'T2-B(PP1)'!$D$207","v":0},"#'T2-B(PP1)'!$D$207"]
["pp1_bl4_5_9_units_out",{"$f":"'T2-B(PP1)'!$G$207","v":0},"#'T2-B(PP1)'!$G$207"]
["pp1_bl4_5_total",{"$f":"'T2-B(PP1)'!$J$198","v":0},"#'T2-B(PP1)'!$J$198"]
["pp1_bl4_5_total_in",{"$f":"'T2-B(PP1)'!$F$198","v":0},"#'T2-B(PP1)'!$F$198"]
["pp1_bl4_5_total_out",{"$f":"'T2-B(PP1)'!$I$198","v":0},"#'T2-B(PP1)'!$I$198"]
["pp1_bl4_6_1_name",{"$f":"'T2-B(PP1)'!$B$220","v":0},"#'T2-B(PP1)'!$B$220"]
["pp1_bl4_6_1_rate_in",{"$f":"'T2-B(PP1)'!$E$220","v":0},"#'T2-B(PP1)'!$E$220"]
["pp1_bl4_6_1_rate_out",{"$f":"'T2-B(PP1)'!$H$220","v":0},"#'T2-B(PP1)'!$H$220"]
["pp1_bl4_6_1_total",{"$f":"'T2-B(PP1)'!$J$220","v":0},"#'T2-B(PP1)'!$J$220"]
["pp1_bl4_6_1_total_in",{"$f":"'T2-B(PP1)'!$F$220","v":0},"#'T2-B(PP1)'!$F$220"]
["pp1_bl4_6_1_total_out",{"$f":"'T2-B(PP1)'!$I$220","v":0},"#'T2-B(PP1)'!$I$220"]
["pp1_bl4_6_1_unit",{"$f":"'T2-B(PP1)'!$C$220","v":0},"#'T2-B(PP1)'!$C$220"]
["pp1_bl4_6_1_unit_in",{"$f":"'T2-B(PP1)'!$D$220","v":0},"#'T2-B(PP1)'!$D$220"]
["pp1_bl4_6_1_units_out",{"$f":"'T2-B(PP1)'!$G$220","v":0},"#'T2-B(PP1)'!$G$220"]
["pp1_bl4_6_10_name",{"$f":"'T2-B(PP1)'!$B$229","v":0},"#'T2-B(PP1)'!$B$229"]
["pp1_bl4_6_10_rate_in",{"$f":"'T2-B(PP1)'!$E$229","v":0},"#'T2-B(PP1)'!$E$229"]
["pp1_bl4_6_10_rate_out",{"$f":"'T2-B(PP1)'!$H$229","v":0},"#'T2-B(PP1)'!$H$229"]
["pp1_bl4_6_10_total",{"$f":"'T2-B(PP1)'!$J$229","v":0},"#'T2-B(PP1)'!$J$229"]
["pp1_bl4_6_10_total_in",{"$f":"'T2-B(PP1)'!$F$229","v":0},"#'T2-B(PP1)'!$F$229"]
["pp1_bl4_6_10_total_out",{"$f":"'T2-B(PP1)'!$I$229","v":0},"#'T2-B(PP1)'!$I$229"]
["pp1_bl4_6_10_unit",{"$f":"'T2-B(PP1)'!$C$229","v":0},"#'T2-B(PP1)'!$C$229"]
["pp1_bl4_6_10_unit_in",{"$f":"'T2-B(PP1)'!$D$229","v":0},"#'T2-B(PP1)'!$D$229"]
["pp1_bl4_6_10_units_out",{"$f":"'T2-B(PP1)'!$G$229","v":0},"#'T2-B(PP1)'!$G$229"]
["pp1_bl4_6_2_name",{"$f":"'T2-B(PP1)'!$B$221","v":0},"#'T2-B(PP1)'!$B$221"]
["pp1_bl4_6_2_rate_in",{"$f":"'T2-B(PP1)'!$E$221","v":0},"#'T2-B(PP1)'!$E$221"]
["pp1_bl4_6_2_rate_out",{"$f":"'T2-B(PP1)'!$H$221","v":0},"#'T2-B(PP1)'!$H$221"]
["pp1_bl4_6_2_total",{"$f":"'T2-B(PP1)'!$J$221","v":0},"#'T2-B(PP1)'!$J$221"]
["pp1_bl4_6_2_total_in",{"$f":"'T2-B(PP1)'!$F$221","v":0},"#'T2-B(PP1)'!$F$221"]
["pp1_bl4_6_2_total_out",{"$f":"'T2-B(PP1)'!$I$221","v":0},"#'T2-B(PP1)'!$I$221"]
["pp1_bl4_6_2_unit",{"$f":"'T2-B(PP1)'!$C$221","v":0},"#'T2-B(PP1)'!$C$221"]
["pp1_bl4_6_2_unit_in",{"$f":"'T2-B(PP1)'!$D$221","v":0},"#'T2-B(PP1)'!$D$221"]
["pp1_bl4_6_2_units_out",{"$f":"'T2-B(PP1)'!$G$221","v":0},"#'T2-B(PP1)'!$G$221"]
["pp1_bl4_6_3_name",{"$f":"'T2-B(PP1)'!$B$222","v":0},"#'T2-B(PP1)'!$B$222"]
["pp1_bl4_6_3_rate_in",{"$f":"'T2-B(PP1)'!$E$222","v":0},"#'T2-B(PP1)'!$E$222"]
["pp1_bl4_6_3_rate_out",{"$f":"'T2-B(PP1)'!$H$222","v":0},"#'T2-B(PP1)'!$H$222"]
["pp1_bl4_6_3_total",{"$f":"'T2-B(PP1)'!$J$222","v":0},"#'T2-B(PP1)'!$J$222"]
["pp1_bl4_6_3_total_in",{"$f":"'T2-B(PP1)'!$F$222","v":0},"#'T2-B(PP1)'!$F$222"]
["pp1_bl4_6_3_total_out",{"$f":"'T2-B(PP1)'!$I$222","v":0},"#'T2-B(PP1)'!$I$222"]
["pp1_bl4_6_3_unit",{"$f":"'T2-B(PP1)'!$C$222","v":0},"#'T2-B(PP1)'!$C$222"]
["pp1_bl4_6_3_unit_in",{"$f":"'T2-B(PP1)'!$D$222","v":0},"#'T2-B(PP1)'!$D$222"]
["pp1_bl4_6_3_units_out",{"$f":"'T2-B(PP1)'!$G$222","v":0},"#'T2-B(PP1)'!$G$222"]
["pp1_bl4_6_4_name",{"$f":"'T2-B(PP1)'!$B$223","v":0},"#'T2-B(PP1)'!$B$223"]
["pp1_bl4_6_4_rate_in",{"$f":"'T2-B(PP1)'!$E$223","v":0},"#'T2-B(PP1)'!$E$223"]
["pp1_bl4_6_4_rate_out",{"$f":"'T2-B(PP1)'!$H$223","v":0},"#'T2-B(PP1)'!$H$223"]
["pp1_bl4_6_4_total",{"$f":"'T2-B(PP1)'!$J$223","v":0},"#'T2-B(PP1)'!$J$223"]
["pp1_bl4_6_4_total_in",{"$f":"'T2-B(PP1)'!$F$223","v":0},"#'T2-B(PP1)'!$F$223"]
["pp1_bl4_6_4_total_out",{"$f":"'T2-B(PP1)'!$I$223","v":0},"#'T2-B(PP1)'!$I$223"]
["pp1_bl4_6_4_unit",{"$f":"'T2-B(PP1)'!$C$223","v":0},"#'T2-B(PP1)'!$C$223"]
["pp1_bl4_6_4_unit_in",{"$f":"'T2-B(PP1)'!$D$223","v":0},"#'T2-B(PP1)'!$D$223"]
["pp1_bl4_6_4_units_out",{"$f":"'T2-B(PP1)'!$G$223","v":0},"#'T2-B(PP1)'!$G$223"]
["pp1_bl4_6_5_name",{"$f":"'T2-B(PP1)'!$B$224","v":0},"#'T2-B(PP1)'!$B$224"]
["pp1_bl4_6_5_rate_in",{"$f":"'T2-B(PP1)'!$E$224","v":0},"#'T2-B(PP1)'!$E$224"]
["pp1_bl4_6_5_rate_out",{"$f":"'T2-B(PP1)'!$H$224","v":0},"#'T2-B(PP1)'!$H$224"]
["pp1_bl4_6_5_total",{"$f":"'T2-B(PP1)'!$J$224","v":0},"#'T2-B(PP1)'!$J$224"]
["pp1_bl4_6_5_total_in",{"$f":"'T2-B(PP1)'!$F$224","v":0},"#'T2-B(PP1)'!$F$224"]
["pp1_bl4_6_5_total_out",{"$f":"'T2-B(PP1)'!$I$224","v":0},"#'T2-B(PP1)'!$I$224"]
["pp1_bl4_6_5_unit",{"$f":"'T2-B(PP1)'!$C$224","v":0},"#'T2-B(PP1)'!$C$224"]
["pp1_bl4_6_5_unit_in",{"$f":"'T2-B(PP1)'!$D$224","v":0},"#'T2-B(PP1)'!$D$224"]
["pp1_bl4_6_5_units_out",{"$f":"'T2-B(PP1)'!$G$224","v":0},"#'T2-B(PP1)'!$G$224"]
["pp1_bl4_6_6_name",{"$f":"'T2-B(PP1)'!$B$225","v":0},"#'T2-B(PP1)'!$B$225"]
["pp1_bl4_6_6_rate_in",{"$f":"'T2-B(PP1)'!$E$225","v":0},"#'T2-B(PP1)'!$E$225"]
["pp1_bl4_6_6_rate_out",{"$f":"'T2-B(PP1)'!$H$225","v":0},"#'T2-B(PP1)'!$H$225"]
["pp1_bl4_6_6_total",{"$f":"'T2-B(PP1)'!$J$225","v":0},"#'T2-B(PP1)'!$J$225"]
["pp1_bl4_6_6_total_in",{"$f":"'T2-B(PP1)'!$F$225","v":0},"#'T2-B(PP1)'!$F$225"]
["pp1_bl4_6_6_total_out",{"$f":"'T2-B(PP1)'!$I$225","v":0},"#'T2-B(PP1)'!$I$225"]
["pp1_bl4_6_6_unit",{"$f":"'T2-B(PP1)'!$C$225","v":0},"#'T2-B(PP1)'!$C$225"]
["pp1_bl4_6_6_unit_in",{"$f":"'T2-B(PP1)'!$D$225","v":0},"#'T2-B(PP1)'!$D$225"]
["pp1_bl4_6_6_units_out",{"$f":"'T2-B(PP1)'!$G$225","v":0},"#'T2-B(PP1)'!$G$225"]
["pp1_bl4_6_7_name",{"$f":"'T2-B(PP1)'!$B$226","v":0},"#'T2-B(PP1)'!$B$226"]
["pp1_bl4_6_7_rate_in",{"$f":"'T2-B(PP1)'!$E$226","v":0},"#'T2-B(PP1)'!$E$226"]
["pp1_bl4_6_7_rate_out",{"$f":"'T2-B(PP1)'!$H$226","v":0},"#'T2-B(PP1)'!$H$226"]
["pp1_bl4_6_7_total",{"$f":"'T2-B(PP1)'!$J$226","v":0},"#'T2-B(PP1)'!$J$226"]
["pp1_bl4_6_7_total_in",{"$f":"'T2-B(PP1)'!$F$226","v":0},"#'T2-B(PP1)'!$F$226"]
["pp1_bl4_6_7_total_out",{"$f":"'T2-B(PP1)'!$I$226","v":0},"#'T2-B(PP1)'!$I$226"]
["pp1_bl4_6_7_unit",{"$f":"'T2-B(PP1)'!$C$226","v":0},"#'T2-B(PP1)'!$C$226"]
["pp1_bl4_6_7_unit_in",{"$f":"'T2-B(PP1)'!$D$226","v":0},"#'T2-B(PP1)'!$D$226"]
["pp1_bl4_6_7_units_out",{"$f":"'T2-B(PP1)'!$G$226","v":0},"#'T2-B(PP1)'!$G$226"]
["pp1_bl4_6_8_name",{"$f":"'T2-B(PP1)'!$B$227","v":0},"#'T2-B(PP1)'!$B$227"]
["pp1_bl4_6_8_rate_in",{"$f":"'T2-B(PP1)'!$E$227","v":0},"#'T2-B(PP1)'!$E$227"]
["pp1_bl4_6_8_rate_out",{"$f":"'T2-B(PP1)'!$H$227","v":0},"#'T2-B(PP1)'!$H$227"]
["pp1_bl4_6_8_total",{"$f":"'T2-B(PP1)'!$J$227","v":0},"#'T2-B(PP1)'!$J$227"]
["pp1_bl4_6_8_total_in",{"$f":"'T2-B(PP1)'!$F$227","v":0},"#'T2-B(PP1)'!$F$227"]
["pp1_bl4_6_8_total_out",{"$f":"'T2-B(PP1)'!$I$227","v":0},"#'T2-B(PP1)'!$I$227"]
["pp1_bl4_6_8_unit",{"$f":"'T2-B(PP1)'!$C$227","v":0},"#'T2-B(PP1)'!$C$227"]
["pp1_bl4_6_8_unit_in",{"$f":"'T2-B(PP1)'!$D$227","v":0},"#'T2-B(PP1)'!$D$227"]
["pp1_bl4_6_8_units_out",{"$f":"'T2-B(PP1)'!$G$227","v":0},"#'T2-B(PP1)'!$G$227"]
["pp1_bl4_6_9_name",{"$f":"'T2-B(PP1)'!$B$228","v":0},"#'T2-B(PP1)'!$B$228"]
["pp1_bl4_6_9_rate_in",{"$f":"'T2-B(PP1)'!$E$228","v":0},"#'T2-B(PP1)'!$E$228"]
["pp1_bl4_6_9_rate_out",{"$f":"'T2-B(PP1)'!$H$228","v":0},"#'T2-B(PP1)'!$H$228"]
["pp1_bl4_6_9_total",{"$f":"'T2-B(PP1)'!$J$228","v":0},"#'T2-B(PP1)'!$J$228"]
["pp1_bl4_6_9_total_in",{"$f":"'T2-B(PP1)'!$F$228","v":0},"#'T2-B(PP1)'!$F$228"]
["pp1_bl4_6_9_total_out",{"$f":"'T2-B(PP1)'!$I$228","v":0},"#'T2-B(PP1)'!$I$228"]
["pp1_bl4_6_9_unit",{"$f":"'T2-B(PP1)'!$C$228","v":0},"#'T2-B(PP1)'!$C$228"]
["pp1_bl4_6_9_unit_in",{"$f":"'T2-B(PP1)'!$D$228","v":0},"#'T2-B(PP1)'!$D$228"]
["pp1_bl4_6_9_units_out",{"$f":"'T2-B(PP1)'!$G$228","v":0},"#'T2-B(PP1)'!$G$228"]
["pp1_bl4_6_total",{"$f":"'T2-B(PP1)'!$J$219","v":0},"#'T2-B(PP1)'!$J$219"]
["pp1_bl4_6_total_in",{"$f":"'T2-B(PP1)'!$F$219","v":0},"#'T2-B(PP1)'!$F$219"]
["pp1_bl4_6_total_out",{"$f":"'T2-B(PP1)'!$I$219","v":0},"#'T2-B(PP1)'!$I$219"]
["pp1_bl4_7_1_name",{"$f":"'T2-B(PP1)'!$B$241","v":0},"#'T2-B(PP1)'!$B$241"]
["pp1_bl4_7_1_rate_in",{"$f":"'T2-B(PP1)'!$E$241","v":0},"#'T2-B(PP1)'!$E$241"]
["pp1_bl4_7_1_rate_out",{"$f":"'T2-B(PP1)'!$H$241","v":0},"#'T2-B(PP1)'!$H$241"]
["pp1_bl4_7_1_total",{"$f":"'T2-B(PP1)'!$J$241","v":0},"#'T2-B(PP1)'!$J$241"]
["pp1_bl4_7_1_total_in",{"$f":"'T2-B(PP1)'!$F$241","v":0},"#'T2-B(PP1)'!$F$241"]
["pp1_bl4_7_1_total_out",{"$f":"'T2-B(PP1)'!$I$241","v":0},"#'T2-B(PP1)'!$I$241"]
["pp1_bl4_7_1_unit",{"$f":"'T2-B(PP1)'!$C$241","v":0},"#'T2-B(PP1)'!$C$241"]
["pp1_bl4_7_1_unit_in",{"$f":"'T2-B(PP1)'!$D$241","v":0},"#'T2-B(PP1)'!$D$241"]
["pp1_bl4_7_1_units_out",{"$f":"'T2-B(PP1)'!$G$241","v":0},"#'T2-B(PP1)'!$G$241"]
["pp1_bl4_7_10_name",{"$f":"'T2-B(PP1)'!$B$250","v":0},"#'T2-B(PP1)'!$B$250"]
["pp1_bl4_7_10_rate_in",{"$f":"'T2-B(PP1)'!$E$250","v":0},"#'T2-B(PP1)'!$E$250"]
["pp1_bl4_7_10_rate_out",{"$f":"'T2-B(PP1)'!$H$250","v":0},"#'T2-B(PP1)'!$H$250"]
["pp1_bl4_7_10_total",{"$f":"'T2-B(PP1)'!$J$250","v":0},"#'T2-B(PP1)'!$J$250"]
["pp1_bl4_7_10_total_in",{"$f":"'T2-B(PP1)'!$F$250","v":0},"#'T2-B(PP1)'!$F$250"]
["pp1_bl4_7_10_total_out",{"$f":"'T2-B(PP1)'!$I$250","v":0},"#'T2-B(PP1)'!$I$250"]
["pp1_bl4_7_10_unit",{"$f":"'T2-B(PP1)'!$C$250","v":0},"#'T2-B(PP1)'!$C$250"]
["pp1_bl4_7_10_unit_in",{"$f":"'T2-B(PP1)'!$D$250","v":0},"#'T2-B(PP1)'!$D$250"]
["pp1_bl4_7_10_units_out",{"$f":"'T2-B(PP1)'!$G$250","v":0},"#'T2-B(PP1)'!$G$250"]
["pp1_bl4_7_2_name",{"$f":"'T2-B(PP1)'!$B$242","v":0},"#'T2-B(PP1)'!$B$242"]
["pp1_bl4_7_2_rate_in",{"$f":"'T2-B(PP1)'!$E$242","v":0},"#'T2-B(PP1)'!$E$242"]
["pp1_bl4_7_2_rate_out",{"$f":"'T2-B(PP1)'!$H$242","v":0},"#'T2-B(PP1)'!$H$242"]
["pp1_bl4_7_2_total",{"$f":"'T2-B(PP1)'!$J$242","v":0},"#'T2-B(PP1)'!$J$242"]
["pp1_bl4_7_2_total_in",{"$f":"'T2-B(PP1)'!$F$242","v":0},"#'T2-B(PP1)'!$F$242"]
["pp1_bl4_7_2_total_out",{"$f":"'T2-B(PP1)'!$I$242","v":0},"#'T2-B(PP1)'!$I$242"]
["pp1_bl4_7_2_unit",{"$f":"'T2-B(PP1)'!$C$242","v":0},"#'T2-B(PP1)'!$C$242"]
["pp1_bl4_7_2_unit_in",{"$f":"'T2-B(PP1)'!$D$242","v":0},"#'T2-B(PP1)'!$D$242"]
["pp1_bl4_7_2_units_out",{"$f":"'T2-B(PP1)'!$G$242","v":0},"#'T2-B(PP1)'!$G$242"]
["pp1_bl4_7_3_name",{"$f":"'T2-B(PP1)'!$B$243","v":0},"#'T2-B(PP1)'!$B$243"]
["pp1_bl4_7_3_rate_in",{"$f":"'T2-B(PP1)'!$E$243","v":0},"#'T2-B(PP1)'!$E$243"]
["pp1_bl4_7_3_rate_out",{"$f":"'T2-B(PP1)'!$H$243","v":0},"#'T2-B(PP1)'!$H$243"]
["pp1_bl4_7_3_total",{"$f":"'T2-B(PP1)'!$J$243","v":0},"#'T2-B(PP1)'!$J$243"]
["pp1_bl4_7_3_total_in",{"$f":"'T2-B(PP1)'!$F$243","v":0},"#'T2-B(PP1)'!$F$243"]
["pp1_bl4_7_3_total_out",{"$f":"'T2-B(PP1)'!$I$243","v":0},"#'T2-B(PP1)'!$I$243"]
["pp1_bl4_7_3_unit",{"$f":"'T2-B(PP1)'!$C$243","v":0},"#'T2-B(PP1)'!$C$243"]
["pp1_bl4_7_3_unit_in",{"$f":"'T2-B(PP1)'!$D$243","v":0},"#'T2-B(PP1)'!$D$243"]
["pp1_bl4_7_3_units_out",{"$f":"'T2-B(PP1)'!$G$243","v":0},"#'T2-B(PP1)'!$G$243"]
["pp1_bl4_7_4_name",{"$f":"'T2-B(PP1)'!$B$244","v":0},"#'T2-B(PP1)'!$B$244"]
["pp1_bl4_7_4_rate_in",{"$f":"'T2-B(PP1)'!$E$244","v":0},"#'T2-B(PP1)'!$E$244"]
["pp1_bl4_7_4_rate_out",{"$f":"'T2-B(PP1)'!$H$244","v":0},"#'T2-B(PP1)'!$H$244"]
["pp1_bl4_7_4_total",{"$f":"'T2-B(PP1)'!$J$244","v":0},"#'T2-B(PP1)'!$J$244"]
["pp1_bl4_7_4_total_in",{"$f":"'T2-B(PP1)'!$F$244","v":0},"#'T2-B(PP1)'!$F$244"]
["pp1_bl4_7_4_total_out",{"$f":"'T2-B(PP1)'!$I$244","v":0},"#'T2-B(PP1)'!$I$244"]
["pp1_bl4_7_4_unit",{"$f":"'T2-B(PP1)'!$C$244","v":0},"#'T2-B(PP1)'!$C$244"]
["pp1_bl4_7_4_unit_in",{"$f":"'T2-B(PP1)'!$D$244","v":0},"#'T2-B(PP1)'!$D$244"]
["pp1_bl4_7_4_units_out",{"$f":"'T2-B(PP1)'!$G$244","v":0},"#'T2-B(PP1)'!$G$244"]
["pp1_bl4_7_5_name",{"$f":"'T2-B(PP1)'!$B$245","v":0},"#'T2-B(PP1)'!$B$245"]
["pp1_bl4_7_5_rate_in",{"$f":"'T2-B(PP1)'!$E$245","v":0},"#'T2-B(PP1)'!$E$245"]
["pp1_bl4_7_5_rate_out",{"$f":"'T2-B(PP1)'!$H$245","v":0},"#'T2-B(PP1)'!$H$245"]
["pp1_bl4_7_5_total",{"$f":"'T2-B(PP1)'!$J$245","v":0},"#'T2-B(PP1)'!$J$245"]
["pp1_bl4_7_5_total_in",{"$f":"'T2-B(PP1)'!$F$245","v":0},"#'T2-B(PP1)'!$F$245"]
["pp1_bl4_7_5_total_out",{"$f":"'T2-B(PP1)'!$I$245","v":0},"#'T2-B(PP1)'!$I$245"]
["pp1_bl4_7_5_unit",{"$f":"'T2-B(PP1)'!$C$245","v":0},"#'T2-B(PP1)'!$C$245"]
["pp1_bl4_7_5_unit_in",{"$f":"'T2-B(PP1)'!$D$245","v":0},"#'T2-B(PP1)'!$D$245"]
["pp1_bl4_7_5_units_out",{"$f":"'T2-B(PP1)'!$G$245","v":0},"#'T2-B(PP1)'!$G$245"]
["pp1_bl4_7_6_name",{"$f":"'T2-B(PP1)'!$B$246","v":0},"#'T2-B(PP1)'!$B$246"]
["pp1_bl4_7_6_rate_in",{"$f":"'T2-B(PP1)'!$E$246","v":0},"#'T2-B(PP1)'!$E$246"]
["pp1_bl4_7_6_rate_out",{"$f":"'T2-B(PP1)'!$H$246","v":0},"#'T2-B(PP1)'!$H$246"]
["pp1_bl4_7_6_total",{"$f":"'T2-B(PP1)'!$J$246","v":0},"#'T2-B(PP1)'!$J$246"]
["pp1_bl4_7_6_total_in",{"$f":"'T2-B(PP1)'!$F$246","v":0},"#'T2-B(PP1)'!$F$246"]
["pp1_bl4_7_6_total_out",{"$f":"'T2-B(PP1)'!$I$246","v":0},"#'T2-B(PP1)'!$I$246"]
["pp1_bl4_7_6_unit",{"$f":"'T2-B(PP1)'!$C$246","v":0},"#'T2-B(PP1)'!$C$246"]
["pp1_bl4_7_6_unit_in",{"$f":"'T2-B(PP1)'!$D$246","v":0},"#'T2-B(PP1)'!$D$246"]
["pp1_bl4_7_6_units_out",{"$f":"'T2-B(PP1)'!$G$246","v":0},"#'T2-B(PP1)'!$G$246"]
["pp1_bl4_7_7_name",{"$f":"'T2-B(PP1)'!$B$247","v":0},"#'T2-B(PP1)'!$B$247"]
["pp1_bl4_7_7_rate_in",{"$f":"'T2-B(PP1)'!$E$247","v":0},"#'T2-B(PP1)'!$E$247"]
["pp1_bl4_7_7_rate_out",{"$f":"'T2-B(PP1)'!$H$247","v":0},"#'T2-B(PP1)'!$H$247"]
["pp1_bl4_7_7_total",{"$f":"'T2-B(PP1)'!$J$247","v":0},"#'T2-B(PP1)'!$J$247"]
["pp1_bl4_7_7_total_in",{"$f":"'T2-B(PP1)'!$F$247","v":0},"#'T2-B(PP1)'!$F$247"]
["pp1_bl4_7_7_total_out",{"$f":"'T2-B(PP1)'!$I$247","v":0},"#'T2-B(PP1)'!$I$247"]
["pp1_bl4_7_7_unit",{"$f":"'T2-B(PP1)'!$C$247","v":0},"#'T2-B(PP1)'!$C$247"]
["pp1_bl4_7_7_unit_in",{"$f":"'T2-B(PP1)'!$D$247","v":0},"#'T2-B(PP1)'!$D$247"]
["pp1_bl4_7_7_units_out",{"$f":"'T2-B(PP1)'!$G$247","v":0},"#'T2-B(PP1)'!$G$247"]
["pp1_bl4_7_8_name",{"$f":"'T2-B(PP1)'!$B$248","v":0},"#'T2-B(PP1)'!$B$248"]
["pp1_bl4_7_8_rate_in",{"$f":"'T2-B(PP1)'!$E$248","v":0},"#'T2-B(PP1)'!$E$248"]
["pp1_bl4_7_8_rate_out",{"$f":"'T2-B(PP1)'!$H$248","v":0},"#'T2-B(PP1)'!$H$248"]
["pp1_bl4_7_8_total",{"$f":"'T2-B(PP1)'!$J$248","v":0},"#'T2-B(PP1)'!$J$248"]
["pp1_bl4_7_8_total_in",{"$f":"'T2-B(PP1)'!$F$248","v":0},"#'T2-B(PP1)'!$F$248"]
["pp1_bl4_7_8_total_out",{"$f":"'T2-B(PP1)'!$I$248","v":0},"#'T2-B(PP1)'!$I$248"]
["pp1_bl4_7_8_unit",{"$f":"'T2-B(PP1)'!$C$248","v":0},"#'T2-B(PP1)'!$C$248"]
["pp1_bl4_7_8_unit_in",{"$f":"'T2-B(PP1)'!$D$248","v":0},"#'T2-B(PP1)'!$D$248"]
["pp1_bl4_7_8_units_out",{"$f":"'T2-B(PP1)'!$G$248","v":0},"#'T2-B(PP1)'!$G$248"]
["pp1_bl4_7_9_name",{"$f":"'T2-B(PP1)'!$B$249","v":0},"#'T2-B(PP1)'!$B$249"]
["pp1_bl4_7_9_rate_in",{"$f":"'T2-B(PP1)'!$E$249","v":0},"#'T2-B(PP1)'!$E$249"]
["pp1_bl4_7_9_rate_out",{"$f":"'T2-B(PP1)'!$H$249","v":0},"#'T2-B(PP1)'!$H$249"]
["pp1_bl4_7_9_total",{"$f":"'T2-B(PP1)'!$J$249","v":0},"#'T2-B(PP1)'!$J$249"]
["pp1_bl4_7_9_total_in",{"$f":"'T2-B(PP1)'!$F$249","v":0},"#'T2-B(PP1)'!$F$249"]
["pp1_bl4_7_9_total_out",{"$f":"'T2-B(PP1)'!$I$249","v":0},"#'T2-B(PP1)'!$I$249"]
["pp1_bl4_7_9_unit",{"$f":"'T2-B(PP1)'!$C$249","v":0},"#'T2-B(PP1)'!$C$249"]
["pp1_bl4_7_9_unit_in",{"$f":"'T2-B(PP1)'!$D$249","v":0},"#'T2-B(PP1)'!$D$249"]
["pp1_bl4_7_9_units_out",{"$f":"'T2-B(PP1)'!$G$249","v":0},"#'T2-B(PP1)'!$G$249"]
["pp1_bl4_7_total",{"$f":"'T2-B(PP1)'!$J$240","v":0},"#'T2-B(PP1)'!$J$240"]
["pp1_bl4_7_total_in",{"$f":"'T2-B(PP1)'!$F$240","v":0},"#'T2-B(PP1)'!$F$240"]
["pp1_bl4_7_total_out",{"$f":"'T2-B(PP1)'!$I$240","v":0},"#'T2-B(PP1)'!$I$240"]
["pp1_bl4_8_1_name",{"$f":"'T2-B(PP1)'!$B$262","v":0},"#'T2-B(PP1)'!$B$262"]
["pp1_bl4_8_1_rate_in",{"$f":"'T2-B(PP1)'!$E$262","v":0},"#'T2-B(PP1)'!$E$262"]
["pp1_bl4_8_1_rate_out",{"$f":"'T2-B(PP1)'!$H$262","v":0},"#'T2-B(PP1)'!$H$262"]
["pp1_bl4_8_1_total",{"$f":"'T2-B(PP1)'!$J$262","v":0},"#'T2-B(PP1)'!$J$262"]
["pp1_bl4_8_1_total_in",{"$f":"'T2-B(PP1)'!$F$262","v":0},"#'T2-B(PP1)'!$F$262"]
["pp1_bl4_8_1_total_out",{"$f":"'T2-B(PP1)'!$I$262","v":0},"#'T2-B(PP1)'!$I$262"]
["pp1_bl4_8_1_unit",{"$f":"'T2-B(PP1)'!$C$262","v":0},"#'T2-B(PP1)'!$C$262"]
["pp1_bl4_8_1_unit_in",{"$f":"'T2-B(PP1)'!$D$262","v":0},"#'T2-B(PP1)'!$D$262"]
["pp1_bl4_8_1_units_out",{"$f":"'T2-B(PP1)'!$G$262","v":0},"#'T2-B(PP1)'!$G$262"]
["pp1_bl4_8_10_name",{"$f":"'T2-B(PP1)'!$B$271","v":0},"#'T2-B(PP1)'!$B$271"]
["pp1_bl4_8_10_rate_in",{"$f":"'T2-B(PP1)'!$E$271","v":0},"#'T2-B(PP1)'!$E$271"]
["pp1_bl4_8_10_rate_out",{"$f":"'T2-B(PP1)'!$H$271","v":0},"#'T2-B(PP1)'!$H$271"]
["pp1_bl4_8_10_total",{"$f":"'T2-B(PP1)'!$J$271","v":0},"#'T2-B(PP1)'!$J$271"]
["pp1_bl4_8_10_total_in",{"$f":"'T2-B(PP1)'!$F$271","v":0},"#'T2-B(PP1)'!$F$271"]
["pp1_bl4_8_10_total_out",{"$f":"'T2-B(PP1)'!$I$271","v":0},"#'T2-B(PP1)'!$I$271"]
["pp1_bl4_8_10_unit",{"$f":"'T2-B(PP1)'!$C$271","v":0},"#'T2-B(PP1)'!$C$271"]
["pp1_bl4_8_10_unit_in",{"$f":"'T2-B(PP1)'!$D$271","v":0},"#'T2-B(PP1)'!$D$271"]
["pp1_bl4_8_10_units_out",{"$f":"'T2-B(PP1)'!$G$271","v":0},"#'T2-B(PP1)'!$G$271"]
["pp1_bl4_8_2_name",{"$f":"'T2-B(PP1)'!$B$263","v":0},"#'T2-B(PP1)'!$B$263"]
["pp1_bl4_8_2_rate_in",{"$f":"'T2-B(PP1)'!$E$263","v":0},"#'T2-B(PP1)'!$E$263"]
["pp1_bl4_8_2_rate_out",{"$f":"'T2-B(PP1)'!$H$263","v":0},"#'T2-B(PP1)'!$H$263"]
["pp1_bl4_8_2_total",{"$f":"'T2-B(PP1)'!$J$263","v":0},"#'T2-B(PP1)'!$J$263"]
["pp1_bl4_8_2_total_in",{"$f":"'T2-B(PP1)'!$F$263","v":0},"#'T2-B(PP1)'!$F$263"]
["pp1_bl4_8_2_total_out",{"$f":"'T2-B(PP1)'!$I$263","v":0},"#'T2-B(PP1)'!$I$263"]
["pp1_bl4_8_2_unit",{"$f":"'T2-B(PP1)'!$C$263","v":0},"#'T2-B(PP1)'!$C$263"]
["pp1_bl4_8_2_unit_in",{"$f":"'T2-B(PP1)'!$D$263","v":0},"#'T2-B(PP1)'!$D$263"]
["pp1_bl4_8_2_units_out",{"$f":"'T2-B(PP1)'!$G$263","v":0},"#'T2-B(PP1)'!$G$263"]
["pp1_bl4_8_3_name",{"$f":"'T2-B(PP1)'!$B$264","v":0},"#'T2-B(PP1)'!$B$264"]
["pp1_bl4_8_3_rate_in",{"$f":"'T2-B(PP1)'!$E$264","v":0},"#'T2-B(PP1)'!$E$264"]
["pp1_bl4_8_3_rate_out",{"$f":"'T2-B(PP1)'!$H$264","v":0},"#'T2-B(PP1)'!$H$264"]
["pp1_bl4_8_3_total",{"$f":"'T2-B(PP1)'!$J$264","v":0},"#'T2-B(PP1)'!$J$264"]
["pp1_bl4_8_3_total_in",{"$f":"'T2-B(PP1)'!$F$264","v":0},"#'T2-B(PP1)'!$F$264"]
["pp1_bl4_8_3_total_out",{"$f":"'T2-B(PP1)'!$I$264","v":0},"#'T2-B(PP1)'!$I$264"]
["pp1_bl4_8_3_unit",{"$f":"'T2-B(PP1)'!$C$264","v":0},"#'T2-B(PP1)'!$C$264"]
["pp1_bl4_8_3_unit_in",{"$f":"'T2-B(PP1)'!$D$264","v":0},"#'T2-B(PP1)'!$D$264"]
["pp1_bl4_8_3_units_out",{"$f":"'T2-B(PP1)'!$G$264","v":0},"#'T2-B(PP1)'!$G$264"]
["pp1_bl4_8_4_name",{"$f":"'T2-B(PP1)'!$B$265","v":0},"#'T2-B(PP1)'!$B$265"]
["pp1_bl4_8_4_rate_in",{"$f":"'T2-B(PP1)'!$E$265","v":0},"#'T2-B(PP1)'!$E$265"]
["pp1_bl4_8_4_rate_out",{"$f":"'T2-B(PP1)'!$H$265","v":0},"#'T2-B(PP1)'!$H$265"]
["pp1_bl4_8_4_total",{"$f":"'T2-B(PP1)'!$J$265","v":0},"#'T2-B(PP1)'!$J$265"]
["pp1_bl4_8_4_total_in",{"$f":"'T2-B(PP1)'!$F$265","v":0},"#'T2-B(PP1)'!$F$265"]
["pp1_bl4_8_4_total_out",{"$f":"'T2-B(PP1)'!$I$265","v":0},"#'T2-B(PP1)'!$I$265"]
["pp1_bl4_8_4_unit",{"$f":"'T2-B(PP1)'!$C$265","v":0},"#'T2-B(PP1)'!$C$265"]
["pp1_bl4_8_4_unit_in",{"$f":"'T2-B(PP1)'!$D$265","v":0},"#'T2-B(PP1)'!$D$265"]
["pp1_bl4_8_4_units_out",{"$f":"'T2-B(PP1)'!$G$265","v":0},"#'T2-B(PP1)'!$G$265"]
["pp1_bl4_8_5_name",{"$f":"'T2-B(PP1)'!$B$266","v":0},"#'T2-B(PP1)'!$B$266"]
["pp1_bl4_8_5_rate_in",{"$f":"'T2-B(PP1)'!$E$266","v":0},"#'T2-B(PP1)'!$E$266"]
["pp1_bl4_8_5_rate_out",{"$f":"'T2-B(PP1)'!$H$266","v":0},"#'T2-B(PP1)'!$H$266"]
["pp1_bl4_8_5_total",{"$f":"'T2-B(PP1)'!$J$266","v":0},"#'T2-B(PP1)'!$J$266"]
["pp1_bl4_8_5_total_in",{"$f":"'T2-B(PP1)'!$F$266","v":0},"#'T2-B(PP1)'!$F$266"]
["pp1_bl4_8_5_total_out",{"$f":"'T2-B(PP1)'!$I$266","v":0},"#'T2-B(PP1)'!$I$266"]
["pp1_bl4_8_5_unit",{"$f":"'T2-B(PP1)'!$C$266","v":0},"#'T2-B(PP1)'!$C$266"]
["pp1_bl4_8_5_unit_in",{"$f":"'T2-B(PP1)'!$D$266","v":0},"#'T2-B(PP1)'!$D$266"]
["pp1_bl4_8_5_units_out",{"$f":"'T2-B(PP1)'!$G$266","v":0},"#'T2-B(PP1)'!$G$266"]
["pp1_bl4_8_6_name",{"$f":"'T2-B(PP1)'!$B$267","v":0},"#'T2-B(PP1)'!$B$267"]
["pp1_bl4_8_6_rate_in",{"$f":"'T2-B(PP1)'!$E$267","v":0},"#'T2-B(PP1)'!$E$267"]
["pp1_bl4_8_6_rate_out",{"$f":"'T2-B(PP1)'!$H$267","v":0},"#'T2-B(PP1)'!$H$267"]
["pp1_bl4_8_6_total",{"$f":"'T2-B(PP1)'!$J$267","v":0},"#'T2-B(PP1)'!$J$267"]
["pp1_bl4_8_6_total_in",{"$f":"'T2-B(PP1)'!$F$267","v":0},"#'T2-B(PP1)'!$F$267"]
["pp1_bl4_8_6_total_out",{"$f":"'T2-B(PP1)'!$I$267","v":0},"#'T2-B(PP1)'!$I$267"]
["pp1_bl4_8_6_unit",{"$f":"'T2-B(PP1)'!$C$267","v":0},"#'T2-B(PP1)'!$C$267"]
["pp1_bl4_8_6_unit_in",{"$f":"'T2-B(PP1)'!$D$267","v":0},"#'T2-B(PP1)'!$D$267"]
["pp1_bl4_8_6_units_out",{"$f":"'T2-B(PP1)'!$G$267","v":0},"#'T2-B(PP1)'!$G$267"]
["pp1_bl4_8_7_name",{"$f":"'T2-B(PP1)'!$B$268","v":0},"#'T2-B(PP1)'!$B$268"]
["pp1_bl4_8_7_rate_in",{"$f":"'T2-B(PP1)'!$E$268","v":0},"#'T2-B(PP1)'!$E$268"]
["pp1_bl4_8_7_rate_out",{"$f":"'T2-B(PP1)'!$H$268","v":0},"#'T2-B(PP1)'!$H$268"]
["pp1_bl4_8_7_total",{"$f":"'T2-B(PP1)'!$J$268","v":0},"#'T2-B(PP1)'!$J$268"]
["pp1_bl4_8_7_total_in",{"$f":"'T2-B(PP1)'!$F$268","v":0},"#'T2-B(PP1)'!$F$268"]
["pp1_bl4_8_7_total_out",{"$f":"'T2-B(PP1)'!$I$268","v":0},"#'T2-B(PP1)'!$I$268"]
["pp1_bl4_8_7_unit",{"$f":"'T2-B(PP1)'!$C$268","v":0},"#'T2-B(PP1)'!$C$268"]
["pp1_bl4_8_7_unit_in",{"$f":"'T2-B(PP1)'!$D$268","v":0},"#'T2-B(PP1)'!$D$268"]
["pp1_bl4_8_7_units_out",{"$f":"'T2-B(PP1)'!$G$268","v":0},"#'T2-B(PP1)'!$G$268"]
["pp1_bl4_8_8_name",{"$f":"'T2-B(PP1)'!$B$269","v":0},"#'T2-B(PP1)'!$B$269"]
["pp1_bl4_8_8_rate_in",{"$f":"'T2-B(PP1)'!$E$269","v":0},"#'T2-B(PP1)'!$E$269"]
["pp1_bl4_8_8_rate_out",{"$f":"'T2-B(PP1)'!$H$269","v":0},"#'T2-B(PP1)'!$H$269"]
["pp1_bl4_8_8_total",{"$f":"'T2-B(PP1)'!$J$269","v":0},"#'T2-B(PP1)'!$J$269"]
["pp1_bl4_8_8_total_in",{"$f":"'T2-B(PP1)'!$F$269","v":0},"#'T2-B(PP1)'!$F$269"]
["pp1_bl4_8_8_total_out",{"$f":"'T2-B(PP1)'!$I$269","v":0},"#'T2-B(PP1)'!$I$269"]
["pp1_bl4_8_8_unit",{"$f":"'T2-B(PP1)'!$C$269","v":0},"#'T2-B(PP1)'!$C$269"]
["pp1_bl4_8_8_unit_in",{"$f":"'T2-B(PP1)'!$D$269","v":0},"#'T2-B(PP1)'!$D$269"]
["pp1_bl4_8_8_units_out",{"$f":"'T2-B(PP1)'!$G$269","v":0},"#'T2-B(PP1)'!$G$269"]
["pp1_bl4_8_9_name",{"$f":"'T2-B(PP1)'!$B$270","v":0},"#'T2-B(PP1)'!$B$270"]
["pp1_bl4_8_9_rate_in",{"$f":"'T2-B(PP1)'!$E$270","v":0},"#'T2-B(PP1)'!$E$270"]
["pp1_bl4_8_9_rate_out",{"$f":"'T2-B(PP1)'!$H$270","v":0},"#'T2-B(PP1)'!$H$270"]
["pp1_bl4_8_9_total",{"$f":"'T2-B(PP1)'!$J$270","v":0},"#'T2-B(PP1)'!$J$270"]
["pp1_bl4_8_9_total_in",{"$f":"'T2-B(PP1)'!$F$270","v":0},"#'T2-B(PP1)'!$F$270"]
["pp1_bl4_8_9_total_out",{"$f":"'T2-B(PP1)'!$I$270","v":0},"#'T2-B(PP1)'!$I$270"]
["pp1_bl4_8_9_unit",{"$f":"'T2-B(PP1)'!$C$270","v":0},"#'T2-B(PP1)'!$C$270"]
["pp1_bl4_8_9_unit_in",{"$f":"'T2-B(PP1)'!$D$270","v":0},"#'T2-B(PP1)'!$D$270"]
["pp1_bl4_8_9_units_out",{"$f":"'T2-B(PP1)'!$G$270","v":0},"#'T2-B(PP1)'!$G$270"]
["pp1_bl4_8_total",{"$f":"'T2-B(PP1)'!$J$261","v":0},"#'T2-B(PP1)'!$J$261"]
["pp1_bl4_8_total_in",{"$f":"'T2-B(PP1)'!$F$261","v":0},"#'T2-B(PP1)'!$F$261"]
["pp1_bl4_8_total_out",{"$f":"'T2-B(PP1)'!$I$261","v":0},"#'T2-B(PP1)'!$I$261"]
["pp1_bl4_9_1_name",{"$f":"'T2-B(PP1)'!$B$283","v":0},"#'T2-B(PP1)'!$B$283"]
["pp1_bl4_9_1_rate_in",{"$f":"'T2-B(PP1)'!$E$283","v":0},"#'T2-B(PP1)'!$E$283"]
["pp1_bl4_9_1_rate_out",{"$f":"'T2-B(PP1)'!$H$283","v":0},"#'T2-B(PP1)'!$H$283"]
["pp1_bl4_9_1_total",{"$f":"'T2-B(PP1)'!$J$283","v":0},"#'T2-B(PP1)'!$J$283"]
["pp1_bl4_9_1_total_in",{"$f":"'T2-B(PP1)'!$F$283","v":0},"#'T2-B(PP1)'!$F$283"]
["pp1_bl4_9_1_total_out",{"$f":"'T2-B(PP1)'!$I$283","v":0},"#'T2-B(PP1)'!$I$283"]
["pp1_bl4_9_1_unit",{"$f":"'T2-B(PP1)'!$C$283","v":0},"#'T2-B(PP1)'!$C$283"]
["pp1_bl4_9_1_unit_in",{"$f":"'T2-B(PP1)'!$D$283","v":0},"#'T2-B(PP1)'!$D$283"]
["pp1_bl4_9_1_units_out",{"$f":"'T2-B(PP1)'!$G$283","v":0},"#'T2-B(PP1)'!$G$283"]
["pp1_bl4_9_10_name",{"$f":"'T2-B(PP1)'!$B$292","v":0},"#'T2-B(PP1)'!$B$292"]
["pp1_bl4_9_10_rate_in",{"$f":"'T2-B(PP1)'!$E$292","v":0},"#'T2-B(PP1)'!$E$292"]
["pp1_bl4_9_10_rate_out",{"$f":"'T2-B(PP1)'!$H$292","v":0},"#'T2-B(PP1)'!$H$292"]
["pp1_bl4_9_10_total",{"$f":"'T2-B(PP1)'!$J$292","v":0},"#'T2-B(PP1)'!$J$292"]
["pp1_bl4_9_10_total_in",{"$f":"'T2-B(PP1)'!$F$292","v":0},"#'T2-B(PP1)'!$F$292"]
["pp1_bl4_9_10_total_out",{"$f":"'T2-B(PP1)'!$I$292","v":0},"#'T2-B(PP1)'!$I$292"]
["pp1_bl4_9_10_unit",{"$f":"'T2-B(PP1)'!$C$292","v":0},"#'T2-B(PP1)'!$C$292"]
["pp1_bl4_9_10_unit_in",{"$f":"'T2-B(PP1)'!$D$292","v":0},"#'T2-B(PP1)'!$D$292"]
["pp1_bl4_9_10_units_out",{"$f":"'T2-B(PP1)'!$G$292","v":0},"#'T2-B(PP1)'!$G$292"]
["pp1_bl4_9_2_name",{"$f":"'T2-B(PP1)'!$B$284","v":0},"#'T2-B(PP1)'!$B$284"]
["pp1_bl4_9_2_rate_in",{"$f":"'T2-B(PP1)'!$E$284","v":0},"#'T2-B(PP1)'!$E$284"]
["pp1_bl4_9_2_rate_out",{"$f":"'T2-B(PP1)'!$H$284","v":0},"#'T2-B(PP1)'!$H$284"]
["pp1_bl4_9_2_total",{"$f":"'T2-B(PP1)'!$J$284","v":0},"#'T2-B(PP1)'!$J$284"]
["pp1_bl4_9_2_total_in",{"$f":"'T2-B(PP1)'!$F$284","v":0},"#'T2-B(PP1)'!$F$284"]
["pp1_bl4_9_2_total_out",{"$f":"'T2-B(PP1)'!$I$284","v":0},"#'T2-B(PP1)'!$I$284"]
["pp1_bl4_9_2_unit",{"$f":"'T2-B(PP1)'!$C$284","v":0},"#'T2-B(PP1)'!$C$284"]
["pp1_bl4_9_2_unit_in",{"$f":"'T2-B(PP1)'!$D$284","v":0},"#'T2-B(PP1)'!$D$284"]
["pp1_bl4_9_2_units_out",{"$f":"'T2-B(PP1)'!$G$284","v":0},"#'T2-B(PP1)'!$G$284"]
["pp1_bl4_9_3_name",{"$f":"'T2-B(PP1)'!$B$285","v":0},"#'T2-B(PP1)'!$B$285"]
["pp1_bl4_9_3_rate_in",{"$f":"'T2-B(PP1)'!$E$285","v":0},"#'T2-B(PP1)'!$E$285"]
["pp1_bl4_9_3_rate_out",{"$f":"'T2-B(PP1)'!$H$285","v":0},"#'T2-B(PP1)'!$H$285"]
["pp1_bl4_9_3_total",{"$f":"'T2-B(PP1)'!$J$285","v":0},"#'T2-B(PP1)'!$J$285"]
["pp1_bl4_9_3_total_in",{"$f":"'T2-B(PP1)'!$F$285","v":0},"#'T2-B(PP1)'!$F$285"]
["pp1_bl4_9_3_total_out",{"$f":"'T2-B(PP1)'!$I$285","v":0},"#'T2-B(PP1)'!$I$285"]
["pp1_bl4_9_3_unit",{"$f":"'T2-B(PP1)'!$C$285","v":0},"#'T2-B(PP1)'!$C$285"]
["pp1_bl4_9_3_unit_in",{"$f":"'T2-B(PP1)'!$D$285","v":0},"#'T2-B(PP1)'!$D$285"]
["pp1_bl4_9_3_units_out",{"$f":"'T2-B(PP1)'!$G$285","v":0},"#'T2-B(PP1)'!$G$285"]
["pp1_bl4_9_4_name",{"$f":"'T2-B(PP1)'!$B$286","v":0},"#'T2-B(PP1)'!$B$286"]
["pp1_bl4_9_4_rate_in",{"$f":"'T2-B(PP1)'!$E$286","v":0},"#'T2-B(PP1)'!$E$286"]
["pp1_bl4_9_4_rate_out",{"$f":"'T2-B(PP1)'!$H$286","v":0},"#'T2-B(PP1)'!$H$286"]
["pp1_bl4_9_4_total",{"$f":"'T2-B(PP1)'!$J$286","v":0},"#'T2-B(PP1)'!$J$286"]
["pp1_bl4_9_4_total_in",{"$f":"'T2-B(PP1)'!$F$286","v":0},"#'T2-B(PP1)'!$F$286"]
["pp1_bl4_9_4_total_out",{"$f":"'T2-B(PP1)'!$I$286","v":0},"#'T2-B(PP1)'!$I$286"]
["pp1_bl4_9_4_unit",{"$f":"'T2-B(PP1)'!$C$286","v":0},"#'T2-B(PP1)'!$C$286"]
["pp1_bl4_9_4_unit_in",{"$f":"'T2-B(PP1)'!$D$286","v":0},"#'T2-B(PP1)'!$D$286"]
["pp1_bl4_9_4_units_out",{"$f":"'T2-B(PP1)'!$G$286","v":0},"#'T2-B(PP1)'!$G$286"]
["pp1_bl4_9_5_name",{"$f":"'T2-B(PP1)'!$B$287","v":0},"#'T2-B(PP1)'!$B$287"]
["pp1_bl4_9_5_rate_in",{"$f":"'T2-B(PP1)'!$E$287","v":0},"#'T2-B(PP1)'!$E$287"]
["pp1_bl4_9_5_rate_out",{"$f":"'T2-B(PP1)'!$H$287","v":0},"#'T2-B(PP1)'!$H$287"]
["pp1_bl4_9_5_total",{"$f":"'T2-B(PP1)'!$J$287","v":0},"#'T2-B(PP1)'!$J$287"]
["pp1_bl4_9_5_total_in",{"$f":"'T2-B(PP1)'!$F$287","v":0},"#'T2-B(PP1)'!$F$287"]
["pp1_bl4_9_5_total_out",{"$f":"'T2-B(PP1)'!$I$287","v":0},"#'T2-B(PP1)'!$I$287"]
["pp1_bl4_9_5_unit",{"$f":"'T2-B(PP1)'!$C$287","v":0},"#'T2-B(PP1)'!$C$287"]
["pp1_bl4_9_5_unit_in",{"$f":"'T2-B(PP1)'!$D$287","v":0},"#'T2-B(PP1)'!$D$287"]
["pp1_bl4_9_5_units_out",{"$f":"'T2-B(PP1)'!$G$287","v":0},"#'T2-B(PP1)'!$G$287"]
["pp1_bl4_9_6_name",{"$f":"'T2-B(PP1)'!$B$288","v":0},"#'T2-B(PP1)'!$B$288"]
["pp1_bl4_9_6_rate_in",{"$f":"'T2-B(PP1)'!$E$288","v":0},"#'T2-B(PP1)'!$E$288"]
["pp1_bl4_9_6_rate_out",{"$f":"'T2-B(PP1)'!$H$288","v":0},"#'T2-B(PP1)'!$H$288"]
["pp1_bl4_9_6_total",{"$f":"'T2-B(PP1)'!$J$288","v":0},"#'T2-B(PP1)'!$J$288"]
["pp1_bl4_9_6_total_in",{"$f":"'T2-B(PP1)'!$F$288","v":0},"#'T2-B(PP1)'!$F$288"]
["pp1_bl4_9_6_total_out",{"$f":"'T2-B(PP1)'!$I$288","v":0},"#'T2-B(PP1)'!$I$288"]
["pp1_bl4_9_6_unit",{"$f":"'T2-B(PP1)'!$C$288","v":0},"#'T2-B(PP1)'!$C$288"]
["pp1_bl4_9_6_unit_in",{"$f":"'T2-B(PP1)'!$D$288","v":0},"#'T2-B(PP1)'!$D$288"]
["pp1_bl4_9_6_units_out",{"$f":"'T2-B(PP1)'!$G$288","v":0},"#'T2-B(PP1)'!$G$288"]
["pp1_bl4_9_7_name",{"$f":"'T2-B(PP1)'!$B$289","v":0},"#'T2-B(PP1)'!$B$289"]
["pp1_bl4_9_7_rate_in",{"$f":"'T2-B(PP1)'!$E$289","v":0},"#'T2-B(PP1)'!$E$289"]
["pp1_bl4_9_7_rate_out",{"$f":"'T2-B(PP1)'!$H$289","v":0},"#'T2-B(PP1)'!$H$289"]
["pp1_bl4_9_7_total",{"$f":"'T2-B(PP1)'!$J$289","v":0},"#'T2-B(PP1)'!$J$289"]
["pp1_bl4_9_7_total_in",{"$f":"'T2-B(PP1)'!$F$289","v":0},"#'T2-B(PP1)'!$F$289"]
["pp1_bl4_9_7_total_out",{"$f":"'T2-B(PP1)'!$I$289","v":0},"#'T2-B(PP1)'!$I$289"]
["pp1_bl4_9_7_unit",{"$f":"'T2-B(PP1)'!$C$289","v":0},"#'T2-B(PP1)'!$C$289"]
["pp1_bl4_9_7_unit_in",{"$f":"'T2-B(PP1)'!$D$289","v":0},"#'T2-B(PP1)'!$D$289"]
["pp1_bl4_9_7_units_out",{"$f":"'T2-B(PP1)'!$G$289","v":0},"#'T2-B(PP1)'!$G$289"]
["pp1_bl4_9_8_name",{"$f":"'T2-B(PP1)'!$B$290","v":0},"#'T2-B(PP1)'!$B$290"]
["pp1_bl4_9_8_rate_in",{"$f":"'T2-B(PP1)'!$E$290","v":0},"#'T2-B(PP1)'!$E$290"]
["pp1_bl4_9_8_rate_out",{"$f":"'T2-B(PP1)'!$H$290","v":0},"#'T2-B(PP1)'!$H$290"]
["pp1_bl4_9_8_total",{"$f":"'T2-B(PP1)'!$J$290","v":0},"#'T2-B(PP1)'!$J$290"]
["pp1_bl4_9_8_total_in",{"$f":"'T2-B(PP1)'!$F$290","v":0},"#'T2-B(PP1)'!$F$290"]
["pp1_bl4_9_8_total_out",{"$f":"'T2-B(PP1)'!$I$290","v":0},"#'T2-B(PP1)'!$I$290"]
["pp1_bl4_9_8_unit",{"$f":"'T2-B(PP1)'!$C$290","v":0},"#'T2-B(PP1)'!$C$290"]
["pp1_bl4_9_8_unit_in",{"$f":"'T2-B(PP1)'!$D$290","v":0},"#'T2-B(PP1)'!$D$290"]
["pp1_bl4_9_8_units_out",{"$f":"'T2-B(PP1)'!$G$290","v":0},"#'T2-B(PP1)'!$G$290"]
["pp1_bl4_9_9_name",{"$f":"'T2-B(PP1)'!$B$291","v":0},"#'T2-B(PP1)'!$B$291"]
["pp1_bl4_9_9_rate_in",{"$f":"'T2-B(PP1)'!$E$291","v":0},"#'T2-B(PP1)'!$E$291"]
["pp1_bl4_9_9_rate_out",{"$f":"'T2-B(PP1)'!$H$291","v":0},"#'T2-B(PP1)'!$H$291"]
["pp1_bl4_9_9_total",{"$f":"'T2-B(PP1)'!$J$291","v":0},"#'T2-B(PP1)'!$J$291"]
["pp1_bl4_9_9_total_in",{"$f":"'T2-B(PP1)'!$F$291","v":0},"#'T2-B(PP1)'!$F$291"]
["pp1_bl4_9_9_total_out",{"$f":"'T2-B(PP1)'!$I$291","v":0},"#'T2-B(PP1)'!$I$291"]
["pp1_bl4_9_9_unit",{"$f":"'T2-B(PP1)'!$C$291","v":0},"#'T2-B(PP1)'!$C$291"]
["pp1_bl4_9_9_unit_in",{"$f":"'T2-B(PP1)'!$D$291","v":0},"#'T2-B(PP1)'!$D$291"]
["pp1_bl4_9_9_units_out",{"$f":"'T2-B(PP1)'!$G$291","v":0},"#'T2-B(PP1)'!$G$291"]
["pp1_bl4_9_total",{"$f":"'T2-B(PP1)'!$J$282","v":0},"#'T2-B(PP1)'!$J$282"]
["pp1_bl4_9_total_in",{"$f":"'T2-B(PP1)'!$F$282","v":0},"#'T2-B(PP1)'!$F$282"]
["pp1_bl4_9_total_out",{"$f":"'T2-B(PP1)'!$I$282","v":0},"#'T2-B(PP1)'!$I$282"]
["pp1_bl4_total",{"$f":"'T2-B(PP1)'!$J$366","v":0},"#'T2-B(PP1)'!$J$366"]
["pp1_bl4_total_in",{"$f":"'T2-B(PP1)'!$F$366","v":0},"#'T2-B(PP1)'!$F$366"]
["pp1_bl4_total_out",{"$f":"'T2-B(PP1)'!$I$366","v":0},"#'T2-B(PP1)'!$I$366"]
["pp1_bl5_1_1_name",{"$f":"'T2-B(PP1)'!$B$371","v":0},"#'T2-B(PP1)'!$B$371"]
["pp1_bl5_1_1_rate_in",{"$f":"'T2-B(PP1)'!$E$371","v":0},"#'T2-B(PP1)'!$E$371"]
["pp1_bl5_1_1_rate_out",{"$f":"'T2-B(PP1)'!$H$371","v":0},"#'T2-B(PP1)'!$H$371"]
["pp1_bl5_1_1_total",{"$f":"'T2-B(PP1)'!$J$371","v":0},"#'T2-B(PP1)'!$J$371"]
["pp1_bl5_1_1_total_in",{"$f":"'T2-B(PP1)'!$F$371","v":0},"#'T2-B(PP1)'!$F$371"]
["pp1_bl5_1_1_total_out",{"$f":"'T2-B(PP1)'!$I$371","v":0},"#'T2-B(PP1)'!$I$371"]
["pp1_bl5_1_1_unit",{"$f":"'T2-B(PP1)'!$C$371","v":0},"#'T2-B(PP1)'!$C$371"]
["pp1_bl5_1_1_unit_in",{"$f":"'T2-B(PP1)'!$D$371","v":0},"#'T2-B(PP1)'!$D$371"]
["pp1_bl5_1_1_units_out",{"$f":"'T2-B(PP1)'!$G$371","v":0},"#'T2-B(PP1)'!$G$371"]
["pp1_bl5_1_10_name",{"$f":"'T2-B(PP1)'!$B$380","v":0},"#'T2-B(PP1)'!$B$380"]
["pp1_bl5_1_10_rate_in",{"$f":"'T2-B(PP1)'!$E$380","v":0},"#'T2-B(PP1)'!$E$380"]
["pp1_bl5_1_10_rate_out",{"$f":"'T2-B(PP1)'!$H$380","v":0},"#'T2-B(PP1)'!$H$380"]
["pp1_bl5_1_10_total",{"$f":"'T2-B(PP1)'!$J$380","v":0},"#'T2-B(PP1)'!$J$380"]
["pp1_bl5_1_10_total_in",{"$f":"'T2-B(PP1)'!$F$380","v":0},"#'T2-B(PP1)'!$F$380"]
["pp1_bl5_1_10_total_out",{"$f":"'T2-B(PP1)'!$I$380","v":0},"#'T2-B(PP1)'!$I$380"]
["pp1_bl5_1_10_unit",{"$f":"'T2-B(PP1)'!$C$380","v":0},"#'T2-B(PP1)'!$C$380"]
["pp1_bl5_1_10_unit_in",{"$f":"'T2-B(PP1)'!$D$380","v":0},"#'T2-B(PP1)'!$D$380"]
["pp1_bl5_1_10_units_out",{"$f":"'T2-B(PP1)'!$G$380","v":0},"#'T2-B(PP1)'!$G$380"]
["pp1_bl5_1_2_name",{"$f":"'T2-B(PP1)'!$B$372","v":0},"#'T2-B(PP1)'!$B$372"]
["pp1_bl5_1_2_rate_in",{"$f":"'T2-B(PP1)'!$E$372","v":0},"#'T2-B(PP1)'!$E$372"]
["pp1_bl5_1_2_rate_out",{"$f":"'T2-B(PP1)'!$H$372","v":0},"#'T2-B(PP1)'!$H$372"]
["pp1_bl5_1_2_total",{"$f":"'T2-B(PP1)'!$J$372","v":0},"#'T2-B(PP1)'!$J$372"]
["pp1_bl5_1_2_total_in",{"$f":"'T2-B(PP1)'!$F$372","v":0},"#'T2-B(PP1)'!$F$372"]
["pp1_bl5_1_2_total_out",{"$f":"'T2-B(PP1)'!$I$372","v":0},"#'T2-B(PP1)'!$I$372"]
["pp1_bl5_1_2_unit",{"$f":"'T2-B(PP1)'!$C$372","v":0},"#'T2-B(PP1)'!$C$372"]
["pp1_bl5_1_2_unit_in",{"$f":"'T2-B(PP1)'!$D$372","v":0},"#'T2-B(PP1)'!$D$372"]
["pp1_bl5_1_2_units_out",{"$f":"'T2-B(PP1)'!$G$372","v":0},"#'T2-B(PP1)'!$G$372"]
["pp1_bl5_1_3_name",{"$f":"'T2-B(PP1)'!$B$373","v":0},"#'T2-B(PP1)'!$B$373"]
["pp1_bl5_1_3_rate_in",{"$f":"'T2-B(PP1)'!$E$373","v":0},"#'T2-B(PP1)'!$E$373"]
["pp1_bl5_1_3_rate_out",{"$f":"'T2-B(PP1)'!$H$373","v":0},"#'T2-B(PP1)'!$H$373"]
["pp1_bl5_1_3_total",{"$f":"'T2-B(PP1)'!$J$373","v":0},"#'T2-B(PP1)'!$J$373"]
["pp1_bl5_1_3_total_in",{"$f":"'T2-B(PP1)'!$F$373","v":0},"#'T2-B(PP1)'!$F$373"]
["pp1_bl5_1_3_total_out",{"$f":"'T2-B(PP1)'!$I$373","v":0},"#'T2-B(PP1)'!$I$373"]
["pp1_bl5_1_3_unit",{"$f":"'T2-B(PP1)'!$C$373","v":0},"#'T2-B(PP1)'!$C$373"]
["pp1_bl5_1_3_unit_in",{"$f":"'T2-B(PP1)'!$D$373","v":0},"#'T2-B(PP1)'!$D$373"]
["pp1_bl5_1_3_units_out",{"$f":"'T2-B(PP1)'!$G$373","v":0},"#'T2-B(PP1)'!$G$373"]
["pp1_bl5_1_4_name",{"$f":"'T2-B(PP1)'!$B$374","v":0},"#'T2-B(PP1)'!$B$374"]
["pp1_bl5_1_4_rate_in",{"$f":"'T2-B(PP1)'!$E$374","v":0},"#'T2-B(PP1)'!$E$374"]
["pp1_bl5_1_4_rate_out",{"$f":"'T2-B(PP1)'!$H$374","v":0},"#'T2-B(PP1)'!$H$374"]
["pp1_bl5_1_4_total",{"$f":"'T2-B(PP1)'!$J$374","v":0},"#'T2-B(PP1)'!$J$374"]
["pp1_bl5_1_4_total_in",{"$f":"'T2-B(PP1)'!$F$374","v":0},"#'T2-B(PP1)'!$F$374"]
["pp1_bl5_1_4_total_out",{"$f":"'T2-B(PP1)'!$I$374","v":0},"#'T2-B(PP1)'!$I$374"]
["pp1_bl5_1_4_unit",{"$f":"'T2-B(PP1)'!$C$374","v":0},"#'T2-B(PP1)'!$C$374"]
["pp1_bl5_1_4_unit_in",{"$f":"'T2-B(PP1)'!$D$374","v":0},"#'T2-B(PP1)'!$D$374"]
["pp1_bl5_1_4_units_out",{"$f":"'T2-B(PP1)'!$G$374","v":0},"#'T2-B(PP1)'!$G$374"]
["pp1_bl5_1_5_name",{"$f":"'T2-B(PP1)'!$B$375","v":0},"#'T2-B(PP1)'!$B$375"]
["pp1_bl5_1_5_rate_in",{"$f":"'T2-B(PP1)'!$E$375","v":0},"#'T2-B(PP1)'!$E$375"]
["pp1_bl5_1_5_rate_out",{"$f":"'T2-B(PP1)'!$H$375","v":0},"#'T2-B(PP1)'!$H$375"]
["pp1_bl5_1_5_total",{"$f":"'T2-B(PP1)'!$J$375","v":0},"#'T2-B(PP1)'!$J$375"]
["pp1_bl5_1_5_total_in",{"$f":"'T2-B(PP1)'!$F$375","v":0},"#'T2-B(PP1)'!$F$375"]
["pp1_bl5_1_5_total_out",{"$f":"'T2-B(PP1)'!$I$375","v":0},"#'T2-B(PP1)'!$I$375"]
["pp1_bl5_1_5_unit",{"$f":"'T2-B(PP1)'!$C$375","v":0},"#'T2-B(PP1)'!$C$375"]
["pp1_bl5_1_5_unit_in",{"$f":"'T2-B(PP1)'!$D$375","v":0},"#'T2-B(PP1)'!$D$375"]
["pp1_bl5_1_5_units_out",{"$f":"'T2-B(PP1)'!$G$375","v":0},"#'T2-B(PP1)'!$G$375"]
["pp1_bl5_1_6_name",{"$f":"'T2-B(PP1)'!$B$376","v":0},"#'T2-B(PP1)'!$B$376"]
["pp1_bl5_1_6_rate_in",{"$f":"'T2-B(PP1)'!$E$376","v":0},"#'T2-B(PP1)'!$E$376"]
["pp1_bl5_1_6_rate_out",{"$f":"'T2-B(PP1)'!$H$376","v":0},"#'T2-B(PP1)'!$H$376"]
["pp1_bl5_1_6_total",{"$f":"'T2-B(PP1)'!$J$376","v":0},"#'T2-B(PP1)'!$J$376"]
["pp1_bl5_1_6_total_in",{"$f":"'T2-B(PP1)'!$F$376","v":0},"#'T2-B(PP1)'!$F$376"]
["pp1_bl5_1_6_total_out",{"$f":"'T2-B(PP1)'!$I$376","v":0},"#'T2-B(PP1)'!$I$376"]
["pp1_bl5_1_6_unit",{"$f":"'T2-B(PP1)'!$C$376","v":0},"#'T2-B(PP1)'!$C$376"]
["pp1_bl5_1_6_unit_in",{"$f":"'T2-B(PP1)'!$D$376","v":0},"#'T2-B(PP1)'!$D$376"]
["pp1_bl5_1_6_units_out",{"$f":"'T2-B(PP1)'!$G$376","v":0},"#'T2-B(PP1)'!$G$376"]
["pp1_bl5_1_7_name",{"$f":"'T2-B(PP1)'!$B$377","v":0},"#'T2-B(PP1)'!$B$377"]
["pp1_bl5_1_7_rate_in",{"$f":"'T2-B(PP1)'!$E$377","v":0},"#'T2-B(PP1)'!$E$377"]
["pp1_bl5_1_7_rate_out",{"$f":"'T2-B(PP1)'!$H$377","v":0},"#'T2-B(PP1)'!$H$377"]
["pp1_bl5_1_7_total",{"$f":"'T2-B(PP1)'!$J$377","v":0},"#'T2-B(PP1)'!$J$377"]
["pp1_bl5_1_7_total_in",{"$f":"'T2-B(PP1)'!$F$377","v":0},"#'T2-B(PP1)'!$F$377"]
["pp1_bl5_1_7_total_out",{"$f":"'T2-B(PP1)'!$I$377","v":0},"#'T2-B(PP1)'!$I$377"]
["pp1_bl5_1_7_unit",{"$f":"'T2-B(PP1)'!$C$377","v":0},"#'T2-B(PP1)'!$C$377"]
["pp1_bl5_1_7_unit_in",{"$f":"'T2-B(PP1)'!$D$377","v":0},"#'T2-B(PP1)'!$D$377"]
["pp1_bl5_1_7_units_out",{"$f":"'T2-B(PP1)'!$G$377","v":0},"#'T2-B(PP1)'!$G$377"]
["pp1_bl5_1_8_name",{"$f":"'T2-B(PP1)'!$B$378","v":0},"#'T2-B(PP1)'!$B$378"]
["pp1_bl5_1_8_rate_in",{"$f":"'T2-B(PP1)'!$E$378","v":0},"#'T2-B(PP1)'!$E$378"]
["pp1_bl5_1_8_rate_out",{"$f":"'T2-B(PP1)'!$H$378","v":0},"#'T2-B(PP1)'!$H$378"]
["pp1_bl5_1_8_total",{"$f":"'T2-B(PP1)'!$J$378","v":0},"#'T2-B(PP1)'!$J$378"]
["pp1_bl5_1_8_total_in",{"$f":"'T2-B(PP1)'!$F$378","v":0},"#'T2-B(PP1)'!$F$378"]
["pp1_bl5_1_8_total_out",{"$f":"'T2-B(PP1)'!$I$378","v":0},"#'T2-B(PP1)'!$I$378"]
["pp1_bl5_1_8_unit",{"$f":"'T2-B(PP1)'!$C$378","v":0},"#'T2-B(PP1)'!$C$378"]
["pp1_bl5_1_8_unit_in",{"$f":"'T2-B(PP1)'!$D$378","v":0},"#'T2-B(PP1)'!$D$378"]
["pp1_bl5_1_8_units_out",{"$f":"'T2-B(PP1)'!$G$378","v":0},"#'T2-B(PP1)'!$G$378"]
["pp1_bl5_1_9_name",{"$f":"'T2-B(PP1)'!$B$379","v":0},"#'T2-B(PP1)'!$B$379"]
["pp1_bl5_1_9_rate_in",{"$f":"'T2-B(PP1)'!$E$379","v":0},"#'T2-B(PP1)'!$E$379"]
["pp1_bl5_1_9_rate_out",{"$f":"'T2-B(PP1)'!$H$379","v":0},"#'T2-B(PP1)'!$H$379"]
["pp1_bl5_1_9_total",{"$f":"'T2-B(PP1)'!$J$379","v":0},"#'T2-B(PP1)'!$J$379"]
["pp1_bl5_1_9_total_in",{"$f":"'T2-B(PP1)'!$F$379","v":0},"#'T2-B(PP1)'!$F$379"]
["pp1_bl5_1_9_total_out",{"$f":"'T2-B(PP1)'!$I$379","v":0},"#'T2-B(PP1)'!$I$379"]
["pp1_bl5_1_9_unit",{"$f":"'T2-B(PP1)'!$C$379","v":0},"#'T2-B(PP1)'!$C$379"]
["pp1_bl5_1_9_unit_in",{"$f":"'T2-B(PP1)'!$D$379","v":0},"#'T2-B(PP1)'!$D$379"]
["pp1_bl5_1_9_units_out",{"$f":"'T2-B(PP1)'!$G$379","v":0},"#'T2-B(PP1)'!$G$379"]
["pp1_bl5_1_total",{"$f":"'T2-B(PP1)'!$J$370","v":0},"#'T2-B(PP1)'!$J$370"]
["pp1_bl5_1_total_in",{"$f":"'T2-B(PP1)'!$F$370","v":0},"#'T2-B(PP1)'!$F$370"]
["pp1_bl5_1_total_out",{"$f":"'T2-B(PP1)'!$I$370","v":0},"#'T2-B(PP1)'!$I$370"]
["pp1_bl5_2_1_name",{"$f":"'T2-B(PP1)'!$B$382","v":0},"#'T2-B(PP1)'!$B$382"]
["pp1_bl5_2_1_rate_in",{"$f":"'T2-B(PP1)'!$E$382","v":0},"#'T2-B(PP1)'!$E$382"]
["pp1_bl5_2_1_rate_out",{"$f":"'T2-B(PP1)'!$H$382","v":0},"#'T2-B(PP1)'!$H$382"]
["pp1_bl5_2_1_total",{"$f":"'T2-B(PP1)'!$J$382","v":0},"#'T2-B(PP1)'!$J$382"]
["pp1_bl5_2_1_total_in",{"$f":"'T2-B(PP1)'!$F$382","v":0},"#'T2-B(PP1)'!$F$382"]
["pp1_bl5_2_1_total_out",{"$f":"'T2-B(PP1)'!$I$382","v":0},"#'T2-B(PP1)'!$I$382"]
["pp1_bl5_2_1_unit",{"$f":"'T2-B(PP1)'!$C$382","v":0},"#'T2-B(PP1)'!$C$382"]
["pp1_bl5_2_1_unit_in",{"$f":"'T2-B(PP1)'!$D$382","v":0},"#'T2-B(PP1)'!$D$382"]
["pp1_bl5_2_1_units_out",{"$f":"'T2-B(PP1)'!$G$382","v":0},"#'T2-B(PP1)'!$G$382"]
["pp1_bl5_2_10_name",{"$f":"'T2-B(PP1)'!$B$391","v":0},"#'T2-B(PP1)'!$B$391"]
["pp1_bl5_2_10_rate_in",{"$f":"'T2-B(PP1)'!$E$391","v":0},"#'T2-B(PP1)'!$E$391"]
["pp1_bl5_2_10_rate_out",{"$f":"'T2-B(PP1)'!$H$391","v":0},"#'T2-B(PP1)'!$H$391"]
["pp1_bl5_2_10_total",{"$f":"'T2-B(PP1)'!$J$391","v":0},"#'T2-B(PP1)'!$J$391"]
["pp1_bl5_2_10_total_in",{"$f":"'T2-B(PP1)'!$F$391","v":0},"#'T2-B(PP1)'!$F$391"]
["pp1_bl5_2_10_total_out",{"$f":"'T2-B(PP1)'!$I$391","v":0},"#'T2-B(PP1)'!$I$391"]
["pp1_bl5_2_10_unit",{"$f":"'T2-B(PP1)'!$C$391","v":0},"#'T2-B(PP1)'!$C$391"]
["pp1_bl5_2_10_unit_in",{"$f":"'T2-B(PP1)'!$D$391","v":0},"#'T2-B(PP1)'!$D$391"]
["pp1_bl5_2_10_units_out",{"$f":"'T2-B(PP1)'!$G$391","v":0},"#'T2-B(PP1)'!$G$391"]
["pp1_bl5_2_2_name",{"$f":"'T2-B(PP1)'!$B$383","v":0},"#'T2-B(PP1)'!$B$383"]
["pp1_bl5_2_2_rate_in",{"$f":"'T2-B(PP1)'!$E$383","v":0},"#'T2-B(PP1)'!$E$383"]
["pp1_bl5_2_2_rate_out",{"$f":"'T2-B(PP1)'!$H$383","v":0},"#'T2-B(PP1)'!$H$383"]
["pp1_bl5_2_2_total",{"$f":"'T2-B(PP1)'!$J$383","v":0},"#'T2-B(PP1)'!$J$383"]
["pp1_bl5_2_2_total_in",{"$f":"'T2-B(PP1)'!$F$383","v":0},"#'T2-B(PP1)'!$F$383"]
["pp1_bl5_2_2_total_out",{"$f":"'T2-B(PP1)'!$I$383","v":0},"#'T2-B(PP1)'!$I$383"]
["pp1_bl5_2_2_unit",{"$f":"'T2-B(PP1)'!$C$383","v":0},"#'T2-B(PP1)'!$C$383"]
["pp1_bl5_2_2_unit_in",{"$f":"'T2-B(PP1)'!$D$383","v":0},"#'T2-B(PP1)'!$D$383"]
["pp1_bl5_2_2_units_out",{"$f":"'T2-B(PP1)'!$G$383","v":0},"#'T2-B(PP1)'!$G$383"]
["pp1_bl5_2_3_name",{"$f":"'T2-B(PP1)'!$B$384","v":0},"#'T2-B(PP1)'!$B$384"]
["pp1_bl5_2_3_rate_in",{"$f":"'T2-B(PP1)'!$E$384","v":0},"#'T2-B(PP1)'!$E$384"]
["pp1_bl5_2_3_rate_out",{"$f":"'T2-B(PP1)'!$H$384","v":0},"#'T2-B(PP1)'!$H$384"]
["pp1_bl5_2_3_total",{"$f":"'T2-B(PP1)'!$J$384","v":0},"#'T2-B(PP1)'!$J$384"]
["pp1_bl5_2_3_total_in",{"$f":"'T2-B(PP1)'!$F$384","v":0},"#'T2-B(PP1)'!$F$384"]
["pp1_bl5_2_3_total_out",{"$f":"'T2-B(PP1)'!$I$384","v":0},"#'T2-B(PP1)'!$I$384"]
["pp1_bl5_2_3_unit",{"$f":"'T2-B(PP1)'!$C$384","v":0},"#'T2-B(PP1)'!$C$384"]
["pp1_bl5_2_3_unit_in",{"$f":"'T2-B(PP1)'!$D$384","v":0},"#'T2-B(PP1)'!$D$384"]
["pp1_bl5_2_3_units_out",{"$f":"'T2-B(PP1)'!$G$384","v":0},"#'T2-B(PP1)'!$G$384"]
["pp1_bl5_2_4_name",{"$f":"'T2-B(PP1)'!$B$385","v":0},"#'T2-B(PP1)'!$B$385"]
["pp1_bl5_2_4_rate_in",{"$f":"'T2-B(PP1)'!$E$385","v":0},"#'T2-B(PP1)'!$E$385"]
["pp1_bl5_2_4_rate_out",{"$f":"'T2-B(PP1)'!$H$385","v":0},"#'T2-B(PP1)'!$H$385"]
["pp1_bl5_2_4_total",{"$f":"'T2-B(PP1)'!$J$385","v":0},"#'T2-B(PP1)'!$J$385"]
["pp1_bl5_2_4_total_in",{"$f":"'T2-B(PP1)'!$F$385","v":0},"#'T2-B(PP1)'!$F$385"]
["pp1_bl5_2_4_total_out",{"$f":"'T2-B(PP1)'!$I$385","v":0},"#'T2-B(PP1)'!$I$385"]
["pp1_bl5_2_4_unit",{"$f":"'T2-B(PP1)'!$C$385","v":0},"#'T2-B(PP1)'!$C$385"]
["pp1_bl5_2_4_unit_in",{"$f":"'T2-B(PP1)'!$D$385","v":0},"#'T2-B(PP1)'!$D$385"]
["pp1_bl5_2_4_units_out",{"$f":"'T2-B(PP1)'!$G$385","v":0},"#'T2-B(PP1)'!$G$385"]
["pp1_bl5_2_5_name",{"$f":"'T2-B(PP1)'!$B$386","v":0},"#'T2-B(PP1)'!$B$386"]
["pp1_bl5_2_5_rate_in",{"$f":"'T2-B(PP1)'!$E$386","v":0},"#'T2-B(PP1)'!$E$386"]
["pp1_bl5_2_5_rate_out",{"$f":"'T2-B(PP1)'!$H$386","v":0},"#'T2-B(PP1)'!$H$386"]
["pp1_bl5_2_5_total",{"$f":"'T2-B(PP1)'!$J$386","v":0},"#'T2-B(PP1)'!$J$386"]
["pp1_bl5_2_5_total_in",{"$f":"'T2-B(PP1)'!$F$386","v":0},"#'T2-B(PP1)'!$F$386"]
["pp1_bl5_2_5_total_out",{"$f":"'T2-B(PP1)'!$I$386","v":0},"#'T2-B(PP1)'!$I$386"]
["pp1_bl5_2_5_unit",{"$f":"'T2-B(PP1)'!$C$386","v":0},"#'T2-B(PP1)'!$C$386"]
["pp1_bl5_2_5_unit_in",{"$f":"'T2-B(PP1)'!$D$386","v":0},"#'T2-B(PP1)'!$D$386"]
["pp1_bl5_2_5_units_out",{"$f":"'T2-B(PP1)'!$G$386","v":0},"#'T2-B(PP1)'!$G$386"]
["pp1_bl5_2_6_name",{"$f":"'T2-B(PP1)'!$B$387","v":0},"#'T2-B(PP1)'!$B$387"]
["pp1_bl5_2_6_rate_in",{"$f":"'T2-B(PP1)'!$E$387","v":0},"#'T2-B(PP1)'!$E$387"]
["pp1_bl5_2_6_rate_out",{"$f":"'T2-B(PP1)'!$H$387","v":0},"#'T2-B(PP1)'!$H$387"]
["pp1_bl5_2_6_total",{"$f":"'T2-B(PP1)'!$J$387","v":0},"#'T2-B(PP1)'!$J$387"]
["pp1_bl5_2_6_total_in",{"$f":"'T2-B(PP1)'!$F$387","v":0},"#'T2-B(PP1)'!$F$387"]
["pp1_bl5_2_6_total_out",{"$f":"'T2-B(PP1)'!$I$387","v":0},"#'T2-B(PP1)'!$I$387"]
["pp1_bl5_2_6_unit",{"$f":"'T2-B(PP1)'!$C$387","v":0},"#'T2-B(PP1)'!$C$387"]
["pp1_bl5_2_6_unit_in",{"$f":"'T2-B(PP1)'!$D$387","v":0},"#'T2-B(PP1)'!$D$387"]
["pp1_bl5_2_6_units_out",{"$f":"'T2-B(PP1)'!$G$387","v":0},"#'T2-B(PP1)'!$G$387"]
["pp1_bl5_2_7_name",{"$f":"'T2-B(PP1)'!$B$388","v":0},"#'T2-B(PP1)'!$B$388"]
["pp1_bl5_2_7_rate_in",{"$f":"'T2-B(PP1)'!$E$388","v":0},"#'T2-B(PP1)'!$E$388"]
["pp1_bl5_2_7_rate_out",{"$f":"'T2-B(PP1)'!$H$388","v":0},"#'T2-B(PP1)'!$H$388"]
["pp1_bl5_2_7_total",{"$f":"'T2-B(PP1)'!$J$388","v":0},"#'T2-B(PP1)'!$J$388"]
["pp1_bl5_2_7_total_in",{"$f":"'T2-B(PP1)'!$F$388","v":0},"#'T2-B(PP1)'!$F$388"]
["pp1_bl5_2_7_total_out",{"$f":"'T2-B(PP1)'!$I$388","v":0},"#'T2-B(PP1)'!$I$388"]
["pp1_bl5_2_7_unit",{"$f":"'T2-B(PP1)'!$C$388","v":0},"#'T2-B(PP1)'!$C$388"]
["pp1_bl5_2_7_unit_in",{"$f":"'T2-B(PP1)'!$D$388","v":0},"#'T2-B(PP1)'!$D$388"]
["pp1_bl5_2_7_units_out",{"$f":"'T2-B(PP1)'!$G$388","v":0},"#'T2-B(PP1)'!$G$388"]
["pp1_bl5_2_8_name",{"$f":"'T2-B(PP1)'!$B$389","v":0},"#'T2-B(PP1)'!$B$389"]
["pp1_bl5_2_8_rate_in",{"$f":"'T2-B(PP1)'!$E$389","v":0},"#'T2-B(PP1)'!$E$389"]
["pp1_bl5_2_8_rate_out",{"$f":"'T2-B(PP1)'!$H$389","v":0},"#'T2-B(PP1)'!$H$389"]
["pp1_bl5_2_8_total",{"$f":"'T2-B(PP1)'!$J$389","v":0},"#'T2-B(PP1)'!$J$389"]
["pp1_bl5_2_8_total_in",{"$f":"'T2-B(PP1)'!$F$389","v":0},"#'T2-B(PP1)'!$F$389"]
["pp1_bl5_2_8_total_out",{"$f":"'T2-B(PP1)'!$I$389","v":0},"#'T2-B(PP1)'!$I$389"]
["pp1_bl5_2_8_unit",{"$f":"'T2-B(PP1)'!$C$389","v":0},"#'T2-B(PP1)'!$C$389"]
["pp1_bl5_2_8_unit_in",{"$f":"'T2-B(PP1)'!$D$389","v":0},"#'T2-B(PP1)'!$D$389"]
["pp1_bl5_2_8_units_out",{"$f":"'T2-B(PP1)'!$G$389","v":0},"#'T2-B(PP1)'!$G$389"]
["pp1_bl5_2_9_name",{"$f":"'T2-B(PP1)'!$B$390","v":0},"#'T2-B(PP1)'!$B$390"]
["pp1_bl5_2_9_rate_in",{"$f":"'T2-B(PP1)'!$E$390","v":0},"#'T2-B(PP1)'!$E$390"]
["pp1_bl5_2_9_rate_out",{"$f":"'T2-B(PP1)'!$H$390","v":0},"#'T2-B(PP1)'!$H$390"]
["pp1_bl5_2_9_total",{"$f":"'T2-B(PP1)'!$J$390","v":0},"#'T2-B(PP1)'!$J$390"]
["pp1_bl5_2_9_total_in",{"$f":"'T2-B(PP1)'!$F$390","v":0},"#'T2-B(PP1)'!$F$390"]
["pp1_bl5_2_9_total_out",{"$f":"'T2-B(PP1)'!$I$390","v":0},"#'T2-B(PP1)'!$I$390"]
["pp1_bl5_2_9_unit",{"$f":"'T2-B(PP1)'!$C$390","v":0},"#'T2-B(PP1)'!$C$390"]
["pp1_bl5_2_9_unit_in",{"$f":"'T2-B(PP1)'!$D$390","v":0},"#'T2-B(PP1)'!$D$390"]
["pp1_bl5_2_9_units_out",{"$f":"'T2-B(PP1)'!$G$390","v":0},"#'T2-B(PP1)'!$G$390"]
["pp1_bl5_2_total",{"$f":"'T2-B(PP1)'!$J$381","v":0},"#'T2-B(PP1)'!$J$381"]
["pp1_bl5_2_total_in",{"$f":"'T2-B(PP1)'!$F$381","v":0},"#'T2-B(PP1)'!$F$381"]
["pp1_bl5_2_total_out",{"$f":"'T2-B(PP1)'!$I$381","v":0},"#'T2-B(PP1)'!$I$381"]
["pp1_bl5_total",{"$f":"'T2-B(PP1)'!$J$402","v":0},"#'T2-B(PP1)'!$J$402"]
["pp1_bl5_total_in",{"$f":"'T2-B(PP1)'!$F$402","v":0},"#'T2-B(PP1)'!$F$402"]
["pp1_bl5_total_out",{"$f":"'T2-B(PP1)'!$I$402","v":0},"#'T2-B(PP1)'!$I$402"]
["pp1_bl6_1_1_name",{"$f":"'T2-B(PP1)'!$B$407","v":0},"#'T2-B(PP1)'!$B$407"]
["pp1_bl6_1_1_rate_in",{"$f":"'T2-B(PP1)'!$E$407","v":0},"#'T2-B(PP1)'!$E$407"]
["pp1_bl6_1_1_rate_out",{"$f":"'T2-B(PP1)'!$H$407","v":0},"#'T2-B(PP1)'!$H$407"]
["pp1_bl6_1_1_total",{"$f":"'T2-B(PP1)'!$J$407","v":0},"#'T2-B(PP1)'!$J$407"]
["pp1_bl6_1_1_total_in",{"$f":"'T2-B(PP1)'!$F$407","v":0},"#'T2-B(PP1)'!$F$407"]
["pp1_bl6_1_1_total_out",{"$f":"'T2-B(PP1)'!$I$407","v":0},"#'T2-B(PP1)'!$I$407"]
["pp1_bl6_1_1_unit",{"$f":"'T2-B(PP1)'!$C$407","v":0},"#'T2-B(PP1)'!$C$407"]
["pp1_bl6_1_1_unit_in",{"$f":"'T2-B(PP1)'!$D$407","v":0},"#'T2-B(PP1)'!$D$407"]
["pp1_bl6_1_1_units_out",{"$f":"'T2-B(PP1)'!$G$407","v":0},"#'T2-B(PP1)'!$G$407"]
["pp1_bl6_1_10_name",{"$f":"'T2-B(PP1)'!$B$416","v":0},"#'T2-B(PP1)'!$B$416"]
["pp1_bl6_1_10_rate_in",{"$f":"'T2-B(PP1)'!$E$416","v":0},"#'T2-B(PP1)'!$E$416"]
["pp1_bl6_1_10_rate_out",{"$f":"'T2-B(PP1)'!$H$416","v":0},"#'T2-B(PP1)'!$H$416"]
["pp1_bl6_1_10_total",{"$f":"'T2-B(PP1)'!$J$416","v":0},"#'T2-B(PP1)'!$J$416"]
["pp1_bl6_1_10_total_in",{"$f":"'T2-B(PP1)'!$F$416","v":0},"#'T2-B(PP1)'!$F$416"]
["pp1_bl6_1_10_total_out",{"$f":"'T2-B(PP1)'!$I$416","v":0},"#'T2-B(PP1)'!$I$416"]
["pp1_bl6_1_10_unit",{"$f":"'T2-B(PP1)'!$C$416","v":0},"#'T2-B(PP1)'!$C$416"]
["pp1_bl6_1_10_unit_in",{"$f":"'T2-B(PP1)'!$D$416","v":0},"#'T2-B(PP1)'!$D$416"]
["pp1_bl6_1_10_units_out",{"$f":"'T2-B(PP1)'!$G$416","v":0},"#'T2-B(PP1)'!$G$416"]
["pp1_bl6_1_2_name",{"$f":"'T2-B(PP1)'!$B$408","v":0},"#'T2-B(PP1)'!$B$408"]
["pp1_bl6_1_2_rate_in",{"$f":"'T2-B(PP1)'!$E$408","v":0},"#'T2-B(PP1)'!$E$408"]
["pp1_bl6_1_2_rate_out",{"$f":"'T2-B(PP1)'!$H$408","v":0},"#'T2-B(PP1)'!$H$408"]
["pp1_bl6_1_2_total",{"$f":"'T2-B(PP1)'!$J$408","v":0},"#'T2-B(PP1)'!$J$408"]
["pp1_bl6_1_2_total_in",{"$f":"'T2-B(PP1)'!$F$408","v":0},"#'T2-B(PP1)'!$F$408"]
["pp1_bl6_1_2_total_out",{"$f":"'T2-B(PP1)'!$I$408","v":0},"#'T2-B(PP1)'!$I$408"]
["pp1_bl6_1_2_unit",{"$f":"'T2-B(PP1)'!$C$408","v":0},"#'T2-B(PP1)'!$C$408"]
["pp1_bl6_1_2_unit_in",{"$f":"'T2-B(PP1)'!$D$408","v":0},"#'T2-B(PP1)'!$D$408"]
["pp1_bl6_1_2_units_out",{"$f":"'T2-B(PP1)'!$G$408","v":0},"#'T2-B(PP1)'!$G$408"]
["pp1_bl6_1_3_name",{"$f":"'T2-B(PP1)'!$B$409","v":0},"#'T2-B(PP1)'!$B$409"]
["pp1_bl6_1_3_rate_in",{"$f":"'T2-B(PP1)'!$E$409","v":0},"#'T2-B(PP1)'!$E$409"]
["pp1_bl6_1_3_rate_out",{"$f":"'T2-B(PP1)'!$H$409","v":0},"#'T2-B(PP1)'!$H$409"]
["pp1_bl6_1_3_total",{"$f":"'T2-B(PP1)'!$J$409","v":0},"#'T2-B(PP1)'!$J$409"]
["pp1_bl6_1_3_total_in",{"$f":"'T2-B(PP1)'!$F$409","v":0},"#'T2-B(PP1)'!$F$409"]
["pp1_bl6_1_3_total_out",{"$f":"'T2-B(PP1)'!$I$409","v":0},"#'T2-B(PP1)'!$I$409"]
["pp1_bl6_1_3_unit",{"$f":"'T2-B(PP1)'!$C$409","v":0},"#'T2-B(PP1)'!$C$409"]
["pp1_bl6_1_3_unit_in",{"$f":"'T2-B(PP1)'!$D$409","v":0},"#'T2-B(PP1)'!$D$409"]
["pp1_bl6_1_3_units_out",{"$f":"'T2-B(PP1)'!$G$409","v":0},"#'T2-B(PP1)'!$G$409"]
["pp1_bl6_1_4_name",{"$f":"'T2-B(PP1)'!$B$410","v":0},"#'T2-B(PP1)'!$B$410"]
["pp1_bl6_1_4_rate_in",{"$f":"'T2-B(PP1)'!$E$410","v":0},"#'T2-B(PP1)'!$E$410"]
["pp1_bl6_1_4_rate_out",{"$f":"'T2-B(PP1)'!$H$410","v":0},"#'T2-B(PP1)'!$H$410"]
["pp1_bl6_1_4_total",{"$f":"'T2-B(PP1)'!$J$410","v":0},"#'T2-B(PP1)'!$J$410"]
["pp1_bl6_1_4_total_in",{"$f":"'T2-B(PP1)'!$F$410","v":0},"#'T2-B(PP1)'!$F$410"]
["pp1_bl6_1_4_total_out",{"$f":"'T2-B(PP1)'!$I$410","v":0},"#'T2-B(PP1)'!$I$410"]
["pp1_bl6_1_4_unit",{"$f":"'T2-B(PP1)'!$C$410","v":0},"#'T2-B(PP1)'!$C$410"]
["pp1_bl6_1_4_unit_in",{"$f":"'T2-B(PP1)'!$D$410","v":0},"#'T2-B(PP1)'!$D$410"]
["pp1_bl6_1_4_units_out",{"$f":"'T2-B(PP1)'!$G$410","v":0},"#'T2-B(PP1)'!$G$410"]
["pp1_bl6_1_5_name",{"$f":"'T2-B(PP1)'!$B$411","v":0},"#'T2-B(PP1)'!$B$411"]
["pp1_bl6_1_5_rate_in",{"$f":"'T2-B(PP1)'!$E$411","v":0},"#'T2-B(PP1)'!$E$411"]
["pp1_bl6_1_5_rate_out",{"$f":"'T2-B(PP1)'!$H$411","v":0},"#'T2-B(PP1)'!$H$411"]
["pp1_bl6_1_5_total",{"$f":"'T2-B(PP1)'!$J$411","v":0},"#'T2-B(PP1)'!$J$411"]
["pp1_bl6_1_5_total_in",{"$f":"'T2-B(PP1)'!$F$411","v":0},"#'T2-B(PP1)'!$F$411"]
["pp1_bl6_1_5_total_out",{"$f":"'T2-B(PP1)'!$I$411","v":0},"#'T2-B(PP1)'!$I$411"]
["pp1_bl6_1_5_unit",{"$f":"'T2-B(PP1)'!$C$411","v":0},"#'T2-B(PP1)'!$C$411"]
["pp1_bl6_1_5_unit_in",{"$f":"'T2-B(PP1)'!$D$411","v":0},"#'T2-B(PP1)'!$D$411"]
["pp1_bl6_1_5_units_out",{"$f":"'T2-B(PP1)'!$G$411","v":0},"#'T2-B(PP1)'!$G$411"]
["pp1_bl6_1_6_name",{"$f":"'T2-B(PP1)'!$B$412","v":0},"#'T2-B(PP1)'!$B$412"]
["pp1_bl6_1_6_rate_in",{"$f":"'T2-B(PP1)'!$E$412","v":0},"#'T2-B(PP1)'!$E$412"]
["pp1_bl6_1_6_rate_out",{"$f":"'T2-B(PP1)'!$H$412","v":0},"#'T2-B(PP1)'!$H$412"]
["pp1_bl6_1_6_total",{"$f":"'T2-B(PP1)'!$J$412","v":0},"#'T2-B(PP1)'!$J$412"]
["pp1_bl6_1_6_total_in",{"$f":"'T2-B(PP1)'!$F$412","v":0},"#'T2-B(PP1)'!$F$412"]
["pp1_bl6_1_6_total_out",{"$f":"'T2-B(PP1)'!$I$412","v":0},"#'T2-B(PP1)'!$I$412"]
["pp1_bl6_1_6_unit",{"$f":"'T2-B(PP1)'!$C$412","v":0},"#'T2-B(PP1)'!$C$412"]
["pp1_bl6_1_6_unit_in",{"$f":"'T2-B(PP1)'!$D$412","v":0},"#'T2-B(PP1)'!$D$412"]
["pp1_bl6_1_6_units_out",{"$f":"'T2-B(PP1)'!$G$412","v":0},"#'T2-B(PP1)'!$G$412"]
["pp1_bl6_1_7_name",{"$f":"'T2-B(PP1)'!$B$413","v":0},"#'T2-B(PP1)'!$B$413"]
["pp1_bl6_1_7_rate_in",{"$f":"'T2-B(PP1)'!$E$413","v":0},"#'T2-B(PP1)'!$E$413"]
["pp1_bl6_1_7_rate_out",{"$f":"'T2-B(PP1)'!$H$413","v":0},"#'T2-B(PP1)'!$H$413"]
["pp1_bl6_1_7_total",{"$f":"'T2-B(PP1)'!$J$413","v":0},"#'T2-B(PP1)'!$J$413"]
["pp1_bl6_1_7_total_in",{"$f":"'T2-B(PP1)'!$F$413","v":0},"#'T2-B(PP1)'!$F$413"]
["pp1_bl6_1_7_total_out",{"$f":"'T2-B(PP1)'!$I$413","v":0},"#'T2-B(PP1)'!$I$413"]
["pp1_bl6_1_7_unit",{"$f":"'T2-B(PP1)'!$C$413","v":0},"#'T2-B(PP1)'!$C$413"]
["pp1_bl6_1_7_unit_in",{"$f":"'T2-B(PP1)'!$D$413","v":0},"#'T2-B(PP1)'!$D$413"]
["pp1_bl6_1_7_units_out",{"$f":"'T2-B(PP1)'!$G$413","v":0},"#'T2-B(PP1)'!$G$413"]
["pp1_bl6_1_8_name",{"$f":"'T2-B(PP1)'!$B$414","v":0},"#'T2-B(PP1)'!$B$414"]
["pp1_bl6_1_8_rate_in",{"$f":"'T2-B(PP1)'!$E$414","v":0},"#'T2-B(PP1)'!$E$414"]
["pp1_bl6_1_8_rate_out",{"$f":"'T2-B(PP1)'!$H$414","v":0},"#'T2-B(PP1)'!$H$414"]
["pp1_bl6_1_8_total",{"$f":"'T2-B(PP1)'!$J$414","v":0},"#'T2-B(PP1)'!$J$414"]
["pp1_bl6_1_8_total_in",{"$f":"'T2-B(PP1)'!$F$414","v":0},"#'T2-B(PP1)'!$F$414"]
["pp1_bl6_1_8_total_out",{"$f":"'T2-B(PP1)'!$I$414","v":0},"#'T2-B(PP1)'!$I$414"]
["pp1_bl6_1_8_unit",{"$f":"'T2-B(PP1)'!$C$414","v":0},"#'T2-B(PP1)'!$C$414"]
["pp1_bl6_1_8_unit_in",{"$f":"'T2-B(PP1)'!$D$414","v":0},"#'T2-B(PP1)'!$D$414"]
["pp1_bl6_1_8_units_out",{"$f":"'T2-B(PP1)'!$G$414","v":0},"#'T2-B(PP1)'!$G$414"]
["pp1_bl6_1_9_name",{"$f":"'T2-B(PP1)'!$B$415","v":0},"#'T2-B(PP1)'!$B$415"]
["pp1_bl6_1_9_rate_in",{"$f":"'T2-B(PP1)'!$E$415","v":0},"#'T2-B(PP1)'!$E$415"]
["pp1_bl6_1_9_rate_out",{"$f":"'T2-B(PP1)'!$H$415","v":0},"#'T2-B(PP1)'!$H$415"]
["pp1_bl6_1_9_total",{"$f":"'T2-B(PP1)'!$J$415","v":0},"#'T2-B(PP1)'!$J$415"]
["pp1_bl6_1_9_total_in",{"$f":"'T2-B(PP1)'!$F$415","v":0},"#'T2-B(PP1)'!$F$415"]
["pp1_bl6_1_9_total_out",{"$f":"'T2-B(PP1)'!$I$415","v":0},"#'T2-B(PP1)'!$I$415"]
["pp1_bl6_1_9_unit",{"$f":"'T2-B(PP1)'!$C$415","v":0},"#'T2-B(PP1)'!$C$415"]
["pp1_bl6_1_9_unit_in",{"$f":"'T2-B(PP1)'!$D$415","v":0},"#'T2-B(PP1)'!$D$415"]
["pp1_bl6_1_9_units_out",{"$f":"'T2-B(PP1)'!$G$415","v":0},"#'T2-B(PP1)'!$G$415"]
["pp1_bl6_1_total",{"$f":"'T2-B(PP1)'!$J$406","v":0},"#'T2-B(PP1)'!$J$406"]
["pp1_bl6_1_total_in",{"$f":"'T2-B(PP1)'!$F$406","v":0},"#'T2-B(PP1)'!$F$406"]
["pp1_bl6_1_total_out",{"$f":"'T2-B(PP1)'!$I$406","v":0},"#'T2-B(PP1)'!$I$406"]
["pp1_bl6_2_1_name",{"$f":"'T2-B(PP1)'!$B$418","v":0},"#'T2-B(PP1)'!$B$418"]
["pp1_bl6_2_1_rate_in",{"$f":"'T2-B(PP1)'!$E$418","v":0},"#'T2-B(PP1)'!$E$418"]
["pp1_bl6_2_1_rate_out",{"$f":"'T2-B(PP1)'!$H$418","v":0},"#'T2-B(PP1)'!$H$418"]
["pp1_bl6_2_1_total",{"$f":"'T2-B(PP1)'!$J$418","v":0},"#'T2-B(PP1)'!$J$418"]
["pp1_bl6_2_1_total_in",{"$f":"'T2-B(PP1)'!$F$418","v":0},"#'T2-B(PP1)'!$F$418"]
["pp1_bl6_2_1_total_out",{"$f":"'T2-B(PP1)'!$I$418","v":0},"#'T2-B(PP1)'!$I$418"]
["pp1_bl6_2_1_unit",{"$f":"'T2-B(PP1)'!$C$418","v":0},"#'T2-B(PP1)'!$C$418"]
["pp1_bl6_2_1_unit_in",{"$f":"'T2-B(PP1)'!$D$418","v":0},"#'T2-B(PP1)'!$D$418"]
["pp1_bl6_2_1_units_out",{"$f":"'T2-B(PP1)'!$G$418","v":0},"#'T2-B(PP1)'!$G$418"]
["pp1_bl6_2_10_name",{"$f":"'T2-B(PP1)'!$B$427","v":0},"#'T2-B(PP1)'!$B$427"]
["pp1_bl6_2_10_rate_in",{"$f":"'T2-B(PP1)'!$E$427","v":0},"#'T2-B(PP1)'!$E$427"]
["pp1_bl6_2_10_rate_out",{"$f":"'T2-B(PP1)'!$H$427","v":0},"#'T2-B(PP1)'!$H$427"]
["pp1_bl6_2_10_total",{"$f":"'T2-B(PP1)'!$J$427","v":0},"#'T2-B(PP1)'!$J$427"]
["pp1_bl6_2_10_total_in",{"$f":"'T2-B(PP1)'!$F$427","v":0},"#'T2-B(PP1)'!$F$427"]
["pp1_bl6_2_10_total_out",{"$f":"'T2-B(PP1)'!$I$427","v":0},"#'T2-B(PP1)'!$I$427"]
["pp1_bl6_2_10_unit",{"$f":"'T2-B(PP1)'!$C$427","v":0},"#'T2-B(PP1)'!$C$427"]
["pp1_bl6_2_10_unit_in",{"$f":"'T2-B(PP1)'!$D$427","v":0},"#'T2-B(PP1)'!$D$427"]
["pp1_bl6_2_10_units_out",{"$f":"'T2-B(PP1)'!$G$427","v":0},"#'T2-B(PP1)'!$G$427"]
["pp1_bl6_2_2_name",{"$f":"'T2-B(PP1)'!$B$419","v":0},"#'T2-B(PP1)'!$B$419"]
["pp1_bl6_2_2_rate_in",{"$f":"'T2-B(PP1)'!$E$419","v":0},"#'T2-B(PP1)'!$E$419"]
["pp1_bl6_2_2_rate_out",{"$f":"'T2-B(PP1)'!$H$419","v":0},"#'T2-B(PP1)'!$H$419"]
["pp1_bl6_2_2_total",{"$f":"'T2-B(PP1)'!$J$419","v":0},"#'T2-B(PP1)'!$J$419"]
["pp1_bl6_2_2_total_in",{"$f":"'T2-B(PP1)'!$F$419","v":0},"#'T2-B(PP1)'!$F$419"]
["pp1_bl6_2_2_total_out",{"$f":"'T2-B(PP1)'!$I$419","v":0},"#'T2-B(PP1)'!$I$419"]
["pp1_bl6_2_2_unit",{"$f":"'T2-B(PP1)'!$C$419","v":0},"#'T2-B(PP1)'!$C$419"]
["pp1_bl6_2_2_unit_in",{"$f":"'T2-B(PP1)'!$D$419","v":0},"#'T2-B(PP1)'!$D$419"]
["pp1_bl6_2_2_units_out",{"$f":"'T2-B(PP1)'!$G$419","v":0},"#'T2-B(PP1)'!$G$419"]
["pp1_bl6_2_3_name",{"$f":"'T2-B(PP1)'!$B$420","v":0},"#'T2-B(PP1)'!$B$420"]
["pp1_bl6_2_3_rate_in",{"$f":"'T2-B(PP1)'!$E$420","v":0},"#'T2-B(PP1)'!$E$420"]
["pp1_bl6_2_3_rate_out",{"$f":"'T2-B(PP1)'!$H$420","v":0},"#'T2-B(PP1)'!$H$420"]
["pp1_bl6_2_3_total",{"$f":"'T2-B(PP1)'!$J$420","v":0},"#'T2-B(PP1)'!$J$420"]
["pp1_bl6_2_3_total_in",{"$f":"'T2-B(PP1)'!$F$420","v":0},"#'T2-B(PP1)'!$F$420"]
["pp1_bl6_2_3_total_out",{"$f":"'T2-B(PP1)'!$I$420","v":0},"#'T2-B(PP1)'!$I$420"]
["pp1_bl6_2_3_unit",{"$f":"'T2-B(PP1)'!$C$420","v":0},"#'T2-B(PP1)'!$C$420"]
["pp1_bl6_2_3_unit_in",{"$f":"'T2-B(PP1)'!$D$420","v":0},"#'T2-B(PP1)'!$D$420"]
["pp1_bl6_2_3_units_out",{"$f":"'T2-B(PP1)'!$G$420","v":0},"#'T2-B(PP1)'!$G$420"]
["pp1_bl6_2_4_name",{"$f":"'T2-B(PP1)'!$B$421","v":0},"#'T2-B(PP1)'!$B$421"]
["pp1_bl6_2_4_rate_in",{"$f":"'T2-B(PP1)'!$E$421","v":0},"#'T2-B(PP1)'!$E$421"]
["pp1_bl6_2_4_rate_out",{"$f":"'T2-B(PP1)'!$H$421","v":0},"#'T2-B(PP1)'!$H$421"]
["pp1_bl6_2_4_total",{"$f":"'T2-B(PP1)'!$J$421","v":0},"#'T2-B(PP1)'!$J$421"]
["pp1_bl6_2_4_total_in",{"$f":"'T2-B(PP1)'!$F$421","v":0},"#'T2-B(PP1)'!$F$421"]
["pp1_bl6_2_4_total_out",{"$f":"'T2-B(PP1)'!$I$421","v":0},"#'T2-B(PP1)'!$I$421"]
["pp1_bl6_2_4_unit",{"$f":"'T2-B(PP1)'!$C$421","v":0},"#'T2-B(PP1)'!$C$421"]
["pp1_bl6_2_4_unit_in",{"$f":"'T2-B(PP1)'!$D$421","v":0},"#'T2-B(PP1)'!$D$421"]
["pp1_bl6_2_4_units_out",{"$f":"'T2-B(PP1)'!$G$421","v":0},"#'T2-B(PP1)'!$G$421"]
["pp1_bl6_2_5_name",{"$f":"'T2-B(PP1)'!$B$422","v":0},"#'T2-B(PP1)'!$B$422"]
["pp1_bl6_2_5_rate_in",{"$f":"'T2-B(PP1)'!$E$422","v":0},"#'T2-B(PP1)'!$E$422"]
["pp1_bl6_2_5_rate_out",{"$f":"'T2-B(PP1)'!$H$422","v":0},"#'T2-B(PP1)'!$H$422"]
["pp1_bl6_2_5_total",{"$f":"'T2-B(PP1)'!$J$422","v":0},"#'T2-B(PP1)'!$J$422"]
["pp1_bl6_2_5_total_in",{"$f":"'T2-B(PP1)'!$F$422","v":0},"#'T2-B(PP1)'!$F$422"]
["pp1_bl6_2_5_total_out",{"$f":"'T2-B(PP1)'!$I$422","v":0},"#'T2-B(PP1)'!$I$422"]
["pp1_bl6_2_5_unit",{"$f":"'T2-B(PP1)'!$C$422","v":0},"#'T2-B(PP1)'!$C$422"]
["pp1_bl6_2_5_unit_in",{"$f":"'T2-B(PP1)'!$D$422","v":0},"#'T2-B(PP1)'!$D$422"]
["pp1_bl6_2_5_units_out",{"$f":"'T2-B(PP1)'!$G$422","v":0},"#'T2-B(PP1)'!$G$422"]
["pp1_bl6_2_6_name",{"$f":"'T2-B(PP1)'!$B$423","v":0},"#'T2-B(PP1)'!$B$423"]
["pp1_bl6_2_6_rate_in",{"$f":"'T2-B(PP1)'!$E$423","v":0},"#'T2-B(PP1)'!$E$423"]
["pp1_bl6_2_6_rate_out",{"$f":"'T2-B(PP1)'!$H$423","v":0},"#'T2-B(PP1)'!$H$423"]
["pp1_bl6_2_6_total",{"$f":"'T2-B(PP1)'!$J$423","v":0},"#'T2-B(PP1)'!$J$423"]
["pp1_bl6_2_6_total_in",{"$f":"'T2-B(PP1)'!$F$423","v":0},"#'T2-B(PP1)'!$F$423"]
["pp1_bl6_2_6_total_out",{"$f":"'T2-B(PP1)'!$I$423","v":0},"#'T2-B(PP1)'!$I$423"]
["pp1_bl6_2_6_unit",{"$f":"'T2-B(PP1)'!$C$423","v":0},"#'T2-B(PP1)'!$C$423"]
["pp1_bl6_2_6_unit_in",{"$f":"'T2-B(PP1)'!$D$423","v":0},"#'T2-B(PP1)'!$D$423"]
["pp1_bl6_2_6_units_out",{"$f":"'T2-B(PP1)'!$G$423","v":0},"#'T2-B(PP1)'!$G$423"]
["pp1_bl6_2_7_name",{"$f":"'T2-B(PP1)'!$B$424","v":0},"#'T2-B(PP1)'!$B$424"]
["pp1_bl6_2_7_rate_in",{"$f":"'T2-B(PP1)'!$E$424","v":0},"#'T2-B(PP1)'!$E$424"]
["pp1_bl6_2_7_rate_out",{"$f":"'T2-B(PP1)'!$H$424","v":0},"#'T2-B(PP1)'!$H$424"]
["pp1_bl6_2_7_total",{"$f":"'T2-B(PP1)'!$J$424","v":0},"#'T2-B(PP1)'!$J$424"]
["pp1_bl6_2_7_total_in",{"$f":"'T2-B(PP1)'!$F$424","v":0},"#'T2-B(PP1)'!$F$424"]
["pp1_bl6_2_7_total_out",{"$f":"'T2-B(PP1)'!$I$424","v":0},"#'T2-B(PP1)'!$I$424"]
["pp1_bl6_2_7_unit",{"$f":"'T2-B(PP1)'!$C$424","v":0},"#'T2-B(PP1)'!$C$424"]
["pp1_bl6_2_7_unit_in",{"$f":"'T2-B(PP1)'!$D$424","v":0},"#'T2-B(PP1)'!$D$424"]
["pp1_bl6_2_7_units_out",{"$f":"'T2-B(PP1)'!$G$424","v":0},"#'T2-B(PP1)'!$G$424"]
["pp1_bl6_2_8_name",{"$f":"'T2-B(PP1)'!$B$425","v":0},"#'T2-B(PP1)'!$B$425"]
["pp1_bl6_2_8_rate_in",{"$f":"'T2-B(PP1)'!$E$425","v":0},"#'T2-B(PP1)'!$E$425"]
["pp1_bl6_2_8_rate_out",{"$f":"'T2-B(PP1)'!$H$425","v":0},"#'T2-B(PP1)'!$H$425"]
["pp1_bl6_2_8_total",{"$f":"'T2-B(PP1)'!$J$425","v":0},"#'T2-B(PP1)'!$J$425"]
["pp1_bl6_2_8_total_in",{"$f":"'T2-B(PP1)'!$F$425","v":0},"#'T2-B(PP1)'!$F$425"]
["pp1_bl6_2_8_total_out",{"$f":"'T2-B(PP1)'!$I$425","v":0},"#'T2-B(PP1)'!$I$425"]
["pp1_bl6_2_8_unit",{"$f":"'T2-B(PP1)'!$C$425","v":0},"#'T2-B(PP1)'!$C$425"]
["pp1_bl6_2_8_unit_in",{"$f":"'T2-B(PP1)'!$D$425","v":0},"#'T2-B(PP1)'!$D$425"]
["pp1_bl6_2_8_units_out",{"$f":"'T2-B(PP1)'!$G$425","v":0},"#'T2-B(PP1)'!$G$425"]
["pp1_bl6_2_9_name",{"$f":"'T2-B(PP1)'!$B$426","v":0},"#'T2-B(PP1)'!$B$426"]
["pp1_bl6_2_9_rate_in",{"$f":"'T2-B(PP1)'!$E$426","v":0},"#'T2-B(PP1)'!$E$426"]
["pp1_bl6_2_9_rate_out",{"$f":"'T2-B(PP1)'!$H$426","v":0},"#'T2-B(PP1)'!$H$426"]
["pp1_bl6_2_9_total",{"$f":"'T2-B(PP1)'!$J$426","v":0},"#'T2-B(PP1)'!$J$426"]
["pp1_bl6_2_9_total_in",{"$f":"'T2-B(PP1)'!$F$426","v":0},"#'T2-B(PP1)'!$F$426"]
["pp1_bl6_2_9_total_out",{"$f":"'T2-B(PP1)'!$I$426","v":0},"#'T2-B(PP1)'!$I$426"]
["pp1_bl6_2_9_unit",{"$f":"'T2-B(PP1)'!$C$426","v":0},"#'T2-B(PP1)'!$C$426"]
["pp1_bl6_2_9_unit_in",{"$f":"'T2-B(PP1)'!$D$426","v":0},"#'T2-B(PP1)'!$D$426"]
["pp1_bl6_2_9_units_out",{"$f":"'T2-B(PP1)'!$G$426","v":0},"#'T2-B(PP1)'!$G$426"]
["pp1_bl6_2_total",{"$f":"'T2-B(PP1)'!$J$417","v":0},"#'T2-B(PP1)'!$J$417"]
["pp1_bl6_2_total_in",{"$f":"'T2-B(PP1)'!$F$417","v":0},"#'T2-B(PP1)'!$F$417"]
["pp1_bl6_2_total_out",{"$f":"'T2-B(PP1)'!$I$417","v":0},"#'T2-B(PP1)'!$I$417"]
["pp1_bl6_total",{"$f":"'T2-B(PP1)'!$J$428","v":0},"#'T2-B(PP1)'!$J$428"]
["pp1_bl6_total_in",{"$f":"'T2-B(PP1)'!$F$428","v":0},"#'T2-B(PP1)'!$F$428"]
["pp1_bl6_total_out",{"$f":"'T2-B(PP1)'!$I$428","v":0},"#'T2-B(PP1)'!$I$428"]
["pp1_bl7_1_1_name",{"$f":"'T2-B(PP1)'!$B$431","v":0},"#'T2-B(PP1)'!$B$431"]
["pp1_bl7_1_1_rate_in",{"$f":"'T2-B(PP1)'!$H$431","v":0},"#'T2-B(PP1)'!$H$431"]
["pp1_bl7_1_1_rate_out",{"$f":"'T2-B(PP1)'!$N$431","v":0},"#'T2-B(PP1)'!$N$431"]
["pp1_bl7_1_1_total",{"$f":"'T2-B(PP1)'!$I$431","v":0},"#'T2-B(PP1)'!$I$431"]
["pp1_bl7_1_1_total_in",{"$f":"'T2-B(PP1)'!$P$431","v":0},"#'T2-B(PP1)'!$P$431"]
["pp1_bl7_1_1_total_out",{"$f":"'T2-B(PP1)'!$O$431","v":0},"#'T2-B(PP1)'!$O$431"]
["pp1_bl7_1_1_unit",{"$f":"'T2-B(PP1)'!$F$431","v":0},"#'T2-B(PP1)'!$F$431"]
["pp1_bl7_1_1_unit_in",{"$f":"'T2-B(PP1)'!$G$431","v":0},"#'T2-B(PP1)'!$G$431"]
["pp1_bl7_1_1_units_out",{"$f":"'T2-B(PP1)'!$M$431","v":0},"#'T2-B(PP1)'!$M$431"]
["pp1_competence",{"$f":"'PP1(LP)'!$B$38","v":0},"#'PP1(LP)'!$B$38"]
["pp1_country",{"$f":"'PP1(LP)'!$K$14","v":1},"#'PP1(LP)'!$K$14"]
["pp1_fax",{"$f":"'PP1(LP)'!$C$29","v":0},"#'PP1(LP)'!$C$29"]
["pp1_is_bg",{"$f":"'PP1(LP)'!$D$13","v":0},"#'PP1(LP)'!$D$13"]
["pp1_is_pc",{"$f":"'PP1(LP)'!$F$13","v":0},"#'PP1(LP)'!$F$13"]
["pp1_legal_representative",{"$f":"Cover!$C$40","v":0},"#Cover!$C$40"]
["pp1_legal_representative_position",{"$f":"'PP1(LP)'!$C$25","v":0},"#'PP1(LP)'!$C$25"]
["pp1_mail",{"$f":"'PP1(LP)'!$C$31","v":0},"#'PP1(LP)'!$C$31"]
["pp1_nat_code",{"$f":"'PP1(LP)'!$C$70","v":0},"#'PP1(LP)'!$C$70"]
["pp1_nuts3",{"$f":"'PP1(LP)'!$C$15","v":0},"#'PP1(LP)'!$C$15"]
["pp1_organisation_en",{"$f":"Cover!$C$38","v":0},"#Cover!$C$38"]
["pp1_organisation_native",{"$f":"'PP1(LP)'!$C$9","v":0},"#'PP1(LP)'!$C$9"]
["pp1_pe_date1",{"$f":"'PP1(LP)'!$G$47","v":"00:00:00"},"#'PP1(LP)'!$G$47"]
["pp1_pe_date2",{"$f":"'PP1(LP)'!$G$55","v":0},"#'PP1(LP)'!$G$55"]
["pp1_pe_date3",{"$f":"'PP1(LP)'!$G$63","v":0},"#'PP1(LP)'!$G$63"]
["pp1_pe_ga1",{"$f":"'PP1(LP)'!$G$46","v":0},"#'PP1(LP)'!$G$46"]
["pp1_pe_ga2",{"$f":"'PP1(LP)'!$G$54","v":0},"#'PP1(LP)'!$G$54"]
["pp1_pe_ga3",{"$f":"'PP1(LP)'!$G$62","v":0},"#'PP1(LP)'!$G$62"]
["pp1_pe_ip1",{"$f":"'PP1(LP)'!$C$43","v":0},"#'PP1(LP)'!$C$43"]
["pp1_pe_ip2",{"$f":"'PP1(LP)'!$C$51","v":0},"#'PP1(LP)'!$C$51"]
["pp1_pe_ip3",{"$f":"'PP1(LP)'!$C$59","v":0},"#'PP1(LP)'!$C$59"]
["pp1_pe_or1",{"$f":"'PP1(LP)'!$C$47","v":0},"#'PP1(LP)'!$C$47"]
["pp1_pe_or2",{"$f":"'PP1(LP)'!$C$55","v":0},"#'PP1(LP)'!$C$55"]
["pp1_pe_or3",{"$f":"'PP1(LP)'!$C$63","v":0},"#'PP1(LP)'!$C$63"]
["pp1_pe_pt1",{"$f":"'PP1(LP)'!$C$44","v":0},"#'PP1(LP)'!$C$44"]
["pp1_pe_pt2",{"$f":"'PP1(LP)'!$C$52","v":0},"#'PP1(LP)'!$C$52"]
["pp1_pe_pt3",{"$f":"'PP1(LP)'!$C$60","v":0},"#'PP1(LP)'!$C$60"]
["pp1_pe_sd1",{"$f":"'PP1(LP)'!$C$45","v":0},"#'PP1(LP)'!$C$45"]
["pp1_pe_sd2",{"$f":"'PP1(LP)'!$C$53","v":0},"#'PP1(LP)'!$C$53"]
["pp1_pe_sd3",{"$f":"'PP1(LP)'!$C$61","v":0},"#'PP1(LP)'!$C$61"]
["pp1_pe_tev1",{"$f":"'PP1(LP)'!$C$46","v":0},"#'PP1(LP)'!$C$46"]
["pp1_pe_tev2",{"$f":"'PP1(LP)'!$C$54","v":0},"#'PP1(LP)'!$C$54"]
["pp1_pe_tev3",{"$f":"'PP1(LP)'!$C$62","v":0},"#'PP1(LP)'!$C$62"]
["pp1_phone",{"$f":"'PP1(LP)'!$C$27","v":0},"#'PP1(LP)'!$C$27"]
["pp1_post_code",{"$f":"'PP1(LP)'!$C$21","v":0},"#'PP1(LP)'!$C$21"]
["pp1_town",{"$f":"'PP1(LP)'!$C$17","v":0},"#'PP1(LP)'!$C$17"]
["pp1_type_org",{"$f":"'PP1(LP)'!$C$11","v":0},"#'PP1(LP)'!$C$11"]
["pp1_vat_code",{"$f":"'PP1(LP)'!$C$72","v":0},"#'PP1(LP)'!$C$72"]
["pp1_website",{"$f":"'PP1(LP)'!$C$33","v":0},"#'PP1(LP)'!$C$33"]
["pp2_2014_fulltime_staff",{"$f":"'PP2'!$F$77","v":0},"#'PP2'!$F$77"]
["pp2_2014_parttime_staff",{"$f":"'PP2'!$G$77","v":0},"#'PP2'!$G$77"]
["pp2_2014_turnover",{"$f":"'PP2'!$C$77","v":0},"#'PP2'!$C$77"]
["pp2_2015_fulltime_staff",{"$f":"'PP2'!$F$78","v":0},"#'PP2'!$F$78"]
["pp2_2015_parttime_staff",{"$f":"'PP2'!$G$78","v":0},"#'PP2'!$G$78"]
["pp2_2015_turnover",{"$f":"'PP2'!$C$78","v":0},"#'PP2'!$C$78"]
["pp2_2016_fulltime_staff",{"$f":"'PP2'!$F$79","v":0},"#'PP2'!$F$79"]
["pp2_2016_parttime_staff",{"$f":"'PP2'!$G$79","v":0},"#'PP2'!$G$79"]
["pp2_2016_turnover",{"$f":"'PP2'!$C$79","v":0},"#'PP2'!$C$79"]
["pp2_address",{"$f":"'PP2'!$C$19","v":0},"#'PP2'!$C$19"]
["pp2_background1",{"$f":"'PP2'!$B$35","v":0},"#'PP2'!$B$35"]
["pp2_background2",{"$f":"'PP2'!$B$36","v":0},"#'PP2'!$B$36"]
["pp2_bl3_1_1_name",{"$f":"'T2-B(PP2)'!$B$36","v":0},"#'T2-B(PP2)'!$B$36"]
["pp2_bl3_1_1_rate_in",{"$f":"'T2-B(PP2)'!$E$36","v":0},"#'T2-B(PP2)'!$E$36"]
["pp2_bl3_1_1_rate_out",{"$f":"'T2-B(PP2)'!$H$36","v":0},"#'T2-B(PP2)'!$H$36"]
["pp2_bl3_1_1_total",{"$f":"'T2-B(PP2)'!$J$36","v":0},"#'T2-B(PP2)'!$J$36"]
["pp2_bl3_1_1_total_in",{"$f":"'T2-B(PP2)'!$F$36","v":0},"#'T2-B(PP2)'!$F$36"]
["pp2_bl3_1_1_total_out",{"$f":"'T2-B(PP2)'!$I$36","v":0},"#'T2-B(PP2)'!$I$36"]
["pp2_bl3_1_1_unit",{"$f":"'T2-B(PP2)'!$C$36","v":0},"#'T2-B(PP2)'!$C$36"]
["pp2_bl3_1_1_unit_in",{"$f":"'T2-B(PP2)'!$D$36","v":0},"#'T2-B(PP2)'!$D$36"]
["pp2_bl3_1_1_units_out",{"$f":"'T2-B(PP2)'!$G$36","v":0},"#'T2-B(PP2)'!$G$36"]
["pp2_bl3_1_10_name",{"$f":"'T2-B(PP2)'!$B$45","v":0},"#'T2-B(PP2)'!$B$45"]
["pp2_bl3_1_10_rate_in",{"$f":"'T2-B(PP2)'!$E$45","v":0},"#'T2-B(PP2)'!$E$45"]
["pp2_bl3_1_10_rate_out",{"$f":"'T2-B(PP2)'!$H$45","v":0},"#'T2-B(PP2)'!$H$45"]
["pp2_bl3_1_10_total",{"$f":"'T2-B(PP2)'!$J$45","v":0},"#'T2-B(PP2)'!$J$45"]
["pp2_bl3_1_10_total_in",{"$f":"'T2-B(PP2)'!$F$45","v":0},"#'T2-B(PP2)'!$F$45"]
["pp2_bl3_1_10_total_out",{"$f":"'T2-B(PP2)'!$I$45","v":0},"#'T2-B(PP2)'!$I$45"]
["pp2_bl3_1_10_unit",{"$f":"'T2-B(PP2)'!$C$45","v":0},"#'T2-B(PP2)'!$C$45"]
["pp2_bl3_1_10_unit_in",{"$f":"'T2-B(PP2)'!$D$45","v":0},"#'T2-B(PP2)'!$D$45"]
["pp2_bl3_1_10_units_out",{"$f":"'T2-B(PP2)'!$G$45","v":0},"#'T2-B(PP2)'!$G$45"]
["pp2_bl3_1_2_name",{"$f":"'T2-B(PP2)'!$B$37","v":0},"#'T2-B(PP2)'!$B$37"]
["pp2_bl3_1_2_rate_in",{"$f":"'T2-B(PP2)'!$E$37","v":0},"#'T2-B(PP2)'!$E$37"]
["pp2_bl3_1_2_rate_out",{"$f":"'T2-B(PP2)'!$H$37","v":0},"#'T2-B(PP2)'!$H$37"]
["pp2_bl3_1_2_total",{"$f":"'T2-B(PP2)'!$J$37","v":0},"#'T2-B(PP2)'!$J$37"]
["pp2_bl3_1_2_total_in",{"$f":"'T2-B(PP2)'!$F$37","v":0},"#'T2-B(PP2)'!$F$37"]
["pp2_bl3_1_2_total_out",{"$f":"'T2-B(PP2)'!$I$37","v":0},"#'T2-B(PP2)'!$I$37"]
["pp2_bl3_1_2_unit",{"$f":"'T2-B(PP2)'!$C$37","v":0},"#'T2-B(PP2)'!$C$37"]
["pp2_bl3_1_2_unit_in",{"$f":"'T2-B(PP2)'!$D$37","v":0},"#'T2-B(PP2)'!$D$37"]
["pp2_bl3_1_2_units_out",{"$f":"'T2-B(PP2)'!$G$37","v":0},"#'T2-B(PP2)'!$G$37"]
["pp2_bl3_1_3_name",{"$f":"'T2-B(PP2)'!$B$38","v":0},"#'T2-B(PP2)'!$B$38"]
["pp2_bl3_1_3_rate_in",{"$f":"'T2-B(PP2)'!$E$38","v":0},"#'T2-B(PP2)'!$E$38"]
["pp2_bl3_1_3_rate_out",{"$f":"'T2-B(PP2)'!$H$38","v":0},"#'T2-B(PP2)'!$H$38"]
["pp2_bl3_1_3_total",{"$f":"'T2-B(PP2)'!$J$38","v":0},"#'T2-B(PP2)'!$J$38"]
["pp2_bl3_1_3_total_in",{"$f":"'T2-B(PP2)'!$F$38","v":0},"#'T2-B(PP2)'!$F$38"]
["pp2_bl3_1_3_total_out",{"$f":"'T2-B(PP2)'!$I$38","v":0},"#'T2-B(PP2)'!$I$38"]
["pp2_bl3_1_3_unit",{"$f":"'T2-B(PP2)'!$C$38","v":0},"#'T2-B(PP2)'!$C$38"]
["pp2_bl3_1_3_unit_in",{"$f":"'T2-B(PP2)'!$D$38","v":0},"#'T2-B(PP2)'!$D$38"]
["pp2_bl3_1_3_units_out",{"$f":"'T2-B(PP2)'!$G$38","v":0},"#'T2-B(PP2)'!$G$38"]
["pp2_bl3_1_4_name",{"$f":"'T2-B(PP2)'!$B$39","v":0},"#'T2-B(PP2)'!$B$39"]
["pp2_bl3_1_4_rate_in",{"$f":"'T2-B(PP2)'!$E$39","v":0},"#'T2-B(PP2)'!$E$39"]
["pp2_bl3_1_4_rate_out",{"$f":"'T2-B(PP2)'!$H$39","v":0},"#'T2-B(PP2)'!$H$39"]
["pp2_bl3_1_4_total",{"$f":"'T2-B(PP2)'!$J$39","v":0},"#'T2-B(PP2)'!$J$39"]
["pp2_bl3_1_4_total_in",{"$f":"'T2-B(PP2)'!$F$39","v":0},"#'T2-B(PP2)'!$F$39"]
["pp2_bl3_1_4_total_out",{"$f":"'T2-B(PP2)'!$I$39","v":0},"#'T2-B(PP2)'!$I$39"]
["pp2_bl3_1_4_unit",{"$f":"'T2-B(PP2)'!$C$39","v":0},"#'T2-B(PP2)'!$C$39"]
["pp2_bl3_1_4_unit_in",{"$f":"'T2-B(PP2)'!$D$39","v":0},"#'T2-B(PP2)'!$D$39"]
["pp2_bl3_1_4_units_out",{"$f":"'T2-B(PP2)'!$G$39","v":0},"#'T2-B(PP2)'!$G$39"]
["pp2_bl3_1_5_name",{"$f":"'T2-B(PP2)'!$B$40","v":0},"#'T2-B(PP2)'!$B$40"]
["pp2_bl3_1_5_rate_in",{"$f":"'T2-B(PP2)'!$E$40","v":0},"#'T2-B(PP2)'!$E$40"]
["pp2_bl3_1_5_rate_out",{"$f":"'T2-B(PP2)'!$H$40","v":0},"#'T2-B(PP2)'!$H$40"]
["pp2_bl3_1_5_total",{"$f":"'T2-B(PP2)'!$J$40","v":0},"#'T2-B(PP2)'!$J$40"]
["pp2_bl3_1_5_total_in",{"$f":"'T2-B(PP2)'!$F$40","v":0},"#'T2-B(PP2)'!$F$40"]
["pp2_bl3_1_5_total_out",{"$f":"'T2-B(PP2)'!$I$40","v":0},"#'T2-B(PP2)'!$I$40"]
["pp2_bl3_1_5_unit",{"$f":"'T2-B(PP2)'!$C$40","v":0},"#'T2-B(PP2)'!$C$40"]
["pp2_bl3_1_5_unit_in",{"$f":"'T2-B(PP2)'!$D$40","v":0},"#'T2-B(PP2)'!$D$40"]
["pp2_bl3_1_5_units_out",{"$f":"'T2-B(PP2)'!$G$40","v":0},"#'T2-B(PP2)'!$G$40"]
["pp2_bl3_1_6_name",{"$f":"'T2-B(PP2)'!$B$41","v":0},"#'T2-B(PP2)'!$B$41"]
["pp2_bl3_1_6_rate_in",{"$f":"'T2-B(PP2)'!$E$41","v":0},"#'T2-B(PP2)'!$E$41"]
["pp2_bl3_1_6_rate_out",{"$f":"'T2-B(PP2)'!$H$41","v":0},"#'T2-B(PP2)'!$H$41"]
["pp2_bl3_1_6_total",{"$f":"'T2-B(PP2)'!$J$41","v":0},"#'T2-B(PP2)'!$J$41"]
["pp2_bl3_1_6_total_in",{"$f":"'T2-B(PP2)'!$F$41","v":0},"#'T2-B(PP2)'!$F$41"]
["pp2_bl3_1_6_total_out",{"$f":"'T2-B(PP2)'!$I$41","v":0},"#'T2-B(PP2)'!$I$41"]
["pp2_bl3_1_6_unit",{"$f":"'T2-B(PP2)'!$C$41","v":0},"#'T2-B(PP2)'!$C$41"]
["pp2_bl3_1_6_unit_in",{"$f":"'T2-B(PP2)'!$D$41","v":0},"#'T2-B(PP2)'!$D$41"]
["pp2_bl3_1_6_units_out",{"$f":"'T2-B(PP2)'!$G$41","v":0},"#'T2-B(PP2)'!$G$41"]
["pp2_bl3_1_7_name",{"$f":"'T2-B(PP2)'!$B$42","v":0},"#'T2-B(PP2)'!$B$42"]
["pp2_bl3_1_7_rate_in",{"$f":"'T2-B(PP2)'!$E$42","v":0},"#'T2-B(PP2)'!$E$42"]
["pp2_bl3_1_7_rate_out",{"$f":"'T2-B(PP2)'!$H$42","v":0},"#'T2-B(PP2)'!$H$42"]
["pp2_bl3_1_7_total",{"$f":"'T2-B(PP2)'!$J$42","v":0},"#'T2-B(PP2)'!$J$42"]
["pp2_bl3_1_7_total_in",{"$f":"'T2-B(PP2)'!$F$42","v":0},"#'T2-B(PP2)'!$F$42"]
["pp2_bl3_1_7_total_out",{"$f":"'T2-B(PP2)'!$I$42","v":0},"#'T2-B(PP2)'!$I$42"]
["pp2_bl3_1_7_unit",{"$f":"'T2-B(PP2)'!$C$42","v":0},"#'T2-B(PP2)'!$C$42"]
["pp2_bl3_1_7_unit_in",{"$f":"'T2-B(PP2)'!$D$42","v":0},"#'T2-B(PP2)'!$D$42"]
["pp2_bl3_1_7_units_out",{"$f":"'T2-B(PP2)'!$G$42","v":0},"#'T2-B(PP2)'!$G$42"]
["pp2_bl3_1_8_name",{"$f":"'T2-B(PP2)'!$B$43","v":0},"#'T2-B(PP2)'!$B$43"]
["pp2_bl3_1_8_rate_in",{"$f":"'T2-B(PP2)'!$E$43","v":0},"#'T2-B(PP2)'!$E$43"]
["pp2_bl3_1_8_rate_out",{"$f":"'T2-B(PP2)'!$H$43","v":0},"#'T2-B(PP2)'!$H$43"]
["pp2_bl3_1_8_total",{"$f":"'T2-B(PP2)'!$J$43","v":0},"#'T2-B(PP2)'!$J$43"]
["pp2_bl3_1_8_total_in",{"$f":"'T2-B(PP2)'!$F$43","v":0},"#'T2-B(PP2)'!$F$43"]
["pp2_bl3_1_8_total_out",{"$f":"'T2-B(PP2)'!$I$43","v":0},"#'T2-B(PP2)'!$I$43"]
["pp2_bl3_1_8_unit",{"$f":"'T2-B(PP2)'!$C$43","v":0},"#'T2-B(PP2)'!$C$43"]
["pp2_bl3_1_8_unit_in",{"$f":"'T2-B(PP2)'!$D$43","v":0},"#'T2-B(PP2)'!$D$43"]
["pp2_bl3_1_8_units_out",{"$f":"'T2-B(PP2)'!$G$43","v":0},"#'T2-B(PP2)'!$G$43"]
["pp2_bl3_1_9_name",{"$f":"'T2-B(PP2)'!$B$44","v":0},"#'T2-B(PP2)'!$B$44"]
["pp2_bl3_1_9_rate_in",{"$f":"'T2-B(PP2)'!$E$44","v":0},"#'T2-B(PP2)'!$E$44"]
["pp2_bl3_1_9_rate_out",{"$f":"'T2-B(PP2)'!$H$44","v":0},"#'T2-B(PP2)'!$H$44"]
["pp2_bl3_1_9_total",{"$f":"'T2-B(PP2)'!$J$44","v":0},"#'T2-B(PP2)'!$J$44"]
["pp2_bl3_1_9_total_in",{"$f":"'T2-B(PP2)'!$F$44","v":0},"#'T2-B(PP2)'!$F$44"]
["pp2_bl3_1_9_total_out",{"$f":"'T2-B(PP2)'!$I$44","v":0},"#'T2-B(PP2)'!$I$44"]
["pp2_bl3_1_9_unit",{"$f":"'T2-B(PP2)'!$C$44","v":0},"#'T2-B(PP2)'!$C$44"]
["pp2_bl3_1_9_unit_in",{"$f":"'T2-B(PP2)'!$D$44","v":0},"#'T2-B(PP2)'!$D$44"]
["pp2_bl3_1_9_units_out",{"$f":"'T2-B(PP2)'!$G$44","v":0},"#'T2-B(PP2)'!$G$44"]
["pp2_bl3_1_total",{"$f":"'T2-B(PP2)'!$J$35","v":0},"#'T2-B(PP2)'!$J$35"]
["pp2_bl3_1_total_in",{"$f":"'T2-B(PP2)'!$F$35","v":0},"#'T2-B(PP2)'!$F$35"]
["pp2_bl3_1_total_out",{"$f":"'T2-B(PP2)'!$I$35","v":0},"#'T2-B(PP2)'!$I$35"]
["pp2_bl3_2_1_name",{"$f":"'T2-B(PP2)'!$B$57","v":0},"#'T2-B(PP2)'!$B$57"]
["pp2_bl3_2_1_rate_in",{"$f":"'T2-B(PP2)'!$E$57","v":0},"#'T2-B(PP2)'!$E$57"]
["pp2_bl3_2_1_rate_out",{"$f":"'T2-B(PP2)'!$H$57","v":0},"#'T2-B(PP2)'!$H$57"]
["pp2_bl3_2_1_total",{"$f":"'T2-B(PP2)'!$J$57","v":0},"#'T2-B(PP2)'!$J$57"]
["pp2_bl3_2_1_total_in",{"$f":"'T2-B(PP2)'!$F$57","v":0},"#'T2-B(PP2)'!$F$57"]
["pp2_bl3_2_1_total_out",{"$f":"'T2-B(PP2)'!$I$57","v":0},"#'T2-B(PP2)'!$I$57"]
["pp2_bl3_2_1_unit",{"$f":"'T2-B(PP2)'!$C$57","v":0},"#'T2-B(PP2)'!$C$57"]
["pp2_bl3_2_1_unit_in",{"$f":"'T2-B(PP2)'!$D$57","v":0},"#'T2-B(PP2)'!$D$57"]
["pp2_bl3_2_1_units_out",{"$f":"'T2-B(PP2)'!$G$57","v":0},"#'T2-B(PP2)'!$G$57"]
["pp2_bl3_2_10_name",{"$f":"'T2-B(PP2)'!$B$66","v":0},"#'T2-B(PP2)'!$B$66"]
["pp2_bl3_2_10_rate_in",{"$f":"'T2-B(PP2)'!$E$66","v":0},"#'T2-B(PP2)'!$E$66"]
["pp2_bl3_2_10_rate_out",{"$f":"'T2-B(PP2)'!$H$66","v":0},"#'T2-B(PP2)'!$H$66"]
["pp2_bl3_2_10_total",{"$f":"'T2-B(PP2)'!$J$66","v":0},"#'T2-B(PP2)'!$J$66"]
["pp2_bl3_2_10_total_in",{"$f":"'T2-B(PP2)'!$F$66","v":0},"#'T2-B(PP2)'!$F$66"]
["pp2_bl3_2_10_total_out",{"$f":"'T2-B(PP2)'!$I$66","v":0},"#'T2-B(PP2)'!$I$66"]
["pp2_bl3_2_10_unit",{"$f":"'T2-B(PP2)'!$C$66","v":0},"#'T2-B(PP2)'!$C$66"]
["pp2_bl3_2_10_unit_in",{"$f":"'T2-B(PP2)'!$D$66","v":0},"#'T2-B(PP2)'!$D$66"]
["pp2_bl3_2_10_units_out",{"$f":"'T2-B(PP2)'!$G$66","v":0},"#'T2-B(PP2)'!$G$66"]
["pp2_bl3_2_2_name",{"$f":"'T2-B(PP2)'!$B$58","v":0},"#'T2-B(PP2)'!$B$58"]
["pp2_bl3_2_2_rate_in",{"$f":"'T2-B(PP2)'!$E$58","v":0},"#'T2-B(PP2)'!$E$58"]
["pp2_bl3_2_2_rate_out",{"$f":"'T2-B(PP2)'!$H$58","v":0},"#'T2-B(PP2)'!$H$58"]
["pp2_bl3_2_2_total",{"$f":"'T2-B(PP2)'!$J$58","v":0},"#'T2-B(PP2)'!$J$58"]
["pp2_bl3_2_2_total_in",{"$f":"'T2-B(PP2)'!$F$58","v":0},"#'T2-B(PP2)'!$F$58"]
["pp2_bl3_2_2_total_out",{"$f":"'T2-B(PP2)'!$I$58","v":0},"#'T2-B(PP2)'!$I$58"]
["pp2_bl3_2_2_unit",{"$f":"'T2-B(PP2)'!$C$58","v":0},"#'T2-B(PP2)'!$C$58"]
["pp2_bl3_2_2_unit_in",{"$f":"'T2-B(PP2)'!$D$58","v":0},"#'T2-B(PP2)'!$D$58"]
["pp2_bl3_2_2_units_out",{"$f":"'T2-B(PP2)'!$G$58","v":0},"#'T2-B(PP2)'!$G$58"]
["pp2_bl3_2_3_name",{"$f":"'T2-B(PP2)'!$B$59","v":0},"#'T2-B(PP2)'!$B$59"]
["pp2_bl3_2_3_rate_in",{"$f":"'T2-B(PP2)'!$E$59","v":0},"#'T2-B(PP2)'!$E$59"]
["pp2_bl3_2_3_rate_out",{"$f":"'T2-B(PP2)'!$H$59","v":0},"#'T2-B(PP2)'!$H$59"]
["pp2_bl3_2_3_total",{"$f":"'T2-B(PP2)'!$J$59","v":0},"#'T2-B(PP2)'!$J$59"]
["pp2_bl3_2_3_total_in",{"$f":"'T2-B(PP2)'!$F$59","v":0},"#'T2-B(PP2)'!$F$59"]
["pp2_bl3_2_3_total_out",{"$f":"'T2-B(PP2)'!$I$59","v":0},"#'T2-B(PP2)'!$I$59"]
["pp2_bl3_2_3_unit",{"$f":"'T2-B(PP2)'!$C$59","v":0},"#'T2-B(PP2)'!$C$59"]
["pp2_bl3_2_3_unit_in",{"$f":"'T2-B(PP2)'!$D$59","v":0},"#'T2-B(PP2)'!$D$59"]
["pp2_bl3_2_3_units_out",{"$f":"'T2-B(PP2)'!$G$59","v":0},"#'T2-B(PP2)'!$G$59"]
["pp2_bl3_2_4_name",{"$f":"'T2-B(PP2)'!$B$60","v":0},"#'T2-B(PP2)'!$B$60"]
["pp2_bl3_2_4_rate_in",{"$f":"'T2-B(PP2)'!$E$60","v":0},"#'T2-B(PP2)'!$E$60"]
["pp2_bl3_2_4_rate_out",{"$f":"'T2-B(PP2)'!$H$60","v":0},"#'T2-B(PP2)'!$H$60"]
["pp2_bl3_2_4_total",{"$f":"'T2-B(PP2)'!$J$60","v":0},"#'T2-B(PP2)'!$J$60"]
["pp2_bl3_2_4_total_in",{"$f":"'T2-B(PP2)'!$F$60","v":0},"#'T2-B(PP2)'!$F$60"]
["pp2_bl3_2_4_total_out",{"$f":"'T2-B(PP2)'!$I$60","v":0},"#'T2-B(PP2)'!$I$60"]
["pp2_bl3_2_4_unit",{"$f":"'T2-B(PP2)'!$C$60","v":0},"#'T2-B(PP2)'!$C$60"]
["pp2_bl3_2_4_unit_in",{"$f":"'T2-B(PP2)'!$D$60","v":0},"#'T2-B(PP2)'!$D$60"]
["pp2_bl3_2_4_units_out",{"$f":"'T2-B(PP2)'!$G$60","v":0},"#'T2-B(PP2)'!$G$60"]
["pp2_bl3_2_5_name",{"$f":"'T2-B(PP2)'!$B$61","v":0},"#'T2-B(PP2)'!$B$61"]
["pp2_bl3_2_5_rate_in",{"$f":"'T2-B(PP2)'!$E$61","v":0},"#'T2-B(PP2)'!$E$61"]
["pp2_bl3_2_5_rate_out",{"$f":"'T2-B(PP2)'!$H$61","v":0},"#'T2-B(PP2)'!$H$61"]
["pp2_bl3_2_5_total",{"$f":"'T2-B(PP2)'!$J$61","v":0},"#'T2-B(PP2)'!$J$61"]
["pp2_bl3_2_5_total_in",{"$f":"'T2-B(PP2)'!$F$61","v":0},"#'T2-B(PP2)'!$F$61"]
["pp2_bl3_2_5_total_out",{"$f":"'T2-B(PP2)'!$I$61","v":0},"#'T2-B(PP2)'!$I$61"]
["pp2_bl3_2_5_unit",{"$f":"'T2-B(PP2)'!$C$61","v":0},"#'T2-B(PP2)'!$C$61"]
["pp2_bl3_2_5_unit_in",{"$f":"'T2-B(PP2)'!$D$61","v":0},"#'T2-B(PP2)'!$D$61"]
["pp2_bl3_2_5_units_out",{"$f":"'T2-B(PP2)'!$G$61","v":0},"#'T2-B(PP2)'!$G$61"]
["pp2_bl3_2_6_name",{"$f":"'T2-B(PP2)'!$B$62","v":0},"#'T2-B(PP2)'!$B$62"]
["pp2_bl3_2_6_rate_in",{"$f":"'T2-B(PP2)'!$E$62","v":0},"#'T2-B(PP2)'!$E$62"]
["pp2_bl3_2_6_rate_out",{"$f":"'T2-B(PP2)'!$H$62","v":0},"#'T2-B(PP2)'!$H$62"]
["pp2_bl3_2_6_total",{"$f":"'T2-B(PP2)'!$J$62","v":0},"#'T2-B(PP2)'!$J$62"]
["pp2_bl3_2_6_total_in",{"$f":"'T2-B(PP2)'!$F$62","v":0},"#'T2-B(PP2)'!$F$62"]
["pp2_bl3_2_6_total_out",{"$f":"'T2-B(PP2)'!$I$62","v":0},"#'T2-B(PP2)'!$I$62"]
["pp2_bl3_2_6_unit",{"$f":"'T2-B(PP2)'!$C$62","v":0},"#'T2-B(PP2)'!$C$62"]
["pp2_bl3_2_6_unit_in",{"$f":"'T2-B(PP2)'!$D$62","v":0},"#'T2-B(PP2)'!$D$62"]
["pp2_bl3_2_6_units_out",{"$f":"'T2-B(PP2)'!$G$62","v":0},"#'T2-B(PP2)'!$G$62"]
["pp2_bl3_2_7_name",{"$f":"'T2-B(PP2)'!$B$63","v":0},"#'T2-B(PP2)'!$B$63"]
["pp2_bl3_2_7_rate_in",{"$f":"'T2-B(PP2)'!$E$63","v":0},"#'T2-B(PP2)'!$E$63"]
["pp2_bl3_2_7_rate_out",{"$f":"'T2-B(PP2)'!$H$63","v":0},"#'T2-B(PP2)'!$H$63"]
["pp2_bl3_2_7_total",{"$f":"'T2-B(PP2)'!$J$63","v":0},"#'T2-B(PP2)'!$J$63"]
["pp2_bl3_2_7_total_in",{"$f":"'T2-B(PP2)'!$F$63","v":0},"#'T2-B(PP2)'!$F$63"]
["pp2_bl3_2_7_total_out",{"$f":"'T2-B(PP2)'!$I$63","v":0},"#'T2-B(PP2)'!$I$63"]
["pp2_bl3_2_7_unit",{"$f":"'T2-B(PP2)'!$C$63","v":0},"#'T2-B(PP2)'!$C$63"]
["pp2_bl3_2_7_unit_in",{"$f":"'T2-B(PP2)'!$D$63","v":0},"#'T2-B(PP2)'!$D$63"]
["pp2_bl3_2_7_units_out",{"$f":"'T2-B(PP2)'!$G$63","v":0},"#'T2-B(PP2)'!$G$63"]
["pp2_bl3_2_8_name",{"$f":"'T2-B(PP2)'!$B$64","v":0},"#'T2-B(PP2)'!$B$64"]
["pp2_bl3_2_8_rate_in",{"$f":"'T2-B(PP2)'!$E$64","v":0},"#'T2-B(PP2)'!$E$64"]
["pp2_bl3_2_8_rate_out",{"$f":"'T2-B(PP2)'!$H$64","v":0},"#'T2-B(PP2)'!$H$64"]
["pp2_bl3_2_8_total",{"$f":"'T2-B(PP2)'!$J$64","v":0},"#'T2-B(PP2)'!$J$64"]
["pp2_bl3_2_8_total_in",{"$f":"'T2-B(PP2)'!$F$64","v":0},"#'T2-B(PP2)'!$F$64"]
["pp2_bl3_2_8_total_out",{"$f":"'T2-B(PP2)'!$I$64","v":0},"#'T2-B(PP2)'!$I$64"]
["pp2_bl3_2_8_unit",{"$f":"'T2-B(PP2)'!$C$64","v":0},"#'T2-B(PP2)'!$C$64"]
["pp2_bl3_2_8_unit_in",{"$f":"'T2-B(PP2)'!$D$64","v":0},"#'T2-B(PP2)'!$D$64"]
["pp2_bl3_2_8_units_out",{"$f":"'T2-B(PP2)'!$G$64","v":0},"#'T2-B(PP2)'!$G$64"]
["pp2_bl3_2_9_name",{"$f":"'T2-B(PP2)'!$B$65","v":0},"#'T2-B(PP2)'!$B$65"]
["pp2_bl3_2_9_rate_in",{"$f":"'T2-B(PP2)'!$E$65","v":0},"#'T2-B(PP2)'!$E$65"]
["pp2_bl3_2_9_rate_out",{"$f":"'T2-B(PP2)'!$H$65","v":0},"#'T2-B(PP2)'!$H$65"]
["pp2_bl3_2_9_total",{"$f":"'T2-B(PP2)'!$J$65","v":0},"#'T2-B(PP2)'!$J$65"]
["pp2_bl3_2_9_total_in",{"$f":"'T2-B(PP2)'!$F$65","v":0},"#'T2-B(PP2)'!$F$65"]
["pp2_bl3_2_9_total_out",{"$f":"'T2-B(PP2)'!$I$65","v":0},"#'T2-B(PP2)'!$I$65"]
["pp2_bl3_2_9_unit",{"$f":"'T2-B(PP2)'!$C$65","v":0},"#'T2-B(PP2)'!$C$65"]
["pp2_bl3_2_9_unit_in",{"$f":"'T2-B(PP2)'!$D$65","v":0},"#'T2-B(PP2)'!$D$65"]
["pp2_bl3_2_9_units_out",{"$f":"'T2-B(PP2)'!$G$65","v":0},"#'T2-B(PP2)'!$G$65"]
["pp2_bl3_2_total",{"$f":"'T2-B(PP2)'!$J$56","v":0},"#'T2-B(PP2)'!$J$56"]
["pp2_bl3_2_total_in",{"$f":"'T2-B(PP2)'!$F$56","v":0},"#'T2-B(PP2)'!$F$56"]
["pp2_bl3_2_total_out",{"$f":"'T2-B(PP2)'!$I$56","v":0},"#'T2-B(PP2)'!$I$56"]
["pp2_bl3_3_1_name",{"$f":"'T2-B(PP2)'!$B$78","v":0},"#'T2-B(PP2)'!$B$78"]
["pp2_bl3_3_1_rate_in",{"$f":"'T2-B(PP2)'!$E$78","v":0},"#'T2-B(PP2)'!$E$78"]
["pp2_bl3_3_1_rate_out",{"$f":"'T2-B(PP2)'!$H$78","v":0},"#'T2-B(PP2)'!$H$78"]
["pp2_bl3_3_1_total",{"$f":"'T2-B(PP2)'!$J$78","v":0},"#'T2-B(PP2)'!$J$78"]
["pp2_bl3_3_1_total_in",{"$f":"'T2-B(PP2)'!$F$78","v":0},"#'T2-B(PP2)'!$F$78"]
["pp2_bl3_3_1_total_out",{"$f":"'T2-B(PP2)'!$I$78","v":0},"#'T2-B(PP2)'!$I$78"]
["pp2_bl3_3_1_unit",{"$f":"'T2-B(PP2)'!$C$78","v":0},"#'T2-B(PP2)'!$C$78"]
["pp2_bl3_3_1_unit_in",{"$f":"'T2-B(PP2)'!$D$78","v":0},"#'T2-B(PP2)'!$D$78"]
["pp2_bl3_3_1_units_out",{"$f":"'T2-B(PP2)'!$G$78","v":0},"#'T2-B(PP2)'!$G$78"]
["pp2_bl3_3_10_name",{"$f":"'T2-B(PP2)'!$B$87","v":0},"#'T2-B(PP2)'!$B$87"]
["pp2_bl3_3_10_rate_in",{"$f":"'T2-B(PP2)'!$E$87","v":0},"#'T2-B(PP2)'!$E$87"]
["pp2_bl3_3_10_rate_out",{"$f":"'T2-B(PP2)'!$H$87","v":0},"#'T2-B(PP2)'!$H$87"]
["pp2_bl3_3_10_total",{"$f":"'T2-B(PP2)'!$J$87","v":0},"#'T2-B(PP2)'!$J$87"]
["pp2_bl3_3_10_total_in",{"$f":"'T2-B(PP2)'!$F$87","v":0},"#'T2-B(PP2)'!$F$87"]
["pp2_bl3_3_10_total_out",{"$f":"'T2-B(PP2)'!$I$87","v":0},"#'T2-B(PP2)'!$I$87"]
["pp2_bl3_3_10_unit",{"$f":"'T2-B(PP2)'!$C$87","v":0},"#'T2-B(PP2)'!$C$87"]
["pp2_bl3_3_10_unit_in",{"$f":"'T2-B(PP2)'!$D$87","v":0},"#'T2-B(PP2)'!$D$87"]
["pp2_bl3_3_10_units_out",{"$f":"'T2-B(PP2)'!$G$87","v":0},"#'T2-B(PP2)'!$G$87"]
["pp2_bl3_3_2_name",{"$f":"'T2-B(PP2)'!$B$79","v":0},"#'T2-B(PP2)'!$B$79"]
["pp2_bl3_3_2_rate_in",{"$f":"'T2-B(PP2)'!$E$79","v":0},"#'T2-B(PP2)'!$E$79"]
["pp2_bl3_3_2_rate_out",{"$f":"'T2-B(PP2)'!$H$79","v":0},"#'T2-B(PP2)'!$H$79"]
["pp2_bl3_3_2_total",{"$f":"'T2-B(PP2)'!$J$79","v":0},"#'T2-B(PP2)'!$J$79"]
["pp2_bl3_3_2_total_in",{"$f":"'T2-B(PP2)'!$F$79","v":0},"#'T2-B(PP2)'!$F$79"]
["pp2_bl3_3_2_total_out",{"$f":"'T2-B(PP2)'!$I$79","v":0},"#'T2-B(PP2)'!$I$79"]
["pp2_bl3_3_2_unit",{"$f":"'T2-B(PP2)'!$C$79","v":0},"#'T2-B(PP2)'!$C$79"]
["pp2_bl3_3_2_unit_in",{"$f":"'T2-B(PP2)'!$D$79","v":0},"#'T2-B(PP2)'!$D$79"]
["pp2_bl3_3_2_units_out",{"$f":"'T2-B(PP2)'!$G$79","v":0},"#'T2-B(PP2)'!$G$79"]
["pp2_bl3_3_3_name",{"$f":"'T2-B(PP2)'!$B$80","v":0},"#'T2-B(PP2)'!$B$80"]
["pp2_bl3_3_3_rate_in",{"$f":"'T2-B(PP2)'!$E$80","v":0},"#'T2-B(PP2)'!$E$80"]
["pp2_bl3_3_3_rate_out",{"$f":"'T2-B(PP2)'!$H$80","v":0},"#'T2-B(PP2)'!$H$80"]
["pp2_bl3_3_3_total",{"$f":"'T2-B(PP2)'!$J$80","v":0},"#'T2-B(PP2)'!$J$80"]
["pp2_bl3_3_3_total_in",{"$f":"'T2-B(PP2)'!$F$80","v":0},"#'T2-B(PP2)'!$F$80"]
["pp2_bl3_3_3_total_out",{"$f":"'T2-B(PP2)'!$I$80","v":0},"#'T2-B(PP2)'!$I$80"]
["pp2_bl3_3_3_unit",{"$f":"'T2-B(PP2)'!$C$80","v":0},"#'T2-B(PP2)'!$C$80"]
["pp2_bl3_3_3_unit_in",{"$f":"'T2-B(PP2)'!$D$80","v":0},"#'T2-B(PP2)'!$D$80"]
["pp2_bl3_3_3_units_out",{"$f":"'T2-B(PP2)'!$G$80","v":0},"#'T2-B(PP2)'!$G$80"]
["pp2_bl3_3_4_name",{"$f":"'T2-B(PP2)'!$B$81","v":0},"#'T2-B(PP2)'!$B$81"]
["pp2_bl3_3_4_rate_in",{"$f":"'T2-B(PP2)'!$E$81","v":0},"#'T2-B(PP2)'!$E$81"]
["pp2_bl3_3_4_rate_out",{"$f":"'T2-B(PP2)'!$H$81","v":0},"#'T2-B(PP2)'!$H$81"]
["pp2_bl3_3_4_total",{"$f":"'T2-B(PP2)'!$J$81","v":0},"#'T2-B(PP2)'!$J$81"]
["pp2_bl3_3_4_total_in",{"$f":"'T2-B(PP2)'!$F$81","v":0},"#'T2-B(PP2)'!$F$81"]
["pp2_bl3_3_4_total_out",{"$f":"'T2-B(PP2)'!$I$81","v":0},"#'T2-B(PP2)'!$I$81"]
["pp2_bl3_3_4_unit",{"$f":"'T2-B(PP2)'!$C$81","v":0},"#'T2-B(PP2)'!$C$81"]
["pp2_bl3_3_4_unit_in",{"$f":"'T2-B(PP2)'!$D$81","v":0},"#'T2-B(PP2)'!$D$81"]
["pp2_bl3_3_4_units_out",{"$f":"'T2-B(PP2)'!$G$81","v":0},"#'T2-B(PP2)'!$G$81"]
["pp2_bl3_3_5_name",{"$f":"'T2-B(PP2)'!$B$82","v":0},"#'T2-B(PP2)'!$B$82"]
["pp2_bl3_3_5_rate_in",{"$f":"'T2-B(PP2)'!$E$82","v":0},"#'T2-B(PP2)'!$E$82"]
["pp2_bl3_3_5_rate_out",{"$f":"'T2-B(PP2)'!$H$82","v":0},"#'T2-B(PP2)'!$H$82"]
["pp2_bl3_3_5_total",{"$f":"'T2-B(PP2)'!$J$82","v":0},"#'T2-B(PP2)'!$J$82"]
["pp2_bl3_3_5_total_in",{"$f":"'T2-B(PP2)'!$F$82","v":0},"#'T2-B(PP2)'!$F$82"]
["pp2_bl3_3_5_total_out",{"$f":"'T2-B(PP2)'!$I$82","v":0},"#'T2-B(PP2)'!$I$82"]
["pp2_bl3_3_5_unit",{"$f":"'T2-B(PP2)'!$C$82","v":0},"#'T2-B(PP2)'!$C$82"]
["pp2_bl3_3_5_unit_in",{"$f":"'T2-B(PP2)'!$D$82","v":0},"#'T2-B(PP2)'!$D$82"]
["pp2_bl3_3_5_units_out",{"$f":"'T2-B(PP2)'!$G$82","v":0},"#'T2-B(PP2)'!$G$82"]
["pp2_bl3_3_6_name",{"$f":"'T2-B(PP2)'!$B$83","v":0},"#'T2-B(PP2)'!$B$83"]
["pp2_bl3_3_6_rate_in",{"$f":"'T2-B(PP2)'!$E$83","v":0},"#'T2-B(PP2)'!$E$83"]
["pp2_bl3_3_6_rate_out",{"$f":"'T2-B(PP2)'!$H$83","v":0},"#'T2-B(PP2)'!$H$83"]
["pp2_bl3_3_6_total",{"$f":"'T2-B(PP2)'!$J$83","v":0},"#'T2-B(PP2)'!$J$83"]
["pp2_bl3_3_6_total_in",{"$f":"'T2-B(PP2)'!$F$83","v":0},"#'T2-B(PP2)'!$F$83"]
["pp2_bl3_3_6_total_out",{"$f":"'T2-B(PP2)'!$I$83","v":0},"#'T2-B(PP2)'!$I$83"]
["pp2_bl3_3_6_unit",{"$f":"'T2-B(PP2)'!$C$83","v":0},"#'T2-B(PP2)'!$C$83"]
["pp2_bl3_3_6_unit_in",{"$f":"'T2-B(PP2)'!$D$83","v":0},"#'T2-B(PP2)'!$D$83"]
["pp2_bl3_3_6_units_out",{"$f":"'T2-B(PP2)'!$G$83","v":0},"#'T2-B(PP2)'!$G$83"]
["pp2_bl3_3_7_name",{"$f":"'T2-B(PP2)'!$B$84","v":0},"#'T2-B(PP2)'!$B$84"]
["pp2_bl3_3_7_rate_in",{"$f":"'T2-B(PP2)'!$E$84","v":0},"#'T2-B(PP2)'!$E$84"]
["pp2_bl3_3_7_rate_out",{"$f":"'T2-B(PP2)'!$H$84","v":0},"#'T2-B(PP2)'!$H$84"]
["pp2_bl3_3_7_total",{"$f":"'T2-B(PP2)'!$J$84","v":0},"#'T2-B(PP2)'!$J$84"]
["pp2_bl3_3_7_total_in",{"$f":"'T2-B(PP2)'!$F$84","v":0},"#'T2-B(PP2)'!$F$84"]
["pp2_bl3_3_7_total_out",{"$f":"'T2-B(PP2)'!$I$84","v":0},"#'T2-B(PP2)'!$I$84"]
["pp2_bl3_3_7_unit",{"$f":"'T2-B(PP2)'!$C$84","v":0},"#'T2-B(PP2)'!$C$84"]
["pp2_bl3_3_7_unit_in",{"$f":"'T2-B(PP2)'!$D$84","v":0},"#'T2-B(PP2)'!$D$84"]
["pp2_bl3_3_7_units_out",{"$f":"'T2-B(PP2)'!$G$84","v":0},"#'T2-B(PP2)'!$G$84"]
["pp2_bl3_3_8_name",{"$f":"'T2-B(PP2)'!$B$85","v":0},"#'T2-B(PP2)'!$B$85"]
["pp2_bl3_3_8_rate_in",{"$f":"'T2-B(PP2)'!$E$85","v":0},"#'T2-B(PP2)'!$E$85"]
["pp2_bl3_3_8_rate_out",{"$f":"'T2-B(PP2)'!$H$85","v":0},"#'T2-B(PP2)'!$H$85"]
["pp2_bl3_3_8_total",{"$f":"'T2-B(PP2)'!$J$85","v":0},"#'T2-B(PP2)'!$J$85"]
["pp2_bl3_3_8_total_in",{"$f":"'T2-B(PP2)'!$F$85","v":0},"#'T2-B(PP2)'!$F$85"]
["pp2_bl3_3_8_total_out",{"$f":"'T2-B(PP2)'!$I$85","v":0},"#'T2-B(PP2)'!$I$85"]
["pp2_bl3_3_8_unit",{"$f":"'T2-B(PP2)'!$C$85","v":0},"#'T2-B(PP2)'!$C$85"]
["pp2_bl3_3_8_unit_in",{"$f":"'T2-B(PP2)'!$D$85","v":0},"#'T2-B(PP2)'!$D$85"]
["pp2_bl3_3_8_units_out",{"$f":"'T2-B(PP2)'!$G$85","v":0},"#'T2-B(PP2)'!$G$85"]
["pp2_bl3_3_9_name",{"$f":"'T2-B(PP2)'!$B$86","v":0},"#'T2-B(PP2)'!$B$86"]
["pp2_bl3_3_9_rate_in",{"$f":"'T2-B(PP2)'!$E$86","v":0},"#'T2-B(PP2)'!$E$86"]
["pp2_bl3_3_9_rate_out",{"$f":"'T2-B(PP2)'!$H$86","v":0},"#'T2-B(PP2)'!$H$86"]
["pp2_bl3_3_9_total",{"$f":"'T2-B(PP2)'!$J$86","v":0},"#'T2-B(PP2)'!$J$86"]
["pp2_bl3_3_9_total_in",{"$f":"'T2-B(PP2)'!$F$86","v":0},"#'T2-B(PP2)'!$F$86"]
["pp2_bl3_3_9_total_out",{"$f":"'T2-B(PP2)'!$I$86","v":0},"#'T2-B(PP2)'!$I$86"]
["pp2_bl3_3_9_unit",{"$f":"'T2-B(PP2)'!$C$86","v":0},"#'T2-B(PP2)'!$C$86"]
["pp2_bl3_3_9_unit_in",{"$f":"'T2-B(PP2)'!$D$86","v":0},"#'T2-B(PP2)'!$D$86"]
["pp2_bl3_3_9_units_out",{"$f":"'T2-B(PP2)'!$G$86","v":0},"#'T2-B(PP2)'!$G$86"]
["pp2_bl3_3_total",{"$f":"'T2-B(PP2)'!$J$77","v":0},"#'T2-B(PP2)'!$J$77"]
["pp2_bl3_3_total_in",{"$f":"'T2-B(PP2)'!$F$77","v":0},"#'T2-B(PP2)'!$F$77"]
["pp2_bl3_3_total_out",{"$f":"'T2-B(PP2)'!$I$77","v":0},"#'T2-B(PP2)'!$I$77"]
["pp2_bl3_4_1_name",{"$f":"'T2-B(PP2)'!$B$99","v":0},"#'T2-B(PP2)'!$B$99"]
["pp2_bl3_4_1_rate_in",{"$f":"'T2-B(PP2)'!$E$99","v":0},"#'T2-B(PP2)'!$E$99"]
["pp2_bl3_4_1_rate_out",{"$f":"'T2-B(PP2)'!$H$99","v":0},"#'T2-B(PP2)'!$H$99"]
["pp2_bl3_4_1_total",{"$f":"'T2-B(PP2)'!$J$99","v":0},"#'T2-B(PP2)'!$J$99"]
["pp2_bl3_4_1_total_in",{"$f":"'T2-B(PP2)'!$F$99","v":0},"#'T2-B(PP2)'!$F$99"]
["pp2_bl3_4_1_total_out",{"$f":"'T2-B(PP2)'!$I$99","v":0},"#'T2-B(PP2)'!$I$99"]
["pp2_bl3_4_1_unit",{"$f":"'T2-B(PP2)'!$C$99","v":0},"#'T2-B(PP2)'!$C$99"]
["pp2_bl3_4_1_unit_in",{"$f":"'T2-B(PP2)'!$D$99","v":0},"#'T2-B(PP2)'!$D$99"]
["pp2_bl3_4_1_units_out",{"$f":"'T2-B(PP2)'!$G$99","v":0},"#'T2-B(PP2)'!$G$99"]
["pp2_bl3_4_10_name",{"$f":"'T2-B(PP2)'!$B$108","v":0},"#'T2-B(PP2)'!$B$108"]
["pp2_bl3_4_10_rate_in",{"$f":"'T2-B(PP2)'!$E$108","v":0},"#'T2-B(PP2)'!$E$108"]
["pp2_bl3_4_10_rate_out",{"$f":"'T2-B(PP2)'!$H$108","v":0},"#'T2-B(PP2)'!$H$108"]
["pp2_bl3_4_10_total",{"$f":"'T2-B(PP2)'!$J$108","v":0},"#'T2-B(PP2)'!$J$108"]
["pp2_bl3_4_10_total_in",{"$f":"'T2-B(PP2)'!$F$108","v":0},"#'T2-B(PP2)'!$F$108"]
["pp2_bl3_4_10_total_out",{"$f":"'T2-B(PP2)'!$I$108","v":0},"#'T2-B(PP2)'!$I$108"]
["pp2_bl3_4_10_unit",{"$f":"'T2-B(PP2)'!$C$108","v":0},"#'T2-B(PP2)'!$C$108"]
["pp2_bl3_4_10_unit_in",{"$f":"'T2-B(PP2)'!$D$108","v":0},"#'T2-B(PP2)'!$D$108"]
["pp2_bl3_4_10_units_out",{"$f":"'T2-B(PP2)'!$G$108","v":0},"#'T2-B(PP2)'!$G$108"]
["pp2_bl3_4_2_name",{"$f":"'T2-B(PP2)'!$B$100","v":0},"#'T2-B(PP2)'!$B$100"]
["pp2_bl3_4_2_rate_in",{"$f":"'T2-B(PP2)'!$E$100","v":0},"#'T2-B(PP2)'!$E$100"]
["pp2_bl3_4_2_rate_out",{"$f":"'T2-B(PP2)'!$H$100","v":0},"#'T2-B(PP2)'!$H$100"]
["pp2_bl3_4_2_total",{"$f":"'T2-B(PP2)'!$J$100","v":0},"#'T2-B(PP2)'!$J$100"]
["pp2_bl3_4_2_total_in",{"$f":"'T2-B(PP2)'!$F$100","v":0},"#'T2-B(PP2)'!$F$100"]
["pp2_bl3_4_2_total_out",{"$f":"'T2-B(PP2)'!$I$100","v":0},"#'T2-B(PP2)'!$I$100"]
["pp2_bl3_4_2_unit",{"$f":"'T2-B(PP2)'!$C$100","v":0},"#'T2-B(PP2)'!$C$100"]
["pp2_bl3_4_2_unit_in",{"$f":"'T2-B(PP2)'!$D$100","v":0},"#'T2-B(PP2)'!$D$100"]
["pp2_bl3_4_2_units_out",{"$f":"'T2-B(PP2)'!$G$100","v":0},"#'T2-B(PP2)'!$G$100"]
["pp2_bl3_4_3_name",{"$f":"'T2-B(PP2)'!$B$101","v":0},"#'T2-B(PP2)'!$B$101"]
["pp2_bl3_4_3_rate_in",{"$f":"'T2-B(PP2)'!$E$101","v":0},"#'T2-B(PP2)'!$E$101"]
["pp2_bl3_4_3_rate_out",{"$f":"'T2-B(PP2)'!$H$101","v":0},"#'T2-B(PP2)'!$H$101"]
["pp2_bl3_4_3_total",{"$f":"'T2-B(PP2)'!$J$101","v":0},"#'T2-B(PP2)'!$J$101"]
["pp2_bl3_4_3_total_in",{"$f":"'T2-B(PP2)'!$F$101","v":0},"#'T2-B(PP2)'!$F$101"]
["pp2_bl3_4_3_total_out",{"$f":"'T2-B(PP2)'!$I$101","v":0},"#'T2-B(PP2)'!$I$101"]
["pp2_bl3_4_3_unit",{"$f":"'T2-B(PP2)'!$C$101","v":0},"#'T2-B(PP2)'!$C$101"]
["pp2_bl3_4_3_unit_in",{"$f":"'T2-B(PP2)'!$D$101","v":0},"#'T2-B(PP2)'!$D$101"]
["pp2_bl3_4_3_units_out",{"$f":"'T2-B(PP2)'!$G$101","v":0},"#'T2-B(PP2)'!$G$101"]
["pp2_bl3_4_4_name",{"$f":"'T2-B(PP2)'!$B$102","v":0},"#'T2-B(PP2)'!$B$102"]
["pp2_bl3_4_4_rate_in",{"$f":"'T2-B(PP2)'!$E$102","v":0},"#'T2-B(PP2)'!$E$102"]
["pp2_bl3_4_4_rate_out",{"$f":"'T2-B(PP2)'!$H$102","v":0},"#'T2-B(PP2)'!$H$102"]
["pp2_bl3_4_4_total",{"$f":"'T2-B(PP2)'!$J$102","v":0},"#'T2-B(PP2)'!$J$102"]
["pp2_bl3_4_4_total_in",{"$f":"'T2-B(PP2)'!$F$102","v":0},"#'T2-B(PP2)'!$F$102"]
["pp2_bl3_4_4_total_out",{"$f":"'T2-B(PP2)'!$I$102","v":0},"#'T2-B(PP2)'!$I$102"]
["pp2_bl3_4_4_unit",{"$f":"'T2-B(PP2)'!$C$102","v":0},"#'T2-B(PP2)'!$C$102"]
["pp2_bl3_4_4_unit_in",{"$f":"'T2-B(PP2)'!$D$102","v":0},"#'T2-B(PP2)'!$D$102"]
["pp2_bl3_4_4_units_out",{"$f":"'T2-B(PP2)'!$G$102","v":0},"#'T2-B(PP2)'!$G$102"]
["pp2_bl3_4_5_name",{"$f":"'T2-B(PP2)'!$B$103","v":0},"#'T2-B(PP2)'!$B$103"]
["pp2_bl3_4_5_rate_in",{"$f":"'T2-B(PP2)'!$E$103","v":0},"#'T2-B(PP2)'!$E$103"]
["pp2_bl3_4_5_rate_out",{"$f":"'T2-B(PP2)'!$H$103","v":0},"#'T2-B(PP2)'!$H$103"]
["pp2_bl3_4_5_total",{"$f":"'T2-B(PP2)'!$J$103","v":0},"#'T2-B(PP2)'!$J$103"]
["pp2_bl3_4_5_total_in",{"$f":"'T2-B(PP2)'!$F$103","v":0},"#'T2-B(PP2)'!$F$103"]
["pp2_bl3_4_5_total_out",{"$f":"'T2-B(PP2)'!$I$103","v":0},"#'T2-B(PP2)'!$I$103"]
["pp2_bl3_4_5_unit",{"$f":"'T2-B(PP2)'!$C$103","v":0},"#'T2-B(PP2)'!$C$103"]
["pp2_bl3_4_5_unit_in",{"$f":"'T2-B(PP2)'!$D$103","v":0},"#'T2-B(PP2)'!$D$103"]
["pp2_bl3_4_5_units_out",{"$f":"'T2-B(PP2)'!$G$103","v":0},"#'T2-B(PP2)'!$G$103"]
["pp2_bl3_4_6_name",{"$f":"'T2-B(PP2)'!$B$104","v":0},"#'T2-B(PP2)'!$B$104"]
["pp2_bl3_4_6_rate_in",{"$f":"'T2-B(PP2)'!$E$104","v":0},"#'T2-B(PP2)'!$E$104"]
["pp2_bl3_4_6_rate_out",{"$f":"'T2-B(PP2)'!$H$104","v":0},"#'T2-B(PP2)'!$H$104"]
["pp2_bl3_4_6_total",{"$f":"'T2-B(PP2)'!$J$104","v":0},"#'T2-B(PP2)'!$J$104"]
["pp2_bl3_4_6_total_in",{"$f":"'T2-B(PP2)'!$F$104","v":0},"#'T2-B(PP2)'!$F$104"]
["pp2_bl3_4_6_total_out",{"$f":"'T2-B(PP2)'!$I$104","v":0},"#'T2-B(PP2)'!$I$104"]
["pp2_bl3_4_6_unit",{"$f":"'T2-B(PP2)'!$C$104","v":0},"#'T2-B(PP2)'!$C$104"]
["pp2_bl3_4_6_unit_in",{"$f":"'T2-B(PP2)'!$D$104","v":0},"#'T2-B(PP2)'!$D$104"]
["pp2_bl3_4_6_units_out",{"$f":"'T2-B(PP2)'!$G$104","v":0},"#'T2-B(PP2)'!$G$104"]
["pp2_bl3_4_7_name",{"$f":"'T2-B(PP2)'!$B$105","v":0},"#'T2-B(PP2)'!$B$105"]
["pp2_bl3_4_7_rate_in",{"$f":"'T2-B(PP2)'!$E$105","v":0},"#'T2-B(PP2)'!$E$105"]
["pp2_bl3_4_7_rate_out",{"$f":"'T2-B(PP2)'!$H$105","v":0},"#'T2-B(PP2)'!$H$105"]
["pp2_bl3_4_7_total",{"$f":"'T2-B(PP2)'!$J$105","v":0},"#'T2-B(PP2)'!$J$105"]
["pp2_bl3_4_7_total_in",{"$f":"'T2-B(PP2)'!$F$105","v":0},"#'T2-B(PP2)'!$F$105"]
["pp2_bl3_4_7_total_out",{"$f":"'T2-B(PP2)'!$I$105","v":0},"#'T2-B(PP2)'!$I$105"]
["pp2_bl3_4_7_unit",{"$f":"'T2-B(PP2)'!$C$105","v":0},"#'T2-B(PP2)'!$C$105"]
["pp2_bl3_4_7_unit_in",{"$f":"'T2-B(PP2)'!$D$105","v":0},"#'T2-B(PP2)'!$D$105"]
["pp2_bl3_4_7_units_out",{"$f":"'T2-B(PP2)'!$G$105","v":0},"#'T2-B(PP2)'!$G$105"]
["pp2_bl3_4_8_name",{"$f":"'T2-B(PP2)'!$B$106","v":0},"#'T2-B(PP2)'!$B$106"]
["pp2_bl3_4_8_rate_in",{"$f":"'T2-B(PP2)'!$E$106","v":0},"#'T2-B(PP2)'!$E$106"]
["pp2_bl3_4_8_rate_out",{"$f":"'T2-B(PP2)'!$H$106","v":0},"#'T2-B(PP2)'!$H$106"]
["pp2_bl3_4_8_total",{"$f":"'T2-B(PP2)'!$J$106","v":0},"#'T2-B(PP2)'!$J$106"]
["pp2_bl3_4_8_total_in",{"$f":"'T2-B(PP2)'!$F$106","v":0},"#'T2-B(PP2)'!$F$106"]
["pp2_bl3_4_8_total_out",{"$f":"'T2-B(PP2)'!$I$106","v":0},"#'T2-B(PP2)'!$I$106"]
["pp2_bl3_4_8_unit",{"$f":"'T2-B(PP2)'!$C$106","v":0},"#'T2-B(PP2)'!$C$106"]
["pp2_bl3_4_8_unit_in",{"$f":"'T2-B(PP2)'!$D$106","v":0},"#'T2-B(PP2)'!$D$106"]
["pp2_bl3_4_8_units_out",{"$f":"'T2-B(PP2)'!$G$106","v":0},"#'T2-B(PP2)'!$G$106"]
["pp2_bl3_4_9_name",{"$f":"'T2-B(PP2)'!$B$107","v":0},"#'T2-B(PP2)'!$B$107"]
["pp2_bl3_4_9_rate_in",{"$f":"'T2-B(PP2)'!$E$107","v":0},"#'T2-B(PP2)'!$E$107"]
["pp2_bl3_4_9_rate_out",{"$f":"'T2-B(PP2)'!$H$107","v":0},"#'T2-B(PP2)'!$H$107"]
["pp2_bl3_4_9_total",{"$f":"'T2-B(PP2)'!$J$107","v":0},"#'T2-B(PP2)'!$J$107"]
["pp2_bl3_4_9_total_in",{"$f":"'T2-B(PP2)'!$F$107","v":0},"#'T2-B(PP2)'!$F$107"]
["pp2_bl3_4_9_total_out",{"$f":"'T2-B(PP2)'!$I$107","v":0},"#'T2-B(PP2)'!$I$107"]
["pp2_bl3_4_9_unit",{"$f":"'T2-B(PP2)'!$C$107","v":0},"#'T2-B(PP2)'!$C$107"]
["pp2_bl3_4_9_unit_in",{"$f":"'T2-B(PP2)'!$D$107","v":0},"#'T2-B(PP2)'!$D$107"]
["pp2_bl3_4_9_units_out",{"$f":"'T2-B(PP2)'!$G$107","v":0},"#'T2-B(PP2)'!$G$107"]
["pp2_bl3_4_total",{"$f":"'T2-B(PP2)'!$J$98","v":0},"#'T2-B(PP2)'!$J$98"]
["pp2_bl3_4_total_in",{"$f":"'T2-B(PP2)'!$F$98","v":0},"#'T2-B(PP2)'!$F$98"]
["pp2_bl3_4_total_out",{"$f":"'T2-B(PP2)'!$I$98","v":0},"#'T2-B(PP2)'!$I$98"]
["pp2_bl3_total",{"$f":"'T2-B(PP2)'!$J$109","v":0},"#'T2-B(PP2)'!$J$109"]
["pp2_bl3_total_in",{"$f":"'T2-B(PP2)'!$F$109","v":0},"#'T2-B(PP2)'!$F$109"]
["pp2_bl3_total_out",{"$f":"'T2-B(PP2)'!$I$109","v":0},"#'T2-B(PP2)'!$I$109"]
["pp2_bl4_1_1_name",{"$f":"'T2-B(PP2)'!$B$114","v":0},"#'T2-B(PP2)'!$B$114"]
["pp2_bl4_1_1_rate_in",{"$f":"'T2-B(PP2)'!$E$114","v":0},"#'T2-B(PP2)'!$E$114"]
["pp2_bl4_1_1_rate_out",{"$f":"'T2-B(PP2)'!$H$114","v":0},"#'T2-B(PP2)'!$H$114"]
["pp2_bl4_1_1_total",{"$f":"'T2-B(PP2)'!$J$114","v":0},"#'T2-B(PP2)'!$J$114"]
["pp2_bl4_1_1_total_in",{"$f":"'T2-B(PP2)'!$F$114","v":0},"#'T2-B(PP2)'!$F$114"]
["pp2_bl4_1_1_total_out",{"$f":"'T2-B(PP2)'!$I$114","v":0},"#'T2-B(PP2)'!$I$114"]
["pp2_bl4_1_1_unit",{"$f":"'T2-B(PP2)'!$C$114","v":0},"#'T2-B(PP2)'!$C$114"]
["pp2_bl4_1_1_unit_in",{"$f":"'T2-B(PP2)'!$D$114","v":0},"#'T2-B(PP2)'!$D$114"]
["pp2_bl4_1_1_units_out",{"$f":"'T2-B(PP2)'!$G$114","v":0},"#'T2-B(PP2)'!$G$114"]
["pp2_bl4_1_10_name",{"$f":"'T2-B(PP2)'!$B$123","v":0},"#'T2-B(PP2)'!$B$123"]
["pp2_bl4_1_10_rate_in",{"$f":"'T2-B(PP2)'!$E$123","v":0},"#'T2-B(PP2)'!$E$123"]
["pp2_bl4_1_10_rate_out",{"$f":"'T2-B(PP2)'!$H$123","v":0},"#'T2-B(PP2)'!$H$123"]
["pp2_bl4_1_10_total",{"$f":"'T2-B(PP2)'!$J$123","v":0},"#'T2-B(PP2)'!$J$123"]
["pp2_bl4_1_10_total_in",{"$f":"'T2-B(PP2)'!$F$123","v":0},"#'T2-B(PP2)'!$F$123"]
["pp2_bl4_1_10_total_out",{"$f":"'T2-B(PP2)'!$I$123","v":0},"#'T2-B(PP2)'!$I$123"]
["pp2_bl4_1_10_unit",{"$f":"'T2-B(PP2)'!$C$123","v":0},"#'T2-B(PP2)'!$C$123"]
["pp2_bl4_1_10_unit_in",{"$f":"'T2-B(PP2)'!$D$123","v":0},"#'T2-B(PP2)'!$D$123"]
["pp2_bl4_1_10_units_out",{"$f":"'T2-B(PP2)'!$G$123","v":0},"#'T2-B(PP2)'!$G$123"]
["pp2_bl4_1_2_name",{"$f":"'T2-B(PP2)'!$B$115","v":0},"#'T2-B(PP2)'!$B$115"]
["pp2_bl4_1_2_rate_in",{"$f":"'T2-B(PP2)'!$E$115","v":0},"#'T2-B(PP2)'!$E$115"]
["pp2_bl4_1_2_rate_out",{"$f":"'T2-B(PP2)'!$H$115","v":0},"#'T2-B(PP2)'!$H$115"]
["pp2_bl4_1_2_total",{"$f":"'T2-B(PP2)'!$J$115","v":0},"#'T2-B(PP2)'!$J$115"]
["pp2_bl4_1_2_total_in",{"$f":"'T2-B(PP2)'!$F$115","v":0},"#'T2-B(PP2)'!$F$115"]
["pp2_bl4_1_2_total_out",{"$f":"'T2-B(PP2)'!$I$115","v":0},"#'T2-B(PP2)'!$I$115"]
["pp2_bl4_1_2_unit",{"$f":"'T2-B(PP2)'!$C$115","v":0},"#'T2-B(PP2)'!$C$115"]
["pp2_bl4_1_2_unit_in",{"$f":"'T2-B(PP2)'!$D$115","v":0},"#'T2-B(PP2)'!$D$115"]
["pp2_bl4_1_2_units_out",{"$f":"'T2-B(PP2)'!$G$115","v":0},"#'T2-B(PP2)'!$G$115"]
["pp2_bl4_1_3_name",{"$f":"'T2-B(PP2)'!$B$116","v":0},"#'T2-B(PP2)'!$B$116"]
["pp2_bl4_1_3_rate_in",{"$f":"'T2-B(PP2)'!$E$116","v":0},"#'T2-B(PP2)'!$E$116"]
["pp2_bl4_1_3_rate_out",{"$f":"'T2-B(PP2)'!$H$116","v":0},"#'T2-B(PP2)'!$H$116"]
["pp2_bl4_1_3_total",{"$f":"'T2-B(PP2)'!$J$116","v":0},"#'T2-B(PP2)'!$J$116"]
["pp2_bl4_1_3_total_in",{"$f":"'T2-B(PP2)'!$F$116","v":0},"#'T2-B(PP2)'!$F$116"]
["pp2_bl4_1_3_total_out",{"$f":"'T2-B(PP2)'!$I$116","v":0},"#'T2-B(PP2)'!$I$116"]
["pp2_bl4_1_3_unit",{"$f":"'T2-B(PP2)'!$C$116","v":0},"#'T2-B(PP2)'!$C$116"]
["pp2_bl4_1_3_unit_in",{"$f":"'T2-B(PP2)'!$D$116","v":0},"#'T2-B(PP2)'!$D$116"]
["pp2_bl4_1_3_units_out",{"$f":"'T2-B(PP2)'!$G$116","v":0},"#'T2-B(PP2)'!$G$116"]
["pp2_bl4_1_4_name",{"$f":"'T2-B(PP2)'!$B$117","v":0},"#'T2-B(PP2)'!$B$117"]
["pp2_bl4_1_4_rate_in",{"$f":"'T2-B(PP2)'!$E$117","v":0},"#'T2-B(PP2)'!$E$117"]
["pp2_bl4_1_4_rate_out",{"$f":"'T2-B(PP2)'!$H$117","v":0},"#'T2-B(PP2)'!$H$117"]
["pp2_bl4_1_4_total",{"$f":"'T2-B(PP2)'!$J$117","v":0},"#'T2-B(PP2)'!$J$117"]
["pp2_bl4_1_4_total_in",{"$f":"'T2-B(PP2)'!$F$117","v":0},"#'T2-B(PP2)'!$F$117"]
["pp2_bl4_1_4_total_out",{"$f":"'T2-B(PP2)'!$I$117","v":0},"#'T2-B(PP2)'!$I$117"]
["pp2_bl4_1_4_unit",{"$f":"'T2-B(PP2)'!$C$117","v":0},"#'T2-B(PP2)'!$C$117"]
["pp2_bl4_1_4_unit_in",{"$f":"'T2-B(PP2)'!$D$117","v":0},"#'T2-B(PP2)'!$D$117"]
["pp2_bl4_1_4_units_out",{"$f":"'T2-B(PP2)'!$G$117","v":0},"#'T2-B(PP2)'!$G$117"]
["pp2_bl4_1_5_name",{"$f":"'T2-B(PP2)'!$B$118","v":0},"#'T2-B(PP2)'!$B$118"]
["pp2_bl4_1_5_rate_in",{"$f":"'T2-B(PP2)'!$E$118","v":0},"#'T2-B(PP2)'!$E$118"]
["pp2_bl4_1_5_rate_out",{"$f":"'T2-B(PP2)'!$H$118","v":0},"#'T2-B(PP2)'!$H$118"]
["pp2_bl4_1_5_total",{"$f":"'T2-B(PP2)'!$J$118","v":0},"#'T2-B(PP2)'!$J$118"]
["pp2_bl4_1_5_total_in",{"$f":"'T2-B(PP2)'!$F$118","v":0},"#'T2-B(PP2)'!$F$118"]
["pp2_bl4_1_5_total_out",{"$f":"'T2-B(PP2)'!$I$118","v":0},"#'T2-B(PP2)'!$I$118"]
["pp2_bl4_1_5_unit",{"$f":"'T2-B(PP2)'!$C$118","v":0},"#'T2-B(PP2)'!$C$118"]
["pp2_bl4_1_5_unit_in",{"$f":"'T2-B(PP2)'!$D$118","v":0},"#'T2-B(PP2)'!$D$118"]
["pp2_bl4_1_5_units_out",{"$f":"'T2-B(PP2)'!$G$118","v":0},"#'T2-B(PP2)'!$G$118"]
["pp2_bl4_1_6_name",{"$f":"'T2-B(PP2)'!$B$119","v":0},"#'T2-B(PP2)'!$B$119"]
["pp2_bl4_1_6_rate_in",{"$f":"'T2-B(PP2)'!$E$119","v":0},"#'T2-B(PP2)'!$E$119"]
["pp2_bl4_1_6_rate_out",{"$f":"'T2-B(PP2)'!$H$119","v":0},"#'T2-B(PP2)'!$H$119"]
["pp2_bl4_1_6_total",{"$f":"'T2-B(PP2)'!$J$119","v":0},"#'T2-B(PP2)'!$J$119"]
["pp2_bl4_1_6_total_in",{"$f":"'T2-B(PP2)'!$F$119","v":0},"#'T2-B(PP2)'!$F$119"]
["pp2_bl4_1_6_total_out",{"$f":"'T2-B(PP2)'!$I$119","v":0},"#'T2-B(PP2)'!$I$119"]
["pp2_bl4_1_6_unit",{"$f":"'T2-B(PP2)'!$C$119","v":0},"#'T2-B(PP2)'!$C$119"]
["pp2_bl4_1_6_unit_in",{"$f":"'T2-B(PP2)'!$D$119","v":0},"#'T2-B(PP2)'!$D$119"]
["pp2_bl4_1_6_units_out",{"$f":"'T2-B(PP2)'!$G$119","v":0},"#'T2-B(PP2)'!$G$119"]
["pp2_bl4_1_7_name",{"$f":"'T2-B(PP2)'!$B$120","v":0},"#'T2-B(PP2)'!$B$120"]
["pp2_bl4_1_7_rate_in",{"$f":"'T2-B(PP2)'!$E$120","v":0},"#'T2-B(PP2)'!$E$120"]
["pp2_bl4_1_7_rate_out",{"$f":"'T2-B(PP2)'!$H$120","v":0},"#'T2-B(PP2)'!$H$120"]
["pp2_bl4_1_7_total",{"$f":"'T2-B(PP2)'!$J$120","v":0},"#'T2-B(PP2)'!$J$120"]
["pp2_bl4_1_7_total_in",{"$f":"'T2-B(PP2)'!$F$120","v":0},"#'T2-B(PP2)'!$F$120"]
["pp2_bl4_1_7_total_out",{"$f":"'T2-B(PP2)'!$I$120","v":0},"#'T2-B(PP2)'!$I$120"]
["pp2_bl4_1_7_unit",{"$f":"'T2-B(PP2)'!$C$120","v":0},"#'T2-B(PP2)'!$C$120"]
["pp2_bl4_1_7_unit_in",{"$f":"'T2-B(PP2)'!$D$120","v":0},"#'T2-B(PP2)'!$D$120"]
["pp2_bl4_1_7_units_out",{"$f":"'T2-B(PP2)'!$G$120","v":0},"#'T2-B(PP2)'!$G$120"]
["pp2_bl4_1_8_name",{"$f":"'T2-B(PP2)'!$B$121","v":0},"#'T2-B(PP2)'!$B$121"]
["pp2_bl4_1_8_rate_in",{"$f":"'T2-B(PP2)'!$E$121","v":0},"#'T2-B(PP2)'!$E$121"]
["pp2_bl4_1_8_rate_out",{"$f":"'T2-B(PP2)'!$H$121","v":0},"#'T2-B(PP2)'!$H$121"]
["pp2_bl4_1_8_total",{"$f":"'T2-B(PP2)'!$J$121","v":0},"#'T2-B(PP2)'!$J$121"]
["pp2_bl4_1_8_total_in",{"$f":"'T2-B(PP2)'!$F$121","v":0},"#'T2-B(PP2)'!$F$121"]
["pp2_bl4_1_8_total_out",{"$f":"'T2-B(PP2)'!$I$121","v":0},"#'T2-B(PP2)'!$I$121"]
["pp2_bl4_1_8_unit",{"$f":"'T2-B(PP2)'!$C$121","v":0},"#'T2-B(PP2)'!$C$121"]
["pp2_bl4_1_8_unit_in",{"$f":"'T2-B(PP2)'!$D$121","v":0},"#'T2-B(PP2)'!$D$121"]
["pp2_bl4_1_8_units_out",{"$f":"'T2-B(PP2)'!$G$121","v":0},"#'T2-B(PP2)'!$G$121"]
["pp2_bl4_1_9_name",{"$f":"'T2-B(PP2)'!$B$122","v":0},"#'T2-B(PP2)'!$B$122"]
["pp2_bl4_1_9_rate_in",{"$f":"'T2-B(PP2)'!$E$122","v":0},"#'T2-B(PP2)'!$E$122"]
["pp2_bl4_1_9_rate_out",{"$f":"'T2-B(PP2)'!$H$122","v":0},"#'T2-B(PP2)'!$H$122"]
["pp2_bl4_1_9_total",{"$f":"'T2-B(PP2)'!$J$122","v":0},"#'T2-B(PP2)'!$J$122"]
["pp2_bl4_1_9_total_in",{"$f":"'T2-B(PP2)'!$F$122","v":0},"#'T2-B(PP2)'!$F$122"]
["pp2_bl4_1_9_total_out",{"$f":"'T2-B(PP2)'!$I$122","v":0},"#'T2-B(PP2)'!$I$122"]
["pp2_bl4_1_9_unit",{"$f":"'T2-B(PP2)'!$C$122","v":0},"#'T2-B(PP2)'!$C$122"]
["pp2_bl4_1_9_unit_in",{"$f":"'T2-B(PP2)'!$D$122","v":0},"#'T2-B(PP2)'!$D$122"]
["pp2_bl4_1_9_units_out",{"$f":"'T2-B(PP2)'!$G$122","v":0},"#'T2-B(PP2)'!$G$122"]
["pp2_bl4_1_total",{"$f":"'T2-B(PP2)'!$J$113","v":0},"#'T2-B(PP2)'!$J$113"]
["pp2_bl4_1_total_in",{"$f":"'T2-B(PP2)'!$F$113","v":0},"#'T2-B(PP2)'!$F$113"]
["pp2_bl4_1_total_out",{"$f":"'T2-B(PP2)'!$I$113","v":0},"#'T2-B(PP2)'!$I$113"]
["pp2_bl4_10_1_name",{"$f":"'T2-B(PP2)'!$B$303","v":0},"#'T2-B(PP2)'!$B$303"]
["pp2_bl4_10_1_rate_in",{"$f":"'T2-B(PP2)'!$E$303","v":0},"#'T2-B(PP2)'!$E$303"]
["pp2_bl4_10_1_rate_out",{"$f":"'T2-B(PP2)'!$H$303","v":0},"#'T2-B(PP2)'!$H$303"]
["pp2_bl4_10_1_total",{"$f":"'T2-B(PP2)'!$J$303","v":0},"#'T2-B(PP2)'!$J$303"]
["pp2_bl4_10_1_total_in",{"$f":"'T2-B(PP2)'!$F$303","v":0},"#'T2-B(PP2)'!$F$303"]
["pp2_bl4_10_1_total_out",{"$f":"'T2-B(PP2)'!$I$303","v":0},"#'T2-B(PP2)'!$I$303"]
["pp2_bl4_10_1_unit",{"$f":"'T2-B(PP2)'!$C$303","v":0},"#'T2-B(PP2)'!$C$303"]
["pp2_bl4_10_1_unit_in",{"$f":"'T2-B(PP2)'!$D$303","v":0},"#'T2-B(PP2)'!$D$303"]
["pp2_bl4_10_1_units_out",{"$f":"'T2-B(PP2)'!$G$303","v":0},"#'T2-B(PP2)'!$G$303"]
["pp2_bl4_10_10_name",{"$f":"'T2-B(PP2)'!$B$312","v":0},"#'T2-B(PP2)'!$B$312"]
["pp2_bl4_10_10_rate_in",{"$f":"'T2-B(PP2)'!$E$312","v":0},"#'T2-B(PP2)'!$E$312"]
["pp2_bl4_10_10_rate_out",{"$f":"'T2-B(PP2)'!$H$312","v":0},"#'T2-B(PP2)'!$H$312"]
["pp2_bl4_10_10_total",{"$f":"'T2-B(PP2)'!$J$312","v":0},"#'T2-B(PP2)'!$J$312"]
["pp2_bl4_10_10_total_in",{"$f":"'T2-B(PP2)'!$F$312","v":0},"#'T2-B(PP2)'!$F$312"]
["pp2_bl4_10_10_total_out",{"$f":"'T2-B(PP2)'!$I$312","v":0},"#'T2-B(PP2)'!$I$312"]
["pp2_bl4_10_10_unit",{"$f":"'T2-B(PP2)'!$C$312","v":0},"#'T2-B(PP2)'!$C$312"]
["pp2_bl4_10_10_unit_in",{"$f":"'T2-B(PP2)'!$D$312","v":0},"#'T2-B(PP2)'!$D$312"]
["pp2_bl4_10_10_units_out",{"$f":"'T2-B(PP2)'!$G$312","v":0},"#'T2-B(PP2)'!$G$312"]
["pp2_bl4_10_2_name",{"$f":"'T2-B(PP2)'!$B$304","v":0},"#'T2-B(PP2)'!$B$304"]
["pp2_bl4_10_2_rate_in",{"$f":"'T2-B(PP2)'!$E$304","v":0},"#'T2-B(PP2)'!$E$304"]
["pp2_bl4_10_2_rate_out",{"$f":"'T2-B(PP2)'!$H$304","v":0},"#'T2-B(PP2)'!$H$304"]
["pp2_bl4_10_2_total",{"$f":"'T2-B(PP2)'!$J$304","v":0},"#'T2-B(PP2)'!$J$304"]
["pp2_bl4_10_2_total_in",{"$f":"'T2-B(PP2)'!$F$304","v":0},"#'T2-B(PP2)'!$F$304"]
["pp2_bl4_10_2_total_out",{"$f":"'T2-B(PP2)'!$I$304","v":0},"#'T2-B(PP2)'!$I$304"]
["pp2_bl4_10_2_unit",{"$f":"'T2-B(PP2)'!$C$304","v":0},"#'T2-B(PP2)'!$C$304"]
["pp2_bl4_10_2_unit_in",{"$f":"'T2-B(PP2)'!$D$304","v":0},"#'T2-B(PP2)'!$D$304"]
["pp2_bl4_10_2_units_out",{"$f":"'T2-B(PP2)'!$G$304","v":0},"#'T2-B(PP2)'!$G$304"]
["pp2_bl4_10_3_name",{"$f":"'T2-B(PP2)'!$B$305","v":0},"#'T2-B(PP2)'!$B$305"]
["pp2_bl4_10_3_rate_in",{"$f":"'T2-B(PP2)'!$E$305","v":0},"#'T2-B(PP2)'!$E$305"]
["pp2_bl4_10_3_rate_out",{"$f":"'T2-B(PP2)'!$H$305","v":0},"#'T2-B(PP2)'!$H$305"]
["pp2_bl4_10_3_total",{"$f":"'T2-B(PP2)'!$J$305","v":0},"#'T2-B(PP2)'!$J$305"]
["pp2_bl4_10_3_total_in",{"$f":"'T2-B(PP2)'!$F$305","v":0},"#'T2-B(PP2)'!$F$305"]
["pp2_bl4_10_3_total_out",{"$f":"'T2-B(PP2)'!$I$305","v":0},"#'T2-B(PP2)'!$I$305"]
["pp2_bl4_10_3_unit",{"$f":"'T2-B(PP2)'!$C$305","v":0},"#'T2-B(PP2)'!$C$305"]
["pp2_bl4_10_3_unit_in",{"$f":"'T2-B(PP2)'!$D$305","v":0},"#'T2-B(PP2)'!$D$305"]
["pp2_bl4_10_3_units_out",{"$f":"'T2-B(PP2)'!$G$305","v":0},"#'T2-B(PP2)'!$G$305"]
["pp2_bl4_10_4_name",{"$f":"'T2-B(PP2)'!$B$306","v":0},"#'T2-B(PP2)'!$B$306"]
["pp2_bl4_10_4_rate_in",{"$f":"'T2-B(PP2)'!$E$306","v":0},"#'T2-B(PP2)'!$E$306"]
["pp2_bl4_10_4_rate_out",{"$f":"'T2-B(PP2)'!$H$306","v":0},"#'T2-B(PP2)'!$H$306"]
["pp2_bl4_10_4_total",{"$f":"'T2-B(PP2)'!$J$306","v":0},"#'T2-B(PP2)'!$J$306"]
["pp2_bl4_10_4_total_in",{"$f":"'T2-B(PP2)'!$F$306","v":0},"#'T2-B(PP2)'!$F$306"]
["pp2_bl4_10_4_total_out",{"$f":"'T2-B(PP2)'!$I$306","v":0},"#'T2-B(PP2)'!$I$306"]
["pp2_bl4_10_4_unit",{"$f":"'T2-B(PP2)'!$C$306","v":0},"#'T2-B(PP2)'!$C$306"]
["pp2_bl4_10_4_unit_in",{"$f":"'T2-B(PP2)'!$D$306","v":0},"#'T2-B(PP2)'!$D$306"]
["pp2_bl4_10_4_units_out",{"$f":"'T2-B(PP2)'!$G$306","v":0},"#'T2-B(PP2)'!$G$306"]
["pp2_bl4_10_5_name",{"$f":"'T2-B(PP2)'!$B$307","v":0},"#'T2-B(PP2)'!$B$307"]
["pp2_bl4_10_5_rate_in",{"$f":"'T2-B(PP2)'!$E$307","v":0},"#'T2-B(PP2)'!$E$307"]
["pp2_bl4_10_5_rate_out",{"$f":"'T2-B(PP2)'!$H$307","v":0},"#'T2-B(PP2)'!$H$307"]
["pp2_bl4_10_5_total",{"$f":"'T2-B(PP2)'!$J$307","v":0},"#'T2-B(PP2)'!$J$307"]
["pp2_bl4_10_5_total_in",{"$f":"'T2-B(PP2)'!$F$307","v":0},"#'T2-B(PP2)'!$F$307"]
["pp2_bl4_10_5_total_out",{"$f":"'T2-B(PP2)'!$I$307","v":0},"#'T2-B(PP2)'!$I$307"]
["pp2_bl4_10_5_unit",{"$f":"'T2-B(PP2)'!$C$307","v":0},"#'T2-B(PP2)'!$C$307"]
["pp2_bl4_10_5_unit_in",{"$f":"'T2-B(PP2)'!$D$307","v":0},"#'T2-B(PP2)'!$D$307"]
["pp2_bl4_10_5_units_out",{"$f":"'T2-B(PP2)'!$G$307","v":0},"#'T2-B(PP2)'!$G$307"]
["pp2_bl4_10_6_name",{"$f":"'T2-B(PP2)'!$B$308","v":0},"#'T2-B(PP2)'!$B$308"]
["pp2_bl4_10_6_rate_in",{"$f":"'T2-B(PP2)'!$E$308","v":0},"#'T2-B(PP2)'!$E$308"]
["pp2_bl4_10_6_rate_out",{"$f":"'T2-B(PP2)'!$H$308","v":0},"#'T2-B(PP2)'!$H$308"]
["pp2_bl4_10_6_total",{"$f":"'T2-B(PP2)'!$J$308","v":0},"#'T2-B(PP2)'!$J$308"]
["pp2_bl4_10_6_total_in",{"$f":"'T2-B(PP2)'!$F$308","v":0},"#'T2-B(PP2)'!$F$308"]
["pp2_bl4_10_6_total_out",{"$f":"'T2-B(PP2)'!$I$308","v":0},"#'T2-B(PP2)'!$I$308"]
["pp2_bl4_10_6_unit",{"$f":"'T2-B(PP2)'!$C$308","v":0},"#'T2-B(PP2)'!$C$308"]
["pp2_bl4_10_6_unit_in",{"$f":"'T2-B(PP2)'!$D$308","v":0},"#'T2-B(PP2)'!$D$308"]
["pp2_bl4_10_6_units_out",{"$f":"'T2-B(PP2)'!$G$308","v":0},"#'T2-B(PP2)'!$G$308"]
["pp2_bl4_10_7_name",{"$f":"'T2-B(PP2)'!$B$309","v":0},"#'T2-B(PP2)'!$B$309"]
["pp2_bl4_10_7_rate_in",{"$f":"'T2-B(PP2)'!$E$309","v":0},"#'T2-B(PP2)'!$E$309"]
["pp2_bl4_10_7_rate_out",{"$f":"'T2-B(PP2)'!$H$309","v":0},"#'T2-B(PP2)'!$H$309"]
["pp2_bl4_10_7_total",{"$f":"'T2-B(PP2)'!$J$309","v":0},"#'T2-B(PP2)'!$J$309"]
["pp2_bl4_10_7_total_in",{"$f":"'T2-B(PP2)'!$F$309","v":0},"#'T2-B(PP2)'!$F$309"]
["pp2_bl4_10_7_total_out",{"$f":"'T2-B(PP2)'!$I$309","v":0},"#'T2-B(PP2)'!$I$309"]
["pp2_bl4_10_7_unit",{"$f":"'T2-B(PP2)'!$C$309","v":0},"#'T2-B(PP2)'!$C$309"]
["pp2_bl4_10_7_unit_in",{"$f":"'T2-B(PP2)'!$D$309","v":0},"#'T2-B(PP2)'!$D$309"]
["pp2_bl4_10_7_units_out",{"$f":"'T2-B(PP2)'!$G$309","v":0},"#'T2-B(PP2)'!$G$309"]
["pp2_bl4_10_8_name",{"$f":"'T2-B(PP2)'!$B$310","v":0},"#'T2-B(PP2)'!$B$310"]
["pp2_bl4_10_8_rate_in",{"$f":"'T2-B(PP2)'!$E$310","v":0},"#'T2-B(PP2)'!$E$310"]
["pp2_bl4_10_8_rate_out",{"$f":"'T2-B(PP2)'!$H$310","v":0},"#'T2-B(PP2)'!$H$310"]
["pp2_bl4_10_8_total",{"$f":"'T2-B(PP2)'!$J$310","v":0},"#'T2-B(PP2)'!$J$310"]
["pp2_bl4_10_8_total_in",{"$f":"'T2-B(PP2)'!$F$310","v":0},"#'T2-B(PP2)'!$F$310"]
["pp2_bl4_10_8_total_out",{"$f":"'T2-B(PP2)'!$I$310","v":0},"#'T2-B(PP2)'!$I$310"]
["pp2_bl4_10_8_unit",{"$f":"'T2-B(PP2)'!$C$310","v":0},"#'T2-B(PP2)'!$C$310"]
["pp2_bl4_10_8_unit_in",{"$f":"'T2-B(PP2)'!$D$310","v":0},"#'T2-B(PP2)'!$D$310"]
["pp2_bl4_10_8_units_out",{"$f":"'T2-B(PP2)'!$G$310","v":0},"#'T2-B(PP2)'!$G$310"]
["pp2_bl4_10_9_name",{"$f":"'T2-B(PP2)'!$B$311","v":0},"#'T2-B(PP2)'!$B$311"]
["pp2_bl4_10_9_rate_in",{"$f":"'T2-B(PP2)'!$E$311","v":0},"#'T2-B(PP2)'!$E$311"]
["pp2_bl4_10_9_rate_out",{"$f":"'T2-B(PP2)'!$H$311","v":0},"#'T2-B(PP2)'!$H$311"]
["pp2_bl4_10_9_total",{"$f":"'T2-B(PP2)'!$J$311","v":0},"#'T2-B(PP2)'!$J$311"]
["pp2_bl4_10_9_total_in",{"$f":"'T2-B(PP2)'!$F$311","v":0},"#'T2-B(PP2)'!$F$311"]
["pp2_bl4_10_9_total_out",{"$f":"'T2-B(PP2)'!$I$311","v":0},"#'T2-B(PP2)'!$I$311"]
["pp2_bl4_10_9_unit",{"$f":"'T2-B(PP2)'!$C$311","v":0},"#'T2-B(PP2)'!$C$311"]
["pp2_bl4_10_9_unit_in",{"$f":"'T2-B(PP2)'!$D$311","v":0},"#'T2-B(PP2)'!$D$311"]
["pp2_bl4_10_9_units_out",{"$f":"'T2-B(PP2)'!$G$311","v":0},"#'T2-B(PP2)'!$G$311"]
["pp2_bl4_10_total",{"$f":"'T2-B(PP2)'!$J$302","v":0},"#'T2-B(PP2)'!$J$302"]
["pp2_bl4_10_total_in",{"$f":"'T2-B(PP2)'!$F$302","v":0},"#'T2-B(PP2)'!$F$302"]
["pp2_bl4_10_total_out",{"$f":"'T2-B(PP2)'!$I$302","v":0},"#'T2-B(PP2)'!$I$302"]
["pp2_bl4_11_1_name",{"$f":"'T2-B(PP2)'!$B$324","v":0},"#'T2-B(PP2)'!$B$324"]
["pp2_bl4_11_1_rate_in",{"$f":"'T2-B(PP2)'!$E$324","v":0},"#'T2-B(PP2)'!$E$324"]
["pp2_bl4_11_1_rate_out",{"$f":"'T2-B(PP2)'!$H$324","v":0},"#'T2-B(PP2)'!$H$324"]
["pp2_bl4_11_1_total",{"$f":"'T2-B(PP2)'!$J$324","v":0},"#'T2-B(PP2)'!$J$324"]
["pp2_bl4_11_1_total_in",{"$f":"'T2-B(PP2)'!$F$324","v":0},"#'T2-B(PP2)'!$F$324"]
["pp2_bl4_11_1_total_out",{"$f":"'T2-B(PP2)'!$I$324","v":0},"#'T2-B(PP2)'!$I$324"]
["pp2_bl4_11_1_unit",{"$f":"'T2-B(PP2)'!$C$324","v":0},"#'T2-B(PP2)'!$C$324"]
["pp2_bl4_11_1_unit_in",{"$f":"'T2-B(PP2)'!$D$324","v":0},"#'T2-B(PP2)'!$D$324"]
["pp2_bl4_11_1_units_out",{"$f":"'T2-B(PP2)'!$G$324","v":0},"#'T2-B(PP2)'!$G$324"]
["pp2_bl4_11_10_name",{"$f":"'T2-B(PP2)'!$B$333","v":0},"#'T2-B(PP2)'!$B$333"]
["pp2_bl4_11_10_rate_in",{"$f":"'T2-B(PP2)'!$E$333","v":0},"#'T2-B(PP2)'!$E$333"]
["pp2_bl4_11_10_rate_out",{"$f":"'T2-B(PP2)'!$H$333","v":0},"#'T2-B(PP2)'!$H$333"]
["pp2_bl4_11_10_total",{"$f":"'T2-B(PP2)'!$J$333","v":0},"#'T2-B(PP2)'!$J$333"]
["pp2_bl4_11_10_total_in",{"$f":"'T2-B(PP2)'!$F$333","v":0},"#'T2-B(PP2)'!$F$333"]
["pp2_bl4_11_10_total_out",{"$f":"'T2-B(PP2)'!$I$333","v":0},"#'T2-B(PP2)'!$I$333"]
["pp2_bl4_11_10_unit",{"$f":"'T2-B(PP2)'!$C$333","v":0},"#'T2-B(PP2)'!$C$333"]
["pp2_bl4_11_10_unit_in",{"$f":"'T2-B(PP2)'!$D$333","v":0},"#'T2-B(PP2)'!$D$333"]
["pp2_bl4_11_10_units_out",{"$f":"'T2-B(PP2)'!$G$333","v":0},"#'T2-B(PP2)'!$G$333"]
["pp2_bl4_11_2_name",{"$f":"'T2-B(PP2)'!$B$325","v":0},"#'T2-B(PP2)'!$B$325"]
["pp2_bl4_11_2_rate_in",{"$f":"'T2-B(PP2)'!$E$325","v":0},"#'T2-B(PP2)'!$E$325"]
["pp2_bl4_11_2_rate_out",{"$f":"'T2-B(PP2)'!$H$325","v":0},"#'T2-B(PP2)'!$H$325"]
["pp2_bl4_11_2_total",{"$f":"'T2-B(PP2)'!$J$325","v":0},"#'T2-B(PP2)'!$J$325"]
["pp2_bl4_11_2_total_in",{"$f":"'T2-B(PP2)'!$F$325","v":0},"#'T2-B(PP2)'!$F$325"]
["pp2_bl4_11_2_total_out",{"$f":"'T2-B(PP2)'!$I$325","v":0},"#'T2-B(PP2)'!$I$325"]
["pp2_bl4_11_2_unit",{"$f":"'T2-B(PP2)'!$C$325","v":0},"#'T2-B(PP2)'!$C$325"]
["pp2_bl4_11_2_unit_in",{"$f":"'T2-B(PP2)'!$D$325","v":0},"#'T2-B(PP2)'!$D$325"]
["pp2_bl4_11_2_units_out",{"$f":"'T2-B(PP2)'!$G$325","v":0},"#'T2-B(PP2)'!$G$325"]
["pp2_bl4_11_3_name",{"$f":"'T2-B(PP2)'!$B$326","v":0},"#'T2-B(PP2)'!$B$326"]
["pp2_bl4_11_3_rate_in",{"$f":"'T2-B(PP2)'!$E$326","v":0},"#'T2-B(PP2)'!$E$326"]
["pp2_bl4_11_3_rate_out",{"$f":"'T2-B(PP2)'!$H$326","v":0},"#'T2-B(PP2)'!$H$326"]
["pp2_bl4_11_3_total",{"$f":"'T2-B(PP2)'!$J$326","v":0},"#'T2-B(PP2)'!$J$326"]
["pp2_bl4_11_3_total_in",{"$f":"'T2-B(PP2)'!$F$326","v":0},"#'T2-B(PP2)'!$F$326"]
["pp2_bl4_11_3_total_out",{"$f":"'T2-B(PP2)'!$I$326","v":0},"#'T2-B(PP2)'!$I$326"]
["pp2_bl4_11_3_unit",{"$f":"'T2-B(PP2)'!$C$326","v":0},"#'T2-B(PP2)'!$C$326"]
["pp2_bl4_11_3_unit_in",{"$f":"'T2-B(PP2)'!$D$326","v":0},"#'T2-B(PP2)'!$D$326"]
["pp2_bl4_11_3_units_out",{"$f":"'T2-B(PP2)'!$G$326","v":0},"#'T2-B(PP2)'!$G$326"]
["pp2_bl4_11_4_name",{"$f":"'T2-B(PP2)'!$B$327","v":0},"#'T2-B(PP2)'!$B$327"]
["pp2_bl4_11_4_rate_in",{"$f":"'T2-B(PP2)'!$E$327","v":0},"#'T2-B(PP2)'!$E$327"]
["pp2_bl4_11_4_rate_out",{"$f":"'T2-B(PP2)'!$H$327","v":0},"#'T2-B(PP2)'!$H$327"]
["pp2_bl4_11_4_total",{"$f":"'T2-B(PP2)'!$J$327","v":0},"#'T2-B(PP2)'!$J$327"]
["pp2_bl4_11_4_total_in",{"$f":"'T2-B(PP2)'!$F$327","v":0},"#'T2-B(PP2)'!$F$327"]
["pp2_bl4_11_4_total_out",{"$f":"'T2-B(PP2)'!$I$327","v":0},"#'T2-B(PP2)'!$I$327"]
["pp2_bl4_11_4_unit",{"$f":"'T2-B(PP2)'!$C$327","v":0},"#'T2-B(PP2)'!$C$327"]
["pp2_bl4_11_4_unit_in",{"$f":"'T2-B(PP2)'!$D$327","v":0},"#'T2-B(PP2)'!$D$327"]
["pp2_bl4_11_4_units_out",{"$f":"'T2-B(PP2)'!$G$327","v":0},"#'T2-B(PP2)'!$G$327"]
["pp2_bl4_11_5_name",{"$f":"'T2-B(PP2)'!$B$328","v":0},"#'T2-B(PP2)'!$B$328"]
["pp2_bl4_11_5_rate_in",{"$f":"'T2-B(PP2)'!$E$328","v":0},"#'T2-B(PP2)'!$E$328"]
["pp2_bl4_11_5_rate_out",{"$f":"'T2-B(PP2)'!$H$328","v":0},"#'T2-B(PP2)'!$H$328"]
["pp2_bl4_11_5_total",{"$f":"'T2-B(PP2)'!$J$328","v":0},"#'T2-B(PP2)'!$J$328"]
["pp2_bl4_11_5_total_in",{"$f":"'T2-B(PP2)'!$F$328","v":0},"#'T2-B(PP2)'!$F$328"]
["pp2_bl4_11_5_total_out",{"$f":"'T2-B(PP2)'!$I$328","v":0},"#'T2-B(PP2)'!$I$328"]
["pp2_bl4_11_5_unit",{"$f":"'T2-B(PP2)'!$C$328","v":0},"#'T2-B(PP2)'!$C$328"]
["pp2_bl4_11_5_unit_in",{"$f":"'T2-B(PP2)'!$D$328","v":0},"#'T2-B(PP2)'!$D$328"]
["pp2_bl4_11_5_units_out",{"$f":"'T2-B(PP2)'!$G$328","v":0},"#'T2-B(PP2)'!$G$328"]
["pp2_bl4_11_6_name",{"$f":"'T2-B(PP2)'!$B$329","v":0},"#'T2-B(PP2)'!$B$329"]
["pp2_bl4_11_6_rate_in",{"$f":"'T2-B(PP2)'!$E$329","v":0},"#'T2-B(PP2)'!$E$329"]
["pp2_bl4_11_6_rate_out",{"$f":"'T2-B(PP2)'!$H$329","v":0},"#'T2-B(PP2)'!$H$329"]
["pp2_bl4_11_6_total",{"$f":"'T2-B(PP2)'!$J$329","v":0},"#'T2-B(PP2)'!$J$329"]
["pp2_bl4_11_6_total_in",{"$f":"'T2-B(PP2)'!$F$329","v":0},"#'T2-B(PP2)'!$F$329"]
["pp2_bl4_11_6_total_out",{"$f":"'T2-B(PP2)'!$I$329","v":0},"#'T2-B(PP2)'!$I$329"]
["pp2_bl4_11_6_unit",{"$f":"'T2-B(PP2)'!$C$329","v":0},"#'T2-B(PP2)'!$C$329"]
["pp2_bl4_11_6_unit_in",{"$f":"'T2-B(PP2)'!$D$329","v":0},"#'T2-B(PP2)'!$D$329"]
["pp2_bl4_11_6_units_out",{"$f":"'T2-B(PP2)'!$G$329","v":0},"#'T2-B(PP2)'!$G$329"]
["pp2_bl4_11_7_name",{"$f":"'T2-B(PP2)'!$B$330","v":0},"#'T2-B(PP2)'!$B$330"]
["pp2_bl4_11_7_rate_in",{"$f":"'T2-B(PP2)'!$E$330","v":0},"#'T2-B(PP2)'!$E$330"]
["pp2_bl4_11_7_rate_out",{"$f":"'T2-B(PP2)'!$H$330","v":0},"#'T2-B(PP2)'!$H$330"]
["pp2_bl4_11_7_total",{"$f":"'T2-B(PP2)'!$J$330","v":0},"#'T2-B(PP2)'!$J$330"]
["pp2_bl4_11_7_total_in",{"$f":"'T2-B(PP2)'!$F$330","v":0},"#'T2-B(PP2)'!$F$330"]
["pp2_bl4_11_7_total_out",{"$f":"'T2-B(PP2)'!$I$330","v":0},"#'T2-B(PP2)'!$I$330"]
["pp2_bl4_11_7_unit",{"$f":"'T2-B(PP2)'!$C$330","v":0},"#'T2-B(PP2)'!$C$330"]
["pp2_bl4_11_7_unit_in",{"$f":"'T2-B(PP2)'!$D$330","v":0},"#'T2-B(PP2)'!$D$330"]
["pp2_bl4_11_7_units_out",{"$f":"'T2-B(PP2)'!$G$330","v":0},"#'T2-B(PP2)'!$G$330"]
["pp2_bl4_11_8_name",{"$f":"'T2-B(PP2)'!$B$331","v":0},"#'T2-B(PP2)'!$B$331"]
["pp2_bl4_11_8_rate_in",{"$f":"'T2-B(PP2)'!$E$331","v":0},"#'T2-B(PP2)'!$E$331"]
["pp2_bl4_11_8_rate_out",{"$f":"'T2-B(PP2)'!$H$331","v":0},"#'T2-B(PP2)'!$H$331"]
["pp2_bl4_11_8_total",{"$f":"'T2-B(PP2)'!$J$331","v":0},"#'T2-B(PP2)'!$J$331"]
["pp2_bl4_11_8_total_in",{"$f":"'T2-B(PP2)'!$F$331","v":0},"#'T2-B(PP2)'!$F$331"]
["pp2_bl4_11_8_total_out",{"$f":"'T2-B(PP2)'!$I$331","v":0},"#'T2-B(PP2)'!$I$331"]
["pp2_bl4_11_8_unit",{"$f":"'T2-B(PP2)'!$C$331","v":0},"#'T2-B(PP2)'!$C$331"]
["pp2_bl4_11_8_unit_in",{"$f":"'T2-B(PP2)'!$D$331","v":0},"#'T2-B(PP2)'!$D$331"]
["pp2_bl4_11_8_units_out",{"$f":"'T2-B(PP2)'!$G$331","v":0},"#'T2-B(PP2)'!$G$331"]
["pp2_bl4_11_9_name",{"$f":"'T2-B(PP2)'!$B$332","v":0},"#'T2-B(PP2)'!$B$332"]
["pp2_bl4_11_9_rate_in",{"$f":"'T2-B(PP2)'!$E$332","v":0},"#'T2-B(PP2)'!$E$332"]
["pp2_bl4_11_9_rate_out",{"$f":"'T2-B(PP2)'!$H$332","v":0},"#'T2-B(PP2)'!$H$332"]
["pp2_bl4_11_9_total",{"$f":"'T2-B(PP2)'!$J$332","v":0},"#'T2-B(PP2)'!$J$332"]
["pp2_bl4_11_9_total_in",{"$f":"'T2-B(PP2)'!$F$332","v":0},"#'T2-B(PP2)'!$F$332"]
["pp2_bl4_11_9_total_out",{"$f":"'T2-B(PP2)'!$I$332","v":0},"#'T2-B(PP2)'!$I$332"]
["pp2_bl4_11_9_unit",{"$f":"'T2-B(PP2)'!$C$332","v":0},"#'T2-B(PP2)'!$C$332"]
["pp2_bl4_11_9_unit_in",{"$f":"'T2-B(PP2)'!$D$332","v":0},"#'T2-B(PP2)'!$D$332"]
["pp2_bl4_11_9_units_out",{"$f":"'T2-B(PP2)'!$G$332","v":0},"#'T2-B(PP2)'!$G$332"]
["pp2_bl4_11_total",{"$f":"'T2-B(PP2)'!$J$323","v":0},"#'T2-B(PP2)'!$J$323"]
["pp2_bl4_11_total_in",{"$f":"'T2-B(PP2)'!$F$323","v":0},"#'T2-B(PP2)'!$F$323"]
["pp2_bl4_11_total_out",{"$f":"'T2-B(PP2)'!$I$323","v":0},"#'T2-B(PP2)'!$I$323"]
["pp2_bl4_12_1_name",{"$f":"'T2-B(PP2)'!$B$345","v":0},"#'T2-B(PP2)'!$B$345"]
["pp2_bl4_12_1_rate_in",{"$f":"'T2-B(PP2)'!$E$345","v":0},"#'T2-B(PP2)'!$E$345"]
["pp2_bl4_12_1_rate_out",{"$f":"'T2-B(PP2)'!$H$345","v":0},"#'T2-B(PP2)'!$H$345"]
["pp2_bl4_12_1_total",{"$f":"'T2-B(PP2)'!$J$345","v":0},"#'T2-B(PP2)'!$J$345"]
["pp2_bl4_12_1_total_in",{"$f":"'T2-B(PP2)'!$F$345","v":0},"#'T2-B(PP2)'!$F$345"]
["pp2_bl4_12_1_total_out",{"$f":"'T2-B(PP2)'!$I$345","v":0},"#'T2-B(PP2)'!$I$345"]
["pp2_bl4_12_1_unit",{"$f":"'T2-B(PP2)'!$C$345","v":0},"#'T2-B(PP2)'!$C$345"]
["pp2_bl4_12_1_unit_in",{"$f":"'T2-B(PP2)'!$D$345","v":0},"#'T2-B(PP2)'!$D$345"]
["pp2_bl4_12_1_units_out",{"$f":"'T2-B(PP2)'!$G$345","v":0},"#'T2-B(PP2)'!$G$345"]
["pp2_bl4_12_10_name",{"$f":"'T2-B(PP2)'!$B$354","v":0},"#'T2-B(PP2)'!$B$354"]
["pp2_bl4_12_10_rate_in",{"$f":"'T2-B(PP2)'!$E$354","v":0},"#'T2-B(PP2)'!$E$354"]
["pp2_bl4_12_10_rate_out",{"$f":"'T2-B(PP2)'!$H$354","v":0},"#'T2-B(PP2)'!$H$354"]
["pp2_bl4_12_10_total",{"$f":"'T2-B(PP2)'!$J$354","v":0},"#'T2-B(PP2)'!$J$354"]
["pp2_bl4_12_10_total_in",{"$f":"'T2-B(PP2)'!$F$354","v":0},"#'T2-B(PP2)'!$F$354"]
["pp2_bl4_12_10_total_out",{"$f":"'T2-B(PP2)'!$I$354","v":0},"#'T2-B(PP2)'!$I$354"]
["pp2_bl4_12_10_unit",{"$f":"'T2-B(PP2)'!$C$354","v":0},"#'T2-B(PP2)'!$C$354"]
["pp2_bl4_12_10_unit_in",{"$f":"'T2-B(PP2)'!$D$354","v":0},"#'T2-B(PP2)'!$D$354"]
["pp2_bl4_12_10_units_out",{"$f":"'T2-B(PP2)'!$G$354","v":0},"#'T2-B(PP2)'!$G$354"]
["pp2_bl4_12_2_name",{"$f":"'T2-B(PP2)'!$B$346","v":0},"#'T2-B(PP2)'!$B$346"]
["pp2_bl4_12_2_rate_in",{"$f":"'T2-B(PP2)'!$E$346","v":0},"#'T2-B(PP2)'!$E$346"]
["pp2_bl4_12_2_rate_out",{"$f":"'T2-B(PP2)'!$H$346","v":0},"#'T2-B(PP2)'!$H$346"]
["pp2_bl4_12_2_total",{"$f":"'T2-B(PP2)'!$J$346","v":0},"#'T2-B(PP2)'!$J$346"]
["pp2_bl4_12_2_total_in",{"$f":"'T2-B(PP2)'!$F$346","v":0},"#'T2-B(PP2)'!$F$346"]
["pp2_bl4_12_2_total_out",{"$f":"'T2-B(PP2)'!$I$346","v":0},"#'T2-B(PP2)'!$I$346"]
["pp2_bl4_12_2_unit",{"$f":"'T2-B(PP2)'!$C$346","v":0},"#'T2-B(PP2)'!$C$346"]
["pp2_bl4_12_2_unit_in",{"$f":"'T2-B(PP2)'!$D$346","v":0},"#'T2-B(PP2)'!$D$346"]
["pp2_bl4_12_2_units_out",{"$f":"'T2-B(PP2)'!$G$346","v":0},"#'T2-B(PP2)'!$G$346"]
["pp2_bl4_12_3_name",{"$f":"'T2-B(PP2)'!$B$347","v":0},"#'T2-B(PP2)'!$B$347"]
["pp2_bl4_12_3_rate_in",{"$f":"'T2-B(PP2)'!$E$347","v":0},"#'T2-B(PP2)'!$E$347"]
["pp2_bl4_12_3_rate_out",{"$f":"'T2-B(PP2)'!$H$347","v":0},"#'T2-B(PP2)'!$H$347"]
["pp2_bl4_12_3_total",{"$f":"'T2-B(PP2)'!$J$347","v":0},"#'T2-B(PP2)'!$J$347"]
["pp2_bl4_12_3_total_in",{"$f":"'T2-B(PP2)'!$F$347","v":0},"#'T2-B(PP2)'!$F$347"]
["pp2_bl4_12_3_total_out",{"$f":"'T2-B(PP2)'!$I$347","v":0},"#'T2-B(PP2)'!$I$347"]
["pp2_bl4_12_3_unit",{"$f":"'T2-B(PP2)'!$C$347","v":0},"#'T2-B(PP2)'!$C$347"]
["pp2_bl4_12_3_unit_in",{"$f":"'T2-B(PP2)'!$D$347","v":0},"#'T2-B(PP2)'!$D$347"]
["pp2_bl4_12_3_units_out",{"$f":"'T2-B(PP2)'!$G$347","v":0},"#'T2-B(PP2)'!$G$347"]
["pp2_bl4_12_4_name",{"$f":"'T2-B(PP2)'!$B$348","v":0},"#'T2-B(PP2)'!$B$348"]
["pp2_bl4_12_4_rate_in",{"$f":"'T2-B(PP2)'!$E$348","v":0},"#'T2-B(PP2)'!$E$348"]
["pp2_bl4_12_4_rate_out",{"$f":"'T2-B(PP2)'!$H$348","v":0},"#'T2-B(PP2)'!$H$348"]
["pp2_bl4_12_4_total",{"$f":"'T2-B(PP2)'!$J$348","v":0},"#'T2-B(PP2)'!$J$348"]
["pp2_bl4_12_4_total_in",{"$f":"'T2-B(PP2)'!$F$348","v":0},"#'T2-B(PP2)'!$F$348"]
["pp2_bl4_12_4_total_out",{"$f":"'T2-B(PP2)'!$I$348","v":0},"#'T2-B(PP2)'!$I$348"]
["pp2_bl4_12_4_unit",{"$f":"'T2-B(PP2)'!$C$348","v":0},"#'T2-B(PP2)'!$C$348"]
["pp2_bl4_12_4_unit_in",{"$f":"'T2-B(PP2)'!$D$348","v":0},"#'T2-B(PP2)'!$D$348"]
["pp2_bl4_12_4_units_out",{"$f":"'T2-B(PP2)'!$G$348","v":0},"#'T2-B(PP2)'!$G$348"]
["pp2_bl4_12_5_name",{"$f":"'T2-B(PP2)'!$B$349","v":0},"#'T2-B(PP2)'!$B$349"]
["pp2_bl4_12_5_rate_in",{"$f":"'T2-B(PP2)'!$E$349","v":0},"#'T2-B(PP2)'!$E$349"]
["pp2_bl4_12_5_rate_out",{"$f":"'T2-B(PP2)'!$H$349","v":0},"#'T2-B(PP2)'!$H$349"]
["pp2_bl4_12_5_total",{"$f":"'T2-B(PP2)'!$J$349","v":0},"#'T2-B(PP2)'!$J$349"]
["pp2_bl4_12_5_total_in",{"$f":"'T2-B(PP2)'!$F$349","v":0},"#'T2-B(PP2)'!$F$349"]
["pp2_bl4_12_5_total_out",{"$f":"'T2-B(PP2)'!$I$349","v":0},"#'T2-B(PP2)'!$I$349"]
["pp2_bl4_12_5_unit",{"$f":"'T2-B(PP2)'!$C$349","v":0},"#'T2-B(PP2)'!$C$349"]
["pp2_bl4_12_5_unit_in",{"$f":"'T2-B(PP2)'!$D$349","v":0},"#'T2-B(PP2)'!$D$349"]
["pp2_bl4_12_5_units_out",{"$f":"'T2-B(PP2)'!$G$349","v":0},"#'T2-B(PP2)'!$G$349"]
["pp2_bl4_12_6_name",{"$f":"'T2-B(PP2)'!$B$350","v":0},"#'T2-B(PP2)'!$B$350"]
["pp2_bl4_12_6_rate_in",{"$f":"'T2-B(PP2)'!$E$350","v":0},"#'T2-B(PP2)'!$E$350"]
["pp2_bl4_12_6_rate_out",{"$f":"'T2-B(PP2)'!$H$350","v":0},"#'T2-B(PP2)'!$H$350"]
["pp2_bl4_12_6_total",{"$f":"'T2-B(PP2)'!$J$350","v":0},"#'T2-B(PP2)'!$J$350"]
["pp2_bl4_12_6_total_in",{"$f":"'T2-B(PP2)'!$F$350","v":0},"#'T2-B(PP2)'!$F$350"]
["pp2_bl4_12_6_total_out",{"$f":"'T2-B(PP2)'!$I$350","v":0},"#'T2-B(PP2)'!$I$350"]
["pp2_bl4_12_6_unit",{"$f":"'T2-B(PP2)'!$C$350","v":0},"#'T2-B(PP2)'!$C$350"]
["pp2_bl4_12_6_unit_in",{"$f":"'T2-B(PP2)'!$D$350","v":0},"#'T2-B(PP2)'!$D$350"]
["pp2_bl4_12_6_units_out",{"$f":"'T2-B(PP2)'!$G$350","v":0},"#'T2-B(PP2)'!$G$350"]
["pp2_bl4_12_7_name",{"$f":"'T2-B(PP2)'!$B$351","v":0},"#'T2-B(PP2)'!$B$351"]
["pp2_bl4_12_7_rate_in",{"$f":"'T2-B(PP2)'!$E$351","v":0},"#'T2-B(PP2)'!$E$351"]
["pp2_bl4_12_7_rate_out",{"$f":"'T2-B(PP2)'!$H$351","v":0},"#'T2-B(PP2)'!$H$351"]
["pp2_bl4_12_7_total",{"$f":"'T2-B(PP2)'!$J$351","v":0},"#'T2-B(PP2)'!$J$351"]
["pp2_bl4_12_7_total_in",{"$f":"'T2-B(PP2)'!$F$351","v":0},"#'T2-B(PP2)'!$F$351"]
["pp2_bl4_12_7_total_out",{"$f":"'T2-B(PP2)'!$I$351","v":0},"#'T2-B(PP2)'!$I$351"]
["pp2_bl4_12_7_unit",{"$f":"'T2-B(PP2)'!$C$351","v":0},"#'T2-B(PP2)'!$C$351"]
["pp2_bl4_12_7_unit_in",{"$f":"'T2-B(PP2)'!$D$351","v":0},"#'T2-B(PP2)'!$D$351"]
["pp2_bl4_12_7_units_out",{"$f":"'T2-B(PP2)'!$G$351","v":0},"#'T2-B(PP2)'!$G$351"]
["pp2_bl4_12_8_name",{"$f":"'T2-B(PP2)'!$B$352","v":0},"#'T2-B(PP2)'!$B$352"]
["pp2_bl4_12_8_rate_in",{"$f":"'T2-B(PP2)'!$E$352","v":0},"#'T2-B(PP2)'!$E$352"]
["pp2_bl4_12_8_rate_out",{"$f":"'T2-B(PP2)'!$H$352","v":0},"#'T2-B(PP2)'!$H$352"]
["pp2_bl4_12_8_total",{"$f":"'T2-B(PP2)'!$J$352","v":0},"#'T2-B(PP2)'!$J$352"]
["pp2_bl4_12_8_total_in",{"$f":"'T2-B(PP2)'!$F$352","v":0},"#'T2-B(PP2)'!$F$352"]
["pp2_bl4_12_8_total_out",{"$f":"'T2-B(PP2)'!$I$352","v":0},"#'T2-B(PP2)'!$I$352"]
["pp2_bl4_12_8_unit",{"$f":"'T2-B(PP2)'!$C$352","v":0},"#'T2-B(PP2)'!$C$352"]
["pp2_bl4_12_8_unit_in",{"$f":"'T2-B(PP2)'!$D$352","v":0},"#'T2-B(PP2)'!$D$352"]
["pp2_bl4_12_8_units_out",{"$f":"'T2-B(PP2)'!$G$352","v":0},"#'T2-B(PP2)'!$G$352"]
["pp2_bl4_12_9_name",{"$f":"'T2-B(PP2)'!$B$353","v":0},"#'T2-B(PP2)'!$B$353"]
["pp2_bl4_12_9_rate_in",{"$f":"'T2-B(PP2)'!$E$353","v":0},"#'T2-B(PP2)'!$E$353"]
["pp2_bl4_12_9_rate_out",{"$f":"'T2-B(PP2)'!$H$353","v":0},"#'T2-B(PP2)'!$H$353"]
["pp2_bl4_12_9_total",{"$f":"'T2-B(PP2)'!$J$353","v":0},"#'T2-B(PP2)'!$J$353"]
["pp2_bl4_12_9_total_in",{"$f":"'T2-B(PP2)'!$F$353","v":0},"#'T2-B(PP2)'!$F$353"]
["pp2_bl4_12_9_total_out",{"$f":"'T2-B(PP2)'!$I$353","v":0},"#'T2-B(PP2)'!$I$353"]
["pp2_bl4_12_9_unit",{"$f":"'T2-B(PP2)'!$C$353","v":0},"#'T2-B(PP2)'!$C$353"]
["pp2_bl4_12_9_unit_in",{"$f":"'T2-B(PP2)'!$D$353","v":0},"#'T2-B(PP2)'!$D$353"]
["pp2_bl4_12_9_units_out",{"$f":"'T2-B(PP2)'!$G$353","v":0},"#'T2-B(PP2)'!$G$353"]
["pp2_bl4_12_total",{"$f":"'T2-B(PP2)'!$J$344","v":0},"#'T2-B(PP2)'!$J$344"]
["pp2_bl4_12_total_in",{"$f":"'T2-B(PP2)'!$F$344","v":0},"#'T2-B(PP2)'!$F$344"]
["pp2_bl4_12_total_out",{"$f":"'T2-B(PP2)'!$I$344","v":0},"#'T2-B(PP2)'!$I$344"]
["pp2_bl4_2_1_name",{"$f":"'T2-B(PP2)'!$B$135","v":0},"#'T2-B(PP2)'!$B$135"]
["pp2_bl4_2_1_rate_in",{"$f":"'T2-B(PP2)'!$E$135","v":0},"#'T2-B(PP2)'!$E$135"]
["pp2_bl4_2_1_rate_out",{"$f":"'T2-B(PP2)'!$H$135","v":0},"#'T2-B(PP2)'!$H$135"]
["pp2_bl4_2_1_total",{"$f":"'T2-B(PP2)'!$J$135","v":0},"#'T2-B(PP2)'!$J$135"]
["pp2_bl4_2_1_total_in",{"$f":"'T2-B(PP2)'!$F$135","v":0},"#'T2-B(PP2)'!$F$135"]
["pp2_bl4_2_1_total_out",{"$f":"'T2-B(PP2)'!$I$135","v":0},"#'T2-B(PP2)'!$I$135"]
["pp2_bl4_2_1_unit",{"$f":"'T2-B(PP2)'!$C$135","v":0},"#'T2-B(PP2)'!$C$135"]
["pp2_bl4_2_1_unit_in",{"$f":"'T2-B(PP2)'!$D$135","v":0},"#'T2-B(PP2)'!$D$135"]
["pp2_bl4_2_1_units_out",{"$f":"'T2-B(PP2)'!$G$135","v":0},"#'T2-B(PP2)'!$G$135"]
["pp2_bl4_2_10_name",{"$f":"'T2-B(PP2)'!$B$144","v":0},"#'T2-B(PP2)'!$B$144"]
["pp2_bl4_2_10_rate_in",{"$f":"'T2-B(PP2)'!$E$144","v":0},"#'T2-B(PP2)'!$E$144"]
["pp2_bl4_2_10_rate_out",{"$f":"'T2-B(PP2)'!$H$144","v":0},"#'T2-B(PP2)'!$H$144"]
["pp2_bl4_2_10_total",{"$f":"'T2-B(PP2)'!$J$144","v":0},"#'T2-B(PP2)'!$J$144"]
["pp2_bl4_2_10_total_in",{"$f":"'T2-B(PP2)'!$F$144","v":0},"#'T2-B(PP2)'!$F$144"]
["pp2_bl4_2_10_total_out",{"$f":"'T2-B(PP2)'!$I$144","v":0},"#'T2-B(PP2)'!$I$144"]
["pp2_bl4_2_10_unit",{"$f":"'T2-B(PP2)'!$C$144","v":0},"#'T2-B(PP2)'!$C$144"]
["pp2_bl4_2_10_unit_in",{"$f":"'T2-B(PP2)'!$D$144","v":0},"#'T2-B(PP2)'!$D$144"]
["pp2_bl4_2_10_units_out",{"$f":"'T2-B(PP2)'!$G$144","v":0},"#'T2-B(PP2)'!$G$144"]
["pp2_bl4_2_2_name",{"$f":"'T2-B(PP2)'!$B$136","v":0},"#'T2-B(PP2)'!$B$136"]
["pp2_bl4_2_2_rate_in",{"$f":"'T2-B(PP2)'!$E$136","v":0},"#'T2-B(PP2)'!$E$136"]
["pp2_bl4_2_2_rate_out",{"$f":"'T2-B(PP2)'!$H$136","v":0},"#'T2-B(PP2)'!$H$136"]
["pp2_bl4_2_2_total",{"$f":"'T2-B(PP2)'!$J$136","v":0},"#'T2-B(PP2)'!$J$136"]
["pp2_bl4_2_2_total_in",{"$f":"'T2-B(PP2)'!$F$136","v":0},"#'T2-B(PP2)'!$F$136"]
["pp2_bl4_2_2_total_out",{"$f":"'T2-B(PP2)'!$I$136","v":0},"#'T2-B(PP2)'!$I$136"]
["pp2_bl4_2_2_unit",{"$f":"'T2-B(PP2)'!$C$136","v":0},"#'T2-B(PP2)'!$C$136"]
["pp2_bl4_2_2_unit_in",{"$f":"'T2-B(PP2)'!$D$136","v":0},"#'T2-B(PP2)'!$D$136"]
["pp2_bl4_2_2_units_out",{"$f":"'T2-B(PP2)'!$G$136","v":0},"#'T2-B(PP2)'!$G$136"]
["pp2_bl4_2_3_name",{"$f":"'T2-B(PP2)'!$B$137","v":0},"#'T2-B(PP2)'!$B$137"]
["pp2_bl4_2_3_rate_in",{"$f":"'T2-B(PP2)'!$E$137","v":0},"#'T2-B(PP2)'!$E$137"]
["pp2_bl4_2_3_rate_out",{"$f":"'T2-B(PP2)'!$H$137","v":0},"#'T2-B(PP2)'!$H$137"]
["pp2_bl4_2_3_total",{"$f":"'T2-B(PP2)'!$J$137","v":0},"#'T2-B(PP2)'!$J$137"]
["pp2_bl4_2_3_total_in",{"$f":"'T2-B(PP2)'!$F$137","v":0},"#'T2-B(PP2)'!$F$137"]
["pp2_bl4_2_3_total_out",{"$f":"'T2-B(PP2)'!$I$137","v":0},"#'T2-B(PP2)'!$I$137"]
["pp2_bl4_2_3_unit",{"$f":"'T2-B(PP2)'!$C$137","v":0},"#'T2-B(PP2)'!$C$137"]
["pp2_bl4_2_3_unit_in",{"$f":"'T2-B(PP2)'!$D$137","v":0},"#'T2-B(PP2)'!$D$137"]
["pp2_bl4_2_3_units_out",{"$f":"'T2-B(PP2)'!$G$137","v":0},"#'T2-B(PP2)'!$G$137"]
["pp2_bl4_2_4_name",{"$f":"'T2-B(PP2)'!$B$138","v":0},"#'T2-B(PP2)'!$B$138"]
["pp2_bl4_2_4_rate_in",{"$f":"'T2-B(PP2)'!$E$138","v":0},"#'T2-B(PP2)'!$E$138"]
["pp2_bl4_2_4_rate_out",{"$f":"'T2-B(PP2)'!$H$138","v":0},"#'T2-B(PP2)'!$H$138"]
["pp2_bl4_2_4_total",{"$f":"'T2-B(PP2)'!$J$138","v":0},"#'T2-B(PP2)'!$J$138"]
["pp2_bl4_2_4_total_in",{"$f":"'T2-B(PP2)'!$F$138","v":0},"#'T2-B(PP2)'!$F$138"]
["pp2_bl4_2_4_total_out",{"$f":"'T2-B(PP2)'!$I$138","v":0},"#'T2-B(PP2)'!$I$138"]
["pp2_bl4_2_4_unit",{"$f":"'T2-B(PP2)'!$C$138","v":0},"#'T2-B(PP2)'!$C$138"]
["pp2_bl4_2_4_unit_in",{"$f":"'T2-B(PP2)'!$D$138","v":0},"#'T2-B(PP2)'!$D$138"]
["pp2_bl4_2_4_units_out",{"$f":"'T2-B(PP2)'!$G$138","v":0},"#'T2-B(PP2)'!$G$138"]
["pp2_bl4_2_5_name",{"$f":"'T2-B(PP2)'!$B$139","v":0},"#'T2-B(PP2)'!$B$139"]
["pp2_bl4_2_5_rate_in",{"$f":"'T2-B(PP2)'!$E$139","v":0},"#'T2-B(PP2)'!$E$139"]
["pp2_bl4_2_5_rate_out",{"$f":"'T2-B(PP2)'!$H$139","v":0},"#'T2-B(PP2)'!$H$139"]
["pp2_bl4_2_5_total",{"$f":"'T2-B(PP2)'!$J$139","v":0},"#'T2-B(PP2)'!$J$139"]
["pp2_bl4_2_5_total_in",{"$f":"'T2-B(PP2)'!$F$139","v":0},"#'T2-B(PP2)'!$F$139"]
["pp2_bl4_2_5_total_out",{"$f":"'T2-B(PP2)'!$I$139","v":0},"#'T2-B(PP2)'!$I$139"]
["pp2_bl4_2_5_unit",{"$f":"'T2-B(PP2)'!$C$139","v":0},"#'T2-B(PP2)'!$C$139"]
["pp2_bl4_2_5_unit_in",{"$f":"'T2-B(PP2)'!$D$139","v":0},"#'T2-B(PP2)'!$D$139"]
["pp2_bl4_2_5_units_out",{"$f":"'T2-B(PP2)'!$G$139","v":0},"#'T2-B(PP2)'!$G$139"]
["pp2_bl4_2_6_name",{"$f":"'T2-B(PP2)'!$B$140","v":0},"#'T2-B(PP2)'!$B$140"]
["pp2_bl4_2_6_rate_in",{"$f":"'T2-B(PP2)'!$E$140","v":0},"#'T2-B(PP2)'!$E$140"]
["pp2_bl4_2_6_rate_out",{"$f":"'T2-B(PP2)'!$H$140","v":0},"#'T2-B(PP2)'!$H$140"]
["pp2_bl4_2_6_total",{"$f":"'T2-B(PP2)'!$J$140","v":0},"#'T2-B(PP2)'!$J$140"]
["pp2_bl4_2_6_total_in",{"$f":"'T2-B(PP2)'!$F$140","v":0},"#'T2-B(PP2)'!$F$140"]
["pp2_bl4_2_6_total_out",{"$f":"'T2-B(PP2)'!$I$140","v":0},"#'T2-B(PP2)'!$I$140"]
["pp2_bl4_2_6_unit",{"$f":"'T2-B(PP2)'!$C$140","v":0},"#'T2-B(PP2)'!$C$140"]
["pp2_bl4_2_6_unit_in",{"$f":"'T2-B(PP2)'!$D$140","v":0},"#'T2-B(PP2)'!$D$140"]
["pp2_bl4_2_6_units_out",{"$f":"'T2-B(PP2)'!$G$140","v":0},"#'T2-B(PP2)'!$G$140"]
["pp2_bl4_2_7_name",{"$f":"'T2-B(PP2)'!$B$141","v":0},"#'T2-B(PP2)'!$B$141"]
["pp2_bl4_2_7_rate_in",{"$f":"'T2-B(PP2)'!$E$141","v":0},"#'T2-B(PP2)'!$E$141"]
["pp2_bl4_2_7_rate_out",{"$f":"'T2-B(PP2)'!$H$141","v":0},"#'T2-B(PP2)'!$H$141"]
["pp2_bl4_2_7_total",{"$f":"'T2-B(PP2)'!$J$141","v":0},"#'T2-B(PP2)'!$J$141"]
["pp2_bl4_2_7_total_in",{"$f":"'T2-B(PP2)'!$F$141","v":0},"#'T2-B(PP2)'!$F$141"]
["pp2_bl4_2_7_total_out",{"$f":"'T2-B(PP2)'!$I$141","v":0},"#'T2-B(PP2)'!$I$141"]
["pp2_bl4_2_7_unit",{"$f":"'T2-B(PP2)'!$C$141","v":0},"#'T2-B(PP2)'!$C$141"]
["pp2_bl4_2_7_unit_in",{"$f":"'T2-B(PP2)'!$D$141","v":0},"#'T2-B(PP2)'!$D$141"]
["pp2_bl4_2_7_units_out",{"$f":"'T2-B(PP2)'!$G$141","v":0},"#'T2-B(PP2)'!$G$141"]
["pp2_bl4_2_8_name",{"$f":"'T2-B(PP2)'!$B$142","v":0},"#'T2-B(PP2)'!$B$142"]
["pp2_bl4_2_8_rate_in",{"$f":"'T2-B(PP2)'!$E$142","v":0},"#'T2-B(PP2)'!$E$142"]
["pp2_bl4_2_8_rate_out",{"$f":"'T2-B(PP2)'!$H$142","v":0},"#'T2-B(PP2)'!$H$142"]
["pp2_bl4_2_8_total",{"$f":"'T2-B(PP2)'!$J$142","v":0},"#'T2-B(PP2)'!$J$142"]
["pp2_bl4_2_8_total_in",{"$f":"'T2-B(PP2)'!$F$142","v":0},"#'T2-B(PP2)'!$F$142"]
["pp2_bl4_2_8_total_out",{"$f":"'T2-B(PP2)'!$I$142","v":0},"#'T2-B(PP2)'!$I$142"]
["pp2_bl4_2_8_unit",{"$f":"'T2-B(PP2)'!$C$142","v":0},"#'T2-B(PP2)'!$C$142"]
["pp2_bl4_2_8_unit_in",{"$f":"'T2-B(PP2)'!$D$142","v":0},"#'T2-B(PP2)'!$D$142"]
["pp2_bl4_2_8_units_out",{"$f":"'T2-B(PP2)'!$G$142","v":0},"#'T2-B(PP2)'!$G$142"]
["pp2_bl4_2_9_name",{"$f":"'T2-B(PP2)'!$B$143","v":0},"#'T2-B(PP2)'!$B$143"]
["pp2_bl4_2_9_rate_in",{"$f":"'T2-B(PP2)'!$E$143","v":0},"#'T2-B(PP2)'!$E$143"]
["pp2_bl4_2_9_rate_out",{"$f":"'T2-B(PP2)'!$H$143","v":0},"#'T2-B(PP2)'!$H$143"]
["pp2_bl4_2_9_total",{"$f":"'T2-B(PP2)'!$J$143","v":0},"#'T2-B(PP2)'!$J$143"]
["pp2_bl4_2_9_total_in",{"$f":"'T2-B(PP2)'!$F$143","v":0},"#'T2-B(PP2)'!$F$143"]
["pp2_bl4_2_9_total_out",{"$f":"'T2-B(PP2)'!$I$143","v":0},"#'T2-B(PP2)'!$I$143"]
["pp2_bl4_2_9_unit",{"$f":"'T2-B(PP2)'!$C$143","v":0},"#'T2-B(PP2)'!$C$143"]
["pp2_bl4_2_9_unit_in",{"$f":"'T2-B(PP2)'!$D$143","v":0},"#'T2-B(PP2)'!$D$143"]
["pp2_bl4_2_9_units_out",{"$f":"'T2-B(PP2)'!$G$143","v":0},"#'T2-B(PP2)'!$G$143"]
["pp2_bl4_2_total",{"$f":"'T2-B(PP2)'!$J$134","v":0},"#'T2-B(PP2)'!$J$134"]
["pp2_bl4_2_total_in",{"$f":"'T2-B(PP2)'!$F$134","v":0},"#'T2-B(PP2)'!$F$134"]
["pp2_bl4_2_total_out",{"$f":"'T2-B(PP2)'!$I$134","v":0},"#'T2-B(PP2)'!$I$134"]
["pp2_bl4_3_1_name",{"$f":"'T2-B(PP2)'!$B$156","v":0},"#'T2-B(PP2)'!$B$156"]
["pp2_bl4_3_1_rate_in",{"$f":"'T2-B(PP2)'!$E$156","v":0},"#'T2-B(PP2)'!$E$156"]
["pp2_bl4_3_1_rate_out",{"$f":"'T2-B(PP2)'!$H$156","v":0},"#'T2-B(PP2)'!$H$156"]
["pp2_bl4_3_1_total",{"$f":"'T2-B(PP2)'!$J$156","v":0},"#'T2-B(PP2)'!$J$156"]
["pp2_bl4_3_1_total_in",{"$f":"'T2-B(PP2)'!$F$156","v":0},"#'T2-B(PP2)'!$F$156"]
["pp2_bl4_3_1_total_out",{"$f":"'T2-B(PP2)'!$I$156","v":0},"#'T2-B(PP2)'!$I$156"]
["pp2_bl4_3_1_unit",{"$f":"'T2-B(PP2)'!$C$156","v":0},"#'T2-B(PP2)'!$C$156"]
["pp2_bl4_3_1_unit_in",{"$f":"'T2-B(PP2)'!$D$156","v":0},"#'T2-B(PP2)'!$D$156"]
["pp2_bl4_3_1_units_out",{"$f":"'T2-B(PP2)'!$G$156","v":0},"#'T2-B(PP2)'!$G$156"]
["pp2_bl4_3_10_name",{"$f":"'T2-B(PP2)'!$B$165","v":0},"#'T2-B(PP2)'!$B$165"]
["pp2_bl4_3_10_rate_in",{"$f":"'T2-B(PP2)'!$E$165","v":0},"#'T2-B(PP2)'!$E$165"]
["pp2_bl4_3_10_rate_out",{"$f":"'T2-B(PP2)'!$H$165","v":0},"#'T2-B(PP2)'!$H$165"]
["pp2_bl4_3_10_total",{"$f":"'T2-B(PP2)'!$J$165","v":0},"#'T2-B(PP2)'!$J$165"]
["pp2_bl4_3_10_total_in",{"$f":"'T2-B(PP2)'!$F$165","v":0},"#'T2-B(PP2)'!$F$165"]
["pp2_bl4_3_10_total_out",{"$f":"'T2-B(PP2)'!$I$165","v":0},"#'T2-B(PP2)'!$I$165"]
["pp2_bl4_3_10_unit",{"$f":"'T2-B(PP2)'!$C$165","v":0},"#'T2-B(PP2)'!$C$165"]
["pp2_bl4_3_10_unit_in",{"$f":"'T2-B(PP2)'!$D$165","v":0},"#'T2-B(PP2)'!$D$165"]
["pp2_bl4_3_10_units_out",{"$f":"'T2-B(PP2)'!$G$165","v":0},"#'T2-B(PP2)'!$G$165"]
["pp2_bl4_3_2_name",{"$f":"'T2-B(PP2)'!$B$157","v":0},"#'T2-B(PP2)'!$B$157"]
["pp2_bl4_3_2_rate_in",{"$f":"'T2-B(PP2)'!$E$157","v":0},"#'T2-B(PP2)'!$E$157"]
["pp2_bl4_3_2_rate_out",{"$f":"'T2-B(PP2)'!$H$157","v":0},"#'T2-B(PP2)'!$H$157"]
["pp2_bl4_3_2_total",{"$f":"'T2-B(PP2)'!$J$157","v":0},"#'T2-B(PP2)'!$J$157"]
["pp2_bl4_3_2_total_in",{"$f":"'T2-B(PP2)'!$F$157","v":0},"#'T2-B(PP2)'!$F$157"]
["pp2_bl4_3_2_total_out",{"$f":"'T2-B(PP2)'!$I$157","v":0},"#'T2-B(PP2)'!$I$157"]
["pp2_bl4_3_2_unit",{"$f":"'T2-B(PP2)'!$C$157","v":0},"#'T2-B(PP2)'!$C$157"]
["pp2_bl4_3_2_unit_in",{"$f":"'T2-B(PP2)'!$D$157","v":0},"#'T2-B(PP2)'!$D$157"]
["pp2_bl4_3_2_units_out",{"$f":"'T2-B(PP2)'!$G$157","v":0},"#'T2-B(PP2)'!$G$157"]
["pp2_bl4_3_3_name",{"$f":"'T2-B(PP2)'!$B$158","v":0},"#'T2-B(PP2)'!$B$158"]
["pp2_bl4_3_3_rate_in",{"$f":"'T2-B(PP2)'!$E$158","v":0},"#'T2-B(PP2)'!$E$158"]
["pp2_bl4_3_3_rate_out",{"$f":"'T2-B(PP2)'!$H$158","v":0},"#'T2-B(PP2)'!$H$158"]
["pp2_bl4_3_3_total",{"$f":"'T2-B(PP2)'!$J$158","v":0},"#'T2-B(PP2)'!$J$158"]
["pp2_bl4_3_3_total_in",{"$f":"'T2-B(PP2)'!$F$158","v":0},"#'T2-B(PP2)'!$F$158"]
["pp2_bl4_3_3_total_out",{"$f":"'T2-B(PP2)'!$I$158","v":0},"#'T2-B(PP2)'!$I$158"]
["pp2_bl4_3_3_unit",{"$f":"'T2-B(PP2)'!$C$158","v":0},"#'T2-B(PP2)'!$C$158"]
["pp2_bl4_3_3_unit_in",{"$f":"'T2-B(PP2)'!$D$158","v":0},"#'T2-B(PP2)'!$D$158"]
["pp2_bl4_3_3_units_out",{"$f":"'T2-B(PP2)'!$G$158","v":0},"#'T2-B(PP2)'!$G$158"]
["pp2_bl4_3_4_name",{"$f":"'T2-B(PP2)'!$B$159","v":0},"#'T2-B(PP2)'!$B$159"]
["pp2_bl4_3_4_rate_in",{"$f":"'T2-B(PP2)'!$E$159","v":0},"#'T2-B(PP2)'!$E$159"]
["pp2_bl4_3_4_rate_out",{"$f":"'T2-B(PP2)'!$H$159","v":0},"#'T2-B(PP2)'!$H$159"]
["pp2_bl4_3_4_total",{"$f":"'T2-B(PP2)'!$J$159","v":0},"#'T2-B(PP2)'!$J$159"]
["pp2_bl4_3_4_total_in",{"$f":"'T2-B(PP2)'!$F$159","v":0},"#'T2-B(PP2)'!$F$159"]
["pp2_bl4_3_4_total_out",{"$f":"'T2-B(PP2)'!$I$159","v":0},"#'T2-B(PP2)'!$I$159"]
["pp2_bl4_3_4_unit",{"$f":"'T2-B(PP2)'!$C$159","v":0},"#'T2-B(PP2)'!$C$159"]
["pp2_bl4_3_4_unit_in",{"$f":"'T2-B(PP2)'!$D$159","v":0},"#'T2-B(PP2)'!$D$159"]
["pp2_bl4_3_4_units_out",{"$f":"'T2-B(PP2)'!$G$159","v":0},"#'T2-B(PP2)'!$G$159"]
["pp2_bl4_3_5_name",{"$f":"'T2-B(PP2)'!$B$160","v":0},"#'T2-B(PP2)'!$B$160"]
["pp2_bl4_3_5_rate_in",{"$f":"'T2-B(PP2)'!$E$160","v":0},"#'T2-B(PP2)'!$E$160"]
["pp2_bl4_3_5_rate_out",{"$f":"'T2-B(PP2)'!$H$160","v":0},"#'T2-B(PP2)'!$H$160"]
["pp2_bl4_3_5_total",{"$f":"'T2-B(PP2)'!$J$160","v":0},"#'T2-B(PP2)'!$J$160"]
["pp2_bl4_3_5_total_in",{"$f":"'T2-B(PP2)'!$F$160","v":0},"#'T2-B(PP2)'!$F$160"]
["pp2_bl4_3_5_total_out",{"$f":"'T2-B(PP2)'!$I$160","v":0},"#'T2-B(PP2)'!$I$160"]
["pp2_bl4_3_5_unit",{"$f":"'T2-B(PP2)'!$C$160","v":0},"#'T2-B(PP2)'!$C$160"]
["pp2_bl4_3_5_unit_in",{"$f":"'T2-B(PP2)'!$D$160","v":0},"#'T2-B(PP2)'!$D$160"]
["pp2_bl4_3_5_units_out",{"$f":"'T2-B(PP2)'!$G$160","v":0},"#'T2-B(PP2)'!$G$160"]
["pp2_bl4_3_6_name",{"$f":"'T2-B(PP2)'!$B$161","v":0},"#'T2-B(PP2)'!$B$161"]
["pp2_bl4_3_6_rate_in",{"$f":"'T2-B(PP2)'!$E$161","v":0},"#'T2-B(PP2)'!$E$161"]
["pp2_bl4_3_6_rate_out",{"$f":"'T2-B(PP2)'!$H$161","v":0},"#'T2-B(PP2)'!$H$161"]
["pp2_bl4_3_6_total",{"$f":"'T2-B(PP2)'!$J$161","v":0},"#'T2-B(PP2)'!$J$161"]
["pp2_bl4_3_6_total_in",{"$f":"'T2-B(PP2)'!$F$161","v":0},"#'T2-B(PP2)'!$F$161"]
["pp2_bl4_3_6_total_out",{"$f":"'T2-B(PP2)'!$I$161","v":0},"#'T2-B(PP2)'!$I$161"]
["pp2_bl4_3_6_unit",{"$f":"'T2-B(PP2)'!$C$161","v":0},"#'T2-B(PP2)'!$C$161"]
["pp2_bl4_3_6_unit_in",{"$f":"'T2-B(PP2)'!$D$161","v":0},"#'T2-B(PP2)'!$D$161"]
["pp2_bl4_3_6_units_out",{"$f":"'T2-B(PP2)'!$G$161","v":0},"#'T2-B(PP2)'!$G$161"]
["pp2_bl4_3_7_name",{"$f":"'T2-B(PP2)'!$B$162","v":0},"#'T2-B(PP2)'!$B$162"]
["pp2_bl4_3_7_rate_in",{"$f":"'T2-B(PP2)'!$E$162","v":0},"#'T2-B(PP2)'!$E$162"]
["pp2_bl4_3_7_rate_out",{"$f":"'T2-B(PP2)'!$H$162","v":0},"#'T2-B(PP2)'!$H$162"]
["pp2_bl4_3_7_total",{"$f":"'T2-B(PP2)'!$J$162","v":0},"#'T2-B(PP2)'!$J$162"]
["pp2_bl4_3_7_total_in",{"$f":"'T2-B(PP2)'!$F$162","v":0},"#'T2-B(PP2)'!$F$162"]
["pp2_bl4_3_7_total_out",{"$f":"'T2-B(PP2)'!$I$162","v":0},"#'T2-B(PP2)'!$I$162"]
["pp2_bl4_3_7_unit",{"$f":"'T2-B(PP2)'!$C$162","v":0},"#'T2-B(PP2)'!$C$162"]
["pp2_bl4_3_7_unit_in",{"$f":"'T2-B(PP2)'!$D$162","v":0},"#'T2-B(PP2)'!$D$162"]
["pp2_bl4_3_7_units_out",{"$f":"'T2-B(PP2)'!$G$162","v":0},"#'T2-B(PP2)'!$G$162"]
["pp2_bl4_3_8_name",{"$f":"'T2-B(PP2)'!$B$163","v":0},"#'T2-B(PP2)'!$B$163"]
["pp2_bl4_3_8_rate_in",{"$f":"'T2-B(PP2)'!$E$163","v":0},"#'T2-B(PP2)'!$E$163"]
["pp2_bl4_3_8_rate_out",{"$f":"'T2-B(PP2)'!$H$163","v":0},"#'T2-B(PP2)'!$H$163"]
["pp2_bl4_3_8_total",{"$f":"'T2-B(PP2)'!$J$163","v":0},"#'T2-B(PP2)'!$J$163"]
["pp2_bl4_3_8_total_in",{"$f":"'T2-B(PP2)'!$F$163","v":0},"#'T2-B(PP2)'!$F$163"]
["pp2_bl4_3_8_total_out",{"$f":"'T2-B(PP2)'!$I$163","v":0},"#'T2-B(PP2)'!$I$163"]
["pp2_bl4_3_8_unit",{"$f":"'T2-B(PP2)'!$C$163","v":0},"#'T2-B(PP2)'!$C$163"]
["pp2_bl4_3_8_unit_in",{"$f":"'T2-B(PP2)'!$D$163","v":0},"#'T2-B(PP2)'!$D$163"]
["pp2_bl4_3_8_units_out",{"$f":"'T2-B(PP2)'!$G$163","v":0},"#'T2-B(PP2)'!$G$163"]
["pp2_bl4_3_9_name",{"$f":"'T2-B(PP2)'!$B$164","v":0},"#'T2-B(PP2)'!$B$164"]
["pp2_bl4_3_9_rate_in",{"$f":"'T2-B(PP2)'!$E$164","v":0},"#'T2-B(PP2)'!$E$164"]
["pp2_bl4_3_9_rate_out",{"$f":"'T2-B(PP2)'!$H$164","v":0},"#'T2-B(PP2)'!$H$164"]
["pp2_bl4_3_9_total",{"$f":"'T2-B(PP2)'!$J$164","v":0},"#'T2-B(PP2)'!$J$164"]
["pp2_bl4_3_9_total_in",{"$f":"'T2-B(PP2)'!$F$164","v":0},"#'T2-B(PP2)'!$F$164"]
["pp2_bl4_3_9_total_out",{"$f":"'T2-B(PP2)'!$I$164","v":0},"#'T2-B(PP2)'!$I$164"]
["pp2_bl4_3_9_unit",{"$f":"'T2-B(PP2)'!$C$164","v":0},"#'T2-B(PP2)'!$C$164"]
["pp2_bl4_3_9_unit_in",{"$f":"'T2-B(PP2)'!$D$164","v":0},"#'T2-B(PP2)'!$D$164"]
["pp2_bl4_3_9_units_out",{"$f":"'T2-B(PP2)'!$G$164","v":0},"#'T2-B(PP2)'!$G$164"]
["pp2_bl4_3_total",{"$f":"'T2-B(PP2)'!$J$155","v":0},"#'T2-B(PP2)'!$J$155"]
["pp2_bl4_3_total_in",{"$f":"'T2-B(PP2)'!$F$155","v":0},"#'T2-B(PP2)'!$F$155"]
["pp2_bl4_3_total_out",{"$f":"'T2-B(PP2)'!$I$155","v":0},"#'T2-B(PP2)'!$I$155"]
["pp2_bl4_4_1_name",{"$f":"'T2-B(PP2)'!$B$177","v":0},"#'T2-B(PP2)'!$B$177"]
["pp2_bl4_4_1_rate_in",{"$f":"'T2-B(PP2)'!$E$177","v":0},"#'T2-B(PP2)'!$E$177"]
["pp2_bl4_4_1_rate_out",{"$f":"'T2-B(PP2)'!$H$177","v":0},"#'T2-B(PP2)'!$H$177"]
["pp2_bl4_4_1_total",{"$f":"'T2-B(PP2)'!$J$177","v":0},"#'T2-B(PP2)'!$J$177"]
["pp2_bl4_4_1_total_in",{"$f":"'T2-B(PP2)'!$F$177","v":0},"#'T2-B(PP2)'!$F$177"]
["pp2_bl4_4_1_total_out",{"$f":"'T2-B(PP2)'!$I$177","v":0},"#'T2-B(PP2)'!$I$177"]
["pp2_bl4_4_1_unit",{"$f":"'T2-B(PP2)'!$C$177","v":0},"#'T2-B(PP2)'!$C$177"]
["pp2_bl4_4_1_unit_in",{"$f":"'T2-B(PP2)'!$D$177","v":0},"#'T2-B(PP2)'!$D$177"]
["pp2_bl4_4_1_units_out",{"$f":"'T2-B(PP2)'!$G$177","v":0},"#'T2-B(PP2)'!$G$177"]
["pp2_bl4_4_10_name",{"$f":"'T2-B(PP2)'!$B$186","v":0},"#'T2-B(PP2)'!$B$186"]
["pp2_bl4_4_10_rate_in",{"$f":"'T2-B(PP2)'!$E$186","v":0},"#'T2-B(PP2)'!$E$186"]
["pp2_bl4_4_10_rate_out",{"$f":"'T2-B(PP2)'!$H$186","v":0},"#'T2-B(PP2)'!$H$186"]
["pp2_bl4_4_10_total",{"$f":"'T2-B(PP2)'!$J$186","v":0},"#'T2-B(PP2)'!$J$186"]
["pp2_bl4_4_10_total_in",{"$f":"'T2-B(PP2)'!$F$186","v":0},"#'T2-B(PP2)'!$F$186"]
["pp2_bl4_4_10_total_out",{"$f":"'T2-B(PP2)'!$I$186","v":0},"#'T2-B(PP2)'!$I$186"]
["pp2_bl4_4_10_unit",{"$f":"'T2-B(PP2)'!$C$186","v":0},"#'T2-B(PP2)'!$C$186"]
["pp2_bl4_4_10_unit_in",{"$f":"'T2-B(PP2)'!$D$186","v":0},"#'T2-B(PP2)'!$D$186"]
["pp2_bl4_4_10_units_out",{"$f":"'T2-B(PP2)'!$G$186","v":0},"#'T2-B(PP2)'!$G$186"]
["pp2_bl4_4_2_name",{"$f":"'T2-B(PP2)'!$B$178","v":0},"#'T2-B(PP2)'!$B$178"]
["pp2_bl4_4_2_rate_in",{"$f":"'T2-B(PP2)'!$E$178","v":0},"#'T2-B(PP2)'!$E$178"]
["pp2_bl4_4_2_rate_out",{"$f":"'T2-B(PP2)'!$H$178","v":0},"#'T2-B(PP2)'!$H$178"]
["pp2_bl4_4_2_total",{"$f":"'T2-B(PP2)'!$J$178","v":0},"#'T2-B(PP2)'!$J$178"]
["pp2_bl4_4_2_total_in",{"$f":"'T2-B(PP2)'!$F$178","v":0},"#'T2-B(PP2)'!$F$178"]
["pp2_bl4_4_2_total_out",{"$f":"'T2-B(PP2)'!$I$178","v":0},"#'T2-B(PP2)'!$I$178"]
["pp2_bl4_4_2_unit",{"$f":"'T2-B(PP2)'!$C$178","v":0},"#'T2-B(PP2)'!$C$178"]
["pp2_bl4_4_2_unit_in",{"$f":"'T2-B(PP2)'!$D$178","v":0},"#'T2-B(PP2)'!$D$178"]
["pp2_bl4_4_2_units_out",{"$f":"'T2-B(PP2)'!$G$178","v":0},"#'T2-B(PP2)'!$G$178"]
["pp2_bl4_4_3_name",{"$f":"'T2-B(PP2)'!$B$179","v":0},"#'T2-B(PP2)'!$B$179"]
["pp2_bl4_4_3_rate_in",{"$f":"'T2-B(PP2)'!$E$179","v":0},"#'T2-B(PP2)'!$E$179"]
["pp2_bl4_4_3_rate_out",{"$f":"'T2-B(PP2)'!$H$179","v":0},"#'T2-B(PP2)'!$H$179"]
["pp2_bl4_4_3_total",{"$f":"'T2-B(PP2)'!$J$179","v":0},"#'T2-B(PP2)'!$J$179"]
["pp2_bl4_4_3_total_in",{"$f":"'T2-B(PP2)'!$F$179","v":0},"#'T2-B(PP2)'!$F$179"]
["pp2_bl4_4_3_total_out",{"$f":"'T2-B(PP2)'!$I$179","v":0},"#'T2-B(PP2)'!$I$179"]
["pp2_bl4_4_3_unit",{"$f":"'T2-B(PP2)'!$C$179","v":0},"#'T2-B(PP2)'!$C$179"]
["pp2_bl4_4_3_unit_in",{"$f":"'T2-B(PP2)'!$D$179","v":0},"#'T2-B(PP2)'!$D$179"]
["pp2_bl4_4_3_units_out",{"$f":"'T2-B(PP2)'!$G$179","v":0},"#'T2-B(PP2)'!$G$179"]
["pp2_bl4_4_4_name",{"$f":"'T2-B(PP2)'!$B$180","v":0},"#'T2-B(PP2)'!$B$180"]
["pp2_bl4_4_4_rate_in",{"$f":"'T2-B(PP2)'!$E$180","v":0},"#'T2-B(PP2)'!$E$180"]
["pp2_bl4_4_4_rate_out",{"$f":"'T2-B(PP2)'!$H$180","v":0},"#'T2-B(PP2)'!$H$180"]
["pp2_bl4_4_4_total",{"$f":"'T2-B(PP2)'!$J$180","v":0},"#'T2-B(PP2)'!$J$180"]
["pp2_bl4_4_4_total_in",{"$f":"'T2-B(PP2)'!$F$180","v":0},"#'T2-B(PP2)'!$F$180"]
["pp2_bl4_4_4_total_out",{"$f":"'T2-B(PP2)'!$I$180","v":0},"#'T2-B(PP2)'!$I$180"]
["pp2_bl4_4_4_unit",{"$f":"'T2-B(PP2)'!$C$180","v":0},"#'T2-B(PP2)'!$C$180"]
["pp2_bl4_4_4_unit_in",{"$f":"'T2-B(PP2)'!$D$180","v":0},"#'T2-B(PP2)'!$D$180"]
["pp2_bl4_4_4_units_out",{"$f":"'T2-B(PP2)'!$G$180","v":0},"#'T2-B(PP2)'!$G$180"]
["pp2_bl4_4_5_name",{"$f":"'T2-B(PP2)'!$B$181","v":0},"#'T2-B(PP2)'!$B$181"]
["pp2_bl4_4_5_rate_in",{"$f":"'T2-B(PP2)'!$E$181","v":0},"#'T2-B(PP2)'!$E$181"]
["pp2_bl4_4_5_rate_out",{"$f":"'T2-B(PP2)'!$H$181","v":0},"#'T2-B(PP2)'!$H$181"]
["pp2_bl4_4_5_total",{"$f":"'T2-B(PP2)'!$J$181","v":0},"#'T2-B(PP2)'!$J$181"]
["pp2_bl4_4_5_total_in",{"$f":"'T2-B(PP2)'!$F$181","v":0},"#'T2-B(PP2)'!$F$181"]
["pp2_bl4_4_5_total_out",{"$f":"'T2-B(PP2)'!$I$181","v":0},"#'T2-B(PP2)'!$I$181"]
["pp2_bl4_4_5_unit",{"$f":"'T2-B(PP2)'!$C$181","v":0},"#'T2-B(PP2)'!$C$181"]
["pp2_bl4_4_5_unit_in",{"$f":"'T2-B(PP2)'!$D$181","v":0},"#'T2-B(PP2)'!$D$181"]
["pp2_bl4_4_5_units_out",{"$f":"'T2-B(PP2)'!$G$181","v":0},"#'T2-B(PP2)'!$G$181"]
["pp2_bl4_4_6_name",{"$f":"'T2-B(PP2)'!$B$182","v":0},"#'T2-B(PP2)'!$B$182"]
["pp2_bl4_4_6_rate_in",{"$f":"'T2-B(PP2)'!$E$182","v":0},"#'T2-B(PP2)'!$E$182"]
["pp2_bl4_4_6_rate_out",{"$f":"'T2-B(PP2)'!$H$182","v":0},"#'T2-B(PP2)'!$H$182"]
["pp2_bl4_4_6_total",{"$f":"'T2-B(PP2)'!$J$182","v":0},"#'T2-B(PP2)'!$J$182"]
["pp2_bl4_4_6_total_in",{"$f":"'T2-B(PP2)'!$F$182","v":0},"#'T2-B(PP2)'!$F$182"]
["pp2_bl4_4_6_total_out",{"$f":"'T2-B(PP2)'!$I$182","v":0},"#'T2-B(PP2)'!$I$182"]
["pp2_bl4_4_6_unit",{"$f":"'T2-B(PP2)'!$C$182","v":0},"#'T2-B(PP2)'!$C$182"]
["pp2_bl4_4_6_unit_in",{"$f":"'T2-B(PP2)'!$D$182","v":0},"#'T2-B(PP2)'!$D$182"]
["pp2_bl4_4_6_units_out",{"$f":"'T2-B(PP2)'!$G$182","v":0},"#'T2-B(PP2)'!$G$182"]
["pp2_bl4_4_7_name",{"$f":"'T2-B(PP2)'!$B$183","v":0},"#'T2-B(PP2)'!$B$183"]
["pp2_bl4_4_7_rate_in",{"$f":"'T2-B(PP2)'!$E$183","v":0},"#'T2-B(PP2)'!$E$183"]
["pp2_bl4_4_7_rate_out",{"$f":"'T2-B(PP2)'!$H$183","v":0},"#'T2-B(PP2)'!$H$183"]
["pp2_bl4_4_7_total",{"$f":"'T2-B(PP2)'!$J$183","v":0},"#'T2-B(PP2)'!$J$183"]
["pp2_bl4_4_7_total_in",{"$f":"'T2-B(PP2)'!$F$183","v":0},"#'T2-B(PP2)'!$F$183"]
["pp2_bl4_4_7_total_out",{"$f":"'T2-B(PP2)'!$I$183","v":0},"#'T2-B(PP2)'!$I$183"]
["pp2_bl4_4_7_unit",{"$f":"'T2-B(PP2)'!$C$183","v":0},"#'T2-B(PP2)'!$C$183"]
["pp2_bl4_4_7_unit_in",{"$f":"'T2-B(PP2)'!$D$183","v":0},"#'T2-B(PP2)'!$D$183"]
["pp2_bl4_4_7_units_out",{"$f":"'T2-B(PP2)'!$G$183","v":0},"#'T2-B(PP2)'!$G$183"]
["pp2_bl4_4_8_name",{"$f":"'T2-B(PP2)'!$B$184","v":0},"#'T2-B(PP2)'!$B$184"]
["pp2_bl4_4_8_rate_in",{"$f":"'T2-B(PP2)'!$E$184","v":0},"#'T2-B(PP2)'!$E$184"]
["pp2_bl4_4_8_rate_out",{"$f":"'T2-B(PP2)'!$H$184","v":0},"#'T2-B(PP2)'!$H$184"]
["pp2_bl4_4_8_total",{"$f":"'T2-B(PP2)'!$J$184","v":0},"#'T2-B(PP2)'!$J$184"]
["pp2_bl4_4_8_total_in",{"$f":"'T2-B(PP2)'!$F$184","v":0},"#'T2-B(PP2)'!$F$184"]
["pp2_bl4_4_8_total_out",{"$f":"'T2-B(PP2)'!$I$184","v":0},"#'T2-B(PP2)'!$I$184"]
["pp2_bl4_4_8_unit",{"$f":"'T2-B(PP2)'!$C$184","v":0},"#'T2-B(PP2)'!$C$184"]
["pp2_bl4_4_8_unit_in",{"$f":"'T2-B(PP2)'!$D$184","v":0},"#'T2-B(PP2)'!$D$184"]
["pp2_bl4_4_8_units_out",{"$f":"'T2-B(PP2)'!$G$184","v":0},"#'T2-B(PP2)'!$G$184"]
["pp2_bl4_4_9_name",{"$f":"'T2-B(PP2)'!$B$185","v":0},"#'T2-B(PP2)'!$B$185"]
["pp2_bl4_4_9_rate_in",{"$f":"'T2-B(PP2)'!$E$185","v":0},"#'T2-B(PP2)'!$E$185"]
["pp2_bl4_4_9_rate_out",{"$f":"'T2-B(PP2)'!$H$185","v":0},"#'T2-B(PP2)'!$H$185"]
["pp2_bl4_4_9_total",{"$f":"'T2-B(PP2)'!$J$185","v":0},"#'T2-B(PP2)'!$J$185"]
["pp2_bl4_4_9_total_in",{"$f":"'T2-B(PP2)'!$F$185","v":0},"#'T2-B(PP2)'!$F$185"]
["pp2_bl4_4_9_total_out",{"$f":"'T2-B(PP2)'!$I$185","v":0},"#'T2-B(PP2)'!$I$185"]
["pp2_bl4_4_9_unit",{"$f":"'T2-B(PP2)'!$C$185","v":0},"#'T2-B(PP2)'!$C$185"]
["pp2_bl4_4_9_unit_in",{"$f":"'T2-B(PP2)'!$D$185","v":0},"#'T2-B(PP2)'!$D$185"]
["pp2_bl4_4_9_units_out",{"$f":"'T2-B(PP2)'!$G$185","v":0},"#'T2-B(PP2)'!$G$185"]
["pp2_bl4_4_total",{"$f":"'T2-B(PP2)'!$J$176","v":0},"#'T2-B(PP2)'!$J$176"]
["pp2_bl4_4_total_in",{"$f":"'T2-B(PP2)'!$F$176","v":0},"#'T2-B(PP2)'!$F$176"]
["pp2_bl4_4_total_out",{"$f":"'T2-B(PP2)'!$I$176","v":0},"#'T2-B(PP2)'!$I$176"]
["pp2_bl4_5_1_name",{"$f":"'T2-B(PP2)'!$B$198","v":0},"#'T2-B(PP2)'!$B$198"]
["pp2_bl4_5_1_rate_in",{"$f":"'T2-B(PP2)'!$E$198","v":0},"#'T2-B(PP2)'!$E$198"]
["pp2_bl4_5_1_rate_out",{"$f":"'T2-B(PP2)'!$H$198","v":0},"#'T2-B(PP2)'!$H$198"]
["pp2_bl4_5_1_total",{"$f":"'T2-B(PP2)'!$J$198","v":0},"#'T2-B(PP2)'!$J$198"]
["pp2_bl4_5_1_total_in",{"$f":"'T2-B(PP2)'!$F$198","v":0},"#'T2-B(PP2)'!$F$198"]
["pp2_bl4_5_1_total_out",{"$f":"'T2-B(PP2)'!$I$198","v":0},"#'T2-B(PP2)'!$I$198"]
["pp2_bl4_5_1_unit",{"$f":"'T2-B(PP2)'!$C$198","v":0},"#'T2-B(PP2)'!$C$198"]
["pp2_bl4_5_1_unit_in",{"$f":"'T2-B(PP2)'!$D$198","v":0},"#'T2-B(PP2)'!$D$198"]
["pp2_bl4_5_1_units_out",{"$f":"'T2-B(PP2)'!$G$198","v":0},"#'T2-B(PP2)'!$G$198"]
["pp2_bl4_5_10_name",{"$f":"'T2-B(PP2)'!$B$207","v":0},"#'T2-B(PP2)'!$B$207"]
["pp2_bl4_5_10_rate_in",{"$f":"'T2-B(PP2)'!$E$207","v":0},"#'T2-B(PP2)'!$E$207"]
["pp2_bl4_5_10_rate_out",{"$f":"'T2-B(PP2)'!$H$207","v":0},"#'T2-B(PP2)'!$H$207"]
["pp2_bl4_5_10_total",{"$f":"'T2-B(PP2)'!$J$207","v":0},"#'T2-B(PP2)'!$J$207"]
["pp2_bl4_5_10_total_in",{"$f":"'T2-B(PP2)'!$F$207","v":0},"#'T2-B(PP2)'!$F$207"]
["pp2_bl4_5_10_total_out",{"$f":"'T2-B(PP2)'!$I$207","v":0},"#'T2-B(PP2)'!$I$207"]
["pp2_bl4_5_10_unit",{"$f":"'T2-B(PP2)'!$C$207","v":0},"#'T2-B(PP2)'!$C$207"]
["pp2_bl4_5_10_unit_in",{"$f":"'T2-B(PP2)'!$D$207","v":0},"#'T2-B(PP2)'!$D$207"]
["pp2_bl4_5_10_units_out",{"$f":"'T2-B(PP2)'!$G$207","v":0},"#'T2-B(PP2)'!$G$207"]
["pp2_bl4_5_2_name",{"$f":"'T2-B(PP2)'!$B$199","v":0},"#'T2-B(PP2)'!$B$199"]
["pp2_bl4_5_2_rate_in",{"$f":"'T2-B(PP2)'!$E$199","v":0},"#'T2-B(PP2)'!$E$199"]
["pp2_bl4_5_2_rate_out",{"$f":"'T2-B(PP2)'!$H$199","v":0},"#'T2-B(PP2)'!$H$199"]
["pp2_bl4_5_2_total",{"$f":"'T2-B(PP2)'!$J$199","v":0},"#'T2-B(PP2)'!$J$199"]
["pp2_bl4_5_2_total_in",{"$f":"'T2-B(PP2)'!$F$199","v":0},"#'T2-B(PP2)'!$F$199"]
["pp2_bl4_5_2_total_out",{"$f":"'T2-B(PP2)'!$I$199","v":0},"#'T2-B(PP2)'!$I$199"]
["pp2_bl4_5_2_unit",{"$f":"'T2-B(PP2)'!$C$199","v":0},"#'T2-B(PP2)'!$C$199"]
["pp2_bl4_5_2_unit_in",{"$f":"'T2-B(PP2)'!$D$199","v":0},"#'T2-B(PP2)'!$D$199"]
["pp2_bl4_5_2_units_out",{"$f":"'T2-B(PP2)'!$G$199","v":0},"#'T2-B(PP2)'!$G$199"]
["pp2_bl4_5_3_name",{"$f":"'T2-B(PP2)'!$B$200","v":0},"#'T2-B(PP2)'!$B$200"]
["pp2_bl4_5_3_rate_in",{"$f":"'T2-B(PP2)'!$E$200","v":0},"#'T2-B(PP2)'!$E$200"]
["pp2_bl4_5_3_rate_out",{"$f":"'T2-B(PP2)'!$H$200","v":0},"#'T2-B(PP2)'!$H$200"]
["pp2_bl4_5_3_total",{"$f":"'T2-B(PP2)'!$J$200","v":0},"#'T2-B(PP2)'!$J$200"]
["pp2_bl4_5_3_total_in",{"$f":"'T2-B(PP2)'!$F$200","v":0},"#'T2-B(PP2)'!$F$200"]
["pp2_bl4_5_3_total_out",{"$f":"'T2-B(PP2)'!$I$200","v":0},"#'T2-B(PP2)'!$I$200"]
["pp2_bl4_5_3_unit",{"$f":"'T2-B(PP2)'!$C$200","v":0},"#'T2-B(PP2)'!$C$200"]
["pp2_bl4_5_3_unit_in",{"$f":"'T2-B(PP2)'!$D$200","v":0},"#'T2-B(PP2)'!$D$200"]
["pp2_bl4_5_3_units_out",{"$f":"'T2-B(PP2)'!$G$200","v":0},"#'T2-B(PP2)'!$G$200"]
["pp2_bl4_5_4_name",{"$f":"'T2-B(PP2)'!$B$201","v":0},"#'T2-B(PP2)'!$B$201"]
["pp2_bl4_5_4_rate_in",{"$f":"'T2-B(PP2)'!$E$201","v":0},"#'T2-B(PP2)'!$E$201"]
["pp2_bl4_5_4_rate_out",{"$f":"'T2-B(PP2)'!$H$201","v":0},"#'T2-B(PP2)'!$H$201"]
["pp2_bl4_5_4_total",{"$f":"'T2-B(PP2)'!$J$201","v":0},"#'T2-B(PP2)'!$J$201"]
["pp2_bl4_5_4_total_in",{"$f":"'T2-B(PP2)'!$F$201","v":0},"#'T2-B(PP2)'!$F$201"]
["pp2_bl4_5_4_total_out",{"$f":"'T2-B(PP2)'!$I$201","v":0},"#'T2-B(PP2)'!$I$201"]
["pp2_bl4_5_4_unit",{"$f":"'T2-B(PP2)'!$C$201","v":0},"#'T2-B(PP2)'!$C$201"]
["pp2_bl4_5_4_unit_in",{"$f":"'T2-B(PP2)'!$D$201","v":0},"#'T2-B(PP2)'!$D$201"]
["pp2_bl4_5_4_units_out",{"$f":"'T2-B(PP2)'!$G$201","v":0},"#'T2-B(PP2)'!$G$201"]
["pp2_bl4_5_5_name",{"$f":"'T2-B(PP2)'!$B$202","v":0},"#'T2-B(PP2)'!$B$202"]
["pp2_bl4_5_5_rate_in",{"$f":"'T2-B(PP2)'!$E$202","v":0},"#'T2-B(PP2)'!$E$202"]
["pp2_bl4_5_5_rate_out",{"$f":"'T2-B(PP2)'!$H$202","v":0},"#'T2-B(PP2)'!$H$202"]
["pp2_bl4_5_5_total",{"$f":"'T2-B(PP2)'!$J$202","v":0},"#'T2-B(PP2)'!$J$202"]
["pp2_bl4_5_5_total_in",{"$f":"'T2-B(PP2)'!$F$202","v":0},"#'T2-B(PP2)'!$F$202"]
["pp2_bl4_5_5_total_out",{"$f":"'T2-B(PP2)'!$I$202","v":0},"#'T2-B(PP2)'!$I$202"]
["pp2_bl4_5_5_unit",{"$f":"'T2-B(PP2)'!$C$202","v":0},"#'T2-B(PP2)'!$C$202"]
["pp2_bl4_5_5_unit_in",{"$f":"'T2-B(PP2)'!$D$202","v":0},"#'T2-B(PP2)'!$D$202"]
["pp2_bl4_5_5_units_out",{"$f":"'T2-B(PP2)'!$G$202","v":0},"#'T2-B(PP2)'!$G$202"]
["pp2_bl4_5_6_name",{"$f":"'T2-B(PP2)'!$B$203","v":0},"#'T2-B(PP2)'!$B$203"]
["pp2_bl4_5_6_rate_in",{"$f":"'T2-B(PP2)'!$E$203","v":0},"#'T2-B(PP2)'!$E$203"]
["pp2_bl4_5_6_rate_out",{"$f":"'T2-B(PP2)'!$H$203","v":0},"#'T2-B(PP2)'!$H$203"]
["pp2_bl4_5_6_total",{"$f":"'T2-B(PP2)'!$J$203","v":0},"#'T2-B(PP2)'!$J$203"]
["pp2_bl4_5_6_total_in",{"$f":"'T2-B(PP2)'!$F$203","v":0},"#'T2-B(PP2)'!$F$203"]
["pp2_bl4_5_6_total_out",{"$f":"'T2-B(PP2)'!$I$203","v":0},"#'T2-B(PP2)'!$I$203"]
["pp2_bl4_5_6_unit",{"$f":"'T2-B(PP2)'!$C$203","v":0},"#'T2-B(PP2)'!$C$203"]
["pp2_bl4_5_6_unit_in",{"$f":"'T2-B(PP2)'!$D$203","v":0},"#'T2-B(PP2)'!$D$203"]
["pp2_bl4_5_6_units_out",{"$f":"'T2-B(PP2)'!$G$203","v":0},"#'T2-B(PP2)'!$G$203"]
["pp2_bl4_5_7_name",{"$f":"'T2-B(PP2)'!$B$204","v":0},"#'T2-B(PP2)'!$B$204"]
["pp2_bl4_5_7_rate_in",{"$f":"'T2-B(PP2)'!$E$204","v":0},"#'T2-B(PP2)'!$E$204"]
["pp2_bl4_5_7_rate_out",{"$f":"'T2-B(PP2)'!$H$204","v":0},"#'T2-B(PP2)'!$H$204"]
["pp2_bl4_5_7_total",{"$f":"'T2-B(PP2)'!$J$204","v":0},"#'T2-B(PP2)'!$J$204"]
["pp2_bl4_5_7_total_in",{"$f":"'T2-B(PP2)'!$F$204","v":0},"#'T2-B(PP2)'!$F$204"]
["pp2_bl4_5_7_total_out",{"$f":"'T2-B(PP2)'!$I$204","v":0},"#'T2-B(PP2)'!$I$204"]
["pp2_bl4_5_7_unit",{"$f":"'T2-B(PP2)'!$C$204","v":0},"#'T2-B(PP2)'!$C$204"]
["pp2_bl4_5_7_unit_in",{"$f":"'T2-B(PP2)'!$D$204","v":0},"#'T2-B(PP2)'!$D$204"]
["pp2_bl4_5_7_units_out",{"$f":"'T2-B(PP2)'!$G$204","v":0},"#'T2-B(PP2)'!$G$204"]
["pp2_bl4_5_8_name",{"$f":"'T2-B(PP2)'!$B$205","v":0},"#'T2-B(PP2)'!$B$205"]
["pp2_bl4_5_8_rate_in",{"$f":"'T2-B(PP2)'!$E$205","v":0},"#'T2-B(PP2)'!$E$205"]
["pp2_bl4_5_8_rate_out",{"$f":"'T2-B(PP2)'!$H$205","v":0},"#'T2-B(PP2)'!$H$205"]
["pp2_bl4_5_8_total",{"$f":"'T2-B(PP2)'!$J$205","v":0},"#'T2-B(PP2)'!$J$205"]
["pp2_bl4_5_8_total_in",{"$f":"'T2-B(PP2)'!$F$205","v":0},"#'T2-B(PP2)'!$F$205"]
["pp2_bl4_5_8_total_out",{"$f":"'T2-B(PP2)'!$I$205","v":0},"#'T2-B(PP2)'!$I$205"]
["pp2_bl4_5_8_unit",{"$f":"'T2-B(PP2)'!$C$205","v":0},"#'T2-B(PP2)'!$C$205"]
["pp2_bl4_5_8_unit_in",{"$f":"'T2-B(PP2)'!$D$205","v":0},"#'T2-B(PP2)'!$D$205"]
["pp2_bl4_5_8_units_out",{"$f":"'T2-B(PP2)'!$G$205","v":0},"#'T2-B(PP2)'!$G$205"]
["pp2_bl4_5_9_name",{"$f":"'T2-B(PP2)'!$B$206","v":0},"#'T2-B(PP2)'!$B$206"]
["pp2_bl4_5_9_rate_in",{"$f":"'T2-B(PP2)'!$E$206","v":0},"#'T2-B(PP2)'!$E$206"]
["pp2_bl4_5_9_rate_out",{"$f":"'T2-B(PP2)'!$H$206","v":0},"#'T2-B(PP2)'!$H$206"]
["pp2_bl4_5_9_total",{"$f":"'T2-B(PP2)'!$J$206","v":0},"#'T2-B(PP2)'!$J$206"]
["pp2_bl4_5_9_total_in",{"$f":"'T2-B(PP2)'!$F$206","v":0},"#'T2-B(PP2)'!$F$206"]
["pp2_bl4_5_9_total_out",{"$f":"'T2-B(PP2)'!$I$206","v":0},"#'T2-B(PP2)'!$I$206"]
["pp2_bl4_5_9_unit",{"$f":"'T2-B(PP2)'!$C$206","v":0},"#'T2-B(PP2)'!$C$206"]
["pp2_bl4_5_9_unit_in",{"$f":"'T2-B(PP2)'!$D$206","v":0},"#'T2-B(PP2)'!$D$206"]
["pp2_bl4_5_9_units_out",{"$f":"'T2-B(PP2)'!$G$206","v":0},"#'T2-B(PP2)'!$G$206"]
["pp2_bl4_5_total",{"$f":"'T2-B(PP2)'!$J$197","v":0},"#'T2-B(PP2)'!$J$197"]
["pp2_bl4_5_total_in",{"$f":"'T2-B(PP2)'!$F$197","v":0},"#'T2-B(PP2)'!$F$197"]
["pp2_bl4_5_total_out",{"$f":"'T2-B(PP2)'!$I$197","v":0},"#'T2-B(PP2)'!$I$197"]
["pp2_bl4_6_1_name",{"$f":"'T2-B(PP2)'!$B$219","v":0},"#'T2-B(PP2)'!$B$219"]
["pp2_bl4_6_1_rate_in",{"$f":"'T2-B(PP2)'!$E$219","v":0},"#'T2-B(PP2)'!$E$219"]
["pp2_bl4_6_1_rate_out",{"$f":"'T2-B(PP2)'!$H$219","v":0},"#'T2-B(PP2)'!$H$219"]
["pp2_bl4_6_1_total",{"$f":"'T2-B(PP2)'!$J$219","v":0},"#'T2-B(PP2)'!$J$219"]
["pp2_bl4_6_1_total_in",{"$f":"'T2-B(PP2)'!$F$219","v":0},"#'T2-B(PP2)'!$F$219"]
["pp2_bl4_6_1_total_out",{"$f":"'T2-B(PP2)'!$I$219","v":0},"#'T2-B(PP2)'!$I$219"]
["pp2_bl4_6_1_unit",{"$f":"'T2-B(PP2)'!$C$219","v":0},"#'T2-B(PP2)'!$C$219"]
["pp2_bl4_6_1_unit_in",{"$f":"'T2-B(PP2)'!$D$219","v":0},"#'T2-B(PP2)'!$D$219"]
["pp2_bl4_6_1_units_out",{"$f":"'T2-B(PP2)'!$G$219","v":0},"#'T2-B(PP2)'!$G$219"]
["pp2_bl4_6_10_name",{"$f":"'T2-B(PP2)'!$B$228","v":0},"#'T2-B(PP2)'!$B$228"]
["pp2_bl4_6_10_rate_in",{"$f":"'T2-B(PP2)'!$E$228","v":0},"#'T2-B(PP2)'!$E$228"]
["pp2_bl4_6_10_rate_out",{"$f":"'T2-B(PP2)'!$H$228","v":0},"#'T2-B(PP2)'!$H$228"]
["pp2_bl4_6_10_total",{"$f":"'T2-B(PP2)'!$J$228","v":0},"#'T2-B(PP2)'!$J$228"]
["pp2_bl4_6_10_total_in",{"$f":"'T2-B(PP2)'!$F$228","v":0},"#'T2-B(PP2)'!$F$228"]
["pp2_bl4_6_10_total_out",{"$f":"'T2-B(PP2)'!$I$228","v":0},"#'T2-B(PP2)'!$I$228"]
["pp2_bl4_6_10_unit",{"$f":"'T2-B(PP2)'!$C$228","v":0},"#'T2-B(PP2)'!$C$228"]
["pp2_bl4_6_10_unit_in",{"$f":"'T2-B(PP2)'!$D$228","v":0},"#'T2-B(PP2)'!$D$228"]
["pp2_bl4_6_10_units_out",{"$f":"'T2-B(PP2)'!$G$228","v":0},"#'T2-B(PP2)'!$G$228"]
["pp2_bl4_6_2_name",{"$f":"'T2-B(PP2)'!$B$220","v":0},"#'T2-B(PP2)'!$B$220"]
["pp2_bl4_6_2_rate_in",{"$f":"'T2-B(PP2)'!$E$220","v":0},"#'T2-B(PP2)'!$E$220"]
["pp2_bl4_6_2_rate_out",{"$f":"'T2-B(PP2)'!$H$220","v":0},"#'T2-B(PP2)'!$H$220"]
["pp2_bl4_6_2_total",{"$f":"'T2-B(PP2)'!$J$220","v":0},"#'T2-B(PP2)'!$J$220"]
["pp2_bl4_6_2_total_in",{"$f":"'T2-B(PP2)'!$F$220","v":0},"#'T2-B(PP2)'!$F$220"]
["pp2_bl4_6_2_total_out",{"$f":"'T2-B(PP2)'!$I$220","v":0},"#'T2-B(PP2)'!$I$220"]
["pp2_bl4_6_2_unit",{"$f":"'T2-B(PP2)'!$C$220","v":0},"#'T2-B(PP2)'!$C$220"]
["pp2_bl4_6_2_unit_in",{"$f":"'T2-B(PP2)'!$D$220","v":0},"#'T2-B(PP2)'!$D$220"]
["pp2_bl4_6_2_units_out",{"$f":"'T2-B(PP2)'!$G$220","v":0},"#'T2-B(PP2)'!$G$220"]
["pp2_bl4_6_3_name",{"$f":"'T2-B(PP2)'!$B$221","v":0},"#'T2-B(PP2)'!$B$221"]
["pp2_bl4_6_3_rate_in",{"$f":"'T2-B(PP2)'!$E$221","v":0},"#'T2-B(PP2)'!$E$221"]
["pp2_bl4_6_3_rate_out",{"$f":"'T2-B(PP2)'!$H$221","v":0},"#'T2-B(PP2)'!$H$221"]
["pp2_bl4_6_3_total",{"$f":"'T2-B(PP2)'!$J$221","v":0},"#'T2-B(PP2)'!$J$221"]
["pp2_bl4_6_3_total_in",{"$f":"'T2-B(PP2)'!$F$221","v":0},"#'T2-B(PP2)'!$F$221"]
["pp2_bl4_6_3_total_out",{"$f":"'T2-B(PP2)'!$I$221","v":0},"#'T2-B(PP2)'!$I$221"]
["pp2_bl4_6_3_unit",{"$f":"'T2-B(PP2)'!$C$221","v":0},"#'T2-B(PP2)'!$C$221"]
["pp2_bl4_6_3_unit_in",{"$f":"'T2-B(PP2)'!$D$221","v":0},"#'T2-B(PP2)'!$D$221"]
["pp2_bl4_6_3_units_out",{"$f":"'T2-B(PP2)'!$G$221","v":0},"#'T2-B(PP2)'!$G$221"]
["pp2_bl4_6_4_name",{"$f":"'T2-B(PP2)'!$B$222","v":0},"#'T2-B(PP2)'!$B$222"]
["pp2_bl4_6_4_rate_in",{"$f":"'T2-B(PP2)'!$E$222","v":0},"#'T2-B(PP2)'!$E$222"]
["pp2_bl4_6_4_rate_out",{"$f":"'T2-B(PP2)'!$H$222","v":0},"#'T2-B(PP2)'!$H$222"]
["pp2_bl4_6_4_total",{"$f":"'T2-B(PP2)'!$J$222","v":0},"#'T2-B(PP2)'!$J$222"]
["pp2_bl4_6_4_total_in",{"$f":"'T2-B(PP2)'!$F$222","v":0},"#'T2-B(PP2)'!$F$222"]
["pp2_bl4_6_4_total_out",{"$f":"'T2-B(PP2)'!$I$222","v":0},"#'T2-B(PP2)'!$I$222"]
["pp2_bl4_6_4_unit",{"$f":"'T2-B(PP2)'!$C$222","v":0},"#'T2-B(PP2)'!$C$222"]
["pp2_bl4_6_4_unit_in",{"$f":"'T2-B(PP2)'!$D$222","v":0},"#'T2-B(PP2)'!$D$222"]
["pp2_bl4_6_4_units_out",{"$f":"'T2-B(PP2)'!$G$222","v":0},"#'T2-B(PP2)'!$G$222"]
["pp2_bl4_6_5_name",{"$f":"'T2-B(PP2)'!$B$223","v":0},"#'T2-B(PP2)'!$B$223"]
["pp2_bl4_6_5_rate_in",{"$f":"'T2-B(PP2)'!$E$223","v":0},"#'T2-B(PP2)'!$E$223"]
["pp2_bl4_6_5_rate_out",{"$f":"'T2-B(PP2)'!$H$223","v":0},"#'T2-B(PP2)'!$H$223"]
["pp2_bl4_6_5_total",{"$f":"'T2-B(PP2)'!$J$223","v":0},"#'T2-B(PP2)'!$J$223"]
["pp2_bl4_6_5_total_in",{"$f":"'T2-B(PP2)'!$F$223","v":0},"#'T2-B(PP2)'!$F$223"]
["pp2_bl4_6_5_total_out",{"$f":"'T2-B(PP2)'!$I$223","v":0},"#'T2-B(PP2)'!$I$223"]
["pp2_bl4_6_5_unit",{"$f":"'T2-B(PP2)'!$C$223","v":0},"#'T2-B(PP2)'!$C$223"]
["pp2_bl4_6_5_unit_in",{"$f":"'T2-B(PP2)'!$D$223","v":0},"#'T2-B(PP2)'!$D$223"]
["pp2_bl4_6_5_units_out",{"$f":"'T2-B(PP2)'!$G$223","v":0},"#'T2-B(PP2)'!$G$223"]
["pp2_bl4_6_6_name",{"$f":"'T2-B(PP2)'!$B$224","v":0},"#'T2-B(PP2)'!$B$224"]
["pp2_bl4_6_6_rate_in",{"$f":"'T2-B(PP2)'!$E$224","v":0},"#'T2-B(PP2)'!$E$224"]
["pp2_bl4_6_6_rate_out",{"$f":"'T2-B(PP2)'!$H$224","v":0},"#'T2-B(PP2)'!$H$224"]
["pp2_bl4_6_6_total",{"$f":"'T2-B(PP2)'!$J$224","v":0},"#'T2-B(PP2)'!$J$224"]
["pp2_bl4_6_6_total_in",{"$f":"'T2-B(PP2)'!$F$224","v":0},"#'T2-B(PP2)'!$F$224"]
["pp2_bl4_6_6_total_out",{"$f":"'T2-B(PP2)'!$I$224","v":0},"#'T2-B(PP2)'!$I$224"]
["pp2_bl4_6_6_unit",{"$f":"'T2-B(PP2)'!$C$224","v":0},"#'T2-B(PP2)'!$C$224"]
["pp2_bl4_6_6_unit_in",{"$f":"'T2-B(PP2)'!$D$224","v":0},"#'T2-B(PP2)'!$D$224"]
["pp2_bl4_6_6_units_out",{"$f":"'T2-B(PP2)'!$G$224","v":0},"#'T2-B(PP2)'!$G$224"]
["pp2_bl4_6_7_name",{"$f":"'T2-B(PP2)'!$B$225","v":0},"#'T2-B(PP2)'!$B$225"]
["pp2_bl4_6_7_rate_in",{"$f":"'T2-B(PP2)'!$E$225","v":0},"#'T2-B(PP2)'!$E$225"]
["pp2_bl4_6_7_rate_out",{"$f":"'T2-B(PP2)'!$H$225","v":0},"#'T2-B(PP2)'!$H$225"]
["pp2_bl4_6_7_total",{"$f":"'T2-B(PP2)'!$J$225","v":0},"#'T2-B(PP2)'!$J$225"]
["pp2_bl4_6_7_total_in",{"$f":"'T2-B(PP2)'!$F$225","v":0},"#'T2-B(PP2)'!$F$225"]
["pp2_bl4_6_7_total_out",{"$f":"'T2-B(PP2)'!$I$225","v":0},"#'T2-B(PP2)'!$I$225"]
["pp2_bl4_6_7_unit",{"$f":"'T2-B(PP2)'!$C$225","v":0},"#'T2-B(PP2)'!$C$225"]
["pp2_bl4_6_7_unit_in",{"$f":"'T2-B(PP2)'!$D$225","v":0},"#'T2-B(PP2)'!$D$225"]
["pp2_bl4_6_7_units_out",{"$f":"'T2-B(PP2)'!$G$225","v":0},"#'T2-B(PP2)'!$G$225"]
["pp2_bl4_6_8_name",{"$f":"'T2-B(PP2)'!$B$226","v":0},"#'T2-B(PP2)'!$B$226"]
["pp2_bl4_6_8_rate_in",{"$f":"'T2-B(PP2)'!$E$226","v":0},"#'T2-B(PP2)'!$E$226"]
["pp2_bl4_6_8_rate_out",{"$f":"'T2-B(PP2)'!$H$226","v":0},"#'T2-B(PP2)'!$H$226"]
["pp2_bl4_6_8_total",{"$f":"'T2-B(PP2)'!$J$226","v":0},"#'T2-B(PP2)'!$J$226"]
["pp2_bl4_6_8_total_in",{"$f":"'T2-B(PP2)'!$F$226","v":0},"#'T2-B(PP2)'!$F$226"]
["pp2_bl4_6_8_total_out",{"$f":"'T2-B(PP2)'!$I$226","v":0},"#'T2-B(PP2)'!$I$226"]
["pp2_bl4_6_8_unit",{"$f":"'T2-B(PP2)'!$C$226","v":0},"#'T2-B(PP2)'!$C$226"]
["pp2_bl4_6_8_unit_in",{"$f":"'T2-B(PP2)'!$D$226","v":0},"#'T2-B(PP2)'!$D$226"]
["pp2_bl4_6_8_units_out",{"$f":"'T2-B(PP2)'!$G$226","v":0},"#'T2-B(PP2)'!$G$226"]
["pp2_bl4_6_9_name",{"$f":"'T2-B(PP2)'!$B$227","v":0},"#'T2-B(PP2)'!$B$227"]
["pp2_bl4_6_9_rate_in",{"$f":"'T2-B(PP2)'!$E$227","v":0},"#'T2-B(PP2)'!$E$227"]
["pp2_bl4_6_9_rate_out",{"$f":"'T2-B(PP2)'!$H$227","v":0},"#'T2-B(PP2)'!$H$227"]
["pp2_bl4_6_9_total",{"$f":"'T2-B(PP2)'!$J$227","v":0},"#'T2-B(PP2)'!$J$227"]
["pp2_bl4_6_9_total_in",{"$f":"'T2-B(PP2)'!$F$227","v":0},"#'T2-B(PP2)'!$F$227"]
["pp2_bl4_6_9_total_out",{"$f":"'T2-B(PP2)'!$I$227","v":0},"#'T2-B(PP2)'!$I$227"]
["pp2_bl4_6_9_unit",{"$f":"'T2-B(PP2)'!$C$227","v":0},"#'T2-B(PP2)'!$C$227"]
["pp2_bl4_6_9_unit_in",{"$f":"'T2-B(PP2)'!$D$227","v":0},"#'T2-B(PP2)'!$D$227"]
["pp2_bl4_6_9_units_out",{"$f":"'T2-B(PP2)'!$G$227","v":0},"#'T2-B(PP2)'!$G$227"]
["pp2_bl4_6_total",{"$f":"'T2-B(PP2)'!$J$218","v":0},"#'T2-B(PP2)'!$J$218"]
["pp2_bl4_6_total_in",{"$f":"'T2-B(PP2)'!$F$218","v":0},"#'T2-B(PP2)'!$F$218"]
["pp2_bl4_6_total_out",{"$f":"'T2-B(PP2)'!$I$218","v":0},"#'T2-B(PP2)'!$I$218"]
["pp2_bl4_7_1_name",{"$f":"'T2-B(PP2)'!$B$240","v":0},"#'T2-B(PP2)'!$B$240"]
["pp2_bl4_7_1_rate_in",{"$f":"'T2-B(PP2)'!$E$240","v":0},"#'T2-B(PP2)'!$E$240"]
["pp2_bl4_7_1_rate_out",{"$f":"'T2-B(PP2)'!$H$240","v":0},"#'T2-B(PP2)'!$H$240"]
["pp2_bl4_7_1_total",{"$f":"'T2-B(PP2)'!$J$240","v":0},"#'T2-B(PP2)'!$J$240"]
["pp2_bl4_7_1_total_in",{"$f":"'T2-B(PP2)'!$F$240","v":0},"#'T2-B(PP2)'!$F$240"]
["pp2_bl4_7_1_total_out",{"$f":"'T2-B(PP2)'!$I$240","v":0},"#'T2-B(PP2)'!$I$240"]
["pp2_bl4_7_1_unit",{"$f":"'T2-B(PP2)'!$C$240","v":0},"#'T2-B(PP2)'!$C$240"]
["pp2_bl4_7_1_unit_in",{"$f":"'T2-B(PP2)'!$D$240","v":0},"#'T2-B(PP2)'!$D$240"]
["pp2_bl4_7_1_units_out",{"$f":"'T2-B(PP2)'!$G$240","v":0},"#'T2-B(PP2)'!$G$240"]
["pp2_bl4_7_10_name",{"$f":"'T2-B(PP2)'!$B$249","v":0},"#'T2-B(PP2)'!$B$249"]
["pp2_bl4_7_10_rate_in",{"$f":"'T2-B(PP2)'!$E$249","v":0},"#'T2-B(PP2)'!$E$249"]
["pp2_bl4_7_10_rate_out",{"$f":"'T2-B(PP2)'!$H$249","v":0},"#'T2-B(PP2)'!$H$249"]
["pp2_bl4_7_10_total",{"$f":"'T2-B(PP2)'!$J$249","v":0},"#'T2-B(PP2)'!$J$249"]
["pp2_bl4_7_10_total_in",{"$f":"'T2-B(PP2)'!$F$249","v":0},"#'T2-B(PP2)'!$F$249"]
["pp2_bl4_7_10_total_out",{"$f":"'T2-B(PP2)'!$I$249","v":0},"#'T2-B(PP2)'!$I$249"]
["pp2_bl4_7_10_unit",{"$f":"'T2-B(PP2)'!$C$249","v":0},"#'T2-B(PP2)'!$C$249"]
["pp2_bl4_7_10_unit_in",{"$f":"'T2-B(PP2)'!$D$249","v":0},"#'T2-B(PP2)'!$D$249"]
["pp2_bl4_7_10_units_out",{"$f":"'T2-B(PP2)'!$G$249","v":0},"#'T2-B(PP2)'!$G$249"]
["pp2_bl4_7_2_name",{"$f":"'T2-B(PP2)'!$B$241","v":0},"#'T2-B(PP2)'!$B$241"]
["pp2_bl4_7_2_rate_in",{"$f":"'T2-B(PP2)'!$E$241","v":0},"#'T2-B(PP2)'!$E$241"]
["pp2_bl4_7_2_rate_out",{"$f":"'T2-B(PP2)'!$H$241","v":0},"#'T2-B(PP2)'!$H$241"]
["pp2_bl4_7_2_total",{"$f":"'T2-B(PP2)'!$J$241","v":0},"#'T2-B(PP2)'!$J$241"]
["pp2_bl4_7_2_total_in",{"$f":"'T2-B(PP2)'!$F$241","v":0},"#'T2-B(PP2)'!$F$241"]
["pp2_bl4_7_2_total_out",{"$f":"'T2-B(PP2)'!$I$241","v":0},"#'T2-B(PP2)'!$I$241"]
["pp2_bl4_7_2_unit",{"$f":"'T2-B(PP2)'!$C$241","v":0},"#'T2-B(PP2)'!$C$241"]
["pp2_bl4_7_2_unit_in",{"$f":"'T2-B(PP2)'!$D$241","v":0},"#'T2-B(PP2)'!$D$241"]
["pp2_bl4_7_2_units_out",{"$f":"'T2-B(PP2)'!$G$241","v":0},"#'T2-B(PP2)'!$G$241"]
["pp2_bl4_7_3_name",{"$f":"'T2-B(PP2)'!$B$242","v":0},"#'T2-B(PP2)'!$B$242"]
["pp2_bl4_7_3_rate_in",{"$f":"'T2-B(PP2)'!$E$242","v":0},"#'T2-B(PP2)'!$E$242"]
["pp2_bl4_7_3_rate_out",{"$f":"'T2-B(PP2)'!$H$242","v":0},"#'T2-B(PP2)'!$H$242"]
["pp2_bl4_7_3_total",{"$f":"'T2-B(PP2)'!$J$242","v":0},"#'T2-B(PP2)'!$J$242"]
["pp2_bl4_7_3_total_in",{"$f":"'T2-B(PP2)'!$F$242","v":0},"#'T2-B(PP2)'!$F$242"]
["pp2_bl4_7_3_total_out",{"$f":"'T2-B(PP2)'!$I$242","v":0},"#'T2-B(PP2)'!$I$242"]
["pp2_bl4_7_3_unit",{"$f":"'T2-B(PP2)'!$C$242","v":0},"#'T2-B(PP2)'!$C$242"]
["pp2_bl4_7_3_unit_in",{"$f":"'T2-B(PP2)'!$D$242","v":0},"#'T2-B(PP2)'!$D$242"]
["pp2_bl4_7_3_units_out",{"$f":"'T2-B(PP2)'!$G$242","v":0},"#'T2-B(PP2)'!$G$242"]
["pp2_bl4_7_4_name",{"$f":"'T2-B(PP2)'!$B$243","v":0},"#'T2-B(PP2)'!$B$243"]
["pp2_bl4_7_4_rate_in",{"$f":"'T2-B(PP2)'!$E$243","v":0},"#'T2-B(PP2)'!$E$243"]
["pp2_bl4_7_4_rate_out",{"$f":"'T2-B(PP2)'!$H$243","v":0},"#'T2-B(PP2)'!$H$243"]
["pp2_bl4_7_4_total",{"$f":"'T2-B(PP2)'!$J$243","v":0},"#'T2-B(PP2)'!$J$243"]
["pp2_bl4_7_4_total_in",{"$f":"'T2-B(PP2)'!$F$243","v":0},"#'T2-B(PP2)'!$F$243"]
["pp2_bl4_7_4_total_out",{"$f":"'T2-B(PP2)'!$I$243","v":0},"#'T2-B(PP2)'!$I$243"]
["pp2_bl4_7_4_unit",{"$f":"'T2-B(PP2)'!$C$243","v":0},"#'T2-B(PP2)'!$C$243"]
["pp2_bl4_7_4_unit_in",{"$f":"'T2-B(PP2)'!$D$243","v":0},"#'T2-B(PP2)'!$D$243"]
["pp2_bl4_7_4_units_out",{"$f":"'T2-B(PP2)'!$G$243","v":0},"#'T2-B(PP2)'!$G$243"]
["pp2_bl4_7_5_name",{"$f":"'T2-B(PP2)'!$B$244","v":0},"#'T2-B(PP2)'!$B$244"]
["pp2_bl4_7_5_rate_in",{"$f":"'T2-B(PP2)'!$E$244","v":0},"#'T2-B(PP2)'!$E$244"]
["pp2_bl4_7_5_rate_out",{"$f":"'T2-B(PP2)'!$H$244","v":0},"#'T2-B(PP2)'!$H$244"]
["pp2_bl4_7_5_total",{"$f":"'T2-B(PP2)'!$J$244","v":0},"#'T2-B(PP2)'!$J$244"]
["pp2_bl4_7_5_total_in",{"$f":"'T2-B(PP2)'!$F$244","v":0},"#'T2-B(PP2)'!$F$244"]
["pp2_bl4_7_5_total_out",{"$f":"'T2-B(PP2)'!$I$244","v":0},"#'T2-B(PP2)'!$I$244"]
["pp2_bl4_7_5_unit",{"$f":"'T2-B(PP2)'!$C$244","v":0},"#'T2-B(PP2)'!$C$244"]
["pp2_bl4_7_5_unit_in",{"$f":"'T2-B(PP2)'!$D$244","v":0},"#'T2-B(PP2)'!$D$244"]
["pp2_bl4_7_5_units_out",{"$f":"'T2-B(PP2)'!$G$244","v":0},"#'T2-B(PP2)'!$G$244"]
["pp2_bl4_7_6_name",{"$f":"'T2-B(PP2)'!$B$245","v":0},"#'T2-B(PP2)'!$B$245"]
["pp2_bl4_7_6_rate_in",{"$f":"'T2-B(PP2)'!$E$245","v":0},"#'T2-B(PP2)'!$E$245"]
["pp2_bl4_7_6_rate_out",{"$f":"'T2-B(PP2)'!$H$245","v":0},"#'T2-B(PP2)'!$H$245"]
["pp2_bl4_7_6_total",{"$f":"'T2-B(PP2)'!$J$245","v":0},"#'T2-B(PP2)'!$J$245"]
["pp2_bl4_7_6_total_in",{"$f":"'T2-B(PP2)'!$F$245","v":0},"#'T2-B(PP2)'!$F$245"]
["pp2_bl4_7_6_total_out",{"$f":"'T2-B(PP2)'!$I$245","v":0},"#'T2-B(PP2)'!$I$245"]
["pp2_bl4_7_6_unit",{"$f":"'T2-B(PP2)'!$C$245","v":0},"#'T2-B(PP2)'!$C$245"]
["pp2_bl4_7_6_unit_in",{"$f":"'T2-B(PP2)'!$D$245","v":0},"#'T2-B(PP2)'!$D$245"]
["pp2_bl4_7_6_units_out",{"$f":"'T2-B(PP2)'!$G$245","v":0},"#'T2-B(PP2)'!$G$245"]
["pp2_bl4_7_7_name",{"$f":"'T2-B(PP2)'!$B$246","v":0},"#'T2-B(PP2)'!$B$246"]
["pp2_bl4_7_7_rate_in",{"$f":"'T2-B(PP2)'!$E$246","v":0},"#'T2-B(PP2)'!$E$246"]
["pp2_bl4_7_7_rate_out",{"$f":"'T2-B(PP2)'!$H$246","v":0},"#'T2-B(PP2)'!$H$246"]
["pp2_bl4_7_7_total",{"$f":"'T2-B(PP2)'!$J$246","v":0},"#'T2-B(PP2)'!$J$246"]
["pp2_bl4_7_7_total_in",{"$f":"'T2-B(PP2)'!$F$246","v":0},"#'T2-B(PP2)'!$F$246"]
["pp2_bl4_7_7_total_out",{"$f":"'T2-B(PP2)'!$I$246","v":0},"#'T2-B(PP2)'!$I$246"]
["pp2_bl4_7_7_unit",{"$f":"'T2-B(PP2)'!$C$246","v":0},"#'T2-B(PP2)'!$C$246"]
["pp2_bl4_7_7_unit_in",{"$f":"'T2-B(PP2)'!$D$246","v":0},"#'T2-B(PP2)'!$D$246"]
["pp2_bl4_7_7_units_out",{"$f":"'T2-B(PP2)'!$G$246","v":0},"#'T2-B(PP2)'!$G$246"]
["pp2_bl4_7_8_name",{"$f":"'T2-B(PP2)'!$B$247","v":0},"#'T2-B(PP2)'!$B$247"]
["pp2_bl4_7_8_rate_in",{"$f":"'T2-B(PP2)'!$E$247","v":0},"#'T2-B(PP2)'!$E$247"]
["pp2_bl4_7_8_rate_out",{"$f":"'T2-B(PP2)'!$H$247","v":0},"#'T2-B(PP2)'!$H$247"]
["pp2_bl4_7_8_total",{"$f":"'T2-B(PP2)'!$J$247","v":0},"#'T2-B(PP2)'!$J$247"]
["pp2_bl4_7_8_total_in",{"$f":"'T2-B(PP2)'!$F$247","v":0},"#'T2-B(PP2)'!$F$247"]
["pp2_bl4_7_8_total_out",{"$f":"'T2-B(PP2)'!$I$247","v":0},"#'T2-B(PP2)'!$I$247"]
["pp2_bl4_7_8_unit",{"$f":"'T2-B(PP2)'!$C$247","v":0},"#'T2-B(PP2)'!$C$247"]
["pp2_bl4_7_8_unit_in",{"$f":"'T2-B(PP2)'!$D$247","v":0},"#'T2-B(PP2)'!$D$247"]
["pp2_bl4_7_8_units_out",{"$f":"'T2-B(PP2)'!$G$247","v":0},"#'T2-B(PP2)'!$G$247"]
["pp2_bl4_7_9_name",{"$f":"'T2-B(PP2)'!$B$248","v":0},"#'T2-B(PP2)'!$B$248"]
["pp2_bl4_7_9_rate_in",{"$f":"'T2-B(PP2)'!$E$248","v":0},"#'T2-B(PP2)'!$E$248"]
["pp2_bl4_7_9_rate_out",{"$f":"'T2-B(PP2)'!$H$248","v":0},"#'T2-B(PP2)'!$H$248"]
["pp2_bl4_7_9_total",{"$f":"'T2-B(PP2)'!$J$248","v":0},"#'T2-B(PP2)'!$J$248"]
["pp2_bl4_7_9_total_in",{"$f":"'T2-B(PP2)'!$F$248","v":0},"#'T2-B(PP2)'!$F$248"]
["pp2_bl4_7_9_total_out",{"$f":"'T2-B(PP2)'!$I$248","v":0},"#'T2-B(PP2)'!$I$248"]
["pp2_bl4_7_9_unit",{"$f":"'T2-B(PP2)'!$C$248","v":0},"#'T2-B(PP2)'!$C$248"]
["pp2_bl4_7_9_unit_in",{"$f":"'T2-B(PP2)'!$D$248","v":0},"#'T2-B(PP2)'!$D$248"]
["pp2_bl4_7_9_units_out",{"$f":"'T2-B(PP2)'!$G$248","v":0},"#'T2-B(PP2)'!$G$248"]
["pp2_bl4_7_total",{"$f":"'T2-B(PP2)'!$J$239","v":0},"#'T2-B(PP2)'!$J$239"]
["pp2_bl4_7_total_in",{"$f":"'T2-B(PP2)'!$F$239","v":0},"#'T2-B(PP2)'!$F$239"]
["pp2_bl4_7_total_out",{"$f":"'T2-B(PP2)'!$I$239","v":0},"#'T2-B(PP2)'!$I$239"]
["pp2_bl4_8_1_name",{"$f":"'T2-B(PP2)'!$B$261","v":0},"#'T2-B(PP2)'!$B$261"]
["pp2_bl4_8_1_rate_in",{"$f":"'T2-B(PP2)'!$E$261","v":0},"#'T2-B(PP2)'!$E$261"]
["pp2_bl4_8_1_rate_out",{"$f":"'T2-B(PP2)'!$H$261","v":0},"#'T2-B(PP2)'!$H$261"]
["pp2_bl4_8_1_total",{"$f":"'T2-B(PP2)'!$J$261","v":0},"#'T2-B(PP2)'!$J$261"]
["pp2_bl4_8_1_total_in",{"$f":"'T2-B(PP2)'!$F$261","v":0},"#'T2-B(PP2)'!$F$261"]
["pp2_bl4_8_1_total_out",{"$f":"'T2-B(PP2)'!$I$261","v":0},"#'T2-B(PP2)'!$I$261"]
["pp2_bl4_8_1_unit",{"$f":"'T2-B(PP2)'!$C$261","v":0},"#'T2-B(PP2)'!$C$261"]
["pp2_bl4_8_1_unit_in",{"$f":"'T2-B(PP2)'!$D$261","v":0},"#'T2-B(PP2)'!$D$261"]
["pp2_bl4_8_1_units_out",{"$f":"'T2-B(PP2)'!$G$261","v":0},"#'T2-B(PP2)'!$G$261"]
["pp2_bl4_8_10_name",{"$f":"'T2-B(PP2)'!$B$270","v":0},"#'T2-B(PP2)'!$B$270"]
["pp2_bl4_8_10_rate_in",{"$f":"'T2-B(PP2)'!$E$270","v":0},"#'T2-B(PP2)'!$E$270"]
["pp2_bl4_8_10_rate_out",{"$f":"'T2-B(PP2)'!$H$270","v":0},"#'T2-B(PP2)'!$H$270"]
["pp2_bl4_8_10_total",{"$f":"'T2-B(PP2)'!$J$270","v":0},"#'T2-B(PP2)'!$J$270"]
["pp2_bl4_8_10_total_in",{"$f":"'T2-B(PP2)'!$F$270","v":0},"#'T2-B(PP2)'!$F$270"]
["pp2_bl4_8_10_total_out",{"$f":"'T2-B(PP2)'!$I$270","v":0},"#'T2-B(PP2)'!$I$270"]
["pp2_bl4_8_10_unit",{"$f":"'T2-B(PP2)'!$C$270","v":0},"#'T2-B(PP2)'!$C$270"]
["pp2_bl4_8_10_unit_in",{"$f":"'T2-B(PP2)'!$D$270","v":0},"#'T2-B(PP2)'!$D$270"]
["pp2_bl4_8_10_units_out",{"$f":"'T2-B(PP2)'!$G$270","v":0},"#'T2-B(PP2)'!$G$270"]
["pp2_bl4_8_2_name",{"$f":"'T2-B(PP2)'!$B$262","v":0},"#'T2-B(PP2)'!$B$262"]
["pp2_bl4_8_2_rate_in",{"$f":"'T2-B(PP2)'!$E$262","v":0},"#'T2-B(PP2)'!$E$262"]
["pp2_bl4_8_2_rate_out",{"$f":"'T2-B(PP2)'!$H$262","v":0},"#'T2-B(PP2)'!$H$262"]
["pp2_bl4_8_2_total",{"$f":"'T2-B(PP2)'!$J$262","v":0},"#'T2-B(PP2)'!$J$262"]
["pp2_bl4_8_2_total_in",{"$f":"'T2-B(PP2)'!$F$262","v":0},"#'T2-B(PP2)'!$F$262"]
["pp2_bl4_8_2_total_out",{"$f":"'T2-B(PP2)'!$I$262","v":0},"#'T2-B(PP2)'!$I$262"]
["pp2_bl4_8_2_unit",{"$f":"'T2-B(PP2)'!$C$262","v":0},"#'T2-B(PP2)'!$C$262"]
["pp2_bl4_8_2_unit_in",{"$f":"'T2-B(PP2)'!$D$262","v":0},"#'T2-B(PP2)'!$D$262"]
["pp2_bl4_8_2_units_out",{"$f":"'T2-B(PP2)'!$G$262","v":0},"#'T2-B(PP2)'!$G$262"]
["pp2_bl4_8_3_name",{"$f":"'T2-B(PP2)'!$B$263","v":0},"#'T2-B(PP2)'!$B$263"]
["pp2_bl4_8_3_rate_in",{"$f":"'T2-B(PP2)'!$E$263","v":0},"#'T2-B(PP2)'!$E$263"]
["pp2_bl4_8_3_rate_out",{"$f":"'T2-B(PP2)'!$H$263","v":0},"#'T2-B(PP2)'!$H$263"]
["pp2_bl4_8_3_total",{"$f":"'T2-B(PP2)'!$J$263","v":0},"#'T2-B(PP2)'!$J$263"]
["pp2_bl4_8_3_total_in",{"$f":"'T2-B(PP2)'!$F$263","v":0},"#'T2-B(PP2)'!$F$263"]
["pp2_bl4_8_3_total_out",{"$f":"'T2-B(PP2)'!$I$263","v":0},"#'T2-B(PP2)'!$I$263"]
["pp2_bl4_8_3_unit",{"$f":"'T2-B(PP2)'!$C$263","v":0},"#'T2-B(PP2)'!$C$263"]
["pp2_bl4_8_3_unit_in",{"$f":"'T2-B(PP2)'!$D$263","v":0},"#'T2-B(PP2)'!$D$263"]
["pp2_bl4_8_3_units_out",{"$f":"'T2-B(PP2)'!$G$263","v":0},"#'T2-B(PP2)'!$G$263"]
["pp2_bl4_8_4_name",{"$f":"'T2-B(PP2)'!$B$264","v":0},"#'T2-B(PP2)'!$B$264"]
["pp2_bl4_8_4_rate_in",{"$f":"'T2-B(PP2)'!$E$264","v":0},"#'T2-B(PP2)'!$E$264"]
["pp2_bl4_8_4_rate_out",{"$f":"'T2-B(PP2)'!$H$264","v":0},"#'T2-B(PP2)'!$H$264"]
["pp2_bl4_8_4_total",{"$f":"'T2-B(PP2)'!$J$264","v":0},"#'T2-B(PP2)'!$J$264"]
["pp2_bl4_8_4_total_in",{"$f":"'T2-B(PP2)'!$F$264","v":0},"#'T2-B(PP2)'!$F$264"]
["pp2_bl4_8_4_total_out",{"$f":"'T2-B(PP2)'!$I$264","v":0},"#'T2-B(PP2)'!$I$264"]
["pp2_bl4_8_4_unit",{"$f":"'T2-B(PP2)'!$C$264","v":0},"#'T2-B(PP2)'!$C$264"]
["pp2_bl4_8_4_unit_in",{"$f":"'T2-B(PP2)'!$D$264","v":0},"#'T2-B(PP2)'!$D$264"]
["pp2_bl4_8_4_units_out",{"$f":"'T2-B(PP2)'!$G$264","v":0},"#'T2-B(PP2)'!$G$264"]
["pp2_bl4_8_5_name",{"$f":"'T2-B(PP2)'!$B$265","v":0},"#'T2-B(PP2)'!$B$265"]
["pp2_bl4_8_5_rate_in",{"$f":"'T2-B(PP2)'!$E$265","v":0},"#'T2-B(PP2)'!$E$265"]
["pp2_bl4_8_5_rate_out",{"$f":"'T2-B(PP2)'!$H$265","v":0},"#'T2-B(PP2)'!$H$265"]
["pp2_bl4_8_5_total",{"$f":"'T2-B(PP2)'!$J$265","v":0},"#'T2-B(PP2)'!$J$265"]
["pp2_bl4_8_5_total_in",{"$f":"'T2-B(PP2)'!$F$265","v":0},"#'T2-B(PP2)'!$F$265"]
["pp2_bl4_8_5_total_out",{"$f":"'T2-B(PP2)'!$I$265","v":0},"#'T2-B(PP2)'!$I$265"]
["pp2_bl4_8_5_unit",{"$f":"'T2-B(PP2)'!$C$265","v":0},"#'T2-B(PP2)'!$C$265"]
["pp2_bl4_8_5_unit_in",{"$f":"'T2-B(PP2)'!$D$265","v":0},"#'T2-B(PP2)'!$D$265"]
["pp2_bl4_8_5_units_out",{"$f":"'T2-B(PP2)'!$G$265","v":0},"#'T2-B(PP2)'!$G$265"]
["pp2_bl4_8_6_name",{"$f":"'T2-B(PP2)'!$B$266","v":0},"#'T2-B(PP2)'!$B$266"]
["pp2_bl4_8_6_rate_in",{"$f":"'T2-B(PP2)'!$E$266","v":0},"#'T2-B(PP2)'!$E$266"]
["pp2_bl4_8_6_rate_out",{"$f":"'T2-B(PP2)'!$H$266","v":0},"#'T2-B(PP2)'!$H$266"]
["pp2_bl4_8_6_total",{"$f":"'T2-B(PP2)'!$J$266","v":0},"#'T2-B(PP2)'!$J$266"]
["pp2_bl4_8_6_total_in",{"$f":"'T2-B(PP2)'!$F$266","v":0},"#'T2-B(PP2)'!$F$266"]
["pp2_bl4_8_6_total_out",{"$f":"'T2-B(PP2)'!$I$266","v":0},"#'T2-B(PP2)'!$I$266"]
["pp2_bl4_8_6_unit",{"$f":"'T2-B(PP2)'!$C$266","v":0},"#'T2-B(PP2)'!$C$266"]
["pp2_bl4_8_6_unit_in",{"$f":"'T2-B(PP2)'!$D$266","v":0},"#'T2-B(PP2)'!$D$266"]
["pp2_bl4_8_6_units_out",{"$f":"'T2-B(PP2)'!$G$266","v":0},"#'T2-B(PP2)'!$G$266"]
["pp2_bl4_8_7_name",{"$f":"'T2-B(PP2)'!$B$267","v":0},"#'T2-B(PP2)'!$B$267"]
["pp2_bl4_8_7_rate_in",{"$f":"'T2-B(PP2)'!$E$267","v":0},"#'T2-B(PP2)'!$E$267"]
["pp2_bl4_8_7_rate_out",{"$f":"'T2-B(PP2)'!$H$267","v":0},"#'T2-B(PP2)'!$H$267"]
["pp2_bl4_8_7_total",{"$f":"'T2-B(PP2)'!$J$267","v":0},"#'T2-B(PP2)'!$J$267"]
["pp2_bl4_8_7_total_in",{"$f":"'T2-B(PP2)'!$F$267","v":0},"#'T2-B(PP2)'!$F$267"]
["pp2_bl4_8_7_total_out",{"$f":"'T2-B(PP2)'!$I$267","v":0},"#'T2-B(PP2)'!$I$267"]
["pp2_bl4_8_7_unit",{"$f":"'T2-B(PP2)'!$C$267","v":0},"#'T2-B(PP2)'!$C$267"]
["pp2_bl4_8_7_unit_in",{"$f":"'T2-B(PP2)'!$D$267","v":0},"#'T2-B(PP2)'!$D$267"]
["pp2_bl4_8_7_units_out",{"$f":"'T2-B(PP2)'!$G$267","v":0},"#'T2-B(PP2)'!$G$267"]
["pp2_bl4_8_8_name",{"$f":"'T2-B(PP2)'!$B$268","v":0},"#'T2-B(PP2)'!$B$268"]
["pp2_bl4_8_8_rate_in",{"$f":"'T2-B(PP2)'!$E$268","v":0},"#'T2-B(PP2)'!$E$268"]
["pp2_bl4_8_8_rate_out",{"$f":"'T2-B(PP2)'!$H$268","v":0},"#'T2-B(PP2)'!$H$268"]
["pp2_bl4_8_8_total",{"$f":"'T2-B(PP2)'!$J$268","v":0},"#'T2-B(PP2)'!$J$268"]
["pp2_bl4_8_8_total_in",{"$f":"'T2-B(PP2)'!$F$268","v":0},"#'T2-B(PP2)'!$F$268"]
["pp2_bl4_8_8_total_out",{"$f":"'T2-B(PP2)'!$I$268","v":0},"#'T2-B(PP2)'!$I$268"]
["pp2_bl4_8_8_unit",{"$f":"'T2-B(PP2)'!$C$268","v":0},"#'T2-B(PP2)'!$C$268"]
["pp2_bl4_8_8_unit_in",{"$f":"'T2-B(PP2)'!$D$268","v":0},"#'T2-B(PP2)'!$D$268"]
["pp2_bl4_8_8_units_out",{"$f":"'T2-B(PP2)'!$G$268","v":0},"#'T2-B(PP2)'!$G$268"]
["pp2_bl4_8_9_name",{"$f":"'T2-B(PP2)'!$B$269","v":0},"#'T2-B(PP2)'!$B$269"]
["pp2_bl4_8_9_rate_in",{"$f":"'T2-B(PP2)'!$E$269","v":0},"#'T2-B(PP2)'!$E$269"]
["pp2_bl4_8_9_rate_out",{"$f":"'T2-B(PP2)'!$H$269","v":0},"#'T2-B(PP2)'!$H$269"]
["pp2_bl4_8_9_total",{"$f":"'T2-B(PP2)'!$J$269","v":0},"#'T2-B(PP2)'!$J$269"]
["pp2_bl4_8_9_total_in",{"$f":"'T2-B(PP2)'!$F$269","v":0},"#'T2-B(PP2)'!$F$269"]
["pp2_bl4_8_9_total_out",{"$f":"'T2-B(PP2)'!$I$269","v":0},"#'T2-B(PP2)'!$I$269"]
["pp2_bl4_8_9_unit",{"$f":"'T2-B(PP2)'!$C$269","v":0},"#'T2-B(PP2)'!$C$269"]
["pp2_bl4_8_9_unit_in",{"$f":"'T2-B(PP2)'!$D$269","v":0},"#'T2-B(PP2)'!$D$269"]
["pp2_bl4_8_9_units_out",{"$f":"'T2-B(PP2)'!$G$269","v":0},"#'T2-B(PP2)'!$G$269"]
["pp2_bl4_8_total",{"$f":"'T2-B(PP2)'!$J$260","v":0},"#'T2-B(PP2)'!$J$260"]
["pp2_bl4_8_total_in",{"$f":"'T2-B(PP2)'!$F$260","v":0},"#'T2-B(PP2)'!$F$260"]
["pp2_bl4_8_total_out",{"$f":"'T2-B(PP2)'!$I$260","v":0},"#'T2-B(PP2)'!$I$260"]
["pp2_bl4_9_1_name",{"$f":"'T2-B(PP2)'!$B$282","v":0},"#'T2-B(PP2)'!$B$282"]
["pp2_bl4_9_1_rate_in",{"$f":"'T2-B(PP2)'!$E$282","v":0},"#'T2-B(PP2)'!$E$282"]
["pp2_bl4_9_1_rate_out",{"$f":"'T2-B(PP2)'!$H$282","v":0},"#'T2-B(PP2)'!$H$282"]
["pp2_bl4_9_1_total",{"$f":"'T2-B(PP2)'!$J$282","v":0},"#'T2-B(PP2)'!$J$282"]
["pp2_bl4_9_1_total_in",{"$f":"'T2-B(PP2)'!$F$282","v":0},"#'T2-B(PP2)'!$F$282"]
["pp2_bl4_9_1_total_out",{"$f":"'T2-B(PP2)'!$I$282","v":0},"#'T2-B(PP2)'!$I$282"]
["pp2_bl4_9_1_unit",{"$f":"'T2-B(PP2)'!$C$282","v":0},"#'T2-B(PP2)'!$C$282"]
["pp2_bl4_9_1_unit_in",{"$f":"'T2-B(PP2)'!$D$282","v":0},"#'T2-B(PP2)'!$D$282"]
["pp2_bl4_9_1_units_out",{"$f":"'T2-B(PP2)'!$G$282","v":0},"#'T2-B(PP2)'!$G$282"]
["pp2_bl4_9_10_name",{"$f":"'T2-B(PP2)'!$B$291","v":0},"#'T2-B(PP2)'!$B$291"]
["pp2_bl4_9_10_rate_in",{"$f":"'T2-B(PP2)'!$E$291","v":0},"#'T2-B(PP2)'!$E$291"]
["pp2_bl4_9_10_rate_out",{"$f":"'T2-B(PP2)'!$H$291","v":0},"#'T2-B(PP2)'!$H$291"]
["pp2_bl4_9_10_total",{"$f":"'T2-B(PP2)'!$J$291","v":0},"#'T2-B(PP2)'!$J$291"]
["pp2_bl4_9_10_total_in",{"$f":"'T2-B(PP2)'!$F$291","v":0},"#'T2-B(PP2)'!$F$291"]
["pp2_bl4_9_10_total_out",{"$f":"'T2-B(PP2)'!$I$291","v":0},"#'T2-B(PP2)'!$I$291"]
["pp2_bl4_9_10_unit",{"$f":"'T2-B(PP2)'!$C$291","v":0},"#'T2-B(PP2)'!$C$291"]
["pp2_bl4_9_10_unit_in",{"$f":"'T2-B(PP2)'!$D$291","v":0},"#'T2-B(PP2)'!$D$291"]
["pp2_bl4_9_10_units_out",{"$f":"'T2-B(PP2)'!$G$291","v":0},"#'T2-B(PP2)'!$G$291"]
["pp2_bl4_9_2_name",{"$f":"'T2-B(PP2)'!$B$283","v":0},"#'T2-B(PP2)'!$B$283"]
["pp2_bl4_9_2_rate_in",{"$f":"'T2-B(PP2)'!$E$283","v":0},"#'T2-B(PP2)'!$E$283"]
["pp2_bl4_9_2_rate_out",{"$f":"'T2-B(PP2)'!$H$283","v":0},"#'T2-B(PP2)'!$H$283"]
["pp2_bl4_9_2_total",{"$f":"'T2-B(PP2)'!$J$283","v":0},"#'T2-B(PP2)'!$J$283"]
["pp2_bl4_9_2_total_in",{"$f":"'T2-B(PP2)'!$F$283","v":0},"#'T2-B(PP2)'!$F$283"]
["pp2_bl4_9_2_total_out",{"$f":"'T2-B(PP2)'!$I$283","v":0},"#'T2-B(PP2)'!$I$283"]
["pp2_bl4_9_2_unit",{"$f":"'T2-B(PP2)'!$C$283","v":0},"#'T2-B(PP2)'!$C$283"]
["pp2_bl4_9_2_unit_in",{"$f":"'T2-B(PP2)'!$D$283","v":0},"#'T2-B(PP2)'!$D$283"]
["pp2_bl4_9_2_units_out",{"$f":"'T2-B(PP2)'!$G$283","v":0},"#'T2-B(PP2)'!$G$283"]
["pp2_bl4_9_3_name",{"$f":"'T2-B(PP2)'!$B$284","v":0},"#'T2-B(PP2)'!$B$284"]
["pp2_bl4_9_3_rate_in",{"$f":"'T2-B(PP2)'!$E$284","v":0},"#'T2-B(PP2)'!$E$284"]
["pp2_bl4_9_3_rate_out",{"$f":"'T2-B(PP2)'!$H$284","v":0},"#'T2-B(PP2)'!$H$284"]
["pp2_bl4_9_3_total",{"$f":"'T2-B(PP2)'!$J$284","v":0},"#'T2-B(PP2)'!$J$284"]
["pp2_bl4_9_3_total_in",{"$f":"'T2-B(PP2)'!$F$284","v":0},"#'T2-B(PP2)'!$F$284"]
["pp2_bl4_9_3_total_out",{"$f":"'T2-B(PP2)'!$I$284","v":0},"#'T2-B(PP2)'!$I$284"]
["pp2_bl4_9_3_unit",{"$f":"'T2-B(PP2)'!$C$284","v":0},"#'T2-B(PP2)'!$C$284"]
["pp2_bl4_9_3_unit_in",{"$f":"'T2-B(PP2)'!$D$284","v":0},"#'T2-B(PP2)'!$D$284"]
["pp2_bl4_9_3_units_out",{"$f":"'T2-B(PP2)'!$G$284","v":0},"#'T2-B(PP2)'!$G$284"]
["pp2_bl4_9_4_name",{"$f":"'T2-B(PP2)'!$B$285","v":0},"#'T2-B(PP2)'!$B$285"]
["pp2_bl4_9_4_rate_in",{"$f":"'T2-B(PP2)'!$E$285","v":0},"#'T2-B(PP2)'!$E$285"]
["pp2_bl4_9_4_rate_out",{"$f":"'T2-B(PP2)'!$H$285","v":0},"#'T2-B(PP2)'!$H$285"]
["pp2_bl4_9_4_total",{"$f":"'T2-B(PP2)'!$J$285","v":0},"#'T2-B(PP2)'!$J$285"]
["pp2_bl4_9_4_total_in",{"$f":"'T2-B(PP2)'!$F$285","v":0},"#'T2-B(PP2)'!$F$285"]
["pp2_bl4_9_4_total_out",{"$f":"'T2-B(PP2)'!$I$285","v":0},"#'T2-B(PP2)'!$I$285"]
["pp2_bl4_9_4_unit",{"$f":"'T2-B(PP2)'!$C$285","v":0},"#'T2-B(PP2)'!$C$285"]
["pp2_bl4_9_4_unit_in",{"$f":"'T2-B(PP2)'!$D$285","v":0},"#'T2-B(PP2)'!$D$285"]
["pp2_bl4_9_4_units_out",{"$f":"'T2-B(PP2)'!$G$285","v":0},"#'T2-B(PP2)'!$G$285"]
["pp2_bl4_9_5_name",{"$f":"'T2-B(PP2)'!$B$286","v":0},"#'T2-B(PP2)'!$B$286"]
["pp2_bl4_9_5_rate_in",{"$f":"'T2-B(PP2)'!$E$286","v":0},"#'T2-B(PP2)'!$E$286"]
["pp2_bl4_9_5_rate_out",{"$f":"'T2-B(PP2)'!$H$286","v":0},"#'T2-B(PP2)'!$H$286"]
["pp2_bl4_9_5_total",{"$f":"'T2-B(PP2)'!$J$286","v":0},"#'T2-B(PP2)'!$J$286"]
["pp2_bl4_9_5_total_in",{"$f":"'T2-B(PP2)'!$F$286","v":0},"#'T2-B(PP2)'!$F$286"]
["pp2_bl4_9_5_total_out",{"$f":"'T2-B(PP2)'!$I$286","v":0},"#'T2-B(PP2)'!$I$286"]
["pp2_bl4_9_5_unit",{"$f":"'T2-B(PP2)'!$C$286","v":0},"#'T2-B(PP2)'!$C$286"]
["pp2_bl4_9_5_unit_in",{"$f":"'T2-B(PP2)'!$D$286","v":0},"#'T2-B(PP2)'!$D$286"]
["pp2_bl4_9_5_units_out",{"$f":"'T2-B(PP2)'!$G$286","v":0},"#'T2-B(PP2)'!$G$286"]
["pp2_bl4_9_6_name",{"$f":"'T2-B(PP2)'!$B$287","v":0},"#'T2-B(PP2)'!$B$287"]
["pp2_bl4_9_6_rate_in",{"$f":"'T2-B(PP2)'!$E$287","v":0},"#'T2-B(PP2)'!$E$287"]
["pp2_bl4_9_6_rate_out",{"$f":"'T2-B(PP2)'!$H$287","v":0},"#'T2-B(PP2)'!$H$287"]
["pp2_bl4_9_6_total",{"$f":"'T2-B(PP2)'!$J$287","v":0},"#'T2-B(PP2)'!$J$287"]
["pp2_bl4_9_6_total_in",{"$f":"'T2-B(PP2)'!$F$287","v":0},"#'T2-B(PP2)'!$F$287"]
["pp2_bl4_9_6_total_out",{"$f":"'T2-B(PP2)'!$I$287","v":0},"#'T2-B(PP2)'!$I$287"]
["pp2_bl4_9_6_unit",{"$f":"'T2-B(PP2)'!$C$287","v":0},"#'T2-B(PP2)'!$C$287"]
["pp2_bl4_9_6_unit_in",{"$f":"'T2-B(PP2)'!$D$287","v":0},"#'T2-B(PP2)'!$D$287"]
["pp2_bl4_9_6_units_out",{"$f":"'T2-B(PP2)'!$G$287","v":0},"#'T2-B(PP2)'!$G$287"]
["pp2_bl4_9_7_name",{"$f":"'T2-B(PP2)'!$B$288","v":0},"#'T2-B(PP2)'!$B$288"]
["pp2_bl4_9_7_rate_in",{"$f":"'T2-B(PP2)'!$E$288","v":0},"#'T2-B(PP2)'!$E$288"]
["pp2_bl4_9_7_rate_out",{"$f":"'T2-B(PP2)'!$H$288","v":0},"#'T2-B(PP2)'!$H$288"]
["pp2_bl4_9_7_total",{"$f":"'T2-B(PP2)'!$J$288","v":0},"#'T2-B(PP2)'!$J$288"]
["pp2_bl4_9_7_total_in",{"$f":"'T2-B(PP2)'!$F$288","v":0},"#'T2-B(PP2)'!$F$288"]
["pp2_bl4_9_7_total_out",{"$f":"'T2-B(PP2)'!$I$288","v":0},"#'T2-B(PP2)'!$I$288"]
["pp2_bl4_9_7_unit",{"$f":"'T2-B(PP2)'!$C$288","v":0},"#'T2-B(PP2)'!$C$288"]
["pp2_bl4_9_7_unit_in",{"$f":"'T2-B(PP2)'!$D$288","v":0},"#'T2-B(PP2)'!$D$288"]
["pp2_bl4_9_7_units_out",{"$f":"'T2-B(PP2)'!$G$288","v":0},"#'T2-B(PP2)'!$G$288"]
["pp2_bl4_9_8_name",{"$f":"'T2-B(PP2)'!$B$289","v":0},"#'T2-B(PP2)'!$B$289"]
["pp2_bl4_9_8_rate_in",{"$f":"'T2-B(PP2)'!$E$289","v":0},"#'T2-B(PP2)'!$E$289"]
["pp2_bl4_9_8_rate_out",{"$f":"'T2-B(PP2)'!$H$289","v":0},"#'T2-B(PP2)'!$H$289"]
["pp2_bl4_9_8_total",{"$f":"'T2-B(PP2)'!$J$289","v":0},"#'T2-B(PP2)'!$J$289"]
["pp2_bl4_9_8_total_in",{"$f":"'T2-B(PP2)'!$F$289","v":0},"#'T2-B(PP2)'!$F$289"]
["pp2_bl4_9_8_total_out",{"$f":"'T2-B(PP2)'!$I$289","v":0},"#'T2-B(PP2)'!$I$289"]
["pp2_bl4_9_8_unit",{"$f":"'T2-B(PP2)'!$C$289","v":0},"#'T2-B(PP2)'!$C$289"]
["pp2_bl4_9_8_unit_in",{"$f":"'T2-B(PP2)'!$D$289","v":0},"#'T2-B(PP2)'!$D$289"]
["pp2_bl4_9_8_units_out",{"$f":"'T2-B(PP2)'!$G$289","v":0},"#'T2-B(PP2)'!$G$289"]
["pp2_bl4_9_9_name",{"$f":"'T2-B(PP2)'!$B$290","v":0},"#'T2-B(PP2)'!$B$290"]
["pp2_bl4_9_9_rate_in",{"$f":"'T2-B(PP2)'!$E$290","v":0},"#'T2-B(PP2)'!$E$290"]
["pp2_bl4_9_9_rate_out",{"$f":"'T2-B(PP2)'!$H$290","v":0},"#'T2-B(PP2)'!$H$290"]
["pp2_bl4_9_9_total",{"$f":"'T2-B(PP2)'!$J$290","v":0},"#'T2-B(PP2)'!$J$290"]
["pp2_bl4_9_9_total_in",{"$f":"'T2-B(PP2)'!$F$290","v":0},"#'T2-B(PP2)'!$F$290"]
["pp2_bl4_9_9_total_out",{"$f":"'T2-B(PP2)'!$I$290","v":0},"#'T2-B(PP2)'!$I$290"]
["pp2_bl4_9_9_unit",{"$f":"'T2-B(PP2)'!$C$290","v":0},"#'T2-B(PP2)'!$C$290"]
["pp2_bl4_9_9_unit_in",{"$f":"'T2-B(PP2)'!$D$290","v":0},"#'T2-B(PP2)'!$D$290"]
["pp2_bl4_9_9_units_out",{"$f":"'T2-B(PP2)'!$G$290","v":0},"#'T2-B(PP2)'!$G$290"]
["pp2_bl4_9_total",{"$f":"'T2-B(PP2)'!$J$281","v":0},"#'T2-B(PP2)'!$J$281"]
["pp2_bl4_9_total_in",{"$f":"'T2-B(PP2)'!$F$281","v":0},"#'T2-B(PP2)'!$F$281"]
["pp2_bl4_9_total_out",{"$f":"'T2-B(PP2)'!$I$281","v":0},"#'T2-B(PP2)'!$I$281"]
["pp2_bl4_total",{"$f":"'T2-B(PP2)'!$J$365","v":0},"#'T2-B(PP2)'!$J$365"]
["pp2_bl4_total_in",{"$f":"'T2-B(PP2)'!$F$365","v":0},"#'T2-B(PP2)'!$F$365"]
["pp2_bl4_total_out",{"$f":"'T2-B(PP2)'!$I$365","v":0},"#'T2-B(PP2)'!$I$365"]
["pp2_bl5_1_1_name",{"$f":"'T2-B(PP2)'!$B$370","v":0},"#'T2-B(PP2)'!$B$370"]
["pp2_bl5_1_1_rate_in",{"$f":"'T2-B(PP2)'!$E$370","v":0},"#'T2-B(PP2)'!$E$370"]
["pp2_bl5_1_1_rate_out",{"$f":"'T2-B(PP2)'!$H$370","v":0},"#'T2-B(PP2)'!$H$370"]
["pp2_bl5_1_1_total",{"$f":"'T2-B(PP2)'!$J$370","v":0},"#'T2-B(PP2)'!$J$370"]
["pp2_bl5_1_1_total_in",{"$f":"'T2-B(PP2)'!$F$370","v":0},"#'T2-B(PP2)'!$F$370"]
["pp2_bl5_1_1_total_out",{"$f":"'T2-B(PP2)'!$I$370","v":0},"#'T2-B(PP2)'!$I$370"]
["pp2_bl5_1_1_unit",{"$f":"'T2-B(PP2)'!$C$370","v":0},"#'T2-B(PP2)'!$C$370"]
["pp2_bl5_1_1_unit_in",{"$f":"'T2-B(PP2)'!$D$370","v":0},"#'T2-B(PP2)'!$D$370"]
["pp2_bl5_1_1_units_out",{"$f":"'T2-B(PP2)'!$G$370","v":0},"#'T2-B(PP2)'!$G$370"]
["pp2_bl5_1_10_name",{"$f":"'T2-B(PP2)'!$B$379","v":0},"#'T2-B(PP2)'!$B$379"]
["pp2_bl5_1_10_rate_in",{"$f":"'T2-B(PP2)'!$E$379","v":0},"#'T2-B(PP2)'!$E$379"]
["pp2_bl5_1_10_rate_out",{"$f":"'T2-B(PP2)'!$H$379","v":0},"#'T2-B(PP2)'!$H$379"]
["pp2_bl5_1_10_total",{"$f":"'T2-B(PP2)'!$J$379","v":0},"#'T2-B(PP2)'!$J$379"]
["pp2_bl5_1_10_total_in",{"$f":"'T2-B(PP2)'!$F$379","v":0},"#'T2-B(PP2)'!$F$379"]
["pp2_bl5_1_10_total_out",{"$f":"'T2-B(PP2)'!$I$379","v":0},"#'T2-B(PP2)'!$I$379"]
["pp2_bl5_1_10_unit",{"$f":"'T2-B(PP2)'!$C$379","v":0},"#'T2-B(PP2)'!$C$379"]
["pp2_bl5_1_10_unit_in",{"$f":"'T2-B(PP2)'!$D$379","v":0},"#'T2-B(PP2)'!$D$379"]
["pp2_bl5_1_10_units_out",{"$f":"'T2-B(PP2)'!$G$379","v":0},"#'T2-B(PP2)'!$G$379"]
["pp2_bl5_1_2_name",{"$f":"'T2-B(PP2)'!$B$371","v":0},"#'T2-B(PP2)'!$B$371"]
["pp2_bl5_1_2_rate_in",{"$f":"'T2-B(PP2)'!$E$371","v":0},"#'T2-B(PP2)'!$E$371"]
["pp2_bl5_1_2_rate_out",{"$f":"'T2-B(PP2)'!$H$371","v":0},"#'T2-B(PP2)'!$H$371"]
["pp2_bl5_1_2_total",{"$f":"'T2-B(PP2)'!$J$371","v":0},"#'T2-B(PP2)'!$J$371"]
["pp2_bl5_1_2_total_in",{"$f":"'T2-B(PP2)'!$F$371","v":0},"#'T2-B(PP2)'!$F$371"]
["pp2_bl5_1_2_total_out",{"$f":"'T2-B(PP2)'!$I$371","v":0},"#'T2-B(PP2)'!$I$371"]
["pp2_bl5_1_2_unit",{"$f":"'T2-B(PP2)'!$C$371","v":0},"#'T2-B(PP2)'!$C$371"]
["pp2_bl5_1_2_unit_in",{"$f":"'T2-B(PP2)'!$D$371","v":0},"#'T2-B(PP2)'!$D$371"]
["pp2_bl5_1_2_units_out",{"$f":"'T2-B(PP2)'!$G$371","v":0},"#'T2-B(PP2)'!$G$371"]
["pp2_bl5_1_3_name",{"$f":"'T2-B(PP2)'!$B$372","v":0},"#'T2-B(PP2)'!$B$372"]
["pp2_bl5_1_3_rate_in",{"$f":"'T2-B(PP2)'!$E$372","v":0},"#'T2-B(PP2)'!$E$372"]
["pp2_bl5_1_3_rate_out",{"$f":"'T2-B(PP2)'!$H$372","v":0},"#'T2-B(PP2)'!$H$372"]
["pp2_bl5_1_3_total",{"$f":"'T2-B(PP2)'!$J$372","v":0},"#'T2-B(PP2)'!$J$372"]
["pp2_bl5_1_3_total_in",{"$f":"'T2-B(PP2)'!$F$372","v":0},"#'T2-B(PP2)'!$F$372"]
["pp2_bl5_1_3_total_out",{"$f":"'T2-B(PP2)'!$I$372","v":0},"#'T2-B(PP2)'!$I$372"]
["pp2_bl5_1_3_unit",{"$f":"'T2-B(PP2)'!$C$372","v":0},"#'T2-B(PP2)'!$C$372"]
["pp2_bl5_1_3_unit_in",{"$f":"'T2-B(PP2)'!$D$372","v":0},"#'T2-B(PP2)'!$D$372"]
["pp2_bl5_1_3_units_out",{"$f":"'T2-B(PP2)'!$G$372","v":0},"#'T2-B(PP2)'!$G$372"]
["pp2_bl5_1_4_name",{"$f":"'T2-B(PP2)'!$B$373","v":0},"#'T2-B(PP2)'!$B$373"]
["pp2_bl5_1_4_rate_in",{"$f":"'T2-B(PP2)'!$E$373","v":0},"#'T2-B(PP2)'!$E$373"]
["pp2_bl5_1_4_rate_out",{"$f":"'T2-B(PP2)'!$H$373","v":0},"#'T2-B(PP2)'!$H$373"]
["pp2_bl5_1_4_total",{"$f":"'T2-B(PP2)'!$J$373","v":0},"#'T2-B(PP2)'!$J$373"]
["pp2_bl5_1_4_total_in",{"$f":"'T2-B(PP2)'!$F$373","v":0},"#'T2-B(PP2)'!$F$373"]
["pp2_bl5_1_4_total_out",{"$f":"'T2-B(PP2)'!$I$373","v":0},"#'T2-B(PP2)'!$I$373"]
["pp2_bl5_1_4_unit",{"$f":"'T2-B(PP2)'!$C$373","v":0},"#'T2-B(PP2)'!$C$373"]
["pp2_bl5_1_4_unit_in",{"$f":"'T2-B(PP2)'!$D$373","v":0},"#'T2-B(PP2)'!$D$373"]
["pp2_bl5_1_4_units_out",{"$f":"'T2-B(PP2)'!$G$373","v":0},"#'T2-B(PP2)'!$G$373"]
["pp2_bl5_1_5_name",{"$f":"'T2-B(PP2)'!$B$374","v":0},"#'T2-B(PP2)'!$B$374"]
["pp2_bl5_1_5_rate_in",{"$f":"'T2-B(PP2)'!$E$374","v":0},"#'T2-B(PP2)'!$E$374"]
["pp2_bl5_1_5_rate_out",{"$f":"'T2-B(PP2)'!$H$374","v":0},"#'T2-B(PP2)'!$H$374"]
["pp2_bl5_1_5_total",{"$f":"'T2-B(PP2)'!$J$374","v":0},"#'T2-B(PP2)'!$J$374"]
["pp2_bl5_1_5_total_in",{"$f":"'T2-B(PP2)'!$F$374","v":0},"#'T2-B(PP2)'!$F$374"]
["pp2_bl5_1_5_total_out",{"$f":"'T2-B(PP2)'!$I$374","v":0},"#'T2-B(PP2)'!$I$374"]
["pp2_bl5_1_5_unit",{"$f":"'T2-B(PP2)'!$C$374","v":0},"#'T2-B(PP2)'!$C$374"]
["pp2_bl5_1_5_unit_in",{"$f":"'T2-B(PP2)'!$D$374","v":0},"#'T2-B(PP2)'!$D$374"]
["pp2_bl5_1_5_units_out",{"$f":"'T2-B(PP2)'!$G$374","v":0},"#'T2-B(PP2)'!$G$374"]
["pp2_bl5_1_6_name",{"$f":"'T2-B(PP2)'!$B$375","v":0},"#'T2-B(PP2)'!$B$375"]
["pp2_bl5_1_6_rate_in",{"$f":"'T2-B(PP2)'!$E$375","v":0},"#'T2-B(PP2)'!$E$375"]
["pp2_bl5_1_6_rate_out",{"$f":"'T2-B(PP2)'!$H$375","v":0},"#'T2-B(PP2)'!$H$375"]
["pp2_bl5_1_6_total",{"$f":"'T2-B(PP2)'!$J$375","v":0},"#'T2-B(PP2)'!$J$375"]
["pp2_bl5_1_6_total_in",{"$f":"'T2-B(PP2)'!$F$375","v":0},"#'T2-B(PP2)'!$F$375"]
["pp2_bl5_1_6_total_out",{"$f":"'T2-B(PP2)'!$I$375","v":0},"#'T2-B(PP2)'!$I$375"]
["pp2_bl5_1_6_unit",{"$f":"'T2-B(PP2)'!$C$375","v":0},"#'T2-B(PP2)'!$C$375"]
["pp2_bl5_1_6_unit_in",{"$f":"'T2-B(PP2)'!$D$375","v":0},"#'T2-B(PP2)'!$D$375"]
["pp2_bl5_1_6_units_out",{"$f":"'T2-B(PP2)'!$G$375","v":0},"#'T2-B(PP2)'!$G$375"]
["pp2_bl5_1_7_name",{"$f":"'T2-B(PP2)'!$B$376","v":0},"#'T2-B(PP2)'!$B$376"]
["pp2_bl5_1_7_rate_in",{"$f":"'T2-B(PP2)'!$E$376","v":0},"#'T2-B(PP2)'!$E$376"]
["pp2_bl5_1_7_rate_out",{"$f":"'T2-B(PP2)'!$H$376","v":0},"#'T2-B(PP2)'!$H$376"]
["pp2_bl5_1_7_total",{"$f":"'T2-B(PP2)'!$J$376","v":0},"#'T2-B(PP2)'!$J$376"]
["pp2_bl5_1_7_total_in",{"$f":"'T2-B(PP2)'!$F$376","v":0},"#'T2-B(PP2)'!$F$376"]
["pp2_bl5_1_7_total_out",{"$f":"'T2-B(PP2)'!$I$376","v":0},"#'T2-B(PP2)'!$I$376"]
["pp2_bl5_1_7_unit",{"$f":"'T2-B(PP2)'!$C$376","v":0},"#'T2-B(PP2)'!$C$376"]
["pp2_bl5_1_7_unit_in",{"$f":"'T2-B(PP2)'!$D$376","v":0},"#'T2-B(PP2)'!$D$376"]
["pp2_bl5_1_7_units_out",{"$f":"'T2-B(PP2)'!$G$376","v":0},"#'T2-B(PP2)'!$G$376"]
["pp2_bl5_1_8_name",{"$f":"'T2-B(PP2)'!$B$377","v":0},"#'T2-B(PP2)'!$B$377"]
["pp2_bl5_1_8_rate_in",{"$f":"'T2-B(PP2)'!$E$377","v":0},"#'T2-B(PP2)'!$E$377"]
["pp2_bl5_1_8_rate_out",{"$f":"'T2-B(PP2)'!$H$377","v":0},"#'T2-B(PP2)'!$H$377"]
["pp2_bl5_1_8_total",{"$f":"'T2-B(PP2)'!$J$377","v":0},"#'T2-B(PP2)'!$J$377"]
["pp2_bl5_1_8_total_in",{"$f":"'T2-B(PP2)'!$F$377","v":0},"#'T2-B(PP2)'!$F$377"]
["pp2_bl5_1_8_total_out",{"$f":"'T2-B(PP2)'!$I$377","v":0},"#'T2-B(PP2)'!$I$377"]
["pp2_bl5_1_8_unit",{"$f":"'T2-B(PP2)'!$C$377","v":0},"#'T2-B(PP2)'!$C$377"]
["pp2_bl5_1_8_unit_in",{"$f":"'T2-B(PP2)'!$D$377","v":0},"#'T2-B(PP2)'!$D$377"]
["pp2_bl5_1_8_units_out",{"$f":"'T2-B(PP2)'!$G$377","v":0},"#'T2-B(PP2)'!$G$377"]
["pp2_bl5_1_9_name",{"$f":"'T2-B(PP2)'!$B$378","v":0},"#'T2-B(PP2)'!$B$378"]
["pp2_bl5_1_9_rate_in",{"$f":"'T2-B(PP2)'!$E$378","v":0},"#'T2-B(PP2)'!$E$378"]
["pp2_bl5_1_9_rate_out",{"$f":"'T2-B(PP2)'!$H$378","v":0},"#'T2-B(PP2)'!$H$378"]
["pp2_bl5_1_9_total",{"$f":"'T2-B(PP2)'!$J$378","v":0},"#'T2-B(PP2)'!$J$378"]
["pp2_bl5_1_9_total_in",{"$f":"'T2-B(PP2)'!$F$378","v":0},"#'T2-B(PP2)'!$F$378"]
["pp2_bl5_1_9_total_out",{"$f":"'T2-B(PP2)'!$I$378","v":0},"#'T2-B(PP2)'!$I$378"]
["pp2_bl5_1_9_unit",{"$f":"'T2-B(PP2)'!$C$378","v":0},"#'T2-B(PP2)'!$C$378"]
["pp2_bl5_1_9_unit_in",{"$f":"'T2-B(PP2)'!$D$378","v":0},"#'T2-B(PP2)'!$D$378"]
["pp2_bl5_1_9_units_out",{"$f":"'T2-B(PP2)'!$G$378","v":0},"#'T2-B(PP2)'!$G$378"]
["pp2_bl5_1_total",{"$f":"'T2-B(PP2)'!$J$369","v":0},"#'T2-B(PP2)'!$J$369"]
["pp2_bl5_1_total_in",{"$f":"'T2-B(PP2)'!$F$369","v":0},"#'T2-B(PP2)'!$F$369"]
["pp2_bl5_1_total_out",{"$f":"'T2-B(PP2)'!$I$369","v":0},"#'T2-B(PP2)'!$I$369"]
["pp2_bl5_2_1_name",{"$f":"'T2-B(PP2)'!$B$391","v":0},"#'T2-B(PP2)'!$B$391"]
["pp2_bl5_2_1_rate_in",{"$f":"'T2-B(PP2)'!$E$391","v":0},"#'T2-B(PP2)'!$E$391"]
["pp2_bl5_2_1_rate_out",{"$f":"'T2-B(PP2)'!$H$391","v":0},"#'T2-B(PP2)'!$H$391"]
["pp2_bl5_2_1_total",{"$f":"'T2-B(PP2)'!$J$391","v":0},"#'T2-B(PP2)'!$J$391"]
["pp2_bl5_2_1_total_in",{"$f":"'T2-B(PP2)'!$F$391","v":0},"#'T2-B(PP2)'!$F$391"]
["pp2_bl5_2_1_total_out",{"$f":"'T2-B(PP2)'!$I$391","v":0},"#'T2-B(PP2)'!$I$391"]
["pp2_bl5_2_1_unit",{"$f":"'T2-B(PP2)'!$C$391","v":0},"#'T2-B(PP2)'!$C$391"]
["pp2_bl5_2_1_unit_in",{"$f":"'T2-B(PP2)'!$D$391","v":0},"#'T2-B(PP2)'!$D$391"]
["pp2_bl5_2_1_units_out",{"$f":"'T2-B(PP2)'!$G$391","v":0},"#'T2-B(PP2)'!$G$391"]
["pp2_bl5_2_10_name",{"$f":"'T2-B(PP2)'!$B$400","v":0},"#'T2-B(PP2)'!$B$400"]
["pp2_bl5_2_10_rate_in",{"$f":"'T2-B(PP2)'!$E$400","v":0},"#'T2-B(PP2)'!$E$400"]
["pp2_bl5_2_10_rate_out",{"$f":"'T2-B(PP2)'!$H$400","v":0},"#'T2-B(PP2)'!$H$400"]
["pp2_bl5_2_10_total",{"$f":"'T2-B(PP2)'!$J$400","v":0},"#'T2-B(PP2)'!$J$400"]
["pp2_bl5_2_10_total_in",{"$f":"'T2-B(PP2)'!$F$400","v":0},"#'T2-B(PP2)'!$F$400"]
["pp2_bl5_2_10_total_out",{"$f":"'T2-B(PP2)'!$I$400","v":0},"#'T2-B(PP2)'!$I$400"]
["pp2_bl5_2_10_unit",{"$f":"'T2-B(PP2)'!$C$400","v":0},"#'T2-B(PP2)'!$C$400"]
["pp2_bl5_2_10_unit_in",{"$f":"'T2-B(PP2)'!$D$400","v":0},"#'T2-B(PP2)'!$D$400"]
["pp2_bl5_2_10_units_out",{"$f":"'T2-B(PP2)'!$G$400","v":0},"#'T2-B(PP2)'!$G$400"]
["pp2_bl5_2_2_name",{"$f":"'T2-B(PP2)'!$B$392","v":0},"#'T2-B(PP2)'!$B$392"]
["pp2_bl5_2_2_rate_in",{"$f":"'T2-B(PP2)'!$E$392","v":0},"#'T2-B(PP2)'!$E$392"]
["pp2_bl5_2_2_rate_out",{"$f":"'T2-B(PP2)'!$H$392","v":0},"#'T2-B(PP2)'!$H$392"]
["pp2_bl5_2_2_total",{"$f":"'T2-B(PP2)'!$J$392","v":0},"#'T2-B(PP2)'!$J$392"]
["pp2_bl5_2_2_total_in",{"$f":"'T2-B(PP2)'!$F$392","v":0},"#'T2-B(PP2)'!$F$392"]
["pp2_bl5_2_2_total_out",{"$f":"'T2-B(PP2)'!$I$392","v":0},"#'T2-B(PP2)'!$I$392"]
["pp2_bl5_2_2_unit",{"$f":"'T2-B(PP2)'!$C$392","v":0},"#'T2-B(PP2)'!$C$392"]
["pp2_bl5_2_2_unit_in",{"$f":"'T2-B(PP2)'!$D$392","v":0},"#'T2-B(PP2)'!$D$392"]
["pp2_bl5_2_2_units_out",{"$f":"'T2-B(PP2)'!$G$392","v":0},"#'T2-B(PP2)'!$G$392"]
["pp2_bl5_2_3_name",{"$f":"'T2-B(PP2)'!$B$393","v":0},"#'T2-B(PP2)'!$B$393"]
["pp2_bl5_2_3_rate_in",{"$f":"'T2-B(PP2)'!$E$393","v":0},"#'T2-B(PP2)'!$E$393"]
["pp2_bl5_2_3_rate_out",{"$f":"'T2-B(PP2)'!$H$393","v":0},"#'T2-B(PP2)'!$H$393"]
["pp2_bl5_2_3_total",{"$f":"'T2-B(PP2)'!$J$393","v":0},"#'T2-B(PP2)'!$J$393"]
["pp2_bl5_2_3_total_in",{"$f":"'T2-B(PP2)'!$F$393","v":0},"#'T2-B(PP2)'!$F$393"]
["pp2_bl5_2_3_total_out",{"$f":"'T2-B(PP2)'!$I$393","v":0},"#'T2-B(PP2)'!$I$393"]
["pp2_bl5_2_3_unit",{"$f":"'T2-B(PP2)'!$C$393","v":0},"#'T2-B(PP2)'!$C$393"]
["pp2_bl5_2_3_unit_in",{"$f":"'T2-B(PP2)'!$D$393","v":0},"#'T2-B(PP2)'!$D$393"]
["pp2_bl5_2_3_units_out",{"$f":"'T2-B(PP2)'!$G$393","v":0},"#'T2-B(PP2)'!$G$393"]
["pp2_bl5_2_4_name",{"$f":"'T2-B(PP2)'!$B$394","v":0},"#'T2-B(PP2)'!$B$394"]
["pp2_bl5_2_4_rate_in",{"$f":"'T2-B(PP2)'!$E$394","v":0},"#'T2-B(PP2)'!$E$394"]
["pp2_bl5_2_4_rate_out",{"$f":"'T2-B(PP2)'!$H$394","v":0},"#'T2-B(PP2)'!$H$394"]
["pp2_bl5_2_4_total",{"$f":"'T2-B(PP2)'!$J$394","v":0},"#'T2-B(PP2)'!$J$394"]
["pp2_bl5_2_4_total_in",{"$f":"'T2-B(PP2)'!$F$394","v":0},"#'T2-B(PP2)'!$F$394"]
["pp2_bl5_2_4_total_out",{"$f":"'T2-B(PP2)'!$I$394","v":0},"#'T2-B(PP2)'!$I$394"]
["pp2_bl5_2_4_unit",{"$f":"'T2-B(PP2)'!$C$394","v":0},"#'T2-B(PP2)'!$C$394"]
["pp2_bl5_2_4_unit_in",{"$f":"'T2-B(PP2)'!$D$394","v":0},"#'T2-B(PP2)'!$D$394"]
["pp2_bl5_2_4_units_out",{"$f":"'T2-B(PP2)'!$G$394","v":0},"#'T2-B(PP2)'!$G$394"]
["pp2_bl5_2_5_name",{"$f":"'T2-B(PP2)'!$B$395","v":0},"#'T2-B(PP2)'!$B$395"]
["pp2_bl5_2_5_rate_in",{"$f":"'T2-B(PP2)'!$E$395","v":0},"#'T2-B(PP2)'!$E$395"]
["pp2_bl5_2_5_rate_out",{"$f":"'T2-B(PP2)'!$H$395","v":0},"#'T2-B(PP2)'!$H$395"]
["pp2_bl5_2_5_total",{"$f":"'T2-B(PP2)'!$J$395","v":0},"#'T2-B(PP2)'!$J$395"]
["pp2_bl5_2_5_total_in",{"$f":"'T2-B(PP2)'!$F$395","v":0},"#'T2-B(PP2)'!$F$395"]
["pp2_bl5_2_5_total_out",{"$f":"'T2-B(PP2)'!$I$395","v":0},"#'T2-B(PP2)'!$I$395"]
["pp2_bl5_2_5_unit",{"$f":"'T2-B(PP2)'!$C$395","v":0},"#'T2-B(PP2)'!$C$395"]
["pp2_bl5_2_5_unit_in",{"$f":"'T2-B(PP2)'!$D$395","v":0},"#'T2-B(PP2)'!$D$395"]
["pp2_bl5_2_5_units_out",{"$f":"'T2-B(PP2)'!$G$395","v":0},"#'T2-B(PP2)'!$G$395"]
["pp2_bl5_2_6_name",{"$f":"'T2-B(PP2)'!$B$396","v":0},"#'T2-B(PP2)'!$B$396"]
["pp2_bl5_2_6_rate_in",{"$f":"'T2-B(PP2)'!$E$396","v":0},"#'T2-B(PP2)'!$E$396"]
["pp2_bl5_2_6_rate_out",{"$f":"'T2-B(PP2)'!$H$396","v":0},"#'T2-B(PP2)'!$H$396"]
["pp2_bl5_2_6_total",{"$f":"'T2-B(PP2)'!$J$396","v":0},"#'T2-B(PP2)'!$J$396"]
["pp2_bl5_2_6_total_in",{"$f":"'T2-B(PP2)'!$F$396","v":0},"#'T2-B(PP2)'!$F$396"]
["pp2_bl5_2_6_total_out",{"$f":"'T2-B(PP2)'!$I$396","v":0},"#'T2-B(PP2)'!$I$396"]
["pp2_bl5_2_6_unit",{"$f":"'T2-B(PP2)'!$C$396","v":0},"#'T2-B(PP2)'!$C$396"]
["pp2_bl5_2_6_unit_in",{"$f":"'T2-B(PP2)'!$D$396","v":0},"#'T2-B(PP2)'!$D$396"]
["pp2_bl5_2_6_units_out",{"$f":"'T2-B(PP2)'!$G$396","v":0},"#'T2-B(PP2)'!$G$396"]
["pp2_bl5_2_7_name",{"$f":"'T2-B(PP2)'!$B$397","v":0},"#'T2-B(PP2)'!$B$397"]
["pp2_bl5_2_7_rate_in",{"$f":"'T2-B(PP2)'!$E$397","v":0},"#'T2-B(PP2)'!$E$397"]
["pp2_bl5_2_7_rate_out",{"$f":"'T2-B(PP2)'!$H$397","v":0},"#'T2-B(PP2)'!$H$397"]
["pp2_bl5_2_7_total",{"$f":"'T2-B(PP2)'!$J$397","v":0},"#'T2-B(PP2)'!$J$397"]
["pp2_bl5_2_7_total_in",{"$f":"'T2-B(PP2)'!$F$397","v":0},"#'T2-B(PP2)'!$F$397"]
["pp2_bl5_2_7_total_out",{"$f":"'T2-B(PP2)'!$I$397","v":0},"#'T2-B(PP2)'!$I$397"]
["pp2_bl5_2_7_unit",{"$f":"'T2-B(PP2)'!$C$397","v":0},"#'T2-B(PP2)'!$C$397"]
["pp2_bl5_2_7_unit_in",{"$f":"'T2-B(PP2)'!$D$397","v":0},"#'T2-B(PP2)'!$D$397"]
["pp2_bl5_2_7_units_out",{"$f":"'T2-B(PP2)'!$G$397","v":0},"#'T2-B(PP2)'!$G$397"]
["pp2_bl5_2_8_name",{"$f":"'T2-B(PP2)'!$B$398","v":0},"#'T2-B(PP2)'!$B$398"]
["pp2_bl5_2_8_rate_in",{"$f":"'T2-B(PP2)'!$E$398","v":0},"#'T2-B(PP2)'!$E$398"]
["pp2_bl5_2_8_rate_out",{"$f":"'T2-B(PP2)'!$H$398","v":0},"#'T2-B(PP2)'!$H$398"]
["pp2_bl5_2_8_total",{"$f":"'T2-B(PP2)'!$J$398","v":0},"#'T2-B(PP2)'!$J$398"]
["pp2_bl5_2_8_total_in",{"$f":"'T2-B(PP2)'!$F$398","v":0},"#'T2-B(PP2)'!$F$398"]
["pp2_bl5_2_8_total_out",{"$f":"'T2-B(PP2)'!$I$398","v":0},"#'T2-B(PP2)'!$I$398"]
["pp2_bl5_2_8_unit",{"$f":"'T2-B(PP2)'!$C$398","v":0},"#'T2-B(PP2)'!$C$398"]
["pp2_bl5_2_8_unit_in",{"$f":"'T2-B(PP2)'!$D$398","v":0},"#'T2-B(PP2)'!$D$398"]
["pp2_bl5_2_8_units_out",{"$f":"'T2-B(PP2)'!$G$398","v":0},"#'T2-B(PP2)'!$G$398"]
["pp2_bl5_2_9_name",{"$f":"'T2-B(PP2)'!$B$399","v":0},"#'T2-B(PP2)'!$B$399"]
["pp2_bl5_2_9_rate_in",{"$f":"'T2-B(PP2)'!$E$399","v":0},"#'T2-B(PP2)'!$E$399"]
["pp2_bl5_2_9_rate_out",{"$f":"'T2-B(PP2)'!$H$399","v":0},"#'T2-B(PP2)'!$H$399"]
["pp2_bl5_2_9_total",{"$f":"'T2-B(PP2)'!$J$399","v":0},"#'T2-B(PP2)'!$J$399"]
["pp2_bl5_2_9_total_in",{"$f":"'T2-B(PP2)'!$F$399","v":0},"#'T2-B(PP2)'!$F$399"]
["pp2_bl5_2_9_total_out",{"$f":"'T2-B(PP2)'!$I$399","v":0},"#'T2-B(PP2)'!$I$399"]
["pp2_bl5_2_9_unit",{"$f":"'T2-B(PP2)'!$C$399","v":0},"#'T2-B(PP2)'!$C$399"]
["pp2_bl5_2_9_unit_in",{"$f":"'T2-B(PP2)'!$D$399","v":0},"#'T2-B(PP2)'!$D$399"]
["pp2_bl5_2_9_units_out",{"$f":"'T2-B(PP2)'!$G$399","v":0},"#'T2-B(PP2)'!$G$399"]
["pp2_bl5_2_total",{"$f":"'T2-B(PP2)'!$J$390","v":0},"#'T2-B(PP2)'!$J$390"]
["pp2_bl5_2_total_in",{"$f":"'T2-B(PP2)'!$F$390","v":0},"#'T2-B(PP2)'!$F$390"]
["pp2_bl5_2_total_out",{"$f":"'T2-B(PP2)'!$I$390","v":0},"#'T2-B(PP2)'!$I$390"]
["pp2_bl5_total",{"$f":"'T2-B(PP2)'!$J$411","v":0},"#'T2-B(PP2)'!$J$411"]
["pp2_bl5_total_in",{"$f":"'T2-B(PP2)'!$F$411","v":0},"#'T2-B(PP2)'!$F$411"]
["pp2_bl5_total_out",{"$f":"'T2-B(PP2)'!$I$411","v":0},"#'T2-B(PP2)'!$I$411"]
["pp2_bl6_1_1_name",{"$f":"'T2-B(PP2)'!$B$416","v":0},"#'T2-B(PP2)'!$B$416"]
["pp2_bl6_1_1_rate_in",{"$f":"'T2-B(PP2)'!$E$416","v":0},"#'T2-B(PP2)'!$E$416"]
["pp2_bl6_1_1_rate_out",{"$f":"'T2-B(PP2)'!$H$416","v":0},"#'T2-B(PP2)'!$H$416"]
["pp2_bl6_1_1_total",{"$f":"'T2-B(PP2)'!$J$416","v":0},"#'T2-B(PP2)'!$J$416"]
["pp2_bl6_1_1_total_in",{"$f":"'T2-B(PP2)'!$F$416","v":0},"#'T2-B(PP2)'!$F$416"]
["pp2_bl6_1_1_total_out",{"$f":"'T2-B(PP2)'!$I$416","v":0},"#'T2-B(PP2)'!$I$416"]
["pp2_bl6_1_1_unit",{"$f":"'T2-B(PP2)'!$C$416","v":0},"#'T2-B(PP2)'!$C$416"]
["pp2_bl6_1_1_unit_in",{"$f":"'T2-B(PP2)'!$D$416","v":0},"#'T2-B(PP2)'!$D$416"]
["pp2_bl6_1_1_units_out",{"$f":"'T2-B(PP2)'!$G$416","v":0},"#'T2-B(PP2)'!$G$416"]
["pp2_bl6_1_10_name",{"$f":"'T2-B(PP2)'!$B$425","v":0},"#'T2-B(PP2)'!$B$425"]
["pp2_bl6_1_10_rate_in",{"$f":"'T2-B(PP2)'!$E$425","v":0},"#'T2-B(PP2)'!$E$425"]
["pp2_bl6_1_10_rate_out",{"$f":"'T2-B(PP2)'!$H$425","v":0},"#'T2-B(PP2)'!$H$425"]
["pp2_bl6_1_10_total",{"$f":"'T2-B(PP2)'!$J$425","v":0},"#'T2-B(PP2)'!$J$425"]
["pp2_bl6_1_10_total_in",{"$f":"'T2-B(PP2)'!$F$425","v":0},"#'T2-B(PP2)'!$F$425"]
["pp2_bl6_1_10_total_out",{"$f":"'T2-B(PP2)'!$I$425","v":0},"#'T2-B(PP2)'!$I$425"]
["pp2_bl6_1_10_unit",{"$f":"'T2-B(PP2)'!$C$425","v":0},"#'T2-B(PP2)'!$C$425"]
["pp2_bl6_1_10_unit_in",{"$f":"'T2-B(PP2)'!$D$425","v":0},"#'T2-B(PP2)'!$D$425"]
["pp2_bl6_1_10_units_out",{"$f":"'T2-B(PP2)'!$G$425","v":0},"#'T2-B(PP2)'!$G$425"]
["pp2_bl6_1_2_name",{"$f":"'T2-B(PP2)'!$B$417","v":0},"#'T2-B(PP2)'!$B$417"]
["pp2_bl6_1_2_rate_in",{"$f":"'T2-B(PP2)'!$E$417","v":0},"#'T2-B(PP2)'!$E$417"]
["pp2_bl6_1_2_rate_out",{"$f":"'T2-B(PP2)'!$H$417","v":0},"#'T2-B(PP2)'!$H$417"]
["pp2_bl6_1_2_total",{"$f":"'T2-B(PP2)'!$J$417","v":0},"#'T2-B(PP2)'!$J$417"]
["pp2_bl6_1_2_total_in",{"$f":"'T2-B(PP2)'!$F$417","v":0},"#'T2-B(PP2)'!$F$417"]
["pp2_bl6_1_2_total_out",{"$f":"'T2-B(PP2)'!$I$417","v":0},"#'T2-B(PP2)'!$I$417"]
["pp2_bl6_1_2_unit",{"$f":"'T2-B(PP2)'!$C$417","v":0},"#'T2-B(PP2)'!$C$417"]
["pp2_bl6_1_2_unit_in",{"$f":"'T2-B(PP2)'!$D$417","v":0},"#'T2-B(PP2)'!$D$417"]
["pp2_bl6_1_2_units_out",{"$f":"'T2-B(PP2)'!$G$417","v":0},"#'T2-B(PP2)'!$G$417"]
["pp2_bl6_1_3_name",{"$f":"'T2-B(PP2)'!$B$418","v":0},"#'T2-B(PP2)'!$B$418"]
["pp2_bl6_1_3_rate_in",{"$f":"'T2-B(PP2)'!$E$418","v":0},"#'T2-B(PP2)'!$E$418"]
["pp2_bl6_1_3_rate_out",{"$f":"'T2-B(PP2)'!$H$418","v":0},"#'T2-B(PP2)'!$H$418"]
["pp2_bl6_1_3_total",{"$f":"'T2-B(PP2)'!$J$418","v":0},"#'T2-B(PP2)'!$J$418"]
["pp2_bl6_1_3_total_in",{"$f":"'T2-B(PP2)'!$F$418","v":0},"#'T2-B(PP2)'!$F$418"]
["pp2_bl6_1_3_total_out",{"$f":"'T2-B(PP2)'!$I$418","v":0},"#'T2-B(PP2)'!$I$418"]
["pp2_bl6_1_3_unit",{"$f":"'T2-B(PP2)'!$C$418","v":0},"#'T2-B(PP2)'!$C$418"]
["pp2_bl6_1_3_unit_in",{"$f":"'T2-B(PP2)'!$D$418","v":0},"#'T2-B(PP2)'!$D$418"]
["pp2_bl6_1_3_units_out",{"$f":"'T2-B(PP2)'!$G$418","v":0},"#'T2-B(PP2)'!$G$418"]
["pp2_bl6_1_4_name",{"$f":"'T2-B(PP2)'!$B$419","v":0},"#'T2-B(PP2)'!$B$419"]
["pp2_bl6_1_4_rate_in",{"$f":"'T2-B(PP2)'!$E$419","v":0},"#'T2-B(PP2)'!$E$419"]
["pp2_bl6_1_4_rate_out",{"$f":"'T2-B(PP2)'!$H$419","v":0},"#'T2-B(PP2)'!$H$419"]
["pp2_bl6_1_4_total",{"$f":"'T2-B(PP2)'!$J$419","v":0},"#'T2-B(PP2)'!$J$419"]
["pp2_bl6_1_4_total_in",{"$f":"'T2-B(PP2)'!$F$419","v":0},"#'T2-B(PP2)'!$F$419"]
["pp2_bl6_1_4_total_out",{"$f":"'T2-B(PP2)'!$I$419","v":0},"#'T2-B(PP2)'!$I$419"]
["pp2_bl6_1_4_unit",{"$f":"'T2-B(PP2)'!$C$419","v":0},"#'T2-B(PP2)'!$C$419"]
["pp2_bl6_1_4_unit_in",{"$f":"'T2-B(PP2)'!$D$419","v":0},"#'T2-B(PP2)'!$D$419"]
["pp2_bl6_1_4_units_out",{"$f":"'T2-B(PP2)'!$G$419","v":0},"#'T2-B(PP2)'!$G$419"]
["pp2_bl6_1_5_name",{"$f":"'T2-B(PP2)'!$B$420","v":0},"#'T2-B(PP2)'!$B$420"]
["pp2_bl6_1_5_rate_in",{"$f":"'T2-B(PP2)'!$E$420","v":0},"#'T2-B(PP2)'!$E$420"]
["pp2_bl6_1_5_rate_out",{"$f":"'T2-B(PP2)'!$H$420","v":0},"#'T2-B(PP2)'!$H$420"]
["pp2_bl6_1_5_total",{"$f":"'T2-B(PP2)'!$J$420","v":0},"#'T2-B(PP2)'!$J$420"]
["pp2_bl6_1_5_total_in",{"$f":"'T2-B(PP2)'!$F$420","v":0},"#'T2-B(PP2)'!$F$420"]
["pp2_bl6_1_5_total_out",{"$f":"'T2-B(PP2)'!$I$420","v":0},"#'T2-B(PP2)'!$I$420"]
["pp2_bl6_1_5_unit",{"$f":"'T2-B(PP2)'!$C$420","v":0},"#'T2-B(PP2)'!$C$420"]
["pp2_bl6_1_5_unit_in",{"$f":"'T2-B(PP2)'!$D$420","v":0},"#'T2-B(PP2)'!$D$420"]
["pp2_bl6_1_5_units_out",{"$f":"'T2-B(PP2)'!$G$420","v":0},"#'T2-B(PP2)'!$G$420"]
["pp2_bl6_1_6_name",{"$f":"'T2-B(PP2)'!$B$421","v":0},"#'T2-B(PP2)'!$B$421"]
["pp2_bl6_1_6_rate_in",{"$f":"'T2-B(PP2)'!$E$421","v":0},"#'T2-B(PP2)'!$E$421"]
["pp2_bl6_1_6_rate_out",{"$f":"'T2-B(PP2)'!$H$421","v":0},"#'T2-B(PP2)'!$H$421"]
["pp2_bl6_1_6_total",{"$f":"'T2-B(PP2)'!$J$421","v":0},"#'T2-B(PP2)'!$J$421"]
["pp2_bl6_1_6_total_in",{"$f":"'T2-B(PP2)'!$F$421","v":0},"#'T2-B(PP2)'!$F$421"]
["pp2_bl6_1_6_total_out",{"$f":"'T2-B(PP2)'!$I$421","v":0},"#'T2-B(PP2)'!$I$421"]
["pp2_bl6_1_6_unit",{"$f":"'T2-B(PP2)'!$C$421","v":0},"#'T2-B(PP2)'!$C$421"]
["pp2_bl6_1_6_unit_in",{"$f":"'T2-B(PP2)'!$D$421","v":0},"#'T2-B(PP2)'!$D$421"]
["pp2_bl6_1_6_units_out",{"$f":"'T2-B(PP2)'!$G$421","v":0},"#'T2-B(PP2)'!$G$421"]
["pp2_bl6_1_7_name",{"$f":"'T2-B(PP2)'!$B$422","v":0},"#'T2-B(PP2)'!$B$422"]
["pp2_bl6_1_7_rate_in",{"$f":"'T2-B(PP2)'!$E$422","v":0},"#'T2-B(PP2)'!$E$422"]
["pp2_bl6_1_7_rate_out",{"$f":"'T2-B(PP2)'!$H$422","v":0},"#'T2-B(PP2)'!$H$422"]
["pp2_bl6_1_7_total",{"$f":"'T2-B(PP2)'!$J$422","v":0},"#'T2-B(PP2)'!$J$422"]
["pp2_bl6_1_7_total_in",{"$f":"'T2-B(PP2)'!$F$422","v":0},"#'T2-B(PP2)'!$F$422"]
["pp2_bl6_1_7_total_out",{"$f":"'T2-B(PP2)'!$I$422","v":0},"#'T2-B(PP2)'!$I$422"]
["pp2_bl6_1_7_unit",{"$f":"'T2-B(PP2)'!$C$422","v":0},"#'T2-B(PP2)'!$C$422"]
["pp2_bl6_1_7_unit_in",{"$f":"'T2-B(PP2)'!$D$422","v":0},"#'T2-B(PP2)'!$D$422"]
["pp2_bl6_1_7_units_out",{"$f":"'T2-B(PP2)'!$G$422","v":0},"#'T2-B(PP2)'!$G$422"]
["pp2_bl6_1_8_name",{"$f":"'T2-B(PP2)'!$B$423","v":0},"#'T2-B(PP2)'!$B$423"]
["pp2_bl6_1_8_rate_in",{"$f":"'T2-B(PP2)'!$E$423","v":0},"#'T2-B(PP2)'!$E$423"]
["pp2_bl6_1_8_rate_out",{"$f":"'T2-B(PP2)'!$H$423","v":0},"#'T2-B(PP2)'!$H$423"]
["pp2_bl6_1_8_total",{"$f":"'T2-B(PP2)'!$J$423","v":0},"#'T2-B(PP2)'!$J$423"]
["pp2_bl6_1_8_total_in",{"$f":"'T2-B(PP2)'!$F$423","v":0},"#'T2-B(PP2)'!$F$423"]
["pp2_bl6_1_8_total_out",{"$f":"'T2-B(PP2)'!$I$423","v":0},"#'T2-B(PP2)'!$I$423"]
["pp2_bl6_1_8_unit",{"$f":"'T2-B(PP2)'!$C$423","v":0},"#'T2-B(PP2)'!$C$423"]
["pp2_bl6_1_8_unit_in",{"$f":"'T2-B(PP2)'!$D$423","v":0},"#'T2-B(PP2)'!$D$423"]
["pp2_bl6_1_8_units_out",{"$f":"'T2-B(PP2)'!$G$423","v":0},"#'T2-B(PP2)'!$G$423"]
["pp2_bl6_1_9_name",{"$f":"'T2-B(PP2)'!$B$424","v":0},"#'T2-B(PP2)'!$B$424"]
["pp2_bl6_1_9_rate_in",{"$f":"'T2-B(PP2)'!$E$424","v":0},"#'T2-B(PP2)'!$E$424"]
["pp2_bl6_1_9_rate_out",{"$f":"'T2-B(PP2)'!$H$424","v":0},"#'T2-B(PP2)'!$H$424"]
["pp2_bl6_1_9_total",{"$f":"'T2-B(PP2)'!$J$424","v":0},"#'T2-B(PP2)'!$J$424"]
["pp2_bl6_1_9_total_in",{"$f":"'T2-B(PP2)'!$F$424","v":0},"#'T2-B(PP2)'!$F$424"]
["pp2_bl6_1_9_total_out",{"$f":"'T2-B(PP2)'!$I$424","v":0},"#'T2-B(PP2)'!$I$424"]
["pp2_bl6_1_9_unit",{"$f":"'T2-B(PP2)'!$C$424","v":0},"#'T2-B(PP2)'!$C$424"]
["pp2_bl6_1_9_unit_in",{"$f":"'T2-B(PP2)'!$D$424","v":0},"#'T2-B(PP2)'!$D$424"]
["pp2_bl6_1_9_units_out",{"$f":"'T2-B(PP2)'!$G$424","v":0},"#'T2-B(PP2)'!$G$424"]
["pp2_bl6_1_total",{"$f":"'T2-B(PP2)'!$J$415","v":0},"#'T2-B(PP2)'!$J$415"]
["pp2_bl6_1_total_in",{"$f":"'T2-B(PP2)'!$F$415","v":0},"#'T2-B(PP2)'!$F$415"]
["pp2_bl6_1_total_out",{"$f":"'T2-B(PP2)'!$I$415","v":0},"#'T2-B(PP2)'!$I$415"]
["pp2_bl6_2_1_name",{"$f":"'T2-B(PP2)'!$B$427","v":0},"#'T2-B(PP2)'!$B$427"]
["pp2_bl6_2_1_rate_in",{"$f":"'T2-B(PP2)'!$E$427","v":0},"#'T2-B(PP2)'!$E$427"]
["pp2_bl6_2_1_rate_out",{"$f":"'T2-B(PP2)'!$H$427","v":0},"#'T2-B(PP2)'!$H$427"]
["pp2_bl6_2_1_total",{"$f":"'T2-B(PP2)'!$J$427","v":0},"#'T2-B(PP2)'!$J$427"]
["pp2_bl6_2_1_total_in",{"$f":"'T2-B(PP2)'!$F$427","v":0},"#'T2-B(PP2)'!$F$427"]
["pp2_bl6_2_1_total_out",{"$f":"'T2-B(PP2)'!$I$427","v":0},"#'T2-B(PP2)'!$I$427"]
["pp2_bl6_2_1_unit",{"$f":"'T2-B(PP2)'!$C$427","v":0},"#'T2-B(PP2)'!$C$427"]
["pp2_bl6_2_1_unit_in",{"$f":"'T2-B(PP2)'!$D$427","v":0},"#'T2-B(PP2)'!$D$427"]
["pp2_bl6_2_1_units_out",{"$f":"'T2-B(PP2)'!$G$427","v":0},"#'T2-B(PP2)'!$G$427"]
["pp2_bl6_2_10_name",{"$f":"'T2-B(PP2)'!$B$436","v":0},"#'T2-B(PP2)'!$B$436"]
["pp2_bl6_2_10_rate_in",{"$f":"'T2-B(PP2)'!$E$436","v":0},"#'T2-B(PP2)'!$E$436"]
["pp2_bl6_2_10_rate_out",{"$f":"'T2-B(PP2)'!$H$436","v":0},"#'T2-B(PP2)'!$H$436"]
["pp2_bl6_2_10_total",{"$f":"'T2-B(PP2)'!$J$436","v":0},"#'T2-B(PP2)'!$J$436"]
["pp2_bl6_2_10_total_in",{"$f":"'T2-B(PP2)'!$F$436","v":0},"#'T2-B(PP2)'!$F$436"]
["pp2_bl6_2_10_total_out",{"$f":"'T2-B(PP2)'!$I$436","v":0},"#'T2-B(PP2)'!$I$436"]
["pp2_bl6_2_10_unit",{"$f":"'T2-B(PP2)'!$C$436","v":0},"#'T2-B(PP2)'!$C$436"]
["pp2_bl6_2_10_unit_in",{"$f":"'T2-B(PP2)'!$D$436","v":0},"#'T2-B(PP2)'!$D$436"]
["pp2_bl6_2_10_units_out",{"$f":"'T2-B(PP2)'!$G$436","v":0},"#'T2-B(PP2)'!$G$436"]
["pp2_bl6_2_2_name",{"$f":"'T2-B(PP2)'!$B$428","v":0},"#'T2-B(PP2)'!$B$428"]
["pp2_bl6_2_2_rate_in",{"$f":"'T2-B(PP2)'!$E$428","v":0},"#'T2-B(PP2)'!$E$428"]
["pp2_bl6_2_2_rate_out",{"$f":"'T2-B(PP2)'!$H$428","v":0},"#'T2-B(PP2)'!$H$428"]
["pp2_bl6_2_2_total",{"$f":"'T2-B(PP2)'!$J$428","v":0},"#'T2-B(PP2)'!$J$428"]
["pp2_bl6_2_2_total_in",{"$f":"'T2-B(PP2)'!$F$428","v":0},"#'T2-B(PP2)'!$F$428"]
["pp2_bl6_2_2_total_out",{"$f":"'T2-B(PP2)'!$I$428","v":0},"#'T2-B(PP2)'!$I$428"]
["pp2_bl6_2_2_unit",{"$f":"'T2-B(PP2)'!$C$428","v":0},"#'T2-B(PP2)'!$C$428"]
["pp2_bl6_2_2_unit_in",{"$f":"'T2-B(PP2)'!$D$428","v":0},"#'T2-B(PP2)'!$D$428"]
["pp2_bl6_2_2_units_out",{"$f":"'T2-B(PP2)'!$G$428","v":0},"#'T2-B(PP2)'!$G$428"]
["pp2_bl6_2_3_name",{"$f":"'T2-B(PP2)'!$B$429","v":0},"#'T2-B(PP2)'!$B$429"]
["pp2_bl6_2_3_rate_in",{"$f":"'T2-B(PP2)'!$E$429","v":0},"#'T2-B(PP2)'!$E$429"]
["pp2_bl6_2_3_rate_out",{"$f":"'T2-B(PP2)'!$H$429","v":0},"#'T2-B(PP2)'!$H$429"]
["pp2_bl6_2_3_total",{"$f":"'T2-B(PP2)'!$J$429","v":0},"#'T2-B(PP2)'!$J$429"]
["pp2_bl6_2_3_total_in",{"$f":"'T2-B(PP2)'!$F$429","v":0},"#'T2-B(PP2)'!$F$429"]
["pp2_bl6_2_3_total_out",{"$f":"'T2-B(PP2)'!$I$429","v":0},"#'T2-B(PP2)'!$I$429"]
["pp2_bl6_2_3_unit",{"$f":"'T2-B(PP2)'!$C$429","v":0},"#'T2-B(PP2)'!$C$429"]
["pp2_bl6_2_3_unit_in",{"$f":"'T2-B(PP2)'!$D$429","v":0},"#'T2-B(PP2)'!$D$429"]
["pp2_bl6_2_3_units_out",{"$f":"'T2-B(PP2)'!$G$429","v":0},"#'T2-B(PP2)'!$G$429"]
["pp2_bl6_2_4_name",{"$f":"'T2-B(PP2)'!$B$430","v":0},"#'T2-B(PP2)'!$B$430"]
["pp2_bl6_2_4_rate_in",{"$f":"'T2-B(PP2)'!$E$430","v":0},"#'T2-B(PP2)'!$E$430"]
["pp2_bl6_2_4_rate_out",{"$f":"'T2-B(PP2)'!$H$430","v":0},"#'T2-B(PP2)'!$H$430"]
["pp2_bl6_2_4_total",{"$f":"'T2-B(PP2)'!$J$430","v":0},"#'T2-B(PP2)'!$J$430"]
["pp2_bl6_2_4_total_in",{"$f":"'T2-B(PP2)'!$F$430","v":0},"#'T2-B(PP2)'!$F$430"]
["pp2_bl6_2_4_total_out",{"$f":"'T2-B(PP2)'!$I$430","v":0},"#'T2-B(PP2)'!$I$430"]
["pp2_bl6_2_4_unit",{"$f":"'T2-B(PP2)'!$C$430","v":0},"#'T2-B(PP2)'!$C$430"]
["pp2_bl6_2_4_unit_in",{"$f":"'T2-B(PP2)'!$D$430","v":0},"#'T2-B(PP2)'!$D$430"]
["pp2_bl6_2_4_units_out",{"$f":"'T2-B(PP2)'!$G$430","v":0},"#'T2-B(PP2)'!$G$430"]
["pp2_bl6_2_5_name",{"$f":"'T2-B(PP2)'!$B$431","v":0},"#'T2-B(PP2)'!$B$431"]
["pp2_bl6_2_5_rate_in",{"$f":"'T2-B(PP2)'!$E$431","v":0},"#'T2-B(PP2)'!$E$431"]
["pp2_bl6_2_5_rate_out",{"$f":"'T2-B(PP2)'!$H$431","v":0},"#'T2-B(PP2)'!$H$431"]
["pp2_bl6_2_5_total",{"$f":"'T2-B(PP2)'!$J$431","v":0},"#'T2-B(PP2)'!$J$431"]
["pp2_bl6_2_5_total_in",{"$f":"'T2-B(PP2)'!$F$431","v":0},"#'T2-B(PP2)'!$F$431"]
["pp2_bl6_2_5_total_out",{"$f":"'T2-B(PP2)'!$I$431","v":0},"#'T2-B(PP2)'!$I$431"]
["pp2_bl6_2_5_unit",{"$f":"'T2-B(PP2)'!$C$431","v":0},"#'T2-B(PP2)'!$C$431"]
["pp2_bl6_2_5_unit_in",{"$f":"'T2-B(PP2)'!$D$431","v":0},"#'T2-B(PP2)'!$D$431"]
["pp2_bl6_2_5_units_out",{"$f":"'T2-B(PP2)'!$G$431","v":0},"#'T2-B(PP2)'!$G$431"]
["pp2_bl6_2_6_name",{"$f":"'T2-B(PP2)'!$B$432","v":0},"#'T2-B(PP2)'!$B$432"]
["pp2_bl6_2_6_rate_in",{"$f":"'T2-B(PP2)'!$E$432","v":0},"#'T2-B(PP2)'!$E$432"]
["pp2_bl6_2_6_rate_out",{"$f":"'T2-B(PP2)'!$H$432","v":0},"#'T2-B(PP2)'!$H$432"]
["pp2_bl6_2_6_total",{"$f":"'T2-B(PP2)'!$J$432","v":0},"#'T2-B(PP2)'!$J$432"]
["pp2_bl6_2_6_total_in",{"$f":"'T2-B(PP2)'!$F$432","v":0},"#'T2-B(PP2)'!$F$432"]
["pp2_bl6_2_6_total_out",{"$f":"'T2-B(PP2)'!$I$432","v":0},"#'T2-B(PP2)'!$I$432"]
["pp2_bl6_2_6_unit",{"$f":"'T2-B(PP2)'!$C$432","v":0},"#'T2-B(PP2)'!$C$432"]
["pp2_bl6_2_6_unit_in",{"$f":"'T2-B(PP2)'!$D$432","v":0},"#'T2-B(PP2)'!$D$432"]
["pp2_bl6_2_6_units_out",{"$f":"'T2-B(PP2)'!$G$432","v":0},"#'T2-B(PP2)'!$G$432"]
["pp2_bl6_2_7_name",{"$f":"'T2-B(PP2)'!$B$433","v":0},"#'T2-B(PP2)'!$B$433"]
["pp2_bl6_2_7_rate_in",{"$f":"'T2-B(PP2)'!$E$433","v":0},"#'T2-B(PP2)'!$E$433"]
["pp2_bl6_2_7_rate_out",{"$f":"'T2-B(PP2)'!$H$433","v":0},"#'T2-B(PP2)'!$H$433"]
["pp2_bl6_2_7_total",{"$f":"'T2-B(PP2)'!$J$433","v":0},"#'T2-B(PP2)'!$J$433"]
["pp2_bl6_2_7_total_in",{"$f":"'T2-B(PP2)'!$F$433","v":0},"#'T2-B(PP2)'!$F$433"]
["pp2_bl6_2_7_total_out",{"$f":"'T2-B(PP2)'!$I$433","v":0},"#'T2-B(PP2)'!$I$433"]
["pp2_bl6_2_7_unit",{"$f":"'T2-B(PP2)'!$C$433","v":0},"#'T2-B(PP2)'!$C$433"]
["pp2_bl6_2_7_unit_in",{"$f":"'T2-B(PP2)'!$D$433","v":0},"#'T2-B(PP2)'!$D$433"]
["pp2_bl6_2_7_units_out",{"$f":"'T2-B(PP2)'!$G$433","v":0},"#'T2-B(PP2)'!$G$433"]
["pp2_bl6_2_8_name",{"$f":"'T2-B(PP2)'!$B$434","v":0},"#'T2-B(PP2)'!$B$434"]
["pp2_bl6_2_8_rate_in",{"$f":"'T2-B(PP2)'!$E$434","v":0},"#'T2-B(PP2)'!$E$434"]
["pp2_bl6_2_8_rate_out",{"$f":"'T2-B(PP2)'!$H$434","v":0},"#'T2-B(PP2)'!$H$434"]
["pp2_bl6_2_8_total",{"$f":"'T2-B(PP2)'!$J$434","v":0},"#'T2-B(PP2)'!$J$434"]
["pp2_bl6_2_8_total_in",{"$f":"'T2-B(PP2)'!$F$434","v":0},"#'T2-B(PP2)'!$F$434"]
["pp2_bl6_2_8_total_out",{"$f":"'T2-B(PP2)'!$I$434","v":0},"#'T2-B(PP2)'!$I$434"]
["pp2_bl6_2_8_unit",{"$f":"'T2-B(PP2)'!$C$434","v":0},"#'T2-B(PP2)'!$C$434"]
["pp2_bl6_2_8_unit_in",{"$f":"'T2-B(PP2)'!$D$434","v":0},"#'T2-B(PP2)'!$D$434"]
["pp2_bl6_2_8_units_out",{"$f":"'T2-B(PP2)'!$G$434","v":0},"#'T2-B(PP2)'!$G$434"]
["pp2_bl6_2_9_name",{"$f":"'T2-B(PP2)'!$B$435","v":0},"#'T2-B(PP2)'!$B$435"]
["pp2_bl6_2_9_rate_in",{"$f":"'T2-B(PP2)'!$E$435","v":0},"#'T2-B(PP2)'!$E$435"]
["pp2_bl6_2_9_rate_out",{"$f":"'T2-B(PP2)'!$H$435","v":0},"#'T2-B(PP2)'!$H$435"]
["pp2_bl6_2_9_total",{"$f":"'T2-B(PP2)'!$J$435","v":0},"#'T2-B(PP2)'!$J$435"]
["pp2_bl6_2_9_total_in",{"$f":"'T2-B(PP2)'!$F$435","v":0},"#'T2-B(PP2)'!$F$435"]
["pp2_bl6_2_9_total_out",{"$f":"'T2-B(PP2)'!$I$435","v":0},"#'T2-B(PP2)'!$I$435"]
["pp2_bl6_2_9_unit",{"$f":"'T2-B(PP2)'!$C$435","v":0},"#'T2-B(PP2)'!$C$435"]
["pp2_bl6_2_9_unit_in",{"$f":"'T2-B(PP2)'!$D$435","v":0},"#'T2-B(PP2)'!$D$435"]
["pp2_bl6_2_9_units_out",{"$f":"'T2-B(PP2)'!$G$435","v":0},"#'T2-B(PP2)'!$G$435"]
["pp2_bl6_2_total",{"$f":"'T2-B(PP2)'!$J$426","v":0},"#'T2-B(PP2)'!$J$426"]
["pp2_bl6_2_total_in",{"$f":"'T2-B(PP2)'!$F$426","v":0},"#'T2-B(PP2)'!$F$426"]
["pp2_bl6_2_total_out",{"$f":"'T2-B(PP2)'!$I$426","v":0},"#'T2-B(PP2)'!$I$426"]
["pp2_bl6_total",{"$f":"'T2-B(PP2)'!$J$437","v":0},"#'T2-B(PP2)'!$J$437"]
["pp2_bl6_total_in",{"$f":"'T2-B(PP2)'!$F$437","v":0},"#'T2-B(PP2)'!$F$437"]
["pp2_bl6_total_out",{"$f":"'T2-B(PP2)'!$I$437","v":0},"#'T2-B(PP2)'!$I$437"]
["pp2_bl7_1_1_name",{"$f":"'T2-B(PP2)'!$B$440","v":0},"#'T2-B(PP2)'!$B$440"]
["pp2_bl7_1_1_rate_in",{"$f":"'T2-B(PP2)'!$H$440","v":0},"#'T2-B(PP2)'!$H$440"]
["pp2_bl7_1_1_rate_out",{"$f":"'T2-B(PP2)'!$N$440","v":0},"#'T2-B(PP2)'!$N$440"]
["pp2_bl7_1_1_total",{"$f":"'T2-B(PP2)'!$I$440","v":0},"#'T2-B(PP2)'!$I$440"]
["pp2_bl7_1_1_total_in",{"$f":"'T2-B(PP2)'!$P$440","v":0},"#'T2-B(PP2)'!$P$440"]
["pp2_bl7_1_1_total_out",{"$f":"'T2-B(PP2)'!$O$440","v":0},"#'T2-B(PP2)'!$O$440"]
["pp2_bl7_1_1_unit",{"$f":"'T2-B(PP2)'!$F$440","v":0},"#'T2-B(PP2)'!$F$440"]
["pp2_bl7_1_1_unit_in",{"$f":"'T2-B(PP2)'!$G$440","v":0},"#'T2-B(PP2)'!$G$440"]
["pp2_bl7_1_1_units_out",{"$f":"'T2-B(PP2)'!$M$440","v":0},"#'T2-B(PP2)'!$M$440"]
["pp2_competence",{"$f":"'PP2'!$B$38","v":0},"#'PP2'!$B$38"]
["pp2_country",{"$f":"'PP2'!$K$14","v":2},"#'PP2'!$K$14"]
["pp2_fax",{"$f":"'PP2'!$C$29","v":0},"#'PP2'!$C$29"]
["pp2_is_bg",{"$f":"'PP2'!$D$13","v":0},"#'PP2'!$D$13"]
["pp2_is_pc",{"$f":"'PP2'!$F$13","v":0},"#'PP2'!$F$13"]
["pp2_legal_representative",{"$f":"'PP2'!$C$23","v":0},"#'PP2'!$C$23"]
["pp2_legal_representative_position",{"$f":"'PP2'!$C$25","v":0},"#'PP2'!$C$25"]
["pp2_mail",{"$f":"'PP2'!$C$31","v":0},"#'PP2'!$C$31"]
["pp2_nat_code",{"$f":"'PP2'!$C$70","v":0},"#'PP2'!$C$70"]
["pp2_nuts3",{"$f":"'PP2'!$C$15","v":0},"#'PP2'!$C$15"]
["pp2_organisation_en",{"$f":"'PP2'!$C$7","v":0},"#'PP2'!$C$7"]
["pp2_organisation_native",{"$f":"'PP2'!$C$9","v":0},"#'PP2'!$C$9"]
["pp2_pe_date1",{"$f":"'PP2'!$G$47","v":0},"#'PP2'!$G$47"]
["pp2_pe_date2",{"$f":"'PP2'!$G$55","v":0},"#'PP2'!$G$55"]
["pp2_pe_date3",{"$f":"'PP2'!$G$63","v":0},"#'PP2'!$G$63"]
["pp2_pe_ga1",{"$f":"'PP2'!$G$46","v":0},"#'PP2'!$G$46"]
["pp2_pe_ga2",{"$f":"'PP2'!$G$54","v":0},"#'PP2'!$G$54"]
["pp2_pe_ga3",{"$f":"'PP2'!$G$62","v":0},"#'PP2'!$G$62"]
["pp2_pe_ip1",{"$f":"'PP2'!$C$43","v":0},"#'PP2'!$C$43"]
["pp2_pe_ip2",{"$f":"'PP2'!$C$51","v":0},"#'PP2'!$C$51"]
["pp2_pe_ip3",{"$f":"'PP2'!$C$59","v":0},"#'PP2'!$C$59"]
["pp2_pe_or1",{"$f":"'PP2'!$C$47","v":0},"#'PP2'!$C$47"]
["pp2_pe_or2",{"$f":"'PP2'!$C$55","v":0},"#'PP2'!$C$55"]
["pp2_pe_or3",{"$f":"'PP2'!$C$63","v":0},"#'PP2'!$C$63"]
["pp2_pe_pt1",{"$f":"'PP2'!$C$44","v":0},"#'PP2'!$C$44"]
["pp2_pe_pt2",{"$f":"'PP2'!$C$52","v":0},"#'PP2'!$C$52"]
["pp2_pe_pt3",{"$f":"'PP2'!$C$60","v":0},"#'PP2'!$C$60"]
["pp2_pe_sd1",{"$f":"'PP2'!$C$45","v":0},"#'PP2'!$C$45"]
["pp2_pe_sd2",{"$f":"'PP2'!$C$53","v":0},"#'PP2'!$C$53"]
["pp2_pe_sd3",{"$f":"'PP2'!$C$61","v":0},"#'PP2'!$C$61"]
["pp2_pe_tev1",{"$f":"'PP2'!$C$46","v":0},"#'PP2'!$C$46"]
["pp2_pe_tev2",{"$f":"'PP2'!$C$54","v":0},"#'PP2'!$C$54"]
["pp2_pe_tev3",{"$f":"'PP2'!$C$62","v":0},"#'PP2'!$C$62"]
["pp2_phone",{"$f":"'PP2'!$C$27","v":0},"#'PP2'!$C$27"]
["pp2_post_code",{"$f":"'PP2'!$C$21","v":0},"#'PP2'!$C$21"]
["pp2_town",{"$f":"'PP2'!$C$17","v":0},"#'PP2'!$C$17"]
["pp2_type_org",{"$f":"'PP2'!$C$11","v":0},"#'PP2'!$C$11"]
["pp2_vat_code",{"$f":"'PP2'!$C$72","v":0},"#'PP2'!$C$72"]
["pp2_website",{"$f":"'PP2'!$C$33","v":0},"#'PP2'!$C$33"]
["pp3_2014_fulltime_staff",{"$f":"'PP3'!$F$77","v":0},"#'PP3'!$F$77"]
["pp3_2014_parttime_staff",{"$f":"'PP3'!$G$77","v":0},"#'PP3'!$G$77"]
["pp3_2014_turnover",{"$f":"'PP3'!$C$77","v":0},"#'PP3'!$C$77"]
["pp3_2015_fulltime_staff",{"$f":"'PP3'!$F$78","v":0},"#'PP3'!$F$78"]
["pp3_2015_parttime_staff",{"$f":"'PP3'!$G$78","v":0},"#'PP3'!$G$78"]
["pp3_2015_turnover",{"$f":"'PP3'!$C$78","v":0},"#'PP3'!$C$78"]
["pp3_2016_fulltime_staff",{"$f":"'PP3'!$F$79","v":0},"#'PP3'!$F$79"]
["pp3_2016_parttime_staff",{"$f":"'PP3'!$G$79","v":0},"#'PP3'!$G$79"]
["pp3_2016_turnover",{"$f":"'PP3'!$C$79","v":0},"#'PP3'!$C$79"]
["pp3_address",{"$f":"'PP3'!$C$19","v":0},"#'PP3'!$C$19"]
["pp3_background1",{"$f":"'PP3'!$B$35","v":0},"#'PP3'!$B$35"]
["pp3_background2",{"$f":"'PP3'!$B$36","v":0},"#'PP3'!$B$36"]
["pp3_bl3_1_1_name",{"$f":"'T2-B(PP3)'!$B$36","v":0},"#'T2-B(PP3)'!$B$36"]
["pp3_bl3_1_1_rate_in",{"$f":"'T2-B(PP3)'!$E$36","v":0},"#'T2-B(PP3)'!$E$36"]
["pp3_bl3_1_1_rate_out",{"$f":"'T2-B(PP3)'!$H$36","v":0},"#'T2-B(PP3)'!$H$36"]
["pp3_bl3_1_1_total",{"$f":"'T2-B(PP3)'!$J$36","v":0},"#'T2-B(PP3)'!$J$36"]
["pp3_bl3_1_1_total_in",{"$f":"'T2-B(PP3)'!$F$36","v":0},"#'T2-B(PP3)'!$F$36"]
["pp3_bl3_1_1_total_out",{"$f":"'T2-B(PP3)'!$I$36","v":0},"#'T2-B(PP3)'!$I$36"]
["pp3_bl3_1_1_unit",{"$f":"'T2-B(PP3)'!$C$36","v":0},"#'T2-B(PP3)'!$C$36"]
["pp3_bl3_1_1_unit_in",{"$f":"'T2-B(PP3)'!$D$36","v":0},"#'T2-B(PP3)'!$D$36"]
["pp3_bl3_1_1_units_out",{"$f":"'T2-B(PP3)'!$G$36","v":0},"#'T2-B(PP3)'!$G$36"]
["pp3_bl3_1_10_name",{"$f":"'T2-B(PP3)'!$B$45","v":0},"#'T2-B(PP3)'!$B$45"]
["pp3_bl3_1_10_rate_in",{"$f":"'T2-B(PP3)'!$E$45","v":0},"#'T2-B(PP3)'!$E$45"]
["pp3_bl3_1_10_rate_out",{"$f":"'T2-B(PP3)'!$H$45","v":0},"#'T2-B(PP3)'!$H$45"]
["pp3_bl3_1_10_total",{"$f":"'T2-B(PP3)'!$J$45","v":0},"#'T2-B(PP3)'!$J$45"]
["pp3_bl3_1_10_total_in",{"$f":"'T2-B(PP3)'!$F$45","v":0},"#'T2-B(PP3)'!$F$45"]
["pp3_bl3_1_10_total_out",{"$f":"'T2-B(PP3)'!$I$45","v":0},"#'T2-B(PP3)'!$I$45"]
["pp3_bl3_1_10_unit",{"$f":"'T2-B(PP3)'!$C$45","v":0},"#'T2-B(PP3)'!$C$45"]
["pp3_bl3_1_10_unit_in",{"$f":"'T2-B(PP3)'!$D$45","v":0},"#'T2-B(PP3)'!$D$45"]
["pp3_bl3_1_10_units_out",{"$f":"'T2-B(PP3)'!$G$45","v":0},"#'T2-B(PP3)'!$G$45"]
["pp3_bl3_1_2_name",{"$f":"'T2-B(PP3)'!$B$37","v":0},"#'T2-B(PP3)'!$B$37"]
["pp3_bl3_1_2_rate_in",{"$f":"'T2-B(PP3)'!$E$37","v":0},"#'T2-B(PP3)'!$E$37"]
["pp3_bl3_1_2_rate_out",{"$f":"'T2-B(PP3)'!$H$37","v":0},"#'T2-B(PP3)'!$H$37"]
["pp3_bl3_1_2_total",{"$f":"'T2-B(PP3)'!$J$37","v":0},"#'T2-B(PP3)'!$J$37"]
["pp3_bl3_1_2_total_in",{"$f":"'T2-B(PP3)'!$F$37","v":0},"#'T2-B(PP3)'!$F$37"]
["pp3_bl3_1_2_total_out",{"$f":"'T2-B(PP3)'!$I$37","v":0},"#'T2-B(PP3)'!$I$37"]
["pp3_bl3_1_2_unit",{"$f":"'T2-B(PP3)'!$C$37","v":0},"#'T2-B(PP3)'!$C$37"]
["pp3_bl3_1_2_unit_in",{"$f":"'T2-B(PP3)'!$D$37","v":0},"#'T2-B(PP3)'!$D$37"]
["pp3_bl3_1_2_units_out",{"$f":"'T2-B(PP3)'!$G$37","v":0},"#'T2-B(PP3)'!$G$37"]
["pp3_bl3_1_3_name",{"$f":"'T2-B(PP3)'!$B$38","v":0},"#'T2-B(PP3)'!$B$38"]
["pp3_bl3_1_3_rate_in",{"$f":"'T2-B(PP3)'!$E$38","v":0},"#'T2-B(PP3)'!$E$38"]
["pp3_bl3_1_3_rate_out",{"$f":"'T2-B(PP3)'!$H$38","v":0},"#'T2-B(PP3)'!$H$38"]
["pp3_bl3_1_3_total",{"$f":"'T2-B(PP3)'!$J$38","v":0},"#'T2-B(PP3)'!$J$38"]
["pp3_bl3_1_3_total_in",{"$f":"'T2-B(PP3)'!$F$38","v":0},"#'T2-B(PP3)'!$F$38"]
["pp3_bl3_1_3_total_out",{"$f":"'T2-B(PP3)'!$I$38","v":0},"#'T2-B(PP3)'!$I$38"]
["pp3_bl3_1_3_unit",{"$f":"'T2-B(PP3)'!$C$38","v":0},"#'T2-B(PP3)'!$C$38"]
["pp3_bl3_1_3_unit_in",{"$f":"'T2-B(PP3)'!$D$38","v":0},"#'T2-B(PP3)'!$D$38"]
["pp3_bl3_1_3_units_out",{"$f":"'T2-B(PP3)'!$G$38","v":0},"#'T2-B(PP3)'!$G$38"]
["pp3_bl3_1_4_name",{"$f":"'T2-B(PP3)'!$B$39","v":0},"#'T2-B(PP3)'!$B$39"]
["pp3_bl3_1_4_rate_in",{"$f":"'T2-B(PP3)'!$E$39","v":0},"#'T2-B(PP3)'!$E$39"]
["pp3_bl3_1_4_rate_out",{"$f":"'T2-B(PP3)'!$H$39","v":0},"#'T2-B(PP3)'!$H$39"]
["pp3_bl3_1_4_total",{"$f":"'T2-B(PP3)'!$J$39","v":0},"#'T2-B(PP3)'!$J$39"]
["pp3_bl3_1_4_total_in",{"$f":"'T2-B(PP3)'!$F$39","v":0},"#'T2-B(PP3)'!$F$39"]
["pp3_bl3_1_4_total_out",{"$f":"'T2-B(PP3)'!$I$39","v":0},"#'T2-B(PP3)'!$I$39"]
["pp3_bl3_1_4_unit",{"$f":"'T2-B(PP3)'!$C$39","v":0},"#'T2-B(PP3)'!$C$39"]
["pp3_bl3_1_4_unit_in",{"$f":"'T2-B(PP3)'!$D$39","v":0},"#'T2-B(PP3)'!$D$39"]
["pp3_bl3_1_4_units_out",{"$f":"'T2-B(PP3)'!$G$39","v":0},"#'T2-B(PP3)'!$G$39"]
["pp3_bl3_1_5_name",{"$f":"'T2-B(PP3)'!$B$40","v":0},"#'T2-B(PP3)'!$B$40"]
["pp3_bl3_1_5_rate_in",{"$f":"'T2-B(PP3)'!$E$40","v":0},"#'T2-B(PP3)'!$E$40"]
["pp3_bl3_1_5_rate_out",{"$f":"'T2-B(PP3)'!$H$40","v":0},"#'T2-B(PP3)'!$H$40"]
["pp3_bl3_1_5_total",{"$f":"'T2-B(PP3)'!$J$40","v":0},"#'T2-B(PP3)'!$J$40"]
["pp3_bl3_1_5_total_in",{"$f":"'T2-B(PP3)'!$F$40","v":0},"#'T2-B(PP3)'!$F$40"]
["pp3_bl3_1_5_total_out",{"$f":"'T2-B(PP3)'!$I$40","v":0},"#'T2-B(PP3)'!$I$40"]
["pp3_bl3_1_5_unit",{"$f":"'T2-B(PP3)'!$C$40","v":0},"#'T2-B(PP3)'!$C$40"]
["pp3_bl3_1_5_unit_in",{"$f":"'T2-B(PP3)'!$D$40","v":0},"#'T2-B(PP3)'!$D$40"]
["pp3_bl3_1_5_units_out",{"$f":"'T2-B(PP3)'!$G$40","v":0},"#'T2-B(PP3)'!$G$40"]
["pp3_bl3_1_6_name",{"$f":"'T2-B(PP3)'!$B$41","v":0},"#'T2-B(PP3)'!$B$41"]
["pp3_bl3_1_6_rate_in",{"$f":"'T2-B(PP3)'!$E$41","v":0},"#'T2-B(PP3)'!$E$41"]
["pp3_bl3_1_6_rate_out",{"$f":"'T2-B(PP3)'!$H$41","v":0},"#'T2-B(PP3)'!$H$41"]
["pp3_bl3_1_6_total",{"$f":"'T2-B(PP3)'!$J$41","v":0},"#'T2-B(PP3)'!$J$41"]
["pp3_bl3_1_6_total_in",{"$f":"'T2-B(PP3)'!$F$41","v":0},"#'T2-B(PP3)'!$F$41"]
["pp3_bl3_1_6_total_out",{"$f":"'T2-B(PP3)'!$I$41","v":0},"#'T2-B(PP3)'!$I$41"]
["pp3_bl3_1_6_unit",{"$f":"'T2-B(PP3)'!$C$41","v":0},"#'T2-B(PP3)'!$C$41"]
["pp3_bl3_1_6_unit_in",{"$f":"'T2-B(PP3)'!$D$41","v":0},"#'T2-B(PP3)'!$D$41"]
["pp3_bl3_1_6_units_out",{"$f":"'T2-B(PP3)'!$G$41","v":0},"#'T2-B(PP3)'!$G$41"]
["pp3_bl3_1_7_name",{"$f":"'T2-B(PP3)'!$B$42","v":0},"#'T2-B(PP3)'!$B$42"]
["pp3_bl3_1_7_rate_in",{"$f":"'T2-B(PP3)'!$E$42","v":0},"#'T2-B(PP3)'!$E$42"]
["pp3_bl3_1_7_rate_out",{"$f":"'T2-B(PP3)'!$H$42","v":0},"#'T2-B(PP3)'!$H$42"]
["pp3_bl3_1_7_total",{"$f":"'T2-B(PP3)'!$J$42","v":0},"#'T2-B(PP3)'!$J$42"]
["pp3_bl3_1_7_total_in",{"$f":"'T2-B(PP3)'!$F$42","v":0},"#'T2-B(PP3)'!$F$42"]
["pp3_bl3_1_7_total_out",{"$f":"'T2-B(PP3)'!$I$42","v":0},"#'T2-B(PP3)'!$I$42"]
["pp3_bl3_1_7_unit",{"$f":"'T2-B(PP3)'!$C$42","v":0},"#'T2-B(PP3)'!$C$42"]
["pp3_bl3_1_7_unit_in",{"$f":"'T2-B(PP3)'!$D$42","v":0},"#'T2-B(PP3)'!$D$42"]
["pp3_bl3_1_7_units_out",{"$f":"'T2-B(PP3)'!$G$42","v":0},"#'T2-B(PP3)'!$G$42"]
["pp3_bl3_1_8_name",{"$f":"'T2-B(PP3)'!$B$43","v":0},"#'T2-B(PP3)'!$B$43"]
["pp3_bl3_1_8_rate_in",{"$f":"'T2-B(PP3)'!$E$43","v":0},"#'T2-B(PP3)'!$E$43"]
["pp3_bl3_1_8_rate_out",{"$f":"'T2-B(PP3)'!$H$43","v":0},"#'T2-B(PP3)'!$H$43"]
["pp3_bl3_1_8_total",{"$f":"'T2-B(PP3)'!$J$43","v":0},"#'T2-B(PP3)'!$J$43"]
["pp3_bl3_1_8_total_in",{"$f":"'T2-B(PP3)'!$F$43","v":0},"#'T2-B(PP3)'!$F$43"]
["pp3_bl3_1_8_total_out",{"$f":"'T2-B(PP3)'!$I$43","v":0},"#'T2-B(PP3)'!$I$43"]
["pp3_bl3_1_8_unit",{"$f":"'T2-B(PP3)'!$C$43","v":0},"#'T2-B(PP3)'!$C$43"]
["pp3_bl3_1_8_unit_in",{"$f":"'T2-B(PP3)'!$D$43","v":0},"#'T2-B(PP3)'!$D$43"]
["pp3_bl3_1_8_units_out",{"$f":"'T2-B(PP3)'!$G$43","v":0},"#'T2-B(PP3)'!$G$43"]
["pp3_bl3_1_9_name",{"$f":"'T2-B(PP3)'!$B$44","v":0},"#'T2-B(PP3)'!$B$44"]
["pp3_bl3_1_9_rate_in",{"$f":"'T2-B(PP3)'!$E$44","v":0},"#'T2-B(PP3)'!$E$44"]
["pp3_bl3_1_9_rate_out",{"$f":"'T2-B(PP3)'!$H$44","v":0},"#'T2-B(PP3)'!$H$44"]
["pp3_bl3_1_9_total",{"$f":"'T2-B(PP3)'!$J$44","v":0},"#'T2-B(PP3)'!$J$44"]
["pp3_bl3_1_9_total_in",{"$f":"'T2-B(PP3)'!$F$44","v":0},"#'T2-B(PP3)'!$F$44"]
["pp3_bl3_1_9_total_out",{"$f":"'T2-B(PP3)'!$I$44","v":0},"#'T2-B(PP3)'!$I$44"]
["pp3_bl3_1_9_unit",{"$f":"'T2-B(PP3)'!$C$44","v":0},"#'T2-B(PP3)'!$C$44"]
["pp3_bl3_1_9_unit_in",{"$f":"'T2-B(PP3)'!$D$44","v":0},"#'T2-B(PP3)'!$D$44"]
["pp3_bl3_1_9_units_out",{"$f":"'T2-B(PP3)'!$G$44","v":0},"#'T2-B(PP3)'!$G$44"]
["pp3_bl3_1_total",{"$f":"'T2-B(PP3)'!$J$35","v":0},"#'T2-B(PP3)'!$J$35"]
["pp3_bl3_1_total_in",{"$f":"'T2-B(PP3)'!$F$35","v":0},"#'T2-B(PP3)'!$F$35"]
["pp3_bl3_1_total_out",{"$f":"'T2-B(PP3)'!$I$35","v":0},"#'T2-B(PP3)'!$I$35"]
["pp3_bl3_2_1_name",{"$f":"'T2-B(PP3)'!$B$57","v":0},"#'T2-B(PP3)'!$B$57"]
["pp3_bl3_2_1_rate_in",{"$f":"'T2-B(PP3)'!$E$57","v":0},"#'T2-B(PP3)'!$E$57"]
["pp3_bl3_2_1_rate_out",{"$f":"'T2-B(PP3)'!$H$57","v":0},"#'T2-B(PP3)'!$H$57"]
["pp3_bl3_2_1_total",{"$f":"'T2-B(PP3)'!$J$57","v":0},"#'T2-B(PP3)'!$J$57"]
["pp3_bl3_2_1_total_in",{"$f":"'T2-B(PP3)'!$F$57","v":0},"#'T2-B(PP3)'!$F$57"]
["pp3_bl3_2_1_total_out",{"$f":"'T2-B(PP3)'!$I$57","v":0},"#'T2-B(PP3)'!$I$57"]
["pp3_bl3_2_1_unit",{"$f":"'T2-B(PP3)'!$C$57","v":0},"#'T2-B(PP3)'!$C$57"]
["pp3_bl3_2_1_unit_in",{"$f":"'T2-B(PP3)'!$D$57","v":0},"#'T2-B(PP3)'!$D$57"]
["pp3_bl3_2_1_units_out",{"$f":"'T2-B(PP3)'!$G$57","v":0},"#'T2-B(PP3)'!$G$57"]
["pp3_bl3_2_10_name",{"$f":"'T2-B(PP3)'!$B$66","v":0},"#'T2-B(PP3)'!$B$66"]
["pp3_bl3_2_10_rate_in",{"$f":"'T2-B(PP3)'!$E$66","v":0},"#'T2-B(PP3)'!$E$66"]
["pp3_bl3_2_10_rate_out",{"$f":"'T2-B(PP3)'!$H$66","v":0},"#'T2-B(PP3)'!$H$66"]
["pp3_bl3_2_10_total",{"$f":"'T2-B(PP3)'!$J$66","v":0},"#'T2-B(PP3)'!$J$66"]
["pp3_bl3_2_10_total_in",{"$f":"'T2-B(PP3)'!$F$66","v":0},"#'T2-B(PP3)'!$F$66"]
["pp3_bl3_2_10_total_out",{"$f":"'T2-B(PP3)'!$I$66","v":0},"#'T2-B(PP3)'!$I$66"]
["pp3_bl3_2_10_unit",{"$f":"'T2-B(PP3)'!$C$66","v":0},"#'T2-B(PP3)'!$C$66"]
["pp3_bl3_2_10_unit_in",{"$f":"'T2-B(PP3)'!$D$66","v":0},"#'T2-B(PP3)'!$D$66"]
["pp3_bl3_2_10_units_out",{"$f":"'T2-B(PP3)'!$G$66","v":0},"#'T2-B(PP3)'!$G$66"]
["pp3_bl3_2_2_name",{"$f":"'T2-B(PP3)'!$B$58","v":0},"#'T2-B(PP3)'!$B$58"]
["pp3_bl3_2_2_rate_in",{"$f":"'T2-B(PP3)'!$E$58","v":0},"#'T2-B(PP3)'!$E$58"]
["pp3_bl3_2_2_rate_out",{"$f":"'T2-B(PP3)'!$H$58","v":0},"#'T2-B(PP3)'!$H$58"]
["pp3_bl3_2_2_total",{"$f":"'T2-B(PP3)'!$J$58","v":0},"#'T2-B(PP3)'!$J$58"]
["pp3_bl3_2_2_total_in",{"$f":"'T2-B(PP3)'!$F$58","v":0},"#'T2-B(PP3)'!$F$58"]
["pp3_bl3_2_2_total_out",{"$f":"'T2-B(PP3)'!$I$58","v":0},"#'T2-B(PP3)'!$I$58"]
["pp3_bl3_2_2_unit",{"$f":"'T2-B(PP3)'!$C$58","v":0},"#'T2-B(PP3)'!$C$58"]
["pp3_bl3_2_2_unit_in",{"$f":"'T2-B(PP3)'!$D$58","v":0},"#'T2-B(PP3)'!$D$58"]
["pp3_bl3_2_2_units_out",{"$f":"'T2-B(PP3)'!$G$58","v":0},"#'T2-B(PP3)'!$G$58"]
["pp3_bl3_2_3_name",{"$f":"'T2-B(PP3)'!$B$59","v":0},"#'T2-B(PP3)'!$B$59"]
["pp3_bl3_2_3_rate_in",{"$f":"'T2-B(PP3)'!$E$59","v":0},"#'T2-B(PP3)'!$E$59"]
["pp3_bl3_2_3_rate_out",{"$f":"'T2-B(PP3)'!$H$59","v":0},"#'T2-B(PP3)'!$H$59"]
["pp3_bl3_2_3_total",{"$f":"'T2-B(PP3)'!$J$59","v":0},"#'T2-B(PP3)'!$J$59"]
["pp3_bl3_2_3_total_in",{"$f":"'T2-B(PP3)'!$F$59","v":0},"#'T2-B(PP3)'!$F$59"]
["pp3_bl3_2_3_total_out",{"$f":"'T2-B(PP3)'!$I$59","v":0},"#'T2-B(PP3)'!$I$59"]
["pp3_bl3_2_3_unit",{"$f":"'T2-B(PP3)'!$C$59","v":0},"#'T2-B(PP3)'!$C$59"]
["pp3_bl3_2_3_unit_in",{"$f":"'T2-B(PP3)'!$D$59","v":0},"#'T2-B(PP3)'!$D$59"]
["pp3_bl3_2_3_units_out",{"$f":"'T2-B(PP3)'!$G$59","v":0},"#'T2-B(PP3)'!$G$59"]
["pp3_bl3_2_4_name",{"$f":"'T2-B(PP3)'!$B$60","v":0},"#'T2-B(PP3)'!$B$60"]
["pp3_bl3_2_4_rate_in",{"$f":"'T2-B(PP3)'!$E$60","v":0},"#'T2-B(PP3)'!$E$60"]
["pp3_bl3_2_4_rate_out",{"$f":"'T2-B(PP3)'!$H$60","v":0},"#'T2-B(PP3)'!$H$60"]
["pp3_bl3_2_4_total",{"$f":"'T2-B(PP3)'!$J$60","v":0},"#'T2-B(PP3)'!$J$60"]
["pp3_bl3_2_4_total_in",{"$f":"'T2-B(PP3)'!$F$60","v":0},"#'T2-B(PP3)'!$F$60"]
["pp3_bl3_2_4_total_out",{"$f":"'T2-B(PP3)'!$I$60","v":0},"#'T2-B(PP3)'!$I$60"]
["pp3_bl3_2_4_unit",{"$f":"'T2-B(PP3)'!$C$60","v":0},"#'T2-B(PP3)'!$C$60"]
["pp3_bl3_2_4_unit_in",{"$f":"'T2-B(PP3)'!$D$60","v":0},"#'T2-B(PP3)'!$D$60"]
["pp3_bl3_2_4_units_out",{"$f":"'T2-B(PP3)'!$G$60","v":0},"#'T2-B(PP3)'!$G$60"]
["pp3_bl3_2_5_name",{"$f":"'T2-B(PP3)'!$B$61","v":0},"#'T2-B(PP3)'!$B$61"]
["pp3_bl3_2_5_rate_in",{"$f":"'T2-B(PP3)'!$E$61","v":0},"#'T2-B(PP3)'!$E$61"]
["pp3_bl3_2_5_rate_out",{"$f":"'T2-B(PP3)'!$H$61","v":0},"#'T2-B(PP3)'!$H$61"]
["pp3_bl3_2_5_total",{"$f":"'T2-B(PP3)'!$J$61","v":0},"#'T2-B(PP3)'!$J$61"]
["pp3_bl3_2_5_total_in",{"$f":"'T2-B(PP3)'!$F$61","v":0},"#'T2-B(PP3)'!$F$61"]
["pp3_bl3_2_5_total_out",{"$f":"'T2-B(PP3)'!$I$61","v":0},"#'T2-B(PP3)'!$I$61"]
["pp3_bl3_2_5_unit",{"$f":"'T2-B(PP3)'!$C$61","v":0},"#'T2-B(PP3)'!$C$61"]
["pp3_bl3_2_5_unit_in",{"$f":"'T2-B(PP3)'!$D$61","v":0},"#'T2-B(PP3)'!$D$61"]
["pp3_bl3_2_5_units_out",{"$f":"'T2-B(PP3)'!$G$61","v":0},"#'T2-B(PP3)'!$G$61"]
["pp3_bl3_2_6_name",{"$f":"'T2-B(PP3)'!$B$62","v":0},"#'T2-B(PP3)'!$B$62"]
["pp3_bl3_2_6_rate_in",{"$f":"'T2-B(PP3)'!$E$62","v":0},"#'T2-B(PP3)'!$E$62"]
["pp3_bl3_2_6_rate_out",{"$f":"'T2-B(PP3)'!$H$62","v":0},"#'T2-B(PP3)'!$H$62"]
["pp3_bl3_2_6_total",{"$f":"'T2-B(PP3)'!$J$62","v":0},"#'T2-B(PP3)'!$J$62"]
["pp3_bl3_2_6_total_in",{"$f":"'T2-B(PP3)'!$F$62","v":0},"#'T2-B(PP3)'!$F$62"]
["pp3_bl3_2_6_total_out",{"$f":"'T2-B(PP3)'!$I$62","v":0},"#'T2-B(PP3)'!$I$62"]
["pp3_bl3_2_6_unit",{"$f":"'T2-B(PP3)'!$C$62","v":0},"#'T2-B(PP3)'!$C$62"]
["pp3_bl3_2_6_unit_in",{"$f":"'T2-B(PP3)'!$D$62","v":0},"#'T2-B(PP3)'!$D$62"]
["pp3_bl3_2_6_units_out",{"$f":"'T2-B(PP3)'!$G$62","v":0},"#'T2-B(PP3)'!$G$62"]
["pp3_bl3_2_7_name",{"$f":"'T2-B(PP3)'!$B$63","v":0},"#'T2-B(PP3)'!$B$63"]
["pp3_bl3_2_7_rate_in",{"$f":"'T2-B(PP3)'!$E$63","v":0},"#'T2-B(PP3)'!$E$63"]
["pp3_bl3_2_7_rate_out",{"$f":"'T2-B(PP3)'!$H$63","v":0},"#'T2-B(PP3)'!$H$63"]
["pp3_bl3_2_7_total",{"$f":"'T2-B(PP3)'!$J$63","v":0},"#'T2-B(PP3)'!$J$63"]
["pp3_bl3_2_7_total_in",{"$f":"'T2-B(PP3)'!$F$63","v":0},"#'T2-B(PP3)'!$F$63"]
["pp3_bl3_2_7_total_out",{"$f":"'T2-B(PP3)'!$I$63","v":0},"#'T2-B(PP3)'!$I$63"]
["pp3_bl3_2_7_unit",{"$f":"'T2-B(PP3)'!$C$63","v":0},"#'T2-B(PP3)'!$C$63"]
["pp3_bl3_2_7_unit_in",{"$f":"'T2-B(PP3)'!$D$63","v":0},"#'T2-B(PP3)'!$D$63"]
["pp3_bl3_2_7_units_out",{"$f":"'T2-B(PP3)'!$G$63","v":0},"#'T2-B(PP3)'!$G$63"]
["pp3_bl3_2_8_name",{"$f":"'T2-B(PP3)'!$B$64","v":0},"#'T2-B(PP3)'!$B$64"]
["pp3_bl3_2_8_rate_in",{"$f":"'T2-B(PP3)'!$E$64","v":0},"#'T2-B(PP3)'!$E$64"]
["pp3_bl3_2_8_rate_out",{"$f":"'T2-B(PP3)'!$H$64","v":0},"#'T2-B(PP3)'!$H$64"]
["pp3_bl3_2_8_total",{"$f":"'T2-B(PP3)'!$J$64","v":0},"#'T2-B(PP3)'!$J$64"]
["pp3_bl3_2_8_total_in",{"$f":"'T2-B(PP3)'!$F$64","v":0},"#'T2-B(PP3)'!$F$64"]
["pp3_bl3_2_8_total_out",{"$f":"'T2-B(PP3)'!$I$64","v":0},"#'T2-B(PP3)'!$I$64"]
["pp3_bl3_2_8_unit",{"$f":"'T2-B(PP3)'!$C$64","v":0},"#'T2-B(PP3)'!$C$64"]
["pp3_bl3_2_8_unit_in",{"$f":"'T2-B(PP3)'!$D$64","v":0},"#'T2-B(PP3)'!$D$64"]
["pp3_bl3_2_8_units_out",{"$f":"'T2-B(PP3)'!$G$64","v":0},"#'T2-B(PP3)'!$G$64"]
["pp3_bl3_2_9_name",{"$f":"'T2-B(PP3)'!$B$65","v":0},"#'T2-B(PP3)'!$B$65"]
["pp3_bl3_2_9_rate_in",{"$f":"'T2-B(PP3)'!$E$65","v":0},"#'T2-B(PP3)'!$E$65"]
["pp3_bl3_2_9_rate_out",{"$f":"'T2-B(PP3)'!$H$65","v":0},"#'T2-B(PP3)'!$H$65"]
["pp3_bl3_2_9_total",{"$f":"'T2-B(PP3)'!$J$65","v":0},"#'T2-B(PP3)'!$J$65"]
["pp3_bl3_2_9_total_in",{"$f":"'T2-B(PP3)'!$F$65","v":0},"#'T2-B(PP3)'!$F$65"]
["pp3_bl3_2_9_total_out",{"$f":"'T2-B(PP3)'!$I$65","v":0},"#'T2-B(PP3)'!$I$65"]
["pp3_bl3_2_9_unit",{"$f":"'T2-B(PP3)'!$C$65","v":0},"#'T2-B(PP3)'!$C$65"]
["pp3_bl3_2_9_unit_in",{"$f":"'T2-B(PP3)'!$D$65","v":0},"#'T2-B(PP3)'!$D$65"]
["pp3_bl3_2_9_units_out",{"$f":"'T2-B(PP3)'!$G$65","v":0},"#'T2-B(PP3)'!$G$65"]
["pp3_bl3_2_total",{"$f":"'T2-B(PP3)'!$J$56","v":0},"#'T2-B(PP3)'!$J$56"]
["pp3_bl3_2_total_in",{"$f":"'T2-B(PP3)'!$F$56","v":0},"#'T2-B(PP3)'!$F$56"]
["pp3_bl3_2_total_out",{"$f":"'T2-B(PP3)'!$I$56","v":0},"#'T2-B(PP3)'!$I$56"]
["pp3_bl3_3_1_name",{"$f":"'T2-B(PP3)'!$B$78","v":0},"#'T2-B(PP3)'!$B$78"]
["pp3_bl3_3_1_rate_in",{"$f":"'T2-B(PP3)'!$E$78","v":0},"#'T2-B(PP3)'!$E$78"]
["pp3_bl3_3_1_rate_out",{"$f":"'T2-B(PP3)'!$H$78","v":0},"#'T2-B(PP3)'!$H$78"]
["pp3_bl3_3_1_total",{"$f":"'T2-B(PP3)'!$J$78","v":0},"#'T2-B(PP3)'!$J$78"]
["pp3_bl3_3_1_total_in",{"$f":"'T2-B(PP3)'!$F$78","v":0},"#'T2-B(PP3)'!$F$78"]
["pp3_bl3_3_1_total_out",{"$f":"'T2-B(PP3)'!$I$78","v":0},"#'T2-B(PP3)'!$I$78"]
["pp3_bl3_3_1_unit",{"$f":"'T2-B(PP3)'!$C$78","v":0},"#'T2-B(PP3)'!$C$78"]
["pp3_bl3_3_1_unit_in",{"$f":"'T2-B(PP3)'!$D$78","v":0},"#'T2-B(PP3)'!$D$78"]
["pp3_bl3_3_1_units_out",{"$f":"'T2-B(PP3)'!$G$78","v":0},"#'T2-B(PP3)'!$G$78"]
["pp3_bl3_3_10_name",{"$f":"'T2-B(PP3)'!$B$87","v":0},"#'T2-B(PP3)'!$B$87"]
["pp3_bl3_3_10_rate_in",{"$f":"'T2-B(PP3)'!$E$87","v":0},"#'T2-B(PP3)'!$E$87"]
["pp3_bl3_3_10_rate_out",{"$f":"'T2-B(PP3)'!$H$87","v":0},"#'T2-B(PP3)'!$H$87"]
["pp3_bl3_3_10_total",{"$f":"'T2-B(PP3)'!$J$87","v":0},"#'T2-B(PP3)'!$J$87"]
["pp3_bl3_3_10_total_in",{"$f":"'T2-B(PP3)'!$F$87","v":0},"#'T2-B(PP3)'!$F$87"]
["pp3_bl3_3_10_total_out",{"$f":"'T2-B(PP3)'!$I$87","v":0},"#'T2-B(PP3)'!$I$87"]
["pp3_bl3_3_10_unit",{"$f":"'T2-B(PP3)'!$C$87","v":0},"#'T2-B(PP3)'!$C$87"]
["pp3_bl3_3_10_unit_in",{"$f":"'T2-B(PP3)'!$D$87","v":0},"#'T2-B(PP3)'!$D$87"]
["pp3_bl3_3_10_units_out",{"$f":"'T2-B(PP3)'!$G$87","v":0},"#'T2-B(PP3)'!$G$87"]
["pp3_bl3_3_2_name",{"$f":"'T2-B(PP3)'!$B$79","v":0},"#'T2-B(PP3)'!$B$79"]
["pp3_bl3_3_2_rate_in",{"$f":"'T2-B(PP3)'!$E$79","v":0},"#'T2-B(PP3)'!$E$79"]
["pp3_bl3_3_2_rate_out",{"$f":"'T2-B(PP3)'!$H$79","v":0},"#'T2-B(PP3)'!$H$79"]
["pp3_bl3_3_2_total",{"$f":"'T2-B(PP3)'!$J$79","v":0},"#'T2-B(PP3)'!$J$79"]
["pp3_bl3_3_2_total_in",{"$f":"'T2-B(PP3)'!$F$79","v":0},"#'T2-B(PP3)'!$F$79"]
["pp3_bl3_3_2_total_out",{"$f":"'T2-B(PP3)'!$I$79","v":0},"#'T2-B(PP3)'!$I$79"]
["pp3_bl3_3_2_unit",{"$f":"'T2-B(PP3)'!$C$79","v":0},"#'T2-B(PP3)'!$C$79"]
["pp3_bl3_3_2_unit_in",{"$f":"'T2-B(PP3)'!$D$79","v":0},"#'T2-B(PP3)'!$D$79"]
["pp3_bl3_3_2_units_out",{"$f":"'T2-B(PP3)'!$G$79","v":0},"#'T2-B(PP3)'!$G$79"]
["pp3_bl3_3_3_name",{"$f":"'T2-B(PP3)'!$B$80","v":0},"#'T2-B(PP3)'!$B$80"]
["pp3_bl3_3_3_rate_in",{"$f":"'T2-B(PP3)'!$E$80","v":0},"#'T2-B(PP3)'!$E$80"]
["pp3_bl3_3_3_rate_out",{"$f":"'T2-B(PP3)'!$H$80","v":0},"#'T2-B(PP3)'!$H$80"]
["pp3_bl3_3_3_total",{"$f":"'T2-B(PP3)'!$J$80","v":0},"#'T2-B(PP3)'!$J$80"]
["pp3_bl3_3_3_total_in",{"$f":"'T2-B(PP3)'!$F$80","v":0},"#'T2-B(PP3)'!$F$80"]
["pp3_bl3_3_3_total_out",{"$f":"'T2-B(PP3)'!$I$80","v":0},"#'T2-B(PP3)'!$I$80"]
["pp3_bl3_3_3_unit",{"$f":"'T2-B(PP3)'!$C$80","v":0},"#'T2-B(PP3)'!$C$80"]
["pp3_bl3_3_3_unit_in",{"$f":"'T2-B(PP3)'!$D$80","v":0},"#'T2-B(PP3)'!$D$80"]
["pp3_bl3_3_3_units_out",{"$f":"'T2-B(PP3)'!$G$80","v":0},"#'T2-B(PP3)'!$G$80"]
["pp3_bl3_3_4_name",{"$f":"'T2-B(PP3)'!$B$81","v":0},"#'T2-B(PP3)'!$B$81"]
["pp3_bl3_3_4_rate_in",{"$f":"'T2-B(PP3)'!$E$81","v":0},"#'T2-B(PP3)'!$E$81"]
["pp3_bl3_3_4_rate_out",{"$f":"'T2-B(PP3)'!$H$81","v":0},"#'T2-B(PP3)'!$H$81"]
["pp3_bl3_3_4_total",{"$f":"'T2-B(PP3)'!$J$81","v":0},"#'T2-B(PP3)'!$J$81"]
["pp3_bl3_3_4_total_in",{"$f":"'T2-B(PP3)'!$F$81","v":0},"#'T2-B(PP3)'!$F$81"]
["pp3_bl3_3_4_total_out",{"$f":"'T2-B(PP3)'!$I$81","v":0},"#'T2-B(PP3)'!$I$81"]
["pp3_bl3_3_4_unit",{"$f":"'T2-B(PP3)'!$C$81","v":0},"#'T2-B(PP3)'!$C$81"]
["pp3_bl3_3_4_unit_in",{"$f":"'T2-B(PP3)'!$D$81","v":0},"#'T2-B(PP3)'!$D$81"]
["pp3_bl3_3_4_units_out",{"$f":"'T2-B(PP3)'!$G$81","v":0},"#'T2-B(PP3)'!$G$81"]
["pp3_bl3_3_5_name",{"$f":"'T2-B(PP3)'!$B$82","v":0},"#'T2-B(PP3)'!$B$82"]
["pp3_bl3_3_5_rate_in",{"$f":"'T2-B(PP3)'!$E$82","v":0},"#'T2-B(PP3)'!$E$82"]
["pp3_bl3_3_5_rate_out",{"$f":"'T2-B(PP3)'!$H$82","v":0},"#'T2-B(PP3)'!$H$82"]
["pp3_bl3_3_5_total",{"$f":"'T2-B(PP3)'!$J$82","v":0},"#'T2-B(PP3)'!$J$82"]
["pp3_bl3_3_5_total_in",{"$f":"'T2-B(PP3)'!$F$82","v":0},"#'T2-B(PP3)'!$F$82"]
["pp3_bl3_3_5_total_out",{"$f":"'T2-B(PP3)'!$I$82","v":0},"#'T2-B(PP3)'!$I$82"]
["pp3_bl3_3_5_unit",{"$f":"'T2-B(PP3)'!$C$82","v":0},"#'T2-B(PP3)'!$C$82"]
["pp3_bl3_3_5_unit_in",{"$f":"'T2-B(PP3)'!$D$82","v":0},"#'T2-B(PP3)'!$D$82"]
["pp3_bl3_3_5_units_out",{"$f":"'T2-B(PP3)'!$G$82","v":0},"#'T2-B(PP3)'!$G$82"]
["pp3_bl3_3_6_name",{"$f":"'T2-B(PP3)'!$B$83","v":0},"#'T2-B(PP3)'!$B$83"]
["pp3_bl3_3_6_rate_in",{"$f":"'T2-B(PP3)'!$E$83","v":0},"#'T2-B(PP3)'!$E$83"]
["pp3_bl3_3_6_rate_out",{"$f":"'T2-B(PP3)'!$H$83","v":0},"#'T2-B(PP3)'!$H$83"]
["pp3_bl3_3_6_total",{"$f":"'T2-B(PP3)'!$J$83","v":0},"#'T2-B(PP3)'!$J$83"]
["pp3_bl3_3_6_total_in",{"$f":"'T2-B(PP3)'!$F$83","v":0},"#'T2-B(PP3)'!$F$83"]
["pp3_bl3_3_6_total_out",{"$f":"'T2-B(PP3)'!$I$83","v":0},"#'T2-B(PP3)'!$I$83"]
["pp3_bl3_3_6_unit",{"$f":"'T2-B(PP3)'!$C$83","v":0},"#'T2-B(PP3)'!$C$83"]
["pp3_bl3_3_6_unit_in",{"$f":"'T2-B(PP3)'!$D$83","v":0},"#'T2-B(PP3)'!$D$83"]
["pp3_bl3_3_6_units_out",{"$f":"'T2-B(PP3)'!$G$83","v":0},"#'T2-B(PP3)'!$G$83"]
["pp3_bl3_3_7_name",{"$f":"'T2-B(PP3)'!$B$84","v":0},"#'T2-B(PP3)'!$B$84"]
["pp3_bl3_3_7_rate_in",{"$f":"'T2-B(PP3)'!$E$84","v":0},"#'T2-B(PP3)'!$E$84"]
["pp3_bl3_3_7_rate_out",{"$f":"'T2-B(PP3)'!$H$84","v":0},"#'T2-B(PP3)'!$H$84"]
["pp3_bl3_3_7_total",{"$f":"'T2-B(PP3)'!$J$84","v":0},"#'T2-B(PP3)'!$J$84"]
["pp3_bl3_3_7_total_in",{"$f":"'T2-B(PP3)'!$F$84","v":0},"#'T2-B(PP3)'!$F$84"]
["pp3_bl3_3_7_total_out",{"$f":"'T2-B(PP3)'!$I$84","v":0},"#'T2-B(PP3)'!$I$84"]
["pp3_bl3_3_7_unit",{"$f":"'T2-B(PP3)'!$C$84","v":0},"#'T2-B(PP3)'!$C$84"]
["pp3_bl3_3_7_unit_in",{"$f":"'T2-B(PP3)'!$D$84","v":0},"#'T2-B(PP3)'!$D$84"]
["pp3_bl3_3_7_units_out",{"$f":"'T2-B(PP3)'!$G$84","v":0},"#'T2-B(PP3)'!$G$84"]
["pp3_bl3_3_8_name",{"$f":"'T2-B(PP3)'!$B$85","v":0},"#'T2-B(PP3)'!$B$85"]
["pp3_bl3_3_8_rate_in",{"$f":"'T2-B(PP3)'!$E$85","v":0},"#'T2-B(PP3)'!$E$85"]
["pp3_bl3_3_8_rate_out",{"$f":"'T2-B(PP3)'!$H$85","v":0},"#'T2-B(PP3)'!$H$85"]
["pp3_bl3_3_8_total",{"$f":"'T2-B(PP3)'!$J$85","v":0},"#'T2-B(PP3)'!$J$85"]
["pp3_bl3_3_8_total_in",{"$f":"'T2-B(PP3)'!$F$85","v":0},"#'T2-B(PP3)'!$F$85"]
["pp3_bl3_3_8_total_out",{"$f":"'T2-B(PP3)'!$I$85","v":0},"#'T2-B(PP3)'!$I$85"]
["pp3_bl3_3_8_unit",{"$f":"'T2-B(PP3)'!$C$85","v":0},"#'T2-B(PP3)'!$C$85"]
["pp3_bl3_3_8_unit_in",{"$f":"'T2-B(PP3)'!$D$85","v":0},"#'T2-B(PP3)'!$D$85"]
["pp3_bl3_3_8_units_out",{"$f":"'T2-B(PP3)'!$G$85","v":0},"#'T2-B(PP3)'!$G$85"]
["pp3_bl3_3_9_name",{"$f":"'T2-B(PP3)'!$B$86","v":0},"#'T2-B(PP3)'!$B$86"]
["pp3_bl3_3_9_rate_in",{"$f":"'T2-B(PP3)'!$E$86","v":0},"#'T2-B(PP3)'!$E$86"]
["pp3_bl3_3_9_rate_out",{"$f":"'T2-B(PP3)'!$H$86","v":0},"#'T2-B(PP3)'!$H$86"]
["pp3_bl3_3_9_total",{"$f":"'T2-B(PP3)'!$J$86","v":0},"#'T2-B(PP3)'!$J$86"]
["pp3_bl3_3_9_total_in",{"$f":"'T2-B(PP3)'!$F$86","v":0},"#'T2-B(PP3)'!$F$86"]
["pp3_bl3_3_9_total_out",{"$f":"'T2-B(PP3)'!$I$86","v":0},"#'T2-B(PP3)'!$I$86"]
["pp3_bl3_3_9_unit",{"$f":"'T2-B(PP3)'!$C$86","v":0},"#'T2-B(PP3)'!$C$86"]
["pp3_bl3_3_9_unit_in",{"$f":"'T2-B(PP3)'!$D$86","v":0},"#'T2-B(PP3)'!$D$86"]
["pp3_bl3_3_9_units_out",{"$f":"'T2-B(PP3)'!$G$86","v":0},"#'T2-B(PP3)'!$G$86"]
["pp3_bl3_3_total",{"$f":"'T2-B(PP3)'!$J$77","v":0},"#'T2-B(PP3)'!$J$77"]
["pp3_bl3_3_total_in",{"$f":"'T2-B(PP3)'!$F$77","v":0},"#'T2-B(PP3)'!$F$77"]
["pp3_bl3_3_total_out",{"$f":"'T2-B(PP3)'!$I$77","v":0},"#'T2-B(PP3)'!$I$77"]
["pp3_bl3_4_1_name",{"$f":"'T2-B(PP3)'!$B$99","v":0},"#'T2-B(PP3)'!$B$99"]
["pp3_bl3_4_1_rate_in",{"$f":"'T2-B(PP3)'!$E$99","v":0},"#'T2-B(PP3)'!$E$99"]
["pp3_bl3_4_1_rate_out",{"$f":"'T2-B(PP3)'!$H$99","v":0},"#'T2-B(PP3)'!$H$99"]
["pp3_bl3_4_1_total",{"$f":"'T2-B(PP3)'!$J$99","v":0},"#'T2-B(PP3)'!$J$99"]
["pp3_bl3_4_1_total_in",{"$f":"'T2-B(PP3)'!$F$99","v":0},"#'T2-B(PP3)'!$F$99"]
["pp3_bl3_4_1_total_out",{"$f":"'T2-B(PP3)'!$I$99","v":0},"#'T2-B(PP3)'!$I$99"]
["pp3_bl3_4_1_unit",{"$f":"'T2-B(PP3)'!$C$99","v":0},"#'T2-B(PP3)'!$C$99"]
["pp3_bl3_4_1_unit_in",{"$f":"'T2-B(PP3)'!$D$99","v":0},"#'T2-B(PP3)'!$D$99"]
["pp3_bl3_4_1_units_out",{"$f":"'T2-B(PP3)'!$G$99","v":0},"#'T2-B(PP3)'!$G$99"]
["pp3_bl3_4_10_name",{"$f":"'T2-B(PP3)'!$B$108","v":0},"#'T2-B(PP3)'!$B$108"]
["pp3_bl3_4_10_rate_in",{"$f":"'T2-B(PP3)'!$E$108","v":0},"#'T2-B(PP3)'!$E$108"]
["pp3_bl3_4_10_rate_out",{"$f":"'T2-B(PP3)'!$H$108","v":0},"#'T2-B(PP3)'!$H$108"]
["pp3_bl3_4_10_total",{"$f":"'T2-B(PP3)'!$J$108","v":0},"#'T2-B(PP3)'!$J$108"]
["pp3_bl3_4_10_total_in",{"$f":"'T2-B(PP3)'!$F$108","v":0},"#'T2-B(PP3)'!$F$108"]
["pp3_bl3_4_10_total_out",{"$f":"'T2-B(PP3)'!$I$108","v":0},"#'T2-B(PP3)'!$I$108"]
["pp3_bl3_4_10_unit",{"$f":"'T2-B(PP3)'!$C$108","v":0},"#'T2-B(PP3)'!$C$108"]
["pp3_bl3_4_10_unit_in",{"$f":"'T2-B(PP3)'!$D$108","v":0},"#'T2-B(PP3)'!$D$108"]
["pp3_bl3_4_10_units_out",{"$f":"'T2-B(PP3)'!$G$108","v":0},"#'T2-B(PP3)'!$G$108"]
["pp3_bl3_4_2_name",{"$f":"'T2-B(PP3)'!$B$100","v":0},"#'T2-B(PP3)'!$B$100"]
["pp3_bl3_4_2_rate_in",{"$f":"'T2-B(PP3)'!$E$100","v":0},"#'T2-B(PP3)'!$E$100"]
["pp3_bl3_4_2_rate_out",{"$f":"'T2-B(PP3)'!$H$100","v":0},"#'T2-B(PP3)'!$H$100"]
["pp3_bl3_4_2_total",{"$f":"'T2-B(PP3)'!$J$100","v":0},"#'T2-B(PP3)'!$J$100"]
["pp3_bl3_4_2_total_in",{"$f":"'T2-B(PP3)'!$F$100","v":0},"#'T2-B(PP3)'!$F$100"]
["pp3_bl3_4_2_total_out",{"$f":"'T2-B(PP3)'!$I$100","v":0},"#'T2-B(PP3)'!$I$100"]
["pp3_bl3_4_2_unit",{"$f":"'T2-B(PP3)'!$C$100","v":0},"#'T2-B(PP3)'!$C$100"]
["pp3_bl3_4_2_unit_in",{"$f":"'T2-B(PP3)'!$D$100","v":0},"#'T2-B(PP3)'!$D$100"]
["pp3_bl3_4_2_units_out",{"$f":"'T2-B(PP3)'!$G$100","v":0},"#'T2-B(PP3)'!$G$100"]
["pp3_bl3_4_3_name",{"$f":"'T2-B(PP3)'!$B$101","v":0},"#'T2-B(PP3)'!$B$101"]
["pp3_bl3_4_3_rate_in",{"$f":"'T2-B(PP3)'!$E$101","v":0},"#'T2-B(PP3)'!$E$101"]
["pp3_bl3_4_3_rate_out",{"$f":"'T2-B(PP3)'!$H$101","v":0},"#'T2-B(PP3)'!$H$101"]
["pp3_bl3_4_3_total",{"$f":"'T2-B(PP3)'!$J$101","v":0},"#'T2-B(PP3)'!$J$101"]
["pp3_bl3_4_3_total_in",{"$f":"'T2-B(PP3)'!$F$101","v":0},"#'T2-B(PP3)'!$F$101"]
["pp3_bl3_4_3_total_out",{"$f":"'T2-B(PP3)'!$I$101","v":0},"#'T2-B(PP3)'!$I$101"]
["pp3_bl3_4_3_unit",{"$f":"'T2-B(PP3)'!$C$101","v":0},"#'T2-B(PP3)'!$C$101"]
["pp3_bl3_4_3_unit_in",{"$f":"'T2-B(PP3)'!$D$101","v":0},"#'T2-B(PP3)'!$D$101"]
["pp3_bl3_4_3_units_out",{"$f":"'T2-B(PP3)'!$G$101","v":0},"#'T2-B(PP3)'!$G$101"]
["pp3_bl3_4_4_name",{"$f":"'T2-B(PP3)'!$B$102","v":0},"#'T2-B(PP3)'!$B$102"]
["pp3_bl3_4_4_rate_in",{"$f":"'T2-B(PP3)'!$E$102","v":0},"#'T2-B(PP3)'!$E$102"]
["pp3_bl3_4_4_rate_out",{"$f":"'T2-B(PP3)'!$H$102","v":0},"#'T2-B(PP3)'!$H$102"]
["pp3_bl3_4_4_total",{"$f":"'T2-B(PP3)'!$J$102","v":0},"#'T2-B(PP3)'!$J$102"]
["pp3_bl3_4_4_total_in",{"$f":"'T2-B(PP3)'!$F$102","v":0},"#'T2-B(PP3)'!$F$102"]
["pp3_bl3_4_4_total_out",{"$f":"'T2-B(PP3)'!$I$102","v":0},"#'T2-B(PP3)'!$I$102"]
["pp3_bl3_4_4_unit",{"$f":"'T2-B(PP3)'!$C$102","v":0},"#'T2-B(PP3)'!$C$102"]
["pp3_bl3_4_4_unit_in",{"$f":"'T2-B(PP3)'!$D$102","v":0},"#'T2-B(PP3)'!$D$102"]
["pp3_bl3_4_4_units_out",{"$f":"'T2-B(PP3)'!$G$102","v":0},"#'T2-B(PP3)'!$G$102"]
["pp3_bl3_4_5_name",{"$f":"'T2-B(PP3)'!$B$103","v":0},"#'T2-B(PP3)'!$B$103"]
["pp3_bl3_4_5_rate_in",{"$f":"'T2-B(PP3)'!$E$103","v":0},"#'T2-B(PP3)'!$E$103"]
["pp3_bl3_4_5_rate_out",{"$f":"'T2-B(PP3)'!$H$103","v":0},"#'T2-B(PP3)'!$H$103"]
["pp3_bl3_4_5_total",{"$f":"'T2-B(PP3)'!$J$103","v":0},"#'T2-B(PP3)'!$J$103"]
["pp3_bl3_4_5_total_in",{"$f":"'T2-B(PP3)'!$F$103","v":0},"#'T2-B(PP3)'!$F$103"]
["pp3_bl3_4_5_total_out",{"$f":"'T2-B(PP3)'!$I$103","v":0},"#'T2-B(PP3)'!$I$103"]
["pp3_bl3_4_5_unit",{"$f":"'T2-B(PP3)'!$C$103","v":0},"#'T2-B(PP3)'!$C$103"]
["pp3_bl3_4_5_unit_in",{"$f":"'T2-B(PP3)'!$D$103","v":0},"#'T2-B(PP3)'!$D$103"]
["pp3_bl3_4_5_units_out",{"$f":"'T2-B(PP3)'!$G$103","v":0},"#'T2-B(PP3)'!$G$103"]
["pp3_bl3_4_6_name",{"$f":"'T2-B(PP3)'!$B$104","v":0},"#'T2-B(PP3)'!$B$104"]
["pp3_bl3_4_6_rate_in",{"$f":"'T2-B(PP3)'!$E$104","v":0},"#'T2-B(PP3)'!$E$104"]
["pp3_bl3_4_6_rate_out",{"$f":"'T2-B(PP3)'!$H$104","v":0},"#'T2-B(PP3)'!$H$104"]
["pp3_bl3_4_6_total",{"$f":"'T2-B(PP3)'!$J$104","v":0},"#'T2-B(PP3)'!$J$104"]
["pp3_bl3_4_6_total_in",{"$f":"'T2-B(PP3)'!$F$104","v":0},"#'T2-B(PP3)'!$F$104"]
["pp3_bl3_4_6_total_out",{"$f":"'T2-B(PP3)'!$I$104","v":0},"#'T2-B(PP3)'!$I$104"]
["pp3_bl3_4_6_unit",{"$f":"'T2-B(PP3)'!$C$104","v":0},"#'T2-B(PP3)'!$C$104"]
["pp3_bl3_4_6_unit_in",{"$f":"'T2-B(PP3)'!$D$104","v":0},"#'T2-B(PP3)'!$D$104"]
["pp3_bl3_4_6_units_out",{"$f":"'T2-B(PP3)'!$G$104","v":0},"#'T2-B(PP3)'!$G$104"]
["pp3_bl3_4_7_name",{"$f":"'T2-B(PP3)'!$B$105","v":0},"#'T2-B(PP3)'!$B$105"]
["pp3_bl3_4_7_rate_in",{"$f":"'T2-B(PP3)'!$E$105","v":0},"#'T2-B(PP3)'!$E$105"]
["pp3_bl3_4_7_rate_out",{"$f":"'T2-B(PP3)'!$H$105","v":0},"#'T2-B(PP3)'!$H$105"]
["pp3_bl3_4_7_total",{"$f":"'T2-B(PP3)'!$J$105","v":0},"#'T2-B(PP3)'!$J$105"]
["pp3_bl3_4_7_total_in",{"$f":"'T2-B(PP3)'!$F$105","v":0},"#'T2-B(PP3)'!$F$105"]
["pp3_bl3_4_7_total_out",{"$f":"'T2-B(PP3)'!$I$105","v":0},"#'T2-B(PP3)'!$I$105"]
["pp3_bl3_4_7_unit",{"$f":"'T2-B(PP3)'!$C$105","v":0},"#'T2-B(PP3)'!$C$105"]
["pp3_bl3_4_7_unit_in",{"$f":"'T2-B(PP3)'!$D$105","v":0},"#'T2-B(PP3)'!$D$105"]
["pp3_bl3_4_7_units_out",{"$f":"'T2-B(PP3)'!$G$105","v":0},"#'T2-B(PP3)'!$G$105"]
["pp3_bl3_4_8_name",{"$f":"'T2-B(PP3)'!$B$106","v":0},"#'T2-B(PP3)'!$B$106"]
["pp3_bl3_4_8_rate_in",{"$f":"'T2-B(PP3)'!$E$106","v":0},"#'T2-B(PP3)'!$E$106"]
["pp3_bl3_4_8_rate_out",{"$f":"'T2-B(PP3)'!$H$106","v":0},"#'T2-B(PP3)'!$H$106"]
["pp3_bl3_4_8_total",{"$f":"'T2-B(PP3)'!$J$106","v":0},"#'T2-B(PP3)'!$J$106"]
["pp3_bl3_4_8_total_in",{"$f":"'T2-B(PP3)'!$F$106","v":0},"#'T2-B(PP3)'!$F$106"]
["pp3_bl3_4_8_total_out",{"$f":"'T2-B(PP3)'!$I$106","v":0},"#'T2-B(PP3)'!$I$106"]
["pp3_bl3_4_8_unit",{"$f":"'T2-B(PP3)'!$C$106","v":0},"#'T2-B(PP3)'!$C$106"]
["pp3_bl3_4_8_unit_in",{"$f":"'T2-B(PP3)'!$D$106","v":0},"#'T2-B(PP3)'!$D$106"]
["pp3_bl3_4_8_units_out",{"$f":"'T2-B(PP3)'!$G$106","v":0},"#'T2-B(PP3)'!$G$106"]
["pp3_bl3_4_9_name",{"$f":"'T2-B(PP3)'!$B$107","v":0},"#'T2-B(PP3)'!$B$107"]
["pp3_bl3_4_9_rate_in",{"$f":"'T2-B(PP3)'!$E$107","v":0},"#'T2-B(PP3)'!$E$107"]
["pp3_bl3_4_9_rate_out",{"$f":"'T2-B(PP3)'!$H$107","v":0},"#'T2-B(PP3)'!$H$107"]
["pp3_bl3_4_9_total",{"$f":"'T2-B(PP3)'!$J$107","v":0},"#'T2-B(PP3)'!$J$107"]
["pp3_bl3_4_9_total_in",{"$f":"'T2-B(PP3)'!$F$107","v":0},"#'T2-B(PP3)'!$F$107"]
["pp3_bl3_4_9_total_out",{"$f":"'T2-B(PP3)'!$I$107","v":0},"#'T2-B(PP3)'!$I$107"]
["pp3_bl3_4_9_unit",{"$f":"'T2-B(PP3)'!$C$107","v":0},"#'T2-B(PP3)'!$C$107"]
["pp3_bl3_4_9_unit_in",{"$f":"'T2-B(PP3)'!$D$107","v":0},"#'T2-B(PP3)'!$D$107"]
["pp3_bl3_4_9_units_out",{"$f":"'T2-B(PP3)'!$G$107","v":0},"#'T2-B(PP3)'!$G$107"]
["pp3_bl3_4_total",{"$f":"'T2-B(PP3)'!$J$98","v":0},"#'T2-B(PP3)'!$J$98"]
["pp3_bl3_4_total_in",{"$f":"'T2-B(PP3)'!$F$98","v":0},"#'T2-B(PP3)'!$F$98"]
["pp3_bl3_4_total_out",{"$f":"'T2-B(PP3)'!$I$98","v":0},"#'T2-B(PP3)'!$I$98"]
["pp3_bl3_total",{"$f":"'T2-B(PP3)'!$J$109","v":0},"#'T2-B(PP3)'!$J$109"]
["pp3_bl3_total_in",{"$f":"'T2-B(PP3)'!$F$109","v":0},"#'T2-B(PP3)'!$F$109"]
["pp3_bl3_total_out",{"$f":"'T2-B(PP3)'!$I$109","v":0},"#'T2-B(PP3)'!$I$109"]
["pp3_bl4_1_1_name",{"$f":"'T2-B(PP3)'!$B$114","v":0},"#'T2-B(PP3)'!$B$114"]
["pp3_bl4_1_1_rate_in",{"$f":"'T2-B(PP3)'!$E$114","v":0},"#'T2-B(PP3)'!$E$114"]
["pp3_bl4_1_1_rate_out",{"$f":"'T2-B(PP3)'!$H$114","v":0},"#'T2-B(PP3)'!$H$114"]
["pp3_bl4_1_1_total",{"$f":"'T2-B(PP3)'!$J$114","v":0},"#'T2-B(PP3)'!$J$114"]
["pp3_bl4_1_1_total_in",{"$f":"'T2-B(PP3)'!$F$114","v":0},"#'T2-B(PP3)'!$F$114"]
["pp3_bl4_1_1_total_out",{"$f":"'T2-B(PP3)'!$I$114","v":0},"#'T2-B(PP3)'!$I$114"]
["pp3_bl4_1_1_unit",{"$f":"'T2-B(PP3)'!$C$114","v":0},"#'T2-B(PP3)'!$C$114"]
["pp3_bl4_1_1_unit_in",{"$f":"'T2-B(PP3)'!$D$114","v":0},"#'T2-B(PP3)'!$D$114"]
["pp3_bl4_1_1_units_out",{"$f":"'T2-B(PP3)'!$G$114","v":0},"#'T2-B(PP3)'!$G$114"]
["pp3_bl4_1_10_name",{"$f":"'T2-B(PP3)'!$B$123","v":0},"#'T2-B(PP3)'!$B$123"]
["pp3_bl4_1_10_rate_in",{"$f":"'T2-B(PP3)'!$E$123","v":0},"#'T2-B(PP3)'!$E$123"]
["pp3_bl4_1_10_rate_out",{"$f":"'T2-B(PP3)'!$H$123","v":0},"#'T2-B(PP3)'!$H$123"]
["pp3_bl4_1_10_total",{"$f":"'T2-B(PP3)'!$J$123","v":0},"#'T2-B(PP3)'!$J$123"]
["pp3_bl4_1_10_total_in",{"$f":"'T2-B(PP3)'!$F$123","v":0},"#'T2-B(PP3)'!$F$123"]
["pp3_bl4_1_10_total_out",{"$f":"'T2-B(PP3)'!$I$123","v":0},"#'T2-B(PP3)'!$I$123"]
["pp3_bl4_1_10_unit",{"$f":"'T2-B(PP3)'!$C$123","v":0},"#'T2-B(PP3)'!$C$123"]
["pp3_bl4_1_10_unit_in",{"$f":"'T2-B(PP3)'!$D$123","v":0},"#'T2-B(PP3)'!$D$123"]
["pp3_bl4_1_10_units_out",{"$f":"'T2-B(PP3)'!$G$123","v":0},"#'T2-B(PP3)'!$G$123"]
["pp3_bl4_1_2_name",{"$f":"'T2-B(PP3)'!$B$115","v":0},"#'T2-B(PP3)'!$B$115"]
["pp3_bl4_1_2_rate_in",{"$f":"'T2-B(PP3)'!$E$115","v":0},"#'T2-B(PP3)'!$E$115"]
["pp3_bl4_1_2_rate_out",{"$f":"'T2-B(PP3)'!$H$115","v":0},"#'T2-B(PP3)'!$H$115"]
["pp3_bl4_1_2_total",{"$f":"'T2-B(PP3)'!$J$115","v":0},"#'T2-B(PP3)'!$J$115"]
["pp3_bl4_1_2_total_in",{"$f":"'T2-B(PP3)'!$F$115","v":0},"#'T2-B(PP3)'!$F$115"]
["pp3_bl4_1_2_total_out",{"$f":"'T2-B(PP3)'!$I$115","v":0},"#'T2-B(PP3)'!$I$115"]
["pp3_bl4_1_2_unit",{"$f":"'T2-B(PP3)'!$C$115","v":0},"#'T2-B(PP3)'!$C$115"]
["pp3_bl4_1_2_unit_in",{"$f":"'T2-B(PP3)'!$D$115","v":0},"#'T2-B(PP3)'!$D$115"]
["pp3_bl4_1_2_units_out",{"$f":"'T2-B(PP3)'!$G$115","v":0},"#'T2-B(PP3)'!$G$115"]
["pp3_bl4_1_3_name",{"$f":"'T2-B(PP3)'!$B$116","v":0},"#'T2-B(PP3)'!$B$116"]
["pp3_bl4_1_3_rate_in",{"$f":"'T2-B(PP3)'!$E$116","v":0},"#'T2-B(PP3)'!$E$116"]
["pp3_bl4_1_3_rate_out",{"$f":"'T2-B(PP3)'!$H$116","v":0},"#'T2-B(PP3)'!$H$116"]
["pp3_bl4_1_3_total",{"$f":"'T2-B(PP3)'!$J$116","v":0},"#'T2-B(PP3)'!$J$116"]
["pp3_bl4_1_3_total_in",{"$f":"'T2-B(PP3)'!$F$116","v":0},"#'T2-B(PP3)'!$F$116"]
["pp3_bl4_1_3_total_out",{"$f":"'T2-B(PP3)'!$I$116","v":0},"#'T2-B(PP3)'!$I$116"]
["pp3_bl4_1_3_unit",{"$f":"'T2-B(PP3)'!$C$116","v":0},"#'T2-B(PP3)'!$C$116"]
["pp3_bl4_1_3_unit_in",{"$f":"'T2-B(PP3)'!$D$116","v":0},"#'T2-B(PP3)'!$D$116"]
["pp3_bl4_1_3_units_out",{"$f":"'T2-B(PP3)'!$G$116","v":0},"#'T2-B(PP3)'!$G$116"]
["pp3_bl4_1_4_name",{"$f":"'T2-B(PP3)'!$B$117","v":0},"#'T2-B(PP3)'!$B$117"]
["pp3_bl4_1_4_rate_in",{"$f":"'T2-B(PP3)'!$E$117","v":0},"#'T2-B(PP3)'!$E$117"]
["pp3_bl4_1_4_rate_out",{"$f":"'T2-B(PP3)'!$H$117","v":0},"#'T2-B(PP3)'!$H$117"]
["pp3_bl4_1_4_total",{"$f":"'T2-B(PP3)'!$J$117","v":0},"#'T2-B(PP3)'!$J$117"]
["pp3_bl4_1_4_total_in",{"$f":"'T2-B(PP3)'!$F$117","v":0},"#'T2-B(PP3)'!$F$117"]
["pp3_bl4_1_4_total_out",{"$f":"'T2-B(PP3)'!$I$117","v":0},"#'T2-B(PP3)'!$I$117"]
["pp3_bl4_1_4_unit",{"$f":"'T2-B(PP3)'!$C$117","v":0},"#'T2-B(PP3)'!$C$117"]
["pp3_bl4_1_4_unit_in",{"$f":"'T2-B(PP3)'!$D$117","v":0},"#'T2-B(PP3)'!$D$117"]
["pp3_bl4_1_4_units_out",{"$f":"'T2-B(PP3)'!$G$117","v":0},"#'T2-B(PP3)'!$G$117"]
["pp3_bl4_1_5_name",{"$f":"'T2-B(PP3)'!$B$118","v":0},"#'T2-B(PP3)'!$B$118"]
["pp3_bl4_1_5_rate_in",{"$f":"'T2-B(PP3)'!$E$118","v":0},"#'T2-B(PP3)'!$E$118"]
["pp3_bl4_1_5_rate_out",{"$f":"'T2-B(PP3)'!$H$118","v":0},"#'T2-B(PP3)'!$H$118"]
["pp3_bl4_1_5_total",{"$f":"'T2-B(PP3)'!$J$118","v":0},"#'T2-B(PP3)'!$J$118"]
["pp3_bl4_1_5_total_in",{"$f":"'T2-B(PP3)'!$F$118","v":0},"#'T2-B(PP3)'!$F$118"]
["pp3_bl4_1_5_total_out",{"$f":"'T2-B(PP3)'!$I$118","v":0},"#'T2-B(PP3)'!$I$118"]
["pp3_bl4_1_5_unit",{"$f":"'T2-B(PP3)'!$C$118","v":0},"#'T2-B(PP3)'!$C$118"]
["pp3_bl4_1_5_unit_in",{"$f":"'T2-B(PP3)'!$D$118","v":0},"#'T2-B(PP3)'!$D$118"]
["pp3_bl4_1_5_units_out",{"$f":"'T2-B(PP3)'!$G$118","v":0},"#'T2-B(PP3)'!$G$118"]
["pp3_bl4_1_6_name",{"$f":"'T2-B(PP3)'!$B$119","v":0},"#'T2-B(PP3)'!$B$119"]
["pp3_bl4_1_6_rate_in",{"$f":"'T2-B(PP3)'!$E$119","v":0},"#'T2-B(PP3)'!$E$119"]
["pp3_bl4_1_6_rate_out",{"$f":"'T2-B(PP3)'!$H$119","v":0},"#'T2-B(PP3)'!$H$119"]
["pp3_bl4_1_6_total",{"$f":"'T2-B(PP3)'!$J$119","v":0},"#'T2-B(PP3)'!$J$119"]
["pp3_bl4_1_6_total_in",{"$f":"'T2-B(PP3)'!$F$119","v":0},"#'T2-B(PP3)'!$F$119"]
["pp3_bl4_1_6_total_out",{"$f":"'T2-B(PP3)'!$I$119","v":0},"#'T2-B(PP3)'!$I$119"]
["pp3_bl4_1_6_unit",{"$f":"'T2-B(PP3)'!$C$119","v":0},"#'T2-B(PP3)'!$C$119"]
["pp3_bl4_1_6_unit_in",{"$f":"'T2-B(PP3)'!$D$119","v":0},"#'T2-B(PP3)'!$D$119"]
["pp3_bl4_1_6_units_out",{"$f":"'T2-B(PP3)'!$G$119","v":0},"#'T2-B(PP3)'!$G$119"]
["pp3_bl4_1_7_name",{"$f":"'T2-B(PP3)'!$B$120","v":0},"#'T2-B(PP3)'!$B$120"]
["pp3_bl4_1_7_rate_in",{"$f":"'T2-B(PP3)'!$E$120","v":0},"#'T2-B(PP3)'!$E$120"]
["pp3_bl4_1_7_rate_out",{"$f":"'T2-B(PP3)'!$H$120","v":0},"#'T2-B(PP3)'!$H$120"]
["pp3_bl4_1_7_total",{"$f":"'T2-B(PP3)'!$J$120","v":0},"#'T2-B(PP3)'!$J$120"]
["pp3_bl4_1_7_total_in",{"$f":"'T2-B(PP3)'!$F$120","v":0},"#'T2-B(PP3)'!$F$120"]
["pp3_bl4_1_7_total_out",{"$f":"'T2-B(PP3)'!$I$120","v":0},"#'T2-B(PP3)'!$I$120"]
["pp3_bl4_1_7_unit",{"$f":"'T2-B(PP3)'!$C$120","v":0},"#'T2-B(PP3)'!$C$120"]
["pp3_bl4_1_7_unit_in",{"$f":"'T2-B(PP3)'!$D$120","v":0},"#'T2-B(PP3)'!$D$120"]
["pp3_bl4_1_7_units_out",{"$f":"'T2-B(PP3)'!$G$120","v":0},"#'T2-B(PP3)'!$G$120"]
["pp3_bl4_1_8_name",{"$f":"'T2-B(PP3)'!$B$121","v":0},"#'T2-B(PP3)'!$B$121"]
["pp3_bl4_1_8_rate_in",{"$f":"'T2-B(PP3)'!$E$121","v":0},"#'T2-B(PP3)'!$E$121"]
["pp3_bl4_1_8_rate_out",{"$f":"'T2-B(PP3)'!$H$121","v":0},"#'T2-B(PP3)'!$H$121"]
["pp3_bl4_1_8_total",{"$f":"'T2-B(PP3)'!$J$121","v":0},"#'T2-B(PP3)'!$J$121"]
["pp3_bl4_1_8_total_in",{"$f":"'T2-B(PP3)'!$F$121","v":0},"#'T2-B(PP3)'!$F$121"]
["pp3_bl4_1_8_total_out",{"$f":"'T2-B(PP3)'!$I$121","v":0},"#'T2-B(PP3)'!$I$121"]
["pp3_bl4_1_8_unit",{"$f":"'T2-B(PP3)'!$C$121","v":0},"#'T2-B(PP3)'!$C$121"]
["pp3_bl4_1_8_unit_in",{"$f":"'T2-B(PP3)'!$D$121","v":0},"#'T2-B(PP3)'!$D$121"]
["pp3_bl4_1_8_units_out",{"$f":"'T2-B(PP3)'!$G$121","v":0},"#'T2-B(PP3)'!$G$121"]
["pp3_bl4_1_9_name",{"$f":"'T2-B(PP3)'!$B$122","v":0},"#'T2-B(PP3)'!$B$122"]
["pp3_bl4_1_9_rate_in",{"$f":"'T2-B(PP3)'!$E$122","v":0},"#'T2-B(PP3)'!$E$122"]
["pp3_bl4_1_9_rate_out",{"$f":"'T2-B(PP3)'!$H$122","v":0},"#'T2-B(PP3)'!$H$122"]
["pp3_bl4_1_9_total",{"$f":"'T2-B(PP3)'!$J$122","v":0},"#'T2-B(PP3)'!$J$122"]
["pp3_bl4_1_9_total_in",{"$f":"'T2-B(PP3)'!$F$122","v":0},"#'T2-B(PP3)'!$F$122"]
["pp3_bl4_1_9_total_out",{"$f":"'T2-B(PP3)'!$I$122","v":0},"#'T2-B(PP3)'!$I$122"]
["pp3_bl4_1_9_unit",{"$f":"'T2-B(PP3)'!$C$122","v":0},"#'T2-B(PP3)'!$C$122"]
["pp3_bl4_1_9_unit_in",{"$f":"'T2-B(PP3)'!$D$122","v":0},"#'T2-B(PP3)'!$D$122"]
["pp3_bl4_1_9_units_out",{"$f":"'T2-B(PP3)'!$G$122","v":0},"#'T2-B(PP3)'!$G$122"]
["pp3_bl4_1_total",{"$f":"'T2-B(PP3)'!$J$113","v":0},"#'T2-B(PP3)'!$J$113"]
["pp3_bl4_1_total_in",{"$f":"'T2-B(PP3)'!$F$113","v":0},"#'T2-B(PP3)'!$F$113"]
["pp3_bl4_1_total_out",{"$f":"'T2-B(PP3)'!$I$113","v":0},"#'T2-B(PP3)'!$I$113"]
["pp3_bl4_10_1_name",{"$f":"'T2-B(PP3)'!$B$303","v":0},"#'T2-B(PP3)'!$B$303"]
["pp3_bl4_10_1_rate_in",{"$f":"'T2-B(PP3)'!$E$303","v":0},"#'T2-B(PP3)'!$E$303"]
["pp3_bl4_10_1_rate_out",{"$f":"'T2-B(PP3)'!$H$303","v":0},"#'T2-B(PP3)'!$H$303"]
["pp3_bl4_10_1_total",{"$f":"'T2-B(PP3)'!$J$303","v":0},"#'T2-B(PP3)'!$J$303"]
["pp3_bl4_10_1_total_in",{"$f":"'T2-B(PP3)'!$F$303","v":0},"#'T2-B(PP3)'!$F$303"]
["pp3_bl4_10_1_total_out",{"$f":"'T2-B(PP3)'!$I$303","v":0},"#'T2-B(PP3)'!$I$303"]
["pp3_bl4_10_1_unit",{"$f":"'T2-B(PP3)'!$C$303","v":0},"#'T2-B(PP3)'!$C$303"]
["pp3_bl4_10_1_unit_in",{"$f":"'T2-B(PP3)'!$D$303","v":0},"#'T2-B(PP3)'!$D$303"]
["pp3_bl4_10_1_units_out",{"$f":"'T2-B(PP3)'!$G$303","v":0},"#'T2-B(PP3)'!$G$303"]
["pp3_bl4_10_10_name",{"$f":"'T2-B(PP3)'!$B$312","v":0},"#'T2-B(PP3)'!$B$312"]
["pp3_bl4_10_10_rate_in",{"$f":"'T2-B(PP3)'!$E$312","v":0},"#'T2-B(PP3)'!$E$312"]
["pp3_bl4_10_10_rate_out",{"$f":"'T2-B(PP3)'!$H$312","v":0},"#'T2-B(PP3)'!$H$312"]
["pp3_bl4_10_10_total",{"$f":"'T2-B(PP3)'!$J$312","v":0},"#'T2-B(PP3)'!$J$312"]
["pp3_bl4_10_10_total_in",{"$f":"'T2-B(PP3)'!$F$312","v":0},"#'T2-B(PP3)'!$F$312"]
["pp3_bl4_10_10_total_out",{"$f":"'T2-B(PP3)'!$I$312","v":0},"#'T2-B(PP3)'!$I$312"]
["pp3_bl4_10_10_unit",{"$f":"'T2-B(PP3)'!$C$312","v":0},"#'T2-B(PP3)'!$C$312"]
["pp3_bl4_10_10_unit_in",{"$f":"'T2-B(PP3)'!$D$312","v":0},"#'T2-B(PP3)'!$D$312"]
["pp3_bl4_10_10_units_out",{"$f":"'T2-B(PP3)'!$G$312","v":0},"#'T2-B(PP3)'!$G$312"]
["pp3_bl4_10_2_name",{"$f":"'T2-B(PP3)'!$B$304","v":0},"#'T2-B(PP3)'!$B$304"]
["pp3_bl4_10_2_rate_in",{"$f":"'T2-B(PP3)'!$E$304","v":0},"#'T2-B(PP3)'!$E$304"]
["pp3_bl4_10_2_rate_out",{"$f":"'T2-B(PP3)'!$H$304","v":0},"#'T2-B(PP3)'!$H$304"]
["pp3_bl4_10_2_total",{"$f":"'T2-B(PP3)'!$J$304","v":0},"#'T2-B(PP3)'!$J$304"]
["pp3_bl4_10_2_total_in",{"$f":"'T2-B(PP3)'!$F$304","v":0},"#'T2-B(PP3)'!$F$304"]
["pp3_bl4_10_2_total_out",{"$f":"'T2-B(PP3)'!$I$304","v":0},"#'T2-B(PP3)'!$I$304"]
["pp3_bl4_10_2_unit",{"$f":"'T2-B(PP3)'!$C$304","v":0},"#'T2-B(PP3)'!$C$304"]
["pp3_bl4_10_2_unit_in",{"$f":"'T2-B(PP3)'!$D$304","v":0},"#'T2-B(PP3)'!$D$304"]
["pp3_bl4_10_2_units_out",{"$f":"'T2-B(PP3)'!$G$304","v":0},"#'T2-B(PP3)'!$G$304"]
["pp3_bl4_10_3_name",{"$f":"'T2-B(PP3)'!$B$305","v":0},"#'T2-B(PP3)'!$B$305"]
["pp3_bl4_10_3_rate_in",{"$f":"'T2-B(PP3)'!$E$305","v":0},"#'T2-B(PP3)'!$E$305"]
["pp3_bl4_10_3_rate_out",{"$f":"'T2-B(PP3)'!$H$305","v":0},"#'T2-B(PP3)'!$H$305"]
["pp3_bl4_10_3_total",{"$f":"'T2-B(PP3)'!$J$305","v":0},"#'T2-B(PP3)'!$J$305"]
["pp3_bl4_10_3_total_in",{"$f":"'T2-B(PP3)'!$F$305","v":0},"#'T2-B(PP3)'!$F$305"]
["pp3_bl4_10_3_total_out",{"$f":"'T2-B(PP3)'!$I$305","v":0},"#'T2-B(PP3)'!$I$305"]
["pp3_bl4_10_3_unit",{"$f":"'T2-B(PP3)'!$C$305","v":0},"#'T2-B(PP3)'!$C$305"]
["pp3_bl4_10_3_unit_in",{"$f":"'T2-B(PP3)'!$D$305","v":0},"#'T2-B(PP3)'!$D$305"]
["pp3_bl4_10_3_units_out",{"$f":"'T2-B(PP3)'!$G$305","v":0},"#'T2-B(PP3)'!$G$305"]
["pp3_bl4_10_4_name",{"$f":"'T2-B(PP3)'!$B$306","v":0},"#'T2-B(PP3)'!$B$306"]
["pp3_bl4_10_4_rate_in",{"$f":"'T2-B(PP3)'!$E$306","v":0},"#'T2-B(PP3)'!$E$306"]
["pp3_bl4_10_4_rate_out",{"$f":"'T2-B(PP3)'!$H$306","v":0},"#'T2-B(PP3)'!$H$306"]
["pp3_bl4_10_4_total",{"$f":"'T2-B(PP3)'!$J$306","v":0},"#'T2-B(PP3)'!$J$306"]
["pp3_bl4_10_4_total_in",{"$f":"'T2-B(PP3)'!$F$306","v":0},"#'T2-B(PP3)'!$F$306"]
["pp3_bl4_10_4_total_out",{"$f":"'T2-B(PP3)'!$I$306","v":0},"#'T2-B(PP3)'!$I$306"]
["pp3_bl4_10_4_unit",{"$f":"'T2-B(PP3)'!$C$306","v":0},"#'T2-B(PP3)'!$C$306"]
["pp3_bl4_10_4_unit_in",{"$f":"'T2-B(PP3)'!$D$306","v":0},"#'T2-B(PP3)'!$D$306"]
["pp3_bl4_10_4_units_out",{"$f":"'T2-B(PP3)'!$G$306","v":0},"#'T2-B(PP3)'!$G$306"]
["pp3_bl4_10_5_name",{"$f":"'T2-B(PP3)'!$B$307","v":0},"#'T2-B(PP3)'!$B$307"]
["pp3_bl4_10_5_rate_in",{"$f":"'T2-B(PP3)'!$E$307","v":0},"#'T2-B(PP3)'!$E$307"]
["pp3_bl4_10_5_rate_out",{"$f":"'T2-B(PP3)'!$H$307","v":0},"#'T2-B(PP3)'!$H$307"]
["pp3_bl4_10_5_total",{"$f":"'T2-B(PP3)'!$J$307","v":0},"#'T2-B(PP3)'!$J$307"]
["pp3_bl4_10_5_total_in",{"$f":"'T2-B(PP3)'!$F$307","v":0},"#'T2-B(PP3)'!$F$307"]
["pp3_bl4_10_5_total_out",{"$f":"'T2-B(PP3)'!$I$307","v":0},"#'T2-B(PP3)'!$I$307"]
["pp3_bl4_10_5_unit",{"$f":"'T2-B(PP3)'!$C$307","v":0},"#'T2-B(PP3)'!$C$307"]
["pp3_bl4_10_5_unit_in",{"$f":"'T2-B(PP3)'!$D$307","v":0},"#'T2-B(PP3)'!$D$307"]
["pp3_bl4_10_5_units_out",{"$f":"'T2-B(PP3)'!$G$307","v":0},"#'T2-B(PP3)'!$G$307"]
["pp3_bl4_10_6_name",{"$f":"'T2-B(PP3)'!$B$308","v":0},"#'T2-B(PP3)'!$B$308"]
["pp3_bl4_10_6_rate_in",{"$f":"'T2-B(PP3)'!$E$308","v":0},"#'T2-B(PP3)'!$E$308"]
["pp3_bl4_10_6_rate_out",{"$f":"'T2-B(PP3)'!$H$308","v":0},"#'T2-B(PP3)'!$H$308"]
["pp3_bl4_10_6_total",{"$f":"'T2-B(PP3)'!$J$308","v":0},"#'T2-B(PP3)'!$J$308"]
["pp3_bl4_10_6_total_in",{"$f":"'T2-B(PP3)'!$F$308","v":0},"#'T2-B(PP3)'!$F$308"]
["pp3_bl4_10_6_total_out",{"$f":"'T2-B(PP3)'!$I$308","v":0},"#'T2-B(PP3)'!$I$308"]
["pp3_bl4_10_6_unit",{"$f":"'T2-B(PP3)'!$C$308","v":0},"#'T2-B(PP3)'!$C$308"]
["pp3_bl4_10_6_unit_in",{"$f":"'T2-B(PP3)'!$D$308","v":0},"#'T2-B(PP3)'!$D$308"]
["pp3_bl4_10_6_units_out",{"$f":"'T2-B(PP3)'!$G$308","v":0},"#'T2-B(PP3)'!$G$308"]
["pp3_bl4_10_7_name",{"$f":"'T2-B(PP3)'!$B$309","v":0},"#'T2-B(PP3)'!$B$309"]
["pp3_bl4_10_7_rate_in",{"$f":"'T2-B(PP3)'!$E$309","v":0},"#'T2-B(PP3)'!$E$309"]
["pp3_bl4_10_7_rate_out",{"$f":"'T2-B(PP3)'!$H$309","v":0},"#'T2-B(PP3)'!$H$309"]
["pp3_bl4_10_7_total",{"$f":"'T2-B(PP3)'!$J$309","v":0},"#'T2-B(PP3)'!$J$309"]
["pp3_bl4_10_7_total_in",{"$f":"'T2-B(PP3)'!$F$309","v":0},"#'T2-B(PP3)'!$F$309"]
["pp3_bl4_10_7_total_out",{"$f":"'T2-B(PP3)'!$I$309","v":0},"#'T2-B(PP3)'!$I$309"]
["pp3_bl4_10_7_unit",{"$f":"'T2-B(PP3)'!$C$309","v":0},"#'T2-B(PP3)'!$C$309"]
["pp3_bl4_10_7_unit_in",{"$f":"'T2-B(PP3)'!$D$309","v":0},"#'T2-B(PP3)'!$D$309"]
["pp3_bl4_10_7_units_out",{"$f":"'T2-B(PP3)'!$G$309","v":0},"#'T2-B(PP3)'!$G$309"]
["pp3_bl4_10_8_name",{"$f":"'T2-B(PP3)'!$B$310","v":0},"#'T2-B(PP3)'!$B$310"]
["pp3_bl4_10_8_rate_in",{"$f":"'T2-B(PP3)'!$E$310","v":0},"#'T2-B(PP3)'!$E$310"]
["pp3_bl4_10_8_rate_out",{"$f":"'T2-B(PP3)'!$H$310","v":0},"#'T2-B(PP3)'!$H$310"]
["pp3_bl4_10_8_total",{"$f":"'T2-B(PP3)'!$J$310","v":0},"#'T2-B(PP3)'!$J$310"]
["pp3_bl4_10_8_total_in",{"$f":"'T2-B(PP3)'!$F$310","v":0},"#'T2-B(PP3)'!$F$310"]
["pp3_bl4_10_8_total_out",{"$f":"'T2-B(PP3)'!$I$310","v":0},"#'T2-B(PP3)'!$I$310"]
["pp3_bl4_10_8_unit",{"$f":"'T2-B(PP3)'!$C$310","v":0},"#'T2-B(PP3)'!$C$310"]
["pp3_bl4_10_8_unit_in",{"$f":"'T2-B(PP3)'!$D$310","v":0},"#'T2-B(PP3)'!$D$310"]
["pp3_bl4_10_8_units_out",{"$f":"'T2-B(PP3)'!$G$310","v":0},"#'T2-B(PP3)'!$G$310"]
["pp3_bl4_10_9_name",{"$f":"'T2-B(PP3)'!$B$311","v":0},"#'T2-B(PP3)'!$B$311"]
["pp3_bl4_10_9_rate_in",{"$f":"'T2-B(PP3)'!$E$311","v":0},"#'T2-B(PP3)'!$E$311"]
["pp3_bl4_10_9_rate_out",{"$f":"'T2-B(PP3)'!$H$311","v":0},"#'T2-B(PP3)'!$H$311"]
["pp3_bl4_10_9_total",{"$f":"'T2-B(PP3)'!$J$311","v":0},"#'T2-B(PP3)'!$J$311"]
["pp3_bl4_10_9_total_in",{"$f":"'T2-B(PP3)'!$F$311","v":0},"#'T2-B(PP3)'!$F$311"]
["pp3_bl4_10_9_total_out",{"$f":"'T2-B(PP3)'!$I$311","v":0},"#'T2-B(PP3)'!$I$311"]
["pp3_bl4_10_9_unit",{"$f":"'T2-B(PP3)'!$C$311","v":0},"#'T2-B(PP3)'!$C$311"]
["pp3_bl4_10_9_unit_in",{"$f":"'T2-B(PP3)'!$D$311","v":0},"#'T2-B(PP3)'!$D$311"]
["pp3_bl4_10_9_units_out",{"$f":"'T2-B(PP3)'!$G$311","v":0},"#'T2-B(PP3)'!$G$311"]
["pp3_bl4_10_total",{"$f":"'T2-B(PP3)'!$J$302","v":0},"#'T2-B(PP3)'!$J$302"]
["pp3_bl4_10_total_in",{"$f":"'T2-B(PP3)'!$F$302","v":0},"#'T2-B(PP3)'!$F$302"]
["pp3_bl4_10_total_out",{"$f":"'T2-B(PP3)'!$I$302","v":0},"#'T2-B(PP3)'!$I$302"]
["pp3_bl4_11_1_name",{"$f":"'T2-B(PP3)'!$B$324","v":0},"#'T2-B(PP3)'!$B$324"]
["pp3_bl4_11_1_rate_in",{"$f":"'T2-B(PP3)'!$E$324","v":0},"#'T2-B(PP3)'!$E$324"]
["pp3_bl4_11_1_rate_out",{"$f":"'T2-B(PP3)'!$H$324","v":0},"#'T2-B(PP3)'!$H$324"]
["pp3_bl4_11_1_total",{"$f":"'T2-B(PP3)'!$J$324","v":0},"#'T2-B(PP3)'!$J$324"]
["pp3_bl4_11_1_total_in",{"$f":"'T2-B(PP3)'!$F$324","v":0},"#'T2-B(PP3)'!$F$324"]
["pp3_bl4_11_1_total_out",{"$f":"'T2-B(PP3)'!$I$324","v":0},"#'T2-B(PP3)'!$I$324"]
["pp3_bl4_11_1_unit",{"$f":"'T2-B(PP3)'!$C$324","v":0},"#'T2-B(PP3)'!$C$324"]
["pp3_bl4_11_1_unit_in",{"$f":"'T2-B(PP3)'!$D$324","v":0},"#'T2-B(PP3)'!$D$324"]
["pp3_bl4_11_1_units_out",{"$f":"'T2-B(PP3)'!$G$324","v":0},"#'T2-B(PP3)'!$G$324"]
["pp3_bl4_11_10_name",{"$f":"'T2-B(PP3)'!$B$333","v":0},"#'T2-B(PP3)'!$B$333"]
["pp3_bl4_11_10_rate_in",{"$f":"'T2-B(PP3)'!$E$333","v":0},"#'T2-B(PP3)'!$E$333"]
["pp3_bl4_11_10_rate_out",{"$f":"'T2-B(PP3)'!$H$333","v":0},"#'T2-B(PP3)'!$H$333"]
["pp3_bl4_11_10_total",{"$f":"'T2-B(PP3)'!$J$333","v":0},"#'T2-B(PP3)'!$J$333"]
["pp3_bl4_11_10_total_in",{"$f":"'T2-B(PP3)'!$F$333","v":0},"#'T2-B(PP3)'!$F$333"]
["pp3_bl4_11_10_total_out",{"$f":"'T2-B(PP3)'!$I$333","v":0},"#'T2-B(PP3)'!$I$333"]
["pp3_bl4_11_10_unit",{"$f":"'T2-B(PP3)'!$C$333","v":0},"#'T2-B(PP3)'!$C$333"]
["pp3_bl4_11_10_unit_in",{"$f":"'T2-B(PP3)'!$D$333","v":0},"#'T2-B(PP3)'!$D$333"]
["pp3_bl4_11_10_units_out",{"$f":"'T2-B(PP3)'!$G$333","v":0},"#'T2-B(PP3)'!$G$333"]
["pp3_bl4_11_2_name",{"$f":"'T2-B(PP3)'!$B$325","v":0},"#'T2-B(PP3)'!$B$325"]
["pp3_bl4_11_2_rate_in",{"$f":"'T2-B(PP3)'!$E$325","v":0},"#'T2-B(PP3)'!$E$325"]
["pp3_bl4_11_2_rate_out",{"$f":"'T2-B(PP3)'!$H$325","v":0},"#'T2-B(PP3)'!$H$325"]
["pp3_bl4_11_2_total",{"$f":"'T2-B(PP3)'!$J$325","v":0},"#'T2-B(PP3)'!$J$325"]
["pp3_bl4_11_2_total_in",{"$f":"'T2-B(PP3)'!$F$325","v":0},"#'T2-B(PP3)'!$F$325"]
["pp3_bl4_11_2_total_out",{"$f":"'T2-B(PP3)'!$I$325","v":0},"#'T2-B(PP3)'!$I$325"]
["pp3_bl4_11_2_unit",{"$f":"'T2-B(PP3)'!$C$325","v":0},"#'T2-B(PP3)'!$C$325"]
["pp3_bl4_11_2_unit_in",{"$f":"'T2-B(PP3)'!$D$325","v":0},"#'T2-B(PP3)'!$D$325"]
["pp3_bl4_11_2_units_out",{"$f":"'T2-B(PP3)'!$G$325","v":0},"#'T2-B(PP3)'!$G$325"]
["pp3_bl4_11_3_name",{"$f":"'T2-B(PP3)'!$B$326","v":0},"#'T2-B(PP3)'!$B$326"]
["pp3_bl4_11_3_rate_in",{"$f":"'T2-B(PP3)'!$E$326","v":0},"#'T2-B(PP3)'!$E$326"]
["pp3_bl4_11_3_rate_out",{"$f":"'T2-B(PP3)'!$H$326","v":0},"#'T2-B(PP3)'!$H$326"]
["pp3_bl4_11_3_total",{"$f":"'T2-B(PP3)'!$J$326","v":0},"#'T2-B(PP3)'!$J$326"]
["pp3_bl4_11_3_total_in",{"$f":"'T2-B(PP3)'!$F$326","v":0},"#'T2-B(PP3)'!$F$326"]
["pp3_bl4_11_3_total_out",{"$f":"'T2-B(PP3)'!$I$326","v":0},"#'T2-B(PP3)'!$I$326"]
["pp3_bl4_11_3_unit",{"$f":"'T2-B(PP3)'!$C$326","v":0},"#'T2-B(PP3)'!$C$326"]
["pp3_bl4_11_3_unit_in",{"$f":"'T2-B(PP3)'!$D$326","v":0},"#'T2-B(PP3)'!$D$326"]
["pp3_bl4_11_3_units_out",{"$f":"'T2-B(PP3)'!$G$326","v":0},"#'T2-B(PP3)'!$G$326"]
["pp3_bl4_11_4_name",{"$f":"'T2-B(PP3)'!$B$327","v":0},"#'T2-B(PP3)'!$B$327"]
["pp3_bl4_11_4_rate_in",{"$f":"'T2-B(PP3)'!$E$327","v":0},"#'T2-B(PP3)'!$E$327"]
["pp3_bl4_11_4_rate_out",{"$f":"'T2-B(PP3)'!$H$327","v":0},"#'T2-B(PP3)'!$H$327"]
["pp3_bl4_11_4_total",{"$f":"'T2-B(PP3)'!$J$327","v":0},"#'T2-B(PP3)'!$J$327"]
["pp3_bl4_11_4_total_in",{"$f":"'T2-B(PP3)'!$F$327","v":0},"#'T2-B(PP3)'!$F$327"]
["pp3_bl4_11_4_total_out",{"$f":"'T2-B(PP3)'!$I$327","v":0},"#'T2-B(PP3)'!$I$327"]
["pp3_bl4_11_4_unit",{"$f":"'T2-B(PP3)'!$C$327","v":0},"#'T2-B(PP3)'!$C$327"]
["pp3_bl4_11_4_unit_in",{"$f":"'T2-B(PP3)'!$D$327","v":0},"#'T2-B(PP3)'!$D$327"]
["pp3_bl4_11_4_units_out",{"$f":"'T2-B(PP3)'!$G$327","v":0},"#'T2-B(PP3)'!$G$327"]
["pp3_bl4_11_5_name",{"$f":"'T2-B(PP3)'!$B$328","v":0},"#'T2-B(PP3)'!$B$328"]
["pp3_bl4_11_5_rate_in",{"$f":"'T2-B(PP3)'!$E$328","v":0},"#'T2-B(PP3)'!$E$328"]
["pp3_bl4_11_5_rate_out",{"$f":"'T2-B(PP3)'!$H$328","v":0},"#'T2-B(PP3)'!$H$328"]
["pp3_bl4_11_5_total",{"$f":"'T2-B(PP3)'!$J$328","v":0},"#'T2-B(PP3)'!$J$328"]
["pp3_bl4_11_5_total_in",{"$f":"'T2-B(PP3)'!$F$328","v":0},"#'T2-B(PP3)'!$F$328"]
["pp3_bl4_11_5_total_out",{"$f":"'T2-B(PP3)'!$I$328","v":0},"#'T2-B(PP3)'!$I$328"]
["pp3_bl4_11_5_unit",{"$f":"'T2-B(PP3)'!$C$328","v":0},"#'T2-B(PP3)'!$C$328"]
["pp3_bl4_11_5_unit_in",{"$f":"'T2-B(PP3)'!$D$328","v":0},"#'T2-B(PP3)'!$D$328"]
["pp3_bl4_11_5_units_out",{"$f":"'T2-B(PP3)'!$G$328","v":0},"#'T2-B(PP3)'!$G$328"]
["pp3_bl4_11_6_name",{"$f":"'T2-B(PP3)'!$B$329","v":0},"#'T2-B(PP3)'!$B$329"]
["pp3_bl4_11_6_rate_in",{"$f":"'T2-B(PP3)'!$E$329","v":0},"#'T2-B(PP3)'!$E$329"]
["pp3_bl4_11_6_rate_out",{"$f":"'T2-B(PP3)'!$H$329","v":0},"#'T2-B(PP3)'!$H$329"]
["pp3_bl4_11_6_total",{"$f":"'T2-B(PP3)'!$J$329","v":0},"#'T2-B(PP3)'!$J$329"]
["pp3_bl4_11_6_total_in",{"$f":"'T2-B(PP3)'!$F$329","v":0},"#'T2-B(PP3)'!$F$329"]
["pp3_bl4_11_6_total_out",{"$f":"'T2-B(PP3)'!$I$329","v":0},"#'T2-B(PP3)'!$I$329"]
["pp3_bl4_11_6_unit",{"$f":"'T2-B(PP3)'!$C$329","v":0},"#'T2-B(PP3)'!$C$329"]
["pp3_bl4_11_6_unit_in",{"$f":"'T2-B(PP3)'!$D$329","v":0},"#'T2-B(PP3)'!$D$329"]
["pp3_bl4_11_6_units_out",{"$f":"'T2-B(PP3)'!$G$329","v":0},"#'T2-B(PP3)'!$G$329"]
["pp3_bl4_11_7_name",{"$f":"'T2-B(PP3)'!$B$330","v":0},"#'T2-B(PP3)'!$B$330"]
["pp3_bl4_11_7_rate_in",{"$f":"'T2-B(PP3)'!$E$330","v":0},"#'T2-B(PP3)'!$E$330"]
["pp3_bl4_11_7_rate_out",{"$f":"'T2-B(PP3)'!$H$330","v":0},"#'T2-B(PP3)'!$H$330"]
["pp3_bl4_11_7_total",{"$f":"'T2-B(PP3)'!$J$330","v":0},"#'T2-B(PP3)'!$J$330"]
["pp3_bl4_11_7_total_in",{"$f":"'T2-B(PP3)'!$F$330","v":0},"#'T2-B(PP3)'!$F$330"]
["pp3_bl4_11_7_total_out",{"$f":"'T2-B(PP3)'!$I$330","v":0},"#'T2-B(PP3)'!$I$330"]
["pp3_bl4_11_7_unit",{"$f":"'T2-B(PP3)'!$C$330","v":0},"#'T2-B(PP3)'!$C$330"]
["pp3_bl4_11_7_unit_in",{"$f":"'T2-B(PP3)'!$D$330","v":0},"#'T2-B(PP3)'!$D$330"]
["pp3_bl4_11_7_units_out",{"$f":"'T2-B(PP3)'!$G$330","v":0},"#'T2-B(PP3)'!$G$330"]
["pp3_bl4_11_8_name",{"$f":"'T2-B(PP3)'!$B$331","v":0},"#'T2-B(PP3)'!$B$331"]
["pp3_bl4_11_8_rate_in",{"$f":"'T2-B(PP3)'!$E$331","v":0},"#'T2-B(PP3)'!$E$331"]
["pp3_bl4_11_8_rate_out",{"$f":"'T2-B(PP3)'!$H$331","v":0},"#'T2-B(PP3)'!$H$331"]
["pp3_bl4_11_8_total",{"$f":"'T2-B(PP3)'!$J$331","v":0},"#'T2-B(PP3)'!$J$331"]
["pp3_bl4_11_8_total_in",{"$f":"'T2-B(PP3)'!$F$331","v":0},"#'T2-B(PP3)'!$F$331"]
["pp3_bl4_11_8_total_out",{"$f":"'T2-B(PP3)'!$I$331","v":0},"#'T2-B(PP3)'!$I$331"]
["pp3_bl4_11_8_unit",{"$f":"'T2-B(PP3)'!$C$331","v":0},"#'T2-B(PP3)'!$C$331"]
["pp3_bl4_11_8_unit_in",{"$f":"'T2-B(PP3)'!$D$331","v":0},"#'T2-B(PP3)'!$D$331"]
["pp3_bl4_11_8_units_out",{"$f":"'T2-B(PP3)'!$G$331","v":0},"#'T2-B(PP3)'!$G$331"]
["pp3_bl4_11_9_name",{"$f":"'T2-B(PP3)'!$B$332","v":0},"#'T2-B(PP3)'!$B$332"]
["pp3_bl4_11_9_rate_in",{"$f":"'T2-B(PP3)'!$E$332","v":0},"#'T2-B(PP3)'!$E$332"]
["pp3_bl4_11_9_rate_out",{"$f":"'T2-B(PP3)'!$H$332","v":0},"#'T2-B(PP3)'!$H$332"]
["pp3_bl4_11_9_total",{"$f":"'T2-B(PP3)'!$J$332","v":0},"#'T2-B(PP3)'!$J$332"]
["pp3_bl4_11_9_total_in",{"$f":"'T2-B(PP3)'!$F$332","v":0},"#'T2-B(PP3)'!$F$332"]
["pp3_bl4_11_9_total_out",{"$f":"'T2-B(PP3)'!$I$332","v":0},"#'T2-B(PP3)'!$I$332"]
["pp3_bl4_11_9_unit",{"$f":"'T2-B(PP3)'!$C$332","v":0},"#'T2-B(PP3)'!$C$332"]
["pp3_bl4_11_9_unit_in",{"$f":"'T2-B(PP3)'!$D$332","v":0},"#'T2-B(PP3)'!$D$332"]
["pp3_bl4_11_9_units_out",{"$f":"'T2-B(PP3)'!$G$332","v":0},"#'T2-B(PP3)'!$G$332"]
["pp3_bl4_11_total",{"$f":"'T2-B(PP3)'!$J$323","v":0},"#'T2-B(PP3)'!$J$323"]
["pp3_bl4_11_total_in",{"$f":"'T2-B(PP3)'!$F$323","v":0},"#'T2-B(PP3)'!$F$323"]
["pp3_bl4_11_total_out",{"$f":"'T2-B(PP3)'!$I$323","v":0},"#'T2-B(PP3)'!$I$323"]
["pp3_bl4_12_1_name",{"$f":"'T2-B(PP3)'!$B$345","v":0},"#'T2-B(PP3)'!$B$345"]
["pp3_bl4_12_1_rate_in",{"$f":"'T2-B(PP3)'!$E$345","v":0},"#'T2-B(PP3)'!$E$345"]
["pp3_bl4_12_1_rate_out",{"$f":"'T2-B(PP3)'!$H$345","v":0},"#'T2-B(PP3)'!$H$345"]
["pp3_bl4_12_1_total",{"$f":"'T2-B(PP3)'!$J$345","v":0},"#'T2-B(PP3)'!$J$345"]
["pp3_bl4_12_1_total_in",{"$f":"'T2-B(PP3)'!$F$345","v":0},"#'T2-B(PP3)'!$F$345"]
["pp3_bl4_12_1_total_out",{"$f":"'T2-B(PP3)'!$I$345","v":0},"#'T2-B(PP3)'!$I$345"]
["pp3_bl4_12_1_unit",{"$f":"'T2-B(PP3)'!$C$345","v":0},"#'T2-B(PP3)'!$C$345"]
["pp3_bl4_12_1_unit_in",{"$f":"'T2-B(PP3)'!$D$345","v":0},"#'T2-B(PP3)'!$D$345"]
["pp3_bl4_12_1_units_out",{"$f":"'T2-B(PP3)'!$G$345","v":0},"#'T2-B(PP3)'!$G$345"]
["pp3_bl4_12_10_name",{"$f":"'T2-B(PP3)'!$B$354","v":0},"#'T2-B(PP3)'!$B$354"]
["pp3_bl4_12_10_rate_in",{"$f":"'T2-B(PP3)'!$E$354","v":0},"#'T2-B(PP3)'!$E$354"]
["pp3_bl4_12_10_rate_out",{"$f":"'T2-B(PP3)'!$H$354","v":0},"#'T2-B(PP3)'!$H$354"]
["pp3_bl4_12_10_total",{"$f":"'T2-B(PP3)'!$J$354","v":0},"#'T2-B(PP3)'!$J$354"]
["pp3_bl4_12_10_total_in",{"$f":"'T2-B(PP3)'!$F$354","v":0},"#'T2-B(PP3)'!$F$354"]
["pp3_bl4_12_10_total_out",{"$f":"'T2-B(PP3)'!$I$354","v":0},"#'T2-B(PP3)'!$I$354"]
["pp3_bl4_12_10_unit",{"$f":"'T2-B(PP3)'!$C$354","v":0},"#'T2-B(PP3)'!$C$354"]
["pp3_bl4_12_10_unit_in",{"$f":"'T2-B(PP3)'!$D$354","v":0},"#'T2-B(PP3)'!$D$354"]
["pp3_bl4_12_10_units_out",{"$f":"'T2-B(PP3)'!$G$354","v":0},"#'T2-B(PP3)'!$G$354"]
["pp3_bl4_12_2_name",{"$f":"'T2-B(PP3)'!$B$346","v":0},"#'T2-B(PP3)'!$B$346"]
["pp3_bl4_12_2_rate_in",{"$f":"'T2-B(PP3)'!$E$346","v":0},"#'T2-B(PP3)'!$E$346"]
["pp3_bl4_12_2_rate_out",{"$f":"'T2-B(PP3)'!$H$346","v":0},"#'T2-B(PP3)'!$H$346"]
["pp3_bl4_12_2_total",{"$f":"'T2-B(PP3)'!$J$346","v":0},"#'T2-B(PP3)'!$J$346"]
["pp3_bl4_12_2_total_in",{"$f":"'T2-B(PP3)'!$F$346","v":0},"#'T2-B(PP3)'!$F$346"]
["pp3_bl4_12_2_total_out",{"$f":"'T2-B(PP3)'!$I$346","v":0},"#'T2-B(PP3)'!$I$346"]
["pp3_bl4_12_2_unit",{"$f":"'T2-B(PP3)'!$C$346","v":0},"#'T2-B(PP3)'!$C$346"]
["pp3_bl4_12_2_unit_in",{"$f":"'T2-B(PP3)'!$D$346","v":0},"#'T2-B(PP3)'!$D$346"]
["pp3_bl4_12_2_units_out",{"$f":"'T2-B(PP3)'!$G$346","v":0},"#'T2-B(PP3)'!$G$346"]
["pp3_bl4_12_3_name",{"$f":"'T2-B(PP3)'!$B$347","v":0},"#'T2-B(PP3)'!$B$347"]
["pp3_bl4_12_3_rate_in",{"$f":"'T2-B(PP3)'!$E$347","v":0},"#'T2-B(PP3)'!$E$347"]
["pp3_bl4_12_3_rate_out",{"$f":"'T2-B(PP3)'!$H$347","v":0},"#'T2-B(PP3)'!$H$347"]
["pp3_bl4_12_3_total",{"$f":"'T2-B(PP3)'!$J$347","v":0},"#'T2-B(PP3)'!$J$347"]
["pp3_bl4_12_3_total_in",{"$f":"'T2-B(PP3)'!$F$347","v":0},"#'T2-B(PP3)'!$F$347"]
["pp3_bl4_12_3_total_out",{"$f":"'T2-B(PP3)'!$I$347","v":0},"#'T2-B(PP3)'!$I$347"]
["pp3_bl4_12_3_unit",{"$f":"'T2-B(PP3)'!$C$347","v":0},"#'T2-B(PP3)'!$C$347"]
["pp3_bl4_12_3_unit_in",{"$f":"'T2-B(PP3)'!$D$347","v":0},"#'T2-B(PP3)'!$D$347"]
["pp3_bl4_12_3_units_out",{"$f":"'T2-B(PP3)'!$G$347","v":0},"#'T2-B(PP3)'!$G$347"]
["pp3_bl4_12_4_name",{"$f":"'T2-B(PP3)'!$B$348","v":0},"#'T2-B(PP3)'!$B$348"]
["pp3_bl4_12_4_rate_in",{"$f":"'T2-B(PP3)'!$E$348","v":0},"#'T2-B(PP3)'!$E$348"]
["pp3_bl4_12_4_rate_out",{"$f":"'T2-B(PP3)'!$H$348","v":0},"#'T2-B(PP3)'!$H$348"]
["pp3_bl4_12_4_total",{"$f":"'T2-B(PP3)'!$J$348","v":0},"#'T2-B(PP3)'!$J$348"]
["pp3_bl4_12_4_total_in",{"$f":"'T2-B(PP3)'!$F$348","v":0},"#'T2-B(PP3)'!$F$348"]
["pp3_bl4_12_4_total_out",{"$f":"'T2-B(PP3)'!$I$348","v":0},"#'T2-B(PP3)'!$I$348"]
["pp3_bl4_12_4_unit",{"$f":"'T2-B(PP3)'!$C$348","v":0},"#'T2-B(PP3)'!$C$348"]
["pp3_bl4_12_4_unit_in",{"$f":"'T2-B(PP3)'!$D$348","v":0},"#'T2-B(PP3)'!$D$348"]
["pp3_bl4_12_4_units_out",{"$f":"'T2-B(PP3)'!$G$348","v":0},"#'T2-B(PP3)'!$G$348"]
["pp3_bl4_12_5_name",{"$f":"'T2-B(PP3)'!$B$349","v":0},"#'T2-B(PP3)'!$B$349"]
["pp3_bl4_12_5_rate_in",{"$f":"'T2-B(PP3)'!$E$349","v":0},"#'T2-B(PP3)'!$E$349"]
["pp3_bl4_12_5_rate_out",{"$f":"'T2-B(PP3)'!$H$349","v":0},"#'T2-B(PP3)'!$H$349"]
["pp3_bl4_12_5_total",{"$f":"'T2-B(PP3)'!$J$349","v":0},"#'T2-B(PP3)'!$J$349"]
["pp3_bl4_12_5_total_in",{"$f":"'T2-B(PP3)'!$F$349","v":0},"#'T2-B(PP3)'!$F$349"]
["pp3_bl4_12_5_total_out",{"$f":"'T2-B(PP3)'!$I$349","v":0},"#'T2-B(PP3)'!$I$349"]
["pp3_bl4_12_5_unit",{"$f":"'T2-B(PP3)'!$C$349","v":0},"#'T2-B(PP3)'!$C$349"]
["pp3_bl4_12_5_unit_in",{"$f":"'T2-B(PP3)'!$D$349","v":0},"#'T2-B(PP3)'!$D$349"]
["pp3_bl4_12_5_units_out",{"$f":"'T2-B(PP3)'!$G$349","v":0},"#'T2-B(PP3)'!$G$349"]
["pp3_bl4_12_6_name",{"$f":"'T2-B(PP3)'!$B$350","v":0},"#'T2-B(PP3)'!$B$350"]
["pp3_bl4_12_6_rate_in",{"$f":"'T2-B(PP3)'!$E$350","v":0},"#'T2-B(PP3)'!$E$350"]
["pp3_bl4_12_6_rate_out",{"$f":"'T2-B(PP3)'!$H$350","v":0},"#'T2-B(PP3)'!$H$350"]
["pp3_bl4_12_6_total",{"$f":"'T2-B(PP3)'!$J$350","v":0},"#'T2-B(PP3)'!$J$350"]
["pp3_bl4_12_6_total_in",{"$f":"'T2-B(PP3)'!$F$350","v":0},"#'T2-B(PP3)'!$F$350"]
["pp3_bl4_12_6_total_out",{"$f":"'T2-B(PP3)'!$I$350","v":0},"#'T2-B(PP3)'!$I$350"]
["pp3_bl4_12_6_unit",{"$f":"'T2-B(PP3)'!$C$350","v":0},"#'T2-B(PP3)'!$C$350"]
["pp3_bl4_12_6_unit_in",{"$f":"'T2-B(PP3)'!$D$350","v":0},"#'T2-B(PP3)'!$D$350"]
["pp3_bl4_12_6_units_out",{"$f":"'T2-B(PP3)'!$G$350","v":0},"#'T2-B(PP3)'!$G$350"]
["pp3_bl4_12_7_name",{"$f":"'T2-B(PP3)'!$B$351","v":0},"#'T2-B(PP3)'!$B$351"]
["pp3_bl4_12_7_rate_in",{"$f":"'T2-B(PP3)'!$E$351","v":0},"#'T2-B(PP3)'!$E$351"]
["pp3_bl4_12_7_rate_out",{"$f":"'T2-B(PP3)'!$H$351","v":0},"#'T2-B(PP3)'!$H$351"]
["pp3_bl4_12_7_total",{"$f":"'T2-B(PP3)'!$J$351","v":0},"#'T2-B(PP3)'!$J$351"]
["pp3_bl4_12_7_total_in",{"$f":"'T2-B(PP3)'!$F$351","v":0},"#'T2-B(PP3)'!$F$351"]
["pp3_bl4_12_7_total_out",{"$f":"'T2-B(PP3)'!$I$351","v":0},"#'T2-B(PP3)'!$I$351"]
["pp3_bl4_12_7_unit",{"$f":"'T2-B(PP3)'!$C$351","v":0},"#'T2-B(PP3)'!$C$351"]
["pp3_bl4_12_7_unit_in",{"$f":"'T2-B(PP3)'!$D$351","v":0},"#'T2-B(PP3)'!$D$351"]
["pp3_bl4_12_7_units_out",{"$f":"'T2-B(PP3)'!$G$351","v":0},"#'T2-B(PP3)'!$G$351"]
["pp3_bl4_12_8_name",{"$f":"'T2-B(PP3)'!$B$352","v":0},"#'T2-B(PP3)'!$B$352"]
["pp3_bl4_12_8_rate_in",{"$f":"'T2-B(PP3)'!$E$352","v":0},"#'T2-B(PP3)'!$E$352"]
["pp3_bl4_12_8_rate_out",{"$f":"'T2-B(PP3)'!$H$352","v":0},"#'T2-B(PP3)'!$H$352"]
["pp3_bl4_12_8_total",{"$f":"'T2-B(PP3)'!$J$352","v":0},"#'T2-B(PP3)'!$J$352"]
["pp3_bl4_12_8_total_in",{"$f":"'T2-B(PP3)'!$F$352","v":0},"#'T2-B(PP3)'!$F$352"]
["pp3_bl4_12_8_total_out",{"$f":"'T2-B(PP3)'!$I$352","v":0},"#'T2-B(PP3)'!$I$352"]
["pp3_bl4_12_8_unit",{"$f":"'T2-B(PP3)'!$C$352","v":0},"#'T2-B(PP3)'!$C$352"]
["pp3_bl4_12_8_unit_in",{"$f":"'T2-B(PP3)'!$D$352","v":0},"#'T2-B(PP3)'!$D$352"]
["pp3_bl4_12_8_units_out",{"$f":"'T2-B(PP3)'!$G$352","v":0},"#'T2-B(PP3)'!$G$352"]
["pp3_bl4_12_9_name",{"$f":"'T2-B(PP3)'!$B$353","v":0},"#'T2-B(PP3)'!$B$353"]
["pp3_bl4_12_9_rate_in",{"$f":"'T2-B(PP3)'!$E$353","v":0},"#'T2-B(PP3)'!$E$353"]
["pp3_bl4_12_9_rate_out",{"$f":"'T2-B(PP3)'!$H$353","v":0},"#'T2-B(PP3)'!$H$353"]
["pp3_bl4_12_9_total",{"$f":"'T2-B(PP3)'!$J$353","v":0},"#'T2-B(PP3)'!$J$353"]
["pp3_bl4_12_9_total_in",{"$f":"'T2-B(PP3)'!$F$353","v":0},"#'T2-B(PP3)'!$F$353"]
["pp3_bl4_12_9_total_out",{"$f":"'T2-B(PP3)'!$I$353","v":0},"#'T2-B(PP3)'!$I$353"]
["pp3_bl4_12_9_unit",{"$f":"'T2-B(PP3)'!$C$353","v":0},"#'T2-B(PP3)'!$C$353"]
["pp3_bl4_12_9_unit_in",{"$f":"'T2-B(PP3)'!$D$353","v":0},"#'T2-B(PP3)'!$D$353"]
["pp3_bl4_12_9_units_out",{"$f":"'T2-B(PP3)'!$G$353","v":0},"#'T2-B(PP3)'!$G$353"]
["pp3_bl4_12_total",{"$f":"'T2-B(PP3)'!$J$344","v":0},"#'T2-B(PP3)'!$J$344"]
["pp3_bl4_12_total_in",{"$f":"'T2-B(PP3)'!$F$344","v":0},"#'T2-B(PP3)'!$F$344"]
["pp3_bl4_12_total_out",{"$f":"'T2-B(PP3)'!$I$344","v":0},"#'T2-B(PP3)'!$I$344"]
["pp3_bl4_2_1_name",{"$f":"'T2-B(PP3)'!$B$135","v":0},"#'T2-B(PP3)'!$B$135"]
["pp3_bl4_2_1_rate_in",{"$f":"'T2-B(PP3)'!$E$135","v":0},"#'T2-B(PP3)'!$E$135"]
["pp3_bl4_2_1_rate_out",{"$f":"'T2-B(PP3)'!$H$135","v":0},"#'T2-B(PP3)'!$H$135"]
["pp3_bl4_2_1_total",{"$f":"'T2-B(PP3)'!$J$135","v":0},"#'T2-B(PP3)'!$J$135"]
["pp3_bl4_2_1_total_in",{"$f":"'T2-B(PP3)'!$F$135","v":0},"#'T2-B(PP3)'!$F$135"]
["pp3_bl4_2_1_total_out",{"$f":"'T2-B(PP3)'!$I$135","v":0},"#'T2-B(PP3)'!$I$135"]
["pp3_bl4_2_1_unit",{"$f":"'T2-B(PP3)'!$C$135","v":0},"#'T2-B(PP3)'!$C$135"]
["pp3_bl4_2_1_unit_in",{"$f":"'T2-B(PP3)'!$D$135","v":0},"#'T2-B(PP3)'!$D$135"]
["pp3_bl4_2_1_units_out",{"$f":"'T2-B(PP3)'!$G$135","v":0},"#'T2-B(PP3)'!$G$135"]
["pp3_bl4_2_10_name",{"$f":"'T2-B(PP3)'!$B$144","v":0},"#'T2-B(PP3)'!$B$144"]
["pp3_bl4_2_10_rate_in",{"$f":"'T2-B(PP3)'!$E$144","v":0},"#'T2-B(PP3)'!$E$144"]
["pp3_bl4_2_10_rate_out",{"$f":"'T2-B(PP3)'!$H$144","v":0},"#'T2-B(PP3)'!$H$144"]
["pp3_bl4_2_10_total",{"$f":"'T2-B(PP3)'!$J$144","v":0},"#'T2-B(PP3)'!$J$144"]
["pp3_bl4_2_10_total_in",{"$f":"'T2-B(PP3)'!$F$144","v":0},"#'T2-B(PP3)'!$F$144"]
["pp3_bl4_2_10_total_out",{"$f":"'T2-B(PP3)'!$I$144","v":0},"#'T2-B(PP3)'!$I$144"]
["pp3_bl4_2_10_unit",{"$f":"'T2-B(PP3)'!$C$144","v":0},"#'T2-B(PP3)'!$C$144"]
["pp3_bl4_2_10_unit_in",{"$f":"'T2-B(PP3)'!$D$144","v":0},"#'T2-B(PP3)'!$D$144"]
["pp3_bl4_2_10_units_out",{"$f":"'T2-B(PP3)'!$G$144","v":0},"#'T2-B(PP3)'!$G$144"]
["pp3_bl4_2_2_name",{"$f":"'T2-B(PP3)'!$B$136","v":0},"#'T2-B(PP3)'!$B$136"]
["pp3_bl4_2_2_rate_in",{"$f":"'T2-B(PP3)'!$E$136","v":0},"#'T2-B(PP3)'!$E$136"]
["pp3_bl4_2_2_rate_out",{"$f":"'T2-B(PP3)'!$H$136","v":0},"#'T2-B(PP3)'!$H$136"]
["pp3_bl4_2_2_total",{"$f":"'T2-B(PP3)'!$J$136","v":0},"#'T2-B(PP3)'!$J$136"]
["pp3_bl4_2_2_total_in",{"$f":"'T2-B(PP3)'!$F$136","v":0},"#'T2-B(PP3)'!$F$136"]
["pp3_bl4_2_2_total_out",{"$f":"'T2-B(PP3)'!$I$136","v":0},"#'T2-B(PP3)'!$I$136"]
["pp3_bl4_2_2_unit",{"$f":"'T2-B(PP3)'!$C$136","v":0},"#'T2-B(PP3)'!$C$136"]
["pp3_bl4_2_2_unit_in",{"$f":"'T2-B(PP3)'!$D$136","v":0},"#'T2-B(PP3)'!$D$136"]
["pp3_bl4_2_2_units_out",{"$f":"'T2-B(PP3)'!$G$136","v":0},"#'T2-B(PP3)'!$G$136"]
["pp3_bl4_2_3_name",{"$f":"'T2-B(PP3)'!$B$137","v":0},"#'T2-B(PP3)'!$B$137"]
["pp3_bl4_2_3_rate_in",{"$f":"'T2-B(PP3)'!$E$137","v":0},"#'T2-B(PP3)'!$E$137"]
["pp3_bl4_2_3_rate_out",{"$f":"'T2-B(PP3)'!$H$137","v":0},"#'T2-B(PP3)'!$H$137"]
["pp3_bl4_2_3_total",{"$f":"'T2-B(PP3)'!$J$137","v":0},"#'T2-B(PP3)'!$J$137"]
["pp3_bl4_2_3_total_in",{"$f":"'T2-B(PP3)'!$F$137","v":0},"#'T2-B(PP3)'!$F$137"]
["pp3_bl4_2_3_total_out",{"$f":"'T2-B(PP3)'!$I$137","v":0},"#'T2-B(PP3)'!$I$137"]
["pp3_bl4_2_3_unit",{"$f":"'T2-B(PP3)'!$C$137","v":0},"#'T2-B(PP3)'!$C$137"]
["pp3_bl4_2_3_unit_in",{"$f":"'T2-B(PP3)'!$D$137","v":0},"#'T2-B(PP3)'!$D$137"]
["pp3_bl4_2_3_units_out",{"$f":"'T2-B(PP3)'!$G$137","v":0},"#'T2-B(PP3)'!$G$137"]
["pp3_bl4_2_4_name",{"$f":"'T2-B(PP3)'!$B$138","v":0},"#'T2-B(PP3)'!$B$138"]
["pp3_bl4_2_4_rate_in",{"$f":"'T2-B(PP3)'!$E$138","v":0},"#'T2-B(PP3)'!$E$138"]
["pp3_bl4_2_4_rate_out",{"$f":"'T2-B(PP3)'!$H$138","v":0},"#'T2-B(PP3)'!$H$138"]
["pp3_bl4_2_4_total",{"$f":"'T2-B(PP3)'!$J$138","v":0},"#'T2-B(PP3)'!$J$138"]
["pp3_bl4_2_4_total_in",{"$f":"'T2-B(PP3)'!$F$138","v":0},"#'T2-B(PP3)'!$F$138"]
["pp3_bl4_2_4_total_out",{"$f":"'T2-B(PP3)'!$I$138","v":0},"#'T2-B(PP3)'!$I$138"]
["pp3_bl4_2_4_unit",{"$f":"'T2-B(PP3)'!$C$138","v":0},"#'T2-B(PP3)'!$C$138"]
["pp3_bl4_2_4_unit_in",{"$f":"'T2-B(PP3)'!$D$138","v":0},"#'T2-B(PP3)'!$D$138"]
["pp3_bl4_2_4_units_out",{"$f":"'T2-B(PP3)'!$G$138","v":0},"#'T2-B(PP3)'!$G$138"]
["pp3_bl4_2_5_name",{"$f":"'T2-B(PP3)'!$B$139","v":0},"#'T2-B(PP3)'!$B$139"]
["pp3_bl4_2_5_rate_in",{"$f":"'T2-B(PP3)'!$E$139","v":0},"#'T2-B(PP3)'!$E$139"]
["pp3_bl4_2_5_rate_out",{"$f":"'T2-B(PP3)'!$H$139","v":0},"#'T2-B(PP3)'!$H$139"]
["pp3_bl4_2_5_total",{"$f":"'T2-B(PP3)'!$J$139","v":0},"#'T2-B(PP3)'!$J$139"]
["pp3_bl4_2_5_total_in",{"$f":"'T2-B(PP3)'!$F$139","v":0},"#'T2-B(PP3)'!$F$139"]
["pp3_bl4_2_5_total_out",{"$f":"'T2-B(PP3)'!$I$139","v":0},"#'T2-B(PP3)'!$I$139"]
["pp3_bl4_2_5_unit",{"$f":"'T2-B(PP3)'!$C$139","v":0},"#'T2-B(PP3)'!$C$139"]
["pp3_bl4_2_5_unit_in",{"$f":"'T2-B(PP3)'!$D$139","v":0},"#'T2-B(PP3)'!$D$139"]
["pp3_bl4_2_5_units_out",{"$f":"'T2-B(PP3)'!$G$139","v":0},"#'T2-B(PP3)'!$G$139"]
["pp3_bl4_2_6_name",{"$f":"'T2-B(PP3)'!$B$140","v":0},"#'T2-B(PP3)'!$B$140"]
["pp3_bl4_2_6_rate_in",{"$f":"'T2-B(PP3)'!$E$140","v":0},"#'T2-B(PP3)'!$E$140"]
["pp3_bl4_2_6_rate_out",{"$f":"'T2-B(PP3)'!$H$140","v":0},"#'T2-B(PP3)'!$H$140"]
["pp3_bl4_2_6_total",{"$f":"'T2-B(PP3)'!$J$140","v":0},"#'T2-B(PP3)'!$J$140"]
["pp3_bl4_2_6_total_in",{"$f":"'T2-B(PP3)'!$F$140","v":0},"#'T2-B(PP3)'!$F$140"]
["pp3_bl4_2_6_total_out",{"$f":"'T2-B(PP3)'!$I$140","v":0},"#'T2-B(PP3)'!$I$140"]
["pp3_bl4_2_6_unit",{"$f":"'T2-B(PP3)'!$C$140","v":0},"#'T2-B(PP3)'!$C$140"]
["pp3_bl4_2_6_unit_in",{"$f":"'T2-B(PP3)'!$D$140","v":0},"#'T2-B(PP3)'!$D$140"]
["pp3_bl4_2_6_units_out",{"$f":"'T2-B(PP3)'!$G$140","v":0},"#'T2-B(PP3)'!$G$140"]
["pp3_bl4_2_7_name",{"$f":"'T2-B(PP3)'!$B$141","v":0},"#'T2-B(PP3)'!$B$141"]
["pp3_bl4_2_7_rate_in",{"$f":"'T2-B(PP3)'!$E$141","v":0},"#'T2-B(PP3)'!$E$141"]
["pp3_bl4_2_7_rate_out",{"$f":"'T2-B(PP3)'!$H$141","v":0},"#'T2-B(PP3)'!$H$141"]
["pp3_bl4_2_7_total",{"$f":"'T2-B(PP3)'!$J$141","v":0},"#'T2-B(PP3)'!$J$141"]
["pp3_bl4_2_7_total_in",{"$f":"'T2-B(PP3)'!$F$141","v":0},"#'T2-B(PP3)'!$F$141"]
["pp3_bl4_2_7_total_out",{"$f":"'T2-B(PP3)'!$I$141","v":0},"#'T2-B(PP3)'!$I$141"]
["pp3_bl4_2_7_unit",{"$f":"'T2-B(PP3)'!$C$141","v":0},"#'T2-B(PP3)'!$C$141"]
["pp3_bl4_2_7_unit_in",{"$f":"'T2-B(PP3)'!$D$141","v":0},"#'T2-B(PP3)'!$D$141"]
["pp3_bl4_2_7_units_out",{"$f":"'T2-B(PP3)'!$G$141","v":0},"#'T2-B(PP3)'!$G$141"]
["pp3_bl4_2_8_name",{"$f":"'T2-B(PP3)'!$B$142","v":0},"#'T2-B(PP3)'!$B$142"]
["pp3_bl4_2_8_rate_in",{"$f":"'T2-B(PP3)'!$E$142","v":0},"#'T2-B(PP3)'!$E$142"]
["pp3_bl4_2_8_rate_out",{"$f":"'T2-B(PP3)'!$H$142","v":0},"#'T2-B(PP3)'!$H$142"]
["pp3_bl4_2_8_total",{"$f":"'T2-B(PP3)'!$J$142","v":0},"#'T2-B(PP3)'!$J$142"]
["pp3_bl4_2_8_total_in",{"$f":"'T2-B(PP3)'!$F$142","v":0},"#'T2-B(PP3)'!$F$142"]
["pp3_bl4_2_8_total_out",{"$f":"'T2-B(PP3)'!$I$142","v":0},"#'T2-B(PP3)'!$I$142"]
["pp3_bl4_2_8_unit",{"$f":"'T2-B(PP3)'!$C$142","v":0},"#'T2-B(PP3)'!$C$142"]
["pp3_bl4_2_8_unit_in",{"$f":"'T2-B(PP3)'!$D$142","v":0},"#'T2-B(PP3)'!$D$142"]
["pp3_bl4_2_8_units_out",{"$f":"'T2-B(PP3)'!$G$142","v":0},"#'T2-B(PP3)'!$G$142"]
["pp3_bl4_2_9_name",{"$f":"'T2-B(PP3)'!$B$143","v":0},"#'T2-B(PP3)'!$B$143"]
["pp3_bl4_2_9_rate_in",{"$f":"'T2-B(PP3)'!$E$143","v":0},"#'T2-B(PP3)'!$E$143"]
["pp3_bl4_2_9_rate_out",{"$f":"'T2-B(PP3)'!$H$143","v":0},"#'T2-B(PP3)'!$H$143"]
["pp3_bl4_2_9_total",{"$f":"'T2-B(PP3)'!$J$143","v":0},"#'T2-B(PP3)'!$J$143"]
["pp3_bl4_2_9_total_in",{"$f":"'T2-B(PP3)'!$F$143","v":0},"#'T2-B(PP3)'!$F$143"]
["pp3_bl4_2_9_total_out",{"$f":"'T2-B(PP3)'!$I$143","v":0},"#'T2-B(PP3)'!$I$143"]
["pp3_bl4_2_9_unit",{"$f":"'T2-B(PP3)'!$C$143","v":0},"#'T2-B(PP3)'!$C$143"]
["pp3_bl4_2_9_unit_in",{"$f":"'T2-B(PP3)'!$D$143","v":0},"#'T2-B(PP3)'!$D$143"]
["pp3_bl4_2_9_units_out",{"$f":"'T2-B(PP3)'!$G$143","v":0},"#'T2-B(PP3)'!$G$143"]
["pp3_bl4_2_total",{"$f":"'T2-B(PP3)'!$J$134","v":0},"#'T2-B(PP3)'!$J$134"]
["pp3_bl4_2_total_in",{"$f":"'T2-B(PP3)'!$F$134","v":0},"#'T2-B(PP3)'!$F$134"]
["pp3_bl4_2_total_out",{"$f":"'T2-B(PP3)'!$I$134","v":0},"#'T2-B(PP3)'!$I$134"]
["pp3_bl4_3_1_name",{"$f":"'T2-B(PP3)'!$B$156","v":0},"#'T2-B(PP3)'!$B$156"]
["pp3_bl4_3_1_rate_in",{"$f":"'T2-B(PP3)'!$E$156","v":0},"#'T2-B(PP3)'!$E$156"]
["pp3_bl4_3_1_rate_out",{"$f":"'T2-B(PP3)'!$H$156","v":0},"#'T2-B(PP3)'!$H$156"]
["pp3_bl4_3_1_total",{"$f":"'T2-B(PP3)'!$J$156","v":0},"#'T2-B(PP3)'!$J$156"]
["pp3_bl4_3_1_total_in",{"$f":"'T2-B(PP3)'!$F$156","v":0},"#'T2-B(PP3)'!$F$156"]
["pp3_bl4_3_1_total_out",{"$f":"'T2-B(PP3)'!$I$156","v":0},"#'T2-B(PP3)'!$I$156"]
["pp3_bl4_3_1_unit",{"$f":"'T2-B(PP3)'!$C$156","v":0},"#'T2-B(PP3)'!$C$156"]
["pp3_bl4_3_1_unit_in",{"$f":"'T2-B(PP3)'!$D$156","v":0},"#'T2-B(PP3)'!$D$156"]
["pp3_bl4_3_1_units_out",{"$f":"'T2-B(PP3)'!$G$156","v":0},"#'T2-B(PP3)'!$G$156"]
["pp3_bl4_3_10_name",{"$f":"'T2-B(PP3)'!$B$165","v":0},"#'T2-B(PP3)'!$B$165"]
["pp3_bl4_3_10_rate_in",{"$f":"'T2-B(PP3)'!$E$165","v":0},"#'T2-B(PP3)'!$E$165"]
["pp3_bl4_3_10_rate_out",{"$f":"'T2-B(PP3)'!$H$165","v":0},"#'T2-B(PP3)'!$H$165"]
["pp3_bl4_3_10_total",{"$f":"'T2-B(PP3)'!$J$165","v":0},"#'T2-B(PP3)'!$J$165"]
["pp3_bl4_3_10_total_in",{"$f":"'T2-B(PP3)'!$F$165","v":0},"#'T2-B(PP3)'!$F$165"]
["pp3_bl4_3_10_total_out",{"$f":"'T2-B(PP3)'!$I$165","v":0},"#'T2-B(PP3)'!$I$165"]
["pp3_bl4_3_10_unit",{"$f":"'T2-B(PP3)'!$C$165","v":0},"#'T2-B(PP3)'!$C$165"]
["pp3_bl4_3_10_unit_in",{"$f":"'T2-B(PP3)'!$D$165","v":0},"#'T2-B(PP3)'!$D$165"]
["pp3_bl4_3_10_units_out",{"$f":"'T2-B(PP3)'!$G$165","v":0},"#'T2-B(PP3)'!$G$165"]
["pp3_bl4_3_2_name",{"$f":"'T2-B(PP3)'!$B$157","v":0},"#'T2-B(PP3)'!$B$157"]
["pp3_bl4_3_2_rate_in",{"$f":"'T2-B(PP3)'!$E$157","v":0},"#'T2-B(PP3)'!$E$157"]
["pp3_bl4_3_2_rate_out",{"$f":"'T2-B(PP3)'!$H$157","v":0},"#'T2-B(PP3)'!$H$157"]
["pp3_bl4_3_2_total",{"$f":"'T2-B(PP3)'!$J$157","v":0},"#'T2-B(PP3)'!$J$157"]
["pp3_bl4_3_2_total_in",{"$f":"'T2-B(PP3)'!$F$157","v":0},"#'T2-B(PP3)'!$F$157"]
["pp3_bl4_3_2_total_out",{"$f":"'T2-B(PP3)'!$I$157","v":0},"#'T2-B(PP3)'!$I$157"]
["pp3_bl4_3_2_unit",{"$f":"'T2-B(PP3)'!$C$157","v":0},"#'T2-B(PP3)'!$C$157"]
["pp3_bl4_3_2_unit_in",{"$f":"'T2-B(PP3)'!$D$157","v":0},"#'T2-B(PP3)'!$D$157"]
["pp3_bl4_3_2_units_out",{"$f":"'T2-B(PP3)'!$G$157","v":0},"#'T2-B(PP3)'!$G$157"]
["pp3_bl4_3_3_name",{"$f":"'T2-B(PP3)'!$B$158","v":0},"#'T2-B(PP3)'!$B$158"]
["pp3_bl4_3_3_rate_in",{"$f":"'T2-B(PP3)'!$E$158","v":0},"#'T2-B(PP3)'!$E$158"]
["pp3_bl4_3_3_rate_out",{"$f":"'T2-B(PP3)'!$H$158","v":0},"#'T2-B(PP3)'!$H$158"]
["pp3_bl4_3_3_total",{"$f":"'T2-B(PP3)'!$J$158","v":0},"#'T2-B(PP3)'!$J$158"]
["pp3_bl4_3_3_total_in",{"$f":"'T2-B(PP3)'!$F$158","v":0},"#'T2-B(PP3)'!$F$158"]
["pp3_bl4_3_3_total_out",{"$f":"'T2-B(PP3)'!$I$158","v":0},"#'T2-B(PP3)'!$I$158"]
["pp3_bl4_3_3_unit",{"$f":"'T2-B(PP3)'!$C$158","v":0},"#'T2-B(PP3)'!$C$158"]
["pp3_bl4_3_3_unit_in",{"$f":"'T2-B(PP3)'!$D$158","v":0},"#'T2-B(PP3)'!$D$158"]
["pp3_bl4_3_3_units_out",{"$f":"'T2-B(PP3)'!$G$158","v":0},"#'T2-B(PP3)'!$G$158"]
["pp3_bl4_3_4_name",{"$f":"'T2-B(PP3)'!$B$159","v":0},"#'T2-B(PP3)'!$B$159"]
["pp3_bl4_3_4_rate_in",{"$f":"'T2-B(PP3)'!$E$159","v":0},"#'T2-B(PP3)'!$E$159"]
["pp3_bl4_3_4_rate_out",{"$f":"'T2-B(PP3)'!$H$159","v":0},"#'T2-B(PP3)'!$H$159"]
["pp3_bl4_3_4_total",{"$f":"'T2-B(PP3)'!$J$159","v":0},"#'T2-B(PP3)'!$J$159"]
["pp3_bl4_3_4_total_in",{"$f":"'T2-B(PP3)'!$F$159","v":0},"#'T2-B(PP3)'!$F$159"]
["pp3_bl4_3_4_total_out",{"$f":"'T2-B(PP3)'!$I$159","v":0},"#'T2-B(PP3)'!$I$159"]
["pp3_bl4_3_4_unit",{"$f":"'T2-B(PP3)'!$C$159","v":0},"#'T2-B(PP3)'!$C$159"]
["pp3_bl4_3_4_unit_in",{"$f":"'T2-B(PP3)'!$D$159","v":0},"#'T2-B(PP3)'!$D$159"]
["pp3_bl4_3_4_units_out",{"$f":"'T2-B(PP3)'!$G$159","v":0},"#'T2-B(PP3)'!$G$159"]
["pp3_bl4_3_5_name",{"$f":"'T2-B(PP3)'!$B$160","v":0},"#'T2-B(PP3)'!$B$160"]
["pp3_bl4_3_5_rate_in",{"$f":"'T2-B(PP3)'!$E$160","v":0},"#'T2-B(PP3)'!$E$160"]
["pp3_bl4_3_5_rate_out",{"$f":"'T2-B(PP3)'!$H$160","v":0},"#'T2-B(PP3)'!$H$160"]
["pp3_bl4_3_5_total",{"$f":"'T2-B(PP3)'!$J$160","v":0},"#'T2-B(PP3)'!$J$160"]
["pp3_bl4_3_5_total_in",{"$f":"'T2-B(PP3)'!$F$160","v":0},"#'T2-B(PP3)'!$F$160"]
["pp3_bl4_3_5_total_out",{"$f":"'T2-B(PP3)'!$I$160","v":0},"#'T2-B(PP3)'!$I$160"]
["pp3_bl4_3_5_unit",{"$f":"'T2-B(PP3)'!$C$160","v":0},"#'T2-B(PP3)'!$C$160"]
["pp3_bl4_3_5_unit_in",{"$f":"'T2-B(PP3)'!$D$160","v":0},"#'T2-B(PP3)'!$D$160"]
["pp3_bl4_3_5_units_out",{"$f":"'T2-B(PP3)'!$G$160","v":0},"#'T2-B(PP3)'!$G$160"]
["pp3_bl4_3_6_name",{"$f":"'T2-B(PP3)'!$B$161","v":0},"#'T2-B(PP3)'!$B$161"]
["pp3_bl4_3_6_rate_in",{"$f":"'T2-B(PP3)'!$E$161","v":0},"#'T2-B(PP3)'!$E$161"]
["pp3_bl4_3_6_rate_out",{"$f":"'T2-B(PP3)'!$H$161","v":0},"#'T2-B(PP3)'!$H$161"]
["pp3_bl4_3_6_total",{"$f":"'T2-B(PP3)'!$J$161","v":0},"#'T2-B(PP3)'!$J$161"]
["pp3_bl4_3_6_total_in",{"$f":"'T2-B(PP3)'!$F$161","v":0},"#'T2-B(PP3)'!$F$161"]
["pp3_bl4_3_6_total_out",{"$f":"'T2-B(PP3)'!$I$161","v":0},"#'T2-B(PP3)'!$I$161"]
["pp3_bl4_3_6_unit",{"$f":"'T2-B(PP3)'!$C$161","v":0},"#'T2-B(PP3)'!$C$161"]
["pp3_bl4_3_6_unit_in",{"$f":"'T2-B(PP3)'!$D$161","v":0},"#'T2-B(PP3)'!$D$161"]
["pp3_bl4_3_6_units_out",{"$f":"'T2-B(PP3)'!$G$161","v":0},"#'T2-B(PP3)'!$G$161"]
["pp3_bl4_3_7_name",{"$f":"'T2-B(PP3)'!$B$162","v":0},"#'T2-B(PP3)'!$B$162"]
["pp3_bl4_3_7_rate_in",{"$f":"'T2-B(PP3)'!$E$162","v":0},"#'T2-B(PP3)'!$E$162"]
["pp3_bl4_3_7_rate_out",{"$f":"'T2-B(PP3)'!$H$162","v":0},"#'T2-B(PP3)'!$H$162"]
["pp3_bl4_3_7_total",{"$f":"'T2-B(PP3)'!$J$162","v":0},"#'T2-B(PP3)'!$J$162"]
["pp3_bl4_3_7_total_in",{"$f":"'T2-B(PP3)'!$F$162","v":0},"#'T2-B(PP3)'!$F$162"]
["pp3_bl4_3_7_total_out",{"$f":"'T2-B(PP3)'!$I$162","v":0},"#'T2-B(PP3)'!$I$162"]
["pp3_bl4_3_7_unit",{"$f":"'T2-B(PP3)'!$C$162","v":0},"#'T2-B(PP3)'!$C$162"]
["pp3_bl4_3_7_unit_in",{"$f":"'T2-B(PP3)'!$D$162","v":0},"#'T2-B(PP3)'!$D$162"]
["pp3_bl4_3_7_units_out",{"$f":"'T2-B(PP3)'!$G$162","v":0},"#'T2-B(PP3)'!$G$162"]
["pp3_bl4_3_8_name",{"$f":"'T2-B(PP3)'!$B$163","v":0},"#'T2-B(PP3)'!$B$163"]
["pp3_bl4_3_8_rate_in",{"$f":"'T2-B(PP3)'!$E$163","v":0},"#'T2-B(PP3)'!$E$163"]
["pp3_bl4_3_8_rate_out",{"$f":"'T2-B(PP3)'!$H$163","v":0},"#'T2-B(PP3)'!$H$163"]
["pp3_bl4_3_8_total",{"$f":"'T2-B(PP3)'!$J$163","v":0},"#'T2-B(PP3)'!$J$163"]
["pp3_bl4_3_8_total_in",{"$f":"'T2-B(PP3)'!$F$163","v":0},"#'T2-B(PP3)'!$F$163"]
["pp3_bl4_3_8_total_out",{"$f":"'T2-B(PP3)'!$I$163","v":0},"#'T2-B(PP3)'!$I$163"]
["pp3_bl4_3_8_unit",{"$f":"'T2-B(PP3)'!$C$163","v":0},"#'T2-B(PP3)'!$C$163"]
["pp3_bl4_3_8_unit_in",{"$f":"'T2-B(PP3)'!$D$163","v":0},"#'T2-B(PP3)'!$D$163"]
["pp3_bl4_3_8_units_out",{"$f":"'T2-B(PP3)'!$G$163","v":0},"#'T2-B(PP3)'!$G$163"]
["pp3_bl4_3_9_name",{"$f":"'T2-B(PP3)'!$B$164","v":0},"#'T2-B(PP3)'!$B$164"]
["pp3_bl4_3_9_rate_in",{"$f":"'T2-B(PP3)'!$E$164","v":0},"#'T2-B(PP3)'!$E$164"]
["pp3_bl4_3_9_rate_out",{"$f":"'T2-B(PP3)'!$H$164","v":0},"#'T2-B(PP3)'!$H$164"]
["pp3_bl4_3_9_total",{"$f":"'T2-B(PP3)'!$J$164","v":0},"#'T2-B(PP3)'!$J$164"]
["pp3_bl4_3_9_total_in",{"$f":"'T2-B(PP3)'!$F$164","v":0},"#'T2-B(PP3)'!$F$164"]
["pp3_bl4_3_9_total_out",{"$f":"'T2-B(PP3)'!$I$164","v":0},"#'T2-B(PP3)'!$I$164"]
["pp3_bl4_3_9_unit",{"$f":"'T2-B(PP3)'!$C$164","v":0},"#'T2-B(PP3)'!$C$164"]
["pp3_bl4_3_9_unit_in",{"$f":"'T2-B(PP3)'!$D$164","v":0},"#'T2-B(PP3)'!$D$164"]
["pp3_bl4_3_9_units_out",{"$f":"'T2-B(PP3)'!$G$164","v":0},"#'T2-B(PP3)'!$G$164"]
["pp3_bl4_3_total",{"$f":"'T2-B(PP3)'!$J$155","v":0},"#'T2-B(PP3)'!$J$155"]
["pp3_bl4_3_total_in",{"$f":"'T2-B(PP3)'!$F$155","v":0},"#'T2-B(PP3)'!$F$155"]
["pp3_bl4_3_total_out",{"$f":"'T2-B(PP3)'!$I$155","v":0},"#'T2-B(PP3)'!$I$155"]
["pp3_bl4_4_1_name",{"$f":"'T2-B(PP3)'!$B$177","v":0},"#'T2-B(PP3)'!$B$177"]
["pp3_bl4_4_1_rate_in",{"$f":"'T2-B(PP3)'!$E$177","v":0},"#'T2-B(PP3)'!$E$177"]
["pp3_bl4_4_1_rate_out",{"$f":"'T2-B(PP3)'!$H$177","v":0},"#'T2-B(PP3)'!$H$177"]
["pp3_bl4_4_1_total",{"$f":"'T2-B(PP3)'!$J$177","v":0},"#'T2-B(PP3)'!$J$177"]
["pp3_bl4_4_1_total_in",{"$f":"'T2-B(PP3)'!$F$177","v":0},"#'T2-B(PP3)'!$F$177"]
["pp3_bl4_4_1_total_out",{"$f":"'T2-B(PP3)'!$I$177","v":0},"#'T2-B(PP3)'!$I$177"]
["pp3_bl4_4_1_unit",{"$f":"'T2-B(PP3)'!$C$177","v":0},"#'T2-B(PP3)'!$C$177"]
["pp3_bl4_4_1_unit_in",{"$f":"'T2-B(PP3)'!$D$177","v":0},"#'T2-B(PP3)'!$D$177"]
["pp3_bl4_4_1_units_out",{"$f":"'T2-B(PP3)'!$G$177","v":0},"#'T2-B(PP3)'!$G$177"]
["pp3_bl4_4_10_name",{"$f":"'T2-B(PP3)'!$B$186","v":0},"#'T2-B(PP3)'!$B$186"]
["pp3_bl4_4_10_rate_in",{"$f":"'T2-B(PP3)'!$E$186","v":0},"#'T2-B(PP3)'!$E$186"]
["pp3_bl4_4_10_rate_out",{"$f":"'T2-B(PP3)'!$H$186","v":0},"#'T2-B(PP3)'!$H$186"]
["pp3_bl4_4_10_total",{"$f":"'T2-B(PP3)'!$J$186","v":0},"#'T2-B(PP3)'!$J$186"]
["pp3_bl4_4_10_total_in",{"$f":"'T2-B(PP3)'!$F$186","v":0},"#'T2-B(PP3)'!$F$186"]
["pp3_bl4_4_10_total_out",{"$f":"'T2-B(PP3)'!$I$186","v":0},"#'T2-B(PP3)'!$I$186"]
["pp3_bl4_4_10_unit",{"$f":"'T2-B(PP3)'!$C$186","v":0},"#'T2-B(PP3)'!$C$186"]
["pp3_bl4_4_10_unit_in",{"$f":"'T2-B(PP3)'!$D$186","v":0},"#'T2-B(PP3)'!$D$186"]
["pp3_bl4_4_10_units_out",{"$f":"'T2-B(PP3)'!$G$186","v":0},"#'T2-B(PP3)'!$G$186"]
["pp3_bl4_4_2_name",{"$f":"'T2-B(PP3)'!$B$178","v":0},"#'T2-B(PP3)'!$B$178"]
["pp3_bl4_4_2_rate_in",{"$f":"'T2-B(PP3)'!$E$178","v":0},"#'T2-B(PP3)'!$E$178"]
["pp3_bl4_4_2_rate_out",{"$f":"'T2-B(PP3)'!$H$178","v":0},"#'T2-B(PP3)'!$H$178"]
["pp3_bl4_4_2_total",{"$f":"'T2-B(PP3)'!$J$178","v":0},"#'T2-B(PP3)'!$J$178"]
["pp3_bl4_4_2_total_in",{"$f":"'T2-B(PP3)'!$F$178","v":0},"#'T2-B(PP3)'!$F$178"]
["pp3_bl4_4_2_total_out",{"$f":"'T2-B(PP3)'!$I$178","v":0},"#'T2-B(PP3)'!$I$178"]
["pp3_bl4_4_2_unit",{"$f":"'T2-B(PP3)'!$C$178","v":0},"#'T2-B(PP3)'!$C$178"]
["pp3_bl4_4_2_unit_in",{"$f":"'T2-B(PP3)'!$D$178","v":0},"#'T2-B(PP3)'!$D$178"]
["pp3_bl4_4_2_units_out",{"$f":"'T2-B(PP3)'!$G$178","v":0},"#'T2-B(PP3)'!$G$178"]
["pp3_bl4_4_3_name",{"$f":"'T2-B(PP3)'!$B$179","v":0},"#'T2-B(PP3)'!$B$179"]
["pp3_bl4_4_3_rate_in",{"$f":"'T2-B(PP3)'!$E$179","v":0},"#'T2-B(PP3)'!$E$179"]
["pp3_bl4_4_3_rate_out",{"$f":"'T2-B(PP3)'!$H$179","v":0},"#'T2-B(PP3)'!$H$179"]
["pp3_bl4_4_3_total",{"$f":"'T2-B(PP3)'!$J$179","v":0},"#'T2-B(PP3)'!$J$179"]
["pp3_bl4_4_3_total_in",{"$f":"'T2-B(PP3)'!$F$179","v":0},"#'T2-B(PP3)'!$F$179"]
["pp3_bl4_4_3_total_out",{"$f":"'T2-B(PP3)'!$I$179","v":0},"#'T2-B(PP3)'!$I$179"]
["pp3_bl4_4_3_unit",{"$f":"'T2-B(PP3)'!$C$179","v":0},"#'T2-B(PP3)'!$C$179"]
["pp3_bl4_4_3_unit_in",{"$f":"'T2-B(PP3)'!$D$179","v":0},"#'T2-B(PP3)'!$D$179"]
["pp3_bl4_4_3_units_out",{"$f":"'T2-B(PP3)'!$G$179","v":0},"#'T2-B(PP3)'!$G$179"]
["pp3_bl4_4_4_name",{"$f":"'T2-B(PP3)'!$B$180","v":0},"#'T2-B(PP3)'!$B$180"]
["pp3_bl4_4_4_rate_in",{"$f":"'T2-B(PP3)'!$E$180","v":0},"#'T2-B(PP3)'!$E$180"]
["pp3_bl4_4_4_rate_out",{"$f":"'T2-B(PP3)'!$H$180","v":0},"#'T2-B(PP3)'!$H$180"]
["pp3_bl4_4_4_total",{"$f":"'T2-B(PP3)'!$J$180","v":0},"#'T2-B(PP3)'!$J$180"]
["pp3_bl4_4_4_total_in",{"$f":"'T2-B(PP3)'!$F$180","v":0},"#'T2-B(PP3)'!$F$180"]
["pp3_bl4_4_4_total_out",{"$f":"'T2-B(PP3)'!$I$180","v":0},"#'T2-B(PP3)'!$I$180"]
["pp3_bl4_4_4_unit",{"$f":"'T2-B(PP3)'!$C$180","v":0},"#'T2-B(PP3)'!$C$180"]
["pp3_bl4_4_4_unit_in",{"$f":"'T2-B(PP3)'!$D$180","v":0},"#'T2-B(PP3)'!$D$180"]
["pp3_bl4_4_4_units_out",{"$f":"'T2-B(PP3)'!$G$180","v":0},"#'T2-B(PP3)'!$G$180"]
["pp3_bl4_4_5_name",{"$f":"'T2-B(PP3)'!$B$181","v":0},"#'T2-B(PP3)'!$B$181"]
["pp3_bl4_4_5_rate_in",{"$f":"'T2-B(PP3)'!$E$181","v":0},"#'T2-B(PP3)'!$E$181"]
["pp3_bl4_4_5_rate_out",{"$f":"'T2-B(PP3)'!$H$181","v":0},"#'T2-B(PP3)'!$H$181"]
["pp3_bl4_4_5_total",{"$f":"'T2-B(PP3)'!$J$181","v":0},"#'T2-B(PP3)'!$J$181"]
["pp3_bl4_4_5_total_in",{"$f":"'T2-B(PP3)'!$F$181","v":0},"#'T2-B(PP3)'!$F$181"]
["pp3_bl4_4_5_total_out",{"$f":"'T2-B(PP3)'!$I$181","v":0},"#'T2-B(PP3)'!$I$181"]
["pp3_bl4_4_5_unit",{"$f":"'T2-B(PP3)'!$C$181","v":0},"#'T2-B(PP3)'!$C$181"]
["pp3_bl4_4_5_unit_in",{"$f":"'T2-B(PP3)'!$D$181","v":0},"#'T2-B(PP3)'!$D$181"]
["pp3_bl4_4_5_units_out",{"$f":"'T2-B(PP3)'!$G$181","v":0},"#'T2-B(PP3)'!$G$181"]
["pp3_bl4_4_6_name",{"$f":"'T2-B(PP3)'!$B$182","v":0},"#'T2-B(PP3)'!$B$182"]
["pp3_bl4_4_6_rate_in",{"$f":"'T2-B(PP3)'!$E$182","v":0},"#'T2-B(PP3)'!$E$182"]
["pp3_bl4_4_6_rate_out",{"$f":"'T2-B(PP3)'!$H$182","v":0},"#'T2-B(PP3)'!$H$182"]
["pp3_bl4_4_6_total",{"$f":"'T2-B(PP3)'!$J$182","v":0},"#'T2-B(PP3)'!$J$182"]
["pp3_bl4_4_6_total_in",{"$f":"'T2-B(PP3)'!$F$182","v":0},"#'T2-B(PP3)'!$F$182"]
["pp3_bl4_4_6_total_out",{"$f":"'T2-B(PP3)'!$I$182","v":0},"#'T2-B(PP3)'!$I$182"]
["pp3_bl4_4_6_unit",{"$f":"'T2-B(PP3)'!$C$182","v":0},"#'T2-B(PP3)'!$C$182"]
["pp3_bl4_4_6_unit_in",{"$f":"'T2-B(PP3)'!$D$182","v":0},"#'T2-B(PP3)'!$D$182"]
["pp3_bl4_4_6_units_out",{"$f":"'T2-B(PP3)'!$G$182","v":0},"#'T2-B(PP3)'!$G$182"]
["pp3_bl4_4_7_name",{"$f":"'T2-B(PP3)'!$B$183","v":0},"#'T2-B(PP3)'!$B$183"]
["pp3_bl4_4_7_rate_in",{"$f":"'T2-B(PP3)'!$E$183","v":0},"#'T2-B(PP3)'!$E$183"]
["pp3_bl4_4_7_rate_out",{"$f":"'T2-B(PP3)'!$H$183","v":0},"#'T2-B(PP3)'!$H$183"]
["pp3_bl4_4_7_total",{"$f":"'T2-B(PP3)'!$J$183","v":0},"#'T2-B(PP3)'!$J$183"]
["pp3_bl4_4_7_total_in",{"$f":"'T2-B(PP3)'!$F$183","v":0},"#'T2-B(PP3)'!$F$183"]
["pp3_bl4_4_7_total_out",{"$f":"'T2-B(PP3)'!$I$183","v":0},"#'T2-B(PP3)'!$I$183"]
["pp3_bl4_4_7_unit",{"$f":"'T2-B(PP3)'!$C$183","v":0},"#'T2-B(PP3)'!$C$183"]
["pp3_bl4_4_7_unit_in",{"$f":"'T2-B(PP3)'!$D$183","v":0},"#'T2-B(PP3)'!$D$183"]
["pp3_bl4_4_7_units_out",{"$f":"'T2-B(PP3)'!$G$183","v":0},"#'T2-B(PP3)'!$G$183"]
["pp3_bl4_4_8_name",{"$f":"'T2-B(PP3)'!$B$184","v":0},"#'T2-B(PP3)'!$B$184"]
["pp3_bl4_4_8_rate_in",{"$f":"'T2-B(PP3)'!$E$184","v":0},"#'T2-B(PP3)'!$E$184"]
["pp3_bl4_4_8_rate_out",{"$f":"'T2-B(PP3)'!$H$184","v":0},"#'T2-B(PP3)'!$H$184"]
["pp3_bl4_4_8_total",{"$f":"'T2-B(PP3)'!$J$184","v":0},"#'T2-B(PP3)'!$J$184"]
["pp3_bl4_4_8_total_in",{"$f":"'T2-B(PP3)'!$F$184","v":0},"#'T2-B(PP3)'!$F$184"]
["pp3_bl4_4_8_total_out",{"$f":"'T2-B(PP3)'!$I$184","v":0},"#'T2-B(PP3)'!$I$184"]
["pp3_bl4_4_8_unit",{"$f":"'T2-B(PP3)'!$C$184","v":0},"#'T2-B(PP3)'!$C$184"]
["pp3_bl4_4_8_unit_in",{"$f":"'T2-B(PP3)'!$D$184","v":0},"#'T2-B(PP3)'!$D$184"]
["pp3_bl4_4_8_units_out",{"$f":"'T2-B(PP3)'!$G$184","v":0},"#'T2-B(PP3)'!$G$184"]
["pp3_bl4_4_9_name",{"$f":"'T2-B(PP3)'!$B$185","v":0},"#'T2-B(PP3)'!$B$185"]
["pp3_bl4_4_9_rate_in",{"$f":"'T2-B(PP3)'!$E$185","v":0},"#'T2-B(PP3)'!$E$185"]
["pp3_bl4_4_9_rate_out",{"$f":"'T2-B(PP3)'!$H$185","v":0},"#'T2-B(PP3)'!$H$185"]
["pp3_bl4_4_9_total",{"$f":"'T2-B(PP3)'!$J$185","v":0},"#'T2-B(PP3)'!$J$185"]
["pp3_bl4_4_9_total_in",{"$f":"'T2-B(PP3)'!$F$185","v":0},"#'T2-B(PP3)'!$F$185"]
["pp3_bl4_4_9_total_out",{"$f":"'T2-B(PP3)'!$I$185","v":0},"#'T2-B(PP3)'!$I$185"]
["pp3_bl4_4_9_unit",{"$f":"'T2-B(PP3)'!$C$185","v":0},"#'T2-B(PP3)'!$C$185"]
["pp3_bl4_4_9_unit_in",{"$f":"'T2-B(PP3)'!$D$185","v":0},"#'T2-B(PP3)'!$D$185"]
["pp3_bl4_4_9_units_out",{"$f":"'T2-B(PP3)'!$G$185","v":0},"#'T2-B(PP3)'!$G$185"]
["pp3_bl4_4_total",{"$f":"'T2-B(PP3)'!$J$176","v":0},"#'T2-B(PP3)'!$J$176"]
["pp3_bl4_4_total_in",{"$f":"'T2-B(PP3)'!$F$176","v":0},"#'T2-B(PP3)'!$F$176"]
["pp3_bl4_4_total_out",{"$f":"'T2-B(PP3)'!$I$176","v":0},"#'T2-B(PP3)'!$I$176"]
["pp3_bl4_5_1_name",{"$f":"'T2-B(PP3)'!$B$198","v":0},"#'T2-B(PP3)'!$B$198"]
["pp3_bl4_5_1_rate_in",{"$f":"'T2-B(PP3)'!$E$198","v":0},"#'T2-B(PP3)'!$E$198"]
["pp3_bl4_5_1_rate_out",{"$f":"'T2-B(PP3)'!$H$198","v":0},"#'T2-B(PP3)'!$H$198"]
["pp3_bl4_5_1_total",{"$f":"'T2-B(PP3)'!$J$198","v":0},"#'T2-B(PP3)'!$J$198"]
["pp3_bl4_5_1_total_in",{"$f":"'T2-B(PP3)'!$F$198","v":0},"#'T2-B(PP3)'!$F$198"]
["pp3_bl4_5_1_total_out",{"$f":"'T2-B(PP3)'!$I$198","v":0},"#'T2-B(PP3)'!$I$198"]
["pp3_bl4_5_1_unit",{"$f":"'T2-B(PP3)'!$C$198","v":0},"#'T2-B(PP3)'!$C$198"]
["pp3_bl4_5_1_unit_in",{"$f":"'T2-B(PP3)'!$D$198","v":0},"#'T2-B(PP3)'!$D$198"]
["pp3_bl4_5_1_units_out",{"$f":"'T2-B(PP3)'!$G$198","v":0},"#'T2-B(PP3)'!$G$198"]
["pp3_bl4_5_10_name",{"$f":"'T2-B(PP3)'!$B$207","v":0},"#'T2-B(PP3)'!$B$207"]
["pp3_bl4_5_10_rate_in",{"$f":"'T2-B(PP3)'!$E$207","v":0},"#'T2-B(PP3)'!$E$207"]
["pp3_bl4_5_10_rate_out",{"$f":"'T2-B(PP3)'!$H$207","v":0},"#'T2-B(PP3)'!$H$207"]
["pp3_bl4_5_10_total",{"$f":"'T2-B(PP3)'!$J$207","v":0},"#'T2-B(PP3)'!$J$207"]
["pp3_bl4_5_10_total_in",{"$f":"'T2-B(PP3)'!$F$207","v":0},"#'T2-B(PP3)'!$F$207"]
["pp3_bl4_5_10_total_out",{"$f":"'T2-B(PP3)'!$I$207","v":0},"#'T2-B(PP3)'!$I$207"]
["pp3_bl4_5_10_unit",{"$f":"'T2-B(PP3)'!$C$207","v":0},"#'T2-B(PP3)'!$C$207"]
["pp3_bl4_5_10_unit_in",{"$f":"'T2-B(PP3)'!$D$207","v":0},"#'T2-B(PP3)'!$D$207"]
["pp3_bl4_5_10_units_out",{"$f":"'T2-B(PP3)'!$G$207","v":0},"#'T2-B(PP3)'!$G$207"]
["pp3_bl4_5_2_name",{"$f":"'T2-B(PP3)'!$B$199","v":0},"#'T2-B(PP3)'!$B$199"]
["pp3_bl4_5_2_rate_in",{"$f":"'T2-B(PP3)'!$E$199","v":0},"#'T2-B(PP3)'!$E$199"]
["pp3_bl4_5_2_rate_out",{"$f":"'T2-B(PP3)'!$H$199","v":0},"#'T2-B(PP3)'!$H$199"]
["pp3_bl4_5_2_total",{"$f":"'T2-B(PP3)'!$J$199","v":0},"#'T2-B(PP3)'!$J$199"]
["pp3_bl4_5_2_total_in",{"$f":"'T2-B(PP3)'!$F$199","v":0},"#'T2-B(PP3)'!$F$199"]
["pp3_bl4_5_2_total_out",{"$f":"'T2-B(PP3)'!$I$199","v":0},"#'T2-B(PP3)'!$I$199"]
["pp3_bl4_5_2_unit",{"$f":"'T2-B(PP3)'!$C$199","v":0},"#'T2-B(PP3)'!$C$199"]
["pp3_bl4_5_2_unit_in",{"$f":"'T2-B(PP3)'!$D$199","v":0},"#'T2-B(PP3)'!$D$199"]
["pp3_bl4_5_2_units_out",{"$f":"'T2-B(PP3)'!$G$199","v":0},"#'T2-B(PP3)'!$G$199"]
["pp3_bl4_5_3_name",{"$f":"'T2-B(PP3)'!$B$200","v":0},"#'T2-B(PP3)'!$B$200"]
["pp3_bl4_5_3_rate_in",{"$f":"'T2-B(PP3)'!$E$200","v":0},"#'T2-B(PP3)'!$E$200"]
["pp3_bl4_5_3_rate_out",{"$f":"'T2-B(PP3)'!$H$200","v":0},"#'T2-B(PP3)'!$H$200"]
["pp3_bl4_5_3_total",{"$f":"'T2-B(PP3)'!$J$200","v":0},"#'T2-B(PP3)'!$J$200"]
["pp3_bl4_5_3_total_in",{"$f":"'T2-B(PP3)'!$F$200","v":0},"#'T2-B(PP3)'!$F$200"]
["pp3_bl4_5_3_total_out",{"$f":"'T2-B(PP3)'!$I$200","v":0},"#'T2-B(PP3)'!$I$200"]
["pp3_bl4_5_3_unit",{"$f":"'T2-B(PP3)'!$C$200","v":0},"#'T2-B(PP3)'!$C$200"]
["pp3_bl4_5_3_unit_in",{"$f":"'T2-B(PP3)'!$D$200","v":0},"#'T2-B(PP3)'!$D$200"]
["pp3_bl4_5_3_units_out",{"$f":"'T2-B(PP3)'!$G$200","v":0},"#'T2-B(PP3)'!$G$200"]
["pp3_bl4_5_4_name",{"$f":"'T2-B(PP3)'!$B$201","v":0},"#'T2-B(PP3)'!$B$201"]
["pp3_bl4_5_4_rate_in",{"$f":"'T2-B(PP3)'!$E$201","v":0},"#'T2-B(PP3)'!$E$201"]
["pp3_bl4_5_4_rate_out",{"$f":"'T2-B(PP3)'!$H$201","v":0},"#'T2-B(PP3)'!$H$201"]
["pp3_bl4_5_4_total",{"$f":"'T2-B(PP3)'!$J$201","v":0},"#'T2-B(PP3)'!$J$201"]
["pp3_bl4_5_4_total_in",{"$f":"'T2-B(PP3)'!$F$201","v":0},"#'T2-B(PP3)'!$F$201"]
["pp3_bl4_5_4_total_out",{"$f":"'T2-B(PP3)'!$I$201","v":0},"#'T2-B(PP3)'!$I$201"]
["pp3_bl4_5_4_unit",{"$f":"'T2-B(PP3)'!$C$201","v":0},"#'T2-B(PP3)'!$C$201"]
["pp3_bl4_5_4_unit_in",{"$f":"'T2-B(PP3)'!$D$201","v":0},"#'T2-B(PP3)'!$D$201"]
["pp3_bl4_5_4_units_out",{"$f":"'T2-B(PP3)'!$G$201","v":0},"#'T2-B(PP3)'!$G$201"]
["pp3_bl4_5_5_name",{"$f":"'T2-B(PP3)'!$B$202","v":0},"#'T2-B(PP3)'!$B$202"]
["pp3_bl4_5_5_rate_in",{"$f":"'T2-B(PP3)'!$E$202","v":0},"#'T2-B(PP3)'!$E$202"]
["pp3_bl4_5_5_rate_out",{"$f":"'T2-B(PP3)'!$H$202","v":0},"#'T2-B(PP3)'!$H$202"]
["pp3_bl4_5_5_total",{"$f":"'T2-B(PP3)'!$J$202","v":0},"#'T2-B(PP3)'!$J$202"]
["pp3_bl4_5_5_total_in",{"$f":"'T2-B(PP3)'!$F$202","v":0},"#'T2-B(PP3)'!$F$202"]
["pp3_bl4_5_5_total_out",{"$f":"'T2-B(PP3)'!$I$202","v":0},"#'T2-B(PP3)'!$I$202"]
["pp3_bl4_5_5_unit",{"$f":"'T2-B(PP3)'!$C$202","v":0},"#'T2-B(PP3)'!$C$202"]
["pp3_bl4_5_5_unit_in",{"$f":"'T2-B(PP3)'!$D$202","v":0},"#'T2-B(PP3)'!$D$202"]
["pp3_bl4_5_5_units_out",{"$f":"'T2-B(PP3)'!$G$202","v":0},"#'T2-B(PP3)'!$G$202"]
["pp3_bl4_5_6_name",{"$f":"'T2-B(PP3)'!$B$203","v":0},"#'T2-B(PP3)'!$B$203"]
["pp3_bl4_5_6_rate_in",{"$f":"'T2-B(PP3)'!$E$203","v":0},"#'T2-B(PP3)'!$E$203"]
["pp3_bl4_5_6_rate_out",{"$f":"'T2-B(PP3)'!$H$203","v":0},"#'T2-B(PP3)'!$H$203"]
["pp3_bl4_5_6_total",{"$f":"'T2-B(PP3)'!$J$203","v":0},"#'T2-B(PP3)'!$J$203"]
["pp3_bl4_5_6_total_in",{"$f":"'T2-B(PP3)'!$F$203","v":0},"#'T2-B(PP3)'!$F$203"]
["pp3_bl4_5_6_total_out",{"$f":"'T2-B(PP3)'!$I$203","v":0},"#'T2-B(PP3)'!$I$203"]
["pp3_bl4_5_6_unit",{"$f":"'T2-B(PP3)'!$C$203","v":0},"#'T2-B(PP3)'!$C$203"]
["pp3_bl4_5_6_unit_in",{"$f":"'T2-B(PP3)'!$D$203","v":0},"#'T2-B(PP3)'!$D$203"]
["pp3_bl4_5_6_units_out",{"$f":"'T2-B(PP3)'!$G$203","v":0},"#'T2-B(PP3)'!$G$203"]
["pp3_bl4_5_7_name",{"$f":"'T2-B(PP3)'!$B$204","v":0},"#'T2-B(PP3)'!$B$204"]
["pp3_bl4_5_7_rate_in",{"$f":"'T2-B(PP3)'!$E$204","v":0},"#'T2-B(PP3)'!$E$204"]
["pp3_bl4_5_7_rate_out",{"$f":"'T2-B(PP3)'!$H$204","v":0},"#'T2-B(PP3)'!$H$204"]
["pp3_bl4_5_7_total",{"$f":"'T2-B(PP3)'!$J$204","v":0},"#'T2-B(PP3)'!$J$204"]
["pp3_bl4_5_7_total_in",{"$f":"'T2-B(PP3)'!$F$204","v":0},"#'T2-B(PP3)'!$F$204"]
["pp3_bl4_5_7_total_out",{"$f":"'T2-B(PP3)'!$I$204","v":0},"#'T2-B(PP3)'!$I$204"]
["pp3_bl4_5_7_unit",{"$f":"'T2-B(PP3)'!$C$204","v":0},"#'T2-B(PP3)'!$C$204"]
["pp3_bl4_5_7_unit_in",{"$f":"'T2-B(PP3)'!$D$204","v":0},"#'T2-B(PP3)'!$D$204"]
["pp3_bl4_5_7_units_out",{"$f":"'T2-B(PP3)'!$G$204","v":0},"#'T2-B(PP3)'!$G$204"]
["pp3_bl4_5_8_name",{"$f":"'T2-B(PP3)'!$B$205","v":0},"#'T2-B(PP3)'!$B$205"]
["pp3_bl4_5_8_rate_in",{"$f":"'T2-B(PP3)'!$E$205","v":0},"#'T2-B(PP3)'!$E$205"]
["pp3_bl4_5_8_rate_out",{"$f":"'T2-B(PP3)'!$H$205","v":0},"#'T2-B(PP3)'!$H$205"]
["pp3_bl4_5_8_total",{"$f":"'T2-B(PP3)'!$J$205","v":0},"#'T2-B(PP3)'!$J$205"]
["pp3_bl4_5_8_total_in",{"$f":"'T2-B(PP3)'!$F$205","v":0},"#'T2-B(PP3)'!$F$205"]
["pp3_bl4_5_8_total_out",{"$f":"'T2-B(PP3)'!$I$205","v":0},"#'T2-B(PP3)'!$I$205"]
["pp3_bl4_5_8_unit",{"$f":"'T2-B(PP3)'!$C$205","v":0},"#'T2-B(PP3)'!$C$205"]
["pp3_bl4_5_8_unit_in",{"$f":"'T2-B(PP3)'!$D$205","v":0},"#'T2-B(PP3)'!$D$205"]
["pp3_bl4_5_8_units_out",{"$f":"'T2-B(PP3)'!$G$205","v":0},"#'T2-B(PP3)'!$G$205"]
["pp3_bl4_5_9_name",{"$f":"'T2-B(PP3)'!$B$206","v":0},"#'T2-B(PP3)'!$B$206"]
["pp3_bl4_5_9_rate_in",{"$f":"'T2-B(PP3)'!$E$206","v":0},"#'T2-B(PP3)'!$E$206"]
["pp3_bl4_5_9_rate_out",{"$f":"'T2-B(PP3)'!$H$206","v":0},"#'T2-B(PP3)'!$H$206"]
["pp3_bl4_5_9_total",{"$f":"'T2-B(PP3)'!$J$206","v":0},"#'T2-B(PP3)'!$J$206"]
["pp3_bl4_5_9_total_in",{"$f":"'T2-B(PP3)'!$F$206","v":0},"#'T2-B(PP3)'!$F$206"]
["pp3_bl4_5_9_total_out",{"$f":"'T2-B(PP3)'!$I$206","v":0},"#'T2-B(PP3)'!$I$206"]
["pp3_bl4_5_9_unit",{"$f":"'T2-B(PP3)'!$C$206","v":0},"#'T2-B(PP3)'!$C$206"]
["pp3_bl4_5_9_unit_in",{"$f":"'T2-B(PP3)'!$D$206","v":0},"#'T2-B(PP3)'!$D$206"]
["pp3_bl4_5_9_units_out",{"$f":"'T2-B(PP3)'!$G$206","v":0},"#'T2-B(PP3)'!$G$206"]
["pp3_bl4_5_total",{"$f":"'T2-B(PP3)'!$J$197","v":0},"#'T2-B(PP3)'!$J$197"]
["pp3_bl4_5_total_in",{"$f":"'T2-B(PP3)'!$F$197","v":0},"#'T2-B(PP3)'!$F$197"]
["pp3_bl4_5_total_out",{"$f":"'T2-B(PP3)'!$I$197","v":0},"#'T2-B(PP3)'!$I$197"]
["pp3_bl4_6_1_name",{"$f":"'T2-B(PP3)'!$B$219","v":0},"#'T2-B(PP3)'!$B$219"]
["pp3_bl4_6_1_rate_in",{"$f":"'T2-B(PP3)'!$E$219","v":0},"#'T2-B(PP3)'!$E$219"]
["pp3_bl4_6_1_rate_out",{"$f":"'T2-B(PP3)'!$H$219","v":0},"#'T2-B(PP3)'!$H$219"]
["pp3_bl4_6_1_total",{"$f":"'T2-B(PP3)'!$J$219","v":0},"#'T2-B(PP3)'!$J$219"]
["pp3_bl4_6_1_total_in",{"$f":"'T2-B(PP3)'!$F$219","v":0},"#'T2-B(PP3)'!$F$219"]
["pp3_bl4_6_1_total_out",{"$f":"'T2-B(PP3)'!$I$219","v":0},"#'T2-B(PP3)'!$I$219"]
["pp3_bl4_6_1_unit",{"$f":"'T2-B(PP3)'!$C$219","v":0},"#'T2-B(PP3)'!$C$219"]
["pp3_bl4_6_1_unit_in",{"$f":"'T2-B(PP3)'!$D$219","v":0},"#'T2-B(PP3)'!$D$219"]
["pp3_bl4_6_1_units_out",{"$f":"'T2-B(PP3)'!$G$219","v":0},"#'T2-B(PP3)'!$G$219"]
["pp3_bl4_6_10_name",{"$f":"'T2-B(PP3)'!$B$228","v":0},"#'T2-B(PP3)'!$B$228"]
["pp3_bl4_6_10_rate_in",{"$f":"'T2-B(PP3)'!$E$228","v":0},"#'T2-B(PP3)'!$E$228"]
["pp3_bl4_6_10_rate_out",{"$f":"'T2-B(PP3)'!$H$228","v":0},"#'T2-B(PP3)'!$H$228"]
["pp3_bl4_6_10_total",{"$f":"'T2-B(PP3)'!$J$228","v":0},"#'T2-B(PP3)'!$J$228"]
["pp3_bl4_6_10_total_in",{"$f":"'T2-B(PP3)'!$F$228","v":0},"#'T2-B(PP3)'!$F$228"]
["pp3_bl4_6_10_total_out",{"$f":"'T2-B(PP3)'!$I$228","v":0},"#'T2-B(PP3)'!$I$228"]
["pp3_bl4_6_10_unit",{"$f":"'T2-B(PP3)'!$C$228","v":0},"#'T2-B(PP3)'!$C$228"]
["pp3_bl4_6_10_unit_in",{"$f":"'T2-B(PP3)'!$D$228","v":0},"#'T2-B(PP3)'!$D$228"]
["pp3_bl4_6_10_units_out",{"$f":"'T2-B(PP3)'!$G$228","v":0},"#'T2-B(PP3)'!$G$228"]
["pp3_bl4_6_2_name",{"$f":"'T2-B(PP3)'!$B$220","v":0},"#'T2-B(PP3)'!$B$220"]
["pp3_bl4_6_2_rate_in",{"$f":"'T2-B(PP3)'!$E$220","v":0},"#'T2-B(PP3)'!$E$220"]
["pp3_bl4_6_2_rate_out",{"$f":"'T2-B(PP3)'!$H$220","v":0},"#'T2-B(PP3)'!$H$220"]
["pp3_bl4_6_2_total",{"$f":"'T2-B(PP3)'!$J$220","v":0},"#'T2-B(PP3)'!$J$220"]
["pp3_bl4_6_2_total_in",{"$f":"'T2-B(PP3)'!$F$220","v":0},"#'T2-B(PP3)'!$F$220"]
["pp3_bl4_6_2_total_out",{"$f":"'T2-B(PP3)'!$I$220","v":0},"#'T2-B(PP3)'!$I$220"]
["pp3_bl4_6_2_unit",{"$f":"'T2-B(PP3)'!$C$220","v":0},"#'T2-B(PP3)'!$C$220"]
["pp3_bl4_6_2_unit_in",{"$f":"'T2-B(PP3)'!$D$220","v":0},"#'T2-B(PP3)'!$D$220"]
["pp3_bl4_6_2_units_out",{"$f":"'T2-B(PP3)'!$G$220","v":0},"#'T2-B(PP3)'!$G$220"]
["pp3_bl4_6_3_name",{"$f":"'T2-B(PP3)'!$B$221","v":0},"#'T2-B(PP3)'!$B$221"]
["pp3_bl4_6_3_rate_in",{"$f":"'T2-B(PP3)'!$E$221","v":0},"#'T2-B(PP3)'!$E$221"]
["pp3_bl4_6_3_rate_out",{"$f":"'T2-B(PP3)'!$H$221","v":0},"#'T2-B(PP3)'!$H$221"]
["pp3_bl4_6_3_total",{"$f":"'T2-B(PP3)'!$J$221","v":0},"#'T2-B(PP3)'!$J$221"]
["pp3_bl4_6_3_total_in",{"$f":"'T2-B(PP3)'!$F$221","v":0},"#'T2-B(PP3)'!$F$221"]
["pp3_bl4_6_3_total_out",{"$f":"'T2-B(PP3)'!$I$221","v":0},"#'T2-B(PP3)'!$I$221"]
["pp3_bl4_6_3_unit",{"$f":"'T2-B(PP3)'!$C$221","v":0},"#'T2-B(PP3)'!$C$221"]
["pp3_bl4_6_3_unit_in",{"$f":"'T2-B(PP3)'!$D$221","v":0},"#'T2-B(PP3)'!$D$221"]
["pp3_bl4_6_3_units_out",{"$f":"'T2-B(PP3)'!$G$221","v":0},"#'T2-B(PP3)'!$G$221"]
["pp3_bl4_6_4_name",{"$f":"'T2-B(PP3)'!$B$222","v":0},"#'T2-B(PP3)'!$B$222"]
["pp3_bl4_6_4_rate_in",{"$f":"'T2-B(PP3)'!$E$222","v":0},"#'T2-B(PP3)'!$E$222"]
["pp3_bl4_6_4_rate_out",{"$f":"'T2-B(PP3)'!$H$222","v":0},"#'T2-B(PP3)'!$H$222"]
["pp3_bl4_6_4_total",{"$f":"'T2-B(PP3)'!$J$222","v":0},"#'T2-B(PP3)'!$J$222"]
["pp3_bl4_6_4_total_in",{"$f":"'T2-B(PP3)'!$F$222","v":0},"#'T2-B(PP3)'!$F$222"]
["pp3_bl4_6_4_total_out",{"$f":"'T2-B(PP3)'!$I$222","v":0},"#'T2-B(PP3)'!$I$222"]
["pp3_bl4_6_4_unit",{"$f":"'T2-B(PP3)'!$C$222","v":0},"#'T2-B(PP3)'!$C$222"]
["pp3_bl4_6_4_unit_in",{"$f":"'T2-B(PP3)'!$D$222","v":0},"#'T2-B(PP3)'!$D$222"]
["pp3_bl4_6_4_units_out",{"$f":"'T2-B(PP3)'!$G$222","v":0},"#'T2-B(PP3)'!$G$222"]
["pp3_bl4_6_5_name",{"$f":"'T2-B(PP3)'!$B$223","v":0},"#'T2-B(PP3)'!$B$223"]
["pp3_bl4_6_5_rate_in",{"$f":"'T2-B(PP3)'!$E$223","v":0},"#'T2-B(PP3)'!$E$223"]
["pp3_bl4_6_5_rate_out",{"$f":"'T2-B(PP3)'!$H$223","v":0},"#'T2-B(PP3)'!$H$223"]
["pp3_bl4_6_5_total",{"$f":"'T2-B(PP3)'!$J$223","v":0},"#'T2-B(PP3)'!$J$223"]
["pp3_bl4_6_5_total_in",{"$f":"'T2-B(PP3)'!$F$223","v":0},"#'T2-B(PP3)'!$F$223"]
["pp3_bl4_6_5_total_out",{"$f":"'T2-B(PP3)'!$I$223","v":0},"#'T2-B(PP3)'!$I$223"]
["pp3_bl4_6_5_unit",{"$f":"'T2-B(PP3)'!$C$223","v":0},"#'T2-B(PP3)'!$C$223"]
["pp3_bl4_6_5_unit_in",{"$f":"'T2-B(PP3)'!$D$223","v":0},"#'T2-B(PP3)'!$D$223"]
["pp3_bl4_6_5_units_out",{"$f":"'T2-B(PP3)'!$G$223","v":0},"#'T2-B(PP3)'!$G$223"]
["pp3_bl4_6_6_name",{"$f":"'T2-B(PP3)'!$B$224","v":0},"#'T2-B(PP3)'!$B$224"]
["pp3_bl4_6_6_rate_in",{"$f":"'T2-B(PP3)'!$E$224","v":0},"#'T2-B(PP3)'!$E$224"]
["pp3_bl4_6_6_rate_out",{"$f":"'T2-B(PP3)'!$H$224","v":0},"#'T2-B(PP3)'!$H$224"]
["pp3_bl4_6_6_total",{"$f":"'T2-B(PP3)'!$J$224","v":0},"#'T2-B(PP3)'!$J$224"]
["pp3_bl4_6_6_total_in",{"$f":"'T2-B(PP3)'!$F$224","v":0},"#'T2-B(PP3)'!$F$224"]
["pp3_bl4_6_6_total_out",{"$f":"'T2-B(PP3)'!$I$224","v":0},"#'T2-B(PP3)'!$I$224"]
["pp3_bl4_6_6_unit",{"$f":"'T2-B(PP3)'!$C$224","v":0},"#'T2-B(PP3)'!$C$224"]
["pp3_bl4_6_6_unit_in",{"$f":"'T2-B(PP3)'!$D$224","v":0},"#'T2-B(PP3)'!$D$224"]
["pp3_bl4_6_6_units_out",{"$f":"'T2-B(PP3)'!$G$224","v":0},"#'T2-B(PP3)'!$G$224"]
["pp3_bl4_6_7_name",{"$f":"'T2-B(PP3)'!$B$225","v":0},"#'T2-B(PP3)'!$B$225"]
["pp3_bl4_6_7_rate_in",{"$f":"'T2-B(PP3)'!$E$225","v":0},"#'T2-B(PP3)'!$E$225"]
["pp3_bl4_6_7_rate_out",{"$f":"'T2-B(PP3)'!$H$225","v":0},"#'T2-B(PP3)'!$H$225"]
["pp3_bl4_6_7_total",{"$f":"'T2-B(PP3)'!$J$225","v":0},"#'T2-B(PP3)'!$J$225"]
["pp3_bl4_6_7_total_in",{"$f":"'T2-B(PP3)'!$F$225","v":0},"#'T2-B(PP3)'!$F$225"]
["pp3_bl4_6_7_total_out",{"$f":"'T2-B(PP3)'!$I$225","v":0},"#'T2-B(PP3)'!$I$225"]
["pp3_bl4_6_7_unit",{"$f":"'T2-B(PP3)'!$C$225","v":0},"#'T2-B(PP3)'!$C$225"]
["pp3_bl4_6_7_unit_in",{"$f":"'T2-B(PP3)'!$D$225","v":0},"#'T2-B(PP3)'!$D$225"]
["pp3_bl4_6_7_units_out",{"$f":"'T2-B(PP3)'!$G$225","v":0},"#'T2-B(PP3)'!$G$225"]
["pp3_bl4_6_8_name",{"$f":"'T2-B(PP3)'!$B$226","v":0},"#'T2-B(PP3)'!$B$226"]
["pp3_bl4_6_8_rate_in",{"$f":"'T2-B(PP3)'!$E$226","v":0},"#'T2-B(PP3)'!$E$226"]
["pp3_bl4_6_8_rate_out",{"$f":"'T2-B(PP3)'!$H$226","v":0},"#'T2-B(PP3)'!$H$226"]
["pp3_bl4_6_8_total",{"$f":"'T2-B(PP3)'!$J$226","v":0},"#'T2-B(PP3)'!$J$226"]
["pp3_bl4_6_8_total_in",{"$f":"'T2-B(PP3)'!$F$226","v":0},"#'T2-B(PP3)'!$F$226"]
["pp3_bl4_6_8_total_out",{"$f":"'T2-B(PP3)'!$I$226","v":0},"#'T2-B(PP3)'!$I$226"]
["pp3_bl4_6_8_unit",{"$f":"'T2-B(PP3)'!$C$226","v":0},"#'T2-B(PP3)'!$C$226"]
["pp3_bl4_6_8_unit_in",{"$f":"'T2-B(PP3)'!$D$226","v":0},"#'T2-B(PP3)'!$D$226"]
["pp3_bl4_6_8_units_out",{"$f":"'T2-B(PP3)'!$G$226","v":0},"#'T2-B(PP3)'!$G$226"]
["pp3_bl4_6_9_name",{"$f":"'T2-B(PP3)'!$B$227","v":0},"#'T2-B(PP3)'!$B$227"]
["pp3_bl4_6_9_rate_in",{"$f":"'T2-B(PP3)'!$E$227","v":0},"#'T2-B(PP3)'!$E$227"]
["pp3_bl4_6_9_rate_out",{"$f":"'T2-B(PP3)'!$H$227","v":0},"#'T2-B(PP3)'!$H$227"]
["pp3_bl4_6_9_total",{"$f":"'T2-B(PP3)'!$J$227","v":0},"#'T2-B(PP3)'!$J$227"]
["pp3_bl4_6_9_total_in",{"$f":"'T2-B(PP3)'!$F$227","v":0},"#'T2-B(PP3)'!$F$227"]
["pp3_bl4_6_9_total_out",{"$f":"'T2-B(PP3)'!$I$227","v":0},"#'T2-B(PP3)'!$I$227"]
["pp3_bl4_6_9_unit",{"$f":"'T2-B(PP3)'!$C$227","v":0},"#'T2-B(PP3)'!$C$227"]
["pp3_bl4_6_9_unit_in",{"$f":"'T2-B(PP3)'!$D$227","v":0},"#'T2-B(PP3)'!$D$227"]
["pp3_bl4_6_9_units_out",{"$f":"'T2-B(PP3)'!$G$227","v":0},"#'T2-B(PP3)'!$G$227"]
["pp3_bl4_6_total",{"$f":"'T2-B(PP3)'!$J$218","v":0},"#'T2-B(PP3)'!$J$218"]
["pp3_bl4_6_total_in",{"$f":"'T2-B(PP3)'!$F$218","v":0},"#'T2-B(PP3)'!$F$218"]
["pp3_bl4_6_total_out",{"$f":"'T2-B(PP3)'!$I$218","v":0},"#'T2-B(PP3)'!$I$218"]
["pp3_bl4_7_1_name",{"$f":"'T2-B(PP3)'!$B$240","v":0},"#'T2-B(PP3)'!$B$240"]
["pp3_bl4_7_1_rate_in",{"$f":"'T2-B(PP3)'!$E$240","v":0},"#'T2-B(PP3)'!$E$240"]
["pp3_bl4_7_1_rate_out",{"$f":"'T2-B(PP3)'!$H$240","v":0},"#'T2-B(PP3)'!$H$240"]
["pp3_bl4_7_1_total",{"$f":"'T2-B(PP3)'!$J$240","v":0},"#'T2-B(PP3)'!$J$240"]
["pp3_bl4_7_1_total_in",{"$f":"'T2-B(PP3)'!$F$240","v":0},"#'T2-B(PP3)'!$F$240"]
["pp3_bl4_7_1_total_out",{"$f":"'T2-B(PP3)'!$I$240","v":0},"#'T2-B(PP3)'!$I$240"]
["pp3_bl4_7_1_unit",{"$f":"'T2-B(PP3)'!$C$240","v":0},"#'T2-B(PP3)'!$C$240"]
["pp3_bl4_7_1_unit_in",{"$f":"'T2-B(PP3)'!$D$240","v":0},"#'T2-B(PP3)'!$D$240"]
["pp3_bl4_7_1_units_out",{"$f":"'T2-B(PP3)'!$G$240","v":0},"#'T2-B(PP3)'!$G$240"]
["pp3_bl4_7_10_name",{"$f":"'T2-B(PP3)'!$B$249","v":0},"#'T2-B(PP3)'!$B$249"]
["pp3_bl4_7_10_rate_in",{"$f":"'T2-B(PP3)'!$E$249","v":0},"#'T2-B(PP3)'!$E$249"]
["pp3_bl4_7_10_rate_out",{"$f":"'T2-B(PP3)'!$H$249","v":0},"#'T2-B(PP3)'!$H$249"]
["pp3_bl4_7_10_total",{"$f":"'T2-B(PP3)'!$J$249","v":0},"#'T2-B(PP3)'!$J$249"]
["pp3_bl4_7_10_total_in",{"$f":"'T2-B(PP3)'!$F$249","v":0},"#'T2-B(PP3)'!$F$249"]
["pp3_bl4_7_10_total_out",{"$f":"'T2-B(PP3)'!$I$249","v":0},"#'T2-B(PP3)'!$I$249"]
["pp3_bl4_7_10_unit",{"$f":"'T2-B(PP3)'!$C$249","v":0},"#'T2-B(PP3)'!$C$249"]
["pp3_bl4_7_10_unit_in",{"$f":"'T2-B(PP3)'!$D$249","v":0},"#'T2-B(PP3)'!$D$249"]
["pp3_bl4_7_10_units_out",{"$f":"'T2-B(PP3)'!$G$249","v":0},"#'T2-B(PP3)'!$G$249"]
["pp3_bl4_7_2_name",{"$f":"'T2-B(PP3)'!$B$241","v":0},"#'T2-B(PP3)'!$B$241"]
["pp3_bl4_7_2_rate_in",{"$f":"'T2-B(PP3)'!$E$241","v":0},"#'T2-B(PP3)'!$E$241"]
["pp3_bl4_7_2_rate_out",{"$f":"'T2-B(PP3)'!$H$241","v":0},"#'T2-B(PP3)'!$H$241"]
["pp3_bl4_7_2_total",{"$f":"'T2-B(PP3)'!$J$241","v":0},"#'T2-B(PP3)'!$J$241"]
["pp3_bl4_7_2_total_in",{"$f":"'T2-B(PP3)'!$F$241","v":0},"#'T2-B(PP3)'!$F$241"]
["pp3_bl4_7_2_total_out",{"$f":"'T2-B(PP3)'!$I$241","v":0},"#'T2-B(PP3)'!$I$241"]
["pp3_bl4_7_2_unit",{"$f":"'T2-B(PP3)'!$C$241","v":0},"#'T2-B(PP3)'!$C$241"]
["pp3_bl4_7_2_unit_in",{"$f":"'T2-B(PP3)'!$D$241","v":0},"#'T2-B(PP3)'!$D$241"]
["pp3_bl4_7_2_units_out",{"$f":"'T2-B(PP3)'!$G$241","v":0},"#'T2-B(PP3)'!$G$241"]
["pp3_bl4_7_3_name",{"$f":"'T2-B(PP3)'!$B$242","v":0},"#'T2-B(PP3)'!$B$242"]
["pp3_bl4_7_3_rate_in",{"$f":"'T2-B(PP3)'!$E$242","v":0},"#'T2-B(PP3)'!$E$242"]
["pp3_bl4_7_3_rate_out",{"$f":"'T2-B(PP3)'!$H$242","v":0},"#'T2-B(PP3)'!$H$242"]
["pp3_bl4_7_3_total",{"$f":"'T2-B(PP3)'!$J$242","v":0},"#'T2-B(PP3)'!$J$242"]
["pp3_bl4_7_3_total_in",{"$f":"'T2-B(PP3)'!$F$242","v":0},"#'T2-B(PP3)'!$F$242"]
["pp3_bl4_7_3_total_out",{"$f":"'T2-B(PP3)'!$I$242","v":0},"#'T2-B(PP3)'!$I$242"]
["pp3_bl4_7_3_unit",{"$f":"'T2-B(PP3)'!$C$242","v":0},"#'T2-B(PP3)'!$C$242"]
["pp3_bl4_7_3_unit_in",{"$f":"'T2-B(PP3)'!$D$242","v":0},"#'T2-B(PP3)'!$D$242"]
["pp3_bl4_7_3_units_out",{"$f":"'T2-B(PP3)'!$G$242","v":0},"#'T2-B(PP3)'!$G$242"]
["pp3_bl4_7_4_name",{"$f":"'T2-B(PP3)'!$B$243","v":0},"#'T2-B(PP3)'!$B$243"]
["pp3_bl4_7_4_rate_in",{"$f":"'T2-B(PP3)'!$E$243","v":0},"#'T2-B(PP3)'!$E$243"]
["pp3_bl4_7_4_rate_out",{"$f":"'T2-B(PP3)'!$H$243","v":0},"#'T2-B(PP3)'!$H$243"]
["pp3_bl4_7_4_total",{"$f":"'T2-B(PP3)'!$J$243","v":0},"#'T2-B(PP3)'!$J$243"]
["pp3_bl4_7_4_total_in",{"$f":"'T2-B(PP3)'!$F$243","v":0},"#'T2-B(PP3)'!$F$243"]
["pp3_bl4_7_4_total_out",{"$f":"'T2-B(PP3)'!$I$243","v":0},"#'T2-B(PP3)'!$I$243"]
["pp3_bl4_7_4_unit",{"$f":"'T2-B(PP3)'!$C$243","v":0},"#'T2-B(PP3)'!$C$243"]
["pp3_bl4_7_4_unit_in",{"$f":"'T2-B(PP3)'!$D$243","v":0},"#'T2-B(PP3)'!$D$243"]
["pp3_bl4_7_4_units_out",{"$f":"'T2-B(PP3)'!$G$243","v":0},"#'T2-B(PP3)'!$G$243"]
["pp3_bl4_7_5_name",{"$f":"'T2-B(PP3)'!$B$244","v":0},"#'T2-B(PP3)'!$B$244"]
["pp3_bl4_7_5_rate_in",{"$f":"'T2-B(PP3)'!$E$244","v":0},"#'T2-B(PP3)'!$E$244"]
["pp3_bl4_7_5_rate_out",{"$f":"'T2-B(PP3)'!$H$244","v":0},"#'T2-B(PP3)'!$H$244"]
["pp3_bl4_7_5_total",{"$f":"'T2-B(PP3)'!$J$244","v":0},"#'T2-B(PP3)'!$J$244"]
["pp3_bl4_7_5_total_in",{"$f":"'T2-B(PP3)'!$F$244","v":0},"#'T2-B(PP3)'!$F$244"]
["pp3_bl4_7_5_total_out",{"$f":"'T2-B(PP3)'!$I$244","v":0},"#'T2-B(PP3)'!$I$244"]
["pp3_bl4_7_5_unit",{"$f":"'T2-B(PP3)'!$C$244","v":0},"#'T2-B(PP3)'!$C$244"]
["pp3_bl4_7_5_unit_in",{"$f":"'T2-B(PP3)'!$D$244","v":0},"#'T2-B(PP3)'!$D$244"]
["pp3_bl4_7_5_units_out",{"$f":"'T2-B(PP3)'!$G$244","v":0},"#'T2-B(PP3)'!$G$244"]
["pp3_bl4_7_6_name",{"$f":"'T2-B(PP3)'!$B$245","v":0},"#'T2-B(PP3)'!$B$245"]
["pp3_bl4_7_6_rate_in",{"$f":"'T2-B(PP3)'!$E$245","v":0},"#'T2-B(PP3)'!$E$245"]
["pp3_bl4_7_6_rate_out",{"$f":"'T2-B(PP3)'!$H$245","v":0},"#'T2-B(PP3)'!$H$245"]
["pp3_bl4_7_6_total",{"$f":"'T2-B(PP3)'!$J$245","v":0},"#'T2-B(PP3)'!$J$245"]
["pp3_bl4_7_6_total_in",{"$f":"'T2-B(PP3)'!$F$245","v":0},"#'T2-B(PP3)'!$F$245"]
["pp3_bl4_7_6_total_out",{"$f":"'T2-B(PP3)'!$I$245","v":0},"#'T2-B(PP3)'!$I$245"]
["pp3_bl4_7_6_unit",{"$f":"'T2-B(PP3)'!$C$245","v":0},"#'T2-B(PP3)'!$C$245"]
["pp3_bl4_7_6_unit_in",{"$f":"'T2-B(PP3)'!$D$245","v":0},"#'T2-B(PP3)'!$D$245"]
["pp3_bl4_7_6_units_out",{"$f":"'T2-B(PP3)'!$G$245","v":0},"#'T2-B(PP3)'!$G$245"]
["pp3_bl4_7_7_name",{"$f":"'T2-B(PP3)'!$B$246","v":0},"#'T2-B(PP3)'!$B$246"]
["pp3_bl4_7_7_rate_in",{"$f":"'T2-B(PP3)'!$E$246","v":0},"#'T2-B(PP3)'!$E$246"]
["pp3_bl4_7_7_rate_out",{"$f":"'T2-B(PP3)'!$H$246","v":0},"#'T2-B(PP3)'!$H$246"]
["pp3_bl4_7_7_total",{"$f":"'T2-B(PP3)'!$J$246","v":0},"#'T2-B(PP3)'!$J$246"]
["pp3_bl4_7_7_total_in",{"$f":"'T2-B(PP3)'!$F$246","v":0},"#'T2-B(PP3)'!$F$246"]
["pp3_bl4_7_7_total_out",{"$f":"'T2-B(PP3)'!$I$246","v":0},"#'T2-B(PP3)'!$I$246"]
["pp3_bl4_7_7_unit",{"$f":"'T2-B(PP3)'!$C$246","v":0},"#'T2-B(PP3)'!$C$246"]
["pp3_bl4_7_7_unit_in",{"$f":"'T2-B(PP3)'!$D$246","v":0},"#'T2-B(PP3)'!$D$246"]
["pp3_bl4_7_7_units_out",{"$f":"'T2-B(PP3)'!$G$246","v":0},"#'T2-B(PP3)'!$G$246"]
["pp3_bl4_7_8_name",{"$f":"'T2-B(PP3)'!$B$247","v":0},"#'T2-B(PP3)'!$B$247"]
["pp3_bl4_7_8_rate_in",{"$f":"'T2-B(PP3)'!$E$247","v":0},"#'T2-B(PP3)'!$E$247"]
["pp3_bl4_7_8_rate_out",{"$f":"'T2-B(PP3)'!$H$247","v":0},"#'T2-B(PP3)'!$H$247"]
["pp3_bl4_7_8_total",{"$f":"'T2-B(PP3)'!$J$247","v":0},"#'T2-B(PP3)'!$J$247"]
["pp3_bl4_7_8_total_in",{"$f":"'T2-B(PP3)'!$F$247","v":0},"#'T2-B(PP3)'!$F$247"]
["pp3_bl4_7_8_total_out",{"$f":"'T2-B(PP3)'!$I$247","v":0},"#'T2-B(PP3)'!$I$247"]
["pp3_bl4_7_8_unit",{"$f":"'T2-B(PP3)'!$C$247","v":0},"#'T2-B(PP3)'!$C$247"]
["pp3_bl4_7_8_unit_in",{"$f":"'T2-B(PP3)'!$D$247","v":0},"#'T2-B(PP3)'!$D$247"]
["pp3_bl4_7_8_units_out",{"$f":"'T2-B(PP3)'!$G$247","v":0},"#'T2-B(PP3)'!$G$247"]
["pp3_bl4_7_9_name",{"$f":"'T2-B(PP3)'!$B$248","v":0},"#'T2-B(PP3)'!$B$248"]
["pp3_bl4_7_9_rate_in",{"$f":"'T2-B(PP3)'!$E$248","v":0},"#'T2-B(PP3)'!$E$248"]
["pp3_bl4_7_9_rate_out",{"$f":"'T2-B(PP3)'!$H$248","v":0},"#'T2-B(PP3)'!$H$248"]
["pp3_bl4_7_9_total",{"$f":"'T2-B(PP3)'!$J$248","v":0},"#'T2-B(PP3)'!$J$248"]
["pp3_bl4_7_9_total_in",{"$f":"'T2-B(PP3)'!$F$248","v":0},"#'T2-B(PP3)'!$F$248"]
["pp3_bl4_7_9_total_out",{"$f":"'T2-B(PP3)'!$I$248","v":0},"#'T2-B(PP3)'!$I$248"]
["pp3_bl4_7_9_unit",{"$f":"'T2-B(PP3)'!$C$248","v":0},"#'T2-B(PP3)'!$C$248"]
["pp3_bl4_7_9_unit_in",{"$f":"'T2-B(PP3)'!$D$248","v":0},"#'T2-B(PP3)'!$D$248"]
["pp3_bl4_7_9_units_out",{"$f":"'T2-B(PP3)'!$G$248","v":0},"#'T2-B(PP3)'!$G$248"]
["pp3_bl4_7_total",{"$f":"'T2-B(PP3)'!$J$239","v":0},"#'T2-B(PP3)'!$J$239"]
["pp3_bl4_7_total_in",{"$f":"'T2-B(PP3)'!$F$239","v":0},"#'T2-B(PP3)'!$F$239"]
["pp3_bl4_7_total_out",{"$f":"'T2-B(PP3)'!$I$239","v":0},"#'T2-B(PP3)'!$I$239"]
["pp3_bl4_8_1_name",{"$f":"'T2-B(PP3)'!$B$261","v":0},"#'T2-B(PP3)'!$B$261"]
["pp3_bl4_8_1_rate_in",{"$f":"'T2-B(PP3)'!$E$261","v":0},"#'T2-B(PP3)'!$E$261"]
["pp3_bl4_8_1_rate_out",{"$f":"'T2-B(PP3)'!$H$261","v":0},"#'T2-B(PP3)'!$H$261"]
["pp3_bl4_8_1_total",{"$f":"'T2-B(PP3)'!$J$261","v":0},"#'T2-B(PP3)'!$J$261"]
["pp3_bl4_8_1_total_in",{"$f":"'T2-B(PP3)'!$F$261","v":0},"#'T2-B(PP3)'!$F$261"]
["pp3_bl4_8_1_total_out",{"$f":"'T2-B(PP3)'!$I$261","v":0},"#'T2-B(PP3)'!$I$261"]
["pp3_bl4_8_1_unit",{"$f":"'T2-B(PP3)'!$C$261","v":0},"#'T2-B(PP3)'!$C$261"]
["pp3_bl4_8_1_unit_in",{"$f":"'T2-B(PP3)'!$D$261","v":0},"#'T2-B(PP3)'!$D$261"]
["pp3_bl4_8_1_units_out",{"$f":"'T2-B(PP3)'!$G$261","v":0},"#'T2-B(PP3)'!$G$261"]
["pp3_bl4_8_10_name",{"$f":"'T2-B(PP3)'!$B$270","v":0},"#'T2-B(PP3)'!$B$270"]
["pp3_bl4_8_10_rate_in",{"$f":"'T2-B(PP3)'!$E$270","v":0},"#'T2-B(PP3)'!$E$270"]
["pp3_bl4_8_10_rate_out",{"$f":"'T2-B(PP3)'!$H$270","v":0},"#'T2-B(PP3)'!$H$270"]
["pp3_bl4_8_10_total",{"$f":"'T2-B(PP3)'!$J$270","v":0},"#'T2-B(PP3)'!$J$270"]
["pp3_bl4_8_10_total_in",{"$f":"'T2-B(PP3)'!$F$270","v":0},"#'T2-B(PP3)'!$F$270"]
["pp3_bl4_8_10_total_out",{"$f":"'T2-B(PP3)'!$I$270","v":0},"#'T2-B(PP3)'!$I$270"]
["pp3_bl4_8_10_unit",{"$f":"'T2-B(PP3)'!$C$270","v":0},"#'T2-B(PP3)'!$C$270"]
["pp3_bl4_8_10_unit_in",{"$f":"'T2-B(PP3)'!$D$270","v":0},"#'T2-B(PP3)'!$D$270"]
["pp3_bl4_8_10_units_out",{"$f":"'T2-B(PP3)'!$G$270","v":0},"#'T2-B(PP3)'!$G$270"]
["pp3_bl4_8_2_name",{"$f":"'T2-B(PP3)'!$B$262","v":0},"#'T2-B(PP3)'!$B$262"]
["pp3_bl4_8_2_rate_in",{"$f":"'T2-B(PP3)'!$E$262","v":0},"#'T2-B(PP3)'!$E$262"]
["pp3_bl4_8_2_rate_out",{"$f":"'T2-B(PP3)'!$H$262","v":0},"#'T2-B(PP3)'!$H$262"]
["pp3_bl4_8_2_total",{"$f":"'T2-B(PP3)'!$J$262","v":0},"#'T2-B(PP3)'!$J$262"]
["pp3_bl4_8_2_total_in",{"$f":"'T2-B(PP3)'!$F$262","v":0},"#'T2-B(PP3)'!$F$262"]
["pp3_bl4_8_2_total_out",{"$f":"'T2-B(PP3)'!$I$262","v":0},"#'T2-B(PP3)'!$I$262"]
["pp3_bl4_8_2_unit",{"$f":"'T2-B(PP3)'!$C$262","v":0},"#'T2-B(PP3)'!$C$262"]
["pp3_bl4_8_2_unit_in",{"$f":"'T2-B(PP3)'!$D$262","v":0},"#'T2-B(PP3)'!$D$262"]
["pp3_bl4_8_2_units_out",{"$f":"'T2-B(PP3)'!$G$262","v":0},"#'T2-B(PP3)'!$G$262"]
["pp3_bl4_8_3_name",{"$f":"'T2-B(PP3)'!$B$263","v":0},"#'T2-B(PP3)'!$B$263"]
["pp3_bl4_8_3_rate_in",{"$f":"'T2-B(PP3)'!$E$263","v":0},"#'T2-B(PP3)'!$E$263"]
["pp3_bl4_8_3_rate_out",{"$f":"'T2-B(PP3)'!$H$263","v":0},"#'T2-B(PP3)'!$H$263"]
["pp3_bl4_8_3_total",{"$f":"'T2-B(PP3)'!$J$263","v":0},"#'T2-B(PP3)'!$J$263"]
["pp3_bl4_8_3_total_in",{"$f":"'T2-B(PP3)'!$F$263","v":0},"#'T2-B(PP3)'!$F$263"]
["pp3_bl4_8_3_total_out",{"$f":"'T2-B(PP3)'!$I$263","v":0},"#'T2-B(PP3)'!$I$263"]
["pp3_bl4_8_3_unit",{"$f":"'T2-B(PP3)'!$C$263","v":0},"#'T2-B(PP3)'!$C$263"]
["pp3_bl4_8_3_unit_in",{"$f":"'T2-B(PP3)'!$D$263","v":0},"#'T2-B(PP3)'!$D$263"]
["pp3_bl4_8_3_units_out",{"$f":"'T2-B(PP3)'!$G$263","v":0},"#'T2-B(PP3)'!$G$263"]
["pp3_bl4_8_4_name",{"$f":"'T2-B(PP3)'!$B$264","v":0},"#'T2-B(PP3)'!$B$264"]
["pp3_bl4_8_4_rate_in",{"$f":"'T2-B(PP3)'!$E$264","v":0},"#'T2-B(PP3)'!$E$264"]
["pp3_bl4_8_4_rate_out",{"$f":"'T2-B(PP3)'!$H$264","v":0},"#'T2-B(PP3)'!$H$264"]
["pp3_bl4_8_4_total",{"$f":"'T2-B(PP3)'!$J$264","v":0},"#'T2-B(PP3)'!$J$264"]
["pp3_bl4_8_4_total_in",{"$f":"'T2-B(PP3)'!$F$264","v":0},"#'T2-B(PP3)'!$F$264"]
["pp3_bl4_8_4_total_out",{"$f":"'T2-B(PP3)'!$I$264","v":0},"#'T2-B(PP3)'!$I$264"]
["pp3_bl4_8_4_unit",{"$f":"'T2-B(PP3)'!$C$264","v":0},"#'T2-B(PP3)'!$C$264"]
["pp3_bl4_8_4_unit_in",{"$f":"'T2-B(PP3)'!$D$264","v":0},"#'T2-B(PP3)'!$D$264"]
["pp3_bl4_8_4_units_out",{"$f":"'T2-B(PP3)'!$G$264","v":0},"#'T2-B(PP3)'!$G$264"]
["pp3_bl4_8_5_name",{"$f":"'T2-B(PP3)'!$B$265","v":0},"#'T2-B(PP3)'!$B$265"]
["pp3_bl4_8_5_rate_in",{"$f":"'T2-B(PP3)'!$E$265","v":0},"#'T2-B(PP3)'!$E$265"]
["pp3_bl4_8_5_rate_out",{"$f":"'T2-B(PP3)'!$H$265","v":0},"#'T2-B(PP3)'!$H$265"]
["pp3_bl4_8_5_total",{"$f":"'T2-B(PP3)'!$J$265","v":0},"#'T2-B(PP3)'!$J$265"]
["pp3_bl4_8_5_total_in",{"$f":"'T2-B(PP3)'!$F$265","v":0},"#'T2-B(PP3)'!$F$265"]
["pp3_bl4_8_5_total_out",{"$f":"'T2-B(PP3)'!$I$265","v":0},"#'T2-B(PP3)'!$I$265"]
["pp3_bl4_8_5_unit",{"$f":"'T2-B(PP3)'!$C$265","v":0},"#'T2-B(PP3)'!$C$265"]
["pp3_bl4_8_5_unit_in",{"$f":"'T2-B(PP3)'!$D$265","v":0},"#'T2-B(PP3)'!$D$265"]
["pp3_bl4_8_5_units_out",{"$f":"'T2-B(PP3)'!$G$265","v":0},"#'T2-B(PP3)'!$G$265"]
["pp3_bl4_8_6_name",{"$f":"'T2-B(PP3)'!$B$266","v":0},"#'T2-B(PP3)'!$B$266"]
["pp3_bl4_8_6_rate_in",{"$f":"'T2-B(PP3)'!$E$266","v":0},"#'T2-B(PP3)'!$E$266"]
["pp3_bl4_8_6_rate_out",{"$f":"'T2-B(PP3)'!$H$266","v":0},"#'T2-B(PP3)'!$H$266"]
["pp3_bl4_8_6_total",{"$f":"'T2-B(PP3)'!$J$266","v":0},"#'T2-B(PP3)'!$J$266"]
["pp3_bl4_8_6_total_in",{"$f":"'T2-B(PP3)'!$F$266","v":0},"#'T2-B(PP3)'!$F$266"]
["pp3_bl4_8_6_total_out",{"$f":"'T2-B(PP3)'!$I$266","v":0},"#'T2-B(PP3)'!$I$266"]
["pp3_bl4_8_6_unit",{"$f":"'T2-B(PP3)'!$C$266","v":0},"#'T2-B(PP3)'!$C$266"]
["pp3_bl4_8_6_unit_in",{"$f":"'T2-B(PP3)'!$D$266","v":0},"#'T2-B(PP3)'!$D$266"]
["pp3_bl4_8_6_units_out",{"$f":"'T2-B(PP3)'!$G$266","v":0},"#'T2-B(PP3)'!$G$266"]
["pp3_bl4_8_7_name",{"$f":"'T2-B(PP3)'!$B$267","v":0},"#'T2-B(PP3)'!$B$267"]
["pp3_bl4_8_7_rate_in",{"$f":"'T2-B(PP3)'!$E$267","v":0},"#'T2-B(PP3)'!$E$267"]
["pp3_bl4_8_7_rate_out",{"$f":"'T2-B(PP3)'!$H$267","v":0},"#'T2-B(PP3)'!$H$267"]
["pp3_bl4_8_7_total",{"$f":"'T2-B(PP3)'!$J$267","v":0},"#'T2-B(PP3)'!$J$267"]
["pp3_bl4_8_7_total_in",{"$f":"'T2-B(PP3)'!$F$267","v":0},"#'T2-B(PP3)'!$F$267"]
["pp3_bl4_8_7_total_out",{"$f":"'T2-B(PP3)'!$I$267","v":0},"#'T2-B(PP3)'!$I$267"]
["pp3_bl4_8_7_unit",{"$f":"'T2-B(PP3)'!$C$267","v":0},"#'T2-B(PP3)'!$C$267"]
["pp3_bl4_8_7_unit_in",{"$f":"'T2-B(PP3)'!$D$267","v":0},"#'T2-B(PP3)'!$D$267"]
["pp3_bl4_8_7_units_out",{"$f":"'T2-B(PP3)'!$G$267","v":0},"#'T2-B(PP3)'!$G$267"]
["pp3_bl4_8_8_name",{"$f":"'T2-B(PP3)'!$B$268","v":0},"#'T2-B(PP3)'!$B$268"]
["pp3_bl4_8_8_rate_in",{"$f":"'T2-B(PP3)'!$E$268","v":0},"#'T2-B(PP3)'!$E$268"]
["pp3_bl4_8_8_rate_out",{"$f":"'T2-B(PP3)'!$H$268","v":0},"#'T2-B(PP3)'!$H$268"]
["pp3_bl4_8_8_total",{"$f":"'T2-B(PP3)'!$J$268","v":0},"#'T2-B(PP3)'!$J$268"]
["pp3_bl4_8_8_total_in",{"$f":"'T2-B(PP3)'!$F$268","v":0},"#'T2-B(PP3)'!$F$268"]
["pp3_bl4_8_8_total_out",{"$f":"'T2-B(PP3)'!$I$268","v":0},"#'T2-B(PP3)'!$I$268"]
["pp3_bl4_8_8_unit",{"$f":"'T2-B(PP3)'!$C$268","v":0},"#'T2-B(PP3)'!$C$268"]
["pp3_bl4_8_8_unit_in",{"$f":"'T2-B(PP3)'!$D$268","v":0},"#'T2-B(PP3)'!$D$268"]
["pp3_bl4_8_8_units_out",{"$f":"'T2-B(PP3)'!$G$268","v":0},"#'T2-B(PP3)'!$G$268"]
["pp3_bl4_8_9_name",{"$f":"'T2-B(PP3)'!$B$269","v":0},"#'T2-B(PP3)'!$B$269"]
["pp3_bl4_8_9_rate_in",{"$f":"'T2-B(PP3)'!$E$269","v":0},"#'T2-B(PP3)'!$E$269"]
["pp3_bl4_8_9_rate_out",{"$f":"'T2-B(PP3)'!$H$269","v":0},"#'T2-B(PP3)'!$H$269"]
["pp3_bl4_8_9_total",{"$f":"'T2-B(PP3)'!$J$269","v":0},"#'T2-B(PP3)'!$J$269"]
["pp3_bl4_8_9_total_in",{"$f":"'T2-B(PP3)'!$F$269","v":0},"#'T2-B(PP3)'!$F$269"]
["pp3_bl4_8_9_total_out",{"$f":"'T2-B(PP3)'!$I$269","v":0},"#'T2-B(PP3)'!$I$269"]
["pp3_bl4_8_9_unit",{"$f":"'T2-B(PP3)'!$C$269","v":0},"#'T2-B(PP3)'!$C$269"]
["pp3_bl4_8_9_unit_in",{"$f":"'T2-B(PP3)'!$D$269","v":0},"#'T2-B(PP3)'!$D$269"]
["pp3_bl4_8_9_units_out",{"$f":"'T2-B(PP3)'!$G$269","v":0},"#'T2-B(PP3)'!$G$269"]
["pp3_bl4_8_total",{"$f":"'T2-B(PP3)'!$J$260","v":0},"#'T2-B(PP3)'!$J$260"]
["pp3_bl4_8_total_in",{"$f":"'T2-B(PP3)'!$F$260","v":0},"#'T2-B(PP3)'!$F$260"]
["pp3_bl4_8_total_out",{"$f":"'T2-B(PP3)'!$I$260","v":0},"#'T2-B(PP3)'!$I$260"]
["pp3_bl4_9_1_name",{"$f":"'T2-B(PP3)'!$B$282","v":0},"#'T2-B(PP3)'!$B$282"]
["pp3_bl4_9_1_rate_in",{"$f":"'T2-B(PP3)'!$E$282","v":0},"#'T2-B(PP3)'!$E$282"]
["pp3_bl4_9_1_rate_out",{"$f":"'T2-B(PP3)'!$H$282","v":0},"#'T2-B(PP3)'!$H$282"]
["pp3_bl4_9_1_total",{"$f":"'T2-B(PP3)'!$J$282","v":0},"#'T2-B(PP3)'!$J$282"]
["pp3_bl4_9_1_total_in",{"$f":"'T2-B(PP3)'!$F$282","v":0},"#'T2-B(PP3)'!$F$282"]
["pp3_bl4_9_1_total_out",{"$f":"'T2-B(PP3)'!$I$282","v":0},"#'T2-B(PP3)'!$I$282"]
["pp3_bl4_9_1_unit",{"$f":"'T2-B(PP3)'!$C$282","v":0},"#'T2-B(PP3)'!$C$282"]
["pp3_bl4_9_1_unit_in",{"$f":"'T2-B(PP3)'!$D$282","v":0},"#'T2-B(PP3)'!$D$282"]
["pp3_bl4_9_1_units_out",{"$f":"'T2-B(PP3)'!$G$282","v":0},"#'T2-B(PP3)'!$G$282"]
["pp3_bl4_9_10_name",{"$f":"'T2-B(PP3)'!$B$291","v":0},"#'T2-B(PP3)'!$B$291"]
["pp3_bl4_9_10_rate_in",{"$f":"'T2-B(PP3)'!$E$291","v":0},"#'T2-B(PP3)'!$E$291"]
["pp3_bl4_9_10_rate_out",{"$f":"'T2-B(PP3)'!$H$291","v":0},"#'T2-B(PP3)'!$H$291"]
["pp3_bl4_9_10_total",{"$f":"'T2-B(PP3)'!$J$291","v":0},"#'T2-B(PP3)'!$J$291"]
["pp3_bl4_9_10_total_in",{"$f":"'T2-B(PP3)'!$F$291","v":0},"#'T2-B(PP3)'!$F$291"]
["pp3_bl4_9_10_total_out",{"$f":"'T2-B(PP3)'!$I$291","v":0},"#'T2-B(PP3)'!$I$291"]
["pp3_bl4_9_10_unit",{"$f":"'T2-B(PP3)'!$C$291","v":0},"#'T2-B(PP3)'!$C$291"]
["pp3_bl4_9_10_unit_in",{"$f":"'T2-B(PP3)'!$D$291","v":0},"#'T2-B(PP3)'!$D$291"]
["pp3_bl4_9_10_units_out",{"$f":"'T2-B(PP3)'!$G$291","v":0},"#'T2-B(PP3)'!$G$291"]
["pp3_bl4_9_2_name",{"$f":"'T2-B(PP3)'!$B$283","v":0},"#'T2-B(PP3)'!$B$283"]
["pp3_bl4_9_2_rate_in",{"$f":"'T2-B(PP3)'!$E$283","v":0},"#'T2-B(PP3)'!$E$283"]
["pp3_bl4_9_2_rate_out",{"$f":"'T2-B(PP3)'!$H$283","v":0},"#'T2-B(PP3)'!$H$283"]
["pp3_bl4_9_2_total",{"$f":"'T2-B(PP3)'!$J$283","v":0},"#'T2-B(PP3)'!$J$283"]
["pp3_bl4_9_2_total_in",{"$f":"'T2-B(PP3)'!$F$283","v":0},"#'T2-B(PP3)'!$F$283"]
["pp3_bl4_9_2_total_out",{"$f":"'T2-B(PP3)'!$I$283","v":0},"#'T2-B(PP3)'!$I$283"]
["pp3_bl4_9_2_unit",{"$f":"'T2-B(PP3)'!$C$283","v":0},"#'T2-B(PP3)'!$C$283"]
["pp3_bl4_9_2_unit_in",{"$f":"'T2-B(PP3)'!$D$283","v":0},"#'T2-B(PP3)'!$D$283"]
["pp3_bl4_9_2_units_out",{"$f":"'T2-B(PP3)'!$G$283","v":0},"#'T2-B(PP3)'!$G$283"]
["pp3_bl4_9_3_name",{"$f":"'T2-B(PP3)'!$B$284","v":0},"#'T2-B(PP3)'!$B$284"]
["pp3_bl4_9_3_rate_in",{"$f":"'T2-B(PP3)'!$E$284","v":0},"#'T2-B(PP3)'!$E$284"]
["pp3_bl4_9_3_rate_out",{"$f":"'T2-B(PP3)'!$H$284","v":0},"#'T2-B(PP3)'!$H$284"]
["pp3_bl4_9_3_total",{"$f":"'T2-B(PP3)'!$J$284","v":0},"#'T2-B(PP3)'!$J$284"]
["pp3_bl4_9_3_total_in",{"$f":"'T2-B(PP3)'!$F$284","v":0},"#'T2-B(PP3)'!$F$284"]
["pp3_bl4_9_3_total_out",{"$f":"'T2-B(PP3)'!$I$284","v":0},"#'T2-B(PP3)'!$I$284"]
["pp3_bl4_9_3_unit",{"$f":"'T2-B(PP3)'!$C$284","v":0},"#'T2-B(PP3)'!$C$284"]
["pp3_bl4_9_3_unit_in",{"$f":"'T2-B(PP3)'!$D$284","v":0},"#'T2-B(PP3)'!$D$284"]
["pp3_bl4_9_3_units_out",{"$f":"'T2-B(PP3)'!$G$284","v":0},"#'T2-B(PP3)'!$G$284"]
["pp3_bl4_9_4_name",{"$f":"'T2-B(PP3)'!$B$285","v":0},"#'T2-B(PP3)'!$B$285"]
["pp3_bl4_9_4_rate_in",{"$f":"'T2-B(PP3)'!$E$285","v":0},"#'T2-B(PP3)'!$E$285"]
["pp3_bl4_9_4_rate_out",{"$f":"'T2-B(PP3)'!$H$285","v":0},"#'T2-B(PP3)'!$H$285"]
["pp3_bl4_9_4_total",{"$f":"'T2-B(PP3)'!$J$285","v":0},"#'T2-B(PP3)'!$J$285"]
["pp3_bl4_9_4_total_in",{"$f":"'T2-B(PP3)'!$F$285","v":0},"#'T2-B(PP3)'!$F$285"]
["pp3_bl4_9_4_total_out",{"$f":"'T2-B(PP3)'!$I$285","v":0},"#'T2-B(PP3)'!$I$285"]
["pp3_bl4_9_4_unit",{"$f":"'T2-B(PP3)'!$C$285","v":0},"#'T2-B(PP3)'!$C$285"]
["pp3_bl4_9_4_unit_in",{"$f":"'T2-B(PP3)'!$D$285","v":0},"#'T2-B(PP3)'!$D$285"]
["pp3_bl4_9_4_units_out",{"$f":"'T2-B(PP3)'!$G$285","v":0},"#'T2-B(PP3)'!$G$285"]
["pp3_bl4_9_5_name",{"$f":"'T2-B(PP3)'!$B$286","v":0},"#'T2-B(PP3)'!$B$286"]
["pp3_bl4_9_5_rate_in",{"$f":"'T2-B(PP3)'!$E$286","v":0},"#'T2-B(PP3)'!$E$286"]
["pp3_bl4_9_5_rate_out",{"$f":"'T2-B(PP3)'!$H$286","v":0},"#'T2-B(PP3)'!$H$286"]
["pp3_bl4_9_5_total",{"$f":"'T2-B(PP3)'!$J$286","v":0},"#'T2-B(PP3)'!$J$286"]
["pp3_bl4_9_5_total_in",{"$f":"'T2-B(PP3)'!$F$286","v":0},"#'T2-B(PP3)'!$F$286"]
["pp3_bl4_9_5_total_out",{"$f":"'T2-B(PP3)'!$I$286","v":0},"#'T2-B(PP3)'!$I$286"]
["pp3_bl4_9_5_unit",{"$f":"'T2-B(PP3)'!$C$286","v":0},"#'T2-B(PP3)'!$C$286"]
["pp3_bl4_9_5_unit_in",{"$f":"'T2-B(PP3)'!$D$286","v":0},"#'T2-B(PP3)'!$D$286"]
["pp3_bl4_9_5_units_out",{"$f":"'T2-B(PP3)'!$G$286","v":0},"#'T2-B(PP3)'!$G$286"]
["pp3_bl4_9_6_name",{"$f":"'T2-B(PP3)'!$B$287","v":0},"#'T2-B(PP3)'!$B$287"]
["pp3_bl4_9_6_rate_in",{"$f":"'T2-B(PP3)'!$E$287","v":0},"#'T2-B(PP3)'!$E$287"]
["pp3_bl4_9_6_rate_out",{"$f":"'T2-B(PP3)'!$H$287","v":0},"#'T2-B(PP3)'!$H$287"]
["pp3_bl4_9_6_total",{"$f":"'T2-B(PP3)'!$J$287","v":0},"#'T2-B(PP3)'!$J$287"]
["pp3_bl4_9_6_total_in",{"$f":"'T2-B(PP3)'!$F$287","v":0},"#'T2-B(PP3)'!$F$287"]
["pp3_bl4_9_6_total_out",{"$f":"'T2-B(PP3)'!$I$287","v":0},"#'T2-B(PP3)'!$I$287"]
["pp3_bl4_9_6_unit",{"$f":"'T2-B(PP3)'!$C$287","v":0},"#'T2-B(PP3)'!$C$287"]
["pp3_bl4_9_6_unit_in",{"$f":"'T2-B(PP3)'!$D$287","v":0},"#'T2-B(PP3)'!$D$287"]
["pp3_bl4_9_6_units_out",{"$f":"'T2-B(PP3)'!$G$287","v":0},"#'T2-B(PP3)'!$G$287"]
["pp3_bl4_9_7_name",{"$f":"'T2-B(PP3)'!$B$288","v":0},"#'T2-B(PP3)'!$B$288"]
["pp3_bl4_9_7_rate_in",{"$f":"'T2-B(PP3)'!$E$288","v":0},"#'T2-B(PP3)'!$E$288"]
["pp3_bl4_9_7_rate_out",{"$f":"'T2-B(PP3)'!$H$288","v":0},"#'T2-B(PP3)'!$H$288"]
["pp3_bl4_9_7_total",{"$f":"'T2-B(PP3)'!$J$288","v":0},"#'T2-B(PP3)'!$J$288"]
["pp3_bl4_9_7_total_in",{"$f":"'T2-B(PP3)'!$F$288","v":0},"#'T2-B(PP3)'!$F$288"]
["pp3_bl4_9_7_total_out",{"$f":"'T2-B(PP3)'!$I$288","v":0},"#'T2-B(PP3)'!$I$288"]
["pp3_bl4_9_7_unit",{"$f":"'T2-B(PP3)'!$C$288","v":0},"#'T2-B(PP3)'!$C$288"]
["pp3_bl4_9_7_unit_in",{"$f":"'T2-B(PP3)'!$D$288","v":0},"#'T2-B(PP3)'!$D$288"]
["pp3_bl4_9_7_units_out",{"$f":"'T2-B(PP3)'!$G$288","v":0},"#'T2-B(PP3)'!$G$288"]
["pp3_bl4_9_8_name",{"$f":"'T2-B(PP3)'!$B$289","v":0},"#'T2-B(PP3)'!$B$289"]
["pp3_bl4_9_8_rate_in",{"$f":"'T2-B(PP3)'!$E$289","v":0},"#'T2-B(PP3)'!$E$289"]
["pp3_bl4_9_8_rate_out",{"$f":"'T2-B(PP3)'!$H$289","v":0},"#'T2-B(PP3)'!$H$289"]
["pp3_bl4_9_8_total",{"$f":"'T2-B(PP3)'!$J$289","v":0},"#'T2-B(PP3)'!$J$289"]
["pp3_bl4_9_8_total_in",{"$f":"'T2-B(PP3)'!$F$289","v":0},"#'T2-B(PP3)'!$F$289"]
["pp3_bl4_9_8_total_out",{"$f":"'T2-B(PP3)'!$I$289","v":0},"#'T2-B(PP3)'!$I$289"]
["pp3_bl4_9_8_unit",{"$f":"'T2-B(PP3)'!$C$289","v":0},"#'T2-B(PP3)'!$C$289"]
["pp3_bl4_9_8_unit_in",{"$f":"'T2-B(PP3)'!$D$289","v":0},"#'T2-B(PP3)'!$D$289"]
["pp3_bl4_9_8_units_out",{"$f":"'T2-B(PP3)'!$G$289","v":0},"#'T2-B(PP3)'!$G$289"]
["pp3_bl4_9_9_name",{"$f":"'T2-B(PP3)'!$B$290","v":0},"#'T2-B(PP3)'!$B$290"]
["pp3_bl4_9_9_rate_in",{"$f":"'T2-B(PP3)'!$E$290","v":0},"#'T2-B(PP3)'!$E$290"]
["pp3_bl4_9_9_rate_out",{"$f":"'T2-B(PP3)'!$H$290","v":0},"#'T2-B(PP3)'!$H$290"]
["pp3_bl4_9_9_total",{"$f":"'T2-B(PP3)'!$J$290","v":0},"#'T2-B(PP3)'!$J$290"]
["pp3_bl4_9_9_total_in",{"$f":"'T2-B(PP3)'!$F$290","v":0},"#'T2-B(PP3)'!$F$290"]
["pp3_bl4_9_9_total_out",{"$f":"'T2-B(PP3)'!$I$290","v":0},"#'T2-B(PP3)'!$I$290"]
["pp3_bl4_9_9_unit",{"$f":"'T2-B(PP3)'!$C$290","v":0},"#'T2-B(PP3)'!$C$290"]
["pp3_bl4_9_9_unit_in",{"$f":"'T2-B(PP3)'!$D$290","v":0},"#'T2-B(PP3)'!$D$290"]
["pp3_bl4_9_9_units_out",{"$f":"'T2-B(PP3)'!$G$290","v":0},"#'T2-B(PP3)'!$G$290"]
["pp3_bl4_9_total",{"$f":"'T2-B(PP3)'!$J$281","v":0},"#'T2-B(PP3)'!$J$281"]
["pp3_bl4_9_total_in",{"$f":"'T2-B(PP3)'!$F$281","v":0},"#'T2-B(PP3)'!$F$281"]
["pp3_bl4_9_total_out",{"$f":"'T2-B(PP3)'!$I$281","v":0},"#'T2-B(PP3)'!$I$281"]
["pp3_bl4_total",{"$f":"'T2-B(PP3)'!$J$365","v":0},"#'T2-B(PP3)'!$J$365"]
["pp3_bl4_total_in",{"$f":"'T2-B(PP3)'!$F$365","v":0},"#'T2-B(PP3)'!$F$365"]
["pp3_bl4_total_out",{"$f":"'T2-B(PP3)'!$I$365","v":0},"#'T2-B(PP3)'!$I$365"]
["pp3_bl5_1_1_name",{"$f":"'T2-B(PP3)'!$B$370","v":0},"#'T2-B(PP3)'!$B$370"]
["pp3_bl5_1_1_rate_in",{"$f":"'T2-B(PP3)'!$E$370","v":0},"#'T2-B(PP3)'!$E$370"]
["pp3_bl5_1_1_rate_out",{"$f":"'T2-B(PP3)'!$H$370","v":0},"#'T2-B(PP3)'!$H$370"]
["pp3_bl5_1_1_total",{"$f":"'T2-B(PP3)'!$J$370","v":0},"#'T2-B(PP3)'!$J$370"]
["pp3_bl5_1_1_total_in",{"$f":"'T2-B(PP3)'!$F$370","v":0},"#'T2-B(PP3)'!$F$370"]
["pp3_bl5_1_1_total_out",{"$f":"'T2-B(PP3)'!$I$370","v":0},"#'T2-B(PP3)'!$I$370"]
["pp3_bl5_1_1_unit",{"$f":"'T2-B(PP3)'!$C$370","v":0},"#'T2-B(PP3)'!$C$370"]
["pp3_bl5_1_1_unit_in",{"$f":"'T2-B(PP3)'!$D$370","v":0},"#'T2-B(PP3)'!$D$370"]
["pp3_bl5_1_1_units_out",{"$f":"'T2-B(PP3)'!$G$370","v":0},"#'T2-B(PP3)'!$G$370"]
["pp3_bl5_1_10_name",{"$f":"'T2-B(PP3)'!$B$379","v":0},"#'T2-B(PP3)'!$B$379"]
["pp3_bl5_1_10_rate_in",{"$f":"'T2-B(PP3)'!$E$379","v":0},"#'T2-B(PP3)'!$E$379"]
["pp3_bl5_1_10_rate_out",{"$f":"'T2-B(PP3)'!$H$379","v":0},"#'T2-B(PP3)'!$H$379"]
["pp3_bl5_1_10_total",{"$f":"'T2-B(PP3)'!$J$379","v":0},"#'T2-B(PP3)'!$J$379"]
["pp3_bl5_1_10_total_in",{"$f":"'T2-B(PP3)'!$F$379","v":0},"#'T2-B(PP3)'!$F$379"]
["pp3_bl5_1_10_total_out",{"$f":"'T2-B(PP3)'!$I$379","v":0},"#'T2-B(PP3)'!$I$379"]
["pp3_bl5_1_10_unit",{"$f":"'T2-B(PP3)'!$C$379","v":0},"#'T2-B(PP3)'!$C$379"]
["pp3_bl5_1_10_unit_in",{"$f":"'T2-B(PP3)'!$D$379","v":0},"#'T2-B(PP3)'!$D$379"]
["pp3_bl5_1_10_units_out",{"$f":"'T2-B(PP3)'!$G$379","v":0},"#'T2-B(PP3)'!$G$379"]
["pp3_bl5_1_2_name",{"$f":"'T2-B(PP3)'!$B$371","v":0},"#'T2-B(PP3)'!$B$371"]
["pp3_bl5_1_2_rate_in",{"$f":"'T2-B(PP3)'!$E$371","v":0},"#'T2-B(PP3)'!$E$371"]
["pp3_bl5_1_2_rate_out",{"$f":"'T2-B(PP3)'!$H$371","v":0},"#'T2-B(PP3)'!$H$371"]
["pp3_bl5_1_2_total",{"$f":"'T2-B(PP3)'!$J$371","v":0},"#'T2-B(PP3)'!$J$371"]
["pp3_bl5_1_2_total_in",{"$f":"'T2-B(PP3)'!$F$371","v":0},"#'T2-B(PP3)'!$F$371"]
["pp3_bl5_1_2_total_out",{"$f":"'T2-B(PP3)'!$I$371","v":0},"#'T2-B(PP3)'!$I$371"]
["pp3_bl5_1_2_unit",{"$f":"'T2-B(PP3)'!$C$371","v":0},"#'T2-B(PP3)'!$C$371"]
["pp3_bl5_1_2_unit_in",{"$f":"'T2-B(PP3)'!$D$371","v":0},"#'T2-B(PP3)'!$D$371"]
["pp3_bl5_1_2_units_out",{"$f":"'T2-B(PP3)'!$G$371","v":0},"#'T2-B(PP3)'!$G$371"]
["pp3_bl5_1_3_name",{"$f":"'T2-B(PP3)'!$B$372","v":0},"#'T2-B(PP3)'!$B$372"]
["pp3_bl5_1_3_rate_in",{"$f":"'T2-B(PP3)'!$E$372","v":0},"#'T2-B(PP3)'!$E$372"]
["pp3_bl5_1_3_rate_out",{"$f":"'T2-B(PP3)'!$H$372","v":0},"#'T2-B(PP3)'!$H$372"]
["pp3_bl5_1_3_total",{"$f":"'T2-B(PP3)'!$J$372","v":0},"#'T2-B(PP3)'!$J$372"]
["pp3_bl5_1_3_total_in",{"$f":"'T2-B(PP3)'!$F$372","v":0},"#'T2-B(PP3)'!$F$372"]
["pp3_bl5_1_3_total_out",{"$f":"'T2-B(PP3)'!$I$372","v":0},"#'T2-B(PP3)'!$I$372"]
["pp3_bl5_1_3_unit",{"$f":"'T2-B(PP3)'!$C$372","v":0},"#'T2-B(PP3)'!$C$372"]
["pp3_bl5_1_3_unit_in",{"$f":"'T2-B(PP3)'!$D$372","v":0},"#'T2-B(PP3)'!$D$372"]
["pp3_bl5_1_3_units_out",{"$f":"'T2-B(PP3)'!$G$372","v":0},"#'T2-B(PP3)'!$G$372"]
["pp3_bl5_1_4_name",{"$f":"'T2-B(PP3)'!$B$373","v":0},"#'T2-B(PP3)'!$B$373"]
["pp3_bl5_1_4_rate_in",{"$f":"'T2-B(PP3)'!$E$373","v":0},"#'T2-B(PP3)'!$E$373"]
["pp3_bl5_1_4_rate_out",{"$f":"'T2-B(PP3)'!$H$373","v":0},"#'T2-B(PP3)'!$H$373"]
["pp3_bl5_1_4_total",{"$f":"'T2-B(PP3)'!$J$373","v":0},"#'T2-B(PP3)'!$J$373"]
["pp3_bl5_1_4_total_in",{"$f":"'T2-B(PP3)'!$F$373","v":0},"#'T2-B(PP3)'!$F$373"]
["pp3_bl5_1_4_total_out",{"$f":"'T2-B(PP3)'!$I$373","v":0},"#'T2-B(PP3)'!$I$373"]
["pp3_bl5_1_4_unit",{"$f":"'T2-B(PP3)'!$C$373","v":0},"#'T2-B(PP3)'!$C$373"]
["pp3_bl5_1_4_unit_in",{"$f":"'T2-B(PP3)'!$D$373","v":0},"#'T2-B(PP3)'!$D$373"]
["pp3_bl5_1_4_units_out",{"$f":"'T2-B(PP3)'!$G$373","v":0},"#'T2-B(PP3)'!$G$373"]
["pp3_bl5_1_5_name",{"$f":"'T2-B(PP3)'!$B$374","v":0},"#'T2-B(PP3)'!$B$374"]
["pp3_bl5_1_5_rate_in",{"$f":"'T2-B(PP3)'!$E$374","v":0},"#'T2-B(PP3)'!$E$374"]
["pp3_bl5_1_5_rate_out",{"$f":"'T2-B(PP3)'!$H$374","v":0},"#'T2-B(PP3)'!$H$374"]
["pp3_bl5_1_5_total",{"$f":"'T2-B(PP3)'!$J$374","v":0},"#'T2-B(PP3)'!$J$374"]
["pp3_bl5_1_5_total_in",{"$f":"'T2-B(PP3)'!$F$374","v":0},"#'T2-B(PP3)'!$F$374"]
["pp3_bl5_1_5_total_out",{"$f":"'T2-B(PP3)'!$I$374","v":0},"#'T2-B(PP3)'!$I$374"]
["pp3_bl5_1_5_unit",{"$f":"'T2-B(PP3)'!$C$374","v":0},"#'T2-B(PP3)'!$C$374"]
["pp3_bl5_1_5_unit_in",{"$f":"'T2-B(PP3)'!$D$374","v":0},"#'T2-B(PP3)'!$D$374"]
["pp3_bl5_1_5_units_out",{"$f":"'T2-B(PP3)'!$G$374","v":0},"#'T2-B(PP3)'!$G$374"]
["pp3_bl5_1_6_name",{"$f":"'T2-B(PP3)'!$B$375","v":0},"#'T2-B(PP3)'!$B$375"]
["pp3_bl5_1_6_rate_in",{"$f":"'T2-B(PP3)'!$E$375","v":0},"#'T2-B(PP3)'!$E$375"]
["pp3_bl5_1_6_rate_out",{"$f":"'T2-B(PP3)'!$H$375","v":0},"#'T2-B(PP3)'!$H$375"]
["pp3_bl5_1_6_total",{"$f":"'T2-B(PP3)'!$J$375","v":0},"#'T2-B(PP3)'!$J$375"]
["pp3_bl5_1_6_total_in",{"$f":"'T2-B(PP3)'!$F$375","v":0},"#'T2-B(PP3)'!$F$375"]
["pp3_bl5_1_6_total_out",{"$f":"'T2-B(PP3)'!$I$375","v":0},"#'T2-B(PP3)'!$I$375"]
["pp3_bl5_1_6_unit",{"$f":"'T2-B(PP3)'!$C$375","v":0},"#'T2-B(PP3)'!$C$375"]
["pp3_bl5_1_6_unit_in",{"$f":"'T2-B(PP3)'!$D$375","v":0},"#'T2-B(PP3)'!$D$375"]
["pp3_bl5_1_6_units_out",{"$f":"'T2-B(PP3)'!$G$375","v":0},"#'T2-B(PP3)'!$G$375"]
["pp3_bl5_1_7_name",{"$f":"'T2-B(PP3)'!$B$376","v":0},"#'T2-B(PP3)'!$B$376"]
["pp3_bl5_1_7_rate_in",{"$f":"'T2-B(PP3)'!$E$376","v":0},"#'T2-B(PP3)'!$E$376"]
["pp3_bl5_1_7_rate_out",{"$f":"'T2-B(PP3)'!$H$376","v":0},"#'T2-B(PP3)'!$H$376"]
["pp3_bl5_1_7_total",{"$f":"'T2-B(PP3)'!$J$376","v":0},"#'T2-B(PP3)'!$J$376"]
["pp3_bl5_1_7_total_in",{"$f":"'T2-B(PP3)'!$F$376","v":0},"#'T2-B(PP3)'!$F$376"]
["pp3_bl5_1_7_total_out",{"$f":"'T2-B(PP3)'!$I$376","v":0},"#'T2-B(PP3)'!$I$376"]
["pp3_bl5_1_7_unit",{"$f":"'T2-B(PP3)'!$C$376","v":0},"#'T2-B(PP3)'!$C$376"]
["pp3_bl5_1_7_unit_in",{"$f":"'T2-B(PP3)'!$D$376","v":0},"#'T2-B(PP3)'!$D$376"]
["pp3_bl5_1_7_units_out",{"$f":"'T2-B(PP3)'!$G$376","v":0},"#'T2-B(PP3)'!$G$376"]
["pp3_bl5_1_8_name",{"$f":"'T2-B(PP3)'!$B$377","v":0},"#'T2-B(PP3)'!$B$377"]
["pp3_bl5_1_8_rate_in",{"$f":"'T2-B(PP3)'!$E$377","v":0},"#'T2-B(PP3)'!$E$377"]
["pp3_bl5_1_8_rate_out",{"$f":"'T2-B(PP3)'!$H$377","v":0},"#'T2-B(PP3)'!$H$377"]
["pp3_bl5_1_8_total",{"$f":"'T2-B(PP3)'!$J$377","v":0},"#'T2-B(PP3)'!$J$377"]
["pp3_bl5_1_8_total_in",{"$f":"'T2-B(PP3)'!$F$377","v":0},"#'T2-B(PP3)'!$F$377"]
["pp3_bl5_1_8_total_out",{"$f":"'T2-B(PP3)'!$I$377","v":0},"#'T2-B(PP3)'!$I$377"]
["pp3_bl5_1_8_unit",{"$f":"'T2-B(PP3)'!$C$377","v":0},"#'T2-B(PP3)'!$C$377"]
["pp3_bl5_1_8_unit_in",{"$f":"'T2-B(PP3)'!$D$377","v":0},"#'T2-B(PP3)'!$D$377"]
["pp3_bl5_1_8_units_out",{"$f":"'T2-B(PP3)'!$G$377","v":0},"#'T2-B(PP3)'!$G$377"]
["pp3_bl5_1_9_name",{"$f":"'T2-B(PP3)'!$B$378","v":0},"#'T2-B(PP3)'!$B$378"]
["pp3_bl5_1_9_rate_in",{"$f":"'T2-B(PP3)'!$E$378","v":0},"#'T2-B(PP3)'!$E$378"]
["pp3_bl5_1_9_rate_out",{"$f":"'T2-B(PP3)'!$H$378","v":0},"#'T2-B(PP3)'!$H$378"]
["pp3_bl5_1_9_total",{"$f":"'T2-B(PP3)'!$J$378","v":0},"#'T2-B(PP3)'!$J$378"]
["pp3_bl5_1_9_total_in",{"$f":"'T2-B(PP3)'!$F$378","v":0},"#'T2-B(PP3)'!$F$378"]
["pp3_bl5_1_9_total_out",{"$f":"'T2-B(PP3)'!$I$378","v":0},"#'T2-B(PP3)'!$I$378"]
["pp3_bl5_1_9_unit",{"$f":"'T2-B(PP3)'!$C$378","v":0},"#'T2-B(PP3)'!$C$378"]
["pp3_bl5_1_9_unit_in",{"$f":"'T2-B(PP3)'!$D$378","v":0},"#'T2-B(PP3)'!$D$378"]
["pp3_bl5_1_9_units_out",{"$f":"'T2-B(PP3)'!$G$378","v":0},"#'T2-B(PP3)'!$G$378"]
["pp3_bl5_1_total",{"$f":"'T2-B(PP3)'!$J$369","v":0},"#'T2-B(PP3)'!$J$369"]
["pp3_bl5_1_total_in",{"$f":"'T2-B(PP3)'!$F$369","v":0},"#'T2-B(PP3)'!$F$369"]
["pp3_bl5_1_total_out",{"$f":"'T2-B(PP3)'!$I$369","v":0},"#'T2-B(PP3)'!$I$369"]
["pp3_bl5_2_1_name",{"$f":"'T2-B(PP3)'!$B$391","v":0},"#'T2-B(PP3)'!$B$391"]
["pp3_bl5_2_1_rate_in",{"$f":"'T2-B(PP3)'!$E$391","v":0},"#'T2-B(PP3)'!$E$391"]
["pp3_bl5_2_1_rate_out",{"$f":"'T2-B(PP3)'!$H$391","v":0},"#'T2-B(PP3)'!$H$391"]
["pp3_bl5_2_1_total",{"$f":"'T2-B(PP3)'!$J$391","v":0},"#'T2-B(PP3)'!$J$391"]
["pp3_bl5_2_1_total_in",{"$f":"'T2-B(PP3)'!$F$391","v":0},"#'T2-B(PP3)'!$F$391"]
["pp3_bl5_2_1_total_out",{"$f":"'T2-B(PP3)'!$I$391","v":0},"#'T2-B(PP3)'!$I$391"]
["pp3_bl5_2_1_unit",{"$f":"'T2-B(PP3)'!$C$391","v":0},"#'T2-B(PP3)'!$C$391"]
["pp3_bl5_2_1_unit_in",{"$f":"'T2-B(PP3)'!$D$391","v":0},"#'T2-B(PP3)'!$D$391"]
["pp3_bl5_2_1_units_out",{"$f":"'T2-B(PP3)'!$G$391","v":0},"#'T2-B(PP3)'!$G$391"]
["pp3_bl5_2_10_name",{"$f":"'T2-B(PP3)'!$B$400","v":0},"#'T2-B(PP3)'!$B$400"]
["pp3_bl5_2_10_rate_in",{"$f":"'T2-B(PP3)'!$E$400","v":0},"#'T2-B(PP3)'!$E$400"]
["pp3_bl5_2_10_rate_out",{"$f":"'T2-B(PP3)'!$H$400","v":0},"#'T2-B(PP3)'!$H$400"]
["pp3_bl5_2_10_total",{"$f":"'T2-B(PP3)'!$J$400","v":0},"#'T2-B(PP3)'!$J$400"]
["pp3_bl5_2_10_total_in",{"$f":"'T2-B(PP3)'!$F$400","v":0},"#'T2-B(PP3)'!$F$400"]
["pp3_bl5_2_10_total_out",{"$f":"'T2-B(PP3)'!$I$400","v":0},"#'T2-B(PP3)'!$I$400"]
["pp3_bl5_2_10_unit",{"$f":"'T2-B(PP3)'!$C$400","v":0},"#'T2-B(PP3)'!$C$400"]
["pp3_bl5_2_10_unit_in",{"$f":"'T2-B(PP3)'!$D$400","v":0},"#'T2-B(PP3)'!$D$400"]
["pp3_bl5_2_10_units_out",{"$f":"'T2-B(PP3)'!$G$400","v":0},"#'T2-B(PP3)'!$G$400"]
["pp3_bl5_2_2_name",{"$f":"'T2-B(PP3)'!$B$392","v":0},"#'T2-B(PP3)'!$B$392"]
["pp3_bl5_2_2_rate_in",{"$f":"'T2-B(PP3)'!$E$392","v":0},"#'T2-B(PP3)'!$E$392"]
["pp3_bl5_2_2_rate_out",{"$f":"'T2-B(PP3)'!$H$392","v":0},"#'T2-B(PP3)'!$H$392"]
["pp3_bl5_2_2_total",{"$f":"'T2-B(PP3)'!$J$392","v":0},"#'T2-B(PP3)'!$J$392"]
["pp3_bl5_2_2_total_in",{"$f":"'T2-B(PP3)'!$F$392","v":0},"#'T2-B(PP3)'!$F$392"]
["pp3_bl5_2_2_total_out",{"$f":"'T2-B(PP3)'!$I$392","v":0},"#'T2-B(PP3)'!$I$392"]
["pp3_bl5_2_2_unit",{"$f":"'T2-B(PP3)'!$C$392","v":0},"#'T2-B(PP3)'!$C$392"]
["pp3_bl5_2_2_unit_in",{"$f":"'T2-B(PP3)'!$D$392","v":0},"#'T2-B(PP3)'!$D$392"]
["pp3_bl5_2_2_units_out",{"$f":"'T2-B(PP3)'!$G$392","v":0},"#'T2-B(PP3)'!$G$392"]
["pp3_bl5_2_3_name",{"$f":"'T2-B(PP3)'!$B$393","v":0},"#'T2-B(PP3)'!$B$393"]
["pp3_bl5_2_3_rate_in",{"$f":"'T2-B(PP3)'!$E$393","v":0},"#'T2-B(PP3)'!$E$393"]
["pp3_bl5_2_3_rate_out",{"$f":"'T2-B(PP3)'!$H$393","v":0},"#'T2-B(PP3)'!$H$393"]
["pp3_bl5_2_3_total",{"$f":"'T2-B(PP3)'!$J$393","v":0},"#'T2-B(PP3)'!$J$393"]
["pp3_bl5_2_3_total_in",{"$f":"'T2-B(PP3)'!$F$393","v":0},"#'T2-B(PP3)'!$F$393"]
["pp3_bl5_2_3_total_out",{"$f":"'T2-B(PP3)'!$I$393","v":0},"#'T2-B(PP3)'!$I$393"]
["pp3_bl5_2_3_unit",{"$f":"'T2-B(PP3)'!$C$393","v":0},"#'T2-B(PP3)'!$C$393"]
["pp3_bl5_2_3_unit_in",{"$f":"'T2-B(PP3)'!$D$393","v":0},"#'T2-B(PP3)'!$D$393"]
["pp3_bl5_2_3_units_out",{"$f":"'T2-B(PP3)'!$G$393","v":0},"#'T2-B(PP3)'!$G$393"]
["pp3_bl5_2_4_name",{"$f":"'T2-B(PP3)'!$B$394","v":0},"#'T2-B(PP3)'!$B$394"]
["pp3_bl5_2_4_rate_in",{"$f":"'T2-B(PP3)'!$E$394","v":0},"#'T2-B(PP3)'!$E$394"]
["pp3_bl5_2_4_rate_out",{"$f":"'T2-B(PP3)'!$H$394","v":0},"#'T2-B(PP3)'!$H$394"]
["pp3_bl5_2_4_total",{"$f":"'T2-B(PP3)'!$J$394","v":0},"#'T2-B(PP3)'!$J$394"]
["pp3_bl5_2_4_total_in",{"$f":"'T2-B(PP3)'!$F$394","v":0},"#'T2-B(PP3)'!$F$394"]
["pp3_bl5_2_4_total_out",{"$f":"'T2-B(PP3)'!$I$394","v":0},"#'T2-B(PP3)'!$I$394"]
["pp3_bl5_2_4_unit",{"$f":"'T2-B(PP3)'!$C$394","v":0},"#'T2-B(PP3)'!$C$394"]
["pp3_bl5_2_4_unit_in",{"$f":"'T2-B(PP3)'!$D$394","v":0},"#'T2-B(PP3)'!$D$394"]
["pp3_bl5_2_4_units_out",{"$f":"'T2-B(PP3)'!$G$394","v":0},"#'T2-B(PP3)'!$G$394"]
["pp3_bl5_2_5_name",{"$f":"'T2-B(PP3)'!$B$395","v":0},"#'T2-B(PP3)'!$B$395"]
["pp3_bl5_2_5_rate_in",{"$f":"'T2-B(PP3)'!$E$395","v":0},"#'T2-B(PP3)'!$E$395"]
["pp3_bl5_2_5_rate_out",{"$f":"'T2-B(PP3)'!$H$395","v":0},"#'T2-B(PP3)'!$H$395"]
["pp3_bl5_2_5_total",{"$f":"'T2-B(PP3)'!$J$395","v":0},"#'T2-B(PP3)'!$J$395"]
["pp3_bl5_2_5_total_in",{"$f":"'T2-B(PP3)'!$F$395","v":0},"#'T2-B(PP3)'!$F$395"]
["pp3_bl5_2_5_total_out",{"$f":"'T2-B(PP3)'!$I$395","v":0},"#'T2-B(PP3)'!$I$395"]
["pp3_bl5_2_5_unit",{"$f":"'T2-B(PP3)'!$C$395","v":0},"#'T2-B(PP3)'!$C$395"]
["pp3_bl5_2_5_unit_in",{"$f":"'T2-B(PP3)'!$D$395","v":0},"#'T2-B(PP3)'!$D$395"]
["pp3_bl5_2_5_units_out",{"$f":"'T2-B(PP3)'!$G$395","v":0},"#'T2-B(PP3)'!$G$395"]
["pp3_bl5_2_6_name",{"$f":"'T2-B(PP3)'!$B$396","v":0},"#'T2-B(PP3)'!$B$396"]
["pp3_bl5_2_6_rate_in",{"$f":"'T2-B(PP3)'!$E$396","v":0},"#'T2-B(PP3)'!$E$396"]
["pp3_bl5_2_6_rate_out",{"$f":"'T2-B(PP3)'!$H$396","v":0},"#'T2-B(PP3)'!$H$396"]
["pp3_bl5_2_6_total",{"$f":"'T2-B(PP3)'!$J$396","v":0},"#'T2-B(PP3)'!$J$396"]
["pp3_bl5_2_6_total_in",{"$f":"'T2-B(PP3)'!$F$396","v":0},"#'T2-B(PP3)'!$F$396"]
["pp3_bl5_2_6_total_out",{"$f":"'T2-B(PP3)'!$I$396","v":0},"#'T2-B(PP3)'!$I$396"]
["pp3_bl5_2_6_unit",{"$f":"'T2-B(PP3)'!$C$396","v":0},"#'T2-B(PP3)'!$C$396"]
["pp3_bl5_2_6_unit_in",{"$f":"'T2-B(PP3)'!$D$396","v":0},"#'T2-B(PP3)'!$D$396"]
["pp3_bl5_2_6_units_out",{"$f":"'T2-B(PP3)'!$G$396","v":0},"#'T2-B(PP3)'!$G$396"]
["pp3_bl5_2_7_name",{"$f":"'T2-B(PP3)'!$B$397","v":0},"#'T2-B(PP3)'!$B$397"]
["pp3_bl5_2_7_rate_in",{"$f":"'T2-B(PP3)'!$E$397","v":0},"#'T2-B(PP3)'!$E$397"]
["pp3_bl5_2_7_rate_out",{"$f":"'T2-B(PP3)'!$H$397","v":0},"#'T2-B(PP3)'!$H$397"]
["pp3_bl5_2_7_total",{"$f":"'T2-B(PP3)'!$J$397","v":0},"#'T2-B(PP3)'!$J$397"]
["pp3_bl5_2_7_total_in",{"$f":"'T2-B(PP3)'!$F$397","v":0},"#'T2-B(PP3)'!$F$397"]
["pp3_bl5_2_7_total_out",{"$f":"'T2-B(PP3)'!$I$397","v":0},"#'T2-B(PP3)'!$I$397"]
["pp3_bl5_2_7_unit",{"$f":"'T2-B(PP3)'!$C$397","v":0},"#'T2-B(PP3)'!$C$397"]
["pp3_bl5_2_7_unit_in",{"$f":"'T2-B(PP3)'!$D$397","v":0},"#'T2-B(PP3)'!$D$397"]
["pp3_bl5_2_7_units_out",{"$f":"'T2-B(PP3)'!$G$397","v":0},"#'T2-B(PP3)'!$G$397"]
["pp3_bl5_2_8_name",{"$f":"'T2-B(PP3)'!$B$398","v":0},"#'T2-B(PP3)'!$B$398"]
["pp3_bl5_2_8_rate_in",{"$f":"'T2-B(PP3)'!$E$398","v":0},"#'T2-B(PP3)'!$E$398"]
["pp3_bl5_2_8_rate_out",{"$f":"'T2-B(PP3)'!$H$398","v":0},"#'T2-B(PP3)'!$H$398"]
["pp3_bl5_2_8_total",{"$f":"'T2-B(PP3)'!$J$398","v":0},"#'T2-B(PP3)'!$J$398"]
["pp3_bl5_2_8_total_in",{"$f":"'T2-B(PP3)'!$F$398","v":0},"#'T2-B(PP3)'!$F$398"]
["pp3_bl5_2_8_total_out",{"$f":"'T2-B(PP3)'!$I$398","v":0},"#'T2-B(PP3)'!$I$398"]
["pp3_bl5_2_8_unit",{"$f":"'T2-B(PP3)'!$C$398","v":0},"#'T2-B(PP3)'!$C$398"]
["pp3_bl5_2_8_unit_in",{"$f":"'T2-B(PP3)'!$D$398","v":0},"#'T2-B(PP3)'!$D$398"]
["pp3_bl5_2_8_units_out",{"$f":"'T2-B(PP3)'!$G$398","v":0},"#'T2-B(PP3)'!$G$398"]
["pp3_bl5_2_9_name",{"$f":"'T2-B(PP3)'!$B$399","v":0},"#'T2-B(PP3)'!$B$399"]
["pp3_bl5_2_9_rate_in",{"$f":"'T2-B(PP3)'!$E$399","v":0},"#'T2-B(PP3)'!$E$399"]
["pp3_bl5_2_9_rate_out",{"$f":"'T2-B(PP3)'!$H$399","v":0},"#'T2-B(PP3)'!$H$399"]
["pp3_bl5_2_9_total",{"$f":"'T2-B(PP3)'!$J$399","v":0},"#'T2-B(PP3)'!$J$399"]
["pp3_bl5_2_9_total_in",{"$f":"'T2-B(PP3)'!$F$399","v":0},"#'T2-B(PP3)'!$F$399"]
["pp3_bl5_2_9_total_out",{"$f":"'T2-B(PP3)'!$I$399","v":0},"#'T2-B(PP3)'!$I$399"]
["pp3_bl5_2_9_unit",{"$f":"'T2-B(PP3)'!$C$399","v":0},"#'T2-B(PP3)'!$C$399"]
["pp3_bl5_2_9_unit_in",{"$f":"'T2-B(PP3)'!$D$399","v":0},"#'T2-B(PP3)'!$D$399"]
["pp3_bl5_2_9_units_out",{"$f":"'T2-B(PP3)'!$G$399","v":0},"#'T2-B(PP3)'!$G$399"]
["pp3_bl5_2_total",{"$f":"'T2-B(PP3)'!$J$390","v":0},"#'T2-B(PP3)'!$J$390"]
["pp3_bl5_2_total_in",{"$f":"'T2-B(PP3)'!$F$390","v":0},"#'T2-B(PP3)'!$F$390"]
["pp3_bl5_2_total_out",{"$f":"'T2-B(PP3)'!$I$390","v":0},"#'T2-B(PP3)'!$I$390"]
["pp3_bl5_total",{"$f":"'T2-B(PP3)'!$J$411","v":0},"#'T2-B(PP3)'!$J$411"]
["pp3_bl5_total_in",{"$f":"'T2-B(PP3)'!$F$411","v":0},"#'T2-B(PP3)'!$F$411"]
["pp3_bl5_total_out",{"$f":"'T2-B(PP3)'!$I$411","v":0},"#'T2-B(PP3)'!$I$411"]
["pp3_bl6_1_1_name",{"$f":"'T2-B(PP3)'!$B$416","v":0},"#'T2-B(PP3)'!$B$416"]
["pp3_bl6_1_1_rate_in",{"$f":"'T2-B(PP3)'!$E$416","v":0},"#'T2-B(PP3)'!$E$416"]
["pp3_bl6_1_1_rate_out",{"$f":"'T2-B(PP3)'!$H$416","v":0},"#'T2-B(PP3)'!$H$416"]
["pp3_bl6_1_1_total",{"$f":"'T2-B(PP3)'!$J$416","v":0},"#'T2-B(PP3)'!$J$416"]
["pp3_bl6_1_1_total_in",{"$f":"'T2-B(PP3)'!$F$416","v":0},"#'T2-B(PP3)'!$F$416"]
["pp3_bl6_1_1_total_out",{"$f":"'T2-B(PP3)'!$I$416","v":0},"#'T2-B(PP3)'!$I$416"]
["pp3_bl6_1_1_unit",{"$f":"'T2-B(PP3)'!$C$416","v":0},"#'T2-B(PP3)'!$C$416"]
["pp3_bl6_1_1_unit_in",{"$f":"'T2-B(PP3)'!$D$416","v":0},"#'T2-B(PP3)'!$D$416"]
["pp3_bl6_1_1_units_out",{"$f":"'T2-B(PP3)'!$G$416","v":0},"#'T2-B(PP3)'!$G$416"]
["pp3_bl6_1_10_name",{"$f":"'T2-B(PP3)'!$B$425","v":0},"#'T2-B(PP3)'!$B$425"]
["pp3_bl6_1_10_rate_in",{"$f":"'T2-B(PP3)'!$E$425","v":0},"#'T2-B(PP3)'!$E$425"]
["pp3_bl6_1_10_rate_out",{"$f":"'T2-B(PP3)'!$H$425","v":0},"#'T2-B(PP3)'!$H$425"]
["pp3_bl6_1_10_total",{"$f":"'T2-B(PP3)'!$J$425","v":0},"#'T2-B(PP3)'!$J$425"]
["pp3_bl6_1_10_total_in",{"$f":"'T2-B(PP3)'!$F$425","v":0},"#'T2-B(PP3)'!$F$425"]
["pp3_bl6_1_10_total_out",{"$f":"'T2-B(PP3)'!$I$425","v":0},"#'T2-B(PP3)'!$I$425"]
["pp3_bl6_1_10_unit",{"$f":"'T2-B(PP3)'!$C$425","v":0},"#'T2-B(PP3)'!$C$425"]
["pp3_bl6_1_10_unit_in",{"$f":"'T2-B(PP3)'!$D$425","v":0},"#'T2-B(PP3)'!$D$425"]
["pp3_bl6_1_10_units_out",{"$f":"'T2-B(PP3)'!$G$425","v":0},"#'T2-B(PP3)'!$G$425"]
["pp3_bl6_1_2_name",{"$f":"'T2-B(PP3)'!$B$417","v":0},"#'T2-B(PP3)'!$B$417"]
["pp3_bl6_1_2_rate_in",{"$f":"'T2-B(PP3)'!$E$417","v":0},"#'T2-B(PP3)'!$E$417"]
["pp3_bl6_1_2_rate_out",{"$f":"'T2-B(PP3)'!$H$417","v":0},"#'T2-B(PP3)'!$H$417"]
["pp3_bl6_1_2_total",{"$f":"'T2-B(PP3)'!$J$417","v":0},"#'T2-B(PP3)'!$J$417"]
["pp3_bl6_1_2_total_in",{"$f":"'T2-B(PP3)'!$F$417","v":0},"#'T2-B(PP3)'!$F$417"]
["pp3_bl6_1_2_total_out",{"$f":"'T2-B(PP3)'!$I$417","v":0},"#'T2-B(PP3)'!$I$417"]
["pp3_bl6_1_2_unit",{"$f":"'T2-B(PP3)'!$C$417","v":0},"#'T2-B(PP3)'!$C$417"]
["pp3_bl6_1_2_unit_in",{"$f":"'T2-B(PP3)'!$D$417","v":0},"#'T2-B(PP3)'!$D$417"]
["pp3_bl6_1_2_units_out",{"$f":"'T2-B(PP3)'!$G$417","v":0},"#'T2-B(PP3)'!$G$417"]
["pp3_bl6_1_3_name",{"$f":"'T2-B(PP3)'!$B$418","v":0},"#'T2-B(PP3)'!$B$418"]
["pp3_bl6_1_3_rate_in",{"$f":"'T2-B(PP3)'!$E$418","v":0},"#'T2-B(PP3)'!$E$418"]
["pp3_bl6_1_3_rate_out",{"$f":"'T2-B(PP3)'!$H$418","v":0},"#'T2-B(PP3)'!$H$418"]
["pp3_bl6_1_3_total",{"$f":"'T2-B(PP3)'!$J$418","v":0},"#'T2-B(PP3)'!$J$418"]
["pp3_bl6_1_3_total_in",{"$f":"'T2-B(PP3)'!$F$418","v":0},"#'T2-B(PP3)'!$F$418"]
["pp3_bl6_1_3_total_out",{"$f":"'T2-B(PP3)'!$I$418","v":0},"#'T2-B(PP3)'!$I$418"]
["pp3_bl6_1_3_unit",{"$f":"'T2-B(PP3)'!$C$418","v":0},"#'T2-B(PP3)'!$C$418"]
["pp3_bl6_1_3_unit_in",{"$f":"'T2-B(PP3)'!$D$418","v":0},"#'T2-B(PP3)'!$D$418"]
["pp3_bl6_1_3_units_out",{"$f":"'T2-B(PP3)'!$G$418","v":0},"#'T2-B(PP3)'!$G$418"]
["pp3_bl6_1_4_name",{"$f":"'T2-B(PP3)'!$B$419","v":0},"#'T2-B(PP3)'!$B$419"]
["pp3_bl6_1_4_rate_in",{"$f":"'T2-B(PP3)'!$E$419","v":0},"#'T2-B(PP3)'!$E$419"]
["pp3_bl6_1_4_rate_out",{"$f":"'T2-B(PP3)'!$H$419","v":0},"#'T2-B(PP3)'!$H$419"]
["pp3_bl6_1_4_total",{"$f":"'T2-B(PP3)'!$J$419","v":0},"#'T2-B(PP3)'!$J$419"]
["pp3_bl6_1_4_total_in",{"$f":"'T2-B(PP3)'!$F$419","v":0},"#'T2-B(PP3)'!$F$419"]
["pp3_bl6_1_4_total_out",{"$f":"'T2-B(PP3)'!$I$419","v":0},"#'T2-B(PP3)'!$I$419"]
["pp3_bl6_1_4_unit",{"$f":"'T2-B(PP3)'!$C$419","v":0},"#'T2-B(PP3)'!$C$419"]
["pp3_bl6_1_4_unit_in",{"$f":"'T2-B(PP3)'!$D$419","v":0},"#'T2-B(PP3)'!$D$419"]
["pp3_bl6_1_4_units_out",{"$f":"'T2-B(PP3)'!$G$419","v":0},"#'T2-B(PP3)'!$G$419"]
["pp3_bl6_1_5_name",{"$f":"'T2-B(PP3)'!$B$420","v":0},"#'T2-B(PP3)'!$B$420"]
["pp3_bl6_1_5_rate_in",{"$f":"'T2-B(PP3)'!$E$420","v":0},"#'T2-B(PP3)'!$E$420"]
["pp3_bl6_1_5_rate_out",{"$f":"'T2-B(PP3)'!$H$420","v":0},"#'T2-B(PP3)'!$H$420"]
["pp3_bl6_1_5_total",{"$f":"'T2-B(PP3)'!$J$420","v":0},"#'T2-B(PP3)'!$J$420"]
["pp3_bl6_1_5_total_in",{"$f":"'T2-B(PP3)'!$F$420","v":0},"#'T2-B(PP3)'!$F$420"]
["pp3_bl6_1_5_total_out",{"$f":"'T2-B(PP3)'!$I$420","v":0},"#'T2-B(PP3)'!$I$420"]
["pp3_bl6_1_5_unit",{"$f":"'T2-B(PP3)'!$C$420","v":0},"#'T2-B(PP3)'!$C$420"]
["pp3_bl6_1_5_unit_in",{"$f":"'T2-B(PP3)'!$D$420","v":0},"#'T2-B(PP3)'!$D$420"]
["pp3_bl6_1_5_units_out",{"$f":"'T2-B(PP3)'!$G$420","v":0},"#'T2-B(PP3)'!$G$420"]
["pp3_bl6_1_6_name",{"$f":"'T2-B(PP3)'!$B$421","v":0},"#'T2-B(PP3)'!$B$421"]
["pp3_bl6_1_6_rate_in",{"$f":"'T2-B(PP3)'!$E$421","v":0},"#'T2-B(PP3)'!$E$421"]
["pp3_bl6_1_6_rate_out",{"$f":"'T2-B(PP3)'!$H$421","v":0},"#'T2-B(PP3)'!$H$421"]
["pp3_bl6_1_6_total",{"$f":"'T2-B(PP3)'!$J$421","v":0},"#'T2-B(PP3)'!$J$421"]
["pp3_bl6_1_6_total_in",{"$f":"'T2-B(PP3)'!$F$421","v":0},"#'T2-B(PP3)'!$F$421"]
["pp3_bl6_1_6_total_out",{"$f":"'T2-B(PP3)'!$I$421","v":0},"#'T2-B(PP3)'!$I$421"]
["pp3_bl6_1_6_unit",{"$f":"'T2-B(PP3)'!$C$421","v":0},"#'T2-B(PP3)'!$C$421"]
["pp3_bl6_1_6_unit_in",{"$f":"'T2-B(PP3)'!$D$421","v":0},"#'T2-B(PP3)'!$D$421"]
["pp3_bl6_1_6_units_out",{"$f":"'T2-B(PP3)'!$G$421","v":0},"#'T2-B(PP3)'!$G$421"]
["pp3_bl6_1_7_name",{"$f":"'T2-B(PP3)'!$B$422","v":0},"#'T2-B(PP3)'!$B$422"]
["pp3_bl6_1_7_rate_in",{"$f":"'T2-B(PP3)'!$E$422","v":0},"#'T2-B(PP3)'!$E$422"]
["pp3_bl6_1_7_rate_out",{"$f":"'T2-B(PP3)'!$H$422","v":0},"#'T2-B(PP3)'!$H$422"]
["pp3_bl6_1_7_total",{"$f":"'T2-B(PP3)'!$J$422","v":0},"#'T2-B(PP3)'!$J$422"]
["pp3_bl6_1_7_total_in",{"$f":"'T2-B(PP3)'!$F$422","v":0},"#'T2-B(PP3)'!$F$422"]
["pp3_bl6_1_7_total_out",{"$f":"'T2-B(PP3)'!$I$422","v":0},"#'T2-B(PP3)'!$I$422"]
["pp3_bl6_1_7_unit",{"$f":"'T2-B(PP3)'!$C$422","v":0},"#'T2-B(PP3)'!$C$422"]
["pp3_bl6_1_7_unit_in",{"$f":"'T2-B(PP3)'!$D$422","v":0},"#'T2-B(PP3)'!$D$422"]
["pp3_bl6_1_7_units_out",{"$f":"'T2-B(PP3)'!$G$422","v":0},"#'T2-B(PP3)'!$G$422"]
["pp3_bl6_1_8_name",{"$f":"'T2-B(PP3)'!$B$423","v":0},"#'T2-B(PP3)'!$B$423"]
["pp3_bl6_1_8_rate_in",{"$f":"'T2-B(PP3)'!$E$423","v":0},"#'T2-B(PP3)'!$E$423"]
["pp3_bl6_1_8_rate_out",{"$f":"'T2-B(PP3)'!$H$423","v":0},"#'T2-B(PP3)'!$H$423"]
["pp3_bl6_1_8_total",{"$f":"'T2-B(PP3)'!$J$423","v":0},"#'T2-B(PP3)'!$J$423"]
["pp3_bl6_1_8_total_in",{"$f":"'T2-B(PP3)'!$F$423","v":0},"#'T2-B(PP3)'!$F$423"]
["pp3_bl6_1_8_total_out",{"$f":"'T2-B(PP3)'!$I$423","v":0},"#'T2-B(PP3)'!$I$423"]
["pp3_bl6_1_8_unit",{"$f":"'T2-B(PP3)'!$C$423","v":0},"#'T2-B(PP3)'!$C$423"]
["pp3_bl6_1_8_unit_in",{"$f":"'T2-B(PP3)'!$D$423","v":0},"#'T2-B(PP3)'!$D$423"]
["pp3_bl6_1_8_units_out",{"$f":"'T2-B(PP3)'!$G$423","v":0},"#'T2-B(PP3)'!$G$423"]
["pp3_bl6_1_9_name",{"$f":"'T2-B(PP3)'!$B$424","v":0},"#'T2-B(PP3)'!$B$424"]
["pp3_bl6_1_9_rate_in",{"$f":"'T2-B(PP3)'!$E$424","v":0},"#'T2-B(PP3)'!$E$424"]
["pp3_bl6_1_9_rate_out",{"$f":"'T2-B(PP3)'!$H$424","v":0},"#'T2-B(PP3)'!$H$424"]
["pp3_bl6_1_9_total",{"$f":"'T2-B(PP3)'!$J$424","v":0},"#'T2-B(PP3)'!$J$424"]
["pp3_bl6_1_9_total_in",{"$f":"'T2-B(PP3)'!$F$424","v":0},"#'T2-B(PP3)'!$F$424"]
["pp3_bl6_1_9_total_out",{"$f":"'T2-B(PP3)'!$I$424","v":0},"#'T2-B(PP3)'!$I$424"]
["pp3_bl6_1_9_unit",{"$f":"'T2-B(PP3)'!$C$424","v":0},"#'T2-B(PP3)'!$C$424"]
["pp3_bl6_1_9_unit_in",{"$f":"'T2-B(PP3)'!$D$424","v":0},"#'T2-B(PP3)'!$D$424"]
["pp3_bl6_1_9_units_out",{"$f":"'T2-B(PP3)'!$G$424","v":0},"#'T2-B(PP3)'!$G$424"]
["pp3_bl6_1_total",{"$f":"'T2-B(PP3)'!$J$415","v":0},"#'T2-B(PP3)'!$J$415"]
["pp3_bl6_1_total_in",{"$f":"'T2-B(PP3)'!$F$415","v":0},"#'T2-B(PP3)'!$F$415"]
["pp3_bl6_1_total_out",{"$f":"'T2-B(PP3)'!$I$415","v":0},"#'T2-B(PP3)'!$I$415"]
["pp3_bl6_2_1_name",{"$f":"'T2-B(PP3)'!$B$427","v":0},"#'T2-B(PP3)'!$B$427"]
["pp3_bl6_2_1_rate_in",{"$f":"'T2-B(PP3)'!$E$427","v":0},"#'T2-B(PP3)'!$E$427"]
["pp3_bl6_2_1_rate_out",{"$f":"'T2-B(PP3)'!$H$427","v":0},"#'T2-B(PP3)'!$H$427"]
["pp3_bl6_2_1_total",{"$f":"'T2-B(PP3)'!$J$427","v":0},"#'T2-B(PP3)'!$J$427"]
["pp3_bl6_2_1_total_in",{"$f":"'T2-B(PP3)'!$F$427","v":0},"#'T2-B(PP3)'!$F$427"]
["pp3_bl6_2_1_total_out",{"$f":"'T2-B(PP3)'!$I$427","v":0},"#'T2-B(PP3)'!$I$427"]
["pp3_bl6_2_1_unit",{"$f":"'T2-B(PP3)'!$C$427","v":0},"#'T2-B(PP3)'!$C$427"]
["pp3_bl6_2_1_unit_in",{"$f":"'T2-B(PP3)'!$D$427","v":0},"#'T2-B(PP3)'!$D$427"]
["pp3_bl6_2_1_units_out",{"$f":"'T2-B(PP3)'!$G$427","v":0},"#'T2-B(PP3)'!$G$427"]
["pp3_bl6_2_10_name",{"$f":"'T2-B(PP3)'!$B$436","v":0},"#'T2-B(PP3)'!$B$436"]
["pp3_bl6_2_10_rate_in",{"$f":"'T2-B(PP3)'!$E$436","v":0},"#'T2-B(PP3)'!$E$436"]
["pp3_bl6_2_10_rate_out",{"$f":"'T2-B(PP3)'!$H$436","v":0},"#'T2-B(PP3)'!$H$436"]
["pp3_bl6_2_10_total",{"$f":"'T2-B(PP3)'!$J$436","v":0},"#'T2-B(PP3)'!$J$436"]
["pp3_bl6_2_10_total_in",{"$f":"'T2-B(PP3)'!$F$436","v":0},"#'T2-B(PP3)'!$F$436"]
["pp3_bl6_2_10_total_out",{"$f":"'T2-B(PP3)'!$I$436","v":0},"#'T2-B(PP3)'!$I$436"]
["pp3_bl6_2_10_unit",{"$f":"'T2-B(PP3)'!$C$436","v":0},"#'T2-B(PP3)'!$C$436"]
["pp3_bl6_2_10_unit_in",{"$f":"'T2-B(PP3)'!$D$436","v":0},"#'T2-B(PP3)'!$D$436"]
["pp3_bl6_2_10_units_out",{"$f":"'T2-B(PP3)'!$G$436","v":0},"#'T2-B(PP3)'!$G$436"]
["pp3_bl6_2_2_name",{"$f":"'T2-B(PP3)'!$B$428","v":0},"#'T2-B(PP3)'!$B$428"]
["pp3_bl6_2_2_rate_in",{"$f":"'T2-B(PP3)'!$E$428","v":0},"#'T2-B(PP3)'!$E$428"]
["pp3_bl6_2_2_rate_out",{"$f":"'T2-B(PP3)'!$H$428","v":0},"#'T2-B(PP3)'!$H$428"]
["pp3_bl6_2_2_total",{"$f":"'T2-B(PP3)'!$J$428","v":0},"#'T2-B(PP3)'!$J$428"]
["pp3_bl6_2_2_total_in",{"$f":"'T2-B(PP3)'!$F$428","v":0},"#'T2-B(PP3)'!$F$428"]
["pp3_bl6_2_2_total_out",{"$f":"'T2-B(PP3)'!$I$428","v":0},"#'T2-B(PP3)'!$I$428"]
["pp3_bl6_2_2_unit",{"$f":"'T2-B(PP3)'!$C$428","v":0},"#'T2-B(PP3)'!$C$428"]
["pp3_bl6_2_2_unit_in",{"$f":"'T2-B(PP3)'!$D$428","v":0},"#'T2-B(PP3)'!$D$428"]
["pp3_bl6_2_2_units_out",{"$f":"'T2-B(PP3)'!$G$428","v":0},"#'T2-B(PP3)'!$G$428"]
["pp3_bl6_2_3_name",{"$f":"'T2-B(PP3)'!$B$429","v":0},"#'T2-B(PP3)'!$B$429"]
["pp3_bl6_2_3_rate_in",{"$f":"'T2-B(PP3)'!$E$429","v":0},"#'T2-B(PP3)'!$E$429"]
["pp3_bl6_2_3_rate_out",{"$f":"'T2-B(PP3)'!$H$429","v":0},"#'T2-B(PP3)'!$H$429"]
["pp3_bl6_2_3_total",{"$f":"'T2-B(PP3)'!$J$429","v":0},"#'T2-B(PP3)'!$J$429"]
["pp3_bl6_2_3_total_in",{"$f":"'T2-B(PP3)'!$F$429","v":0},"#'T2-B(PP3)'!$F$429"]
["pp3_bl6_2_3_total_out",{"$f":"'T2-B(PP3)'!$I$429","v":0},"#'T2-B(PP3)'!$I$429"]
["pp3_bl6_2_3_unit",{"$f":"'T2-B(PP3)'!$C$429","v":0},"#'T2-B(PP3)'!$C$429"]
["pp3_bl6_2_3_unit_in",{"$f":"'T2-B(PP3)'!$D$429","v":0},"#'T2-B(PP3)'!$D$429"]
["pp3_bl6_2_3_units_out",{"$f":"'T2-B(PP3)'!$G$429","v":0},"#'T2-B(PP3)'!$G$429"]
["pp3_bl6_2_4_name",{"$f":"'T2-B(PP3)'!$B$430","v":0},"#'T2-B(PP3)'!$B$430"]
["pp3_bl6_2_4_rate_in",{"$f":"'T2-B(PP3)'!$E$430","v":0},"#'T2-B(PP3)'!$E$430"]
["pp3_bl6_2_4_rate_out",{"$f":"'T2-B(PP3)'!$H$430","v":0},"#'T2-B(PP3)'!$H$430"]
["pp3_bl6_2_4_total",{"$f":"'T2-B(PP3)'!$J$430","v":0},"#'T2-B(PP3)'!$J$430"]
["pp3_bl6_2_4_total_in",{"$f":"'T2-B(PP3)'!$F$430","v":0},"#'T2-B(PP3)'!$F$430"]
["pp3_bl6_2_4_total_out",{"$f":"'T2-B(PP3)'!$I$430","v":0},"#'T2-B(PP3)'!$I$430"]
["pp3_bl6_2_4_unit",{"$f":"'T2-B(PP3)'!$C$430","v":0},"#'T2-B(PP3)'!$C$430"]
["pp3_bl6_2_4_unit_in",{"$f":"'T2-B(PP3)'!$D$430","v":0},"#'T2-B(PP3)'!$D$430"]
["pp3_bl6_2_4_units_out",{"$f":"'T2-B(PP3)'!$G$430","v":0},"#'T2-B(PP3)'!$G$430"]
["pp3_bl6_2_5_name",{"$f":"'T2-B(PP3)'!$B$431","v":0},"#'T2-B(PP3)'!$B$431"]
["pp3_bl6_2_5_rate_in",{"$f":"'T2-B(PP3)'!$E$431","v":0},"#'T2-B(PP3)'!$E$431"]
["pp3_bl6_2_5_rate_out",{"$f":"'T2-B(PP3)'!$H$431","v":0},"#'T2-B(PP3)'!$H$431"]
["pp3_bl6_2_5_total",{"$f":"'T2-B(PP3)'!$J$431","v":0},"#'T2-B(PP3)'!$J$431"]
["pp3_bl6_2_5_total_in",{"$f":"'T2-B(PP3)'!$F$431","v":0},"#'T2-B(PP3)'!$F$431"]
["pp3_bl6_2_5_total_out",{"$f":"'T2-B(PP3)'!$I$431","v":0},"#'T2-B(PP3)'!$I$431"]
["pp3_bl6_2_5_unit",{"$f":"'T2-B(PP3)'!$C$431","v":0},"#'T2-B(PP3)'!$C$431"]
["pp3_bl6_2_5_unit_in",{"$f":"'T2-B(PP3)'!$D$431","v":0},"#'T2-B(PP3)'!$D$431"]
["pp3_bl6_2_5_units_out",{"$f":"'T2-B(PP3)'!$G$431","v":0},"#'T2-B(PP3)'!$G$431"]
["pp3_bl6_2_6_name",{"$f":"'T2-B(PP3)'!$B$432","v":0},"#'T2-B(PP3)'!$B$432"]
["pp3_bl6_2_6_rate_in",{"$f":"'T2-B(PP3)'!$E$432","v":0},"#'T2-B(PP3)'!$E$432"]
["pp3_bl6_2_6_rate_out",{"$f":"'T2-B(PP3)'!$H$432","v":0},"#'T2-B(PP3)'!$H$432"]
["pp3_bl6_2_6_total",{"$f":"'T2-B(PP3)'!$J$432","v":0},"#'T2-B(PP3)'!$J$432"]
["pp3_bl6_2_6_total_in",{"$f":"'T2-B(PP3)'!$F$432","v":0},"#'T2-B(PP3)'!$F$432"]
["pp3_bl6_2_6_total_out",{"$f":"'T2-B(PP3)'!$I$432","v":0},"#'T2-B(PP3)'!$I$432"]
["pp3_bl6_2_6_unit",{"$f":"'T2-B(PP3)'!$C$432","v":0},"#'T2-B(PP3)'!$C$432"]
["pp3_bl6_2_6_unit_in",{"$f":"'T2-B(PP3)'!$D$432","v":0},"#'T2-B(PP3)'!$D$432"]
["pp3_bl6_2_6_units_out",{"$f":"'T2-B(PP3)'!$G$432","v":0},"#'T2-B(PP3)'!$G$432"]
["pp3_bl6_2_7_name",{"$f":"'T2-B(PP3)'!$B$433","v":0},"#'T2-B(PP3)'!$B$433"]
["pp3_bl6_2_7_rate_in",{"$f":"'T2-B(PP3)'!$E$433","v":0},"#'T2-B(PP3)'!$E$433"]
["pp3_bl6_2_7_rate_out",{"$f":"'T2-B(PP3)'!$H$433","v":0},"#'T2-B(PP3)'!$H$433"]
["pp3_bl6_2_7_total",{"$f":"'T2-B(PP3)'!$J$433","v":0},"#'T2-B(PP3)'!$J$433"]
["pp3_bl6_2_7_total_in",{"$f":"'T2-B(PP3)'!$F$433","v":0},"#'T2-B(PP3)'!$F$433"]
["pp3_bl6_2_7_total_out",{"$f":"'T2-B(PP3)'!$I$433","v":0},"#'T2-B(PP3)'!$I$433"]
["pp3_bl6_2_7_unit",{"$f":"'T2-B(PP3)'!$C$433","v":0},"#'T2-B(PP3)'!$C$433"]
["pp3_bl6_2_7_unit_in",{"$f":"'T2-B(PP3)'!$D$433","v":0},"#'T2-B(PP3)'!$D$433"]
["pp3_bl6_2_7_units_out",{"$f":"'T2-B(PP3)'!$G$433","v":0},"#'T2-B(PP3)'!$G$433"]
["pp3_bl6_2_8_name",{"$f":"'T2-B(PP3)'!$B$434","v":0},"#'T2-B(PP3)'!$B$434"]
["pp3_bl6_2_8_rate_in",{"$f":"'T2-B(PP3)'!$E$434","v":0},"#'T2-B(PP3)'!$E$434"]
["pp3_bl6_2_8_rate_out",{"$f":"'T2-B(PP3)'!$H$434","v":0},"#'T2-B(PP3)'!$H$434"]
["pp3_bl6_2_8_total",{"$f":"'T2-B(PP3)'!$J$434","v":0},"#'T2-B(PP3)'!$J$434"]
["pp3_bl6_2_8_total_in",{"$f":"'T2-B(PP3)'!$F$434","v":0},"#'T2-B(PP3)'!$F$434"]
["pp3_bl6_2_8_total_out",{"$f":"'T2-B(PP3)'!$I$434","v":0},"#'T2-B(PP3)'!$I$434"]
["pp3_bl6_2_8_unit",{"$f":"'T2-B(PP3)'!$C$434","v":0},"#'T2-B(PP3)'!$C$434"]
["pp3_bl6_2_8_unit_in",{"$f":"'T2-B(PP3)'!$D$434","v":0},"#'T2-B(PP3)'!$D$434"]
["pp3_bl6_2_8_units_out",{"$f":"'T2-B(PP3)'!$G$434","v":0},"#'T2-B(PP3)'!$G$434"]
["pp3_bl6_2_9_name",{"$f":"'T2-B(PP3)'!$B$435","v":0},"#'T2-B(PP3)'!$B$435"]
["pp3_bl6_2_9_rate_in",{"$f":"'T2-B(PP3)'!$E$435","v":0},"#'T2-B(PP3)'!$E$435"]
["pp3_bl6_2_9_rate_out",{"$f":"'T2-B(PP3)'!$H$435","v":0},"#'T2-B(PP3)'!$H$435"]
["pp3_bl6_2_9_total",{"$f":"'T2-B(PP3)'!$J$435","v":0},"#'T2-B(PP3)'!$J$435"]
["pp3_bl6_2_9_total_in",{"$f":"'T2-B(PP3)'!$F$435","v":0},"#'T2-B(PP3)'!$F$435"]
["pp3_bl6_2_9_total_out",{"$f":"'T2-B(PP3)'!$I$435","v":0},"#'T2-B(PP3)'!$I$435"]
["pp3_bl6_2_9_unit",{"$f":"'T2-B(PP3)'!$C$435","v":0},"#'T2-B(PP3)'!$C$435"]
["pp3_bl6_2_9_unit_in",{"$f":"'T2-B(PP3)'!$D$435","v":0},"#'T2-B(PP3)'!$D$435"]
["pp3_bl6_2_9_units_out",{"$f":"'T2-B(PP3)'!$G$435","v":0},"#'T2-B(PP3)'!$G$435"]
["pp3_bl6_2_total",{"$f":"'T2-B(PP3)'!$J$426","v":0},"#'T2-B(PP3)'!$J$426"]
["pp3_bl6_2_total_in",{"$f":"'T2-B(PP3)'!$F$426","v":0},"#'T2-B(PP3)'!$F$426"]
["pp3_bl6_2_total_out",{"$f":"'T2-B(PP3)'!$I$426","v":0},"#'T2-B(PP3)'!$I$426"]
["pp3_bl6_total",{"$f":"'T2-B(PP3)'!$J$437","v":0},"#'T2-B(PP3)'!$J$437"]
["pp3_bl6_total_in",{"$f":"'T2-B(PP3)'!$F$437","v":0},"#'T2-B(PP3)'!$F$437"]
["pp3_bl6_total_out",{"$f":"'T2-B(PP3)'!$I$437","v":0},"#'T2-B(PP3)'!$I$437"]
["pp3_bl7_1_1_name",{"$f":"'T2-B(PP3)'!$B$440","v":0},"#'T2-B(PP3)'!$B$440"]
["pp3_bl7_1_1_rate_in",{"$f":"'T2-B(PP3)'!$H$440","v":0},"#'T2-B(PP3)'!$H$440"]
["pp3_bl7_1_1_rate_out",{"$f":"'T2-B(PP3)'!$N$440","v":0},"#'T2-B(PP3)'!$N$440"]
["pp3_bl7_1_1_total",{"$f":"'T2-B(PP3)'!$I$440","v":0},"#'T2-B(PP3)'!$I$440"]
["pp3_bl7_1_1_total_in",{"$f":"'T2-B(PP3)'!$P$440","v":0},"#'T2-B(PP3)'!$P$440"]
["pp3_bl7_1_1_total_out",{"$f":"'T2-B(PP3)'!$O$440","v":0},"#'T2-B(PP3)'!$O$440"]
["pp3_bl7_1_1_unit",{"$f":"'T2-B(PP3)'!$F$440","v":0},"#'T2-B(PP3)'!$F$440"]
["pp3_bl7_1_1_unit_in",{"$f":"'T2-B(PP3)'!$G$440","v":0},"#'T2-B(PP3)'!$G$440"]
["pp3_bl7_1_1_units_out",{"$f":"'T2-B(PP3)'!$M$440","v":0},"#'T2-B(PP3)'!$M$440"]
["pp3_competence",{"$f":"'PP3'!$B$38","v":0},"#'PP3'!$B$38"]
["pp3_country",{"$f":"'PP3'!$K$14","v":2},"#'PP3'!$K$14"]
["pp3_fax",{"$f":"'PP3'!$C$29","v":0},"#'PP3'!$C$29"]
["pp3_is_bg",{"$f":"'PP3'!$D$13","v":0},"#'PP3'!$D$13"]
["pp3_is_pc",{"$f":"'PP3'!$F$13","v":0},"#'PP3'!$F$13"]
["pp3_legal_representative",{"$f":"'PP3'!$C$23","v":0},"#'PP3'!$C$23"]
["pp3_legal_representative_position",{"$f":"'PP3'!$C$25","v":0},"#'PP3'!$C$25"]
["pp3_mail",{"$f":"'PP3'!$C$31","v":0},"#'PP3'!$C$31"]
["pp3_nat_code",{"$f":"'PP3'!$C$70","v":0},"#'PP3'!$C$70"]
["pp3_nuts3",{"$f":"'PP3'!$C$15","v":0},"#'PP3'!$C$15"]
["pp3_organisation_en",{"$f":"'PP3'!$C$7","v":0},"#'PP3'!$C$7"]
["pp3_organisation_native",{"$f":"'PP3'!$C$9","v":0},"#'PP3'!$C$9"]
["pp3_pe_date1",{"$f":"'PP3'!$G$47","v":0},"#'PP3'!$G$47"]
["pp3_pe_date2",{"$f":"'PP3'!$G$55","v":0},"#'PP3'!$G$55"]
["pp3_pe_date3",{"$f":"'PP3'!$G$63","v":0},"#'PP3'!$G$63"]
["pp3_pe_ga1",{"$f":"'PP3'!$G$46","v":0},"#'PP3'!$G$46"]
["pp3_pe_ga2",{"$f":"'PP3'!$G$54","v":0},"#'PP3'!$G$54"]
["pp3_pe_ga3",{"$f":"'PP3'!$G$62","v":0},"#'PP3'!$G$62"]
["pp3_pe_ip1",{"$f":"'PP3'!$C$43","v":0},"#'PP3'!$C$43"]
["pp3_pe_ip2",{"$f":"'PP3'!$C$51","v":0},"#'PP3'!$C$51"]
["pp3_pe_ip3",{"$f":"'PP3'!$C$59","v":0},"#'PP3'!$C$59"]
["pp3_pe_or1",{"$f":"'PP3'!$C$47","v":0},"#'PP3'!$C$47"]
["pp3_pe_or2",{"$f":"'PP3'!$C$55","v":0},"#'PP3'!$C$55"]
["pp3_pe_or3",{"$f":"'PP3'!$C$63","v":0},"#'PP3'!$C$63"]
["pp3_pe_pt1",{"$f":"'PP3'!$C$44","v":0},"#'PP3'!$C$44"]
["pp3_pe_pt2",{"$f":"'PP3'!$C$52","v":0},"#'PP3'!$C$52"]
["pp3_pe_pt3",{"$f":"'PP3'!$C$60","v":0},"#'PP3'!$C$60"]
["pp3_pe_sd1",{"$f":"'PP3'!$C$45","v":0},"#'PP3'!$C$45"]
["pp3_pe_sd2",{"$f":"'PP3'!$C$53","v":0},"#'PP3'!$C$53"]
["pp3_pe_sd3",{"$f":"'PP3'!$C$61","v":0},"#'PP3'!$C$61"]
["pp3_pe_tev1",{"$f":"'PP3'!$C$46","v":0},"#'PP3'!$C$46"]
["pp3_pe_tev2",{"$f":"'PP3'!$C$54","v":0},"#'PP3'!$C$54"]
["pp3_pe_tev3",{"$f":"'PP3'!$C$62","v":0},"#'PP3'!$C$62"]
["pp3_phone",{"$f":"'PP3'!$C$27","v":0},"#'PP3'!$C$27"]
["pp3_post_code",{"$f":"'PP3'!$C$21","v":0},"#'PP3'!$C$21"]
["pp3_town",{"$f":"'PP3'!$C$17","v":0},"#'PP3'!$C$17"]
["pp3_type_org",{"$f":"'PP3'!$C$11","v":0},"#'PP3'!$C$11"]
["pp3_vat_code",{"$f":"'PP3'!$C$72","v":0},"#'PP3'!$C$72"]
["pp3_website",{"$f":"'PP3'!$C$33","v":0},"#'PP3'!$C$33"]
["pp4_2014_fulltime_staff",{"$f":"'PP4'!$F$77","v":0},"#'PP4'!$F$77"]
["pp4_2014_parttime_staff",{"$f":"'PP4'!$G$77","v":0},"#'PP4'!$G$77"]
["pp4_2014_turnover",{"$f":"'PP4'!$C$77","v":0},"#'PP4'!$C$77"]
["pp4_2015_fulltime_staff",{"$f":"'PP4'!$F$78","v":0},"#'PP4'!$F$78"]
["pp4_2015_parttime_staff",{"$f":"'PP4'!$G$78","v":0},"#'PP4'!$G$78"]
["pp4_2015_turnover",{"$f":"'PP4'!$C$78","v":0},"#'PP4'!$C$78"]
["pp4_2016_fulltime_staff",{"$f":"'PP4'!$F$79","v":0},"#'PP4'!$F$79"]
["pp4_2016_parttime_staff",{"$f":"'PP4'!$G$79","v":0},"#'PP4'!$G$79"]
["pp4_2016_turnover",{"$f":"'PP4'!$C$79","v":0},"#'PP4'!$C$79"]
["pp4_address",{"$f":"'PP4'!$C$19","v":0},"#'PP4'!$C$19"]
["pp4_background1",{"$f":"'PP4'!$B$35","v":0},"#'PP4'!$B$35"]
["pp4_background2",{"$f":"'PP4'!$B$36","v":0},"#'PP4'!$B$36"]
["pp4_bl3_1_1_name",{"$f":"'T2-B(PP4)'!$B$36","v":0},"#'T2-B(PP4)'!$B$36"]
["pp4_bl3_1_1_rate_in",{"$f":"'T2-B(PP4)'!$E$36","v":0},"#'T2-B(PP4)'!$E$36"]
["pp4_bl3_1_1_rate_out",{"$f":"'T2-B(PP4)'!$H$36","v":0},"#'T2-B(PP4)'!$H$36"]
["pp4_bl3_1_1_total",{"$f":"'T2-B(PP4)'!$J$36","v":0},"#'T2-B(PP4)'!$J$36"]
["pp4_bl3_1_1_total_in",{"$f":"'T2-B(PP4)'!$F$36","v":0},"#'T2-B(PP4)'!$F$36"]
["pp4_bl3_1_1_total_out",{"$f":"'T2-B(PP4)'!$I$36","v":0},"#'T2-B(PP4)'!$I$36"]
["pp4_bl3_1_1_unit",{"$f":"'T2-B(PP4)'!$C$36","v":0},"#'T2-B(PP4)'!$C$36"]
["pp4_bl3_1_1_unit_in",{"$f":"'T2-B(PP4)'!$D$36","v":0},"#'T2-B(PP4)'!$D$36"]
["pp4_bl3_1_1_units_out",{"$f":"'T2-B(PP4)'!$G$36","v":0},"#'T2-B(PP4)'!$G$36"]
["pp4_bl3_1_10_name",{"$f":"'T2-B(PP4)'!$B$45","v":0},"#'T2-B(PP4)'!$B$45"]
["pp4_bl3_1_10_rate_in",{"$f":"'T2-B(PP4)'!$E$45","v":0},"#'T2-B(PP4)'!$E$45"]
["pp4_bl3_1_10_rate_out",{"$f":"'T2-B(PP4)'!$H$45","v":0},"#'T2-B(PP4)'!$H$45"]
["pp4_bl3_1_10_total",{"$f":"'T2-B(PP4)'!$J$45","v":0},"#'T2-B(PP4)'!$J$45"]
["pp4_bl3_1_10_total_in",{"$f":"'T2-B(PP4)'!$F$45","v":0},"#'T2-B(PP4)'!$F$45"]
["pp4_bl3_1_10_total_out",{"$f":"'T2-B(PP4)'!$I$45","v":0},"#'T2-B(PP4)'!$I$45"]
["pp4_bl3_1_10_unit",{"$f":"'T2-B(PP4)'!$C$45","v":0},"#'T2-B(PP4)'!$C$45"]
["pp4_bl3_1_10_unit_in",{"$f":"'T2-B(PP4)'!$D$45","v":0},"#'T2-B(PP4)'!$D$45"]
["pp4_bl3_1_10_units_out",{"$f":"'T2-B(PP4)'!$G$45","v":0},"#'T2-B(PP4)'!$G$45"]
["pp4_bl3_1_2_name",{"$f":"'T2-B(PP4)'!$B$37","v":0},"#'T2-B(PP4)'!$B$37"]
["pp4_bl3_1_2_rate_in",{"$f":"'T2-B(PP4)'!$E$37","v":0},"#'T2-B(PP4)'!$E$37"]
["pp4_bl3_1_2_rate_out",{"$f":"'T2-B(PP4)'!$H$37","v":0},"#'T2-B(PP4)'!$H$37"]
["pp4_bl3_1_2_total",{"$f":"'T2-B(PP4)'!$J$37","v":0},"#'T2-B(PP4)'!$J$37"]
["pp4_bl3_1_2_total_in",{"$f":"'T2-B(PP4)'!$F$37","v":0},"#'T2-B(PP4)'!$F$37"]
["pp4_bl3_1_2_total_out",{"$f":"'T2-B(PP4)'!$I$37","v":0},"#'T2-B(PP4)'!$I$37"]
["pp4_bl3_1_2_unit",{"$f":"'T2-B(PP4)'!$C$37","v":0},"#'T2-B(PP4)'!$C$37"]
["pp4_bl3_1_2_unit_in",{"$f":"'T2-B(PP4)'!$D$37","v":0},"#'T2-B(PP4)'!$D$37"]
["pp4_bl3_1_2_units_out",{"$f":"'T2-B(PP4)'!$G$37","v":0},"#'T2-B(PP4)'!$G$37"]
["pp4_bl3_1_3_name",{"$f":"'T2-B(PP4)'!$B$38","v":0},"#'T2-B(PP4)'!$B$38"]
["pp4_bl3_1_3_rate_in",{"$f":"'T2-B(PP4)'!$E$38","v":0},"#'T2-B(PP4)'!$E$38"]
["pp4_bl3_1_3_rate_out",{"$f":"'T2-B(PP4)'!$H$38","v":0},"#'T2-B(PP4)'!$H$38"]
["pp4_bl3_1_3_total",{"$f":"'T2-B(PP4)'!$J$38","v":0},"#'T2-B(PP4)'!$J$38"]
["pp4_bl3_1_3_total_in",{"$f":"'T2-B(PP4)'!$F$38","v":0},"#'T2-B(PP4)'!$F$38"]
["pp4_bl3_1_3_total_out",{"$f":"'T2-B(PP4)'!$I$38","v":0},"#'T2-B(PP4)'!$I$38"]
["pp4_bl3_1_3_unit",{"$f":"'T2-B(PP4)'!$C$38","v":0},"#'T2-B(PP4)'!$C$38"]
["pp4_bl3_1_3_unit_in",{"$f":"'T2-B(PP4)'!$D$38","v":0},"#'T2-B(PP4)'!$D$38"]
["pp4_bl3_1_3_units_out",{"$f":"'T2-B(PP4)'!$G$38","v":0},"#'T2-B(PP4)'!$G$38"]
["pp4_bl3_1_4_name",{"$f":"'T2-B(PP4)'!$B$39","v":0},"#'T2-B(PP4)'!$B$39"]
["pp4_bl3_1_4_rate_in",{"$f":"'T2-B(PP4)'!$E$39","v":0},"#'T2-B(PP4)'!$E$39"]
["pp4_bl3_1_4_rate_out",{"$f":"'T2-B(PP4)'!$H$39","v":0},"#'T2-B(PP4)'!$H$39"]
["pp4_bl3_1_4_total",{"$f":"'T2-B(PP4)'!$J$39","v":0},"#'T2-B(PP4)'!$J$39"]
["pp4_bl3_1_4_total_in",{"$f":"'T2-B(PP4)'!$F$39","v":0},"#'T2-B(PP4)'!$F$39"]
["pp4_bl3_1_4_total_out",{"$f":"'T2-B(PP4)'!$I$39","v":0},"#'T2-B(PP4)'!$I$39"]
["pp4_bl3_1_4_unit",{"$f":"'T2-B(PP4)'!$C$39","v":0},"#'T2-B(PP4)'!$C$39"]
["pp4_bl3_1_4_unit_in",{"$f":"'T2-B(PP4)'!$D$39","v":0},"#'T2-B(PP4)'!$D$39"]
["pp4_bl3_1_4_units_out",{"$f":"'T2-B(PP4)'!$G$39","v":0},"#'T2-B(PP4)'!$G$39"]
["pp4_bl3_1_5_name",{"$f":"'T2-B(PP4)'!$B$40","v":0},"#'T2-B(PP4)'!$B$40"]
["pp4_bl3_1_5_rate_in",{"$f":"'T2-B(PP4)'!$E$40","v":0},"#'T2-B(PP4)'!$E$40"]
["pp4_bl3_1_5_rate_out",{"$f":"'T2-B(PP4)'!$H$40","v":0},"#'T2-B(PP4)'!$H$40"]
["pp4_bl3_1_5_total",{"$f":"'T2-B(PP4)'!$J$40","v":0},"#'T2-B(PP4)'!$J$40"]
["pp4_bl3_1_5_total_in",{"$f":"'T2-B(PP4)'!$F$40","v":0},"#'T2-B(PP4)'!$F$40"]
["pp4_bl3_1_5_total_out",{"$f":"'T2-B(PP4)'!$I$40","v":0},"#'T2-B(PP4)'!$I$40"]
["pp4_bl3_1_5_unit",{"$f":"'T2-B(PP4)'!$C$40","v":0},"#'T2-B(PP4)'!$C$40"]
["pp4_bl3_1_5_unit_in",{"$f":"'T2-B(PP4)'!$D$40","v":0},"#'T2-B(PP4)'!$D$40"]
["pp4_bl3_1_5_units_out",{"$f":"'T2-B(PP4)'!$G$40","v":0},"#'T2-B(PP4)'!$G$40"]
["pp4_bl3_1_6_name",{"$f":"'T2-B(PP4)'!$B$41","v":0},"#'T2-B(PP4)'!$B$41"]
["pp4_bl3_1_6_rate_in",{"$f":"'T2-B(PP4)'!$E$41","v":0},"#'T2-B(PP4)'!$E$41"]
["pp4_bl3_1_6_rate_out",{"$f":"'T2-B(PP4)'!$H$41","v":0},"#'T2-B(PP4)'!$H$41"]
["pp4_bl3_1_6_total",{"$f":"'T2-B(PP4)'!$J$41","v":0},"#'T2-B(PP4)'!$J$41"]
["pp4_bl3_1_6_total_in",{"$f":"'T2-B(PP4)'!$F$41","v":0},"#'T2-B(PP4)'!$F$41"]
["pp4_bl3_1_6_total_out",{"$f":"'T2-B(PP4)'!$I$41","v":0},"#'T2-B(PP4)'!$I$41"]
["pp4_bl3_1_6_unit",{"$f":"'T2-B(PP4)'!$C$41","v":0},"#'T2-B(PP4)'!$C$41"]
["pp4_bl3_1_6_unit_in",{"$f":"'T2-B(PP4)'!$D$41","v":0},"#'T2-B(PP4)'!$D$41"]
["pp4_bl3_1_6_units_out",{"$f":"'T2-B(PP4)'!$G$41","v":0},"#'T2-B(PP4)'!$G$41"]
["pp4_bl3_1_7_name",{"$f":"'T2-B(PP4)'!$B$42","v":0},"#'T2-B(PP4)'!$B$42"]
["pp4_bl3_1_7_rate_in",{"$f":"'T2-B(PP4)'!$E$42","v":0},"#'T2-B(PP4)'!$E$42"]
["pp4_bl3_1_7_rate_out",{"$f":"'T2-B(PP4)'!$H$42","v":0},"#'T2-B(PP4)'!$H$42"]
["pp4_bl3_1_7_total",{"$f":"'T2-B(PP4)'!$J$42","v":0},"#'T2-B(PP4)'!$J$42"]
["pp4_bl3_1_7_total_in",{"$f":"'T2-B(PP4)'!$F$42","v":0},"#'T2-B(PP4)'!$F$42"]
["pp4_bl3_1_7_total_out",{"$f":"'T2-B(PP4)'!$I$42","v":0},"#'T2-B(PP4)'!$I$42"]
["pp4_bl3_1_7_unit",{"$f":"'T2-B(PP4)'!$C$42","v":0},"#'T2-B(PP4)'!$C$42"]
["pp4_bl3_1_7_unit_in",{"$f":"'T2-B(PP4)'!$D$42","v":0},"#'T2-B(PP4)'!$D$42"]
["pp4_bl3_1_7_units_out",{"$f":"'T2-B(PP4)'!$G$42","v":0},"#'T2-B(PP4)'!$G$42"]
["pp4_bl3_1_8_name",{"$f":"'T2-B(PP4)'!$B$43","v":0},"#'T2-B(PP4)'!$B$43"]
["pp4_bl3_1_8_rate_in",{"$f":"'T2-B(PP4)'!$E$43","v":0},"#'T2-B(PP4)'!$E$43"]
["pp4_bl3_1_8_rate_out",{"$f":"'T2-B(PP4)'!$H$43","v":0},"#'T2-B(PP4)'!$H$43"]
["pp4_bl3_1_8_total",{"$f":"'T2-B(PP4)'!$J$43","v":0},"#'T2-B(PP4)'!$J$43"]
["pp4_bl3_1_8_total_in",{"$f":"'T2-B(PP4)'!$F$43","v":0},"#'T2-B(PP4)'!$F$43"]
["pp4_bl3_1_8_total_out",{"$f":"'T2-B(PP4)'!$I$43","v":0},"#'T2-B(PP4)'!$I$43"]
["pp4_bl3_1_8_unit",{"$f":"'T2-B(PP4)'!$C$43","v":0},"#'T2-B(PP4)'!$C$43"]
["pp4_bl3_1_8_unit_in",{"$f":"'T2-B(PP4)'!$D$43","v":0},"#'T2-B(PP4)'!$D$43"]
["pp4_bl3_1_8_units_out",{"$f":"'T2-B(PP4)'!$G$43","v":0},"#'T2-B(PP4)'!$G$43"]
["pp4_bl3_1_9_name",{"$f":"'T2-B(PP4)'!$B$44","v":0},"#'T2-B(PP4)'!$B$44"]
["pp4_bl3_1_9_rate_in",{"$f":"'T2-B(PP4)'!$E$44","v":0},"#'T2-B(PP4)'!$E$44"]
["pp4_bl3_1_9_rate_out",{"$f":"'T2-B(PP4)'!$H$44","v":0},"#'T2-B(PP4)'!$H$44"]
["pp4_bl3_1_9_total",{"$f":"'T2-B(PP4)'!$J$44","v":0},"#'T2-B(PP4)'!$J$44"]
["pp4_bl3_1_9_total_in",{"$f":"'T2-B(PP4)'!$F$44","v":0},"#'T2-B(PP4)'!$F$44"]
["pp4_bl3_1_9_total_out",{"$f":"'T2-B(PP4)'!$I$44","v":0},"#'T2-B(PP4)'!$I$44"]
["pp4_bl3_1_9_unit",{"$f":"'T2-B(PP4)'!$C$44","v":0},"#'T2-B(PP4)'!$C$44"]
["pp4_bl3_1_9_unit_in",{"$f":"'T2-B(PP4)'!$D$44","v":0},"#'T2-B(PP4)'!$D$44"]
["pp4_bl3_1_9_units_out",{"$f":"'T2-B(PP4)'!$G$44","v":0},"#'T2-B(PP4)'!$G$44"]
["pp4_bl3_1_total",{"$f":"'T2-B(PP4)'!$J$35","v":0},"#'T2-B(PP4)'!$J$35"]
["pp4_bl3_1_total_in",{"$f":"'T2-B(PP4)'!$F$35","v":0},"#'T2-B(PP4)'!$F$35"]
["pp4_bl3_1_total_out",{"$f":"'T2-B(PP4)'!$I$35","v":0},"#'T2-B(PP4)'!$I$35"]
["pp4_bl3_2_1_name",{"$f":"'T2-B(PP4)'!$B$57","v":0},"#'T2-B(PP4)'!$B$57"]
["pp4_bl3_2_1_rate_in",{"$f":"'T2-B(PP4)'!$E$57","v":0},"#'T2-B(PP4)'!$E$57"]
["pp4_bl3_2_1_rate_out",{"$f":"'T2-B(PP4)'!$H$57","v":0},"#'T2-B(PP4)'!$H$57"]
["pp4_bl3_2_1_total",{"$f":"'T2-B(PP4)'!$J$57","v":0},"#'T2-B(PP4)'!$J$57"]
["pp4_bl3_2_1_total_in",{"$f":"'T2-B(PP4)'!$F$57","v":0},"#'T2-B(PP4)'!$F$57"]
["pp4_bl3_2_1_total_out",{"$f":"'T2-B(PP4)'!$I$57","v":0},"#'T2-B(PP4)'!$I$57"]
["pp4_bl3_2_1_unit",{"$f":"'T2-B(PP4)'!$C$57","v":0},"#'T2-B(PP4)'!$C$57"]
["pp4_bl3_2_1_unit_in",{"$f":"'T2-B(PP4)'!$D$57","v":0},"#'T2-B(PP4)'!$D$57"]
["pp4_bl3_2_1_units_out",{"$f":"'T2-B(PP4)'!$G$57","v":0},"#'T2-B(PP4)'!$G$57"]
["pp4_bl3_2_10_name",{"$f":"'T2-B(PP4)'!$B$66","v":0},"#'T2-B(PP4)'!$B$66"]
["pp4_bl3_2_10_rate_in",{"$f":"'T2-B(PP4)'!$E$66","v":0},"#'T2-B(PP4)'!$E$66"]
["pp4_bl3_2_10_rate_out",{"$f":"'T2-B(PP4)'!$H$66","v":0},"#'T2-B(PP4)'!$H$66"]
["pp4_bl3_2_10_total",{"$f":"'T2-B(PP4)'!$J$66","v":0},"#'T2-B(PP4)'!$J$66"]
["pp4_bl3_2_10_total_in",{"$f":"'T2-B(PP4)'!$F$66","v":0},"#'T2-B(PP4)'!$F$66"]
["pp4_bl3_2_10_total_out",{"$f":"'T2-B(PP4)'!$I$66","v":0},"#'T2-B(PP4)'!$I$66"]
["pp4_bl3_2_10_unit",{"$f":"'T2-B(PP4)'!$C$66","v":0},"#'T2-B(PP4)'!$C$66"]
["pp4_bl3_2_10_unit_in",{"$f":"'T2-B(PP4)'!$D$66","v":0},"#'T2-B(PP4)'!$D$66"]
["pp4_bl3_2_10_units_out",{"$f":"'T2-B(PP4)'!$G$66","v":0},"#'T2-B(PP4)'!$G$66"]
["pp4_bl3_2_2_name",{"$f":"'T2-B(PP4)'!$B$58","v":0},"#'T2-B(PP4)'!$B$58"]
["pp4_bl3_2_2_rate_in",{"$f":"'T2-B(PP4)'!$E$58","v":0},"#'T2-B(PP4)'!$E$58"]
["pp4_bl3_2_2_rate_out",{"$f":"'T2-B(PP4)'!$H$58","v":0},"#'T2-B(PP4)'!$H$58"]
["pp4_bl3_2_2_total",{"$f":"'T2-B(PP4)'!$J$58","v":0},"#'T2-B(PP4)'!$J$58"]
["pp4_bl3_2_2_total_in",{"$f":"'T2-B(PP4)'!$F$58","v":0},"#'T2-B(PP4)'!$F$58"]
["pp4_bl3_2_2_total_out",{"$f":"'T2-B(PP4)'!$I$58","v":0},"#'T2-B(PP4)'!$I$58"]
["pp4_bl3_2_2_unit",{"$f":"'T2-B(PP4)'!$C$58","v":0},"#'T2-B(PP4)'!$C$58"]
["pp4_bl3_2_2_unit_in",{"$f":"'T2-B(PP4)'!$D$58","v":0},"#'T2-B(PP4)'!$D$58"]
["pp4_bl3_2_2_units_out",{"$f":"'T2-B(PP4)'!$G$58","v":0},"#'T2-B(PP4)'!$G$58"]
["pp4_bl3_2_3_name",{"$f":"'T2-B(PP4)'!$B$59","v":0},"#'T2-B(PP4)'!$B$59"]
["pp4_bl3_2_3_rate_in",{"$f":"'T2-B(PP4)'!$E$59","v":0},"#'T2-B(PP4)'!$E$59"]
["pp4_bl3_2_3_rate_out",{"$f":"'T2-B(PP4)'!$H$59","v":0},"#'T2-B(PP4)'!$H$59"]
["pp4_bl3_2_3_total",{"$f":"'T2-B(PP4)'!$J$59","v":0},"#'T2-B(PP4)'!$J$59"]
["pp4_bl3_2_3_total_in",{"$f":"'T2-B(PP4)'!$F$59","v":0},"#'T2-B(PP4)'!$F$59"]
["pp4_bl3_2_3_total_out",{"$f":"'T2-B(PP4)'!$I$59","v":0},"#'T2-B(PP4)'!$I$59"]
["pp4_bl3_2_3_unit",{"$f":"'T2-B(PP4)'!$C$59","v":0},"#'T2-B(PP4)'!$C$59"]
["pp4_bl3_2_3_unit_in",{"$f":"'T2-B(PP4)'!$D$59","v":0},"#'T2-B(PP4)'!$D$59"]
["pp4_bl3_2_3_units_out",{"$f":"'T2-B(PP4)'!$G$59","v":0},"#'T2-B(PP4)'!$G$59"]
["pp4_bl3_2_4_name",{"$f":"'T2-B(PP4)'!$B$60","v":0},"#'T2-B(PP4)'!$B$60"]
["pp4_bl3_2_4_rate_in",{"$f":"'T2-B(PP4)'!$E$60","v":0},"#'T2-B(PP4)'!$E$60"]
["pp4_bl3_2_4_rate_out",{"$f":"'T2-B(PP4)'!$H$60","v":0},"#'T2-B(PP4)'!$H$60"]
["pp4_bl3_2_4_total",{"$f":"'T2-B(PP4)'!$J$60","v":0},"#'T2-B(PP4)'!$J$60"]
["pp4_bl3_2_4_total_in",{"$f":"'T2-B(PP4)'!$F$60","v":0},"#'T2-B(PP4)'!$F$60"]
["pp4_bl3_2_4_total_out",{"$f":"'T2-B(PP4)'!$I$60","v":0},"#'T2-B(PP4)'!$I$60"]
["pp4_bl3_2_4_unit",{"$f":"'T2-B(PP4)'!$C$60","v":0},"#'T2-B(PP4)'!$C$60"]
["pp4_bl3_2_4_unit_in",{"$f":"'T2-B(PP4)'!$D$60","v":0},"#'T2-B(PP4)'!$D$60"]
["pp4_bl3_2_4_units_out",{"$f":"'T2-B(PP4)'!$G$60","v":0},"#'T2-B(PP4)'!$G$60"]
["pp4_bl3_2_5_name",{"$f":"'T2-B(PP4)'!$B$61","v":0},"#'T2-B(PP4)'!$B$61"]
["pp4_bl3_2_5_rate_in",{"$f":"'T2-B(PP4)'!$E$61","v":0},"#'T2-B(PP4)'!$E$61"]
["pp4_bl3_2_5_rate_out",{"$f":"'T2-B(PP4)'!$H$61","v":0},"#'T2-B(PP4)'!$H$61"]
["pp4_bl3_2_5_total",{"$f":"'T2-B(PP4)'!$J$61","v":0},"#'T2-B(PP4)'!$J$61"]
["pp4_bl3_2_5_total_in",{"$f":"'T2-B(PP4)'!$F$61","v":0},"#'T2-B(PP4)'!$F$61"]
["pp4_bl3_2_5_total_out",{"$f":"'T2-B(PP4)'!$I$61","v":0},"#'T2-B(PP4)'!$I$61"]
["pp4_bl3_2_5_unit",{"$f":"'T2-B(PP4)'!$C$61","v":0},"#'T2-B(PP4)'!$C$61"]
["pp4_bl3_2_5_unit_in",{"$f":"'T2-B(PP4)'!$D$61","v":0},"#'T2-B(PP4)'!$D$61"]
["pp4_bl3_2_5_units_out",{"$f":"'T2-B(PP4)'!$G$61","v":0},"#'T2-B(PP4)'!$G$61"]
["pp4_bl3_2_6_name",{"$f":"'T2-B(PP4)'!$B$62","v":0},"#'T2-B(PP4)'!$B$62"]
["pp4_bl3_2_6_rate_in",{"$f":"'T2-B(PP4)'!$E$62","v":0},"#'T2-B(PP4)'!$E$62"]
["pp4_bl3_2_6_rate_out",{"$f":"'T2-B(PP4)'!$H$62","v":0},"#'T2-B(PP4)'!$H$62"]
["pp4_bl3_2_6_total",{"$f":"'T2-B(PP4)'!$J$62","v":0},"#'T2-B(PP4)'!$J$62"]
["pp4_bl3_2_6_total_in",{"$f":"'T2-B(PP4)'!$F$62","v":0},"#'T2-B(PP4)'!$F$62"]
["pp4_bl3_2_6_total_out",{"$f":"'T2-B(PP4)'!$I$62","v":0},"#'T2-B(PP4)'!$I$62"]
["pp4_bl3_2_6_unit",{"$f":"'T2-B(PP4)'!$C$62","v":0},"#'T2-B(PP4)'!$C$62"]
["pp4_bl3_2_6_unit_in",{"$f":"'T2-B(PP4)'!$D$62","v":0},"#'T2-B(PP4)'!$D$62"]
["pp4_bl3_2_6_units_out",{"$f":"'T2-B(PP4)'!$G$62","v":0},"#'T2-B(PP4)'!$G$62"]
["pp4_bl3_2_7_name",{"$f":"'T2-B(PP4)'!$B$63","v":0},"#'T2-B(PP4)'!$B$63"]
["pp4_bl3_2_7_rate_in",{"$f":"'T2-B(PP4)'!$E$63","v":0},"#'T2-B(PP4)'!$E$63"]
["pp4_bl3_2_7_rate_out",{"$f":"'T2-B(PP4)'!$H$63","v":0},"#'T2-B(PP4)'!$H$63"]
["pp4_bl3_2_7_total",{"$f":"'T2-B(PP4)'!$J$63","v":0},"#'T2-B(PP4)'!$J$63"]
["pp4_bl3_2_7_total_in",{"$f":"'T2-B(PP4)'!$F$63","v":0},"#'T2-B(PP4)'!$F$63"]
["pp4_bl3_2_7_total_out",{"$f":"'T2-B(PP4)'!$I$63","v":0},"#'T2-B(PP4)'!$I$63"]
["pp4_bl3_2_7_unit",{"$f":"'T2-B(PP4)'!$C$63","v":0},"#'T2-B(PP4)'!$C$63"]
["pp4_bl3_2_7_unit_in",{"$f":"'T2-B(PP4)'!$D$63","v":0},"#'T2-B(PP4)'!$D$63"]
["pp4_bl3_2_7_units_out",{"$f":"'T2-B(PP4)'!$G$63","v":0},"#'T2-B(PP4)'!$G$63"]
["pp4_bl3_2_8_name",{"$f":"'T2-B(PP4)'!$B$64","v":0},"#'T2-B(PP4)'!$B$64"]
["pp4_bl3_2_8_rate_in",{"$f":"'T2-B(PP4)'!$E$64","v":0},"#'T2-B(PP4)'!$E$64"]
["pp4_bl3_2_8_rate_out",{"$f":"'T2-B(PP4)'!$H$64","v":0},"#'T2-B(PP4)'!$H$64"]
["pp4_bl3_2_8_total",{"$f":"'T2-B(PP4)'!$J$64","v":0},"#'T2-B(PP4)'!$J$64"]
["pp4_bl3_2_8_total_in",{"$f":"'T2-B(PP4)'!$F$64","v":0},"#'T2-B(PP4)'!$F$64"]
["pp4_bl3_2_8_total_out",{"$f":"'T2-B(PP4)'!$I$64","v":0},"#'T2-B(PP4)'!$I$64"]
["pp4_bl3_2_8_unit",{"$f":"'T2-B(PP4)'!$C$64","v":0},"#'T2-B(PP4)'!$C$64"]
["pp4_bl3_2_8_unit_in",{"$f":"'T2-B(PP4)'!$D$64","v":0},"#'T2-B(PP4)'!$D$64"]
["pp4_bl3_2_8_units_out",{"$f":"'T2-B(PP4)'!$G$64","v":0},"#'T2-B(PP4)'!$G$64"]
["pp4_bl3_2_9_name",{"$f":"'T2-B(PP4)'!$B$65","v":0},"#'T2-B(PP4)'!$B$65"]
["pp4_bl3_2_9_rate_in",{"$f":"'T2-B(PP4)'!$E$65","v":0},"#'T2-B(PP4)'!$E$65"]
["pp4_bl3_2_9_rate_out",{"$f":"'T2-B(PP4)'!$H$65","v":0},"#'T2-B(PP4)'!$H$65"]
["pp4_bl3_2_9_total",{"$f":"'T2-B(PP4)'!$J$65","v":0},"#'T2-B(PP4)'!$J$65"]
["pp4_bl3_2_9_total_in",{"$f":"'T2-B(PP4)'!$F$65","v":0},"#'T2-B(PP4)'!$F$65"]
["pp4_bl3_2_9_total_out",{"$f":"'T2-B(PP4)'!$I$65","v":0},"#'T2-B(PP4)'!$I$65"]
["pp4_bl3_2_9_unit",{"$f":"'T2-B(PP4)'!$C$65","v":0},"#'T2-B(PP4)'!$C$65"]
["pp4_bl3_2_9_unit_in",{"$f":"'T2-B(PP4)'!$D$65","v":0},"#'T2-B(PP4)'!$D$65"]
["pp4_bl3_2_9_units_out",{"$f":"'T2-B(PP4)'!$G$65","v":0},"#'T2-B(PP4)'!$G$65"]
["pp4_bl3_2_total",{"$f":"'T2-B(PP4)'!$J$56","v":0},"#'T2-B(PP4)'!$J$56"]
["pp4_bl3_2_total_in",{"$f":"'T2-B(PP4)'!$F$56","v":0},"#'T2-B(PP4)'!$F$56"]
["pp4_bl3_2_total_out",{"$f":"'T2-B(PP4)'!$I$56","v":0},"#'T2-B(PP4)'!$I$56"]
["pp4_bl3_3_1_name",{"$f":"'T2-B(PP4)'!$B$78","v":0},"#'T2-B(PP4)'!$B$78"]
["pp4_bl3_3_1_rate_in",{"$f":"'T2-B(PP4)'!$E$78","v":0},"#'T2-B(PP4)'!$E$78"]
["pp4_bl3_3_1_rate_out",{"$f":"'T2-B(PP4)'!$H$78","v":0},"#'T2-B(PP4)'!$H$78"]
["pp4_bl3_3_1_total",{"$f":"'T2-B(PP4)'!$J$78","v":0},"#'T2-B(PP4)'!$J$78"]
["pp4_bl3_3_1_total_in",{"$f":"'T2-B(PP4)'!$F$78","v":0},"#'T2-B(PP4)'!$F$78"]
["pp4_bl3_3_1_total_out",{"$f":"'T2-B(PP4)'!$I$78","v":0},"#'T2-B(PP4)'!$I$78"]
["pp4_bl3_3_1_unit",{"$f":"'T2-B(PP4)'!$C$78","v":0},"#'T2-B(PP4)'!$C$78"]
["pp4_bl3_3_1_unit_in",{"$f":"'T2-B(PP4)'!$D$78","v":0},"#'T2-B(PP4)'!$D$78"]
["pp4_bl3_3_1_units_out",{"$f":"'T2-B(PP4)'!$G$78","v":0},"#'T2-B(PP4)'!$G$78"]
["pp4_bl3_3_10_name",{"$f":"'T2-B(PP4)'!$B$87","v":0},"#'T2-B(PP4)'!$B$87"]
["pp4_bl3_3_10_rate_in",{"$f":"'T2-B(PP4)'!$E$87","v":0},"#'T2-B(PP4)'!$E$87"]
["pp4_bl3_3_10_rate_out",{"$f":"'T2-B(PP4)'!$H$87","v":0},"#'T2-B(PP4)'!$H$87"]
["pp4_bl3_3_10_total",{"$f":"'T2-B(PP4)'!$J$87","v":0},"#'T2-B(PP4)'!$J$87"]
["pp4_bl3_3_10_total_in",{"$f":"'T2-B(PP4)'!$F$87","v":0},"#'T2-B(PP4)'!$F$87"]
["pp4_bl3_3_10_total_out",{"$f":"'T2-B(PP4)'!$I$87","v":0},"#'T2-B(PP4)'!$I$87"]
["pp4_bl3_3_10_unit",{"$f":"'T2-B(PP4)'!$C$87","v":0},"#'T2-B(PP4)'!$C$87"]
["pp4_bl3_3_10_unit_in",{"$f":"'T2-B(PP4)'!$D$87","v":0},"#'T2-B(PP4)'!$D$87"]
["pp4_bl3_3_10_units_out",{"$f":"'T2-B(PP4)'!$G$87","v":0},"#'T2-B(PP4)'!$G$87"]
["pp4_bl3_3_2_name",{"$f":"'T2-B(PP4)'!$B$79","v":0},"#'T2-B(PP4)'!$B$79"]
["pp4_bl3_3_2_rate_in",{"$f":"'T2-B(PP4)'!$E$79","v":0},"#'T2-B(PP4)'!$E$79"]
["pp4_bl3_3_2_rate_out",{"$f":"'T2-B(PP4)'!$H$79","v":0},"#'T2-B(PP4)'!$H$79"]
["pp4_bl3_3_2_total",{"$f":"'T2-B(PP4)'!$J$79","v":0},"#'T2-B(PP4)'!$J$79"]
["pp4_bl3_3_2_total_in",{"$f":"'T2-B(PP4)'!$F$79","v":0},"#'T2-B(PP4)'!$F$79"]
["pp4_bl3_3_2_total_out",{"$f":"'T2-B(PP4)'!$I$79","v":0},"#'T2-B(PP4)'!$I$79"]
["pp4_bl3_3_2_unit",{"$f":"'T2-B(PP4)'!$C$79","v":0},"#'T2-B(PP4)'!$C$79"]
["pp4_bl3_3_2_unit_in",{"$f":"'T2-B(PP4)'!$D$79","v":0},"#'T2-B(PP4)'!$D$79"]
["pp4_bl3_3_2_units_out",{"$f":"'T2-B(PP4)'!$G$79","v":0},"#'T2-B(PP4)'!$G$79"]
["pp4_bl3_3_3_name",{"$f":"'T2-B(PP4)'!$B$80","v":0},"#'T2-B(PP4)'!$B$80"]
["pp4_bl3_3_3_rate_in",{"$f":"'T2-B(PP4)'!$E$80","v":0},"#'T2-B(PP4)'!$E$80"]
["pp4_bl3_3_3_rate_out",{"$f":"'T2-B(PP4)'!$H$80","v":0},"#'T2-B(PP4)'!$H$80"]
["pp4_bl3_3_3_total",{"$f":"'T2-B(PP4)'!$J$80","v":0},"#'T2-B(PP4)'!$J$80"]
["pp4_bl3_3_3_total_in",{"$f":"'T2-B(PP4)'!$F$80","v":0},"#'T2-B(PP4)'!$F$80"]
["pp4_bl3_3_3_total_out",{"$f":"'T2-B(PP4)'!$I$80","v":0},"#'T2-B(PP4)'!$I$80"]
["pp4_bl3_3_3_unit",{"$f":"'T2-B(PP4)'!$C$80","v":0},"#'T2-B(PP4)'!$C$80"]
["pp4_bl3_3_3_unit_in",{"$f":"'T2-B(PP4)'!$D$80","v":0},"#'T2-B(PP4)'!$D$80"]
["pp4_bl3_3_3_units_out",{"$f":"'T2-B(PP4)'!$G$80","v":0},"#'T2-B(PP4)'!$G$80"]
["pp4_bl3_3_4_name",{"$f":"'T2-B(PP4)'!$B$81","v":0},"#'T2-B(PP4)'!$B$81"]
["pp4_bl3_3_4_rate_in",{"$f":"'T2-B(PP4)'!$E$81","v":0},"#'T2-B(PP4)'!$E$81"]
["pp4_bl3_3_4_rate_out",{"$f":"'T2-B(PP4)'!$H$81","v":0},"#'T2-B(PP4)'!$H$81"]
["pp4_bl3_3_4_total",{"$f":"'T2-B(PP4)'!$J$81","v":0},"#'T2-B(PP4)'!$J$81"]
["pp4_bl3_3_4_total_in",{"$f":"'T2-B(PP4)'!$F$81","v":0},"#'T2-B(PP4)'!$F$81"]
["pp4_bl3_3_4_total_out",{"$f":"'T2-B(PP4)'!$I$81","v":0},"#'T2-B(PP4)'!$I$81"]
["pp4_bl3_3_4_unit",{"$f":"'T2-B(PP4)'!$C$81","v":0},"#'T2-B(PP4)'!$C$81"]
["pp4_bl3_3_4_unit_in",{"$f":"'T2-B(PP4)'!$D$81","v":0},"#'T2-B(PP4)'!$D$81"]
["pp4_bl3_3_4_units_out",{"$f":"'T2-B(PP4)'!$G$81","v":0},"#'T2-B(PP4)'!$G$81"]
["pp4_bl3_3_5_name",{"$f":"'T2-B(PP4)'!$B$82","v":0},"#'T2-B(PP4)'!$B$82"]
["pp4_bl3_3_5_rate_in",{"$f":"'T2-B(PP4)'!$E$82","v":0},"#'T2-B(PP4)'!$E$82"]
["pp4_bl3_3_5_rate_out",{"$f":"'T2-B(PP4)'!$H$82","v":0},"#'T2-B(PP4)'!$H$82"]
["pp4_bl3_3_5_total",{"$f":"'T2-B(PP4)'!$J$82","v":0},"#'T2-B(PP4)'!$J$82"]
["pp4_bl3_3_5_total_in",{"$f":"'T2-B(PP4)'!$F$82","v":0},"#'T2-B(PP4)'!$F$82"]
["pp4_bl3_3_5_total_out",{"$f":"'T2-B(PP4)'!$I$82","v":0},"#'T2-B(PP4)'!$I$82"]
["pp4_bl3_3_5_unit",{"$f":"'T2-B(PP4)'!$C$82","v":0},"#'T2-B(PP4)'!$C$82"]
["pp4_bl3_3_5_unit_in",{"$f":"'T2-B(PP4)'!$D$82","v":0},"#'T2-B(PP4)'!$D$82"]
["pp4_bl3_3_5_units_out",{"$f":"'T2-B(PP4)'!$G$82","v":0},"#'T2-B(PP4)'!$G$82"]
["pp4_bl3_3_6_name",{"$f":"'T2-B(PP4)'!$B$83","v":0},"#'T2-B(PP4)'!$B$83"]
["pp4_bl3_3_6_rate_in",{"$f":"'T2-B(PP4)'!$E$83","v":0},"#'T2-B(PP4)'!$E$83"]
["pp4_bl3_3_6_rate_out",{"$f":"'T2-B(PP4)'!$H$83","v":0},"#'T2-B(PP4)'!$H$83"]
["pp4_bl3_3_6_total",{"$f":"'T2-B(PP4)'!$J$83","v":0},"#'T2-B(PP4)'!$J$83"]
["pp4_bl3_3_6_total_in",{"$f":"'T2-B(PP4)'!$F$83","v":0},"#'T2-B(PP4)'!$F$83"]
["pp4_bl3_3_6_total_out",{"$f":"'T2-B(PP4)'!$I$83","v":0},"#'T2-B(PP4)'!$I$83"]
["pp4_bl3_3_6_unit",{"$f":"'T2-B(PP4)'!$C$83","v":0},"#'T2-B(PP4)'!$C$83"]
["pp4_bl3_3_6_unit_in",{"$f":"'T2-B(PP4)'!$D$83","v":0},"#'T2-B(PP4)'!$D$83"]
["pp4_bl3_3_6_units_out",{"$f":"'T2-B(PP4)'!$G$83","v":0},"#'T2-B(PP4)'!$G$83"]
["pp4_bl3_3_7_name",{"$f":"'T2-B(PP4)'!$B$84","v":0},"#'T2-B(PP4)'!$B$84"]
["pp4_bl3_3_7_rate_in",{"$f":"'T2-B(PP4)'!$E$84","v":0},"#'T2-B(PP4)'!$E$84"]
["pp4_bl3_3_7_rate_out",{"$f":"'T2-B(PP4)'!$H$84","v":0},"#'T2-B(PP4)'!$H$84"]
["pp4_bl3_3_7_total",{"$f":"'T2-B(PP4)'!$J$84","v":0},"#'T2-B(PP4)'!$J$84"]
["pp4_bl3_3_7_total_in",{"$f":"'T2-B(PP4)'!$F$84","v":0},"#'T2-B(PP4)'!$F$84"]
["pp4_bl3_3_7_total_out",{"$f":"'T2-B(PP4)'!$I$84","v":0},"#'T2-B(PP4)'!$I$84"]
["pp4_bl3_3_7_unit",{"$f":"'T2-B(PP4)'!$C$84","v":0},"#'T2-B(PP4)'!$C$84"]
["pp4_bl3_3_7_unit_in",{"$f":"'T2-B(PP4)'!$D$84","v":0},"#'T2-B(PP4)'!$D$84"]
["pp4_bl3_3_7_units_out",{"$f":"'T2-B(PP4)'!$G$84","v":0},"#'T2-B(PP4)'!$G$84"]
["pp4_bl3_3_8_name",{"$f":"'T2-B(PP4)'!$B$85","v":0},"#'T2-B(PP4)'!$B$85"]
["pp4_bl3_3_8_rate_in",{"$f":"'T2-B(PP4)'!$E$85","v":0},"#'T2-B(PP4)'!$E$85"]
["pp4_bl3_3_8_rate_out",{"$f":"'T2-B(PP4)'!$H$85","v":0},"#'T2-B(PP4)'!$H$85"]
["pp4_bl3_3_8_total",{"$f":"'T2-B(PP4)'!$J$85","v":0},"#'T2-B(PP4)'!$J$85"]
["pp4_bl3_3_8_total_in",{"$f":"'T2-B(PP4)'!$F$85","v":0},"#'T2-B(PP4)'!$F$85"]
["pp4_bl3_3_8_total_out",{"$f":"'T2-B(PP4)'!$I$85","v":0},"#'T2-B(PP4)'!$I$85"]
["pp4_bl3_3_8_unit",{"$f":"'T2-B(PP4)'!$C$85","v":0},"#'T2-B(PP4)'!$C$85"]
["pp4_bl3_3_8_unit_in",{"$f":"'T2-B(PP4)'!$D$85","v":0},"#'T2-B(PP4)'!$D$85"]
["pp4_bl3_3_8_units_out",{"$f":"'T2-B(PP4)'!$G$85","v":0},"#'T2-B(PP4)'!$G$85"]
["pp4_bl3_3_9_name",{"$f":"'T2-B(PP4)'!$B$86","v":0},"#'T2-B(PP4)'!$B$86"]
["pp4_bl3_3_9_rate_in",{"$f":"'T2-B(PP4)'!$E$86","v":0},"#'T2-B(PP4)'!$E$86"]
["pp4_bl3_3_9_rate_out",{"$f":"'T2-B(PP4)'!$H$86","v":0},"#'T2-B(PP4)'!$H$86"]
["pp4_bl3_3_9_total",{"$f":"'T2-B(PP4)'!$J$86","v":0},"#'T2-B(PP4)'!$J$86"]
["pp4_bl3_3_9_total_in",{"$f":"'T2-B(PP4)'!$F$86","v":0},"#'T2-B(PP4)'!$F$86"]
["pp4_bl3_3_9_total_out",{"$f":"'T2-B(PP4)'!$I$86","v":0},"#'T2-B(PP4)'!$I$86"]
["pp4_bl3_3_9_unit",{"$f":"'T2-B(PP4)'!$C$86","v":0},"#'T2-B(PP4)'!$C$86"]
["pp4_bl3_3_9_unit_in",{"$f":"'T2-B(PP4)'!$D$86","v":0},"#'T2-B(PP4)'!$D$86"]
["pp4_bl3_3_9_units_out",{"$f":"'T2-B(PP4)'!$G$86","v":0},"#'T2-B(PP4)'!$G$86"]
["pp4_bl3_3_total",{"$f":"'T2-B(PP4)'!$J$77","v":0},"#'T2-B(PP4)'!$J$77"]
["pp4_bl3_3_total_in",{"$f":"'T2-B(PP4)'!$F$77","v":0},"#'T2-B(PP4)'!$F$77"]
["pp4_bl3_3_total_out",{"$f":"'T2-B(PP4)'!$I$77","v":0},"#'T2-B(PP4)'!$I$77"]
["pp4_bl3_4_1_name",{"$f":"'T2-B(PP4)'!$B$99","v":0},"#'T2-B(PP4)'!$B$99"]
["pp4_bl3_4_1_rate_in",{"$f":"'T2-B(PP4)'!$E$99","v":0},"#'T2-B(PP4)'!$E$99"]
["pp4_bl3_4_1_rate_out",{"$f":"'T2-B(PP4)'!$H$99","v":0},"#'T2-B(PP4)'!$H$99"]
["pp4_bl3_4_1_total",{"$f":"'T2-B(PP4)'!$J$99","v":0},"#'T2-B(PP4)'!$J$99"]
["pp4_bl3_4_1_total_in",{"$f":"'T2-B(PP4)'!$F$99","v":0},"#'T2-B(PP4)'!$F$99"]
["pp4_bl3_4_1_total_out",{"$f":"'T2-B(PP4)'!$I$99","v":0},"#'T2-B(PP4)'!$I$99"]
["pp4_bl3_4_1_unit",{"$f":"'T2-B(PP4)'!$C$99","v":0},"#'T2-B(PP4)'!$C$99"]
["pp4_bl3_4_1_unit_in",{"$f":"'T2-B(PP4)'!$D$99","v":0},"#'T2-B(PP4)'!$D$99"]
["pp4_bl3_4_1_units_out",{"$f":"'T2-B(PP4)'!$G$99","v":0},"#'T2-B(PP4)'!$G$99"]
["pp4_bl3_4_10_name",{"$f":"'T2-B(PP4)'!$B$108","v":0},"#'T2-B(PP4)'!$B$108"]
["pp4_bl3_4_10_rate_in",{"$f":"'T2-B(PP4)'!$E$108","v":0},"#'T2-B(PP4)'!$E$108"]
["pp4_bl3_4_10_rate_out",{"$f":"'T2-B(PP4)'!$H$108","v":0},"#'T2-B(PP4)'!$H$108"]
["pp4_bl3_4_10_total",{"$f":"'T2-B(PP4)'!$J$108","v":0},"#'T2-B(PP4)'!$J$108"]
["pp4_bl3_4_10_total_in",{"$f":"'T2-B(PP4)'!$F$108","v":0},"#'T2-B(PP4)'!$F$108"]
["pp4_bl3_4_10_total_out",{"$f":"'T2-B(PP4)'!$I$108","v":0},"#'T2-B(PP4)'!$I$108"]
["pp4_bl3_4_10_unit",{"$f":"'T2-B(PP4)'!$C$108","v":0},"#'T2-B(PP4)'!$C$108"]
["pp4_bl3_4_10_unit_in",{"$f":"'T2-B(PP4)'!$D$108","v":0},"#'T2-B(PP4)'!$D$108"]
["pp4_bl3_4_10_units_out",{"$f":"'T2-B(PP4)'!$G$108","v":0},"#'T2-B(PP4)'!$G$108"]
["pp4_bl3_4_2_name",{"$f":"'T2-B(PP4)'!$B$100","v":0},"#'T2-B(PP4)'!$B$100"]
["pp4_bl3_4_2_rate_in",{"$f":"'T2-B(PP4)'!$E$100","v":0},"#'T2-B(PP4)'!$E$100"]
["pp4_bl3_4_2_rate_out",{"$f":"'T2-B(PP4)'!$H$100","v":0},"#'T2-B(PP4)'!$H$100"]
["pp4_bl3_4_2_total",{"$f":"'T2-B(PP4)'!$J$100","v":0},"#'T2-B(PP4)'!$J$100"]
["pp4_bl3_4_2_total_in",{"$f":"'T2-B(PP4)'!$F$100","v":0},"#'T2-B(PP4)'!$F$100"]
["pp4_bl3_4_2_total_out",{"$f":"'T2-B(PP4)'!$I$100","v":0},"#'T2-B(PP4)'!$I$100"]
["pp4_bl3_4_2_unit",{"$f":"'T2-B(PP4)'!$C$100","v":0},"#'T2-B(PP4)'!$C$100"]
["pp4_bl3_4_2_unit_in",{"$f":"'T2-B(PP4)'!$D$100","v":0},"#'T2-B(PP4)'!$D$100"]
["pp4_bl3_4_2_units_out",{"$f":"'T2-B(PP4)'!$G$100","v":0},"#'T2-B(PP4)'!$G$100"]
["pp4_bl3_4_3_name",{"$f":"'T2-B(PP4)'!$B$101","v":0},"#'T2-B(PP4)'!$B$101"]
["pp4_bl3_4_3_rate_in",{"$f":"'T2-B(PP4)'!$E$101","v":0},"#'T2-B(PP4)'!$E$101"]
["pp4_bl3_4_3_rate_out",{"$f":"'T2-B(PP4)'!$H$101","v":0},"#'T2-B(PP4)'!$H$101"]
["pp4_bl3_4_3_total",{"$f":"'T2-B(PP4)'!$J$101","v":0},"#'T2-B(PP4)'!$J$101"]
["pp4_bl3_4_3_total_in",{"$f":"'T2-B(PP4)'!$F$101","v":0},"#'T2-B(PP4)'!$F$101"]
["pp4_bl3_4_3_total_out",{"$f":"'T2-B(PP4)'!$I$101","v":0},"#'T2-B(PP4)'!$I$101"]
["pp4_bl3_4_3_unit",{"$f":"'T2-B(PP4)'!$C$101","v":0},"#'T2-B(PP4)'!$C$101"]
["pp4_bl3_4_3_unit_in",{"$f":"'T2-B(PP4)'!$D$101","v":0},"#'T2-B(PP4)'!$D$101"]
["pp4_bl3_4_3_units_out",{"$f":"'T2-B(PP4)'!$G$101","v":0},"#'T2-B(PP4)'!$G$101"]
["pp4_bl3_4_4_name",{"$f":"'T2-B(PP4)'!$B$102","v":0},"#'T2-B(PP4)'!$B$102"]
["pp4_bl3_4_4_rate_in",{"$f":"'T2-B(PP4)'!$E$102","v":0},"#'T2-B(PP4)'!$E$102"]
["pp4_bl3_4_4_rate_out",{"$f":"'T2-B(PP4)'!$H$102","v":0},"#'T2-B(PP4)'!$H$102"]
["pp4_bl3_4_4_total",{"$f":"'T2-B(PP4)'!$J$102","v":0},"#'T2-B(PP4)'!$J$102"]
["pp4_bl3_4_4_total_in",{"$f":"'T2-B(PP4)'!$F$102","v":0},"#'T2-B(PP4)'!$F$102"]
["pp4_bl3_4_4_total_out",{"$f":"'T2-B(PP4)'!$I$102","v":0},"#'T2-B(PP4)'!$I$102"]
["pp4_bl3_4_4_unit",{"$f":"'T2-B(PP4)'!$C$102","v":0},"#'T2-B(PP4)'!$C$102"]
["pp4_bl3_4_4_unit_in",{"$f":"'T2-B(PP4)'!$D$102","v":0},"#'T2-B(PP4)'!$D$102"]
["pp4_bl3_4_4_units_out",{"$f":"'T2-B(PP4)'!$G$102","v":0},"#'T2-B(PP4)'!$G$102"]
["pp4_bl3_4_5_name",{"$f":"'T2-B(PP4)'!$B$103","v":0},"#'T2-B(PP4)'!$B$103"]
["pp4_bl3_4_5_rate_in",{"$f":"'T2-B(PP4)'!$E$103","v":0},"#'T2-B(PP4)'!$E$103"]
["pp4_bl3_4_5_rate_out",{"$f":"'T2-B(PP4)'!$H$103","v":0},"#'T2-B(PP4)'!$H$103"]
["pp4_bl3_4_5_total",{"$f":"'T2-B(PP4)'!$J$103","v":0},"#'T2-B(PP4)'!$J$103"]
["pp4_bl3_4_5_total_in",{"$f":"'T2-B(PP4)'!$F$103","v":0},"#'T2-B(PP4)'!$F$103"]
["pp4_bl3_4_5_total_out",{"$f":"'T2-B(PP4)'!$I$103","v":0},"#'T2-B(PP4)'!$I$103"]
["pp4_bl3_4_5_unit",{"$f":"'T2-B(PP4)'!$C$103","v":0},"#'T2-B(PP4)'!$C$103"]
["pp4_bl3_4_5_unit_in",{"$f":"'T2-B(PP4)'!$D$103","v":0},"#'T2-B(PP4)'!$D$103"]
["pp4_bl3_4_5_units_out",{"$f":"'T2-B(PP4)'!$G$103","v":0},"#'T2-B(PP4)'!$G$103"]
["pp4_bl3_4_6_name",{"$f":"'T2-B(PP4)'!$B$104","v":0},"#'T2-B(PP4)'!$B$104"]
["pp4_bl3_4_6_rate_in",{"$f":"'T2-B(PP4)'!$E$104","v":0},"#'T2-B(PP4)'!$E$104"]
["pp4_bl3_4_6_rate_out",{"$f":"'T2-B(PP4)'!$H$104","v":0},"#'T2-B(PP4)'!$H$104"]
["pp4_bl3_4_6_total",{"$f":"'T2-B(PP4)'!$J$104","v":0},"#'T2-B(PP4)'!$J$104"]
["pp4_bl3_4_6_total_in",{"$f":"'T2-B(PP4)'!$F$104","v":0},"#'T2-B(PP4)'!$F$104"]
["pp4_bl3_4_6_total_out",{"$f":"'T2-B(PP4)'!$I$104","v":0},"#'T2-B(PP4)'!$I$104"]
["pp4_bl3_4_6_unit",{"$f":"'T2-B(PP4)'!$C$104","v":0},"#'T2-B(PP4)'!$C$104"]
["pp4_bl3_4_6_unit_in",{"$f":"'T2-B(PP4)'!$D$104","v":0},"#'T2-B(PP4)'!$D$104"]
["pp4_bl3_4_6_units_out",{"$f":"'T2-B(PP4)'!$G$104","v":0},"#'T2-B(PP4)'!$G$104"]
["pp4_bl3_4_7_name",{"$f":"'T2-B(PP4)'!$B$105","v":0},"#'T2-B(PP4)'!$B$105"]
["pp4_bl3_4_7_rate_in",{"$f":"'T2-B(PP4)'!$E$105","v":0},"#'T2-B(PP4)'!$E$105"]
["pp4_bl3_4_7_rate_out",{"$f":"'T2-B(PP4)'!$H$105","v":0},"#'T2-B(PP4)'!$H$105"]
["pp4_bl3_4_7_total",{"$f":"'T2-B(PP4)'!$J$105","v":0},"#'T2-B(PP4)'!$J$105"]
["pp4_bl3_4_7_total_in",{"$f":"'T2-B(PP4)'!$F$105","v":0},"#'T2-B(PP4)'!$F$105"]
["pp4_bl3_4_7_total_out",{"$f":"'T2-B(PP4)'!$I$105","v":0},"#'T2-B(PP4)'!$I$105"]
["pp4_bl3_4_7_unit",{"$f":"'T2-B(PP4)'!$C$105","v":0},"#'T2-B(PP4)'!$C$105"]
["pp4_bl3_4_7_unit_in",{"$f":"'T2-B(PP4)'!$D$105","v":0},"#'T2-B(PP4)'!$D$105"]
["pp4_bl3_4_7_units_out",{"$f":"'T2-B(PP4)'!$G$105","v":0},"#'T2-B(PP4)'!$G$105"]
["pp4_bl3_4_8_name",{"$f":"'T2-B(PP4)'!$B$106","v":0},"#'T2-B(PP4)'!$B$106"]
["pp4_bl3_4_8_rate_in",{"$f":"'T2-B(PP4)'!$E$106","v":0},"#'T2-B(PP4)'!$E$106"]
["pp4_bl3_4_8_rate_out",{"$f":"'T2-B(PP4)'!$H$106","v":0},"#'T2-B(PP4)'!$H$106"]
["pp4_bl3_4_8_total",{"$f":"'T2-B(PP4)'!$J$106","v":0},"#'T2-B(PP4)'!$J$106"]
["pp4_bl3_4_8_total_in",{"$f":"'T2-B(PP4)'!$F$106","v":0},"#'T2-B(PP4)'!$F$106"]
["pp4_bl3_4_8_total_out",{"$f":"'T2-B(PP4)'!$I$106","v":0},"#'T2-B(PP4)'!$I$106"]
["pp4_bl3_4_8_unit",{"$f":"'T2-B(PP4)'!$C$106","v":0},"#'T2-B(PP4)'!$C$106"]
["pp4_bl3_4_8_unit_in",{"$f":"'T2-B(PP4)'!$D$106","v":0},"#'T2-B(PP4)'!$D$106"]
["pp4_bl3_4_8_units_out",{"$f":"'T2-B(PP4)'!$G$106","v":0},"#'T2-B(PP4)'!$G$106"]
["pp4_bl3_4_9_name",{"$f":"'T2-B(PP4)'!$B$107","v":0},"#'T2-B(PP4)'!$B$107"]
["pp4_bl3_4_9_rate_in",{"$f":"'T2-B(PP4)'!$E$107","v":0},"#'T2-B(PP4)'!$E$107"]
["pp4_bl3_4_9_rate_out",{"$f":"'T2-B(PP4)'!$H$107","v":0},"#'T2-B(PP4)'!$H$107"]
["pp4_bl3_4_9_total",{"$f":"'T2-B(PP4)'!$J$107","v":0},"#'T2-B(PP4)'!$J$107"]
["pp4_bl3_4_9_total_in",{"$f":"'T2-B(PP4)'!$F$107","v":0},"#'T2-B(PP4)'!$F$107"]
["pp4_bl3_4_9_total_out",{"$f":"'T2-B(PP4)'!$I$107","v":0},"#'T2-B(PP4)'!$I$107"]
["pp4_bl3_4_9_unit",{"$f":"'T2-B(PP4)'!$C$107","v":0},"#'T2-B(PP4)'!$C$107"]
["pp4_bl3_4_9_unit_in",{"$f":"'T2-B(PP4)'!$D$107","v":0},"#'T2-B(PP4)'!$D$107"]
["pp4_bl3_4_9_units_out",{"$f":"'T2-B(PP4)'!$G$107","v":0},"#'T2-B(PP4)'!$G$107"]
["pp4_bl3_4_total",{"$f":"'T2-B(PP4)'!$J$98","v":0},"#'T2-B(PP4)'!$J$98"]
["pp4_bl3_4_total_in",{"$f":"'T2-B(PP4)'!$F$98","v":0},"#'T2-B(PP4)'!$F$98"]
["pp4_bl3_4_total_out",{"$f":"'T2-B(PP4)'!$I$98","v":0},"#'T2-B(PP4)'!$I$98"]
["pp4_bl3_total",{"$f":"'T2-B(PP4)'!$J$109","v":0},"#'T2-B(PP4)'!$J$109"]
["pp4_bl3_total_in",{"$f":"'T2-B(PP4)'!$F$109","v":0},"#'T2-B(PP4)'!$F$109"]
["pp4_bl3_total_out",{"$f":"'T2-B(PP4)'!$I$109","v":0},"#'T2-B(PP4)'!$I$109"]
["pp4_bl4_1_1_name",{"$f":"'T2-B(PP4)'!$B$114","v":0},"#'T2-B(PP4)'!$B$114"]
["pp4_bl4_1_1_rate_in",{"$f":"'T2-B(PP4)'!$E$114","v":0},"#'T2-B(PP4)'!$E$114"]
["pp4_bl4_1_1_rate_out",{"$f":"'T2-B(PP4)'!$H$114","v":0},"#'T2-B(PP4)'!$H$114"]
["pp4_bl4_1_1_total",{"$f":"'T2-B(PP4)'!$J$114","v":0},"#'T2-B(PP4)'!$J$114"]
["pp4_bl4_1_1_total_in",{"$f":"'T2-B(PP4)'!$F$114","v":0},"#'T2-B(PP4)'!$F$114"]
["pp4_bl4_1_1_total_out",{"$f":"'T2-B(PP4)'!$I$114","v":0},"#'T2-B(PP4)'!$I$114"]
["pp4_bl4_1_1_unit",{"$f":"'T2-B(PP4)'!$C$114","v":0},"#'T2-B(PP4)'!$C$114"]
["pp4_bl4_1_1_unit_in",{"$f":"'T2-B(PP4)'!$D$114","v":0},"#'T2-B(PP4)'!$D$114"]
["pp4_bl4_1_1_units_out",{"$f":"'T2-B(PP4)'!$G$114","v":0},"#'T2-B(PP4)'!$G$114"]
["pp4_bl4_1_10_name",{"$f":"'T2-B(PP4)'!$B$123","v":0},"#'T2-B(PP4)'!$B$123"]
["pp4_bl4_1_10_rate_in",{"$f":"'T2-B(PP4)'!$E$123","v":0},"#'T2-B(PP4)'!$E$123"]
["pp4_bl4_1_10_rate_out",{"$f":"'T2-B(PP4)'!$H$123","v":0},"#'T2-B(PP4)'!$H$123"]
["pp4_bl4_1_10_total",{"$f":"'T2-B(PP4)'!$J$123","v":0},"#'T2-B(PP4)'!$J$123"]
["pp4_bl4_1_10_total_in",{"$f":"'T2-B(PP4)'!$F$123","v":0},"#'T2-B(PP4)'!$F$123"]
["pp4_bl4_1_10_total_out",{"$f":"'T2-B(PP4)'!$I$123","v":0},"#'T2-B(PP4)'!$I$123"]
["pp4_bl4_1_10_unit",{"$f":"'T2-B(PP4)'!$C$123","v":0},"#'T2-B(PP4)'!$C$123"]
["pp4_bl4_1_10_unit_in",{"$f":"'T2-B(PP4)'!$D$123","v":0},"#'T2-B(PP4)'!$D$123"]
["pp4_bl4_1_10_units_out",{"$f":"'T2-B(PP4)'!$G$123","v":0},"#'T2-B(PP4)'!$G$123"]
["pp4_bl4_1_2_name",{"$f":"'T2-B(PP4)'!$B$115","v":0},"#'T2-B(PP4)'!$B$115"]
["pp4_bl4_1_2_rate_in",{"$f":"'T2-B(PP4)'!$E$115","v":0},"#'T2-B(PP4)'!$E$115"]
["pp4_bl4_1_2_rate_out",{"$f":"'T2-B(PP4)'!$H$115","v":0},"#'T2-B(PP4)'!$H$115"]
["pp4_bl4_1_2_total",{"$f":"'T2-B(PP4)'!$J$115","v":0},"#'T2-B(PP4)'!$J$115"]
["pp4_bl4_1_2_total_in",{"$f":"'T2-B(PP4)'!$F$115","v":0},"#'T2-B(PP4)'!$F$115"]
["pp4_bl4_1_2_total_out",{"$f":"'T2-B(PP4)'!$I$115","v":0},"#'T2-B(PP4)'!$I$115"]
["pp4_bl4_1_2_unit",{"$f":"'T2-B(PP4)'!$C$115","v":0},"#'T2-B(PP4)'!$C$115"]
["pp4_bl4_1_2_unit_in",{"$f":"'T2-B(PP4)'!$D$115","v":0},"#'T2-B(PP4)'!$D$115"]
["pp4_bl4_1_2_units_out",{"$f":"'T2-B(PP4)'!$G$115","v":0},"#'T2-B(PP4)'!$G$115"]
["pp4_bl4_1_3_name",{"$f":"'T2-B(PP4)'!$B$116","v":0},"#'T2-B(PP4)'!$B$116"]
["pp4_bl4_1_3_rate_in",{"$f":"'T2-B(PP4)'!$E$116","v":0},"#'T2-B(PP4)'!$E$116"]
["pp4_bl4_1_3_rate_out",{"$f":"'T2-B(PP4)'!$H$116","v":0},"#'T2-B(PP4)'!$H$116"]
["pp4_bl4_1_3_total",{"$f":"'T2-B(PP4)'!$J$116","v":0},"#'T2-B(PP4)'!$J$116"]
["pp4_bl4_1_3_total_in",{"$f":"'T2-B(PP4)'!$F$116","v":0},"#'T2-B(PP4)'!$F$116"]
["pp4_bl4_1_3_total_out",{"$f":"'T2-B(PP4)'!$I$116","v":0},"#'T2-B(PP4)'!$I$116"]
["pp4_bl4_1_3_unit",{"$f":"'T2-B(PP4)'!$C$116","v":0},"#'T2-B(PP4)'!$C$116"]
["pp4_bl4_1_3_unit_in",{"$f":"'T2-B(PP4)'!$D$116","v":0},"#'T2-B(PP4)'!$D$116"]
["pp4_bl4_1_3_units_out",{"$f":"'T2-B(PP4)'!$G$116","v":0},"#'T2-B(PP4)'!$G$116"]
["pp4_bl4_1_4_name",{"$f":"'T2-B(PP4)'!$B$117","v":0},"#'T2-B(PP4)'!$B$117"]
["pp4_bl4_1_4_rate_in",{"$f":"'T2-B(PP4)'!$E$117","v":0},"#'T2-B(PP4)'!$E$117"]
["pp4_bl4_1_4_rate_out",{"$f":"'T2-B(PP4)'!$H$117","v":0},"#'T2-B(PP4)'!$H$117"]
["pp4_bl4_1_4_total",{"$f":"'T2-B(PP4)'!$J$117","v":0},"#'T2-B(PP4)'!$J$117"]
["pp4_bl4_1_4_total_in",{"$f":"'T2-B(PP4)'!$F$117","v":0},"#'T2-B(PP4)'!$F$117"]
["pp4_bl4_1_4_total_out",{"$f":"'T2-B(PP4)'!$I$117","v":0},"#'T2-B(PP4)'!$I$117"]
["pp4_bl4_1_4_unit",{"$f":"'T2-B(PP4)'!$C$117","v":0},"#'T2-B(PP4)'!$C$117"]
["pp4_bl4_1_4_unit_in",{"$f":"'T2-B(PP4)'!$D$117","v":0},"#'T2-B(PP4)'!$D$117"]
["pp4_bl4_1_4_units_out",{"$f":"'T2-B(PP4)'!$G$117","v":0},"#'T2-B(PP4)'!$G$117"]
["pp4_bl4_1_5_name",{"$f":"'T2-B(PP4)'!$B$118","v":0},"#'T2-B(PP4)'!$B$118"]
["pp4_bl4_1_5_rate_in",{"$f":"'T2-B(PP4)'!$E$118","v":0},"#'T2-B(PP4)'!$E$118"]
["pp4_bl4_1_5_rate_out",{"$f":"'T2-B(PP4)'!$H$118","v":0},"#'T2-B(PP4)'!$H$118"]
["pp4_bl4_1_5_total",{"$f":"'T2-B(PP4)'!$J$118","v":0},"#'T2-B(PP4)'!$J$118"]
["pp4_bl4_1_5_total_in",{"$f":"'T2-B(PP4)'!$F$118","v":0},"#'T2-B(PP4)'!$F$118"]
["pp4_bl4_1_5_total_out",{"$f":"'T2-B(PP4)'!$I$118","v":0},"#'T2-B(PP4)'!$I$118"]
["pp4_bl4_1_5_unit",{"$f":"'T2-B(PP4)'!$C$118","v":0},"#'T2-B(PP4)'!$C$118"]
["pp4_bl4_1_5_unit_in",{"$f":"'T2-B(PP4)'!$D$118","v":0},"#'T2-B(PP4)'!$D$118"]
["pp4_bl4_1_5_units_out",{"$f":"'T2-B(PP4)'!$G$118","v":0},"#'T2-B(PP4)'!$G$118"]
["pp4_bl4_1_6_name",{"$f":"'T2-B(PP4)'!$B$119","v":0},"#'T2-B(PP4)'!$B$119"]
["pp4_bl4_1_6_rate_in",{"$f":"'T2-B(PP4)'!$E$119","v":0},"#'T2-B(PP4)'!$E$119"]
["pp4_bl4_1_6_rate_out",{"$f":"'T2-B(PP4)'!$H$119","v":0},"#'T2-B(PP4)'!$H$119"]
["pp4_bl4_1_6_total",{"$f":"'T2-B(PP4)'!$J$119","v":0},"#'T2-B(PP4)'!$J$119"]
["pp4_bl4_1_6_total_in",{"$f":"'T2-B(PP4)'!$F$119","v":0},"#'T2-B(PP4)'!$F$119"]
["pp4_bl4_1_6_total_out",{"$f":"'T2-B(PP4)'!$I$119","v":0},"#'T2-B(PP4)'!$I$119"]
["pp4_bl4_1_6_unit",{"$f":"'T2-B(PP4)'!$C$119","v":0},"#'T2-B(PP4)'!$C$119"]
["pp4_bl4_1_6_unit_in",{"$f":"'T2-B(PP4)'!$D$119","v":0},"#'T2-B(PP4)'!$D$119"]
["pp4_bl4_1_6_units_out",{"$f":"'T2-B(PP4)'!$G$119","v":0},"#'T2-B(PP4)'!$G$119"]
["pp4_bl4_1_7_name",{"$f":"'T2-B(PP4)'!$B$120","v":0},"#'T2-B(PP4)'!$B$120"]
["pp4_bl4_1_7_rate_in",{"$f":"'T2-B(PP4)'!$E$120","v":0},"#'T2-B(PP4)'!$E$120"]
["pp4_bl4_1_7_rate_out",{"$f":"'T2-B(PP4)'!$H$120","v":0},"#'T2-B(PP4)'!$H$120"]
["pp4_bl4_1_7_total",{"$f":"'T2-B(PP4)'!$J$120","v":0},"#'T2-B(PP4)'!$J$120"]
["pp4_bl4_1_7_total_in",{"$f":"'T2-B(PP4)'!$F$120","v":0},"#'T2-B(PP4)'!$F$120"]
["pp4_bl4_1_7_total_out",{"$f":"'T2-B(PP4)'!$I$120","v":0},"#'T2-B(PP4)'!$I$120"]
["pp4_bl4_1_7_unit",{"$f":"'T2-B(PP4)'!$C$120","v":0},"#'T2-B(PP4)'!$C$120"]
["pp4_bl4_1_7_unit_in",{"$f":"'T2-B(PP4)'!$D$120","v":0},"#'T2-B(PP4)'!$D$120"]
["pp4_bl4_1_7_units_out",{"$f":"'T2-B(PP4)'!$G$120","v":0},"#'T2-B(PP4)'!$G$120"]
["pp4_bl4_1_8_name",{"$f":"'T2-B(PP4)'!$B$121","v":0},"#'T2-B(PP4)'!$B$121"]
["pp4_bl4_1_8_rate_in",{"$f":"'T2-B(PP4)'!$E$121","v":0},"#'T2-B(PP4)'!$E$121"]
["pp4_bl4_1_8_rate_out",{"$f":"'T2-B(PP4)'!$H$121","v":0},"#'T2-B(PP4)'!$H$121"]
["pp4_bl4_1_8_total",{"$f":"'T2-B(PP4)'!$J$121","v":0},"#'T2-B(PP4)'!$J$121"]
["pp4_bl4_1_8_total_in",{"$f":"'T2-B(PP4)'!$F$121","v":0},"#'T2-B(PP4)'!$F$121"]
["pp4_bl4_1_8_total_out",{"$f":"'T2-B(PP4)'!$I$121","v":0},"#'T2-B(PP4)'!$I$121"]
["pp4_bl4_1_8_unit",{"$f":"'T2-B(PP4)'!$C$121","v":0},"#'T2-B(PP4)'!$C$121"]
["pp4_bl4_1_8_unit_in",{"$f":"'T2-B(PP4)'!$D$121","v":0},"#'T2-B(PP4)'!$D$121"]
["pp4_bl4_1_8_units_out",{"$f":"'T2-B(PP4)'!$G$121","v":0},"#'T2-B(PP4)'!$G$121"]
["pp4_bl4_1_9_name",{"$f":"'T2-B(PP4)'!$B$122","v":0},"#'T2-B(PP4)'!$B$122"]
["pp4_bl4_1_9_rate_in",{"$f":"'T2-B(PP4)'!$E$122","v":0},"#'T2-B(PP4)'!$E$122"]
["pp4_bl4_1_9_rate_out",{"$f":"'T2-B(PP4)'!$H$122","v":0},"#'T2-B(PP4)'!$H$122"]
["pp4_bl4_1_9_total",{"$f":"'T2-B(PP4)'!$J$122","v":0},"#'T2-B(PP4)'!$J$122"]
["pp4_bl4_1_9_total_in",{"$f":"'T2-B(PP4)'!$F$122","v":0},"#'T2-B(PP4)'!$F$122"]
["pp4_bl4_1_9_total_out",{"$f":"'T2-B(PP4)'!$I$122","v":0},"#'T2-B(PP4)'!$I$122"]
["pp4_bl4_1_9_unit",{"$f":"'T2-B(PP4)'!$C$122","v":0},"#'T2-B(PP4)'!$C$122"]
["pp4_bl4_1_9_unit_in",{"$f":"'T2-B(PP4)'!$D$122","v":0},"#'T2-B(PP4)'!$D$122"]
["pp4_bl4_1_9_units_out",{"$f":"'T2-B(PP4)'!$G$122","v":0},"#'T2-B(PP4)'!$G$122"]
["pp4_bl4_1_total",{"$f":"'T2-B(PP4)'!$J$113","v":0},"#'T2-B(PP4)'!$J$113"]
["pp4_bl4_1_total_in",{"$f":"'T2-B(PP4)'!$F$113","v":0},"#'T2-B(PP4)'!$F$113"]
["pp4_bl4_1_total_out",{"$f":"'T2-B(PP4)'!$I$113","v":0},"#'T2-B(PP4)'!$I$113"]
["pp4_bl4_10_1_name",{"$f":"'T2-B(PP4)'!$B$303","v":0},"#'T2-B(PP4)'!$B$303"]
["pp4_bl4_10_1_rate_in",{"$f":"'T2-B(PP4)'!$E$303","v":0},"#'T2-B(PP4)'!$E$303"]
["pp4_bl4_10_1_rate_out",{"$f":"'T2-B(PP4)'!$H$303","v":0},"#'T2-B(PP4)'!$H$303"]
["pp4_bl4_10_1_total",{"$f":"'T2-B(PP4)'!$J$303","v":0},"#'T2-B(PP4)'!$J$303"]
["pp4_bl4_10_1_total_in",{"$f":"'T2-B(PP4)'!$F$303","v":0},"#'T2-B(PP4)'!$F$303"]
["pp4_bl4_10_1_total_out",{"$f":"'T2-B(PP4)'!$I$303","v":0},"#'T2-B(PP4)'!$I$303"]
["pp4_bl4_10_1_unit",{"$f":"'T2-B(PP4)'!$C$303","v":0},"#'T2-B(PP4)'!$C$303"]
["pp4_bl4_10_1_unit_in",{"$f":"'T2-B(PP4)'!$D$303","v":0},"#'T2-B(PP4)'!$D$303"]
["pp4_bl4_10_1_units_out",{"$f":"'T2-B(PP4)'!$G$303","v":0},"#'T2-B(PP4)'!$G$303"]
["pp4_bl4_10_10_name",{"$f":"'T2-B(PP4)'!$B$312","v":0},"#'T2-B(PP4)'!$B$312"]
["pp4_bl4_10_10_rate_in",{"$f":"'T2-B(PP4)'!$E$312","v":0},"#'T2-B(PP4)'!$E$312"]
["pp4_bl4_10_10_rate_out",{"$f":"'T2-B(PP4)'!$H$312","v":0},"#'T2-B(PP4)'!$H$312"]
["pp4_bl4_10_10_total",{"$f":"'T2-B(PP4)'!$J$312","v":0},"#'T2-B(PP4)'!$J$312"]
["pp4_bl4_10_10_total_in",{"$f":"'T2-B(PP4)'!$F$312","v":0},"#'T2-B(PP4)'!$F$312"]
["pp4_bl4_10_10_total_out",{"$f":"'T2-B(PP4)'!$I$312","v":0},"#'T2-B(PP4)'!$I$312"]
["pp4_bl4_10_10_unit",{"$f":"'T2-B(PP4)'!$C$312","v":0},"#'T2-B(PP4)'!$C$312"]
["pp4_bl4_10_10_unit_in",{"$f":"'T2-B(PP4)'!$D$312","v":0},"#'T2-B(PP4)'!$D$312"]
["pp4_bl4_10_10_units_out",{"$f":"'T2-B(PP4)'!$G$312","v":0},"#'T2-B(PP4)'!$G$312"]
["pp4_bl4_10_2_name",{"$f":"'T2-B(PP4)'!$B$304","v":0},"#'T2-B(PP4)'!$B$304"]
["pp4_bl4_10_2_rate_in",{"$f":"'T2-B(PP4)'!$E$304","v":0},"#'T2-B(PP4)'!$E$304"]
["pp4_bl4_10_2_rate_out",{"$f":"'T2-B(PP4)'!$H$304","v":0},"#'T2-B(PP4)'!$H$304"]
["pp4_bl4_10_2_total",{"$f":"'T2-B(PP4)'!$J$304","v":0},"#'T2-B(PP4)'!$J$304"]
["pp4_bl4_10_2_total_in",{"$f":"'T2-B(PP4)'!$F$304","v":0},"#'T2-B(PP4)'!$F$304"]
["pp4_bl4_10_2_total_out",{"$f":"'T2-B(PP4)'!$I$304","v":0},"#'T2-B(PP4)'!$I$304"]
["pp4_bl4_10_2_unit",{"$f":"'T2-B(PP4)'!$C$304","v":0},"#'T2-B(PP4)'!$C$304"]
["pp4_bl4_10_2_unit_in",{"$f":"'T2-B(PP4)'!$D$304","v":0},"#'T2-B(PP4)'!$D$304"]
["pp4_bl4_10_2_units_out",{"$f":"'T2-B(PP4)'!$G$304","v":0},"#'T2-B(PP4)'!$G$304"]
["pp4_bl4_10_3_name",{"$f":"'T2-B(PP4)'!$B$305","v":0},"#'T2-B(PP4)'!$B$305"]
["pp4_bl4_10_3_rate_in",{"$f":"'T2-B(PP4)'!$E$305","v":0},"#'T2-B(PP4)'!$E$305"]
["pp4_bl4_10_3_rate_out",{"$f":"'T2-B(PP4)'!$H$305","v":0},"#'T2-B(PP4)'!$H$305"]
["pp4_bl4_10_3_total",{"$f":"'T2-B(PP4)'!$J$305","v":0},"#'T2-B(PP4)'!$J$305"]
["pp4_bl4_10_3_total_in",{"$f":"'T2-B(PP4)'!$F$305","v":0},"#'T2-B(PP4)'!$F$305"]
["pp4_bl4_10_3_total_out",{"$f":"'T2-B(PP4)'!$I$305","v":0},"#'T2-B(PP4)'!$I$305"]
["pp4_bl4_10_3_unit",{"$f":"'T2-B(PP4)'!$C$305","v":0},"#'T2-B(PP4)'!$C$305"]
["pp4_bl4_10_3_unit_in",{"$f":"'T2-B(PP4)'!$D$305","v":0},"#'T2-B(PP4)'!$D$305"]
["pp4_bl4_10_3_units_out",{"$f":"'T2-B(PP4)'!$G$305","v":0},"#'T2-B(PP4)'!$G$305"]
["pp4_bl4_10_4_name",{"$f":"'T2-B(PP4)'!$B$306","v":0},"#'T2-B(PP4)'!$B$306"]
["pp4_bl4_10_4_rate_in",{"$f":"'T2-B(PP4)'!$E$306","v":0},"#'T2-B(PP4)'!$E$306"]
["pp4_bl4_10_4_rate_out",{"$f":"'T2-B(PP4)'!$H$306","v":0},"#'T2-B(PP4)'!$H$306"]
["pp4_bl4_10_4_total",{"$f":"'T2-B(PP4)'!$J$306","v":0},"#'T2-B(PP4)'!$J$306"]
["pp4_bl4_10_4_total_in",{"$f":"'T2-B(PP4)'!$F$306","v":0},"#'T2-B(PP4)'!$F$306"]
["pp4_bl4_10_4_total_out",{"$f":"'T2-B(PP4)'!$I$306","v":0},"#'T2-B(PP4)'!$I$306"]
["pp4_bl4_10_4_unit",{"$f":"'T2-B(PP4)'!$C$306","v":0},"#'T2-B(PP4)'!$C$306"]
["pp4_bl4_10_4_unit_in",{"$f":"'T2-B(PP4)'!$D$306","v":0},"#'T2-B(PP4)'!$D$306"]
["pp4_bl4_10_4_units_out",{"$f":"'T2-B(PP4)'!$G$306","v":0},"#'T2-B(PP4)'!$G$306"]
["pp4_bl4_10_5_name",{"$f":"'T2-B(PP4)'!$B$307","v":0},"#'T2-B(PP4)'!$B$307"]
["pp4_bl4_10_5_rate_in",{"$f":"'T2-B(PP4)'!$E$307","v":0},"#'T2-B(PP4)'!$E$307"]
["pp4_bl4_10_5_rate_out",{"$f":"'T2-B(PP4)'!$H$307","v":0},"#'T2-B(PP4)'!$H$307"]
["pp4_bl4_10_5_total",{"$f":"'T2-B(PP4)'!$J$307","v":0},"#'T2-B(PP4)'!$J$307"]
["pp4_bl4_10_5_total_in",{"$f":"'T2-B(PP4)'!$F$307","v":0},"#'T2-B(PP4)'!$F$307"]
["pp4_bl4_10_5_total_out",{"$f":"'T2-B(PP4)'!$I$307","v":0},"#'T2-B(PP4)'!$I$307"]
["pp4_bl4_10_5_unit",{"$f":"'T2-B(PP4)'!$C$307","v":0},"#'T2-B(PP4)'!$C$307"]
["pp4_bl4_10_5_unit_in",{"$f":"'T2-B(PP4)'!$D$307","v":0},"#'T2-B(PP4)'!$D$307"]
["pp4_bl4_10_5_units_out",{"$f":"'T2-B(PP4)'!$G$307","v":0},"#'T2-B(PP4)'!$G$307"]
["pp4_bl4_10_6_name",{"$f":"'T2-B(PP4)'!$B$308","v":0},"#'T2-B(PP4)'!$B$308"]
["pp4_bl4_10_6_rate_in",{"$f":"'T2-B(PP4)'!$E$308","v":0},"#'T2-B(PP4)'!$E$308"]
["pp4_bl4_10_6_rate_out",{"$f":"'T2-B(PP4)'!$H$308","v":0},"#'T2-B(PP4)'!$H$308"]
["pp4_bl4_10_6_total",{"$f":"'T2-B(PP4)'!$J$308","v":0},"#'T2-B(PP4)'!$J$308"]
["pp4_bl4_10_6_total_in",{"$f":"'T2-B(PP4)'!$F$308","v":0},"#'T2-B(PP4)'!$F$308"]
["pp4_bl4_10_6_total_out",{"$f":"'T2-B(PP4)'!$I$308","v":0},"#'T2-B(PP4)'!$I$308"]
["pp4_bl4_10_6_unit",{"$f":"'T2-B(PP4)'!$C$308","v":0},"#'T2-B(PP4)'!$C$308"]
["pp4_bl4_10_6_unit_in",{"$f":"'T2-B(PP4)'!$D$308","v":0},"#'T2-B(PP4)'!$D$308"]
["pp4_bl4_10_6_units_out",{"$f":"'T2-B(PP4)'!$G$308","v":0},"#'T2-B(PP4)'!$G$308"]
["pp4_bl4_10_7_name",{"$f":"'T2-B(PP4)'!$B$309","v":0},"#'T2-B(PP4)'!$B$309"]
["pp4_bl4_10_7_rate_in",{"$f":"'T2-B(PP4)'!$E$309","v":0},"#'T2-B(PP4)'!$E$309"]
["pp4_bl4_10_7_rate_out",{"$f":"'T2-B(PP4)'!$H$309","v":0},"#'T2-B(PP4)'!$H$309"]
["pp4_bl4_10_7_total",{"$f":"'T2-B(PP4)'!$J$309","v":0},"#'T2-B(PP4)'!$J$309"]
["pp4_bl4_10_7_total_in",{"$f":"'T2-B(PP4)'!$F$309","v":0},"#'T2-B(PP4)'!$F$309"]
["pp4_bl4_10_7_total_out",{"$f":"'T2-B(PP4)'!$I$309","v":0},"#'T2-B(PP4)'!$I$309"]
["pp4_bl4_10_7_unit",{"$f":"'T2-B(PP4)'!$C$309","v":0},"#'T2-B(PP4)'!$C$309"]
["pp4_bl4_10_7_unit_in",{"$f":"'T2-B(PP4)'!$D$309","v":0},"#'T2-B(PP4)'!$D$309"]
["pp4_bl4_10_7_units_out",{"$f":"'T2-B(PP4)'!$G$309","v":0},"#'T2-B(PP4)'!$G$309"]
["pp4_bl4_10_8_name",{"$f":"'T2-B(PP4)'!$B$310","v":0},"#'T2-B(PP4)'!$B$310"]
["pp4_bl4_10_8_rate_in",{"$f":"'T2-B(PP4)'!$E$310","v":0},"#'T2-B(PP4)'!$E$310"]
["pp4_bl4_10_8_rate_out",{"$f":"'T2-B(PP4)'!$H$310","v":0},"#'T2-B(PP4)'!$H$310"]
["pp4_bl4_10_8_total",{"$f":"'T2-B(PP4)'!$J$310","v":0},"#'T2-B(PP4)'!$J$310"]
["pp4_bl4_10_8_total_in",{"$f":"'T2-B(PP4)'!$F$310","v":0},"#'T2-B(PP4)'!$F$310"]
["pp4_bl4_10_8_total_out",{"$f":"'T2-B(PP4)'!$I$310","v":0},"#'T2-B(PP4)'!$I$310"]
["pp4_bl4_10_8_unit",{"$f":"'T2-B(PP4)'!$C$310","v":0},"#'T2-B(PP4)'!$C$310"]
["pp4_bl4_10_8_unit_in",{"$f":"'T2-B(PP4)'!$D$310","v":0},"#'T2-B(PP4)'!$D$310"]
["pp4_bl4_10_8_units_out",{"$f":"'T2-B(PP4)'!$G$310","v":0},"#'T2-B(PP4)'!$G$310"]
["pp4_bl4_10_9_name",{"$f":"'T2-B(PP4)'!$B$311","v":0},"#'T2-B(PP4)'!$B$311"]
["pp4_bl4_10_9_rate_in",{"$f":"'T2-B(PP4)'!$E$311","v":0},"#'T2-B(PP4)'!$E$311"]
["pp4_bl4_10_9_rate_out",{"$f":"'T2-B(PP4)'!$H$311","v":0},"#'T2-B(PP4)'!$H$311"]
["pp4_bl4_10_9_total",{"$f":"'T2-B(PP4)'!$J$311","v":0},"#'T2-B(PP4)'!$J$311"]
["pp4_bl4_10_9_total_in",{"$f":"'T2-B(PP4)'!$F$311","v":0},"#'T2-B(PP4)'!$F$311"]
["pp4_bl4_10_9_total_out",{"$f":"'T2-B(PP4)'!$I$311","v":0},"#'T2-B(PP4)'!$I$311"]
["pp4_bl4_10_9_unit",{"$f":"'T2-B(PP4)'!$C$311","v":0},"#'T2-B(PP4)'!$C$311"]
["pp4_bl4_10_9_unit_in",{"$f":"'T2-B(PP4)'!$D$311","v":0},"#'T2-B(PP4)'!$D$311"]
["pp4_bl4_10_9_units_out",{"$f":"'T2-B(PP4)'!$G$311","v":0},"#'T2-B(PP4)'!$G$311"]
["pp4_bl4_10_total",{"$f":"'T2-B(PP4)'!$J$302","v":0},"#'T2-B(PP4)'!$J$302"]
["pp4_bl4_10_total_in",{"$f":"'T2-B(PP4)'!$F$302","v":0},"#'T2-B(PP4)'!$F$302"]
["pp4_bl4_10_total_out",{"$f":"'T2-B(PP4)'!$I$302","v":0},"#'T2-B(PP4)'!$I$302"]
["pp4_bl4_11_1_name",{"$f":"'T2-B(PP4)'!$B$324","v":0},"#'T2-B(PP4)'!$B$324"]
["pp4_bl4_11_1_rate_in",{"$f":"'T2-B(PP4)'!$E$324","v":0},"#'T2-B(PP4)'!$E$324"]
["pp4_bl4_11_1_rate_out",{"$f":"'T2-B(PP4)'!$H$324","v":0},"#'T2-B(PP4)'!$H$324"]
["pp4_bl4_11_1_total",{"$f":"'T2-B(PP4)'!$J$324","v":0},"#'T2-B(PP4)'!$J$324"]
["pp4_bl4_11_1_total_in",{"$f":"'T2-B(PP4)'!$F$324","v":0},"#'T2-B(PP4)'!$F$324"]
["pp4_bl4_11_1_total_out",{"$f":"'T2-B(PP4)'!$I$324","v":0},"#'T2-B(PP4)'!$I$324"]
["pp4_bl4_11_1_unit",{"$f":"'T2-B(PP4)'!$C$324","v":0},"#'T2-B(PP4)'!$C$324"]
["pp4_bl4_11_1_unit_in",{"$f":"'T2-B(PP4)'!$D$324","v":0},"#'T2-B(PP4)'!$D$324"]
["pp4_bl4_11_1_units_out",{"$f":"'T2-B(PP4)'!$G$324","v":0},"#'T2-B(PP4)'!$G$324"]
["pp4_bl4_11_10_name",{"$f":"'T2-B(PP4)'!$B$333","v":0},"#'T2-B(PP4)'!$B$333"]
["pp4_bl4_11_10_rate_in",{"$f":"'T2-B(PP4)'!$E$333","v":0},"#'T2-B(PP4)'!$E$333"]
["pp4_bl4_11_10_rate_out",{"$f":"'T2-B(PP4)'!$H$333","v":0},"#'T2-B(PP4)'!$H$333"]
["pp4_bl4_11_10_total",{"$f":"'T2-B(PP4)'!$J$333","v":0},"#'T2-B(PP4)'!$J$333"]
["pp4_bl4_11_10_total_in",{"$f":"'T2-B(PP4)'!$F$333","v":0},"#'T2-B(PP4)'!$F$333"]
["pp4_bl4_11_10_total_out",{"$f":"'T2-B(PP4)'!$I$333","v":0},"#'T2-B(PP4)'!$I$333"]
["pp4_bl4_11_10_unit",{"$f":"'T2-B(PP4)'!$C$333","v":0},"#'T2-B(PP4)'!$C$333"]
["pp4_bl4_11_10_unit_in",{"$f":"'T2-B(PP4)'!$D$333","v":0},"#'T2-B(PP4)'!$D$333"]
["pp4_bl4_11_10_units_out",{"$f":"'T2-B(PP4)'!$G$333","v":0},"#'T2-B(PP4)'!$G$333"]
["pp4_bl4_11_2_name",{"$f":"'T2-B(PP4)'!$B$325","v":0},"#'T2-B(PP4)'!$B$325"]
["pp4_bl4_11_2_rate_in",{"$f":"'T2-B(PP4)'!$E$325","v":0},"#'T2-B(PP4)'!$E$325"]
["pp4_bl4_11_2_rate_out",{"$f":"'T2-B(PP4)'!$H$325","v":0},"#'T2-B(PP4)'!$H$325"]
["pp4_bl4_11_2_total",{"$f":"'T2-B(PP4)'!$J$325","v":0},"#'T2-B(PP4)'!$J$325"]
["pp4_bl4_11_2_total_in",{"$f":"'T2-B(PP4)'!$F$325","v":0},"#'T2-B(PP4)'!$F$325"]
["pp4_bl4_11_2_total_out",{"$f":"'T2-B(PP4)'!$I$325","v":0},"#'T2-B(PP4)'!$I$325"]
["pp4_bl4_11_2_unit",{"$f":"'T2-B(PP4)'!$C$325","v":0},"#'T2-B(PP4)'!$C$325"]
["pp4_bl4_11_2_unit_in",{"$f":"'T2-B(PP4)'!$D$325","v":0},"#'T2-B(PP4)'!$D$325"]
["pp4_bl4_11_2_units_out",{"$f":"'T2-B(PP4)'!$G$325","v":0},"#'T2-B(PP4)'!$G$325"]
["pp4_bl4_11_3_name",{"$f":"'T2-B(PP4)'!$B$326","v":0},"#'T2-B(PP4)'!$B$326"]
["pp4_bl4_11_3_rate_in",{"$f":"'T2-B(PP4)'!$E$326","v":0},"#'T2-B(PP4)'!$E$326"]
["pp4_bl4_11_3_rate_out",{"$f":"'T2-B(PP4)'!$H$326","v":0},"#'T2-B(PP4)'!$H$326"]
["pp4_bl4_11_3_total",{"$f":"'T2-B(PP4)'!$J$326","v":0},"#'T2-B(PP4)'!$J$326"]
["pp4_bl4_11_3_total_in",{"$f":"'T2-B(PP4)'!$F$326","v":0},"#'T2-B(PP4)'!$F$326"]
["pp4_bl4_11_3_total_out",{"$f":"'T2-B(PP4)'!$I$326","v":0},"#'T2-B(PP4)'!$I$326"]
["pp4_bl4_11_3_unit",{"$f":"'T2-B(PP4)'!$C$326","v":0},"#'T2-B(PP4)'!$C$326"]
["pp4_bl4_11_3_unit_in",{"$f":"'T2-B(PP4)'!$D$326","v":0},"#'T2-B(PP4)'!$D$326"]
["pp4_bl4_11_3_units_out",{"$f":"'T2-B(PP4)'!$G$326","v":0},"#'T2-B(PP4)'!$G$326"]
["pp4_bl4_11_4_name",{"$f":"'T2-B(PP4)'!$B$327","v":0},"#'T2-B(PP4)'!$B$327"]
["pp4_bl4_11_4_rate_in",{"$f":"'T2-B(PP4)'!$E$327","v":0},"#'T2-B(PP4)'!$E$327"]
["pp4_bl4_11_4_rate_out",{"$f":"'T2-B(PP4)'!$H$327","v":0},"#'T2-B(PP4)'!$H$327"]
["pp4_bl4_11_4_total",{"$f":"'T2-B(PP4)'!$J$327","v":0},"#'T2-B(PP4)'!$J$327"]
["pp4_bl4_11_4_total_in",{"$f":"'T2-B(PP4)'!$F$327","v":0},"#'T2-B(PP4)'!$F$327"]
["pp4_bl4_11_4_total_out",{"$f":"'T2-B(PP4)'!$I$327","v":0},"#'T2-B(PP4)'!$I$327"]
["pp4_bl4_11_4_unit",{"$f":"'T2-B(PP4)'!$C$327","v":0},"#'T2-B(PP4)'!$C$327"]
["pp4_bl4_11_4_unit_in",{"$f":"'T2-B(PP4)'!$D$327","v":0},"#'T2-B(PP4)'!$D$327"]
["pp4_bl4_11_4_units_out",{"$f":"'T2-B(PP4)'!$G$327","v":0},"#'T2-B(PP4)'!$G$327"]
["pp4_bl4_11_5_name",{"$f":"'T2-B(PP4)'!$B$328","v":0},"#'T2-B(PP4)'!$B$328"]
["pp4_bl4_11_5_rate_in",{"$f":"'T2-B(PP4)'!$E$328","v":0},"#'T2-B(PP4)'!$E$328"]
["pp4_bl4_11_5_rate_out",{"$f":"'T2-B(PP4)'!$H$328","v":0},"#'T2-B(PP4)'!$H$328"]
["pp4_bl4_11_5_total",{"$f":"'T2-B(PP4)'!$J$328","v":0},"#'T2-B(PP4)'!$J$328"]
["pp4_bl4_11_5_total_in",{"$f":"'T2-B(PP4)'!$F$328","v":0},"#'T2-B(PP4)'!$F$328"]
["pp4_bl4_11_5_total_out",{"$f":"'T2-B(PP4)'!$I$328","v":0},"#'T2-B(PP4)'!$I$328"]
["pp4_bl4_11_5_unit",{"$f":"'T2-B(PP4)'!$C$328","v":0},"#'T2-B(PP4)'!$C$328"]
["pp4_bl4_11_5_unit_in",{"$f":"'T2-B(PP4)'!$D$328","v":0},"#'T2-B(PP4)'!$D$328"]
["pp4_bl4_11_5_units_out",{"$f":"'T2-B(PP4)'!$G$328","v":0},"#'T2-B(PP4)'!$G$328"]
["pp4_bl4_11_6_name",{"$f":"'T2-B(PP4)'!$B$329","v":0},"#'T2-B(PP4)'!$B$329"]
["pp4_bl4_11_6_rate_in",{"$f":"'T2-B(PP4)'!$E$329","v":0},"#'T2-B(PP4)'!$E$329"]
["pp4_bl4_11_6_rate_out",{"$f":"'T2-B(PP4)'!$H$329","v":0},"#'T2-B(PP4)'!$H$329"]
["pp4_bl4_11_6_total",{"$f":"'T2-B(PP4)'!$J$329","v":0},"#'T2-B(PP4)'!$J$329"]
["pp4_bl4_11_6_total_in",{"$f":"'T2-B(PP4)'!$F$329","v":0},"#'T2-B(PP4)'!$F$329"]
["pp4_bl4_11_6_total_out",{"$f":"'T2-B(PP4)'!$I$329","v":0},"#'T2-B(PP4)'!$I$329"]
["pp4_bl4_11_6_unit",{"$f":"'T2-B(PP4)'!$C$329","v":0},"#'T2-B(PP4)'!$C$329"]
["pp4_bl4_11_6_unit_in",{"$f":"'T2-B(PP4)'!$D$329","v":0},"#'T2-B(PP4)'!$D$329"]
["pp4_bl4_11_6_units_out",{"$f":"'T2-B(PP4)'!$G$329","v":0},"#'T2-B(PP4)'!$G$329"]
["pp4_bl4_11_7_name",{"$f":"'T2-B(PP4)'!$B$330","v":0},"#'T2-B(PP4)'!$B$330"]
["pp4_bl4_11_7_rate_in",{"$f":"'T2-B(PP4)'!$E$330","v":0},"#'T2-B(PP4)'!$E$330"]
["pp4_bl4_11_7_rate_out",{"$f":"'T2-B(PP4)'!$H$330","v":0},"#'T2-B(PP4)'!$H$330"]
["pp4_bl4_11_7_total",{"$f":"'T2-B(PP4)'!$J$330","v":0},"#'T2-B(PP4)'!$J$330"]
["pp4_bl4_11_7_total_in",{"$f":"'T2-B(PP4)'!$F$330","v":0},"#'T2-B(PP4)'!$F$330"]
["pp4_bl4_11_7_total_out",{"$f":"'T2-B(PP4)'!$I$330","v":0},"#'T2-B(PP4)'!$I$330"]
["pp4_bl4_11_7_unit",{"$f":"'T2-B(PP4)'!$C$330","v":0},"#'T2-B(PP4)'!$C$330"]
["pp4_bl4_11_7_unit_in",{"$f":"'T2-B(PP4)'!$D$330","v":0},"#'T2-B(PP4)'!$D$330"]
["pp4_bl4_11_7_units_out",{"$f":"'T2-B(PP4)'!$G$330","v":0},"#'T2-B(PP4)'!$G$330"]
["pp4_bl4_11_8_name",{"$f":"'T2-B(PP4)'!$B$331","v":0},"#'T2-B(PP4)'!$B$331"]
["pp4_bl4_11_8_rate_in",{"$f":"'T2-B(PP4)'!$E$331","v":0},"#'T2-B(PP4)'!$E$331"]
["pp4_bl4_11_8_rate_out",{"$f":"'T2-B(PP4)'!$H$331","v":0},"#'T2-B(PP4)'!$H$331"]
["pp4_bl4_11_8_total",{"$f":"'T2-B(PP4)'!$J$331","v":0},"#'T2-B(PP4)'!$J$331"]
["pp4_bl4_11_8_total_in",{"$f":"'T2-B(PP4)'!$F$331","v":0},"#'T2-B(PP4)'!$F$331"]
["pp4_bl4_11_8_total_out",{"$f":"'T2-B(PP4)'!$I$331","v":0},"#'T2-B(PP4)'!$I$331"]
["pp4_bl4_11_8_unit",{"$f":"'T2-B(PP4)'!$C$331","v":0},"#'T2-B(PP4)'!$C$331"]
["pp4_bl4_11_8_unit_in",{"$f":"'T2-B(PP4)'!$D$331","v":0},"#'T2-B(PP4)'!$D$331"]
["pp4_bl4_11_8_units_out",{"$f":"'T2-B(PP4)'!$G$331","v":0},"#'T2-B(PP4)'!$G$331"]
["pp4_bl4_11_9_name",{"$f":"'T2-B(PP4)'!$B$332","v":0},"#'T2-B(PP4)'!$B$332"]
["pp4_bl4_11_9_rate_in",{"$f":"'T2-B(PP4)'!$E$332","v":0},"#'T2-B(PP4)'!$E$332"]
["pp4_bl4_11_9_rate_out",{"$f":"'T2-B(PP4)'!$H$332","v":0},"#'T2-B(PP4)'!$H$332"]
["pp4_bl4_11_9_total",{"$f":"'T2-B(PP4)'!$J$332","v":0},"#'T2-B(PP4)'!$J$332"]
["pp4_bl4_11_9_total_in",{"$f":"'T2-B(PP4)'!$F$332","v":0},"#'T2-B(PP4)'!$F$332"]
["pp4_bl4_11_9_total_out",{"$f":"'T2-B(PP4)'!$I$332","v":0},"#'T2-B(PP4)'!$I$332"]
["pp4_bl4_11_9_unit",{"$f":"'T2-B(PP4)'!$C$332","v":0},"#'T2-B(PP4)'!$C$332"]
["pp4_bl4_11_9_unit_in",{"$f":"'T2-B(PP4)'!$D$332","v":0},"#'T2-B(PP4)'!$D$332"]
["pp4_bl4_11_9_units_out",{"$f":"'T2-B(PP4)'!$G$332","v":0},"#'T2-B(PP4)'!$G$332"]
["pp4_bl4_11_total",{"$f":"'T2-B(PP4)'!$J$323","v":0},"#'T2-B(PP4)'!$J$323"]
["pp4_bl4_11_total_in",{"$f":"'T2-B(PP4)'!$F$323","v":0},"#'T2-B(PP4)'!$F$323"]
["pp4_bl4_11_total_out",{"$f":"'T2-B(PP4)'!$I$323","v":0},"#'T2-B(PP4)'!$I$323"]
["pp4_bl4_12_1_name",{"$f":"'T2-B(PP4)'!$B$345","v":0},"#'T2-B(PP4)'!$B$345"]
["pp4_bl4_12_1_rate_in",{"$f":"'T2-B(PP4)'!$E$345","v":0},"#'T2-B(PP4)'!$E$345"]
["pp4_bl4_12_1_rate_out",{"$f":"'T2-B(PP4)'!$H$345","v":0},"#'T2-B(PP4)'!$H$345"]
["pp4_bl4_12_1_total",{"$f":"'T2-B(PP4)'!$J$345","v":0},"#'T2-B(PP4)'!$J$345"]
["pp4_bl4_12_1_total_in",{"$f":"'T2-B(PP4)'!$F$345","v":0},"#'T2-B(PP4)'!$F$345"]
["pp4_bl4_12_1_total_out",{"$f":"'T2-B(PP4)'!$I$345","v":0},"#'T2-B(PP4)'!$I$345"]
["pp4_bl4_12_1_unit",{"$f":"'T2-B(PP4)'!$C$345","v":0},"#'T2-B(PP4)'!$C$345"]
["pp4_bl4_12_1_unit_in",{"$f":"'T2-B(PP4)'!$D$345","v":0},"#'T2-B(PP4)'!$D$345"]
["pp4_bl4_12_1_units_out",{"$f":"'T2-B(PP4)'!$G$345","v":0},"#'T2-B(PP4)'!$G$345"]
["pp4_bl4_12_10_name",{"$f":"'T2-B(PP4)'!$B$354","v":0},"#'T2-B(PP4)'!$B$354"]
["pp4_bl4_12_10_rate_in",{"$f":"'T2-B(PP4)'!$E$354","v":0},"#'T2-B(PP4)'!$E$354"]
["pp4_bl4_12_10_rate_out",{"$f":"'T2-B(PP4)'!$H$354","v":0},"#'T2-B(PP4)'!$H$354"]
["pp4_bl4_12_10_total",{"$f":"'T2-B(PP4)'!$J$354","v":0},"#'T2-B(PP4)'!$J$354"]
["pp4_bl4_12_10_total_in",{"$f":"'T2-B(PP4)'!$F$354","v":0},"#'T2-B(PP4)'!$F$354"]
["pp4_bl4_12_10_total_out",{"$f":"'T2-B(PP4)'!$I$354","v":0},"#'T2-B(PP4)'!$I$354"]
["pp4_bl4_12_10_unit",{"$f":"'T2-B(PP4)'!$C$354","v":0},"#'T2-B(PP4)'!$C$354"]
["pp4_bl4_12_10_unit_in",{"$f":"'T2-B(PP4)'!$D$354","v":0},"#'T2-B(PP4)'!$D$354"]
["pp4_bl4_12_10_units_out",{"$f":"'T2-B(PP4)'!$G$354","v":0},"#'T2-B(PP4)'!$G$354"]
["pp4_bl4_12_2_name",{"$f":"'T2-B(PP4)'!$B$346","v":0},"#'T2-B(PP4)'!$B$346"]
["pp4_bl4_12_2_rate_in",{"$f":"'T2-B(PP4)'!$E$346","v":0},"#'T2-B(PP4)'!$E$346"]
["pp4_bl4_12_2_rate_out",{"$f":"'T2-B(PP4)'!$H$346","v":0},"#'T2-B(PP4)'!$H$346"]
["pp4_bl4_12_2_total",{"$f":"'T2-B(PP4)'!$J$346","v":0},"#'T2-B(PP4)'!$J$346"]
["pp4_bl4_12_2_total_in",{"$f":"'T2-B(PP4)'!$F$346","v":0},"#'T2-B(PP4)'!$F$346"]
["pp4_bl4_12_2_total_out",{"$f":"'T2-B(PP4)'!$I$346","v":0},"#'T2-B(PP4)'!$I$346"]
["pp4_bl4_12_2_unit",{"$f":"'T2-B(PP4)'!$C$346","v":0},"#'T2-B(PP4)'!$C$346"]
["pp4_bl4_12_2_unit_in",{"$f":"'T2-B(PP4)'!$D$346","v":0},"#'T2-B(PP4)'!$D$346"]
["pp4_bl4_12_2_units_out",{"$f":"'T2-B(PP4)'!$G$346","v":0},"#'T2-B(PP4)'!$G$346"]
["pp4_bl4_12_3_name",{"$f":"'T2-B(PP4)'!$B$347","v":0},"#'T2-B(PP4)'!$B$347"]
["pp4_bl4_12_3_rate_in",{"$f":"'T2-B(PP4)'!$E$347","v":0},"#'T2-B(PP4)'!$E$347"]
["pp4_bl4_12_3_rate_out",{"$f":"'T2-B(PP4)'!$H$347","v":0},"#'T2-B(PP4)'!$H$347"]
["pp4_bl4_12_3_total",{"$f":"'T2-B(PP4)'!$J$347","v":0},"#'T2-B(PP4)'!$J$347"]
["pp4_bl4_12_3_total_in",{"$f":"'T2-B(PP4)'!$F$347","v":0},"#'T2-B(PP4)'!$F$347"]
["pp4_bl4_12_3_total_out",{"$f":"'T2-B(PP4)'!$I$347","v":0},"#'T2-B(PP4)'!$I$347"]
["pp4_bl4_12_3_unit",{"$f":"'T2-B(PP4)'!$C$347","v":0},"#'T2-B(PP4)'!$C$347"]
["pp4_bl4_12_3_unit_in",{"$f":"'T2-B(PP4)'!$D$347","v":0},"#'T2-B(PP4)'!$D$347"]
["pp4_bl4_12_3_units_out",{"$f":"'T2-B(PP4)'!$G$347","v":0},"#'T2-B(PP4)'!$G$347"]
["pp4_bl4_12_4_name",{"$f":"'T2-B(PP4)'!$B$348","v":0},"#'T2-B(PP4)'!$B$348"]
["pp4_bl4_12_4_rate_in",{"$f":"'T2-B(PP4)'!$E$348","v":0},"#'T2-B(PP4)'!$E$348"]
["pp4_bl4_12_4_rate_out",{"$f":"'T2-B(PP4)'!$H$348","v":0},"#'T2-B(PP4)'!$H$348"]
["pp4_bl4_12_4_total",{"$f":"'T2-B(PP4)'!$J$348","v":0},"#'T2-B(PP4)'!$J$348"]
["pp4_bl4_12_4_total_in",{"$f":"'T2-B(PP4)'!$F$348","v":0},"#'T2-B(PP4)'!$F$348"]
["pp4_bl4_12_4_total_out",{"$f":"'T2-B(PP4)'!$I$348","v":0},"#'T2-B(PP4)'!$I$348"]
["pp4_bl4_12_4_unit",{"$f":"'T2-B(PP4)'!$C$348","v":0},"#'T2-B(PP4)'!$C$348"]
["pp4_bl4_12_4_unit_in",{"$f":"'T2-B(PP4)'!$D$348","v":0},"#'T2-B(PP4)'!$D$348"]
["pp4_bl4_12_4_units_out",{"$f":"'T2-B(PP4)'!$G$348","v":0},"#'T2-B(PP4)'!$G$348"]
["pp4_bl4_12_5_name",{"$f":"'T2-B(PP4)'!$B$349","v":0},"#'T2-B(PP4)'!$B$349"]
["pp4_bl4_12_5_rate_in",{"$f":"'T2-B(PP4)'!$E$349","v":0},"#'T2-B(PP4)'!$E$349"]
["pp4_bl4_12_5_rate_out",{"$f":"'T2-B(PP4)'!$H$349","v":0},"#'T2-B(PP4)'!$H$349"]
["pp4_bl4_12_5_total",{"$f":"'T2-B(PP4)'!$J$349","v":0},"#'T2-B(PP4)'!$J$349"]
["pp4_bl4_12_5_total_in",{"$f":"'T2-B(PP4)'!$F$349","v":0},"#'T2-B(PP4)'!$F$349"]
["pp4_bl4_12_5_total_out",{"$f":"'T2-B(PP4)'!$I$349","v":0},"#'T2-B(PP4)'!$I$349"]
["pp4_bl4_12_5_unit",{"$f":"'T2-B(PP4)'!$C$349","v":0},"#'T2-B(PP4)'!$C$349"]
["pp4_bl4_12_5_unit_in",{"$f":"'T2-B(PP4)'!$D$349","v":0},"#'T2-B(PP4)'!$D$349"]
["pp4_bl4_12_5_units_out",{"$f":"'T2-B(PP4)'!$G$349","v":0},"#'T2-B(PP4)'!$G$349"]
["pp4_bl4_12_6_name",{"$f":"'T2-B(PP4)'!$B$350","v":0},"#'T2-B(PP4)'!$B$350"]
["pp4_bl4_12_6_rate_in",{"$f":"'T2-B(PP4)'!$E$350","v":0},"#'T2-B(PP4)'!$E$350"]
["pp4_bl4_12_6_rate_out",{"$f":"'T2-B(PP4)'!$H$350","v":0},"#'T2-B(PP4)'!$H$350"]
["pp4_bl4_12_6_total",{"$f":"'T2-B(PP4)'!$J$350","v":0},"#'T2-B(PP4)'!$J$350"]
["pp4_bl4_12_6_total_in",{"$f":"'T2-B(PP4)'!$F$350","v":0},"#'T2-B(PP4)'!$F$350"]
["pp4_bl4_12_6_total_out",{"$f":"'T2-B(PP4)'!$I$350","v":0},"#'T2-B(PP4)'!$I$350"]
["pp4_bl4_12_6_unit",{"$f":"'T2-B(PP4)'!$C$350","v":0},"#'T2-B(PP4)'!$C$350"]
["pp4_bl4_12_6_unit_in",{"$f":"'T2-B(PP4)'!$D$350","v":0},"#'T2-B(PP4)'!$D$350"]
["pp4_bl4_12_6_units_out",{"$f":"'T2-B(PP4)'!$G$350","v":0},"#'T2-B(PP4)'!$G$350"]
["pp4_bl4_12_7_name",{"$f":"'T2-B(PP4)'!$B$351","v":0},"#'T2-B(PP4)'!$B$351"]
["pp4_bl4_12_7_rate_in",{"$f":"'T2-B(PP4)'!$E$351","v":0},"#'T2-B(PP4)'!$E$351"]
["pp4_bl4_12_7_rate_out",{"$f":"'T2-B(PP4)'!$H$351","v":0},"#'T2-B(PP4)'!$H$351"]
["pp4_bl4_12_7_total",{"$f":"'T2-B(PP4)'!$J$351","v":0},"#'T2-B(PP4)'!$J$351"]
["pp4_bl4_12_7_total_in",{"$f":"'T2-B(PP4)'!$F$351","v":0},"#'T2-B(PP4)'!$F$351"]
["pp4_bl4_12_7_total_out",{"$f":"'T2-B(PP4)'!$I$351","v":0},"#'T2-B(PP4)'!$I$351"]
["pp4_bl4_12_7_unit",{"$f":"'T2-B(PP4)'!$C$351","v":0},"#'T2-B(PP4)'!$C$351"]
["pp4_bl4_12_7_unit_in",{"$f":"'T2-B(PP4)'!$D$351","v":0},"#'T2-B(PP4)'!$D$351"]
["pp4_bl4_12_7_units_out",{"$f":"'T2-B(PP4)'!$G$351","v":0},"#'T2-B(PP4)'!$G$351"]
["pp4_bl4_12_8_name",{"$f":"'T2-B(PP4)'!$B$352","v":0},"#'T2-B(PP4)'!$B$352"]
["pp4_bl4_12_8_rate_in",{"$f":"'T2-B(PP4)'!$E$352","v":0},"#'T2-B(PP4)'!$E$352"]
["pp4_bl4_12_8_rate_out",{"$f":"'T2-B(PP4)'!$H$352","v":0},"#'T2-B(PP4)'!$H$352"]
["pp4_bl4_12_8_total",{"$f":"'T2-B(PP4)'!$J$352","v":0},"#'T2-B(PP4)'!$J$352"]
["pp4_bl4_12_8_total_in",{"$f":"'T2-B(PP4)'!$F$352","v":0},"#'T2-B(PP4)'!$F$352"]
["pp4_bl4_12_8_total_out",{"$f":"'T2-B(PP4)'!$I$352","v":0},"#'T2-B(PP4)'!$I$352"]
["pp4_bl4_12_8_unit",{"$f":"'T2-B(PP4)'!$C$352","v":0},"#'T2-B(PP4)'!$C$352"]
["pp4_bl4_12_8_unit_in",{"$f":"'T2-B(PP4)'!$D$352","v":0},"#'T2-B(PP4)'!$D$352"]
["pp4_bl4_12_8_units_out",{"$f":"'T2-B(PP4)'!$G$352","v":0},"#'T2-B(PP4)'!$G$352"]
["pp4_bl4_12_9_name",{"$f":"'T2-B(PP4)'!$B$353","v":0},"#'T2-B(PP4)'!$B$353"]
["pp4_bl4_12_9_rate_in",{"$f":"'T2-B(PP4)'!$E$353","v":0},"#'T2-B(PP4)'!$E$353"]
["pp4_bl4_12_9_rate_out",{"$f":"'T2-B(PP4)'!$H$353","v":0},"#'T2-B(PP4)'!$H$353"]
["pp4_bl4_12_9_total",{"$f":"'T2-B(PP4)'!$J$353","v":0},"#'T2-B(PP4)'!$J$353"]
["pp4_bl4_12_9_total_in",{"$f":"'T2-B(PP4)'!$F$353","v":0},"#'T2-B(PP4)'!$F$353"]
["pp4_bl4_12_9_total_out",{"$f":"'T2-B(PP4)'!$I$353","v":0},"#'T2-B(PP4)'!$I$353"]
["pp4_bl4_12_9_unit",{"$f":"'T2-B(PP4)'!$C$353","v":0},"#'T2-B(PP4)'!$C$353"]
["pp4_bl4_12_9_unit_in",{"$f":"'T2-B(PP4)'!$D$353","v":0},"#'T2-B(PP4)'!$D$353"]
["pp4_bl4_12_9_units_out",{"$f":"'T2-B(PP4)'!$G$353","v":0},"#'T2-B(PP4)'!$G$353"]
["pp4_bl4_12_total",{"$f":"'T2-B(PP4)'!$J$344","v":0},"#'T2-B(PP4)'!$J$344"]
["pp4_bl4_12_total_in",{"$f":"'T2-B(PP4)'!$F$344","v":0},"#'T2-B(PP4)'!$F$344"]
["pp4_bl4_12_total_out",{"$f":"'T2-B(PP4)'!$I$344","v":0},"#'T2-B(PP4)'!$I$344"]
["pp4_bl4_2_1_name",{"$f":"'T2-B(PP4)'!$B$135","v":0},"#'T2-B(PP4)'!$B$135"]
["pp4_bl4_2_1_rate_in",{"$f":"'T2-B(PP4)'!$E$135","v":0},"#'T2-B(PP4)'!$E$135"]
["pp4_bl4_2_1_rate_out",{"$f":"'T2-B(PP4)'!$H$135","v":0},"#'T2-B(PP4)'!$H$135"]
["pp4_bl4_2_1_total",{"$f":"'T2-B(PP4)'!$J$135","v":0},"#'T2-B(PP4)'!$J$135"]
["pp4_bl4_2_1_total_in",{"$f":"'T2-B(PP4)'!$F$135","v":0},"#'T2-B(PP4)'!$F$135"]
["pp4_bl4_2_1_total_out",{"$f":"'T2-B(PP4)'!$I$135","v":0},"#'T2-B(PP4)'!$I$135"]
["pp4_bl4_2_1_unit",{"$f":"'T2-B(PP4)'!$C$135","v":0},"#'T2-B(PP4)'!$C$135"]
["pp4_bl4_2_1_unit_in",{"$f":"'T2-B(PP4)'!$D$135","v":0},"#'T2-B(PP4)'!$D$135"]
["pp4_bl4_2_1_units_out",{"$f":"'T2-B(PP4)'!$G$135","v":0},"#'T2-B(PP4)'!$G$135"]
["pp4_bl4_2_10_name",{"$f":"'T2-B(PP4)'!$B$144","v":0},"#'T2-B(PP4)'!$B$144"]
["pp4_bl4_2_10_rate_in",{"$f":"'T2-B(PP4)'!$E$144","v":0},"#'T2-B(PP4)'!$E$144"]
["pp4_bl4_2_10_rate_out",{"$f":"'T2-B(PP4)'!$H$144","v":0},"#'T2-B(PP4)'!$H$144"]
["pp4_bl4_2_10_total",{"$f":"'T2-B(PP4)'!$J$144","v":0},"#'T2-B(PP4)'!$J$144"]
["pp4_bl4_2_10_total_in",{"$f":"'T2-B(PP4)'!$F$144","v":0},"#'T2-B(PP4)'!$F$144"]
["pp4_bl4_2_10_total_out",{"$f":"'T2-B(PP4)'!$I$144","v":0},"#'T2-B(PP4)'!$I$144"]
["pp4_bl4_2_10_unit",{"$f":"'T2-B(PP4)'!$C$144","v":0},"#'T2-B(PP4)'!$C$144"]
["pp4_bl4_2_10_unit_in",{"$f":"'T2-B(PP4)'!$D$144","v":0},"#'T2-B(PP4)'!$D$144"]
["pp4_bl4_2_10_units_out",{"$f":"'T2-B(PP4)'!$G$144","v":0},"#'T2-B(PP4)'!$G$144"]
["pp4_bl4_2_2_name",{"$f":"'T2-B(PP4)'!$B$136","v":0},"#'T2-B(PP4)'!$B$136"]
["pp4_bl4_2_2_rate_in",{"$f":"'T2-B(PP4)'!$E$136","v":0},"#'T2-B(PP4)'!$E$136"]
["pp4_bl4_2_2_rate_out",{"$f":"'T2-B(PP4)'!$H$136","v":0},"#'T2-B(PP4)'!$H$136"]
["pp4_bl4_2_2_total",{"$f":"'T2-B(PP4)'!$J$136","v":0},"#'T2-B(PP4)'!$J$136"]
["pp4_bl4_2_2_total_in",{"$f":"'T2-B(PP4)'!$F$136","v":0},"#'T2-B(PP4)'!$F$136"]
["pp4_bl4_2_2_total_out",{"$f":"'T2-B(PP4)'!$I$136","v":0},"#'T2-B(PP4)'!$I$136"]
["pp4_bl4_2_2_unit",{"$f":"'T2-B(PP4)'!$C$136","v":0},"#'T2-B(PP4)'!$C$136"]
["pp4_bl4_2_2_unit_in",{"$f":"'T2-B(PP4)'!$D$136","v":0},"#'T2-B(PP4)'!$D$136"]
["pp4_bl4_2_2_units_out",{"$f":"'T2-B(PP4)'!$G$136","v":0},"#'T2-B(PP4)'!$G$136"]
["pp4_bl4_2_3_name",{"$f":"'T2-B(PP4)'!$B$137","v":0},"#'T2-B(PP4)'!$B$137"]
["pp4_bl4_2_3_rate_in",{"$f":"'T2-B(PP4)'!$E$137","v":0},"#'T2-B(PP4)'!$E$137"]
["pp4_bl4_2_3_rate_out",{"$f":"'T2-B(PP4)'!$H$137","v":0},"#'T2-B(PP4)'!$H$137"]
["pp4_bl4_2_3_total",{"$f":"'T2-B(PP4)'!$J$137","v":0},"#'T2-B(PP4)'!$J$137"]
["pp4_bl4_2_3_total_in",{"$f":"'T2-B(PP4)'!$F$137","v":0},"#'T2-B(PP4)'!$F$137"]
["pp4_bl4_2_3_total_out",{"$f":"'T2-B(PP4)'!$I$137","v":0},"#'T2-B(PP4)'!$I$137"]
["pp4_bl4_2_3_unit",{"$f":"'T2-B(PP4)'!$C$137","v":0},"#'T2-B(PP4)'!$C$137"]
["pp4_bl4_2_3_unit_in",{"$f":"'T2-B(PP4)'!$D$137","v":0},"#'T2-B(PP4)'!$D$137"]
["pp4_bl4_2_3_units_out",{"$f":"'T2-B(PP4)'!$G$137","v":0},"#'T2-B(PP4)'!$G$137"]
["pp4_bl4_2_4_name",{"$f":"'T2-B(PP4)'!$B$138","v":0},"#'T2-B(PP4)'!$B$138"]
["pp4_bl4_2_4_rate_in",{"$f":"'T2-B(PP4)'!$E$138","v":0},"#'T2-B(PP4)'!$E$138"]
["pp4_bl4_2_4_rate_out",{"$f":"'T2-B(PP4)'!$H$138","v":0},"#'T2-B(PP4)'!$H$138"]
["pp4_bl4_2_4_total",{"$f":"'T2-B(PP4)'!$J$138","v":0},"#'T2-B(PP4)'!$J$138"]
["pp4_bl4_2_4_total_in",{"$f":"'T2-B(PP4)'!$F$138","v":0},"#'T2-B(PP4)'!$F$138"]
["pp4_bl4_2_4_total_out",{"$f":"'T2-B(PP4)'!$I$138","v":0},"#'T2-B(PP4)'!$I$138"]
["pp4_bl4_2_4_unit",{"$f":"'T2-B(PP4)'!$C$138","v":0},"#'T2-B(PP4)'!$C$138"]
["pp4_bl4_2_4_unit_in",{"$f":"'T2-B(PP4)'!$D$138","v":0},"#'T2-B(PP4)'!$D$138"]
["pp4_bl4_2_4_units_out",{"$f":"'T2-B(PP4)'!$G$138","v":0},"#'T2-B(PP4)'!$G$138"]
["pp4_bl4_2_5_name",{"$f":"'T2-B(PP4)'!$B$139","v":0},"#'T2-B(PP4)'!$B$139"]
["pp4_bl4_2_5_rate_in",{"$f":"'T2-B(PP4)'!$E$139","v":0},"#'T2-B(PP4)'!$E$139"]
["pp4_bl4_2_5_rate_out",{"$f":"'T2-B(PP4)'!$H$139","v":0},"#'T2-B(PP4)'!$H$139"]
["pp4_bl4_2_5_total",{"$f":"'T2-B(PP4)'!$J$139","v":0},"#'T2-B(PP4)'!$J$139"]
["pp4_bl4_2_5_total_in",{"$f":"'T2-B(PP4)'!$F$139","v":0},"#'T2-B(PP4)'!$F$139"]
["pp4_bl4_2_5_total_out",{"$f":"'T2-B(PP4)'!$I$139","v":0},"#'T2-B(PP4)'!$I$139"]
["pp4_bl4_2_5_unit",{"$f":"'T2-B(PP4)'!$C$139","v":0},"#'T2-B(PP4)'!$C$139"]
["pp4_bl4_2_5_unit_in",{"$f":"'T2-B(PP4)'!$D$139","v":0},"#'T2-B(PP4)'!$D$139"]
["pp4_bl4_2_5_units_out",{"$f":"'T2-B(PP4)'!$G$139","v":0},"#'T2-B(PP4)'!$G$139"]
["pp4_bl4_2_6_name",{"$f":"'T2-B(PP4)'!$B$140","v":0},"#'T2-B(PP4)'!$B$140"]
["pp4_bl4_2_6_rate_in",{"$f":"'T2-B(PP4)'!$E$140","v":0},"#'T2-B(PP4)'!$E$140"]
["pp4_bl4_2_6_rate_out",{"$f":"'T2-B(PP4)'!$H$140","v":0},"#'T2-B(PP4)'!$H$140"]
["pp4_bl4_2_6_total",{"$f":"'T2-B(PP4)'!$J$140","v":0},"#'T2-B(PP4)'!$J$140"]
["pp4_bl4_2_6_total_in",{"$f":"'T2-B(PP4)'!$F$140","v":0},"#'T2-B(PP4)'!$F$140"]
["pp4_bl4_2_6_total_out",{"$f":"'T2-B(PP4)'!$I$140","v":0},"#'T2-B(PP4)'!$I$140"]
["pp4_bl4_2_6_unit",{"$f":"'T2-B(PP4)'!$C$140","v":0},"#'T2-B(PP4)'!$C$140"]
["pp4_bl4_2_6_unit_in",{"$f":"'T2-B(PP4)'!$D$140","v":0},"#'T2-B(PP4)'!$D$140"]
["pp4_bl4_2_6_units_out",{"$f":"'T2-B(PP4)'!$G$140","v":0},"#'T2-B(PP4)'!$G$140"]
["pp4_bl4_2_7_name",{"$f":"'T2-B(PP4)'!$B$141","v":0},"#'T2-B(PP4)'!$B$141"]
["pp4_bl4_2_7_rate_in",{"$f":"'T2-B(PP4)'!$E$141","v":0},"#'T2-B(PP4)'!$E$141"]
["pp4_bl4_2_7_rate_out",{"$f":"'T2-B(PP4)'!$H$141","v":0},"#'T2-B(PP4)'!$H$141"]
["pp4_bl4_2_7_total",{"$f":"'T2-B(PP4)'!$J$141","v":0},"#'T2-B(PP4)'!$J$141"]
["pp4_bl4_2_7_total_in",{"$f":"'T2-B(PP4)'!$F$141","v":0},"#'T2-B(PP4)'!$F$141"]
["pp4_bl4_2_7_total_out",{"$f":"'T2-B(PP4)'!$I$141","v":0},"#'T2-B(PP4)'!$I$141"]
["pp4_bl4_2_7_unit",{"$f":"'T2-B(PP4)'!$C$141","v":0},"#'T2-B(PP4)'!$C$141"]
["pp4_bl4_2_7_unit_in",{"$f":"'T2-B(PP4)'!$D$141","v":0},"#'T2-B(PP4)'!$D$141"]
["pp4_bl4_2_7_units_out",{"$f":"'T2-B(PP4)'!$G$141","v":0},"#'T2-B(PP4)'!$G$141"]
["pp4_bl4_2_8_name",{"$f":"'T2-B(PP4)'!$B$142","v":0},"#'T2-B(PP4)'!$B$142"]
["pp4_bl4_2_8_rate_in",{"$f":"'T2-B(PP4)'!$E$142","v":0},"#'T2-B(PP4)'!$E$142"]
["pp4_bl4_2_8_rate_out",{"$f":"'T2-B(PP4)'!$H$142","v":0},"#'T2-B(PP4)'!$H$142"]
["pp4_bl4_2_8_total",{"$f":"'T2-B(PP4)'!$J$142","v":0},"#'T2-B(PP4)'!$J$142"]
["pp4_bl4_2_8_total_in",{"$f":"'T2-B(PP4)'!$F$142","v":0},"#'T2-B(PP4)'!$F$142"]
["pp4_bl4_2_8_total_out",{"$f":"'T2-B(PP4)'!$I$142","v":0},"#'T2-B(PP4)'!$I$142"]
["pp4_bl4_2_8_unit",{"$f":"'T2-B(PP4)'!$C$142","v":0},"#'T2-B(PP4)'!$C$142"]
["pp4_bl4_2_8_unit_in",{"$f":"'T2-B(PP4)'!$D$142","v":0},"#'T2-B(PP4)'!$D$142"]
["pp4_bl4_2_8_units_out",{"$f":"'T2-B(PP4)'!$G$142","v":0},"#'T2-B(PP4)'!$G$142"]
["pp4_bl4_2_9_name",{"$f":"'T2-B(PP4)'!$B$143","v":0},"#'T2-B(PP4)'!$B$143"]
["pp4_bl4_2_9_rate_in",{"$f":"'T2-B(PP4)'!$E$143","v":0},"#'T2-B(PP4)'!$E$143"]
["pp4_bl4_2_9_rate_out",{"$f":"'T2-B(PP4)'!$H$143","v":0},"#'T2-B(PP4)'!$H$143"]
["pp4_bl4_2_9_total",{"$f":"'T2-B(PP4)'!$J$143","v":0},"#'T2-B(PP4)'!$J$143"]
["pp4_bl4_2_9_total_in",{"$f":"'T2-B(PP4)'!$F$143","v":0},"#'T2-B(PP4)'!$F$143"]
["pp4_bl4_2_9_total_out",{"$f":"'T2-B(PP4)'!$I$143","v":0},"#'T2-B(PP4)'!$I$143"]
["pp4_bl4_2_9_unit",{"$f":"'T2-B(PP4)'!$C$143","v":0},"#'T2-B(PP4)'!$C$143"]
["pp4_bl4_2_9_unit_in",{"$f":"'T2-B(PP4)'!$D$143","v":0},"#'T2-B(PP4)'!$D$143"]
["pp4_bl4_2_9_units_out",{"$f":"'T2-B(PP4)'!$G$143","v":0},"#'T2-B(PP4)'!$G$143"]
["pp4_bl4_2_total",{"$f":"'T2-B(PP4)'!$J$134","v":0},"#'T2-B(PP4)'!$J$134"]
["pp4_bl4_2_total_in",{"$f":"'T2-B(PP4)'!$F$134","v":0},"#'T2-B(PP4)'!$F$134"]
["pp4_bl4_2_total_out",{"$f":"'T2-B(PP4)'!$I$134","v":0},"#'T2-B(PP4)'!$I$134"]
["pp4_bl4_3_1_name",{"$f":"'T2-B(PP4)'!$B$156","v":0},"#'T2-B(PP4)'!$B$156"]
["pp4_bl4_3_1_rate_in",{"$f":"'T2-B(PP4)'!$E$156","v":0},"#'T2-B(PP4)'!$E$156"]
["pp4_bl4_3_1_rate_out",{"$f":"'T2-B(PP4)'!$H$156","v":0},"#'T2-B(PP4)'!$H$156"]
["pp4_bl4_3_1_total",{"$f":"'T2-B(PP4)'!$J$156","v":0},"#'T2-B(PP4)'!$J$156"]
["pp4_bl4_3_1_total_in",{"$f":"'T2-B(PP4)'!$F$156","v":0},"#'T2-B(PP4)'!$F$156"]
["pp4_bl4_3_1_total_out",{"$f":"'T2-B(PP4)'!$I$156","v":0},"#'T2-B(PP4)'!$I$156"]
["pp4_bl4_3_1_unit",{"$f":"'T2-B(PP4)'!$C$156","v":0},"#'T2-B(PP4)'!$C$156"]
["pp4_bl4_3_1_unit_in",{"$f":"'T2-B(PP4)'!$D$156","v":0},"#'T2-B(PP4)'!$D$156"]
["pp4_bl4_3_1_units_out",{"$f":"'T2-B(PP4)'!$G$156","v":0},"#'T2-B(PP4)'!$G$156"]
["pp4_bl4_3_10_name",{"$f":"'T2-B(PP4)'!$B$165","v":0},"#'T2-B(PP4)'!$B$165"]
["pp4_bl4_3_10_rate_in",{"$f":"'T2-B(PP4)'!$E$165","v":0},"#'T2-B(PP4)'!$E$165"]
["pp4_bl4_3_10_rate_out",{"$f":"'T2-B(PP4)'!$H$165","v":0},"#'T2-B(PP4)'!$H$165"]
["pp4_bl4_3_10_total",{"$f":"'T2-B(PP4)'!$J$165","v":0},"#'T2-B(PP4)'!$J$165"]
["pp4_bl4_3_10_total_in",{"$f":"'T2-B(PP4)'!$F$165","v":0},"#'T2-B(PP4)'!$F$165"]
["pp4_bl4_3_10_total_out",{"$f":"'T2-B(PP4)'!$I$165","v":0},"#'T2-B(PP4)'!$I$165"]
["pp4_bl4_3_10_unit",{"$f":"'T2-B(PP4)'!$C$165","v":0},"#'T2-B(PP4)'!$C$165"]
["pp4_bl4_3_10_unit_in",{"$f":"'T2-B(PP4)'!$D$165","v":0},"#'T2-B(PP4)'!$D$165"]
["pp4_bl4_3_10_units_out",{"$f":"'T2-B(PP4)'!$G$165","v":0},"#'T2-B(PP4)'!$G$165"]
["pp4_bl4_3_2_name",{"$f":"'T2-B(PP4)'!$B$157","v":0},"#'T2-B(PP4)'!$B$157"]
["pp4_bl4_3_2_rate_in",{"$f":"'T2-B(PP4)'!$E$157","v":0},"#'T2-B(PP4)'!$E$157"]
["pp4_bl4_3_2_rate_out",{"$f":"'T2-B(PP4)'!$H$157","v":0},"#'T2-B(PP4)'!$H$157"]
["pp4_bl4_3_2_total",{"$f":"'T2-B(PP4)'!$J$157","v":0},"#'T2-B(PP4)'!$J$157"]
["pp4_bl4_3_2_total_in",{"$f":"'T2-B(PP4)'!$F$157","v":0},"#'T2-B(PP4)'!$F$157"]
["pp4_bl4_3_2_total_out",{"$f":"'T2-B(PP4)'!$I$157","v":0},"#'T2-B(PP4)'!$I$157"]
["pp4_bl4_3_2_unit",{"$f":"'T2-B(PP4)'!$C$157","v":0},"#'T2-B(PP4)'!$C$157"]
["pp4_bl4_3_2_unit_in",{"$f":"'T2-B(PP4)'!$D$157","v":0},"#'T2-B(PP4)'!$D$157"]
["pp4_bl4_3_2_units_out",{"$f":"'T2-B(PP4)'!$G$157","v":0},"#'T2-B(PP4)'!$G$157"]
["pp4_bl4_3_3_name",{"$f":"'T2-B(PP4)'!$B$158","v":0},"#'T2-B(PP4)'!$B$158"]
["pp4_bl4_3_3_rate_in",{"$f":"'T2-B(PP4)'!$E$158","v":0},"#'T2-B(PP4)'!$E$158"]
["pp4_bl4_3_3_rate_out",{"$f":"'T2-B(PP4)'!$H$158","v":0},"#'T2-B(PP4)'!$H$158"]
["pp4_bl4_3_3_total",{"$f":"'T2-B(PP4)'!$J$158","v":0},"#'T2-B(PP4)'!$J$158"]
["pp4_bl4_3_3_total_in",{"$f":"'T2-B(PP4)'!$F$158","v":0},"#'T2-B(PP4)'!$F$158"]
["pp4_bl4_3_3_total_out",{"$f":"'T2-B(PP4)'!$I$158","v":0},"#'T2-B(PP4)'!$I$158"]
["pp4_bl4_3_3_unit",{"$f":"'T2-B(PP4)'!$C$158","v":0},"#'T2-B(PP4)'!$C$158"]
["pp4_bl4_3_3_unit_in",{"$f":"'T2-B(PP4)'!$D$158","v":0},"#'T2-B(PP4)'!$D$158"]
["pp4_bl4_3_3_units_out",{"$f":"'T2-B(PP4)'!$G$158","v":0},"#'T2-B(PP4)'!$G$158"]
["pp4_bl4_3_4_name",{"$f":"'T2-B(PP4)'!$B$159","v":0},"#'T2-B(PP4)'!$B$159"]
["pp4_bl4_3_4_rate_in",{"$f":"'T2-B(PP4)'!$E$159","v":0},"#'T2-B(PP4)'!$E$159"]
["pp4_bl4_3_4_rate_out",{"$f":"'T2-B(PP4)'!$H$159","v":0},"#'T2-B(PP4)'!$H$159"]
["pp4_bl4_3_4_total",{"$f":"'T2-B(PP4)'!$J$159","v":0},"#'T2-B(PP4)'!$J$159"]
["pp4_bl4_3_4_total_in",{"$f":"'T2-B(PP4)'!$F$159","v":0},"#'T2-B(PP4)'!$F$159"]
["pp4_bl4_3_4_total_out",{"$f":"'T2-B(PP4)'!$I$159","v":0},"#'T2-B(PP4)'!$I$159"]
["pp4_bl4_3_4_unit",{"$f":"'T2-B(PP4)'!$C$159","v":0},"#'T2-B(PP4)'!$C$159"]
["pp4_bl4_3_4_unit_in",{"$f":"'T2-B(PP4)'!$D$159","v":0},"#'T2-B(PP4)'!$D$159"]
["pp4_bl4_3_4_units_out",{"$f":"'T2-B(PP4)'!$G$159","v":0},"#'T2-B(PP4)'!$G$159"]
["pp4_bl4_3_5_name",{"$f":"'T2-B(PP4)'!$B$160","v":0},"#'T2-B(PP4)'!$B$160"]
["pp4_bl4_3_5_rate_in",{"$f":"'T2-B(PP4)'!$E$160","v":0},"#'T2-B(PP4)'!$E$160"]
["pp4_bl4_3_5_rate_out",{"$f":"'T2-B(PP4)'!$H$160","v":0},"#'T2-B(PP4)'!$H$160"]
["pp4_bl4_3_5_total",{"$f":"'T2-B(PP4)'!$J$160","v":0},"#'T2-B(PP4)'!$J$160"]
["pp4_bl4_3_5_total_in",{"$f":"'T2-B(PP4)'!$F$160","v":0},"#'T2-B(PP4)'!$F$160"]
["pp4_bl4_3_5_total_out",{"$f":"'T2-B(PP4)'!$I$160","v":0},"#'T2-B(PP4)'!$I$160"]
["pp4_bl4_3_5_unit",{"$f":"'T2-B(PP4)'!$C$160","v":0},"#'T2-B(PP4)'!$C$160"]
["pp4_bl4_3_5_unit_in",{"$f":"'T2-B(PP4)'!$D$160","v":0},"#'T2-B(PP4)'!$D$160"]
["pp4_bl4_3_5_units_out",{"$f":"'T2-B(PP4)'!$G$160","v":0},"#'T2-B(PP4)'!$G$160"]
["pp4_bl4_3_6_name",{"$f":"'T2-B(PP4)'!$B$161","v":0},"#'T2-B(PP4)'!$B$161"]
["pp4_bl4_3_6_rate_in",{"$f":"'T2-B(PP4)'!$E$161","v":0},"#'T2-B(PP4)'!$E$161"]
["pp4_bl4_3_6_rate_out",{"$f":"'T2-B(PP4)'!$H$161","v":0},"#'T2-B(PP4)'!$H$161"]
["pp4_bl4_3_6_total",{"$f":"'T2-B(PP4)'!$J$161","v":0},"#'T2-B(PP4)'!$J$161"]
["pp4_bl4_3_6_total_in",{"$f":"'T2-B(PP4)'!$F$161","v":0},"#'T2-B(PP4)'!$F$161"]
["pp4_bl4_3_6_total_out",{"$f":"'T2-B(PP4)'!$I$161","v":0},"#'T2-B(PP4)'!$I$161"]
["pp4_bl4_3_6_unit",{"$f":"'T2-B(PP4)'!$C$161","v":0},"#'T2-B(PP4)'!$C$161"]
["pp4_bl4_3_6_unit_in",{"$f":"'T2-B(PP4)'!$D$161","v":0},"#'T2-B(PP4)'!$D$161"]
["pp4_bl4_3_6_units_out",{"$f":"'T2-B(PP4)'!$G$161","v":0},"#'T2-B(PP4)'!$G$161"]
["pp4_bl4_3_7_name",{"$f":"'T2-B(PP4)'!$B$162","v":0},"#'T2-B(PP4)'!$B$162"]
["pp4_bl4_3_7_rate_in",{"$f":"'T2-B(PP4)'!$E$162","v":0},"#'T2-B(PP4)'!$E$162"]
["pp4_bl4_3_7_rate_out",{"$f":"'T2-B(PP4)'!$H$162","v":0},"#'T2-B(PP4)'!$H$162"]
["pp4_bl4_3_7_total",{"$f":"'T2-B(PP4)'!$J$162","v":0},"#'T2-B(PP4)'!$J$162"]
["pp4_bl4_3_7_total_in",{"$f":"'T2-B(PP4)'!$F$162","v":0},"#'T2-B(PP4)'!$F$162"]
["pp4_bl4_3_7_total_out",{"$f":"'T2-B(PP4)'!$I$162","v":0},"#'T2-B(PP4)'!$I$162"]
["pp4_bl4_3_7_unit",{"$f":"'T2-B(PP4)'!$C$162","v":0},"#'T2-B(PP4)'!$C$162"]
["pp4_bl4_3_7_unit_in",{"$f":"'T2-B(PP4)'!$D$162","v":0},"#'T2-B(PP4)'!$D$162"]
["pp4_bl4_3_7_units_out",{"$f":"'T2-B(PP4)'!$G$162","v":0},"#'T2-B(PP4)'!$G$162"]
["pp4_bl4_3_8_name",{"$f":"'T2-B(PP4)'!$B$163","v":0},"#'T2-B(PP4)'!$B$163"]
["pp4_bl4_3_8_rate_in",{"$f":"'T2-B(PP4)'!$E$163","v":0},"#'T2-B(PP4)'!$E$163"]
["pp4_bl4_3_8_rate_out",{"$f":"'T2-B(PP4)'!$H$163","v":0},"#'T2-B(PP4)'!$H$163"]
["pp4_bl4_3_8_total",{"$f":"'T2-B(PP4)'!$J$163","v":0},"#'T2-B(PP4)'!$J$163"]
["pp4_bl4_3_8_total_in",{"$f":"'T2-B(PP4)'!$F$163","v":0},"#'T2-B(PP4)'!$F$163"]
["pp4_bl4_3_8_total_out",{"$f":"'T2-B(PP4)'!$I$163","v":0},"#'T2-B(PP4)'!$I$163"]
["pp4_bl4_3_8_unit",{"$f":"'T2-B(PP4)'!$C$163","v":0},"#'T2-B(PP4)'!$C$163"]
["pp4_bl4_3_8_unit_in",{"$f":"'T2-B(PP4)'!$D$163","v":0},"#'T2-B(PP4)'!$D$163"]
["pp4_bl4_3_8_units_out",{"$f":"'T2-B(PP4)'!$G$163","v":0},"#'T2-B(PP4)'!$G$163"]
["pp4_bl4_3_9_name",{"$f":"'T2-B(PP4)'!$B$164","v":0},"#'T2-B(PP4)'!$B$164"]
["pp4_bl4_3_9_rate_in",{"$f":"'T2-B(PP4)'!$E$164","v":0},"#'T2-B(PP4)'!$E$164"]
["pp4_bl4_3_9_rate_out",{"$f":"'T2-B(PP4)'!$H$164","v":0},"#'T2-B(PP4)'!$H$164"]
["pp4_bl4_3_9_total",{"$f":"'T2-B(PP4)'!$J$164","v":0},"#'T2-B(PP4)'!$J$164"]
["pp4_bl4_3_9_total_in",{"$f":"'T2-B(PP4)'!$F$164","v":0},"#'T2-B(PP4)'!$F$164"]
["pp4_bl4_3_9_total_out",{"$f":"'T2-B(PP4)'!$I$164","v":0},"#'T2-B(PP4)'!$I$164"]
["pp4_bl4_3_9_unit",{"$f":"'T2-B(PP4)'!$C$164","v":0},"#'T2-B(PP4)'!$C$164"]
["pp4_bl4_3_9_unit_in",{"$f":"'T2-B(PP4)'!$D$164","v":0},"#'T2-B(PP4)'!$D$164"]
["pp4_bl4_3_9_units_out",{"$f":"'T2-B(PP4)'!$G$164","v":0},"#'T2-B(PP4)'!$G$164"]
["pp4_bl4_3_total",{"$f":"'T2-B(PP4)'!$J$155","v":0},"#'T2-B(PP4)'!$J$155"]
["pp4_bl4_3_total_in",{"$f":"'T2-B(PP4)'!$F$155","v":0},"#'T2-B(PP4)'!$F$155"]
["pp4_bl4_3_total_out",{"$f":"'T2-B(PP4)'!$I$155","v":0},"#'T2-B(PP4)'!$I$155"]
["pp4_bl4_4_1_name",{"$f":"'T2-B(PP4)'!$B$177","v":0},"#'T2-B(PP4)'!$B$177"]
["pp4_bl4_4_1_rate_in",{"$f":"'T2-B(PP4)'!$E$177","v":0},"#'T2-B(PP4)'!$E$177"]
["pp4_bl4_4_1_rate_out",{"$f":"'T2-B(PP4)'!$H$177","v":0},"#'T2-B(PP4)'!$H$177"]
["pp4_bl4_4_1_total",{"$f":"'T2-B(PP4)'!$J$177","v":0},"#'T2-B(PP4)'!$J$177"]
["pp4_bl4_4_1_total_in",{"$f":"'T2-B(PP4)'!$F$177","v":0},"#'T2-B(PP4)'!$F$177"]
["pp4_bl4_4_1_total_out",{"$f":"'T2-B(PP4)'!$I$177","v":0},"#'T2-B(PP4)'!$I$177"]
["pp4_bl4_4_1_unit",{"$f":"'T2-B(PP4)'!$C$177","v":0},"#'T2-B(PP4)'!$C$177"]
["pp4_bl4_4_1_unit_in",{"$f":"'T2-B(PP4)'!$D$177","v":0},"#'T2-B(PP4)'!$D$177"]
["pp4_bl4_4_1_units_out",{"$f":"'T2-B(PP4)'!$G$177","v":0},"#'T2-B(PP4)'!$G$177"]
["pp4_bl4_4_10_name",{"$f":"'T2-B(PP4)'!$B$186","v":0},"#'T2-B(PP4)'!$B$186"]
["pp4_bl4_4_10_rate_in",{"$f":"'T2-B(PP4)'!$E$186","v":0},"#'T2-B(PP4)'!$E$186"]
["pp4_bl4_4_10_rate_out",{"$f":"'T2-B(PP4)'!$H$186","v":0},"#'T2-B(PP4)'!$H$186"]
["pp4_bl4_4_10_total",{"$f":"'T2-B(PP4)'!$J$186","v":0},"#'T2-B(PP4)'!$J$186"]
["pp4_bl4_4_10_total_in",{"$f":"'T2-B(PP4)'!$F$186","v":0},"#'T2-B(PP4)'!$F$186"]
["pp4_bl4_4_10_total_out",{"$f":"'T2-B(PP4)'!$I$186","v":0},"#'T2-B(PP4)'!$I$186"]
["pp4_bl4_4_10_unit",{"$f":"'T2-B(PP4)'!$C$186","v":0},"#'T2-B(PP4)'!$C$186"]
["pp4_bl4_4_10_unit_in",{"$f":"'T2-B(PP4)'!$D$186","v":0},"#'T2-B(PP4)'!$D$186"]
["pp4_bl4_4_10_units_out",{"$f":"'T2-B(PP4)'!$G$186","v":0},"#'T2-B(PP4)'!$G$186"]
["pp4_bl4_4_2_name",{"$f":"'T2-B(PP4)'!$B$178","v":0},"#'T2-B(PP4)'!$B$178"]
["pp4_bl4_4_2_rate_in",{"$f":"'T2-B(PP4)'!$E$178","v":0},"#'T2-B(PP4)'!$E$178"]
["pp4_bl4_4_2_rate_out",{"$f":"'T2-B(PP4)'!$H$178","v":0},"#'T2-B(PP4)'!$H$178"]
["pp4_bl4_4_2_total",{"$f":"'T2-B(PP4)'!$J$178","v":0},"#'T2-B(PP4)'!$J$178"]
["pp4_bl4_4_2_total_in",{"$f":"'T2-B(PP4)'!$F$178","v":0},"#'T2-B(PP4)'!$F$178"]
["pp4_bl4_4_2_total_out",{"$f":"'T2-B(PP4)'!$I$178","v":0},"#'T2-B(PP4)'!$I$178"]
["pp4_bl4_4_2_unit",{"$f":"'T2-B(PP4)'!$C$178","v":0},"#'T2-B(PP4)'!$C$178"]
["pp4_bl4_4_2_unit_in",{"$f":"'T2-B(PP4)'!$D$178","v":0},"#'T2-B(PP4)'!$D$178"]
["pp4_bl4_4_2_units_out",{"$f":"'T2-B(PP4)'!$G$178","v":0},"#'T2-B(PP4)'!$G$178"]
["pp4_bl4_4_3_name",{"$f":"'T2-B(PP4)'!$B$179","v":0},"#'T2-B(PP4)'!$B$179"]
["pp4_bl4_4_3_rate_in",{"$f":"'T2-B(PP4)'!$E$179","v":0},"#'T2-B(PP4)'!$E$179"]
["pp4_bl4_4_3_rate_out",{"$f":"'T2-B(PP4)'!$H$179","v":0},"#'T2-B(PP4)'!$H$179"]
["pp4_bl4_4_3_total",{"$f":"'T2-B(PP4)'!$J$179","v":0},"#'T2-B(PP4)'!$J$179"]
["pp4_bl4_4_3_total_in",{"$f":"'T2-B(PP4)'!$F$179","v":0},"#'T2-B(PP4)'!$F$179"]
["pp4_bl4_4_3_total_out",{"$f":"'T2-B(PP4)'!$I$179","v":0},"#'T2-B(PP4)'!$I$179"]
["pp4_bl4_4_3_unit",{"$f":"'T2-B(PP4)'!$C$179","v":0},"#'T2-B(PP4)'!$C$179"]
["pp4_bl4_4_3_unit_in",{"$f":"'T2-B(PP4)'!$D$179","v":0},"#'T2-B(PP4)'!$D$179"]
["pp4_bl4_4_3_units_out",{"$f":"'T2-B(PP4)'!$G$179","v":0},"#'T2-B(PP4)'!$G$179"]
["pp4_bl4_4_4_name",{"$f":"'T2-B(PP4)'!$B$180","v":0},"#'T2-B(PP4)'!$B$180"]
["pp4_bl4_4_4_rate_in",{"$f":"'T2-B(PP4)'!$E$180","v":0},"#'T2-B(PP4)'!$E$180"]
["pp4_bl4_4_4_rate_out",{"$f":"'T2-B(PP4)'!$H$180","v":0},"#'T2-B(PP4)'!$H$180"]
["pp4_bl4_4_4_total",{"$f":"'T2-B(PP4)'!$J$180","v":0},"#'T2-B(PP4)'!$J$180"]
["pp4_bl4_4_4_total_in",{"$f":"'T2-B(PP4)'!$F$180","v":0},"#'T2-B(PP4)'!$F$180"]
["pp4_bl4_4_4_total_out",{"$f":"'T2-B(PP4)'!$I$180","v":0},"#'T2-B(PP4)'!$I$180"]
["pp4_bl4_4_4_unit",{"$f":"'T2-B(PP4)'!$C$180","v":0},"#'T2-B(PP4)'!$C$180"]
["pp4_bl4_4_4_unit_in",{"$f":"'T2-B(PP4)'!$D$180","v":0},"#'T2-B(PP4)'!$D$180"]
["pp4_bl4_4_4_units_out",{"$f":"'T2-B(PP4)'!$G$180","v":0},"#'T2-B(PP4)'!$G$180"]
["pp4_bl4_4_5_name",{"$f":"'T2-B(PP4)'!$B$181","v":0},"#'T2-B(PP4)'!$B$181"]
["pp4_bl4_4_5_rate_in",{"$f":"'T2-B(PP4)'!$E$181","v":0},"#'T2-B(PP4)'!$E$181"]
["pp4_bl4_4_5_rate_out",{"$f":"'T2-B(PP4)'!$H$181","v":0},"#'T2-B(PP4)'!$H$181"]
["pp4_bl4_4_5_total",{"$f":"'T2-B(PP4)'!$J$181","v":0},"#'T2-B(PP4)'!$J$181"]
["pp4_bl4_4_5_total_in",{"$f":"'T2-B(PP4)'!$F$181","v":0},"#'T2-B(PP4)'!$F$181"]
["pp4_bl4_4_5_total_out",{"$f":"'T2-B(PP4)'!$I$181","v":0},"#'T2-B(PP4)'!$I$181"]
["pp4_bl4_4_5_unit",{"$f":"'T2-B(PP4)'!$C$181","v":0},"#'T2-B(PP4)'!$C$181"]
["pp4_bl4_4_5_unit_in",{"$f":"'T2-B(PP4)'!$D$181","v":0},"#'T2-B(PP4)'!$D$181"]
["pp4_bl4_4_5_units_out",{"$f":"'T2-B(PP4)'!$G$181","v":0},"#'T2-B(PP4)'!$G$181"]
["pp4_bl4_4_6_name",{"$f":"'T2-B(PP4)'!$B$182","v":0},"#'T2-B(PP4)'!$B$182"]
["pp4_bl4_4_6_rate_in",{"$f":"'T2-B(PP4)'!$E$182","v":0},"#'T2-B(PP4)'!$E$182"]
["pp4_bl4_4_6_rate_out",{"$f":"'T2-B(PP4)'!$H$182","v":0},"#'T2-B(PP4)'!$H$182"]
["pp4_bl4_4_6_total",{"$f":"'T2-B(PP4)'!$J$182","v":0},"#'T2-B(PP4)'!$J$182"]
["pp4_bl4_4_6_total_in",{"$f":"'T2-B(PP4)'!$F$182","v":0},"#'T2-B(PP4)'!$F$182"]
["pp4_bl4_4_6_total_out",{"$f":"'T2-B(PP4)'!$I$182","v":0},"#'T2-B(PP4)'!$I$182"]
["pp4_bl4_4_6_unit",{"$f":"'T2-B(PP4)'!$C$182","v":0},"#'T2-B(PP4)'!$C$182"]
["pp4_bl4_4_6_unit_in",{"$f":"'T2-B(PP4)'!$D$182","v":0},"#'T2-B(PP4)'!$D$182"]
["pp4_bl4_4_6_units_out",{"$f":"'T2-B(PP4)'!$G$182","v":0},"#'T2-B(PP4)'!$G$182"]
["pp4_bl4_4_7_name",{"$f":"'T2-B(PP4)'!$B$183","v":0},"#'T2-B(PP4)'!$B$183"]
["pp4_bl4_4_7_rate_in",{"$f":"'T2-B(PP4)'!$E$183","v":0},"#'T2-B(PP4)'!$E$183"]
["pp4_bl4_4_7_rate_out",{"$f":"'T2-B(PP4)'!$H$183","v":0},"#'T2-B(PP4)'!$H$183"]
["pp4_bl4_4_7_total",{"$f":"'T2-B(PP4)'!$J$183","v":0},"#'T2-B(PP4)'!$J$183"]
["pp4_bl4_4_7_total_in",{"$f":"'T2-B(PP4)'!$F$183","v":0},"#'T2-B(PP4)'!$F$183"]
["pp4_bl4_4_7_total_out",{"$f":"'T2-B(PP4)'!$I$183","v":0},"#'T2-B(PP4)'!$I$183"]
["pp4_bl4_4_7_unit",{"$f":"'T2-B(PP4)'!$C$183","v":0},"#'T2-B(PP4)'!$C$183"]
["pp4_bl4_4_7_unit_in",{"$f":"'T2-B(PP4)'!$D$183","v":0},"#'T2-B(PP4)'!$D$183"]
["pp4_bl4_4_7_units_out",{"$f":"'T2-B(PP4)'!$G$183","v":0},"#'T2-B(PP4)'!$G$183"]
["pp4_bl4_4_8_name",{"$f":"'T2-B(PP4)'!$B$184","v":0},"#'T2-B(PP4)'!$B$184"]
["pp4_bl4_4_8_rate_in",{"$f":"'T2-B(PP4)'!$E$184","v":0},"#'T2-B(PP4)'!$E$184"]
["pp4_bl4_4_8_rate_out",{"$f":"'T2-B(PP4)'!$H$184","v":0},"#'T2-B(PP4)'!$H$184"]
["pp4_bl4_4_8_total",{"$f":"'T2-B(PP4)'!$J$184","v":0},"#'T2-B(PP4)'!$J$184"]
["pp4_bl4_4_8_total_in",{"$f":"'T2-B(PP4)'!$F$184","v":0},"#'T2-B(PP4)'!$F$184"]
["pp4_bl4_4_8_total_out",{"$f":"'T2-B(PP4)'!$I$184","v":0},"#'T2-B(PP4)'!$I$184"]
["pp4_bl4_4_8_unit",{"$f":"'T2-B(PP4)'!$C$184","v":0},"#'T2-B(PP4)'!$C$184"]
["pp4_bl4_4_8_unit_in",{"$f":"'T2-B(PP4)'!$D$184","v":0},"#'T2-B(PP4)'!$D$184"]
["pp4_bl4_4_8_units_out",{"$f":"'T2-B(PP4)'!$G$184","v":0},"#'T2-B(PP4)'!$G$184"]
["pp4_bl4_4_9_name",{"$f":"'T2-B(PP4)'!$B$185","v":0},"#'T2-B(PP4)'!$B$185"]
["pp4_bl4_4_9_rate_in",{"$f":"'T2-B(PP4)'!$E$185","v":0},"#'T2-B(PP4)'!$E$185"]
["pp4_bl4_4_9_rate_out",{"$f":"'T2-B(PP4)'!$H$185","v":0},"#'T2-B(PP4)'!$H$185"]
["pp4_bl4_4_9_total",{"$f":"'T2-B(PP4)'!$J$185","v":0},"#'T2-B(PP4)'!$J$185"]
["pp4_bl4_4_9_total_in",{"$f":"'T2-B(PP4)'!$F$185","v":0},"#'T2-B(PP4)'!$F$185"]
["pp4_bl4_4_9_total_out",{"$f":"'T2-B(PP4)'!$I$185","v":0},"#'T2-B(PP4)'!$I$185"]
["pp4_bl4_4_9_unit",{"$f":"'T2-B(PP4)'!$C$185","v":0},"#'T2-B(PP4)'!$C$185"]
["pp4_bl4_4_9_unit_in",{"$f":"'T2-B(PP4)'!$D$185","v":0},"#'T2-B(PP4)'!$D$185"]
["pp4_bl4_4_9_units_out",{"$f":"'T2-B(PP4)'!$G$185","v":0},"#'T2-B(PP4)'!$G$185"]
["pp4_bl4_4_total",{"$f":"'T2-B(PP4)'!$J$176","v":0},"#'T2-B(PP4)'!$J$176"]
["pp4_bl4_4_total_in",{"$f":"'T2-B(PP4)'!$F$176","v":0},"#'T2-B(PP4)'!$F$176"]
["pp4_bl4_4_total_out",{"$f":"'T2-B(PP4)'!$I$176","v":0},"#'T2-B(PP4)'!$I$176"]
["pp4_bl4_5_1_name",{"$f":"'T2-B(PP4)'!$B$198","v":0},"#'T2-B(PP4)'!$B$198"]
["pp4_bl4_5_1_rate_in",{"$f":"'T2-B(PP4)'!$E$198","v":0},"#'T2-B(PP4)'!$E$198"]
["pp4_bl4_5_1_rate_out",{"$f":"'T2-B(PP4)'!$H$198","v":0},"#'T2-B(PP4)'!$H$198"]
["pp4_bl4_5_1_total",{"$f":"'T2-B(PP4)'!$J$198","v":0},"#'T2-B(PP4)'!$J$198"]
["pp4_bl4_5_1_total_in",{"$f":"'T2-B(PP4)'!$F$198","v":0},"#'T2-B(PP4)'!$F$198"]
["pp4_bl4_5_1_total_out",{"$f":"'T2-B(PP4)'!$I$198","v":0},"#'T2-B(PP4)'!$I$198"]
["pp4_bl4_5_1_unit",{"$f":"'T2-B(PP4)'!$C$198","v":0},"#'T2-B(PP4)'!$C$198"]
["pp4_bl4_5_1_unit_in",{"$f":"'T2-B(PP4)'!$D$198","v":0},"#'T2-B(PP4)'!$D$198"]
["pp4_bl4_5_1_units_out",{"$f":"'T2-B(PP4)'!$G$198","v":0},"#'T2-B(PP4)'!$G$198"]
["pp4_bl4_5_10_name",{"$f":"'T2-B(PP4)'!$B$207","v":0},"#'T2-B(PP4)'!$B$207"]
["pp4_bl4_5_10_rate_in",{"$f":"'T2-B(PP4)'!$E$207","v":0},"#'T2-B(PP4)'!$E$207"]
["pp4_bl4_5_10_rate_out",{"$f":"'T2-B(PP4)'!$H$207","v":0},"#'T2-B(PP4)'!$H$207"]
["pp4_bl4_5_10_total",{"$f":"'T2-B(PP4)'!$J$207","v":0},"#'T2-B(PP4)'!$J$207"]
["pp4_bl4_5_10_total_in",{"$f":"'T2-B(PP4)'!$F$207","v":0},"#'T2-B(PP4)'!$F$207"]
["pp4_bl4_5_10_total_out",{"$f":"'T2-B(PP4)'!$I$207","v":0},"#'T2-B(PP4)'!$I$207"]
["pp4_bl4_5_10_unit",{"$f":"'T2-B(PP4)'!$C$207","v":0},"#'T2-B(PP4)'!$C$207"]
["pp4_bl4_5_10_unit_in",{"$f":"'T2-B(PP4)'!$D$207","v":0},"#'T2-B(PP4)'!$D$207"]
["pp4_bl4_5_10_units_out",{"$f":"'T2-B(PP4)'!$G$207","v":0},"#'T2-B(PP4)'!$G$207"]
["pp4_bl4_5_2_name",{"$f":"'T2-B(PP4)'!$B$199","v":0},"#'T2-B(PP4)'!$B$199"]
["pp4_bl4_5_2_rate_in",{"$f":"'T2-B(PP4)'!$E$199","v":0},"#'T2-B(PP4)'!$E$199"]
["pp4_bl4_5_2_rate_out",{"$f":"'T2-B(PP4)'!$H$199","v":0},"#'T2-B(PP4)'!$H$199"]
["pp4_bl4_5_2_total",{"$f":"'T2-B(PP4)'!$J$199","v":0},"#'T2-B(PP4)'!$J$199"]
["pp4_bl4_5_2_total_in",{"$f":"'T2-B(PP4)'!$F$199","v":0},"#'T2-B(PP4)'!$F$199"]
["pp4_bl4_5_2_total_out",{"$f":"'T2-B(PP4)'!$I$199","v":0},"#'T2-B(PP4)'!$I$199"]
["pp4_bl4_5_2_unit",{"$f":"'T2-B(PP4)'!$C$199","v":0},"#'T2-B(PP4)'!$C$199"]
["pp4_bl4_5_2_unit_in",{"$f":"'T2-B(PP4)'!$D$199","v":0},"#'T2-B(PP4)'!$D$199"]
["pp4_bl4_5_2_units_out",{"$f":"'T2-B(PP4)'!$G$199","v":0},"#'T2-B(PP4)'!$G$199"]
["pp4_bl4_5_3_name",{"$f":"'T2-B(PP4)'!$B$200","v":0},"#'T2-B(PP4)'!$B$200"]
["pp4_bl4_5_3_rate_in",{"$f":"'T2-B(PP4)'!$E$200","v":0},"#'T2-B(PP4)'!$E$200"]
["pp4_bl4_5_3_rate_out",{"$f":"'T2-B(PP4)'!$H$200","v":0},"#'T2-B(PP4)'!$H$200"]
["pp4_bl4_5_3_total",{"$f":"'T2-B(PP4)'!$J$200","v":0},"#'T2-B(PP4)'!$J$200"]
["pp4_bl4_5_3_total_in",{"$f":"'T2-B(PP4)'!$F$200","v":0},"#'T2-B(PP4)'!$F$200"]
["pp4_bl4_5_3_total_out",{"$f":"'T2-B(PP4)'!$I$200","v":0},"#'T2-B(PP4)'!$I$200"]
["pp4_bl4_5_3_unit",{"$f":"'T2-B(PP4)'!$C$200","v":0},"#'T2-B(PP4)'!$C$200"]
["pp4_bl4_5_3_unit_in",{"$f":"'T2-B(PP4)'!$D$200","v":0},"#'T2-B(PP4)'!$D$200"]
["pp4_bl4_5_3_units_out",{"$f":"'T2-B(PP4)'!$G$200","v":0},"#'T2-B(PP4)'!$G$200"]
["pp4_bl4_5_4_name",{"$f":"'T2-B(PP4)'!$B$201","v":0},"#'T2-B(PP4)'!$B$201"]
["pp4_bl4_5_4_rate_in",{"$f":"'T2-B(PP4)'!$E$201","v":0},"#'T2-B(PP4)'!$E$201"]
["pp4_bl4_5_4_rate_out",{"$f":"'T2-B(PP4)'!$H$201","v":0},"#'T2-B(PP4)'!$H$201"]
["pp4_bl4_5_4_total",{"$f":"'T2-B(PP4)'!$J$201","v":0},"#'T2-B(PP4)'!$J$201"]
["pp4_bl4_5_4_total_in",{"$f":"'T2-B(PP4)'!$F$201","v":0},"#'T2-B(PP4)'!$F$201"]
["pp4_bl4_5_4_total_out",{"$f":"'T2-B(PP4)'!$I$201","v":0},"#'T2-B(PP4)'!$I$201"]
["pp4_bl4_5_4_unit",{"$f":"'T2-B(PP4)'!$C$201","v":0},"#'T2-B(PP4)'!$C$201"]
["pp4_bl4_5_4_unit_in",{"$f":"'T2-B(PP4)'!$D$201","v":0},"#'T2-B(PP4)'!$D$201"]
["pp4_bl4_5_4_units_out",{"$f":"'T2-B(PP4)'!$G$201","v":0},"#'T2-B(PP4)'!$G$201"]
["pp4_bl4_5_5_name",{"$f":"'T2-B(PP4)'!$B$202","v":0},"#'T2-B(PP4)'!$B$202"]
["pp4_bl4_5_5_rate_in",{"$f":"'T2-B(PP4)'!$E$202","v":0},"#'T2-B(PP4)'!$E$202"]
["pp4_bl4_5_5_rate_out",{"$f":"'T2-B(PP4)'!$H$202","v":0},"#'T2-B(PP4)'!$H$202"]
["pp4_bl4_5_5_total",{"$f":"'T2-B(PP4)'!$J$202","v":0},"#'T2-B(PP4)'!$J$202"]
["pp4_bl4_5_5_total_in",{"$f":"'T2-B(PP4)'!$F$202","v":0},"#'T2-B(PP4)'!$F$202"]
["pp4_bl4_5_5_total_out",{"$f":"'T2-B(PP4)'!$I$202","v":0},"#'T2-B(PP4)'!$I$202"]
["pp4_bl4_5_5_unit",{"$f":"'T2-B(PP4)'!$C$202","v":0},"#'T2-B(PP4)'!$C$202"]
["pp4_bl4_5_5_unit_in",{"$f":"'T2-B(PP4)'!$D$202","v":0},"#'T2-B(PP4)'!$D$202"]
["pp4_bl4_5_5_units_out",{"$f":"'T2-B(PP4)'!$G$202","v":0},"#'T2-B(PP4)'!$G$202"]
["pp4_bl4_5_6_name",{"$f":"'T2-B(PP4)'!$B$203","v":0},"#'T2-B(PP4)'!$B$203"]
["pp4_bl4_5_6_rate_in",{"$f":"'T2-B(PP4)'!$E$203","v":0},"#'T2-B(PP4)'!$E$203"]
["pp4_bl4_5_6_rate_out",{"$f":"'T2-B(PP4)'!$H$203","v":0},"#'T2-B(PP4)'!$H$203"]
["pp4_bl4_5_6_total",{"$f":"'T2-B(PP4)'!$J$203","v":0},"#'T2-B(PP4)'!$J$203"]
["pp4_bl4_5_6_total_in",{"$f":"'T2-B(PP4)'!$F$203","v":0},"#'T2-B(PP4)'!$F$203"]
["pp4_bl4_5_6_total_out",{"$f":"'T2-B(PP4)'!$I$203","v":0},"#'T2-B(PP4)'!$I$203"]
["pp4_bl4_5_6_unit",{"$f":"'T2-B(PP4)'!$C$203","v":0},"#'T2-B(PP4)'!$C$203"]
["pp4_bl4_5_6_unit_in",{"$f":"'T2-B(PP4)'!$D$203","v":0},"#'T2-B(PP4)'!$D$203"]
["pp4_bl4_5_6_units_out",{"$f":"'T2-B(PP4)'!$G$203","v":0},"#'T2-B(PP4)'!$G$203"]
["pp4_bl4_5_7_name",{"$f":"'T2-B(PP4)'!$B$204","v":0},"#'T2-B(PP4)'!$B$204"]
["pp4_bl4_5_7_rate_in",{"$f":"'T2-B(PP4)'!$E$204","v":0},"#'T2-B(PP4)'!$E$204"]
["pp4_bl4_5_7_rate_out",{"$f":"'T2-B(PP4)'!$H$204","v":0},"#'T2-B(PP4)'!$H$204"]
["pp4_bl4_5_7_total",{"$f":"'T2-B(PP4)'!$J$204","v":0},"#'T2-B(PP4)'!$J$204"]
["pp4_bl4_5_7_total_in",{"$f":"'T2-B(PP4)'!$F$204","v":0},"#'T2-B(PP4)'!$F$204"]
["pp4_bl4_5_7_total_out",{"$f":"'T2-B(PP4)'!$I$204","v":0},"#'T2-B(PP4)'!$I$204"]
["pp4_bl4_5_7_unit",{"$f":"'T2-B(PP4)'!$C$204","v":0},"#'T2-B(PP4)'!$C$204"]
["pp4_bl4_5_7_unit_in",{"$f":"'T2-B(PP4)'!$D$204","v":0},"#'T2-B(PP4)'!$D$204"]
["pp4_bl4_5_7_units_out",{"$f":"'T2-B(PP4)'!$G$204","v":0},"#'T2-B(PP4)'!$G$204"]
["pp4_bl4_5_8_name",{"$f":"'T2-B(PP4)'!$B$205","v":0},"#'T2-B(PP4)'!$B$205"]
["pp4_bl4_5_8_rate_in",{"$f":"'T2-B(PP4)'!$E$205","v":0},"#'T2-B(PP4)'!$E$205"]
["pp4_bl4_5_8_rate_out",{"$f":"'T2-B(PP4)'!$H$205","v":0},"#'T2-B(PP4)'!$H$205"]
["pp4_bl4_5_8_total",{"$f":"'T2-B(PP4)'!$J$205","v":0},"#'T2-B(PP4)'!$J$205"]
["pp4_bl4_5_8_total_in",{"$f":"'T2-B(PP4)'!$F$205","v":0},"#'T2-B(PP4)'!$F$205"]
["pp4_bl4_5_8_total_out",{"$f":"'T2-B(PP4)'!$I$205","v":0},"#'T2-B(PP4)'!$I$205"]
["pp4_bl4_5_8_unit",{"$f":"'T2-B(PP4)'!$C$205","v":0},"#'T2-B(PP4)'!$C$205"]
["pp4_bl4_5_8_unit_in",{"$f":"'T2-B(PP4)'!$D$205","v":0},"#'T2-B(PP4)'!$D$205"]
["pp4_bl4_5_8_units_out",{"$f":"'T2-B(PP4)'!$G$205","v":0},"#'T2-B(PP4)'!$G$205"]
["pp4_bl4_5_9_name",{"$f":"'T2-B(PP4)'!$B$206","v":0},"#'T2-B(PP4)'!$B$206"]
["pp4_bl4_5_9_rate_in",{"$f":"'T2-B(PP4)'!$E$206","v":0},"#'T2-B(PP4)'!$E$206"]
["pp4_bl4_5_9_rate_out",{"$f":"'T2-B(PP4)'!$H$206","v":0},"#'T2-B(PP4)'!$H$206"]
["pp4_bl4_5_9_total",{"$f":"'T2-B(PP4)'!$J$206","v":0},"#'T2-B(PP4)'!$J$206"]
["pp4_bl4_5_9_total_in",{"$f":"'T2-B(PP4)'!$F$206","v":0},"#'T2-B(PP4)'!$F$206"]
["pp4_bl4_5_9_total_out",{"$f":"'T2-B(PP4)'!$I$206","v":0},"#'T2-B(PP4)'!$I$206"]
["pp4_bl4_5_9_unit",{"$f":"'T2-B(PP4)'!$C$206","v":0},"#'T2-B(PP4)'!$C$206"]
["pp4_bl4_5_9_unit_in",{"$f":"'T2-B(PP4)'!$D$206","v":0},"#'T2-B(PP4)'!$D$206"]
["pp4_bl4_5_9_units_out",{"$f":"'T2-B(PP4)'!$G$206","v":0},"#'T2-B(PP4)'!$G$206"]
["pp4_bl4_5_total",{"$f":"'T2-B(PP4)'!$J$197","v":0},"#'T2-B(PP4)'!$J$197"]
["pp4_bl4_5_total_in",{"$f":"'T2-B(PP4)'!$F$197","v":0},"#'T2-B(PP4)'!$F$197"]
["pp4_bl4_5_total_out",{"$f":"'T2-B(PP4)'!$I$197","v":0},"#'T2-B(PP4)'!$I$197"]
["pp4_bl4_6_1_name",{"$f":"'T2-B(PP4)'!$B$219","v":0},"#'T2-B(PP4)'!$B$219"]
["pp4_bl4_6_1_rate_in",{"$f":"'T2-B(PP4)'!$E$219","v":0},"#'T2-B(PP4)'!$E$219"]
["pp4_bl4_6_1_rate_out",{"$f":"'T2-B(PP4)'!$H$219","v":0},"#'T2-B(PP4)'!$H$219"]
["pp4_bl4_6_1_total",{"$f":"'T2-B(PP4)'!$J$219","v":0},"#'T2-B(PP4)'!$J$219"]
["pp4_bl4_6_1_total_in",{"$f":"'T2-B(PP4)'!$F$219","v":0},"#'T2-B(PP4)'!$F$219"]
["pp4_bl4_6_1_total_out",{"$f":"'T2-B(PP4)'!$I$219","v":0},"#'T2-B(PP4)'!$I$219"]
["pp4_bl4_6_1_unit",{"$f":"'T2-B(PP4)'!$C$219","v":0},"#'T2-B(PP4)'!$C$219"]
["pp4_bl4_6_1_unit_in",{"$f":"'T2-B(PP4)'!$D$219","v":0},"#'T2-B(PP4)'!$D$219"]
["pp4_bl4_6_1_units_out",{"$f":"'T2-B(PP4)'!$G$219","v":0},"#'T2-B(PP4)'!$G$219"]
["pp4_bl4_6_10_name",{"$f":"'T2-B(PP4)'!$B$228","v":0},"#'T2-B(PP4)'!$B$228"]
["pp4_bl4_6_10_rate_in",{"$f":"'T2-B(PP4)'!$E$228","v":0},"#'T2-B(PP4)'!$E$228"]
["pp4_bl4_6_10_rate_out",{"$f":"'T2-B(PP4)'!$H$228","v":0},"#'T2-B(PP4)'!$H$228"]
["pp4_bl4_6_10_total",{"$f":"'T2-B(PP4)'!$J$228","v":0},"#'T2-B(PP4)'!$J$228"]
["pp4_bl4_6_10_total_in",{"$f":"'T2-B(PP4)'!$F$228","v":0},"#'T2-B(PP4)'!$F$228"]
["pp4_bl4_6_10_total_out",{"$f":"'T2-B(PP4)'!$I$228","v":0},"#'T2-B(PP4)'!$I$228"]
["pp4_bl4_6_10_unit",{"$f":"'T2-B(PP4)'!$C$228","v":0},"#'T2-B(PP4)'!$C$228"]
["pp4_bl4_6_10_unit_in",{"$f":"'T2-B(PP4)'!$D$228","v":0},"#'T2-B(PP4)'!$D$228"]
["pp4_bl4_6_10_units_out",{"$f":"'T2-B(PP4)'!$G$228","v":0},"#'T2-B(PP4)'!$G$228"]
["pp4_bl4_6_2_name",{"$f":"'T2-B(PP4)'!$B$220","v":0},"#'T2-B(PP4)'!$B$220"]
["pp4_bl4_6_2_rate_in",{"$f":"'T2-B(PP4)'!$E$220","v":0},"#'T2-B(PP4)'!$E$220"]
["pp4_bl4_6_2_rate_out",{"$f":"'T2-B(PP4)'!$H$220","v":0},"#'T2-B(PP4)'!$H$220"]
["pp4_bl4_6_2_total",{"$f":"'T2-B(PP4)'!$J$220","v":0},"#'T2-B(PP4)'!$J$220"]
["pp4_bl4_6_2_total_in",{"$f":"'T2-B(PP4)'!$F$220","v":0},"#'T2-B(PP4)'!$F$220"]
["pp4_bl4_6_2_total_out",{"$f":"'T2-B(PP4)'!$I$220","v":0},"#'T2-B(PP4)'!$I$220"]
["pp4_bl4_6_2_unit",{"$f":"'T2-B(PP4)'!$C$220","v":0},"#'T2-B(PP4)'!$C$220"]
["pp4_bl4_6_2_unit_in",{"$f":"'T2-B(PP4)'!$D$220","v":0},"#'T2-B(PP4)'!$D$220"]
["pp4_bl4_6_2_units_out",{"$f":"'T2-B(PP4)'!$G$220","v":0},"#'T2-B(PP4)'!$G$220"]
["pp4_bl4_6_3_name",{"$f":"'T2-B(PP4)'!$B$221","v":0},"#'T2-B(PP4)'!$B$221"]
["pp4_bl4_6_3_rate_in",{"$f":"'T2-B(PP4)'!$E$221","v":0},"#'T2-B(PP4)'!$E$221"]
["pp4_bl4_6_3_rate_out",{"$f":"'T2-B(PP4)'!$H$221","v":0},"#'T2-B(PP4)'!$H$221"]
["pp4_bl4_6_3_total",{"$f":"'T2-B(PP4)'!$J$221","v":0},"#'T2-B(PP4)'!$J$221"]
["pp4_bl4_6_3_total_in",{"$f":"'T2-B(PP4)'!$F$221","v":0},"#'T2-B(PP4)'!$F$221"]
["pp4_bl4_6_3_total_out",{"$f":"'T2-B(PP4)'!$I$221","v":0},"#'T2-B(PP4)'!$I$221"]
["pp4_bl4_6_3_unit",{"$f":"'T2-B(PP4)'!$C$221","v":0},"#'T2-B(PP4)'!$C$221"]
["pp4_bl4_6_3_unit_in",{"$f":"'T2-B(PP4)'!$D$221","v":0},"#'T2-B(PP4)'!$D$221"]
["pp4_bl4_6_3_units_out",{"$f":"'T2-B(PP4)'!$G$221","v":0},"#'T2-B(PP4)'!$G$221"]
["pp4_bl4_6_4_name",{"$f":"'T2-B(PP4)'!$B$222","v":0},"#'T2-B(PP4)'!$B$222"]
["pp4_bl4_6_4_rate_in",{"$f":"'T2-B(PP4)'!$E$222","v":0},"#'T2-B(PP4)'!$E$222"]
["pp4_bl4_6_4_rate_out",{"$f":"'T2-B(PP4)'!$H$222","v":0},"#'T2-B(PP4)'!$H$222"]
["pp4_bl4_6_4_total",{"$f":"'T2-B(PP4)'!$J$222","v":0},"#'T2-B(PP4)'!$J$222"]
["pp4_bl4_6_4_total_in",{"$f":"'T2-B(PP4)'!$F$222","v":0},"#'T2-B(PP4)'!$F$222"]
["pp4_bl4_6_4_total_out",{"$f":"'T2-B(PP4)'!$I$222","v":0},"#'T2-B(PP4)'!$I$222"]
["pp4_bl4_6_4_unit",{"$f":"'T2-B(PP4)'!$C$222","v":0},"#'T2-B(PP4)'!$C$222"]
["pp4_bl4_6_4_unit_in",{"$f":"'T2-B(PP4)'!$D$222","v":0},"#'T2-B(PP4)'!$D$222"]
["pp4_bl4_6_4_units_out",{"$f":"'T2-B(PP4)'!$G$222","v":0},"#'T2-B(PP4)'!$G$222"]
["pp4_bl4_6_5_name",{"$f":"'T2-B(PP4)'!$B$223","v":0},"#'T2-B(PP4)'!$B$223"]
["pp4_bl4_6_5_rate_in",{"$f":"'T2-B(PP4)'!$E$223","v":0},"#'T2-B(PP4)'!$E$223"]
["pp4_bl4_6_5_rate_out",{"$f":"'T2-B(PP4)'!$H$223","v":0},"#'T2-B(PP4)'!$H$223"]
["pp4_bl4_6_5_total",{"$f":"'T2-B(PP4)'!$J$223","v":0},"#'T2-B(PP4)'!$J$223"]
["pp4_bl4_6_5_total_in",{"$f":"'T2-B(PP4)'!$F$223","v":0},"#'T2-B(PP4)'!$F$223"]
["pp4_bl4_6_5_total_out",{"$f":"'T2-B(PP4)'!$I$223","v":0},"#'T2-B(PP4)'!$I$223"]
["pp4_bl4_6_5_unit",{"$f":"'T2-B(PP4)'!$C$223","v":0},"#'T2-B(PP4)'!$C$223"]
["pp4_bl4_6_5_unit_in",{"$f":"'T2-B(PP4)'!$D$223","v":0},"#'T2-B(PP4)'!$D$223"]
["pp4_bl4_6_5_units_out",{"$f":"'T2-B(PP4)'!$G$223","v":0},"#'T2-B(PP4)'!$G$223"]
["pp4_bl4_6_6_name",{"$f":"'T2-B(PP4)'!$B$224","v":0},"#'T2-B(PP4)'!$B$224"]
["pp4_bl4_6_6_rate_in",{"$f":"'T2-B(PP4)'!$E$224","v":0},"#'T2-B(PP4)'!$E$224"]
["pp4_bl4_6_6_rate_out",{"$f":"'T2-B(PP4)'!$H$224","v":0},"#'T2-B(PP4)'!$H$224"]
["pp4_bl4_6_6_total",{"$f":"'T2-B(PP4)'!$J$224","v":0},"#'T2-B(PP4)'!$J$224"]
["pp4_bl4_6_6_total_in",{"$f":"'T2-B(PP4)'!$F$224","v":0},"#'T2-B(PP4)'!$F$224"]
["pp4_bl4_6_6_total_out",{"$f":"'T2-B(PP4)'!$I$224","v":0},"#'T2-B(PP4)'!$I$224"]
["pp4_bl4_6_6_unit",{"$f":"'T2-B(PP4)'!$C$224","v":0},"#'T2-B(PP4)'!$C$224"]
["pp4_bl4_6_6_unit_in",{"$f":"'T2-B(PP4)'!$D$224","v":0},"#'T2-B(PP4)'!$D$224"]
["pp4_bl4_6_6_units_out",{"$f":"'T2-B(PP4)'!$G$224","v":0},"#'T2-B(PP4)'!$G$224"]
["pp4_bl4_6_7_name",{"$f":"'T2-B(PP4)'!$B$225","v":0},"#'T2-B(PP4)'!$B$225"]
["pp4_bl4_6_7_rate_in",{"$f":"'T2-B(PP4)'!$E$225","v":0},"#'T2-B(PP4)'!$E$225"]
["pp4_bl4_6_7_rate_out",{"$f":"'T2-B(PP4)'!$H$225","v":0},"#'T2-B(PP4)'!$H$225"]
["pp4_bl4_6_7_total",{"$f":"'T2-B(PP4)'!$J$225","v":0},"#'T2-B(PP4)'!$J$225"]
["pp4_bl4_6_7_total_in",{"$f":"'T2-B(PP4)'!$F$225","v":0},"#'T2-B(PP4)'!$F$225"]
["pp4_bl4_6_7_total_out",{"$f":"'T2-B(PP4)'!$I$225","v":0},"#'T2-B(PP4)'!$I$225"]
["pp4_bl4_6_7_unit",{"$f":"'T2-B(PP4)'!$C$225","v":0},"#'T2-B(PP4)'!$C$225"]
["pp4_bl4_6_7_unit_in",{"$f":"'T2-B(PP4)'!$D$225","v":0},"#'T2-B(PP4)'!$D$225"]
["pp4_bl4_6_7_units_out",{"$f":"'T2-B(PP4)'!$G$225","v":0},"#'T2-B(PP4)'!$G$225"]
["pp4_bl4_6_8_name",{"$f":"'T2-B(PP4)'!$B$226","v":0},"#'T2-B(PP4)'!$B$226"]
["pp4_bl4_6_8_rate_in",{"$f":"'T2-B(PP4)'!$E$226","v":0},"#'T2-B(PP4)'!$E$226"]
["pp4_bl4_6_8_rate_out",{"$f":"'T2-B(PP4)'!$H$226","v":0},"#'T2-B(PP4)'!$H$226"]
["pp4_bl4_6_8_total",{"$f":"'T2-B(PP4)'!$J$226","v":0},"#'T2-B(PP4)'!$J$226"]
["pp4_bl4_6_8_total_in",{"$f":"'T2-B(PP4)'!$F$226","v":0},"#'T2-B(PP4)'!$F$226"]
["pp4_bl4_6_8_total_out",{"$f":"'T2-B(PP4)'!$I$226","v":0},"#'T2-B(PP4)'!$I$226"]
["pp4_bl4_6_8_unit",{"$f":"'T2-B(PP4)'!$C$226","v":0},"#'T2-B(PP4)'!$C$226"]
["pp4_bl4_6_8_unit_in",{"$f":"'T2-B(PP4)'!$D$226","v":0},"#'T2-B(PP4)'!$D$226"]
["pp4_bl4_6_8_units_out",{"$f":"'T2-B(PP4)'!$G$226","v":0},"#'T2-B(PP4)'!$G$226"]
["pp4_bl4_6_9_name",{"$f":"'T2-B(PP4)'!$B$227","v":0},"#'T2-B(PP4)'!$B$227"]
["pp4_bl4_6_9_rate_in",{"$f":"'T2-B(PP4)'!$E$227","v":0},"#'T2-B(PP4)'!$E$227"]
["pp4_bl4_6_9_rate_out",{"$f":"'T2-B(PP4)'!$H$227","v":0},"#'T2-B(PP4)'!$H$227"]
["pp4_bl4_6_9_total",{"$f":"'T2-B(PP4)'!$J$227","v":0},"#'T2-B(PP4)'!$J$227"]
["pp4_bl4_6_9_total_in",{"$f":"'T2-B(PP4)'!$F$227","v":0},"#'T2-B(PP4)'!$F$227"]
["pp4_bl4_6_9_total_out",{"$f":"'T2-B(PP4)'!$I$227","v":0},"#'T2-B(PP4)'!$I$227"]
["pp4_bl4_6_9_unit",{"$f":"'T2-B(PP4)'!$C$227","v":0},"#'T2-B(PP4)'!$C$227"]
["pp4_bl4_6_9_unit_in",{"$f":"'T2-B(PP4)'!$D$227","v":0},"#'T2-B(PP4)'!$D$227"]
["pp4_bl4_6_9_units_out",{"$f":"'T2-B(PP4)'!$G$227","v":0},"#'T2-B(PP4)'!$G$227"]
["pp4_bl4_6_total",{"$f":"'T2-B(PP4)'!$J$218","v":0},"#'T2-B(PP4)'!$J$218"]
["pp4_bl4_6_total_in",{"$f":"'T2-B(PP4)'!$F$218","v":0},"#'T2-B(PP4)'!$F$218"]
["pp4_bl4_6_total_out",{"$f":"'T2-B(PP4)'!$I$218","v":0},"#'T2-B(PP4)'!$I$218"]
["pp4_bl4_7_1_name",{"$f":"'T2-B(PP4)'!$B$240","v":0},"#'T2-B(PP4)'!$B$240"]
["pp4_bl4_7_1_rate_in",{"$f":"'T2-B(PP4)'!$E$240","v":0},"#'T2-B(PP4)'!$E$240"]
["pp4_bl4_7_1_rate_out",{"$f":"'T2-B(PP4)'!$H$240","v":0},"#'T2-B(PP4)'!$H$240"]
["pp4_bl4_7_1_total",{"$f":"'T2-B(PP4)'!$J$240","v":0},"#'T2-B(PP4)'!$J$240"]
["pp4_bl4_7_1_total_in",{"$f":"'T2-B(PP4)'!$F$240","v":0},"#'T2-B(PP4)'!$F$240"]
["pp4_bl4_7_1_total_out",{"$f":"'T2-B(PP4)'!$I$240","v":0},"#'T2-B(PP4)'!$I$240"]
["pp4_bl4_7_1_unit",{"$f":"'T2-B(PP4)'!$C$240","v":0},"#'T2-B(PP4)'!$C$240"]
["pp4_bl4_7_1_unit_in",{"$f":"'T2-B(PP4)'!$D$240","v":0},"#'T2-B(PP4)'!$D$240"]
["pp4_bl4_7_1_units_out",{"$f":"'T2-B(PP4)'!$G$240","v":0},"#'T2-B(PP4)'!$G$240"]
["pp4_bl4_7_10_name",{"$f":"'T2-B(PP4)'!$B$249","v":0},"#'T2-B(PP4)'!$B$249"]
["pp4_bl4_7_10_rate_in",{"$f":"'T2-B(PP4)'!$E$249","v":0},"#'T2-B(PP4)'!$E$249"]
["pp4_bl4_7_10_rate_out",{"$f":"'T2-B(PP4)'!$H$249","v":0},"#'T2-B(PP4)'!$H$249"]
["pp4_bl4_7_10_total",{"$f":"'T2-B(PP4)'!$J$249","v":0},"#'T2-B(PP4)'!$J$249"]
["pp4_bl4_7_10_total_in",{"$f":"'T2-B(PP4)'!$F$249","v":0},"#'T2-B(PP4)'!$F$249"]
["pp4_bl4_7_10_total_out",{"$f":"'T2-B(PP4)'!$I$249","v":0},"#'T2-B(PP4)'!$I$249"]
["pp4_bl4_7_10_unit",{"$f":"'T2-B(PP4)'!$C$249","v":0},"#'T2-B(PP4)'!$C$249"]
["pp4_bl4_7_10_unit_in",{"$f":"'T2-B(PP4)'!$D$249","v":0},"#'T2-B(PP4)'!$D$249"]
["pp4_bl4_7_10_units_out",{"$f":"'T2-B(PP4)'!$G$249","v":0},"#'T2-B(PP4)'!$G$249"]
["pp4_bl4_7_2_name",{"$f":"'T2-B(PP4)'!$B$241","v":0},"#'T2-B(PP4)'!$B$241"]
["pp4_bl4_7_2_rate_in",{"$f":"'T2-B(PP4)'!$E$241","v":0},"#'T2-B(PP4)'!$E$241"]
["pp4_bl4_7_2_rate_out",{"$f":"'T2-B(PP4)'!$H$241","v":0},"#'T2-B(PP4)'!$H$241"]
["pp4_bl4_7_2_total",{"$f":"'T2-B(PP4)'!$J$241","v":0},"#'T2-B(PP4)'!$J$241"]
["pp4_bl4_7_2_total_in",{"$f":"'T2-B(PP4)'!$F$241","v":0},"#'T2-B(PP4)'!$F$241"]
["pp4_bl4_7_2_total_out",{"$f":"'T2-B(PP4)'!$I$241","v":0},"#'T2-B(PP4)'!$I$241"]
["pp4_bl4_7_2_unit",{"$f":"'T2-B(PP4)'!$C$241","v":0},"#'T2-B(PP4)'!$C$241"]
["pp4_bl4_7_2_unit_in",{"$f":"'T2-B(PP4)'!$D$241","v":0},"#'T2-B(PP4)'!$D$241"]
["pp4_bl4_7_2_units_out",{"$f":"'T2-B(PP4)'!$G$241","v":0},"#'T2-B(PP4)'!$G$241"]
["pp4_bl4_7_3_name",{"$f":"'T2-B(PP4)'!$B$242","v":0},"#'T2-B(PP4)'!$B$242"]
["pp4_bl4_7_3_rate_in",{"$f":"'T2-B(PP4)'!$E$242","v":0},"#'T2-B(PP4)'!$E$242"]
["pp4_bl4_7_3_rate_out",{"$f":"'T2-B(PP4)'!$H$242","v":0},"#'T2-B(PP4)'!$H$242"]
["pp4_bl4_7_3_total",{"$f":"'T2-B(PP4)'!$J$242","v":0},"#'T2-B(PP4)'!$J$242"]
["pp4_bl4_7_3_total_in",{"$f":"'T2-B(PP4)'!$F$242","v":0},"#'T2-B(PP4)'!$F$242"]
["pp4_bl4_7_3_total_out",{"$f":"'T2-B(PP4)'!$I$242","v":0},"#'T2-B(PP4)'!$I$242"]
["pp4_bl4_7_3_unit",{"$f":"'T2-B(PP4)'!$C$242","v":0},"#'T2-B(PP4)'!$C$242"]
["pp4_bl4_7_3_unit_in",{"$f":"'T2-B(PP4)'!$D$242","v":0},"#'T2-B(PP4)'!$D$242"]
["pp4_bl4_7_3_units_out",{"$f":"'T2-B(PP4)'!$G$242","v":0},"#'T2-B(PP4)'!$G$242"]
["pp4_bl4_7_4_name",{"$f":"'T2-B(PP4)'!$B$243","v":0},"#'T2-B(PP4)'!$B$243"]
["pp4_bl4_7_4_rate_in",{"$f":"'T2-B(PP4)'!$E$243","v":0},"#'T2-B(PP4)'!$E$243"]
["pp4_bl4_7_4_rate_out",{"$f":"'T2-B(PP4)'!$H$243","v":0},"#'T2-B(PP4)'!$H$243"]
["pp4_bl4_7_4_total",{"$f":"'T2-B(PP4)'!$J$243","v":0},"#'T2-B(PP4)'!$J$243"]
["pp4_bl4_7_4_total_in",{"$f":"'T2-B(PP4)'!$F$243","v":0},"#'T2-B(PP4)'!$F$243"]
["pp4_bl4_7_4_total_out",{"$f":"'T2-B(PP4)'!$I$243","v":0},"#'T2-B(PP4)'!$I$243"]
["pp4_bl4_7_4_unit",{"$f":"'T2-B(PP4)'!$C$243","v":0},"#'T2-B(PP4)'!$C$243"]
["pp4_bl4_7_4_unit_in",{"$f":"'T2-B(PP4)'!$D$243","v":0},"#'T2-B(PP4)'!$D$243"]
["pp4_bl4_7_4_units_out",{"$f":"'T2-B(PP4)'!$G$243","v":0},"#'T2-B(PP4)'!$G$243"]
["pp4_bl4_7_5_name",{"$f":"'T2-B(PP4)'!$B$244","v":0},"#'T2-B(PP4)'!$B$244"]
["pp4_bl4_7_5_rate_in",{"$f":"'T2-B(PP4)'!$E$244","v":0},"#'T2-B(PP4)'!$E$244"]
["pp4_bl4_7_5_rate_out",{"$f":"'T2-B(PP4)'!$H$244","v":0},"#'T2-B(PP4)'!$H$244"]
["pp4_bl4_7_5_total",{"$f":"'T2-B(PP4)'!$J$244","v":0},"#'T2-B(PP4)'!$J$244"]
["pp4_bl4_7_5_total_in",{"$f":"'T2-B(PP4)'!$F$244","v":0},"#'T2-B(PP4)'!$F$244"]
["pp4_bl4_7_5_total_out",{"$f":"'T2-B(PP4)'!$I$244","v":0},"#'T2-B(PP4)'!$I$244"]
["pp4_bl4_7_5_unit",{"$f":"'T2-B(PP4)'!$C$244","v":0},"#'T2-B(PP4)'!$C$244"]
["pp4_bl4_7_5_unit_in",{"$f":"'T2-B(PP4)'!$D$244","v":0},"#'T2-B(PP4)'!$D$244"]
["pp4_bl4_7_5_units_out",{"$f":"'T2-B(PP4)'!$G$244","v":0},"#'T2-B(PP4)'!$G$244"]
["pp4_bl4_7_6_name",{"$f":"'T2-B(PP4)'!$B$245","v":0},"#'T2-B(PP4)'!$B$245"]
["pp4_bl4_7_6_rate_in",{"$f":"'T2-B(PP4)'!$E$245","v":0},"#'T2-B(PP4)'!$E$245"]
["pp4_bl4_7_6_rate_out",{"$f":"'T2-B(PP4)'!$H$245","v":0},"#'T2-B(PP4)'!$H$245"]
["pp4_bl4_7_6_total",{"$f":"'T2-B(PP4)'!$J$245","v":0},"#'T2-B(PP4)'!$J$245"]
["pp4_bl4_7_6_total_in",{"$f":"'T2-B(PP4)'!$F$245","v":0},"#'T2-B(PP4)'!$F$245"]
["pp4_bl4_7_6_total_out",{"$f":"'T2-B(PP4)'!$I$245","v":0},"#'T2-B(PP4)'!$I$245"]
["pp4_bl4_7_6_unit",{"$f":"'T2-B(PP4)'!$C$245","v":0},"#'T2-B(PP4)'!$C$245"]
["pp4_bl4_7_6_unit_in",{"$f":"'T2-B(PP4)'!$D$245","v":0},"#'T2-B(PP4)'!$D$245"]
["pp4_bl4_7_6_units_out",{"$f":"'T2-B(PP4)'!$G$245","v":0},"#'T2-B(PP4)'!$G$245"]
["pp4_bl4_7_7_name",{"$f":"'T2-B(PP4)'!$B$246","v":0},"#'T2-B(PP4)'!$B$246"]
["pp4_bl4_7_7_rate_in",{"$f":"'T2-B(PP4)'!$E$246","v":0},"#'T2-B(PP4)'!$E$246"]
["pp4_bl4_7_7_rate_out",{"$f":"'T2-B(PP4)'!$H$246","v":0},"#'T2-B(PP4)'!$H$246"]
["pp4_bl4_7_7_total",{"$f":"'T2-B(PP4)'!$J$246","v":0},"#'T2-B(PP4)'!$J$246"]
["pp4_bl4_7_7_total_in",{"$f":"'T2-B(PP4)'!$F$246","v":0},"#'T2-B(PP4)'!$F$246"]
["pp4_bl4_7_7_total_out",{"$f":"'T2-B(PP4)'!$I$246","v":0},"#'T2-B(PP4)'!$I$246"]
["pp4_bl4_7_7_unit",{"$f":"'T2-B(PP4)'!$C$246","v":0},"#'T2-B(PP4)'!$C$246"]
["pp4_bl4_7_7_unit_in",{"$f":"'T2-B(PP4)'!$D$246","v":0},"#'T2-B(PP4)'!$D$246"]
["pp4_bl4_7_7_units_out",{"$f":"'T2-B(PP4)'!$G$246","v":0},"#'T2-B(PP4)'!$G$246"]
["pp4_bl4_7_8_name",{"$f":"'T2-B(PP4)'!$B$247","v":0},"#'T2-B(PP4)'!$B$247"]
["pp4_bl4_7_8_rate_in",{"$f":"'T2-B(PP4)'!$E$247","v":0},"#'T2-B(PP4)'!$E$247"]
["pp4_bl4_7_8_rate_out",{"$f":"'T2-B(PP4)'!$H$247","v":0},"#'T2-B(PP4)'!$H$247"]
["pp4_bl4_7_8_total",{"$f":"'T2-B(PP4)'!$J$247","v":0},"#'T2-B(PP4)'!$J$247"]
["pp4_bl4_7_8_total_in",{"$f":"'T2-B(PP4)'!$F$247","v":0},"#'T2-B(PP4)'!$F$247"]
["pp4_bl4_7_8_total_out",{"$f":"'T2-B(PP4)'!$I$247","v":0},"#'T2-B(PP4)'!$I$247"]
["pp4_bl4_7_8_unit",{"$f":"'T2-B(PP4)'!$C$247","v":0},"#'T2-B(PP4)'!$C$247"]
["pp4_bl4_7_8_unit_in",{"$f":"'T2-B(PP4)'!$D$247","v":0},"#'T2-B(PP4)'!$D$247"]
["pp4_bl4_7_8_units_out",{"$f":"'T2-B(PP4)'!$G$247","v":0},"#'T2-B(PP4)'!$G$247"]
["pp4_bl4_7_9_name",{"$f":"'T2-B(PP4)'!$B$248","v":0},"#'T2-B(PP4)'!$B$248"]
["pp4_bl4_7_9_rate_in",{"$f":"'T2-B(PP4)'!$E$248","v":0},"#'T2-B(PP4)'!$E$248"]
["pp4_bl4_7_9_rate_out",{"$f":"'T2-B(PP4)'!$H$248","v":0},"#'T2-B(PP4)'!$H$248"]
["pp4_bl4_7_9_total",{"$f":"'T2-B(PP4)'!$J$248","v":0},"#'T2-B(PP4)'!$J$248"]
["pp4_bl4_7_9_total_in",{"$f":"'T2-B(PP4)'!$F$248","v":0},"#'T2-B(PP4)'!$F$248"]
["pp4_bl4_7_9_total_out",{"$f":"'T2-B(PP4)'!$I$248","v":0},"#'T2-B(PP4)'!$I$248"]
["pp4_bl4_7_9_unit",{"$f":"'T2-B(PP4)'!$C$248","v":0},"#'T2-B(PP4)'!$C$248"]
["pp4_bl4_7_9_unit_in",{"$f":"'T2-B(PP4)'!$D$248","v":0},"#'T2-B(PP4)'!$D$248"]
["pp4_bl4_7_9_units_out",{"$f":"'T2-B(PP4)'!$G$248","v":0},"#'T2-B(PP4)'!$G$248"]
["pp4_bl4_7_total",{"$f":"'T2-B(PP4)'!$J$239","v":0},"#'T2-B(PP4)'!$J$239"]
["pp4_bl4_7_total_in",{"$f":"'T2-B(PP4)'!$F$239","v":0},"#'T2-B(PP4)'!$F$239"]
["pp4_bl4_7_total_out",{"$f":"'T2-B(PP4)'!$I$239","v":0},"#'T2-B(PP4)'!$I$239"]
["pp4_bl4_8_1_name",{"$f":"'T2-B(PP4)'!$B$261","v":0},"#'T2-B(PP4)'!$B$261"]
["pp4_bl4_8_1_rate_in",{"$f":"'T2-B(PP4)'!$E$261","v":0},"#'T2-B(PP4)'!$E$261"]
["pp4_bl4_8_1_rate_out",{"$f":"'T2-B(PP4)'!$H$261","v":0},"#'T2-B(PP4)'!$H$261"]
["pp4_bl4_8_1_total",{"$f":"'T2-B(PP4)'!$J$261","v":0},"#'T2-B(PP4)'!$J$261"]
["pp4_bl4_8_1_total_in",{"$f":"'T2-B(PP4)'!$F$261","v":0},"#'T2-B(PP4)'!$F$261"]
["pp4_bl4_8_1_total_out",{"$f":"'T2-B(PP4)'!$I$261","v":0},"#'T2-B(PP4)'!$I$261"]
["pp4_bl4_8_1_unit",{"$f":"'T2-B(PP4)'!$C$261","v":0},"#'T2-B(PP4)'!$C$261"]
["pp4_bl4_8_1_unit_in",{"$f":"'T2-B(PP4)'!$D$261","v":0},"#'T2-B(PP4)'!$D$261"]
["pp4_bl4_8_1_units_out",{"$f":"'T2-B(PP4)'!$G$261","v":0},"#'T2-B(PP4)'!$G$261"]
["pp4_bl4_8_10_name",{"$f":"'T2-B(PP4)'!$B$270","v":0},"#'T2-B(PP4)'!$B$270"]
["pp4_bl4_8_10_rate_in",{"$f":"'T2-B(PP4)'!$E$270","v":0},"#'T2-B(PP4)'!$E$270"]
["pp4_bl4_8_10_rate_out",{"$f":"'T2-B(PP4)'!$H$270","v":0},"#'T2-B(PP4)'!$H$270"]
["pp4_bl4_8_10_total",{"$f":"'T2-B(PP4)'!$J$270","v":0},"#'T2-B(PP4)'!$J$270"]
["pp4_bl4_8_10_total_in",{"$f":"'T2-B(PP4)'!$F$270","v":0},"#'T2-B(PP4)'!$F$270"]
["pp4_bl4_8_10_total_out",{"$f":"'T2-B(PP4)'!$I$270","v":0},"#'T2-B(PP4)'!$I$270"]
["pp4_bl4_8_10_unit",{"$f":"'T2-B(PP4)'!$C$270","v":0},"#'T2-B(PP4)'!$C$270"]
["pp4_bl4_8_10_unit_in",{"$f":"'T2-B(PP4)'!$D$270","v":0},"#'T2-B(PP4)'!$D$270"]
["pp4_bl4_8_10_units_out",{"$f":"'T2-B(PP4)'!$G$270","v":0},"#'T2-B(PP4)'!$G$270"]
["pp4_bl4_8_2_name",{"$f":"'T2-B(PP4)'!$B$262","v":0},"#'T2-B(PP4)'!$B$262"]
["pp4_bl4_8_2_rate_in",{"$f":"'T2-B(PP4)'!$E$262","v":0},"#'T2-B(PP4)'!$E$262"]
["pp4_bl4_8_2_rate_out",{"$f":"'T2-B(PP4)'!$H$262","v":0},"#'T2-B(PP4)'!$H$262"]
["pp4_bl4_8_2_total",{"$f":"'T2-B(PP4)'!$J$262","v":0},"#'T2-B(PP4)'!$J$262"]
["pp4_bl4_8_2_total_in",{"$f":"'T2-B(PP4)'!$F$262","v":0},"#'T2-B(PP4)'!$F$262"]
["pp4_bl4_8_2_total_out",{"$f":"'T2-B(PP4)'!$I$262","v":0},"#'T2-B(PP4)'!$I$262"]
["pp4_bl4_8_2_unit",{"$f":"'T2-B(PP4)'!$C$262","v":0},"#'T2-B(PP4)'!$C$262"]
["pp4_bl4_8_2_unit_in",{"$f":"'T2-B(PP4)'!$D$262","v":0},"#'T2-B(PP4)'!$D$262"]
["pp4_bl4_8_2_units_out",{"$f":"'T2-B(PP4)'!$G$262","v":0},"#'T2-B(PP4)'!$G$262"]
["pp4_bl4_8_3_name",{"$f":"'T2-B(PP4)'!$B$263","v":0},"#'T2-B(PP4)'!$B$263"]
["pp4_bl4_8_3_rate_in",{"$f":"'T2-B(PP4)'!$E$263","v":0},"#'T2-B(PP4)'!$E$263"]
["pp4_bl4_8_3_rate_out",{"$f":"'T2-B(PP4)'!$H$263","v":0},"#'T2-B(PP4)'!$H$263"]
["pp4_bl4_8_3_total",{"$f":"'T2-B(PP4)'!$J$263","v":0},"#'T2-B(PP4)'!$J$263"]
["pp4_bl4_8_3_total_in",{"$f":"'T2-B(PP4)'!$F$263","v":0},"#'T2-B(PP4)'!$F$263"]
["pp4_bl4_8_3_total_out",{"$f":"'T2-B(PP4)'!$I$263","v":0},"#'T2-B(PP4)'!$I$263"]
["pp4_bl4_8_3_unit",{"$f":"'T2-B(PP4)'!$C$263","v":0},"#'T2-B(PP4)'!$C$263"]
["pp4_bl4_8_3_unit_in",{"$f":"'T2-B(PP4)'!$D$263","v":0},"#'T2-B(PP4)'!$D$263"]
["pp4_bl4_8_3_units_out",{"$f":"'T2-B(PP4)'!$G$263","v":0},"#'T2-B(PP4)'!$G$263"]
["pp4_bl4_8_4_name",{"$f":"'T2-B(PP4)'!$B$264","v":0},"#'T2-B(PP4)'!$B$264"]
["pp4_bl4_8_4_rate_in",{"$f":"'T2-B(PP4)'!$E$264","v":0},"#'T2-B(PP4)'!$E$264"]
["pp4_bl4_8_4_rate_out",{"$f":"'T2-B(PP4)'!$H$264","v":0},"#'T2-B(PP4)'!$H$264"]
["pp4_bl4_8_4_total",{"$f":"'T2-B(PP4)'!$J$264","v":0},"#'T2-B(PP4)'!$J$264"]
["pp4_bl4_8_4_total_in",{"$f":"'T2-B(PP4)'!$F$264","v":0},"#'T2-B(PP4)'!$F$264"]
["pp4_bl4_8_4_total_out",{"$f":"'T2-B(PP4)'!$I$264","v":0},"#'T2-B(PP4)'!$I$264"]
["pp4_bl4_8_4_unit",{"$f":"'T2-B(PP4)'!$C$264","v":0},"#'T2-B(PP4)'!$C$264"]
["pp4_bl4_8_4_unit_in",{"$f":"'T2-B(PP4)'!$D$264","v":0},"#'T2-B(PP4)'!$D$264"]
["pp4_bl4_8_4_units_out",{"$f":"'T2-B(PP4)'!$G$264","v":0},"#'T2-B(PP4)'!$G$264"]
["pp4_bl4_8_5_name",{"$f":"'T2-B(PP4)'!$B$265","v":0},"#'T2-B(PP4)'!$B$265"]
["pp4_bl4_8_5_rate_in",{"$f":"'T2-B(PP4)'!$E$265","v":0},"#'T2-B(PP4)'!$E$265"]
["pp4_bl4_8_5_rate_out",{"$f":"'T2-B(PP4)'!$H$265","v":0},"#'T2-B(PP4)'!$H$265"]
["pp4_bl4_8_5_total",{"$f":"'T2-B(PP4)'!$J$265","v":0},"#'T2-B(PP4)'!$J$265"]
["pp4_bl4_8_5_total_in",{"$f":"'T2-B(PP4)'!$F$265","v":0},"#'T2-B(PP4)'!$F$265"]
["pp4_bl4_8_5_total_out",{"$f":"'T2-B(PP4)'!$I$265","v":0},"#'T2-B(PP4)'!$I$265"]
["pp4_bl4_8_5_unit",{"$f":"'T2-B(PP4)'!$C$265","v":0},"#'T2-B(PP4)'!$C$265"]
["pp4_bl4_8_5_unit_in",{"$f":"'T2-B(PP4)'!$D$265","v":0},"#'T2-B(PP4)'!$D$265"]
["pp4_bl4_8_5_units_out",{"$f":"'T2-B(PP4)'!$G$265","v":0},"#'T2-B(PP4)'!$G$265"]
["pp4_bl4_8_6_name",{"$f":"'T2-B(PP4)'!$B$266","v":0},"#'T2-B(PP4)'!$B$266"]
["pp4_bl4_8_6_rate_in",{"$f":"'T2-B(PP4)'!$E$266","v":0},"#'T2-B(PP4)'!$E$266"]
["pp4_bl4_8_6_rate_out",{"$f":"'T2-B(PP4)'!$H$266","v":0},"#'T2-B(PP4)'!$H$266"]
["pp4_bl4_8_6_total",{"$f":"'T2-B(PP4)'!$J$266","v":0},"#'T2-B(PP4)'!$J$266"]
["pp4_bl4_8_6_total_in",{"$f":"'T2-B(PP4)'!$F$266","v":0},"#'T2-B(PP4)'!$F$266"]
["pp4_bl4_8_6_total_out",{"$f":"'T2-B(PP4)'!$I$266","v":0},"#'T2-B(PP4)'!$I$266"]
["pp4_bl4_8_6_unit",{"$f":"'T2-B(PP4)'!$C$266","v":0},"#'T2-B(PP4)'!$C$266"]
["pp4_bl4_8_6_unit_in",{"$f":"'T2-B(PP4)'!$D$266","v":0},"#'T2-B(PP4)'!$D$266"]
["pp4_bl4_8_6_units_out",{"$f":"'T2-B(PP4)'!$G$266","v":0},"#'T2-B(PP4)'!$G$266"]
["pp4_bl4_8_7_name",{"$f":"'T2-B(PP4)'!$B$267","v":0},"#'T2-B(PP4)'!$B$267"]
["pp4_bl4_8_7_rate_in",{"$f":"'T2-B(PP4)'!$E$267","v":0},"#'T2-B(PP4)'!$E$267"]
["pp4_bl4_8_7_rate_out",{"$f":"'T2-B(PP4)'!$H$267","v":0},"#'T2-B(PP4)'!$H$267"]
["pp4_bl4_8_7_total",{"$f":"'T2-B(PP4)'!$J$267","v":0},"#'T2-B(PP4)'!$J$267"]
["pp4_bl4_8_7_total_in",{"$f":"'T2-B(PP4)'!$F$267","v":0},"#'T2-B(PP4)'!$F$267"]
["pp4_bl4_8_7_total_out",{"$f":"'T2-B(PP4)'!$I$267","v":0},"#'T2-B(PP4)'!$I$267"]
["pp4_bl4_8_7_unit",{"$f":"'T2-B(PP4)'!$C$267","v":0},"#'T2-B(PP4)'!$C$267"]
["pp4_bl4_8_7_unit_in",{"$f":"'T2-B(PP4)'!$D$267","v":0},"#'T2-B(PP4)'!$D$267"]
["pp4_bl4_8_7_units_out",{"$f":"'T2-B(PP4)'!$G$267","v":0},"#'T2-B(PP4)'!$G$267"]
["pp4_bl4_8_8_name",{"$f":"'T2-B(PP4)'!$B$268","v":0},"#'T2-B(PP4)'!$B$268"]
["pp4_bl4_8_8_rate_in",{"$f":"'T2-B(PP4)'!$E$268","v":0},"#'T2-B(PP4)'!$E$268"]
["pp4_bl4_8_8_rate_out",{"$f":"'T2-B(PP4)'!$H$268","v":0},"#'T2-B(PP4)'!$H$268"]
["pp4_bl4_8_8_total",{"$f":"'T2-B(PP4)'!$J$268","v":0},"#'T2-B(PP4)'!$J$268"]
["pp4_bl4_8_8_total_in",{"$f":"'T2-B(PP4)'!$F$268","v":0},"#'T2-B(PP4)'!$F$268"]
["pp4_bl4_8_8_total_out",{"$f":"'T2-B(PP4)'!$I$268","v":0},"#'T2-B(PP4)'!$I$268"]
["pp4_bl4_8_8_unit",{"$f":"'T2-B(PP4)'!$C$268","v":0},"#'T2-B(PP4)'!$C$268"]
["pp4_bl4_8_8_unit_in",{"$f":"'T2-B(PP4)'!$D$268","v":0},"#'T2-B(PP4)'!$D$268"]
["pp4_bl4_8_8_units_out",{"$f":"'T2-B(PP4)'!$G$268","v":0},"#'T2-B(PP4)'!$G$268"]
["pp4_bl4_8_9_name",{"$f":"'T2-B(PP4)'!$B$269","v":0},"#'T2-B(PP4)'!$B$269"]
["pp4_bl4_8_9_rate_in",{"$f":"'T2-B(PP4)'!$E$269","v":0},"#'T2-B(PP4)'!$E$269"]
["pp4_bl4_8_9_rate_out",{"$f":"'T2-B(PP4)'!$H$269","v":0},"#'T2-B(PP4)'!$H$269"]
["pp4_bl4_8_9_total",{"$f":"'T2-B(PP4)'!$J$269","v":0},"#'T2-B(PP4)'!$J$269"]
["pp4_bl4_8_9_total_in",{"$f":"'T2-B(PP4)'!$F$269","v":0},"#'T2-B(PP4)'!$F$269"]
["pp4_bl4_8_9_total_out",{"$f":"'T2-B(PP4)'!$I$269","v":0},"#'T2-B(PP4)'!$I$269"]
["pp4_bl4_8_9_unit",{"$f":"'T2-B(PP4)'!$C$269","v":0},"#'T2-B(PP4)'!$C$269"]
["pp4_bl4_8_9_unit_in",{"$f":"'T2-B(PP4)'!$D$269","v":0},"#'T2-B(PP4)'!$D$269"]
["pp4_bl4_8_9_units_out",{"$f":"'T2-B(PP4)'!$G$269","v":0},"#'T2-B(PP4)'!$G$269"]
["pp4_bl4_8_total",{"$f":"'T2-B(PP4)'!$J$260","v":0},"#'T2-B(PP4)'!$J$260"]
["pp4_bl4_8_total_in",{"$f":"'T2-B(PP4)'!$F$260","v":0},"#'T2-B(PP4)'!$F$260"]
["pp4_bl4_8_total_out",{"$f":"'T2-B(PP4)'!$I$260","v":0},"#'T2-B(PP4)'!$I$260"]
["pp4_bl4_9_1_name",{"$f":"'T2-B(PP4)'!$B$282","v":0},"#'T2-B(PP4)'!$B$282"]
["pp4_bl4_9_1_rate_in",{"$f":"'T2-B(PP4)'!$E$282","v":0},"#'T2-B(PP4)'!$E$282"]
["pp4_bl4_9_1_rate_out",{"$f":"'T2-B(PP4)'!$H$282","v":0},"#'T2-B(PP4)'!$H$282"]
["pp4_bl4_9_1_total",{"$f":"'T2-B(PP4)'!$J$282","v":0},"#'T2-B(PP4)'!$J$282"]
["pp4_bl4_9_1_total_in",{"$f":"'T2-B(PP4)'!$F$282","v":0},"#'T2-B(PP4)'!$F$282"]
["pp4_bl4_9_1_total_out",{"$f":"'T2-B(PP4)'!$I$282","v":0},"#'T2-B(PP4)'!$I$282"]
["pp4_bl4_9_1_unit",{"$f":"'T2-B(PP4)'!$C$282","v":0},"#'T2-B(PP4)'!$C$282"]
["pp4_bl4_9_1_unit_in",{"$f":"'T2-B(PP4)'!$D$282","v":0},"#'T2-B(PP4)'!$D$282"]
["pp4_bl4_9_1_units_out",{"$f":"'T2-B(PP4)'!$G$282","v":0},"#'T2-B(PP4)'!$G$282"]
["pp4_bl4_9_10_name",{"$f":"'T2-B(PP4)'!$B$291","v":0},"#'T2-B(PP4)'!$B$291"]
["pp4_bl4_9_10_rate_in",{"$f":"'T2-B(PP4)'!$E$291","v":0},"#'T2-B(PP4)'!$E$291"]
["pp4_bl4_9_10_rate_out",{"$f":"'T2-B(PP4)'!$H$291","v":0},"#'T2-B(PP4)'!$H$291"]
["pp4_bl4_9_10_total",{"$f":"'T2-B(PP4)'!$J$291","v":0},"#'T2-B(PP4)'!$J$291"]
["pp4_bl4_9_10_total_in",{"$f":"'T2-B(PP4)'!$F$291","v":0},"#'T2-B(PP4)'!$F$291"]
["pp4_bl4_9_10_total_out",{"$f":"'T2-B(PP4)'!$I$291","v":0},"#'T2-B(PP4)'!$I$291"]
["pp4_bl4_9_10_unit",{"$f":"'T2-B(PP4)'!$C$291","v":0},"#'T2-B(PP4)'!$C$291"]
["pp4_bl4_9_10_unit_in",{"$f":"'T2-B(PP4)'!$D$291","v":0},"#'T2-B(PP4)'!$D$291"]
["pp4_bl4_9_10_units_out",{"$f":"'T2-B(PP4)'!$G$291","v":0},"#'T2-B(PP4)'!$G$291"]
["pp4_bl4_9_2_name",{"$f":"'T2-B(PP4)'!$B$283","v":0},"#'T2-B(PP4)'!$B$283"]
["pp4_bl4_9_2_rate_in",{"$f":"'T2-B(PP4)'!$E$283","v":0},"#'T2-B(PP4)'!$E$283"]
["pp4_bl4_9_2_rate_out",{"$f":"'T2-B(PP4)'!$H$283","v":0},"#'T2-B(PP4)'!$H$283"]
["pp4_bl4_9_2_total",{"$f":"'T2-B(PP4)'!$J$283","v":0},"#'T2-B(PP4)'!$J$283"]
["pp4_bl4_9_2_total_in",{"$f":"'T2-B(PP4)'!$F$283","v":0},"#'T2-B(PP4)'!$F$283"]
["pp4_bl4_9_2_total_out",{"$f":"'T2-B(PP4)'!$I$283","v":0},"#'T2-B(PP4)'!$I$283"]
["pp4_bl4_9_2_unit",{"$f":"'T2-B(PP4)'!$C$283","v":0},"#'T2-B(PP4)'!$C$283"]
["pp4_bl4_9_2_unit_in",{"$f":"'T2-B(PP4)'!$D$283","v":0},"#'T2-B(PP4)'!$D$283"]
["pp4_bl4_9_2_units_out",{"$f":"'T2-B(PP4)'!$G$283","v":0},"#'T2-B(PP4)'!$G$283"]
["pp4_bl4_9_3_name",{"$f":"'T2-B(PP4)'!$B$284","v":0},"#'T2-B(PP4)'!$B$284"]
["pp4_bl4_9_3_rate_in",{"$f":"'T2-B(PP4)'!$E$284","v":0},"#'T2-B(PP4)'!$E$284"]
["pp4_bl4_9_3_rate_out",{"$f":"'T2-B(PP4)'!$H$284","v":0},"#'T2-B(PP4)'!$H$284"]
["pp4_bl4_9_3_total",{"$f":"'T2-B(PP4)'!$J$284","v":0},"#'T2-B(PP4)'!$J$284"]
["pp4_bl4_9_3_total_in",{"$f":"'T2-B(PP4)'!$F$284","v":0},"#'T2-B(PP4)'!$F$284"]
["pp4_bl4_9_3_total_out",{"$f":"'T2-B(PP4)'!$I$284","v":0},"#'T2-B(PP4)'!$I$284"]
["pp4_bl4_9_3_unit",{"$f":"'T2-B(PP4)'!$C$284","v":0},"#'T2-B(PP4)'!$C$284"]
["pp4_bl4_9_3_unit_in",{"$f":"'T2-B(PP4)'!$D$284","v":0},"#'T2-B(PP4)'!$D$284"]
["pp4_bl4_9_3_units_out",{"$f":"'T2-B(PP4)'!$G$284","v":0},"#'T2-B(PP4)'!$G$284"]
["pp4_bl4_9_4_name",{"$f":"'T2-B(PP4)'!$B$285","v":0},"#'T2-B(PP4)'!$B$285"]
["pp4_bl4_9_4_rate_in",{"$f":"'T2-B(PP4)'!$E$285","v":0},"#'T2-B(PP4)'!$E$285"]
["pp4_bl4_9_4_rate_out",{"$f":"'T2-B(PP4)'!$H$285","v":0},"#'T2-B(PP4)'!$H$285"]
["pp4_bl4_9_4_total",{"$f":"'T2-B(PP4)'!$J$285","v":0},"#'T2-B(PP4)'!$J$285"]
["pp4_bl4_9_4_total_in",{"$f":"'T2-B(PP4)'!$F$285","v":0},"#'T2-B(PP4)'!$F$285"]
["pp4_bl4_9_4_total_out",{"$f":"'T2-B(PP4)'!$I$285","v":0},"#'T2-B(PP4)'!$I$285"]
["pp4_bl4_9_4_unit",{"$f":"'T2-B(PP4)'!$C$285","v":0},"#'T2-B(PP4)'!$C$285"]
["pp4_bl4_9_4_unit_in",{"$f":"'T2-B(PP4)'!$D$285","v":0},"#'T2-B(PP4)'!$D$285"]
["pp4_bl4_9_4_units_out",{"$f":"'T2-B(PP4)'!$G$285","v":0},"#'T2-B(PP4)'!$G$285"]
["pp4_bl4_9_5_name",{"$f":"'T2-B(PP4)'!$B$286","v":0},"#'T2-B(PP4)'!$B$286"]
["pp4_bl4_9_5_rate_in",{"$f":"'T2-B(PP4)'!$E$286","v":0},"#'T2-B(PP4)'!$E$286"]
["pp4_bl4_9_5_rate_out",{"$f":"'T2-B(PP4)'!$H$286","v":0},"#'T2-B(PP4)'!$H$286"]
["pp4_bl4_9_5_total",{"$f":"'T2-B(PP4)'!$J$286","v":0},"#'T2-B(PP4)'!$J$286"]
["pp4_bl4_9_5_total_in",{"$f":"'T2-B(PP4)'!$F$286","v":0},"#'T2-B(PP4)'!$F$286"]
["pp4_bl4_9_5_total_out",{"$f":"'T2-B(PP4)'!$I$286","v":0},"#'T2-B(PP4)'!$I$286"]
["pp4_bl4_9_5_unit",{"$f":"'T2-B(PP4)'!$C$286","v":0},"#'T2-B(PP4)'!$C$286"]
["pp4_bl4_9_5_unit_in",{"$f":"'T2-B(PP4)'!$D$286","v":0},"#'T2-B(PP4)'!$D$286"]
["pp4_bl4_9_5_units_out",{"$f":"'T2-B(PP4)'!$G$286","v":0},"#'T2-B(PP4)'!$G$286"]
["pp4_bl4_9_6_name",{"$f":"'T2-B(PP4)'!$B$287","v":0},"#'T2-B(PP4)'!$B$287"]
["pp4_bl4_9_6_rate_in",{"$f":"'T2-B(PP4)'!$E$287","v":0},"#'T2-B(PP4)'!$E$287"]
["pp4_bl4_9_6_rate_out",{"$f":"'T2-B(PP4)'!$H$287","v":0},"#'T2-B(PP4)'!$H$287"]
["pp4_bl4_9_6_total",{"$f":"'T2-B(PP4)'!$J$287","v":0},"#'T2-B(PP4)'!$J$287"]
["pp4_bl4_9_6_total_in",{"$f":"'T2-B(PP4)'!$F$287","v":0},"#'T2-B(PP4)'!$F$287"]
["pp4_bl4_9_6_total_out",{"$f":"'T2-B(PP4)'!$I$287","v":0},"#'T2-B(PP4)'!$I$287"]
["pp4_bl4_9_6_unit",{"$f":"'T2-B(PP4)'!$C$287","v":0},"#'T2-B(PP4)'!$C$287"]
["pp4_bl4_9_6_unit_in",{"$f":"'T2-B(PP4)'!$D$287","v":0},"#'T2-B(PP4)'!$D$287"]
["pp4_bl4_9_6_units_out",{"$f":"'T2-B(PP4)'!$G$287","v":0},"#'T2-B(PP4)'!$G$287"]
["pp4_bl4_9_7_name",{"$f":"'T2-B(PP4)'!$B$288","v":0},"#'T2-B(PP4)'!$B$288"]
["pp4_bl4_9_7_rate_in",{"$f":"'T2-B(PP4)'!$E$288","v":0},"#'T2-B(PP4)'!$E$288"]
["pp4_bl4_9_7_rate_out",{"$f":"'T2-B(PP4)'!$H$288","v":0},"#'T2-B(PP4)'!$H$288"]
["pp4_bl4_9_7_total",{"$f":"'T2-B(PP4)'!$J$288","v":0},"#'T2-B(PP4)'!$J$288"]
["pp4_bl4_9_7_total_in",{"$f":"'T2-B(PP4)'!$F$288","v":0},"#'T2-B(PP4)'!$F$288"]
["pp4_bl4_9_7_total_out",{"$f":"'T2-B(PP4)'!$I$288","v":0},"#'T2-B(PP4)'!$I$288"]
["pp4_bl4_9_7_unit",{"$f":"'T2-B(PP4)'!$C$288","v":0},"#'T2-B(PP4)'!$C$288"]
["pp4_bl4_9_7_unit_in",{"$f":"'T2-B(PP4)'!$D$288","v":0},"#'T2-B(PP4)'!$D$288"]
["pp4_bl4_9_7_units_out",{"$f":"'T2-B(PP4)'!$G$288","v":0},"#'T2-B(PP4)'!$G$288"]
["pp4_bl4_9_8_name",{"$f":"'T2-B(PP4)'!$B$289","v":0},"#'T2-B(PP4)'!$B$289"]
["pp4_bl4_9_8_rate_in",{"$f":"'T2-B(PP4)'!$E$289","v":0},"#'T2-B(PP4)'!$E$289"]
["pp4_bl4_9_8_rate_out",{"$f":"'T2-B(PP4)'!$H$289","v":0},"#'T2-B(PP4)'!$H$289"]
["pp4_bl4_9_8_total",{"$f":"'T2-B(PP4)'!$J$289","v":0},"#'T2-B(PP4)'!$J$289"]
["pp4_bl4_9_8_total_in",{"$f":"'T2-B(PP4)'!$F$289","v":0},"#'T2-B(PP4)'!$F$289"]
["pp4_bl4_9_8_total_out",{"$f":"'T2-B(PP4)'!$I$289","v":0},"#'T2-B(PP4)'!$I$289"]
["pp4_bl4_9_8_unit",{"$f":"'T2-B(PP4)'!$C$289","v":0},"#'T2-B(PP4)'!$C$289"]
["pp4_bl4_9_8_unit_in",{"$f":"'T2-B(PP4)'!$D$289","v":0},"#'T2-B(PP4)'!$D$289"]
["pp4_bl4_9_8_units_out",{"$f":"'T2-B(PP4)'!$G$289","v":0},"#'T2-B(PP4)'!$G$289"]
["pp4_bl4_9_9_name",{"$f":"'T2-B(PP4)'!$B$290","v":0},"#'T2-B(PP4)'!$B$290"]
["pp4_bl4_9_9_rate_in",{"$f":"'T2-B(PP4)'!$E$290","v":0},"#'T2-B(PP4)'!$E$290"]
["pp4_bl4_9_9_rate_out",{"$f":"'T2-B(PP4)'!$H$290","v":0},"#'T2-B(PP4)'!$H$290"]
["pp4_bl4_9_9_total",{"$f":"'T2-B(PP4)'!$J$290","v":0},"#'T2-B(PP4)'!$J$290"]
["pp4_bl4_9_9_total_in",{"$f":"'T2-B(PP4)'!$F$290","v":0},"#'T2-B(PP4)'!$F$290"]
["pp4_bl4_9_9_total_out",{"$f":"'T2-B(PP4)'!$I$290","v":0},"#'T2-B(PP4)'!$I$290"]
["pp4_bl4_9_9_unit",{"$f":"'T2-B(PP4)'!$C$290","v":0},"#'T2-B(PP4)'!$C$290"]
["pp4_bl4_9_9_unit_in",{"$f":"'T2-B(PP4)'!$D$290","v":0},"#'T2-B(PP4)'!$D$290"]
["pp4_bl4_9_9_units_out",{"$f":"'T2-B(PP4)'!$G$290","v":0},"#'T2-B(PP4)'!$G$290"]
["pp4_bl4_9_total",{"$f":"'T2-B(PP4)'!$J$281","v":0},"#'T2-B(PP4)'!$J$281"]
["pp4_bl4_9_total_in",{"$f":"'T2-B(PP4)'!$F$281","v":0},"#'T2-B(PP4)'!$F$281"]
["pp4_bl4_9_total_out",{"$f":"'T2-B(PP4)'!$I$281","v":0},"#'T2-B(PP4)'!$I$281"]
["pp4_bl4_total",{"$f":"'T2-B(PP4)'!$J$365","v":0},"#'T2-B(PP4)'!$J$365"]
["pp4_bl4_total_in",{"$f":"'T2-B(PP4)'!$F$365","v":0},"#'T2-B(PP4)'!$F$365"]
["pp4_bl4_total_out",{"$f":"'T2-B(PP4)'!$I$365","v":0},"#'T2-B(PP4)'!$I$365"]
["pp4_bl5_1_1_name",{"$f":"'T2-B(PP4)'!$B$370","v":0},"#'T2-B(PP4)'!$B$370"]
["pp4_bl5_1_1_rate_in",{"$f":"'T2-B(PP4)'!$E$370","v":0},"#'T2-B(PP4)'!$E$370"]
["pp4_bl5_1_1_rate_out",{"$f":"'T2-B(PP4)'!$H$370","v":0},"#'T2-B(PP4)'!$H$370"]
["pp4_bl5_1_1_total",{"$f":"'T2-B(PP4)'!$J$370","v":0},"#'T2-B(PP4)'!$J$370"]
["pp4_bl5_1_1_total_in",{"$f":"'T2-B(PP4)'!$F$370","v":0},"#'T2-B(PP4)'!$F$370"]
["pp4_bl5_1_1_total_out",{"$f":"'T2-B(PP4)'!$I$370","v":0},"#'T2-B(PP4)'!$I$370"]
["pp4_bl5_1_1_unit",{"$f":"'T2-B(PP4)'!$C$370","v":0},"#'T2-B(PP4)'!$C$370"]
["pp4_bl5_1_1_unit_in",{"$f":"'T2-B(PP4)'!$D$370","v":0},"#'T2-B(PP4)'!$D$370"]
["pp4_bl5_1_1_units_out",{"$f":"'T2-B(PP4)'!$G$370","v":0},"#'T2-B(PP4)'!$G$370"]
["pp4_bl5_1_10_name",{"$f":"'T2-B(PP4)'!$B$379","v":0},"#'T2-B(PP4)'!$B$379"]
["pp4_bl5_1_10_rate_in",{"$f":"'T2-B(PP4)'!$E$379","v":0},"#'T2-B(PP4)'!$E$379"]
["pp4_bl5_1_10_rate_out",{"$f":"'T2-B(PP4)'!$H$379","v":0},"#'T2-B(PP4)'!$H$379"]
["pp4_bl5_1_10_total",{"$f":"'T2-B(PP4)'!$J$379","v":0},"#'T2-B(PP4)'!$J$379"]
["pp4_bl5_1_10_total_in",{"$f":"'T2-B(PP4)'!$F$379","v":0},"#'T2-B(PP4)'!$F$379"]
["pp4_bl5_1_10_total_out",{"$f":"'T2-B(PP4)'!$I$379","v":0},"#'T2-B(PP4)'!$I$379"]
["pp4_bl5_1_10_unit",{"$f":"'T2-B(PP4)'!$C$379","v":0},"#'T2-B(PP4)'!$C$379"]
["pp4_bl5_1_10_unit_in",{"$f":"'T2-B(PP4)'!$D$379","v":0},"#'T2-B(PP4)'!$D$379"]
["pp4_bl5_1_10_units_out",{"$f":"'T2-B(PP4)'!$G$379","v":0},"#'T2-B(PP4)'!$G$379"]
["pp4_bl5_1_2_name",{"$f":"'T2-B(PP4)'!$B$371","v":0},"#'T2-B(PP4)'!$B$371"]
["pp4_bl5_1_2_rate_in",{"$f":"'T2-B(PP4)'!$E$371","v":0},"#'T2-B(PP4)'!$E$371"]
["pp4_bl5_1_2_rate_out",{"$f":"'T2-B(PP4)'!$H$371","v":0},"#'T2-B(PP4)'!$H$371"]
["pp4_bl5_1_2_total",{"$f":"'T2-B(PP4)'!$J$371","v":0},"#'T2-B(PP4)'!$J$371"]
["pp4_bl5_1_2_total_in",{"$f":"'T2-B(PP4)'!$F$371","v":0},"#'T2-B(PP4)'!$F$371"]
["pp4_bl5_1_2_total_out",{"$f":"'T2-B(PP4)'!$I$371","v":0},"#'T2-B(PP4)'!$I$371"]
["pp4_bl5_1_2_unit",{"$f":"'T2-B(PP4)'!$C$371","v":0},"#'T2-B(PP4)'!$C$371"]
["pp4_bl5_1_2_unit_in",{"$f":"'T2-B(PP4)'!$D$371","v":0},"#'T2-B(PP4)'!$D$371"]
["pp4_bl5_1_2_units_out",{"$f":"'T2-B(PP4)'!$G$371","v":0},"#'T2-B(PP4)'!$G$371"]
["pp4_bl5_1_3_name",{"$f":"'T2-B(PP4)'!$B$372","v":0},"#'T2-B(PP4)'!$B$372"]
["pp4_bl5_1_3_rate_in",{"$f":"'T2-B(PP4)'!$E$372","v":0},"#'T2-B(PP4)'!$E$372"]
["pp4_bl5_1_3_rate_out",{"$f":"'T2-B(PP4)'!$H$372","v":0},"#'T2-B(PP4)'!$H$372"]
["pp4_bl5_1_3_total",{"$f":"'T2-B(PP4)'!$J$372","v":0},"#'T2-B(PP4)'!$J$372"]
["pp4_bl5_1_3_total_in",{"$f":"'T2-B(PP4)'!$F$372","v":0},"#'T2-B(PP4)'!$F$372"]
["pp4_bl5_1_3_total_out",{"$f":"'T2-B(PP4)'!$I$372","v":0},"#'T2-B(PP4)'!$I$372"]
["pp4_bl5_1_3_unit",{"$f":"'T2-B(PP4)'!$C$372","v":0},"#'T2-B(PP4)'!$C$372"]
["pp4_bl5_1_3_unit_in",{"$f":"'T2-B(PP4)'!$D$372","v":0},"#'T2-B(PP4)'!$D$372"]
["pp4_bl5_1_3_units_out",{"$f":"'T2-B(PP4)'!$G$372","v":0},"#'T2-B(PP4)'!$G$372"]
["pp4_bl5_1_4_name",{"$f":"'T2-B(PP4)'!$B$373","v":0},"#'T2-B(PP4)'!$B$373"]
["pp4_bl5_1_4_rate_in",{"$f":"'T2-B(PP4)'!$E$373","v":0},"#'T2-B(PP4)'!$E$373"]
["pp4_bl5_1_4_rate_out",{"$f":"'T2-B(PP4)'!$H$373","v":0},"#'T2-B(PP4)'!$H$373"]
["pp4_bl5_1_4_total",{"$f":"'T2-B(PP4)'!$J$373","v":0},"#'T2-B(PP4)'!$J$373"]
["pp4_bl5_1_4_total_in",{"$f":"'T2-B(PP4)'!$F$373","v":0},"#'T2-B(PP4)'!$F$373"]
["pp4_bl5_1_4_total_out",{"$f":"'T2-B(PP4)'!$I$373","v":0},"#'T2-B(PP4)'!$I$373"]
["pp4_bl5_1_4_unit",{"$f":"'T2-B(PP4)'!$C$373","v":0},"#'T2-B(PP4)'!$C$373"]
["pp4_bl5_1_4_unit_in",{"$f":"'T2-B(PP4)'!$D$373","v":0},"#'T2-B(PP4)'!$D$373"]
["pp4_bl5_1_4_units_out",{"$f":"'T2-B(PP4)'!$G$373","v":0},"#'T2-B(PP4)'!$G$373"]
["pp4_bl5_1_5_name",{"$f":"'T2-B(PP4)'!$B$374","v":0},"#'T2-B(PP4)'!$B$374"]
["pp4_bl5_1_5_rate_in",{"$f":"'T2-B(PP4)'!$E$374","v":0},"#'T2-B(PP4)'!$E$374"]
["pp4_bl5_1_5_rate_out",{"$f":"'T2-B(PP4)'!$H$374","v":0},"#'T2-B(PP4)'!$H$374"]
["pp4_bl5_1_5_total",{"$f":"'T2-B(PP4)'!$J$374","v":0},"#'T2-B(PP4)'!$J$374"]
["pp4_bl5_1_5_total_in",{"$f":"'T2-B(PP4)'!$F$374","v":0},"#'T2-B(PP4)'!$F$374"]
["pp4_bl5_1_5_total_out",{"$f":"'T2-B(PP4)'!$I$374","v":0},"#'T2-B(PP4)'!$I$374"]
["pp4_bl5_1_5_unit",{"$f":"'T2-B(PP4)'!$C$374","v":0},"#'T2-B(PP4)'!$C$374"]
["pp4_bl5_1_5_unit_in",{"$f":"'T2-B(PP4)'!$D$374","v":0},"#'T2-B(PP4)'!$D$374"]
["pp4_bl5_1_5_units_out",{"$f":"'T2-B(PP4)'!$G$374","v":0},"#'T2-B(PP4)'!$G$374"]
["pp4_bl5_1_6_name",{"$f":"'T2-B(PP4)'!$B$375","v":0},"#'T2-B(PP4)'!$B$375"]
["pp4_bl5_1_6_rate_in",{"$f":"'T2-B(PP4)'!$E$375","v":0},"#'T2-B(PP4)'!$E$375"]
["pp4_bl5_1_6_rate_out",{"$f":"'T2-B(PP4)'!$H$375","v":0},"#'T2-B(PP4)'!$H$375"]
["pp4_bl5_1_6_total",{"$f":"'T2-B(PP4)'!$J$375","v":0},"#'T2-B(PP4)'!$J$375"]
["pp4_bl5_1_6_total_in",{"$f":"'T2-B(PP4)'!$F$375","v":0},"#'T2-B(PP4)'!$F$375"]
["pp4_bl5_1_6_total_out",{"$f":"'T2-B(PP4)'!$I$375","v":0},"#'T2-B(PP4)'!$I$375"]
["pp4_bl5_1_6_unit",{"$f":"'T2-B(PP4)'!$C$375","v":0},"#'T2-B(PP4)'!$C$375"]
["pp4_bl5_1_6_unit_in",{"$f":"'T2-B(PP4)'!$D$375","v":0},"#'T2-B(PP4)'!$D$375"]
["pp4_bl5_1_6_units_out",{"$f":"'T2-B(PP4)'!$G$375","v":0},"#'T2-B(PP4)'!$G$375"]
["pp4_bl5_1_7_name",{"$f":"'T2-B(PP4)'!$B$376","v":0},"#'T2-B(PP4)'!$B$376"]
["pp4_bl5_1_7_rate_in",{"$f":"'T2-B(PP4)'!$E$376","v":0},"#'T2-B(PP4)'!$E$376"]
["pp4_bl5_1_7_rate_out",{"$f":"'T2-B(PP4)'!$H$376","v":0},"#'T2-B(PP4)'!$H$376"]
["pp4_bl5_1_7_total",{"$f":"'T2-B(PP4)'!$J$376","v":0},"#'T2-B(PP4)'!$J$376"]
["pp4_bl5_1_7_total_in",{"$f":"'T2-B(PP4)'!$F$376","v":0},"#'T2-B(PP4)'!$F$376"]
["pp4_bl5_1_7_total_out",{"$f":"'T2-B(PP4)'!$I$376","v":0},"#'T2-B(PP4)'!$I$376"]
["pp4_bl5_1_7_unit",{"$f":"'T2-B(PP4)'!$C$376","v":0},"#'T2-B(PP4)'!$C$376"]
["pp4_bl5_1_7_unit_in",{"$f":"'T2-B(PP4)'!$D$376","v":0},"#'T2-B(PP4)'!$D$376"]
["pp4_bl5_1_7_units_out",{"$f":"'T2-B(PP4)'!$G$376","v":0},"#'T2-B(PP4)'!$G$376"]
["pp4_bl5_1_8_name",{"$f":"'T2-B(PP4)'!$B$377","v":0},"#'T2-B(PP4)'!$B$377"]
["pp4_bl5_1_8_rate_in",{"$f":"'T2-B(PP4)'!$E$377","v":0},"#'T2-B(PP4)'!$E$377"]
["pp4_bl5_1_8_rate_out",{"$f":"'T2-B(PP4)'!$H$377","v":0},"#'T2-B(PP4)'!$H$377"]
["pp4_bl5_1_8_total",{"$f":"'T2-B(PP4)'!$J$377","v":0},"#'T2-B(PP4)'!$J$377"]
["pp4_bl5_1_8_total_in",{"$f":"'T2-B(PP4)'!$F$377","v":0},"#'T2-B(PP4)'!$F$377"]
["pp4_bl5_1_8_total_out",{"$f":"'T2-B(PP4)'!$I$377","v":0},"#'T2-B(PP4)'!$I$377"]
["pp4_bl5_1_8_unit",{"$f":"'T2-B(PP4)'!$C$377","v":0},"#'T2-B(PP4)'!$C$377"]
["pp4_bl5_1_8_unit_in",{"$f":"'T2-B(PP4)'!$D$377","v":0},"#'T2-B(PP4)'!$D$377"]
["pp4_bl5_1_8_units_out",{"$f":"'T2-B(PP4)'!$G$377","v":0},"#'T2-B(PP4)'!$G$377"]
["pp4_bl5_1_9_name",{"$f":"'T2-B(PP4)'!$B$378","v":0},"#'T2-B(PP4)'!$B$378"]
["pp4_bl5_1_9_rate_in",{"$f":"'T2-B(PP4)'!$E$378","v":0},"#'T2-B(PP4)'!$E$378"]
["pp4_bl5_1_9_rate_out",{"$f":"'T2-B(PP4)'!$H$378","v":0},"#'T2-B(PP4)'!$H$378"]
["pp4_bl5_1_9_total",{"$f":"'T2-B(PP4)'!$J$378","v":0},"#'T2-B(PP4)'!$J$378"]
["pp4_bl5_1_9_total_in",{"$f":"'T2-B(PP4)'!$F$378","v":0},"#'T2-B(PP4)'!$F$378"]
["pp4_bl5_1_9_total_out",{"$f":"'T2-B(PP4)'!$I$378","v":0},"#'T2-B(PP4)'!$I$378"]
["pp4_bl5_1_9_unit",{"$f":"'T2-B(PP4)'!$C$378","v":0},"#'T2-B(PP4)'!$C$378"]
["pp4_bl5_1_9_unit_in",{"$f":"'T2-B(PP4)'!$D$378","v":0},"#'T2-B(PP4)'!$D$378"]
["pp4_bl5_1_9_units_out",{"$f":"'T2-B(PP4)'!$G$378","v":0},"#'T2-B(PP4)'!$G$378"]
["pp4_bl5_1_total",{"$f":"'T2-B(PP4)'!$J$369","v":0},"#'T2-B(PP4)'!$J$369"]
["pp4_bl5_1_total_in",{"$f":"'T2-B(PP4)'!$F$369","v":0},"#'T2-B(PP4)'!$F$369"]
["pp4_bl5_1_total_out",{"$f":"'T2-B(PP4)'!$I$369","v":0},"#'T2-B(PP4)'!$I$369"]
["pp4_bl5_2_1_name",{"$f":"'T2-B(PP4)'!$B$391","v":0},"#'T2-B(PP4)'!$B$391"]
["pp4_bl5_2_1_rate_in",{"$f":"'T2-B(PP4)'!$E$391","v":0},"#'T2-B(PP4)'!$E$391"]
["pp4_bl5_2_1_rate_out",{"$f":"'T2-B(PP4)'!$H$391","v":0},"#'T2-B(PP4)'!$H$391"]
["pp4_bl5_2_1_total",{"$f":"'T2-B(PP4)'!$J$391","v":0},"#'T2-B(PP4)'!$J$391"]
["pp4_bl5_2_1_total_in",{"$f":"'T2-B(PP4)'!$F$391","v":0},"#'T2-B(PP4)'!$F$391"]
["pp4_bl5_2_1_total_out",{"$f":"'T2-B(PP4)'!$I$391","v":0},"#'T2-B(PP4)'!$I$391"]
["pp4_bl5_2_1_unit",{"$f":"'T2-B(PP4)'!$C$391","v":0},"#'T2-B(PP4)'!$C$391"]
["pp4_bl5_2_1_unit_in",{"$f":"'T2-B(PP4)'!$D$391","v":0},"#'T2-B(PP4)'!$D$391"]
["pp4_bl5_2_1_units_out",{"$f":"'T2-B(PP4)'!$G$391","v":0},"#'T2-B(PP4)'!$G$391"]
["pp4_bl5_2_10_name",{"$f":"'T2-B(PP4)'!$B$400","v":0},"#'T2-B(PP4)'!$B$400"]
["pp4_bl5_2_10_rate_in",{"$f":"'T2-B(PP4)'!$E$400","v":0},"#'T2-B(PP4)'!$E$400"]
["pp4_bl5_2_10_rate_out",{"$f":"'T2-B(PP4)'!$H$400","v":0},"#'T2-B(PP4)'!$H$400"]
["pp4_bl5_2_10_total",{"$f":"'T2-B(PP4)'!$J$400","v":0},"#'T2-B(PP4)'!$J$400"]
["pp4_bl5_2_10_total_in",{"$f":"'T2-B(PP4)'!$F$400","v":0},"#'T2-B(PP4)'!$F$400"]
["pp4_bl5_2_10_total_out",{"$f":"'T2-B(PP4)'!$I$400","v":0},"#'T2-B(PP4)'!$I$400"]
["pp4_bl5_2_10_unit",{"$f":"'T2-B(PP4)'!$C$400","v":0},"#'T2-B(PP4)'!$C$400"]
["pp4_bl5_2_10_unit_in",{"$f":"'T2-B(PP4)'!$D$400","v":0},"#'T2-B(PP4)'!$D$400"]
["pp4_bl5_2_10_units_out",{"$f":"'T2-B(PP4)'!$G$400","v":0},"#'T2-B(PP4)'!$G$400"]
["pp4_bl5_2_2_name",{"$f":"'T2-B(PP4)'!$B$392","v":0},"#'T2-B(PP4)'!$B$392"]
["pp4_bl5_2_2_rate_in",{"$f":"'T2-B(PP4)'!$E$392","v":0},"#'T2-B(PP4)'!$E$392"]
["pp4_bl5_2_2_rate_out",{"$f":"'T2-B(PP4)'!$H$392","v":0},"#'T2-B(PP4)'!$H$392"]
["pp4_bl5_2_2_total",{"$f":"'T2-B(PP4)'!$J$392","v":0},"#'T2-B(PP4)'!$J$392"]
["pp4_bl5_2_2_total_in",{"$f":"'T2-B(PP4)'!$F$392","v":0},"#'T2-B(PP4)'!$F$392"]
["pp4_bl5_2_2_total_out",{"$f":"'T2-B(PP4)'!$I$392","v":0},"#'T2-B(PP4)'!$I$392"]
["pp4_bl5_2_2_unit",{"$f":"'T2-B(PP4)'!$C$392","v":0},"#'T2-B(PP4)'!$C$392"]
["pp4_bl5_2_2_unit_in",{"$f":"'T2-B(PP4)'!$D$392","v":0},"#'T2-B(PP4)'!$D$392"]
["pp4_bl5_2_2_units_out",{"$f":"'T2-B(PP4)'!$G$392","v":0},"#'T2-B(PP4)'!$G$392"]
["pp4_bl5_2_3_name",{"$f":"'T2-B(PP4)'!$B$393","v":0},"#'T2-B(PP4)'!$B$393"]
["pp4_bl5_2_3_rate_in",{"$f":"'T2-B(PP4)'!$E$393","v":0},"#'T2-B(PP4)'!$E$393"]
["pp4_bl5_2_3_rate_out",{"$f":"'T2-B(PP4)'!$H$393","v":0},"#'T2-B(PP4)'!$H$393"]
["pp4_bl5_2_3_total",{"$f":"'T2-B(PP4)'!$J$393","v":0},"#'T2-B(PP4)'!$J$393"]
["pp4_bl5_2_3_total_in",{"$f":"'T2-B(PP4)'!$F$393","v":0},"#'T2-B(PP4)'!$F$393"]
["pp4_bl5_2_3_total_out",{"$f":"'T2-B(PP4)'!$I$393","v":0},"#'T2-B(PP4)'!$I$393"]
["pp4_bl5_2_3_unit",{"$f":"'T2-B(PP4)'!$C$393","v":0},"#'T2-B(PP4)'!$C$393"]
["pp4_bl5_2_3_unit_in",{"$f":"'T2-B(PP4)'!$D$393","v":0},"#'T2-B(PP4)'!$D$393"]
["pp4_bl5_2_3_units_out",{"$f":"'T2-B(PP4)'!$G$393","v":0},"#'T2-B(PP4)'!$G$393"]
["pp4_bl5_2_4_name",{"$f":"'T2-B(PP4)'!$B$394","v":0},"#'T2-B(PP4)'!$B$394"]
["pp4_bl5_2_4_rate_in",{"$f":"'T2-B(PP4)'!$E$394","v":0},"#'T2-B(PP4)'!$E$394"]
["pp4_bl5_2_4_rate_out",{"$f":"'T2-B(PP4)'!$H$394","v":0},"#'T2-B(PP4)'!$H$394"]
["pp4_bl5_2_4_total",{"$f":"'T2-B(PP4)'!$J$394","v":0},"#'T2-B(PP4)'!$J$394"]
["pp4_bl5_2_4_total_in",{"$f":"'T2-B(PP4)'!$F$394","v":0},"#'T2-B(PP4)'!$F$394"]
["pp4_bl5_2_4_total_out",{"$f":"'T2-B(PP4)'!$I$394","v":0},"#'T2-B(PP4)'!$I$394"]
["pp4_bl5_2_4_unit",{"$f":"'T2-B(PP4)'!$C$394","v":0},"#'T2-B(PP4)'!$C$394"]
["pp4_bl5_2_4_unit_in",{"$f":"'T2-B(PP4)'!$D$394","v":0},"#'T2-B(PP4)'!$D$394"]
["pp4_bl5_2_4_units_out",{"$f":"'T2-B(PP4)'!$G$394","v":0},"#'T2-B(PP4)'!$G$394"]
["pp4_bl5_2_5_name",{"$f":"'T2-B(PP4)'!$B$395","v":0},"#'T2-B(PP4)'!$B$395"]
["pp4_bl5_2_5_rate_in",{"$f":"'T2-B(PP4)'!$E$395","v":0},"#'T2-B(PP4)'!$E$395"]
["pp4_bl5_2_5_rate_out",{"$f":"'T2-B(PP4)'!$H$395","v":0},"#'T2-B(PP4)'!$H$395"]
["pp4_bl5_2_5_total",{"$f":"'T2-B(PP4)'!$J$395","v":0},"#'T2-B(PP4)'!$J$395"]
["pp4_bl5_2_5_total_in",{"$f":"'T2-B(PP4)'!$F$395","v":0},"#'T2-B(PP4)'!$F$395"]
["pp4_bl5_2_5_total_out",{"$f":"'T2-B(PP4)'!$I$395","v":0},"#'T2-B(PP4)'!$I$395"]
["pp4_bl5_2_5_unit",{"$f":"'T2-B(PP4)'!$C$395","v":0},"#'T2-B(PP4)'!$C$395"]
["pp4_bl5_2_5_unit_in",{"$f":"'T2-B(PP4)'!$D$395","v":0},"#'T2-B(PP4)'!$D$395"]
["pp4_bl5_2_5_units_out",{"$f":"'T2-B(PP4)'!$G$395","v":0},"#'T2-B(PP4)'!$G$395"]
["pp4_bl5_2_6_name",{"$f":"'T2-B(PP4)'!$B$396","v":0},"#'T2-B(PP4)'!$B$396"]
["pp4_bl5_2_6_rate_in",{"$f":"'T2-B(PP4)'!$E$396","v":0},"#'T2-B(PP4)'!$E$396"]
["pp4_bl5_2_6_rate_out",{"$f":"'T2-B(PP4)'!$H$396","v":0},"#'T2-B(PP4)'!$H$396"]
["pp4_bl5_2_6_total",{"$f":"'T2-B(PP4)'!$J$396","v":0},"#'T2-B(PP4)'!$J$396"]
["pp4_bl5_2_6_total_in",{"$f":"'T2-B(PP4)'!$F$396","v":0},"#'T2-B(PP4)'!$F$396"]
["pp4_bl5_2_6_total_out",{"$f":"'T2-B(PP4)'!$I$396","v":0},"#'T2-B(PP4)'!$I$396"]
["pp4_bl5_2_6_unit",{"$f":"'T2-B(PP4)'!$C$396","v":0},"#'T2-B(PP4)'!$C$396"]
["pp4_bl5_2_6_unit_in",{"$f":"'T2-B(PP4)'!$D$396","v":0},"#'T2-B(PP4)'!$D$396"]
["pp4_bl5_2_6_units_out",{"$f":"'T2-B(PP4)'!$G$396","v":0},"#'T2-B(PP4)'!$G$396"]
["pp4_bl5_2_7_name",{"$f":"'T2-B(PP4)'!$B$397","v":0},"#'T2-B(PP4)'!$B$397"]
["pp4_bl5_2_7_rate_in",{"$f":"'T2-B(PP4)'!$E$397","v":0},"#'T2-B(PP4)'!$E$397"]
["pp4_bl5_2_7_rate_out",{"$f":"'T2-B(PP4)'!$H$397","v":0},"#'T2-B(PP4)'!$H$397"]
["pp4_bl5_2_7_total",{"$f":"'T2-B(PP4)'!$J$397","v":0},"#'T2-B(PP4)'!$J$397"]
["pp4_bl5_2_7_total_in",{"$f":"'T2-B(PP4)'!$F$397","v":0},"#'T2-B(PP4)'!$F$397"]
["pp4_bl5_2_7_total_out",{"$f":"'T2-B(PP4)'!$I$397","v":0},"#'T2-B(PP4)'!$I$397"]
["pp4_bl5_2_7_unit",{"$f":"'T2-B(PP4)'!$C$397","v":0},"#'T2-B(PP4)'!$C$397"]
["pp4_bl5_2_7_unit_in",{"$f":"'T2-B(PP4)'!$D$397","v":0},"#'T2-B(PP4)'!$D$397"]
["pp4_bl5_2_7_units_out",{"$f":"'T2-B(PP4)'!$G$397","v":0},"#'T2-B(PP4)'!$G$397"]
["pp4_bl5_2_8_name",{"$f":"'T2-B(PP4)'!$B$398","v":0},"#'T2-B(PP4)'!$B$398"]
["pp4_bl5_2_8_rate_in",{"$f":"'T2-B(PP4)'!$E$398","v":0},"#'T2-B(PP4)'!$E$398"]
["pp4_bl5_2_8_rate_out",{"$f":"'T2-B(PP4)'!$H$398","v":0},"#'T2-B(PP4)'!$H$398"]
["pp4_bl5_2_8_total",{"$f":"'T2-B(PP4)'!$J$398","v":0},"#'T2-B(PP4)'!$J$398"]
["pp4_bl5_2_8_total_in",{"$f":"'T2-B(PP4)'!$F$398","v":0},"#'T2-B(PP4)'!$F$398"]
["pp4_bl5_2_8_total_out",{"$f":"'T2-B(PP4)'!$I$398","v":0},"#'T2-B(PP4)'!$I$398"]
["pp4_bl5_2_8_unit",{"$f":"'T2-B(PP4)'!$C$398","v":0},"#'T2-B(PP4)'!$C$398"]
["pp4_bl5_2_8_unit_in",{"$f":"'T2-B(PP4)'!$D$398","v":0},"#'T2-B(PP4)'!$D$398"]
["pp4_bl5_2_8_units_out",{"$f":"'T2-B(PP4)'!$G$398","v":0},"#'T2-B(PP4)'!$G$398"]
["pp4_bl5_2_9_name",{"$f":"'T2-B(PP4)'!$B$399","v":0},"#'T2-B(PP4)'!$B$399"]
["pp4_bl5_2_9_rate_in",{"$f":"'T2-B(PP4)'!$E$399","v":0},"#'T2-B(PP4)'!$E$399"]
["pp4_bl5_2_9_rate_out",{"$f":"'T2-B(PP4)'!$H$399","v":0},"#'T2-B(PP4)'!$H$399"]
["pp4_bl5_2_9_total",{"$f":"'T2-B(PP4)'!$J$399","v":0},"#'T2-B(PP4)'!$J$399"]
["pp4_bl5_2_9_total_in",{"$f":"'T2-B(PP4)'!$F$399","v":0},"#'T2-B(PP4)'!$F$399"]
["pp4_bl5_2_9_total_out",{"$f":"'T2-B(PP4)'!$I$399","v":0},"#'T2-B(PP4)'!$I$399"]
["pp4_bl5_2_9_unit",{"$f":"'T2-B(PP4)'!$C$399","v":0},"#'T2-B(PP4)'!$C$399"]
["pp4_bl5_2_9_unit_in",{"$f":"'T2-B(PP4)'!$D$399","v":0},"#'T2-B(PP4)'!$D$399"]
["pp4_bl5_2_9_units_out",{"$f":"'T2-B(PP4)'!$G$399","v":0},"#'T2-B(PP4)'!$G$399"]
["pp4_bl5_2_total",{"$f":"'T2-B(PP4)'!$J$390","v":0},"#'T2-B(PP4)'!$J$390"]
["pp4_bl5_2_total_in",{"$f":"'T2-B(PP4)'!$F$390","v":0},"#'T2-B(PP4)'!$F$390"]
["pp4_bl5_2_total_out",{"$f":"'T2-B(PP4)'!$I$390","v":0},"#'T2-B(PP4)'!$I$390"]
["pp4_bl5_total",{"$f":"'T2-B(PP4)'!$J$411","v":0},"#'T2-B(PP4)'!$J$411"]
["pp4_bl5_total_in",{"$f":"'T2-B(PP4)'!$F$411","v":0},"#'T2-B(PP4)'!$F$411"]
["pp4_bl5_total_out",{"$f":"'T2-B(PP4)'!$I$411","v":0},"#'T2-B(PP4)'!$I$411"]
["pp4_bl6_1_1_name",{"$f":"'T2-B(PP4)'!$B$416","v":0},"#'T2-B(PP4)'!$B$416"]
["pp4_bl6_1_1_rate_in",{"$f":"'T2-B(PP4)'!$E$416","v":0},"#'T2-B(PP4)'!$E$416"]
["pp4_bl6_1_1_rate_out",{"$f":"'T2-B(PP4)'!$H$416","v":0},"#'T2-B(PP4)'!$H$416"]
["pp4_bl6_1_1_total",{"$f":"'T2-B(PP4)'!$J$416","v":0},"#'T2-B(PP4)'!$J$416"]
["pp4_bl6_1_1_total_in",{"$f":"'T2-B(PP4)'!$F$416","v":0},"#'T2-B(PP4)'!$F$416"]
["pp4_bl6_1_1_total_out",{"$f":"'T2-B(PP4)'!$I$416","v":0},"#'T2-B(PP4)'!$I$416"]
["pp4_bl6_1_1_unit",{"$f":"'T2-B(PP4)'!$C$416","v":0},"#'T2-B(PP4)'!$C$416"]
["pp4_bl6_1_1_unit_in",{"$f":"'T2-B(PP4)'!$D$416","v":0},"#'T2-B(PP4)'!$D$416"]
["pp4_bl6_1_1_units_out",{"$f":"'T2-B(PP4)'!$G$416","v":0},"#'T2-B(PP4)'!$G$416"]
["pp4_bl6_1_10_name",{"$f":"'T2-B(PP4)'!$B$425","v":0},"#'T2-B(PP4)'!$B$425"]
["pp4_bl6_1_10_rate_in",{"$f":"'T2-B(PP4)'!$E$425","v":0},"#'T2-B(PP4)'!$E$425"]
["pp4_bl6_1_10_rate_out",{"$f":"'T2-B(PP4)'!$H$425","v":0},"#'T2-B(PP4)'!$H$425"]
["pp4_bl6_1_10_total",{"$f":"'T2-B(PP4)'!$J$425","v":0},"#'T2-B(PP4)'!$J$425"]
["pp4_bl6_1_10_total_in",{"$f":"'T2-B(PP4)'!$F$425","v":0},"#'T2-B(PP4)'!$F$425"]
["pp4_bl6_1_10_total_out",{"$f":"'T2-B(PP4)'!$I$425","v":0},"#'T2-B(PP4)'!$I$425"]
["pp4_bl6_1_10_unit",{"$f":"'T2-B(PP4)'!$C$425","v":0},"#'T2-B(PP4)'!$C$425"]
["pp4_bl6_1_10_unit_in",{"$f":"'T2-B(PP4)'!$D$425","v":0},"#'T2-B(PP4)'!$D$425"]
["pp4_bl6_1_10_units_out",{"$f":"'T2-B(PP4)'!$G$425","v":0},"#'T2-B(PP4)'!$G$425"]
["pp4_bl6_1_2_name",{"$f":"'T2-B(PP4)'!$B$417","v":0},"#'T2-B(PP4)'!$B$417"]
["pp4_bl6_1_2_rate_in",{"$f":"'T2-B(PP4)'!$E$417","v":0},"#'T2-B(PP4)'!$E$417"]
["pp4_bl6_1_2_rate_out",{"$f":"'T2-B(PP4)'!$H$417","v":0},"#'T2-B(PP4)'!$H$417"]
["pp4_bl6_1_2_total",{"$f":"'T2-B(PP4)'!$J$417","v":0},"#'T2-B(PP4)'!$J$417"]
["pp4_bl6_1_2_total_in",{"$f":"'T2-B(PP4)'!$F$417","v":0},"#'T2-B(PP4)'!$F$417"]
["pp4_bl6_1_2_total_out",{"$f":"'T2-B(PP4)'!$I$417","v":0},"#'T2-B(PP4)'!$I$417"]
["pp4_bl6_1_2_unit",{"$f":"'T2-B(PP4)'!$C$417","v":0},"#'T2-B(PP4)'!$C$417"]
["pp4_bl6_1_2_unit_in",{"$f":"'T2-B(PP4)'!$D$417","v":0},"#'T2-B(PP4)'!$D$417"]
["pp4_bl6_1_2_units_out",{"$f":"'T2-B(PP4)'!$G$417","v":0},"#'T2-B(PP4)'!$G$417"]
["pp4_bl6_1_3_name",{"$f":"'T2-B(PP4)'!$B$418","v":0},"#'T2-B(PP4)'!$B$418"]
["pp4_bl6_1_3_rate_in",{"$f":"'T2-B(PP4)'!$E$418","v":0},"#'T2-B(PP4)'!$E$418"]
["pp4_bl6_1_3_rate_out",{"$f":"'T2-B(PP4)'!$H$418","v":0},"#'T2-B(PP4)'!$H$418"]
["pp4_bl6_1_3_total",{"$f":"'T2-B(PP4)'!$J$418","v":0},"#'T2-B(PP4)'!$J$418"]
["pp4_bl6_1_3_total_in",{"$f":"'T2-B(PP4)'!$F$418","v":0},"#'T2-B(PP4)'!$F$418"]
["pp4_bl6_1_3_total_out",{"$f":"'T2-B(PP4)'!$I$418","v":0},"#'T2-B(PP4)'!$I$418"]
["pp4_bl6_1_3_unit",{"$f":"'T2-B(PP4)'!$C$418","v":0},"#'T2-B(PP4)'!$C$418"]
["pp4_bl6_1_3_unit_in",{"$f":"'T2-B(PP4)'!$D$418","v":0},"#'T2-B(PP4)'!$D$418"]
["pp4_bl6_1_3_units_out",{"$f":"'T2-B(PP4)'!$G$418","v":0},"#'T2-B(PP4)'!$G$418"]
["pp4_bl6_1_4_name",{"$f":"'T2-B(PP4)'!$B$419","v":0},"#'T2-B(PP4)'!$B$419"]
["pp4_bl6_1_4_rate_in",{"$f":"'T2-B(PP4)'!$E$419","v":0},"#'T2-B(PP4)'!$E$419"]
["pp4_bl6_1_4_rate_out",{"$f":"'T2-B(PP4)'!$H$419","v":0},"#'T2-B(PP4)'!$H$419"]
["pp4_bl6_1_4_total",{"$f":"'T2-B(PP4)'!$J$419","v":0},"#'T2-B(PP4)'!$J$419"]
["pp4_bl6_1_4_total_in",{"$f":"'T2-B(PP4)'!$F$419","v":0},"#'T2-B(PP4)'!$F$419"]
["pp4_bl6_1_4_total_out",{"$f":"'T2-B(PP4)'!$I$419","v":0},"#'T2-B(PP4)'!$I$419"]
["pp4_bl6_1_4_unit",{"$f":"'T2-B(PP4)'!$C$419","v":0},"#'T2-B(PP4)'!$C$419"]
["pp4_bl6_1_4_unit_in",{"$f":"'T2-B(PP4)'!$D$419","v":0},"#'T2-B(PP4)'!$D$419"]
["pp4_bl6_1_4_units_out",{"$f":"'T2-B(PP4)'!$G$419","v":0},"#'T2-B(PP4)'!$G$419"]
["pp4_bl6_1_5_name",{"$f":"'T2-B(PP4)'!$B$420","v":0},"#'T2-B(PP4)'!$B$420"]
["pp4_bl6_1_5_rate_in",{"$f":"'T2-B(PP4)'!$E$420","v":0},"#'T2-B(PP4)'!$E$420"]
["pp4_bl6_1_5_rate_out",{"$f":"'T2-B(PP4)'!$H$420","v":0},"#'T2-B(PP4)'!$H$420"]
["pp4_bl6_1_5_total",{"$f":"'T2-B(PP4)'!$J$420","v":0},"#'T2-B(PP4)'!$J$420"]
["pp4_bl6_1_5_total_in",{"$f":"'T2-B(PP4)'!$F$420","v":0},"#'T2-B(PP4)'!$F$420"]
["pp4_bl6_1_5_total_out",{"$f":"'T2-B(PP4)'!$I$420","v":0},"#'T2-B(PP4)'!$I$420"]
["pp4_bl6_1_5_unit",{"$f":"'T2-B(PP4)'!$C$420","v":0},"#'T2-B(PP4)'!$C$420"]
["pp4_bl6_1_5_unit_in",{"$f":"'T2-B(PP4)'!$D$420","v":0},"#'T2-B(PP4)'!$D$420"]
["pp4_bl6_1_5_units_out",{"$f":"'T2-B(PP4)'!$G$420","v":0},"#'T2-B(PP4)'!$G$420"]
["pp4_bl6_1_6_name",{"$f":"'T2-B(PP4)'!$B$421","v":0},"#'T2-B(PP4)'!$B$421"]
["pp4_bl6_1_6_rate_in",{"$f":"'T2-B(PP4)'!$E$421","v":0},"#'T2-B(PP4)'!$E$421"]
["pp4_bl6_1_6_rate_out",{"$f":"'T2-B(PP4)'!$H$421","v":0},"#'T2-B(PP4)'!$H$421"]
["pp4_bl6_1_6_total",{"$f":"'T2-B(PP4)'!$J$421","v":0},"#'T2-B(PP4)'!$J$421"]
["pp4_bl6_1_6_total_in",{"$f":"'T2-B(PP4)'!$F$421","v":0},"#'T2-B(PP4)'!$F$421"]
["pp4_bl6_1_6_total_out",{"$f":"'T2-B(PP4)'!$I$421","v":0},"#'T2-B(PP4)'!$I$421"]
["pp4_bl6_1_6_unit",{"$f":"'T2-B(PP4)'!$C$421","v":0},"#'T2-B(PP4)'!$C$421"]
["pp4_bl6_1_6_unit_in",{"$f":"'T2-B(PP4)'!$D$421","v":0},"#'T2-B(PP4)'!$D$421"]
["pp4_bl6_1_6_units_out",{"$f":"'T2-B(PP4)'!$G$421","v":0},"#'T2-B(PP4)'!$G$421"]
["pp4_bl6_1_7_name",{"$f":"'T2-B(PP4)'!$B$422","v":0},"#'T2-B(PP4)'!$B$422"]
["pp4_bl6_1_7_rate_in",{"$f":"'T2-B(PP4)'!$E$422","v":0},"#'T2-B(PP4)'!$E$422"]
["pp4_bl6_1_7_rate_out",{"$f":"'T2-B(PP4)'!$H$422","v":0},"#'T2-B(PP4)'!$H$422"]
["pp4_bl6_1_7_total",{"$f":"'T2-B(PP4)'!$J$422","v":0},"#'T2-B(PP4)'!$J$422"]
["pp4_bl6_1_7_total_in",{"$f":"'T2-B(PP4)'!$F$422","v":0},"#'T2-B(PP4)'!$F$422"]
["pp4_bl6_1_7_total_out",{"$f":"'T2-B(PP4)'!$I$422","v":0},"#'T2-B(PP4)'!$I$422"]
["pp4_bl6_1_7_unit",{"$f":"'T2-B(PP4)'!$C$422","v":0},"#'T2-B(PP4)'!$C$422"]
["pp4_bl6_1_7_unit_in",{"$f":"'T2-B(PP4)'!$D$422","v":0},"#'T2-B(PP4)'!$D$422"]
["pp4_bl6_1_7_units_out",{"$f":"'T2-B(PP4)'!$G$422","v":0},"#'T2-B(PP4)'!$G$422"]
["pp4_bl6_1_8_name",{"$f":"'T2-B(PP4)'!$B$423","v":0},"#'T2-B(PP4)'!$B$423"]
["pp4_bl6_1_8_rate_in",{"$f":"'T2-B(PP4)'!$E$423","v":0},"#'T2-B(PP4)'!$E$423"]
["pp4_bl6_1_8_rate_out",{"$f":"'T2-B(PP4)'!$H$423","v":0},"#'T2-B(PP4)'!$H$423"]
["pp4_bl6_1_8_total",{"$f":"'T2-B(PP4)'!$J$423","v":0},"#'T2-B(PP4)'!$J$423"]
["pp4_bl6_1_8_total_in",{"$f":"'T2-B(PP4)'!$F$423","v":0},"#'T2-B(PP4)'!$F$423"]
["pp4_bl6_1_8_total_out",{"$f":"'T2-B(PP4)'!$I$423","v":0},"#'T2-B(PP4)'!$I$423"]
["pp4_bl6_1_8_unit",{"$f":"'T2-B(PP4)'!$C$423","v":0},"#'T2-B(PP4)'!$C$423"]
["pp4_bl6_1_8_unit_in",{"$f":"'T2-B(PP4)'!$D$423","v":0},"#'T2-B(PP4)'!$D$423"]
["pp4_bl6_1_8_units_out",{"$f":"'T2-B(PP4)'!$G$423","v":0},"#'T2-B(PP4)'!$G$423"]
["pp4_bl6_1_9_name",{"$f":"'T2-B(PP4)'!$B$424","v":0},"#'T2-B(PP4)'!$B$424"]
["pp4_bl6_1_9_rate_in",{"$f":"'T2-B(PP4)'!$E$424","v":0},"#'T2-B(PP4)'!$E$424"]
["pp4_bl6_1_9_rate_out",{"$f":"'T2-B(PP4)'!$H$424","v":0},"#'T2-B(PP4)'!$H$424"]
["pp4_bl6_1_9_total",{"$f":"'T2-B(PP4)'!$J$424","v":0},"#'T2-B(PP4)'!$J$424"]
["pp4_bl6_1_9_total_in",{"$f":"'T2-B(PP4)'!$F$424","v":0},"#'T2-B(PP4)'!$F$424"]
["pp4_bl6_1_9_total_out",{"$f":"'T2-B(PP4)'!$I$424","v":0},"#'T2-B(PP4)'!$I$424"]
["pp4_bl6_1_9_unit",{"$f":"'T2-B(PP4)'!$C$424","v":0},"#'T2-B(PP4)'!$C$424"]
["pp4_bl6_1_9_unit_in",{"$f":"'T2-B(PP4)'!$D$424","v":0},"#'T2-B(PP4)'!$D$424"]
["pp4_bl6_1_9_units_out",{"$f":"'T2-B(PP4)'!$G$424","v":0},"#'T2-B(PP4)'!$G$424"]
["pp4_bl6_1_total",{"$f":"'T2-B(PP4)'!$J$415","v":0},"#'T2-B(PP4)'!$J$415"]
["pp4_bl6_1_total_in",{"$f":"'T2-B(PP4)'!$F$415","v":0},"#'T2-B(PP4)'!$F$415"]
["pp4_bl6_1_total_out",{"$f":"'T2-B(PP4)'!$I$415","v":0},"#'T2-B(PP4)'!$I$415"]
["pp4_bl6_2_1_name",{"$f":"'T2-B(PP4)'!$B$427","v":0},"#'T2-B(PP4)'!$B$427"]
["pp4_bl6_2_1_rate_in",{"$f":"'T2-B(PP4)'!$E$427","v":0},"#'T2-B(PP4)'!$E$427"]
["pp4_bl6_2_1_rate_out",{"$f":"'T2-B(PP4)'!$H$427","v":0},"#'T2-B(PP4)'!$H$427"]
["pp4_bl6_2_1_total",{"$f":"'T2-B(PP4)'!$J$427","v":0},"#'T2-B(PP4)'!$J$427"]
["pp4_bl6_2_1_total_in",{"$f":"'T2-B(PP4)'!$F$427","v":0},"#'T2-B(PP4)'!$F$427"]
["pp4_bl6_2_1_total_out",{"$f":"'T2-B(PP4)'!$I$427","v":0},"#'T2-B(PP4)'!$I$427"]
["pp4_bl6_2_1_unit",{"$f":"'T2-B(PP4)'!$C$427","v":0},"#'T2-B(PP4)'!$C$427"]
["pp4_bl6_2_1_unit_in",{"$f":"'T2-B(PP4)'!$D$427","v":0},"#'T2-B(PP4)'!$D$427"]
["pp4_bl6_2_1_units_out",{"$f":"'T2-B(PP4)'!$G$427","v":0},"#'T2-B(PP4)'!$G$427"]
["pp4_bl6_2_10_name",{"$f":"'T2-B(PP4)'!$B$436","v":0},"#'T2-B(PP4)'!$B$436"]
["pp4_bl6_2_10_rate_in",{"$f":"'T2-B(PP4)'!$E$436","v":0},"#'T2-B(PP4)'!$E$436"]
["pp4_bl6_2_10_rate_out",{"$f":"'T2-B(PP4)'!$H$436","v":0},"#'T2-B(PP4)'!$H$436"]
["pp4_bl6_2_10_total",{"$f":"'T2-B(PP4)'!$J$436","v":0},"#'T2-B(PP4)'!$J$436"]
["pp4_bl6_2_10_total_in",{"$f":"'T2-B(PP4)'!$F$436","v":0},"#'T2-B(PP4)'!$F$436"]
["pp4_bl6_2_10_total_out",{"$f":"'T2-B(PP4)'!$I$436","v":0},"#'T2-B(PP4)'!$I$436"]
["pp4_bl6_2_10_unit",{"$f":"'T2-B(PP4)'!$C$436","v":0},"#'T2-B(PP4)'!$C$436"]
["pp4_bl6_2_10_unit_in",{"$f":"'T2-B(PP4)'!$D$436","v":0},"#'T2-B(PP4)'!$D$436"]
["pp4_bl6_2_10_units_out",{"$f":"'T2-B(PP4)'!$G$436","v":0},"#'T2-B(PP4)'!$G$436"]
["pp4_bl6_2_2_name",{"$f":"'T2-B(PP4)'!$B$428","v":0},"#'T2-B(PP4)'!$B$428"]
["pp4_bl6_2_2_rate_in",{"$f":"'T2-B(PP4)'!$E$428","v":0},"#'T2-B(PP4)'!$E$428"]
["pp4_bl6_2_2_rate_out",{"$f":"'T2-B(PP4)'!$H$428","v":0},"#'T2-B(PP4)'!$H$428"]
["pp4_bl6_2_2_total",{"$f":"'T2-B(PP4)'!$J$428","v":0},"#'T2-B(PP4)'!$J$428"]
["pp4_bl6_2_2_total_in",{"$f":"'T2-B(PP4)'!$F$428","v":0},"#'T2-B(PP4)'!$F$428"]
["pp4_bl6_2_2_total_out",{"$f":"'T2-B(PP4)'!$I$428","v":0},"#'T2-B(PP4)'!$I$428"]
["pp4_bl6_2_2_unit",{"$f":"'T2-B(PP4)'!$C$428","v":0},"#'T2-B(PP4)'!$C$428"]
["pp4_bl6_2_2_unit_in",{"$f":"'T2-B(PP4)'!$D$428","v":0},"#'T2-B(PP4)'!$D$428"]
["pp4_bl6_2_2_units_out",{"$f":"'T2-B(PP4)'!$G$428","v":0},"#'T2-B(PP4)'!$G$428"]
["pp4_bl6_2_3_name",{"$f":"'T2-B(PP4)'!$B$429","v":0},"#'T2-B(PP4)'!$B$429"]
["pp4_bl6_2_3_rate_in",{"$f":"'T2-B(PP4)'!$E$429","v":0},"#'T2-B(PP4)'!$E$429"]
["pp4_bl6_2_3_rate_out",{"$f":"'T2-B(PP4)'!$H$429","v":0},"#'T2-B(PP4)'!$H$429"]
["pp4_bl6_2_3_total",{"$f":"'T2-B(PP4)'!$J$429","v":0},"#'T2-B(PP4)'!$J$429"]
["pp4_bl6_2_3_total_in",{"$f":"'T2-B(PP4)'!$F$429","v":0},"#'T2-B(PP4)'!$F$429"]
["pp4_bl6_2_3_total_out",{"$f":"'T2-B(PP4)'!$I$429","v":0},"#'T2-B(PP4)'!$I$429"]
["pp4_bl6_2_3_unit",{"$f":"'T2-B(PP4)'!$C$429","v":0},"#'T2-B(PP4)'!$C$429"]
["pp4_bl6_2_3_unit_in",{"$f":"'T2-B(PP4)'!$D$429","v":0},"#'T2-B(PP4)'!$D$429"]
["pp4_bl6_2_3_units_out",{"$f":"'T2-B(PP4)'!$G$429","v":0},"#'T2-B(PP4)'!$G$429"]
["pp4_bl6_2_4_name",{"$f":"'T2-B(PP4)'!$B$430","v":0},"#'T2-B(PP4)'!$B$430"]
["pp4_bl6_2_4_rate_in",{"$f":"'T2-B(PP4)'!$E$430","v":0},"#'T2-B(PP4)'!$E$430"]
["pp4_bl6_2_4_rate_out",{"$f":"'T2-B(PP4)'!$H$430","v":0},"#'T2-B(PP4)'!$H$430"]
["pp4_bl6_2_4_total",{"$f":"'T2-B(PP4)'!$J$430","v":0},"#'T2-B(PP4)'!$J$430"]
["pp4_bl6_2_4_total_in",{"$f":"'T2-B(PP4)'!$F$430","v":0},"#'T2-B(PP4)'!$F$430"]
["pp4_bl6_2_4_total_out",{"$f":"'T2-B(PP4)'!$I$430","v":0},"#'T2-B(PP4)'!$I$430"]
["pp4_bl6_2_4_unit",{"$f":"'T2-B(PP4)'!$C$430","v":0},"#'T2-B(PP4)'!$C$430"]
["pp4_bl6_2_4_unit_in",{"$f":"'T2-B(PP4)'!$D$430","v":0},"#'T2-B(PP4)'!$D$430"]
["pp4_bl6_2_4_units_out",{"$f":"'T2-B(PP4)'!$G$430","v":0},"#'T2-B(PP4)'!$G$430"]
["pp4_bl6_2_5_name",{"$f":"'T2-B(PP4)'!$B$431","v":0},"#'T2-B(PP4)'!$B$431"]
["pp4_bl6_2_5_rate_in",{"$f":"'T2-B(PP4)'!$E$431","v":0},"#'T2-B(PP4)'!$E$431"]
["pp4_bl6_2_5_rate_out",{"$f":"'T2-B(PP4)'!$H$431","v":0},"#'T2-B(PP4)'!$H$431"]
["pp4_bl6_2_5_total",{"$f":"'T2-B(PP4)'!$J$431","v":0},"#'T2-B(PP4)'!$J$431"]
["pp4_bl6_2_5_total_in",{"$f":"'T2-B(PP4)'!$F$431","v":0},"#'T2-B(PP4)'!$F$431"]
["pp4_bl6_2_5_total_out",{"$f":"'T2-B(PP4)'!$I$431","v":0},"#'T2-B(PP4)'!$I$431"]
["pp4_bl6_2_5_unit",{"$f":"'T2-B(PP4)'!$C$431","v":0},"#'T2-B(PP4)'!$C$431"]
["pp4_bl6_2_5_unit_in",{"$f":"'T2-B(PP4)'!$D$431","v":0},"#'T2-B(PP4)'!$D$431"]
["pp4_bl6_2_5_units_out",{"$f":"'T2-B(PP4)'!$G$431","v":0},"#'T2-B(PP4)'!$G$431"]
["pp4_bl6_2_6_name",{"$f":"'T2-B(PP4)'!$B$432","v":0},"#'T2-B(PP4)'!$B$432"]
["pp4_bl6_2_6_rate_in",{"$f":"'T2-B(PP4)'!$E$432","v":0},"#'T2-B(PP4)'!$E$432"]
["pp4_bl6_2_6_rate_out",{"$f":"'T2-B(PP4)'!$H$432","v":0},"#'T2-B(PP4)'!$H$432"]
["pp4_bl6_2_6_total",{"$f":"'T2-B(PP4)'!$J$432","v":0},"#'T2-B(PP4)'!$J$432"]
["pp4_bl6_2_6_total_in",{"$f":"'T2-B(PP4)'!$F$432","v":0},"#'T2-B(PP4)'!$F$432"]
["pp4_bl6_2_6_total_out",{"$f":"'T2-B(PP4)'!$I$432","v":0},"#'T2-B(PP4)'!$I$432"]
["pp4_bl6_2_6_unit",{"$f":"'T2-B(PP4)'!$C$432","v":0},"#'T2-B(PP4)'!$C$432"]
["pp4_bl6_2_6_unit_in",{"$f":"'T2-B(PP4)'!$D$432","v":0},"#'T2-B(PP4)'!$D$432"]
["pp4_bl6_2_6_units_out",{"$f":"'T2-B(PP4)'!$G$432","v":0},"#'T2-B(PP4)'!$G$432"]
["pp4_bl6_2_7_name",{"$f":"'T2-B(PP4)'!$B$433","v":0},"#'T2-B(PP4)'!$B$433"]
["pp4_bl6_2_7_rate_in",{"$f":"'T2-B(PP4)'!$E$433","v":0},"#'T2-B(PP4)'!$E$433"]
["pp4_bl6_2_7_rate_out",{"$f":"'T2-B(PP4)'!$H$433","v":0},"#'T2-B(PP4)'!$H$433"]
["pp4_bl6_2_7_total",{"$f":"'T2-B(PP4)'!$J$433","v":0},"#'T2-B(PP4)'!$J$433"]
["pp4_bl6_2_7_total_in",{"$f":"'T2-B(PP4)'!$F$433","v":0},"#'T2-B(PP4)'!$F$433"]
["pp4_bl6_2_7_total_out",{"$f":"'T2-B(PP4)'!$I$433","v":0},"#'T2-B(PP4)'!$I$433"]
["pp4_bl6_2_7_unit",{"$f":"'T2-B(PP4)'!$C$433","v":0},"#'T2-B(PP4)'!$C$433"]
["pp4_bl6_2_7_unit_in",{"$f":"'T2-B(PP4)'!$D$433","v":0},"#'T2-B(PP4)'!$D$433"]
["pp4_bl6_2_7_units_out",{"$f":"'T2-B(PP4)'!$G$433","v":0},"#'T2-B(PP4)'!$G$433"]
["pp4_bl6_2_8_name",{"$f":"'T2-B(PP4)'!$B$434","v":0},"#'T2-B(PP4)'!$B$434"]
["pp4_bl6_2_8_rate_in",{"$f":"'T2-B(PP4)'!$E$434","v":0},"#'T2-B(PP4)'!$E$434"]
["pp4_bl6_2_8_rate_out",{"$f":"'T2-B(PP4)'!$H$434","v":0},"#'T2-B(PP4)'!$H$434"]
["pp4_bl6_2_8_total",{"$f":"'T2-B(PP4)'!$J$434","v":0},"#'T2-B(PP4)'!$J$434"]
["pp4_bl6_2_8_total_in",{"$f":"'T2-B(PP4)'!$F$434","v":0},"#'T2-B(PP4)'!$F$434"]
["pp4_bl6_2_8_total_out",{"$f":"'T2-B(PP4)'!$I$434","v":0},"#'T2-B(PP4)'!$I$434"]
["pp4_bl6_2_8_unit",{"$f":"'T2-B(PP4)'!$C$434","v":0},"#'T2-B(PP4)'!$C$434"]
["pp4_bl6_2_8_unit_in",{"$f":"'T2-B(PP4)'!$D$434","v":0},"#'T2-B(PP4)'!$D$434"]
["pp4_bl6_2_8_units_out",{"$f":"'T2-B(PP4)'!$G$434","v":0},"#'T2-B(PP4)'!$G$434"]
["pp4_bl6_2_9_name",{"$f":"'T2-B(PP4)'!$B$435","v":0},"#'T2-B(PP4)'!$B$435"]
["pp4_bl6_2_9_rate_in",{"$f":"'T2-B(PP4)'!$E$435","v":0},"#'T2-B(PP4)'!$E$435"]
["pp4_bl6_2_9_rate_out",{"$f":"'T2-B(PP4)'!$H$435","v":0},"#'T2-B(PP4)'!$H$435"]
["pp4_bl6_2_9_total",{"$f":"'T2-B(PP4)'!$J$435","v":0},"#'T2-B(PP4)'!$J$435"]
["pp4_bl6_2_9_total_in",{"$f":"'T2-B(PP4)'!$F$435","v":0},"#'T2-B(PP4)'!$F$435"]
["pp4_bl6_2_9_total_out",{"$f":"'T2-B(PP4)'!$I$435","v":0},"#'T2-B(PP4)'!$I$435"]
["pp4_bl6_2_9_unit",{"$f":"'T2-B(PP4)'!$C$435","v":0},"#'T2-B(PP4)'!$C$435"]
["pp4_bl6_2_9_unit_in",{"$f":"'T2-B(PP4)'!$D$435","v":0},"#'T2-B(PP4)'!$D$435"]
["pp4_bl6_2_9_units_out",{"$f":"'T2-B(PP4)'!$G$435","v":0},"#'T2-B(PP4)'!$G$435"]
["pp4_bl6_2_total",{"$f":"'T2-B(PP4)'!$J$426","v":0},"#'T2-B(PP4)'!$J$426"]
["pp4_bl6_2_total_in",{"$f":"'T2-B(PP4)'!$F$426","v":0},"#'T2-B(PP4)'!$F$426"]
["pp4_bl6_2_total_out",{"$f":"'T2-B(PP4)'!$I$426","v":0},"#'T2-B(PP4)'!$I$426"]
["pp4_bl6_total",{"$f":"'T2-B(PP4)'!$J$437","v":0},"#'T2-B(PP4)'!$J$437"]
["pp4_bl6_total_in",{"$f":"'T2-B(PP4)'!$F$437","v":0},"#'T2-B(PP4)'!$F$437"]
["pp4_bl6_total_out",{"$f":"'T2-B(PP4)'!$I$437","v":0},"#'T2-B(PP4)'!$I$437"]
["pp4_bl7_1_1_name",{"$f":"'T2-B(PP4)'!$B$440","v":0},"#'T2-B(PP4)'!$B$440"]
["pp4_bl7_1_1_rate_in",{"$f":"'T2-B(PP4)'!$H$440","v":0},"#'T2-B(PP4)'!$H$440"]
["pp4_bl7_1_1_rate_out",{"$f":"'T2-B(PP4)'!$N$440","v":0},"#'T2-B(PP4)'!$N$440"]
["pp4_bl7_1_1_total",{"$f":"'T2-B(PP4)'!$I$440","v":0},"#'T2-B(PP4)'!$I$440"]
["pp4_bl7_1_1_total_in",{"$f":"'T2-B(PP4)'!$P$440","v":0},"#'T2-B(PP4)'!$P$440"]
["pp4_bl7_1_1_total_out",{"$f":"'T2-B(PP4)'!$O$440","v":0},"#'T2-B(PP4)'!$O$440"]
["pp4_bl7_1_1_unit",{"$f":"'T2-B(PP4)'!$F$440","v":0},"#'T2-B(PP4)'!$F$440"]
["pp4_bl7_1_1_unit_in",{"$f":"'T2-B(PP4)'!$G$440","v":0},"#'T2-B(PP4)'!$G$440"]
["pp4_bl7_1_1_units_out",{"$f":"'T2-B(PP4)'!$M$440","v":0},"#'T2-B(PP4)'!$M$440"]
["pp4_competence",{"$f":"'PP4'!$B$38","v":0},"#'PP4'!$B$38"]
["pp4_country",{"$f":"'PP4'!$K$14","v":1},"#'PP4'!$K$14"]
["pp4_fax",{"$f":"'PP4'!$C$29","v":0},"#'PP4'!$C$29"]
["pp4_is_bg",{"$f":"'PP4'!$D$13","v":0},"#'PP4'!$D$13"]
["pp4_is_pc",{"$f":"'PP4'!$F$13","v":0},"#'PP4'!$F$13"]
["pp4_legal_representative",{"$f":"'PP4'!$C$23","v":0},"#'PP4'!$C$23"]
["pp4_legal_representative_position",{"$f":"'PP4'!$C$25","v":0},"#'PP4'!$C$25"]
["pp4_mail",{"$f":"'PP4'!$C$31","v":0},"#'PP4'!$C$31"]
["pp4_nat_code",{"$f":"'PP4'!$C$70","v":0},"#'PP4'!$C$70"]
["pp4_nuts3",{"$f":"'PP4'!$C$15","v":0},"#'PP4'!$C$15"]
["pp4_organisation_en",{"$f":"'PP4'!$C$7","v":0},"#'PP4'!$C$7"]
["pp4_organisation_native",{"$f":"'PP4'!$C$9","v":0},"#'PP4'!$C$9"]
["pp4_pe_date1",{"$f":"'PP4'!$G$47","v":0},"#'PP4'!$G$47"]
["pp4_pe_date2",{"$f":"'PP4'!$G$55","v":0},"#'PP4'!$G$55"]
["pp4_pe_date3",{"$f":"'PP4'!$G$63","v":0},"#'PP4'!$G$63"]
["pp4_pe_ga1",{"$f":"'PP4'!$G$46","v":0},"#'PP4'!$G$46"]
["pp4_pe_ga2",{"$f":"'PP4'!$G$54","v":0},"#'PP4'!$G$54"]
["pp4_pe_ga3",{"$f":"'PP4'!$G$62","v":0},"#'PP4'!$G$62"]
["pp4_pe_ip1",{"$f":"'PP4'!$C$43","v":0},"#'PP4'!$C$43"]
["pp4_pe_ip2",{"$f":"'PP4'!$C$51","v":0},"#'PP4'!$C$51"]
["pp4_pe_ip3",{"$f":"'PP4'!$C$59","v":0},"#'PP4'!$C$59"]
["pp4_pe_or1",{"$f":"'PP4'!$C$47","v":0},"#'PP4'!$C$47"]
["pp4_pe_or2",{"$f":"'PP4'!$C$55","v":0},"#'PP4'!$C$55"]
["pp4_pe_or3",{"$f":"'PP4'!$C$63","v":0},"#'PP4'!$C$63"]
["pp4_pe_pt1",{"$f":"'PP4'!$C$44","v":0},"#'PP4'!$C$44"]
["pp4_pe_pt2",{"$f":"'PP4'!$C$52","v":0},"#'PP4'!$C$52"]
["pp4_pe_pt3",{"$f":"'PP4'!$C$60","v":0},"#'PP4'!$C$60"]
["pp4_pe_sd1",{"$f":"'PP4'!$C$45","v":0},"#'PP4'!$C$45"]
["pp4_pe_sd2",{"$f":"'PP4'!$C$53","v":0},"#'PP4'!$C$53"]
["pp4_pe_sd3",{"$f":"'PP4'!$C$61","v":0},"#'PP4'!$C$61"]
["pp4_pe_tev1",{"$f":"'PP4'!$C$46","v":0},"#'PP4'!$C$46"]
["pp4_pe_tev2",{"$f":"'PP4'!$C$54","v":0},"#'PP4'!$C$54"]
["pp4_pe_tev3",{"$f":"'PP4'!$C$62","v":0},"#'PP4'!$C$62"]
["pp4_phone",{"$f":"'PP4'!$C$27","v":0},"#'PP4'!$C$27"]
["pp4_post_code",{"$f":"'PP4'!$C$21","v":0},"#'PP4'!$C$21"]
["pp4_town",{"$f":"'PP4'!$C$17","v":0},"#'PP4'!$C$17"]
["pp4_type_org",{"$f":"'PP4'!$C$11","v":0},"#'PP4'!$C$11"]
["pp4_vat_code",{"$f":"'PP4'!$C$72","v":0},"#'PP4'!$C$72"]
["pp4_website",{"$f":"'PP4'!$C$33","v":0},"#'PP4'!$C$33"]
["pp5_2014_fulltime_staff",{"$f":"'PP5'!$F$77","v":0},"#'PP5'!$F$77"]
["pp5_2014_parttime_staff",{"$f":"'PP5'!$G$77","v":0},"#'PP5'!$G$77"]
["pp5_2014_turnover",{"$f":"'PP5'!$C$77","v":0},"#'PP5'!$C$77"]
["pp5_2015_fulltime_staff",{"$f":"'PP5'!$F$78","v":0},"#'PP5'!$F$78"]
["pp5_2015_parttime_staff",{"$f":"'PP5'!$G$78","v":0},"#'PP5'!$G$78"]
["pp5_2015_turnover",{"$f":"'PP5'!$C$78","v":0},"#'PP5'!$C$78"]
["pp5_2016_fulltime_staff",{"$f":"'PP5'!$F$79","v":0},"#'PP5'!$F$79"]
["pp5_2016_parttime_staff",{"$f":"'PP5'!$G$79","v":0},"#'PP5'!$G$79"]
["pp5_2016_turnover",{"$f":"'PP5'!$C$79","v":0},"#'PP5'!$C$79"]
["pp5_address",{"$f":"'PP5'!$C$19","v":0},"#'PP5'!$C$19"]
["pp5_background1",{"$f":"'PP5'!$B$35","v":0},"#'PP5'!$B$35"]
["pp5_background2",{"$f":"'PP5'!$B$36","v":0},"#'PP5'!$B$36"]
["pp5_bl3_1_1_name",{"$f":"'T2-B(PP5)'!$B$36","v":0},"#'T2-B(PP5)'!$B$36"]
["pp5_bl3_1_1_rate_in",{"$f":"'T2-B(PP5)'!$E$36","v":0},"#'T2-B(PP5)'!$E$36"]
["pp5_bl3_1_1_rate_out",{"$f":"'T2-B(PP5)'!$H$36","v":0},"#'T2-B(PP5)'!$H$36"]
["pp5_bl3_1_1_total",{"$f":"'T2-B(PP5)'!$J$36","v":0},"#'T2-B(PP5)'!$J$36"]
["pp5_bl3_1_1_total_in",{"$f":"'T2-B(PP5)'!$F$36","v":0},"#'T2-B(PP5)'!$F$36"]
["pp5_bl3_1_1_total_out",{"$f":"'T2-B(PP5)'!$I$36","v":0},"#'T2-B(PP5)'!$I$36"]
["pp5_bl3_1_1_unit",{"$f":"'T2-B(PP5)'!$C$36","v":0},"#'T2-B(PP5)'!$C$36"]
["pp5_bl3_1_1_unit_in",{"$f":"'T2-B(PP5)'!$D$36","v":0},"#'T2-B(PP5)'!$D$36"]
["pp5_bl3_1_1_units_out",{"$f":"'T2-B(PP5)'!$G$36","v":0},"#'T2-B(PP5)'!$G$36"]
["pp5_bl3_1_10_name",{"$f":"'T2-B(PP5)'!$B$45","v":0},"#'T2-B(PP5)'!$B$45"]
["pp5_bl3_1_10_rate_in",{"$f":"'T2-B(PP5)'!$E$45","v":0},"#'T2-B(PP5)'!$E$45"]
["pp5_bl3_1_10_rate_out",{"$f":"'T2-B(PP5)'!$H$45","v":0},"#'T2-B(PP5)'!$H$45"]
["pp5_bl3_1_10_total",{"$f":"'T2-B(PP5)'!$J$45","v":0},"#'T2-B(PP5)'!$J$45"]
["pp5_bl3_1_10_total_in",{"$f":"'T2-B(PP5)'!$F$45","v":0},"#'T2-B(PP5)'!$F$45"]
["pp5_bl3_1_10_total_out",{"$f":"'T2-B(PP5)'!$I$45","v":0},"#'T2-B(PP5)'!$I$45"]
["pp5_bl3_1_10_unit",{"$f":"'T2-B(PP5)'!$C$45","v":0},"#'T2-B(PP5)'!$C$45"]
["pp5_bl3_1_10_unit_in",{"$f":"'T2-B(PP5)'!$D$45","v":0},"#'T2-B(PP5)'!$D$45"]
["pp5_bl3_1_10_units_out",{"$f":"'T2-B(PP5)'!$G$45","v":0},"#'T2-B(PP5)'!$G$45"]
["pp5_bl3_1_2_name",{"$f":"'T2-B(PP5)'!$B$37","v":0},"#'T2-B(PP5)'!$B$37"]
["pp5_bl3_1_2_rate_in",{"$f":"'T2-B(PP5)'!$E$37","v":0},"#'T2-B(PP5)'!$E$37"]
["pp5_bl3_1_2_rate_out",{"$f":"'T2-B(PP5)'!$H$37","v":0},"#'T2-B(PP5)'!$H$37"]
["pp5_bl3_1_2_total",{"$f":"'T2-B(PP5)'!$J$37","v":0},"#'T2-B(PP5)'!$J$37"]
["pp5_bl3_1_2_total_in",{"$f":"'T2-B(PP5)'!$F$37","v":0},"#'T2-B(PP5)'!$F$37"]
["pp5_bl3_1_2_total_out",{"$f":"'T2-B(PP5)'!$I$37","v":0},"#'T2-B(PP5)'!$I$37"]
["pp5_bl3_1_2_unit",{"$f":"'T2-B(PP5)'!$C$37","v":0},"#'T2-B(PP5)'!$C$37"]
["pp5_bl3_1_2_unit_in",{"$f":"'T2-B(PP5)'!$D$37","v":0},"#'T2-B(PP5)'!$D$37"]
["pp5_bl3_1_2_units_out",{"$f":"'T2-B(PP5)'!$G$37","v":0},"#'T2-B(PP5)'!$G$37"]
["pp5_bl3_1_3_name",{"$f":"'T2-B(PP5)'!$B$38","v":0},"#'T2-B(PP5)'!$B$38"]
["pp5_bl3_1_3_rate_in",{"$f":"'T2-B(PP5)'!$E$38","v":0},"#'T2-B(PP5)'!$E$38"]
["pp5_bl3_1_3_rate_out",{"$f":"'T2-B(PP5)'!$H$38","v":0},"#'T2-B(PP5)'!$H$38"]
["pp5_bl3_1_3_total",{"$f":"'T2-B(PP5)'!$J$38","v":0},"#'T2-B(PP5)'!$J$38"]
["pp5_bl3_1_3_total_in",{"$f":"'T2-B(PP5)'!$F$38","v":0},"#'T2-B(PP5)'!$F$38"]
["pp5_bl3_1_3_total_out",{"$f":"'T2-B(PP5)'!$I$38","v":0},"#'T2-B(PP5)'!$I$38"]
["pp5_bl3_1_3_unit",{"$f":"'T2-B(PP5)'!$C$38","v":0},"#'T2-B(PP5)'!$C$38"]
["pp5_bl3_1_3_unit_in",{"$f":"'T2-B(PP5)'!$D$38","v":0},"#'T2-B(PP5)'!$D$38"]
["pp5_bl3_1_3_units_out",{"$f":"'T2-B(PP5)'!$G$38","v":0},"#'T2-B(PP5)'!$G$38"]
["pp5_bl3_1_4_name",{"$f":"'T2-B(PP5)'!$B$39","v":0},"#'T2-B(PP5)'!$B$39"]
["pp5_bl3_1_4_rate_in",{"$f":"'T2-B(PP5)'!$E$39","v":0},"#'T2-B(PP5)'!$E$39"]
["pp5_bl3_1_4_rate_out",{"$f":"'T2-B(PP5)'!$H$39","v":0},"#'T2-B(PP5)'!$H$39"]
["pp5_bl3_1_4_total",{"$f":"'T2-B(PP5)'!$J$39","v":0},"#'T2-B(PP5)'!$J$39"]
["pp5_bl3_1_4_total_in",{"$f":"'T2-B(PP5)'!$F$39","v":0},"#'T2-B(PP5)'!$F$39"]
["pp5_bl3_1_4_total_out",{"$f":"'T2-B(PP5)'!$I$39","v":0},"#'T2-B(PP5)'!$I$39"]
["pp5_bl3_1_4_unit",{"$f":"'T2-B(PP5)'!$C$39","v":0},"#'T2-B(PP5)'!$C$39"]
["pp5_bl3_1_4_unit_in",{"$f":"'T2-B(PP5)'!$D$39","v":0},"#'T2-B(PP5)'!$D$39"]
["pp5_bl3_1_4_units_out",{"$f":"'T2-B(PP5)'!$G$39","v":0},"#'T2-B(PP5)'!$G$39"]
["pp5_bl3_1_5_name",{"$f":"'T2-B(PP5)'!$B$40","v":0},"#'T2-B(PP5)'!$B$40"]
["pp5_bl3_1_5_rate_in",{"$f":"'T2-B(PP5)'!$E$40","v":0},"#'T2-B(PP5)'!$E$40"]
["pp5_bl3_1_5_rate_out",{"$f":"'T2-B(PP5)'!$H$40","v":0},"#'T2-B(PP5)'!$H$40"]
["pp5_bl3_1_5_total",{"$f":"'T2-B(PP5)'!$J$40","v":0},"#'T2-B(PP5)'!$J$40"]
["pp5_bl3_1_5_total_in",{"$f":"'T2-B(PP5)'!$F$40","v":0},"#'T2-B(PP5)'!$F$40"]
["pp5_bl3_1_5_total_out",{"$f":"'T2-B(PP5)'!$I$40","v":0},"#'T2-B(PP5)'!$I$40"]
["pp5_bl3_1_5_unit",{"$f":"'T2-B(PP5)'!$C$40","v":0},"#'T2-B(PP5)'!$C$40"]
["pp5_bl3_1_5_unit_in",{"$f":"'T2-B(PP5)'!$D$40","v":0},"#'T2-B(PP5)'!$D$40"]
["pp5_bl3_1_5_units_out",{"$f":"'T2-B(PP5)'!$G$40","v":0},"#'T2-B(PP5)'!$G$40"]
["pp5_bl3_1_6_name",{"$f":"'T2-B(PP5)'!$B$41","v":0},"#'T2-B(PP5)'!$B$41"]
["pp5_bl3_1_6_rate_in",{"$f":"'T2-B(PP5)'!$E$41","v":0},"#'T2-B(PP5)'!$E$41"]
["pp5_bl3_1_6_rate_out",{"$f":"'T2-B(PP5)'!$H$41","v":0},"#'T2-B(PP5)'!$H$41"]
["pp5_bl3_1_6_total",{"$f":"'T2-B(PP5)'!$J$41","v":0},"#'T2-B(PP5)'!$J$41"]
["pp5_bl3_1_6_total_in",{"$f":"'T2-B(PP5)'!$F$41","v":0},"#'T2-B(PP5)'!$F$41"]
["pp5_bl3_1_6_total_out",{"$f":"'T2-B(PP5)'!$I$41","v":0},"#'T2-B(PP5)'!$I$41"]
["pp5_bl3_1_6_unit",{"$f":"'T2-B(PP5)'!$C$41","v":0},"#'T2-B(PP5)'!$C$41"]
["pp5_bl3_1_6_unit_in",{"$f":"'T2-B(PP5)'!$D$41","v":0},"#'T2-B(PP5)'!$D$41"]
["pp5_bl3_1_6_units_out",{"$f":"'T2-B(PP5)'!$G$41","v":0},"#'T2-B(PP5)'!$G$41"]
["pp5_bl3_1_7_name",{"$f":"'T2-B(PP5)'!$B$42","v":0},"#'T2-B(PP5)'!$B$42"]
["pp5_bl3_1_7_rate_in",{"$f":"'T2-B(PP5)'!$E$42","v":0},"#'T2-B(PP5)'!$E$42"]
["pp5_bl3_1_7_rate_out",{"$f":"'T2-B(PP5)'!$H$42","v":0},"#'T2-B(PP5)'!$H$42"]
["pp5_bl3_1_7_total",{"$f":"'T2-B(PP5)'!$J$42","v":0},"#'T2-B(PP5)'!$J$42"]
["pp5_bl3_1_7_total_in",{"$f":"'T2-B(PP5)'!$F$42","v":0},"#'T2-B(PP5)'!$F$42"]
["pp5_bl3_1_7_total_out",{"$f":"'T2-B(PP5)'!$I$42","v":0},"#'T2-B(PP5)'!$I$42"]
["pp5_bl3_1_7_unit",{"$f":"'T2-B(PP5)'!$C$42","v":0},"#'T2-B(PP5)'!$C$42"]
["pp5_bl3_1_7_unit_in",{"$f":"'T2-B(PP5)'!$D$42","v":0},"#'T2-B(PP5)'!$D$42"]
["pp5_bl3_1_7_units_out",{"$f":"'T2-B(PP5)'!$G$42","v":0},"#'T2-B(PP5)'!$G$42"]
["pp5_bl3_1_8_name",{"$f":"'T2-B(PP5)'!$B$43","v":0},"#'T2-B(PP5)'!$B$43"]
["pp5_bl3_1_8_rate_in",{"$f":"'T2-B(PP5)'!$E$43","v":0},"#'T2-B(PP5)'!$E$43"]
["pp5_bl3_1_8_rate_out",{"$f":"'T2-B(PP5)'!$H$43","v":0},"#'T2-B(PP5)'!$H$43"]
["pp5_bl3_1_8_total",{"$f":"'T2-B(PP5)'!$J$43","v":0},"#'T2-B(PP5)'!$J$43"]
["pp5_bl3_1_8_total_in",{"$f":"'T2-B(PP5)'!$F$43","v":0},"#'T2-B(PP5)'!$F$43"]
["pp5_bl3_1_8_total_out",{"$f":"'T2-B(PP5)'!$I$43","v":0},"#'T2-B(PP5)'!$I$43"]
["pp5_bl3_1_8_unit",{"$f":"'T2-B(PP5)'!$C$43","v":0},"#'T2-B(PP5)'!$C$43"]
["pp5_bl3_1_8_unit_in",{"$f":"'T2-B(PP5)'!$D$43","v":0},"#'T2-B(PP5)'!$D$43"]
["pp5_bl3_1_8_units_out",{"$f":"'T2-B(PP5)'!$G$43","v":0},"#'T2-B(PP5)'!$G$43"]
["pp5_bl3_1_9_name",{"$f":"'T2-B(PP5)'!$B$44","v":0},"#'T2-B(PP5)'!$B$44"]
["pp5_bl3_1_9_rate_in",{"$f":"'T2-B(PP5)'!$E$44","v":0},"#'T2-B(PP5)'!$E$44"]
["pp5_bl3_1_9_rate_out",{"$f":"'T2-B(PP5)'!$H$44","v":0},"#'T2-B(PP5)'!$H$44"]
["pp5_bl3_1_9_total",{"$f":"'T2-B(PP5)'!$J$44","v":0},"#'T2-B(PP5)'!$J$44"]
["pp5_bl3_1_9_total_in",{"$f":"'T2-B(PP5)'!$F$44","v":0},"#'T2-B(PP5)'!$F$44"]
["pp5_bl3_1_9_total_out",{"$f":"'T2-B(PP5)'!$I$44","v":0},"#'T2-B(PP5)'!$I$44"]
["pp5_bl3_1_9_unit",{"$f":"'T2-B(PP5)'!$C$44","v":0},"#'T2-B(PP5)'!$C$44"]
["pp5_bl3_1_9_unit_in",{"$f":"'T2-B(PP5)'!$D$44","v":0},"#'T2-B(PP5)'!$D$44"]
["pp5_bl3_1_9_units_out",{"$f":"'T2-B(PP5)'!$G$44","v":0},"#'T2-B(PP5)'!$G$44"]
["pp5_bl3_1_total",{"$f":"'T2-B(PP5)'!$J$35","v":0},"#'T2-B(PP5)'!$J$35"]
["pp5_bl3_1_total_in",{"$f":"'T2-B(PP5)'!$F$35","v":0},"#'T2-B(PP5)'!$F$35"]
["pp5_bl3_1_total_out",{"$f":"'T2-B(PP5)'!$I$35","v":0},"#'T2-B(PP5)'!$I$35"]
["pp5_bl3_2_1_name",{"$f":"'T2-B(PP5)'!$B$57","v":0},"#'T2-B(PP5)'!$B$57"]
["pp5_bl3_2_1_rate_in",{"$f":"'T2-B(PP5)'!$E$57","v":0},"#'T2-B(PP5)'!$E$57"]
["pp5_bl3_2_1_rate_out",{"$f":"'T2-B(PP5)'!$H$57","v":0},"#'T2-B(PP5)'!$H$57"]
["pp5_bl3_2_1_total",{"$f":"'T2-B(PP5)'!$J$57","v":0},"#'T2-B(PP5)'!$J$57"]
["pp5_bl3_2_1_total_in",{"$f":"'T2-B(PP5)'!$F$57","v":0},"#'T2-B(PP5)'!$F$57"]
["pp5_bl3_2_1_total_out",{"$f":"'T2-B(PP5)'!$I$57","v":0},"#'T2-B(PP5)'!$I$57"]
["pp5_bl3_2_1_unit",{"$f":"'T2-B(PP5)'!$C$57","v":0},"#'T2-B(PP5)'!$C$57"]
["pp5_bl3_2_1_unit_in",{"$f":"'T2-B(PP5)'!$D$57","v":0},"#'T2-B(PP5)'!$D$57"]
["pp5_bl3_2_1_units_out",{"$f":"'T2-B(PP5)'!$G$57","v":0},"#'T2-B(PP5)'!$G$57"]
["pp5_bl3_2_10_name",{"$f":"'T2-B(PP5)'!$B$66","v":0},"#'T2-B(PP5)'!$B$66"]
["pp5_bl3_2_10_rate_in",{"$f":"'T2-B(PP5)'!$E$66","v":0},"#'T2-B(PP5)'!$E$66"]
["pp5_bl3_2_10_rate_out",{"$f":"'T2-B(PP5)'!$H$66","v":0},"#'T2-B(PP5)'!$H$66"]
["pp5_bl3_2_10_total",{"$f":"'T2-B(PP5)'!$J$66","v":0},"#'T2-B(PP5)'!$J$66"]
["pp5_bl3_2_10_total_in",{"$f":"'T2-B(PP5)'!$F$66","v":0},"#'T2-B(PP5)'!$F$66"]
["pp5_bl3_2_10_total_out",{"$f":"'T2-B(PP5)'!$I$66","v":0},"#'T2-B(PP5)'!$I$66"]
["pp5_bl3_2_10_unit",{"$f":"'T2-B(PP5)'!$C$66","v":0},"#'T2-B(PP5)'!$C$66"]
["pp5_bl3_2_10_unit_in",{"$f":"'T2-B(PP5)'!$D$66","v":0},"#'T2-B(PP5)'!$D$66"]
["pp5_bl3_2_10_units_out",{"$f":"'T2-B(PP5)'!$G$66","v":0},"#'T2-B(PP5)'!$G$66"]
["pp5_bl3_2_2_name",{"$f":"'T2-B(PP5)'!$B$58","v":0},"#'T2-B(PP5)'!$B$58"]
["pp5_bl3_2_2_rate_in",{"$f":"'T2-B(PP5)'!$E$58","v":0},"#'T2-B(PP5)'!$E$58"]
["pp5_bl3_2_2_rate_out",{"$f":"'T2-B(PP5)'!$H$58","v":0},"#'T2-B(PP5)'!$H$58"]
["pp5_bl3_2_2_total",{"$f":"'T2-B(PP5)'!$J$58","v":0},"#'T2-B(PP5)'!$J$58"]
["pp5_bl3_2_2_total_in",{"$f":"'T2-B(PP5)'!$F$58","v":0},"#'T2-B(PP5)'!$F$58"]
["pp5_bl3_2_2_total_out",{"$f":"'T2-B(PP5)'!$I$58","v":0},"#'T2-B(PP5)'!$I$58"]
["pp5_bl3_2_2_unit",{"$f":"'T2-B(PP5)'!$C$58","v":0},"#'T2-B(PP5)'!$C$58"]
["pp5_bl3_2_2_unit_in",{"$f":"'T2-B(PP5)'!$D$58","v":0},"#'T2-B(PP5)'!$D$58"]
["pp5_bl3_2_2_units_out",{"$f":"'T2-B(PP5)'!$G$58","v":0},"#'T2-B(PP5)'!$G$58"]
["pp5_bl3_2_3_name",{"$f":"'T2-B(PP5)'!$B$59","v":0},"#'T2-B(PP5)'!$B$59"]
["pp5_bl3_2_3_rate_in",{"$f":"'T2-B(PP5)'!$E$59","v":0},"#'T2-B(PP5)'!$E$59"]
["pp5_bl3_2_3_rate_out",{"$f":"'T2-B(PP5)'!$H$59","v":0},"#'T2-B(PP5)'!$H$59"]
["pp5_bl3_2_3_total",{"$f":"'T2-B(PP5)'!$J$59","v":0},"#'T2-B(PP5)'!$J$59"]
["pp5_bl3_2_3_total_in",{"$f":"'T2-B(PP5)'!$F$59","v":0},"#'T2-B(PP5)'!$F$59"]
["pp5_bl3_2_3_total_out",{"$f":"'T2-B(PP5)'!$I$59","v":0},"#'T2-B(PP5)'!$I$59"]
["pp5_bl3_2_3_unit",{"$f":"'T2-B(PP5)'!$C$59","v":0},"#'T2-B(PP5)'!$C$59"]
["pp5_bl3_2_3_unit_in",{"$f":"'T2-B(PP5)'!$D$59","v":0},"#'T2-B(PP5)'!$D$59"]
["pp5_bl3_2_3_units_out",{"$f":"'T2-B(PP5)'!$G$59","v":0},"#'T2-B(PP5)'!$G$59"]
["pp5_bl3_2_4_name",{"$f":"'T2-B(PP5)'!$B$60","v":0},"#'T2-B(PP5)'!$B$60"]
["pp5_bl3_2_4_rate_in",{"$f":"'T2-B(PP5)'!$E$60","v":0},"#'T2-B(PP5)'!$E$60"]
["pp5_bl3_2_4_rate_out",{"$f":"'T2-B(PP5)'!$H$60","v":0},"#'T2-B(PP5)'!$H$60"]
["pp5_bl3_2_4_total",{"$f":"'T2-B(PP5)'!$J$60","v":0},"#'T2-B(PP5)'!$J$60"]
["pp5_bl3_2_4_total_in",{"$f":"'T2-B(PP5)'!$F$60","v":0},"#'T2-B(PP5)'!$F$60"]
["pp5_bl3_2_4_total_out",{"$f":"'T2-B(PP5)'!$I$60","v":0},"#'T2-B(PP5)'!$I$60"]
["pp5_bl3_2_4_unit",{"$f":"'T2-B(PP5)'!$C$60","v":0},"#'T2-B(PP5)'!$C$60"]
["pp5_bl3_2_4_unit_in",{"$f":"'T2-B(PP5)'!$D$60","v":0},"#'T2-B(PP5)'!$D$60"]
["pp5_bl3_2_4_units_out",{"$f":"'T2-B(PP5)'!$G$60","v":0},"#'T2-B(PP5)'!$G$60"]
["pp5_bl3_2_5_name",{"$f":"'T2-B(PP5)'!$B$61","v":0},"#'T2-B(PP5)'!$B$61"]
["pp5_bl3_2_5_rate_in",{"$f":"'T2-B(PP5)'!$E$61","v":0},"#'T2-B(PP5)'!$E$61"]
["pp5_bl3_2_5_rate_out",{"$f":"'T2-B(PP5)'!$H$61","v":0},"#'T2-B(PP5)'!$H$61"]
["pp5_bl3_2_5_total",{"$f":"'T2-B(PP5)'!$J$61","v":0},"#'T2-B(PP5)'!$J$61"]
["pp5_bl3_2_5_total_in",{"$f":"'T2-B(PP5)'!$F$61","v":0},"#'T2-B(PP5)'!$F$61"]
["pp5_bl3_2_5_total_out",{"$f":"'T2-B(PP5)'!$I$61","v":0},"#'T2-B(PP5)'!$I$61"]
["pp5_bl3_2_5_unit",{"$f":"'T2-B(PP5)'!$C$61","v":0},"#'T2-B(PP5)'!$C$61"]
["pp5_bl3_2_5_unit_in",{"$f":"'T2-B(PP5)'!$D$61","v":0},"#'T2-B(PP5)'!$D$61"]
["pp5_bl3_2_5_units_out",{"$f":"'T2-B(PP5)'!$G$61","v":0},"#'T2-B(PP5)'!$G$61"]
["pp5_bl3_2_6_name",{"$f":"'T2-B(PP5)'!$B$62","v":0},"#'T2-B(PP5)'!$B$62"]
["pp5_bl3_2_6_rate_in",{"$f":"'T2-B(PP5)'!$E$62","v":0},"#'T2-B(PP5)'!$E$62"]
["pp5_bl3_2_6_rate_out",{"$f":"'T2-B(PP5)'!$H$62","v":0},"#'T2-B(PP5)'!$H$62"]
["pp5_bl3_2_6_total",{"$f":"'T2-B(PP5)'!$J$62","v":0},"#'T2-B(PP5)'!$J$62"]
["pp5_bl3_2_6_total_in",{"$f":"'T2-B(PP5)'!$F$62","v":0},"#'T2-B(PP5)'!$F$62"]
["pp5_bl3_2_6_total_out",{"$f":"'T2-B(PP5)'!$I$62","v":0},"#'T2-B(PP5)'!$I$62"]
["pp5_bl3_2_6_unit",{"$f":"'T2-B(PP5)'!$C$62","v":0},"#'T2-B(PP5)'!$C$62"]
["pp5_bl3_2_6_unit_in",{"$f":"'T2-B(PP5)'!$D$62","v":0},"#'T2-B(PP5)'!$D$62"]
["pp5_bl3_2_6_units_out",{"$f":"'T2-B(PP5)'!$G$62","v":0},"#'T2-B(PP5)'!$G$62"]
["pp5_bl3_2_7_name",{"$f":"'T2-B(PP5)'!$B$63","v":0},"#'T2-B(PP5)'!$B$63"]
["pp5_bl3_2_7_rate_in",{"$f":"'T2-B(PP5)'!$E$63","v":0},"#'T2-B(PP5)'!$E$63"]
["pp5_bl3_2_7_rate_out",{"$f":"'T2-B(PP5)'!$H$63","v":0},"#'T2-B(PP5)'!$H$63"]
["pp5_bl3_2_7_total",{"$f":"'T2-B(PP5)'!$J$63","v":0},"#'T2-B(PP5)'!$J$63"]
["pp5_bl3_2_7_total_in",{"$f":"'T2-B(PP5)'!$F$63","v":0},"#'T2-B(PP5)'!$F$63"]
["pp5_bl3_2_7_total_out",{"$f":"'T2-B(PP5)'!$I$63","v":0},"#'T2-B(PP5)'!$I$63"]
["pp5_bl3_2_7_unit",{"$f":"'T2-B(PP5)'!$C$63","v":0},"#'T2-B(PP5)'!$C$63"]
["pp5_bl3_2_7_unit_in",{"$f":"'T2-B(PP5)'!$D$63","v":0},"#'T2-B(PP5)'!$D$63"]
["pp5_bl3_2_7_units_out",{"$f":"'T2-B(PP5)'!$G$63","v":0},"#'T2-B(PP5)'!$G$63"]
["pp5_bl3_2_8_name",{"$f":"'T2-B(PP5)'!$B$64","v":0},"#'T2-B(PP5)'!$B$64"]
["pp5_bl3_2_8_rate_in",{"$f":"'T2-B(PP5)'!$E$64","v":0},"#'T2-B(PP5)'!$E$64"]
["pp5_bl3_2_8_rate_out",{"$f":"'T2-B(PP5)'!$H$64","v":0},"#'T2-B(PP5)'!$H$64"]
["pp5_bl3_2_8_total",{"$f":"'T2-B(PP5)'!$J$64","v":0},"#'T2-B(PP5)'!$J$64"]
["pp5_bl3_2_8_total_in",{"$f":"'T2-B(PP5)'!$F$64","v":0},"#'T2-B(PP5)'!$F$64"]
["pp5_bl3_2_8_total_out",{"$f":"'T2-B(PP5)'!$I$64","v":0},"#'T2-B(PP5)'!$I$64"]
["pp5_bl3_2_8_unit",{"$f":"'T2-B(PP5)'!$C$64","v":0},"#'T2-B(PP5)'!$C$64"]
["pp5_bl3_2_8_unit_in",{"$f":"'T2-B(PP5)'!$D$64","v":0},"#'T2-B(PP5)'!$D$64"]
["pp5_bl3_2_8_units_out",{"$f":"'T2-B(PP5)'!$G$64","v":0},"#'T2-B(PP5)'!$G$64"]
["pp5_bl3_2_9_name",{"$f":"'T2-B(PP5)'!$B$65","v":0},"#'T2-B(PP5)'!$B$65"]
["pp5_bl3_2_9_rate_in",{"$f":"'T2-B(PP5)'!$E$65","v":0},"#'T2-B(PP5)'!$E$65"]
["pp5_bl3_2_9_rate_out",{"$f":"'T2-B(PP5)'!$H$65","v":0},"#'T2-B(PP5)'!$H$65"]
["pp5_bl3_2_9_total",{"$f":"'T2-B(PP5)'!$J$65","v":0},"#'T2-B(PP5)'!$J$65"]
["pp5_bl3_2_9_total_in",{"$f":"'T2-B(PP5)'!$F$65","v":0},"#'T2-B(PP5)'!$F$65"]
["pp5_bl3_2_9_total_out",{"$f":"'T2-B(PP5)'!$I$65","v":0},"#'T2-B(PP5)'!$I$65"]
["pp5_bl3_2_9_unit",{"$f":"'T2-B(PP5)'!$C$65","v":0},"#'T2-B(PP5)'!$C$65"]
["pp5_bl3_2_9_unit_in",{"$f":"'T2-B(PP5)'!$D$65","v":0},"#'T2-B(PP5)'!$D$65"]
["pp5_bl3_2_9_units_out",{"$f":"'T2-B(PP5)'!$G$65","v":0},"#'T2-B(PP5)'!$G$65"]
["pp5_bl3_2_total",{"$f":"'T2-B(PP5)'!$J$56","v":0},"#'T2-B(PP5)'!$J$56"]
["pp5_bl3_2_total_in",{"$f":"'T2-B(PP5)'!$F$56","v":0},"#'T2-B(PP5)'!$F$56"]
["pp5_bl3_2_total_out",{"$f":"'T2-B(PP5)'!$I$56","v":0},"#'T2-B(PP5)'!$I$56"]
["pp5_bl3_3_1_name",{"$f":"'T2-B(PP5)'!$B$78","v":0},"#'T2-B(PP5)'!$B$78"]
["pp5_bl3_3_1_rate_in",{"$f":"'T2-B(PP5)'!$E$78","v":0},"#'T2-B(PP5)'!$E$78"]
["pp5_bl3_3_1_rate_out",{"$f":"'T2-B(PP5)'!$H$78","v":0},"#'T2-B(PP5)'!$H$78"]
["pp5_bl3_3_1_total",{"$f":"'T2-B(PP5)'!$J$78","v":0},"#'T2-B(PP5)'!$J$78"]
["pp5_bl3_3_1_total_in",{"$f":"'T2-B(PP5)'!$F$78","v":0},"#'T2-B(PP5)'!$F$78"]
["pp5_bl3_3_1_total_out",{"$f":"'T2-B(PP5)'!$I$78","v":0},"#'T2-B(PP5)'!$I$78"]
["pp5_bl3_3_1_unit",{"$f":"'T2-B(PP5)'!$C$78","v":0},"#'T2-B(PP5)'!$C$78"]
["pp5_bl3_3_1_unit_in",{"$f":"'T2-B(PP5)'!$D$78","v":0},"#'T2-B(PP5)'!$D$78"]
["pp5_bl3_3_1_units_out",{"$f":"'T2-B(PP5)'!$G$78","v":0},"#'T2-B(PP5)'!$G$78"]
["pp5_bl3_3_10_name",{"$f":"'T2-B(PP5)'!$B$87","v":0},"#'T2-B(PP5)'!$B$87"]
["pp5_bl3_3_10_rate_in",{"$f":"'T2-B(PP5)'!$E$87","v":0},"#'T2-B(PP5)'!$E$87"]
["pp5_bl3_3_10_rate_out",{"$f":"'T2-B(PP5)'!$H$87","v":0},"#'T2-B(PP5)'!$H$87"]
["pp5_bl3_3_10_total",{"$f":"'T2-B(PP5)'!$J$87","v":0},"#'T2-B(PP5)'!$J$87"]
["pp5_bl3_3_10_total_in",{"$f":"'T2-B(PP5)'!$F$87","v":0},"#'T2-B(PP5)'!$F$87"]
["pp5_bl3_3_10_total_out",{"$f":"'T2-B(PP5)'!$I$87","v":0},"#'T2-B(PP5)'!$I$87"]
["pp5_bl3_3_10_unit",{"$f":"'T2-B(PP5)'!$C$87","v":0},"#'T2-B(PP5)'!$C$87"]
["pp5_bl3_3_10_unit_in",{"$f":"'T2-B(PP5)'!$D$87","v":0},"#'T2-B(PP5)'!$D$87"]
["pp5_bl3_3_10_units_out",{"$f":"'T2-B(PP5)'!$G$87","v":0},"#'T2-B(PP5)'!$G$87"]
["pp5_bl3_3_2_name",{"$f":"'T2-B(PP5)'!$B$79","v":0},"#'T2-B(PP5)'!$B$79"]
["pp5_bl3_3_2_rate_in",{"$f":"'T2-B(PP5)'!$E$79","v":0},"#'T2-B(PP5)'!$E$79"]
["pp5_bl3_3_2_rate_out",{"$f":"'T2-B(PP5)'!$H$79","v":0},"#'T2-B(PP5)'!$H$79"]
["pp5_bl3_3_2_total",{"$f":"'T2-B(PP5)'!$J$79","v":0},"#'T2-B(PP5)'!$J$79"]
["pp5_bl3_3_2_total_in",{"$f":"'T2-B(PP5)'!$F$79","v":0},"#'T2-B(PP5)'!$F$79"]
["pp5_bl3_3_2_total_out",{"$f":"'T2-B(PP5)'!$I$79","v":0},"#'T2-B(PP5)'!$I$79"]
["pp5_bl3_3_2_unit",{"$f":"'T2-B(PP5)'!$C$79","v":0},"#'T2-B(PP5)'!$C$79"]
["pp5_bl3_3_2_unit_in",{"$f":"'T2-B(PP5)'!$D$79","v":0},"#'T2-B(PP5)'!$D$79"]
["pp5_bl3_3_2_units_out",{"$f":"'T2-B(PP5)'!$G$79","v":0},"#'T2-B(PP5)'!$G$79"]
["pp5_bl3_3_3_name",{"$f":"'T2-B(PP5)'!$B$80","v":0},"#'T2-B(PP5)'!$B$80"]
["pp5_bl3_3_3_rate_in",{"$f":"'T2-B(PP5)'!$E$80","v":0},"#'T2-B(PP5)'!$E$80"]
["pp5_bl3_3_3_rate_out",{"$f":"'T2-B(PP5)'!$H$80","v":0},"#'T2-B(PP5)'!$H$80"]
["pp5_bl3_3_3_total",{"$f":"'T2-B(PP5)'!$J$80","v":0},"#'T2-B(PP5)'!$J$80"]
["pp5_bl3_3_3_total_in",{"$f":"'T2-B(PP5)'!$F$80","v":0},"#'T2-B(PP5)'!$F$80"]
["pp5_bl3_3_3_total_out",{"$f":"'T2-B(PP5)'!$I$80","v":0},"#'T2-B(PP5)'!$I$80"]
["pp5_bl3_3_3_unit",{"$f":"'T2-B(PP5)'!$C$80","v":0},"#'T2-B(PP5)'!$C$80"]
["pp5_bl3_3_3_unit_in",{"$f":"'T2-B(PP5)'!$D$80","v":0},"#'T2-B(PP5)'!$D$80"]
["pp5_bl3_3_3_units_out",{"$f":"'T2-B(PP5)'!$G$80","v":0},"#'T2-B(PP5)'!$G$80"]
["pp5_bl3_3_4_name",{"$f":"'T2-B(PP5)'!$B$81","v":0},"#'T2-B(PP5)'!$B$81"]
["pp5_bl3_3_4_rate_in",{"$f":"'T2-B(PP5)'!$E$81","v":0},"#'T2-B(PP5)'!$E$81"]
["pp5_bl3_3_4_rate_out",{"$f":"'T2-B(PP5)'!$H$81","v":0},"#'T2-B(PP5)'!$H$81"]
["pp5_bl3_3_4_total",{"$f":"'T2-B(PP5)'!$J$81","v":0},"#'T2-B(PP5)'!$J$81"]
["pp5_bl3_3_4_total_in",{"$f":"'T2-B(PP5)'!$F$81","v":0},"#'T2-B(PP5)'!$F$81"]
["pp5_bl3_3_4_total_out",{"$f":"'T2-B(PP5)'!$I$81","v":0},"#'T2-B(PP5)'!$I$81"]
["pp5_bl3_3_4_unit",{"$f":"'T2-B(PP5)'!$C$81","v":0},"#'T2-B(PP5)'!$C$81"]
["pp5_bl3_3_4_unit_in",{"$f":"'T2-B(PP5)'!$D$81","v":0},"#'T2-B(PP5)'!$D$81"]
["pp5_bl3_3_4_units_out",{"$f":"'T2-B(PP5)'!$G$81","v":0},"#'T2-B(PP5)'!$G$81"]
["pp5_bl3_3_5_name",{"$f":"'T2-B(PP5)'!$B$82","v":0},"#'T2-B(PP5)'!$B$82"]
["pp5_bl3_3_5_rate_in",{"$f":"'T2-B(PP5)'!$E$82","v":0},"#'T2-B(PP5)'!$E$82"]
["pp5_bl3_3_5_rate_out",{"$f":"'T2-B(PP5)'!$H$82","v":0},"#'T2-B(PP5)'!$H$82"]
["pp5_bl3_3_5_total",{"$f":"'T2-B(PP5)'!$J$82","v":0},"#'T2-B(PP5)'!$J$82"]
["pp5_bl3_3_5_total_in",{"$f":"'T2-B(PP5)'!$F$82","v":0},"#'T2-B(PP5)'!$F$82"]
["pp5_bl3_3_5_total_out",{"$f":"'T2-B(PP5)'!$I$82","v":0},"#'T2-B(PP5)'!$I$82"]
["pp5_bl3_3_5_unit",{"$f":"'T2-B(PP5)'!$C$82","v":0},"#'T2-B(PP5)'!$C$82"]
["pp5_bl3_3_5_unit_in",{"$f":"'T2-B(PP5)'!$D$82","v":0},"#'T2-B(PP5)'!$D$82"]
["pp5_bl3_3_5_units_out",{"$f":"'T2-B(PP5)'!$G$82","v":0},"#'T2-B(PP5)'!$G$82"]
["pp5_bl3_3_6_name",{"$f":"'T2-B(PP5)'!$B$83","v":0},"#'T2-B(PP5)'!$B$83"]
["pp5_bl3_3_6_rate_in",{"$f":"'T2-B(PP5)'!$E$83","v":0},"#'T2-B(PP5)'!$E$83"]
["pp5_bl3_3_6_rate_out",{"$f":"'T2-B(PP5)'!$H$83","v":0},"#'T2-B(PP5)'!$H$83"]
["pp5_bl3_3_6_total",{"$f":"'T2-B(PP5)'!$J$83","v":0},"#'T2-B(PP5)'!$J$83"]
["pp5_bl3_3_6_total_in",{"$f":"'T2-B(PP5)'!$F$83","v":0},"#'T2-B(PP5)'!$F$83"]
["pp5_bl3_3_6_total_out",{"$f":"'T2-B(PP5)'!$I$83","v":0},"#'T2-B(PP5)'!$I$83"]
["pp5_bl3_3_6_unit",{"$f":"'T2-B(PP5)'!$C$83","v":0},"#'T2-B(PP5)'!$C$83"]
["pp5_bl3_3_6_unit_in",{"$f":"'T2-B(PP5)'!$D$83","v":0},"#'T2-B(PP5)'!$D$83"]
["pp5_bl3_3_6_units_out",{"$f":"'T2-B(PP5)'!$G$83","v":0},"#'T2-B(PP5)'!$G$83"]
["pp5_bl3_3_7_name",{"$f":"'T2-B(PP5)'!$B$84","v":0},"#'T2-B(PP5)'!$B$84"]
["pp5_bl3_3_7_rate_in",{"$f":"'T2-B(PP5)'!$E$84","v":0},"#'T2-B(PP5)'!$E$84"]
["pp5_bl3_3_7_rate_out",{"$f":"'T2-B(PP5)'!$H$84","v":0},"#'T2-B(PP5)'!$H$84"]
["pp5_bl3_3_7_total",{"$f":"'T2-B(PP5)'!$J$84","v":0},"#'T2-B(PP5)'!$J$84"]
["pp5_bl3_3_7_total_in",{"$f":"'T2-B(PP5)'!$F$84","v":0},"#'T2-B(PP5)'!$F$84"]
["pp5_bl3_3_7_total_out",{"$f":"'T2-B(PP5)'!$I$84","v":0},"#'T2-B(PP5)'!$I$84"]
["pp5_bl3_3_7_unit",{"$f":"'T2-B(PP5)'!$C$84","v":0},"#'T2-B(PP5)'!$C$84"]
["pp5_bl3_3_7_unit_in",{"$f":"'T2-B(PP5)'!$D$84","v":0},"#'T2-B(PP5)'!$D$84"]
["pp5_bl3_3_7_units_out",{"$f":"'T2-B(PP5)'!$G$84","v":0},"#'T2-B(PP5)'!$G$84"]
["pp5_bl3_3_8_name",{"$f":"'T2-B(PP5)'!$B$85","v":0},"#'T2-B(PP5)'!$B$85"]
["pp5_bl3_3_8_rate_in",{"$f":"'T2-B(PP5)'!$E$85","v":0},"#'T2-B(PP5)'!$E$85"]
["pp5_bl3_3_8_rate_out",{"$f":"'T2-B(PP5)'!$H$85","v":0},"#'T2-B(PP5)'!$H$85"]
["pp5_bl3_3_8_total",{"$f":"'T2-B(PP5)'!$J$85","v":0},"#'T2-B(PP5)'!$J$85"]
["pp5_bl3_3_8_total_in",{"$f":"'T2-B(PP5)'!$F$85","v":0},"#'T2-B(PP5)'!$F$85"]
["pp5_bl3_3_8_total_out",{"$f":"'T2-B(PP5)'!$I$85","v":0},"#'T2-B(PP5)'!$I$85"]
["pp5_bl3_3_8_unit",{"$f":"'T2-B(PP5)'!$C$85","v":0},"#'T2-B(PP5)'!$C$85"]
["pp5_bl3_3_8_unit_in",{"$f":"'T2-B(PP5)'!$D$85","v":0},"#'T2-B(PP5)'!$D$85"]
["pp5_bl3_3_8_units_out",{"$f":"'T2-B(PP5)'!$G$85","v":0},"#'T2-B(PP5)'!$G$85"]
["pp5_bl3_3_9_name",{"$f":"'T2-B(PP5)'!$B$86","v":0},"#'T2-B(PP5)'!$B$86"]
["pp5_bl3_3_9_rate_in",{"$f":"'T2-B(PP5)'!$E$86","v":0},"#'T2-B(PP5)'!$E$86"]
["pp5_bl3_3_9_rate_out",{"$f":"'T2-B(PP5)'!$H$86","v":0},"#'T2-B(PP5)'!$H$86"]
["pp5_bl3_3_9_total",{"$f":"'T2-B(PP5)'!$J$86","v":0},"#'T2-B(PP5)'!$J$86"]
["pp5_bl3_3_9_total_in",{"$f":"'T2-B(PP5)'!$F$86","v":0},"#'T2-B(PP5)'!$F$86"]
["pp5_bl3_3_9_total_out",{"$f":"'T2-B(PP5)'!$I$86","v":0},"#'T2-B(PP5)'!$I$86"]
["pp5_bl3_3_9_unit",{"$f":"'T2-B(PP5)'!$C$86","v":0},"#'T2-B(PP5)'!$C$86"]
["pp5_bl3_3_9_unit_in",{"$f":"'T2-B(PP5)'!$D$86","v":0},"#'T2-B(PP5)'!$D$86"]
["pp5_bl3_3_9_units_out",{"$f":"'T2-B(PP5)'!$G$86","v":0},"#'T2-B(PP5)'!$G$86"]
["pp5_bl3_3_total",{"$f":"'T2-B(PP5)'!$J$77","v":0},"#'T2-B(PP5)'!$J$77"]
["pp5_bl3_3_total_in",{"$f":"'T2-B(PP5)'!$F$77","v":0},"#'T2-B(PP5)'!$F$77"]
["pp5_bl3_3_total_out",{"$f":"'T2-B(PP5)'!$I$77","v":0},"#'T2-B(PP5)'!$I$77"]
["pp5_bl3_4_1_name",{"$f":"'T2-B(PP5)'!$B$99","v":0},"#'T2-B(PP5)'!$B$99"]
["pp5_bl3_4_1_rate_in",{"$f":"'T2-B(PP5)'!$E$99","v":0},"#'T2-B(PP5)'!$E$99"]
["pp5_bl3_4_1_rate_out",{"$f":"'T2-B(PP5)'!$H$99","v":0},"#'T2-B(PP5)'!$H$99"]
["pp5_bl3_4_1_total",{"$f":"'T2-B(PP5)'!$J$99","v":0},"#'T2-B(PP5)'!$J$99"]
["pp5_bl3_4_1_total_in",{"$f":"'T2-B(PP5)'!$F$99","v":0},"#'T2-B(PP5)'!$F$99"]
["pp5_bl3_4_1_total_out",{"$f":"'T2-B(PP5)'!$I$99","v":0},"#'T2-B(PP5)'!$I$99"]
["pp5_bl3_4_1_unit",{"$f":"'T2-B(PP5)'!$C$99","v":0},"#'T2-B(PP5)'!$C$99"]
["pp5_bl3_4_1_unit_in",{"$f":"'T2-B(PP5)'!$D$99","v":0},"#'T2-B(PP5)'!$D$99"]
["pp5_bl3_4_1_units_out",{"$f":"'T2-B(PP5)'!$G$99","v":0},"#'T2-B(PP5)'!$G$99"]
["pp5_bl3_4_10_name",{"$f":"'T2-B(PP5)'!$B$108","v":0},"#'T2-B(PP5)'!$B$108"]
["pp5_bl3_4_10_rate_in",{"$f":"'T2-B(PP5)'!$E$108","v":0},"#'T2-B(PP5)'!$E$108"]
["pp5_bl3_4_10_rate_out",{"$f":"'T2-B(PP5)'!$H$108","v":0},"#'T2-B(PP5)'!$H$108"]
["pp5_bl3_4_10_total",{"$f":"'T2-B(PP5)'!$J$108","v":0},"#'T2-B(PP5)'!$J$108"]
["pp5_bl3_4_10_total_in",{"$f":"'T2-B(PP5)'!$F$108","v":0},"#'T2-B(PP5)'!$F$108"]
["pp5_bl3_4_10_total_out",{"$f":"'T2-B(PP5)'!$I$108","v":0},"#'T2-B(PP5)'!$I$108"]
["pp5_bl3_4_10_unit",{"$f":"'T2-B(PP5)'!$C$108","v":0},"#'T2-B(PP5)'!$C$108"]
["pp5_bl3_4_10_unit_in",{"$f":"'T2-B(PP5)'!$D$108","v":0},"#'T2-B(PP5)'!$D$108"]
["pp5_bl3_4_10_units_out",{"$f":"'T2-B(PP5)'!$G$108","v":0},"#'T2-B(PP5)'!$G$108"]
["pp5_bl3_4_2_name",{"$f":"'T2-B(PP5)'!$B$100","v":0},"#'T2-B(PP5)'!$B$100"]
["pp5_bl3_4_2_rate_in",{"$f":"'T2-B(PP5)'!$E$100","v":0},"#'T2-B(PP5)'!$E$100"]
["pp5_bl3_4_2_rate_out",{"$f":"'T2-B(PP5)'!$H$100","v":0},"#'T2-B(PP5)'!$H$100"]
["pp5_bl3_4_2_total",{"$f":"'T2-B(PP5)'!$J$100","v":0},"#'T2-B(PP5)'!$J$100"]
["pp5_bl3_4_2_total_in",{"$f":"'T2-B(PP5)'!$F$100","v":0},"#'T2-B(PP5)'!$F$100"]
["pp5_bl3_4_2_total_out",{"$f":"'T2-B(PP5)'!$I$100","v":0},"#'T2-B(PP5)'!$I$100"]
["pp5_bl3_4_2_unit",{"$f":"'T2-B(PP5)'!$C$100","v":0},"#'T2-B(PP5)'!$C$100"]
["pp5_bl3_4_2_unit_in",{"$f":"'T2-B(PP5)'!$D$100","v":0},"#'T2-B(PP5)'!$D$100"]
["pp5_bl3_4_2_units_out",{"$f":"'T2-B(PP5)'!$G$100","v":0},"#'T2-B(PP5)'!$G$100"]
["pp5_bl3_4_3_name",{"$f":"'T2-B(PP5)'!$B$101","v":0},"#'T2-B(PP5)'!$B$101"]
["pp5_bl3_4_3_rate_in",{"$f":"'T2-B(PP5)'!$E$101","v":0},"#'T2-B(PP5)'!$E$101"]
["pp5_bl3_4_3_rate_out",{"$f":"'T2-B(PP5)'!$H$101","v":0},"#'T2-B(PP5)'!$H$101"]
["pp5_bl3_4_3_total",{"$f":"'T2-B(PP5)'!$J$101","v":0},"#'T2-B(PP5)'!$J$101"]
["pp5_bl3_4_3_total_in",{"$f":"'T2-B(PP5)'!$F$101","v":0},"#'T2-B(PP5)'!$F$101"]
["pp5_bl3_4_3_total_out",{"$f":"'T2-B(PP5)'!$I$101","v":0},"#'T2-B(PP5)'!$I$101"]
["pp5_bl3_4_3_unit",{"$f":"'T2-B(PP5)'!$C$101","v":0},"#'T2-B(PP5)'!$C$101"]
["pp5_bl3_4_3_unit_in",{"$f":"'T2-B(PP5)'!$D$101","v":0},"#'T2-B(PP5)'!$D$101"]
["pp5_bl3_4_3_units_out",{"$f":"'T2-B(PP5)'!$G$101","v":0},"#'T2-B(PP5)'!$G$101"]
["pp5_bl3_4_4_name",{"$f":"'T2-B(PP5)'!$B$102","v":0},"#'T2-B(PP5)'!$B$102"]
["pp5_bl3_4_4_rate_in",{"$f":"'T2-B(PP5)'!$E$102","v":0},"#'T2-B(PP5)'!$E$102"]
["pp5_bl3_4_4_rate_out",{"$f":"'T2-B(PP5)'!$H$102","v":0},"#'T2-B(PP5)'!$H$102"]
["pp5_bl3_4_4_total",{"$f":"'T2-B(PP5)'!$J$102","v":0},"#'T2-B(PP5)'!$J$102"]
["pp5_bl3_4_4_total_in",{"$f":"'T2-B(PP5)'!$F$102","v":0},"#'T2-B(PP5)'!$F$102"]
["pp5_bl3_4_4_total_out",{"$f":"'T2-B(PP5)'!$I$102","v":0},"#'T2-B(PP5)'!$I$102"]
["pp5_bl3_4_4_unit",{"$f":"'T2-B(PP5)'!$C$102","v":0},"#'T2-B(PP5)'!$C$102"]
["pp5_bl3_4_4_unit_in",{"$f":"'T2-B(PP5)'!$D$102","v":0},"#'T2-B(PP5)'!$D$102"]
["pp5_bl3_4_4_units_out",{"$f":"'T2-B(PP5)'!$G$102","v":0},"#'T2-B(PP5)'!$G$102"]
["pp5_bl3_4_5_name",{"$f":"'T2-B(PP5)'!$B$103","v":0},"#'T2-B(PP5)'!$B$103"]
["pp5_bl3_4_5_rate_in",{"$f":"'T2-B(PP5)'!$E$103","v":0},"#'T2-B(PP5)'!$E$103"]
["pp5_bl3_4_5_rate_out",{"$f":"'T2-B(PP5)'!$H$103","v":0},"#'T2-B(PP5)'!$H$103"]
["pp5_bl3_4_5_total",{"$f":"'T2-B(PP5)'!$J$103","v":0},"#'T2-B(PP5)'!$J$103"]
["pp5_bl3_4_5_total_in",{"$f":"'T2-B(PP5)'!$F$103","v":0},"#'T2-B(PP5)'!$F$103"]
["pp5_bl3_4_5_total_out",{"$f":"'T2-B(PP5)'!$I$103","v":0},"#'T2-B(PP5)'!$I$103"]
["pp5_bl3_4_5_unit",{"$f":"'T2-B(PP5)'!$C$103","v":0},"#'T2-B(PP5)'!$C$103"]
["pp5_bl3_4_5_unit_in",{"$f":"'T2-B(PP5)'!$D$103","v":0},"#'T2-B(PP5)'!$D$103"]
["pp5_bl3_4_5_units_out",{"$f":"'T2-B(PP5)'!$G$103","v":0},"#'T2-B(PP5)'!$G$103"]
["pp5_bl3_4_6_name",{"$f":"'T2-B(PP5)'!$B$104","v":0},"#'T2-B(PP5)'!$B$104"]
["pp5_bl3_4_6_rate_in",{"$f":"'T2-B(PP5)'!$E$104","v":0},"#'T2-B(PP5)'!$E$104"]
["pp5_bl3_4_6_rate_out",{"$f":"'T2-B(PP5)'!$H$104","v":0},"#'T2-B(PP5)'!$H$104"]
["pp5_bl3_4_6_total",{"$f":"'T2-B(PP5)'!$J$104","v":0},"#'T2-B(PP5)'!$J$104"]
["pp5_bl3_4_6_total_in",{"$f":"'T2-B(PP5)'!$F$104","v":0},"#'T2-B(PP5)'!$F$104"]
["pp5_bl3_4_6_total_out",{"$f":"'T2-B(PP5)'!$I$104","v":0},"#'T2-B(PP5)'!$I$104"]
["pp5_bl3_4_6_unit",{"$f":"'T2-B(PP5)'!$C$104","v":0},"#'T2-B(PP5)'!$C$104"]
["pp5_bl3_4_6_unit_in",{"$f":"'T2-B(PP5)'!$D$104","v":0},"#'T2-B(PP5)'!$D$104"]
["pp5_bl3_4_6_units_out",{"$f":"'T2-B(PP5)'!$G$104","v":0},"#'T2-B(PP5)'!$G$104"]
["pp5_bl3_4_7_name",{"$f":"'T2-B(PP5)'!$B$105","v":0},"#'T2-B(PP5)'!$B$105"]
["pp5_bl3_4_7_rate_in",{"$f":"'T2-B(PP5)'!$E$105","v":0},"#'T2-B(PP5)'!$E$105"]
["pp5_bl3_4_7_rate_out",{"$f":"'T2-B(PP5)'!$H$105","v":0},"#'T2-B(PP5)'!$H$105"]
["pp5_bl3_4_7_total",{"$f":"'T2-B(PP5)'!$J$105","v":0},"#'T2-B(PP5)'!$J$105"]
["pp5_bl3_4_7_total_in",{"$f":"'T2-B(PP5)'!$F$105","v":0},"#'T2-B(PP5)'!$F$105"]
["pp5_bl3_4_7_total_out",{"$f":"'T2-B(PP5)'!$I$105","v":0},"#'T2-B(PP5)'!$I$105"]
["pp5_bl3_4_7_unit",{"$f":"'T2-B(PP5)'!$C$105","v":0},"#'T2-B(PP5)'!$C$105"]
["pp5_bl3_4_7_unit_in",{"$f":"'T2-B(PP5)'!$D$105","v":0},"#'T2-B(PP5)'!$D$105"]
["pp5_bl3_4_7_units_out",{"$f":"'T2-B(PP5)'!$G$105","v":0},"#'T2-B(PP5)'!$G$105"]
["pp5_bl3_4_8_name",{"$f":"'T2-B(PP5)'!$B$106","v":0},"#'T2-B(PP5)'!$B$106"]
["pp5_bl3_4_8_rate_in",{"$f":"'T2-B(PP5)'!$E$106","v":0},"#'T2-B(PP5)'!$E$106"]
["pp5_bl3_4_8_rate_out",{"$f":"'T2-B(PP5)'!$H$106","v":0},"#'T2-B(PP5)'!$H$106"]
["pp5_bl3_4_8_total",{"$f":"'T2-B(PP5)'!$J$106","v":0},"#'T2-B(PP5)'!$J$106"]
["pp5_bl3_4_8_total_in",{"$f":"'T2-B(PP5)'!$F$106","v":0},"#'T2-B(PP5)'!$F$106"]
["pp5_bl3_4_8_total_out",{"$f":"'T2-B(PP5)'!$I$106","v":0},"#'T2-B(PP5)'!$I$106"]
["pp5_bl3_4_8_unit",{"$f":"'T2-B(PP5)'!$C$106","v":0},"#'T2-B(PP5)'!$C$106"]
["pp5_bl3_4_8_unit_in",{"$f":"'T2-B(PP5)'!$D$106","v":0},"#'T2-B(PP5)'!$D$106"]
["pp5_bl3_4_8_units_out",{"$f":"'T2-B(PP5)'!$G$106","v":0},"#'T2-B(PP5)'!$G$106"]
["pp5_bl3_4_9_name",{"$f":"'T2-B(PP5)'!$B$107","v":0},"#'T2-B(PP5)'!$B$107"]
["pp5_bl3_4_9_rate_in",{"$f":"'T2-B(PP5)'!$E$107","v":0},"#'T2-B(PP5)'!$E$107"]
["pp5_bl3_4_9_rate_out",{"$f":"'T2-B(PP5)'!$H$107","v":0},"#'T2-B(PP5)'!$H$107"]
["pp5_bl3_4_9_total",{"$f":"'T2-B(PP5)'!$J$107","v":0},"#'T2-B(PP5)'!$J$107"]
["pp5_bl3_4_9_total_in",{"$f":"'T2-B(PP5)'!$F$107","v":0},"#'T2-B(PP5)'!$F$107"]
["pp5_bl3_4_9_total_out",{"$f":"'T2-B(PP5)'!$I$107","v":0},"#'T2-B(PP5)'!$I$107"]
["pp5_bl3_4_9_unit",{"$f":"'T2-B(PP5)'!$C$107","v":0},"#'T2-B(PP5)'!$C$107"]
["pp5_bl3_4_9_unit_in",{"$f":"'T2-B(PP5)'!$D$107","v":0},"#'T2-B(PP5)'!$D$107"]
["pp5_bl3_4_9_units_out",{"$f":"'T2-B(PP5)'!$G$107","v":0},"#'T2-B(PP5)'!$G$107"]
["pp5_bl3_4_total",{"$f":"'T2-B(PP5)'!$J$98","v":0},"#'T2-B(PP5)'!$J$98"]
["pp5_bl3_4_total_in",{"$f":"'T2-B(PP5)'!$F$98","v":0},"#'T2-B(PP5)'!$F$98"]
["pp5_bl3_4_total_out",{"$f":"'T2-B(PP5)'!$I$98","v":0},"#'T2-B(PP5)'!$I$98"]
["pp5_bl3_total",{"$f":"'T2-B(PP5)'!$J$109","v":0},"#'T2-B(PP5)'!$J$109"]
["pp5_bl3_total_in",{"$f":"'T2-B(PP5)'!$F$109","v":0},"#'T2-B(PP5)'!$F$109"]
["pp5_bl3_total_out",{"$f":"'T2-B(PP5)'!$I$109","v":0},"#'T2-B(PP5)'!$I$109"]
["pp5_bl4_1_1_name",{"$f":"'T2-B(PP5)'!$B$114","v":0},"#'T2-B(PP5)'!$B$114"]
["pp5_bl4_1_1_rate_in",{"$f":"'T2-B(PP5)'!$E$114","v":0},"#'T2-B(PP5)'!$E$114"]
["pp5_bl4_1_1_rate_out",{"$f":"'T2-B(PP5)'!$H$114","v":0},"#'T2-B(PP5)'!$H$114"]
["pp5_bl4_1_1_total",{"$f":"'T2-B(PP5)'!$J$114","v":0},"#'T2-B(PP5)'!$J$114"]
["pp5_bl4_1_1_total_in",{"$f":"'T2-B(PP5)'!$F$114","v":0},"#'T2-B(PP5)'!$F$114"]
["pp5_bl4_1_1_total_out",{"$f":"'T2-B(PP5)'!$I$114","v":0},"#'T2-B(PP5)'!$I$114"]
["pp5_bl4_1_1_unit",{"$f":"'T2-B(PP5)'!$C$114","v":0},"#'T2-B(PP5)'!$C$114"]
["pp5_bl4_1_1_unit_in",{"$f":"'T2-B(PP5)'!$D$114","v":0},"#'T2-B(PP5)'!$D$114"]
["pp5_bl4_1_1_units_out",{"$f":"'T2-B(PP5)'!$G$114","v":0},"#'T2-B(PP5)'!$G$114"]
["pp5_bl4_1_10_name",{"$f":"'T2-B(PP5)'!$B$123","v":0},"#'T2-B(PP5)'!$B$123"]
["pp5_bl4_1_10_rate_in",{"$f":"'T2-B(PP5)'!$E$123","v":0},"#'T2-B(PP5)'!$E$123"]
["pp5_bl4_1_10_rate_out",{"$f":"'T2-B(PP5)'!$H$123","v":0},"#'T2-B(PP5)'!$H$123"]
["pp5_bl4_1_10_total",{"$f":"'T2-B(PP5)'!$J$123","v":0},"#'T2-B(PP5)'!$J$123"]
["pp5_bl4_1_10_total_in",{"$f":"'T2-B(PP5)'!$F$123","v":0},"#'T2-B(PP5)'!$F$123"]
["pp5_bl4_1_10_total_out",{"$f":"'T2-B(PP5)'!$I$123","v":0},"#'T2-B(PP5)'!$I$123"]
["pp5_bl4_1_10_unit",{"$f":"'T2-B(PP5)'!$C$123","v":0},"#'T2-B(PP5)'!$C$123"]
["pp5_bl4_1_10_unit_in",{"$f":"'T2-B(PP5)'!$D$123","v":0},"#'T2-B(PP5)'!$D$123"]
["pp5_bl4_1_10_units_out",{"$f":"'T2-B(PP5)'!$G$123","v":0},"#'T2-B(PP5)'!$G$123"]
["pp5_bl4_1_2_name",{"$f":"'T2-B(PP5)'!$B$115","v":0},"#'T2-B(PP5)'!$B$115"]
["pp5_bl4_1_2_rate_in",{"$f":"'T2-B(PP5)'!$E$115","v":0},"#'T2-B(PP5)'!$E$115"]
["pp5_bl4_1_2_rate_out",{"$f":"'T2-B(PP5)'!$H$115","v":0},"#'T2-B(PP5)'!$H$115"]
["pp5_bl4_1_2_total",{"$f":"'T2-B(PP5)'!$J$115","v":0},"#'T2-B(PP5)'!$J$115"]
["pp5_bl4_1_2_total_in",{"$f":"'T2-B(PP5)'!$F$115","v":0},"#'T2-B(PP5)'!$F$115"]
["pp5_bl4_1_2_total_out",{"$f":"'T2-B(PP5)'!$I$115","v":0},"#'T2-B(PP5)'!$I$115"]
["pp5_bl4_1_2_unit",{"$f":"'T2-B(PP5)'!$C$115","v":0},"#'T2-B(PP5)'!$C$115"]
["pp5_bl4_1_2_unit_in",{"$f":"'T2-B(PP5)'!$D$115","v":0},"#'T2-B(PP5)'!$D$115"]
["pp5_bl4_1_2_units_out",{"$f":"'T2-B(PP5)'!$G$115","v":0},"#'T2-B(PP5)'!$G$115"]
["pp5_bl4_1_3_name",{"$f":"'T2-B(PP5)'!$B$116","v":0},"#'T2-B(PP5)'!$B$116"]
["pp5_bl4_1_3_rate_in",{"$f":"'T2-B(PP5)'!$E$116","v":0},"#'T2-B(PP5)'!$E$116"]
["pp5_bl4_1_3_rate_out",{"$f":"'T2-B(PP5)'!$H$116","v":0},"#'T2-B(PP5)'!$H$116"]
["pp5_bl4_1_3_total",{"$f":"'T2-B(PP5)'!$J$116","v":0},"#'T2-B(PP5)'!$J$116"]
["pp5_bl4_1_3_total_in",{"$f":"'T2-B(PP5)'!$F$116","v":0},"#'T2-B(PP5)'!$F$116"]
["pp5_bl4_1_3_total_out",{"$f":"'T2-B(PP5)'!$I$116","v":0},"#'T2-B(PP5)'!$I$116"]
["pp5_bl4_1_3_unit",{"$f":"'T2-B(PP5)'!$C$116","v":0},"#'T2-B(PP5)'!$C$116"]
["pp5_bl4_1_3_unit_in",{"$f":"'T2-B(PP5)'!$D$116","v":0},"#'T2-B(PP5)'!$D$116"]
["pp5_bl4_1_3_units_out",{"$f":"'T2-B(PP5)'!$G$116","v":0},"#'T2-B(PP5)'!$G$116"]
["pp5_bl4_1_4_name",{"$f":"'T2-B(PP5)'!$B$117","v":0},"#'T2-B(PP5)'!$B$117"]
["pp5_bl4_1_4_rate_in",{"$f":"'T2-B(PP5)'!$E$117","v":0},"#'T2-B(PP5)'!$E$117"]
["pp5_bl4_1_4_rate_out",{"$f":"'T2-B(PP5)'!$H$117","v":0},"#'T2-B(PP5)'!$H$117"]
["pp5_bl4_1_4_total",{"$f":"'T2-B(PP5)'!$J$117","v":0},"#'T2-B(PP5)'!$J$117"]
["pp5_bl4_1_4_total_in",{"$f":"'T2-B(PP5)'!$F$117","v":0},"#'T2-B(PP5)'!$F$117"]
["pp5_bl4_1_4_total_out",{"$f":"'T2-B(PP5)'!$I$117","v":0},"#'T2-B(PP5)'!$I$117"]
["pp5_bl4_1_4_unit",{"$f":"'T2-B(PP5)'!$C$117","v":0},"#'T2-B(PP5)'!$C$117"]
["pp5_bl4_1_4_unit_in",{"$f":"'T2-B(PP5)'!$D$117","v":0},"#'T2-B(PP5)'!$D$117"]
["pp5_bl4_1_4_units_out",{"$f":"'T2-B(PP5)'!$G$117","v":0},"#'T2-B(PP5)'!$G$117"]
["pp5_bl4_1_5_name",{"$f":"'T2-B(PP5)'!$B$118","v":0},"#'T2-B(PP5)'!$B$118"]
["pp5_bl4_1_5_rate_in",{"$f":"'T2-B(PP5)'!$E$118","v":0},"#'T2-B(PP5)'!$E$118"]
["pp5_bl4_1_5_rate_out",{"$f":"'T2-B(PP5)'!$H$118","v":0},"#'T2-B(PP5)'!$H$118"]
["pp5_bl4_1_5_total",{"$f":"'T2-B(PP5)'!$J$118","v":0},"#'T2-B(PP5)'!$J$118"]
["pp5_bl4_1_5_total_in",{"$f":"'T2-B(PP5)'!$F$118","v":0},"#'T2-B(PP5)'!$F$118"]
["pp5_bl4_1_5_total_out",{"$f":"'T2-B(PP5)'!$I$118","v":0},"#'T2-B(PP5)'!$I$118"]
["pp5_bl4_1_5_unit",{"$f":"'T2-B(PP5)'!$C$118","v":0},"#'T2-B(PP5)'!$C$118"]
["pp5_bl4_1_5_unit_in",{"$f":"'T2-B(PP5)'!$D$118","v":0},"#'T2-B(PP5)'!$D$118"]
["pp5_bl4_1_5_units_out",{"$f":"'T2-B(PP5)'!$G$118","v":0},"#'T2-B(PP5)'!$G$118"]
["pp5_bl4_1_6_name",{"$f":"'T2-B(PP5)'!$B$119","v":0},"#'T2-B(PP5)'!$B$119"]
["pp5_bl4_1_6_rate_in",{"$f":"'T2-B(PP5)'!$E$119","v":0},"#'T2-B(PP5)'!$E$119"]
["pp5_bl4_1_6_rate_out",{"$f":"'T2-B(PP5)'!$H$119","v":0},"#'T2-B(PP5)'!$H$119"]
["pp5_bl4_1_6_total",{"$f":"'T2-B(PP5)'!$J$119","v":0},"#'T2-B(PP5)'!$J$119"]
["pp5_bl4_1_6_total_in",{"$f":"'T2-B(PP5)'!$F$119","v":0},"#'T2-B(PP5)'!$F$119"]
["pp5_bl4_1_6_total_out",{"$f":"'T2-B(PP5)'!$I$119","v":0},"#'T2-B(PP5)'!$I$119"]
["pp5_bl4_1_6_unit",{"$f":"'T2-B(PP5)'!$C$119","v":0},"#'T2-B(PP5)'!$C$119"]
["pp5_bl4_1_6_unit_in",{"$f":"'T2-B(PP5)'!$D$119","v":0},"#'T2-B(PP5)'!$D$119"]
["pp5_bl4_1_6_units_out",{"$f":"'T2-B(PP5)'!$G$119","v":0},"#'T2-B(PP5)'!$G$119"]
["pp5_bl4_1_7_name",{"$f":"'T2-B(PP5)'!$B$120","v":0},"#'T2-B(PP5)'!$B$120"]
["pp5_bl4_1_7_rate_in",{"$f":"'T2-B(PP5)'!$E$120","v":0},"#'T2-B(PP5)'!$E$120"]
["pp5_bl4_1_7_rate_out",{"$f":"'T2-B(PP5)'!$H$120","v":0},"#'T2-B(PP5)'!$H$120"]
["pp5_bl4_1_7_total",{"$f":"'T2-B(PP5)'!$J$120","v":0},"#'T2-B(PP5)'!$J$120"]
["pp5_bl4_1_7_total_in",{"$f":"'T2-B(PP5)'!$F$120","v":0},"#'T2-B(PP5)'!$F$120"]
["pp5_bl4_1_7_total_out",{"$f":"'T2-B(PP5)'!$I$120","v":0},"#'T2-B(PP5)'!$I$120"]
["pp5_bl4_1_7_unit",{"$f":"'T2-B(PP5)'!$C$120","v":0},"#'T2-B(PP5)'!$C$120"]
["pp5_bl4_1_7_unit_in",{"$f":"'T2-B(PP5)'!$D$120","v":0},"#'T2-B(PP5)'!$D$120"]
["pp5_bl4_1_7_units_out",{"$f":"'T2-B(PP5)'!$G$120","v":0},"#'T2-B(PP5)'!$G$120"]
["pp5_bl4_1_8_name",{"$f":"'T2-B(PP5)'!$B$121","v":0},"#'T2-B(PP5)'!$B$121"]
["pp5_bl4_1_8_rate_in",{"$f":"'T2-B(PP5)'!$E$121","v":0},"#'T2-B(PP5)'!$E$121"]
["pp5_bl4_1_8_rate_out",{"$f":"'T2-B(PP5)'!$H$121","v":0},"#'T2-B(PP5)'!$H$121"]
["pp5_bl4_1_8_total",{"$f":"'T2-B(PP5)'!$J$121","v":0},"#'T2-B(PP5)'!$J$121"]
["pp5_bl4_1_8_total_in",{"$f":"'T2-B(PP5)'!$F$121","v":0},"#'T2-B(PP5)'!$F$121"]
["pp5_bl4_1_8_total_out",{"$f":"'T2-B(PP5)'!$I$121","v":0},"#'T2-B(PP5)'!$I$121"]
["pp5_bl4_1_8_unit",{"$f":"'T2-B(PP5)'!$C$121","v":0},"#'T2-B(PP5)'!$C$121"]
["pp5_bl4_1_8_unit_in",{"$f":"'T2-B(PP5)'!$D$121","v":0},"#'T2-B(PP5)'!$D$121"]
["pp5_bl4_1_8_units_out",{"$f":"'T2-B(PP5)'!$G$121","v":0},"#'T2-B(PP5)'!$G$121"]
["pp5_bl4_1_9_name",{"$f":"'T2-B(PP5)'!$B$122","v":0},"#'T2-B(PP5)'!$B$122"]
["pp5_bl4_1_9_rate_in",{"$f":"'T2-B(PP5)'!$E$122","v":0},"#'T2-B(PP5)'!$E$122"]
["pp5_bl4_1_9_rate_out",{"$f":"'T2-B(PP5)'!$H$122","v":0},"#'T2-B(PP5)'!$H$122"]
["pp5_bl4_1_9_total",{"$f":"'T2-B(PP5)'!$J$122","v":0},"#'T2-B(PP5)'!$J$122"]
["pp5_bl4_1_9_total_in",{"$f":"'T2-B(PP5)'!$F$122","v":0},"#'T2-B(PP5)'!$F$122"]
["pp5_bl4_1_9_total_out",{"$f":"'T2-B(PP5)'!$I$122","v":0},"#'T2-B(PP5)'!$I$122"]
["pp5_bl4_1_9_unit",{"$f":"'T2-B(PP5)'!$C$122","v":0},"#'T2-B(PP5)'!$C$122"]
["pp5_bl4_1_9_unit_in",{"$f":"'T2-B(PP5)'!$D$122","v":0},"#'T2-B(PP5)'!$D$122"]
["pp5_bl4_1_9_units_out",{"$f":"'T2-B(PP5)'!$G$122","v":0},"#'T2-B(PP5)'!$G$122"]
["pp5_bl4_1_total",{"$f":"'T2-B(PP5)'!$J$113","v":0},"#'T2-B(PP5)'!$J$113"]
["pp5_bl4_1_total_in",{"$f":"'T2-B(PP5)'!$F$113","v":0},"#'T2-B(PP5)'!$F$113"]
["pp5_bl4_1_total_out",{"$f":"'T2-B(PP5)'!$I$113","v":0},"#'T2-B(PP5)'!$I$113"]
["pp5_bl4_10_1_name",{"$f":"'T2-B(PP5)'!$B$303","v":0},"#'T2-B(PP5)'!$B$303"]
["pp5_bl4_10_1_rate_in",{"$f":"'T2-B(PP5)'!$E$303","v":0},"#'T2-B(PP5)'!$E$303"]
["pp5_bl4_10_1_rate_out",{"$f":"'T2-B(PP5)'!$H$303","v":0},"#'T2-B(PP5)'!$H$303"]
["pp5_bl4_10_1_total",{"$f":"'T2-B(PP5)'!$J$303","v":0},"#'T2-B(PP5)'!$J$303"]
["pp5_bl4_10_1_total_in",{"$f":"'T2-B(PP5)'!$F$303","v":0},"#'T2-B(PP5)'!$F$303"]
["pp5_bl4_10_1_total_out",{"$f":"'T2-B(PP5)'!$I$303","v":0},"#'T2-B(PP5)'!$I$303"]
["pp5_bl4_10_1_unit",{"$f":"'T2-B(PP5)'!$C$303","v":0},"#'T2-B(PP5)'!$C$303"]
["pp5_bl4_10_1_unit_in",{"$f":"'T2-B(PP5)'!$D$303","v":0},"#'T2-B(PP5)'!$D$303"]
["pp5_bl4_10_1_units_out",{"$f":"'T2-B(PP5)'!$G$303","v":0},"#'T2-B(PP5)'!$G$303"]
["pp5_bl4_10_10_name",{"$f":"'T2-B(PP5)'!$B$312","v":0},"#'T2-B(PP5)'!$B$312"]
["pp5_bl4_10_10_rate_in",{"$f":"'T2-B(PP5)'!$E$312","v":0},"#'T2-B(PP5)'!$E$312"]
["pp5_bl4_10_10_rate_out",{"$f":"'T2-B(PP5)'!$H$312","v":0},"#'T2-B(PP5)'!$H$312"]
["pp5_bl4_10_10_total",{"$f":"'T2-B(PP5)'!$J$312","v":0},"#'T2-B(PP5)'!$J$312"]
["pp5_bl4_10_10_total_in",{"$f":"'T2-B(PP5)'!$F$312","v":0},"#'T2-B(PP5)'!$F$312"]
["pp5_bl4_10_10_total_out",{"$f":"'T2-B(PP5)'!$I$312","v":0},"#'T2-B(PP5)'!$I$312"]
["pp5_bl4_10_10_unit",{"$f":"'T2-B(PP5)'!$C$312","v":0},"#'T2-B(PP5)'!$C$312"]
["pp5_bl4_10_10_unit_in",{"$f":"'T2-B(PP5)'!$D$312","v":0},"#'T2-B(PP5)'!$D$312"]
["pp5_bl4_10_10_units_out",{"$f":"'T2-B(PP5)'!$G$312","v":0},"#'T2-B(PP5)'!$G$312"]
["pp5_bl4_10_2_name",{"$f":"'T2-B(PP5)'!$B$304","v":0},"#'T2-B(PP5)'!$B$304"]
["pp5_bl4_10_2_rate_in",{"$f":"'T2-B(PP5)'!$E$304","v":0},"#'T2-B(PP5)'!$E$304"]
["pp5_bl4_10_2_rate_out",{"$f":"'T2-B(PP5)'!$H$304","v":0},"#'T2-B(PP5)'!$H$304"]
["pp5_bl4_10_2_total",{"$f":"'T2-B(PP5)'!$J$304","v":0},"#'T2-B(PP5)'!$J$304"]
["pp5_bl4_10_2_total_in",{"$f":"'T2-B(PP5)'!$F$304","v":0},"#'T2-B(PP5)'!$F$304"]
["pp5_bl4_10_2_total_out",{"$f":"'T2-B(PP5)'!$I$304","v":0},"#'T2-B(PP5)'!$I$304"]
["pp5_bl4_10_2_unit",{"$f":"'T2-B(PP5)'!$C$304","v":0},"#'T2-B(PP5)'!$C$304"]
["pp5_bl4_10_2_unit_in",{"$f":"'T2-B(PP5)'!$D$304","v":0},"#'T2-B(PP5)'!$D$304"]
["pp5_bl4_10_2_units_out",{"$f":"'T2-B(PP5)'!$G$304","v":0},"#'T2-B(PP5)'!$G$304"]
["pp5_bl4_10_3_name",{"$f":"'T2-B(PP5)'!$B$305","v":0},"#'T2-B(PP5)'!$B$305"]
["pp5_bl4_10_3_rate_in",{"$f":"'T2-B(PP5)'!$E$305","v":0},"#'T2-B(PP5)'!$E$305"]
["pp5_bl4_10_3_rate_out",{"$f":"'T2-B(PP5)'!$H$305","v":0},"#'T2-B(PP5)'!$H$305"]
["pp5_bl4_10_3_total",{"$f":"'T2-B(PP5)'!$J$305","v":0},"#'T2-B(PP5)'!$J$305"]
["pp5_bl4_10_3_total_in",{"$f":"'T2-B(PP5)'!$F$305","v":0},"#'T2-B(PP5)'!$F$305"]
["pp5_bl4_10_3_total_out",{"$f":"'T2-B(PP5)'!$I$305","v":0},"#'T2-B(PP5)'!$I$305"]
["pp5_bl4_10_3_unit",{"$f":"'T2-B(PP5)'!$C$305","v":0},"#'T2-B(PP5)'!$C$305"]
["pp5_bl4_10_3_unit_in",{"$f":"'T2-B(PP5)'!$D$305","v":0},"#'T2-B(PP5)'!$D$305"]
["pp5_bl4_10_3_units_out",{"$f":"'T2-B(PP5)'!$G$305","v":0},"#'T2-B(PP5)'!$G$305"]
["pp5_bl4_10_4_name",{"$f":"'T2-B(PP5)'!$B$306","v":0},"#'T2-B(PP5)'!$B$306"]
["pp5_bl4_10_4_rate_in",{"$f":"'T2-B(PP5)'!$E$306","v":0},"#'T2-B(PP5)'!$E$306"]
["pp5_bl4_10_4_rate_out",{"$f":"'T2-B(PP5)'!$H$306","v":0},"#'T2-B(PP5)'!$H$306"]
["pp5_bl4_10_4_total",{"$f":"'T2-B(PP5)'!$J$306","v":0},"#'T2-B(PP5)'!$J$306"]
["pp5_bl4_10_4_total_in",{"$f":"'T2-B(PP5)'!$F$306","v":0},"#'T2-B(PP5)'!$F$306"]
["pp5_bl4_10_4_total_out",{"$f":"'T2-B(PP5)'!$I$306","v":0},"#'T2-B(PP5)'!$I$306"]
["pp5_bl4_10_4_unit",{"$f":"'T2-B(PP5)'!$C$306","v":0},"#'T2-B(PP5)'!$C$306"]
["pp5_bl4_10_4_unit_in",{"$f":"'T2-B(PP5)'!$D$306","v":0},"#'T2-B(PP5)'!$D$306"]
["pp5_bl4_10_4_units_out",{"$f":"'T2-B(PP5)'!$G$306","v":0},"#'T2-B(PP5)'!$G$306"]
["pp5_bl4_10_5_name",{"$f":"'T2-B(PP5)'!$B$307","v":0},"#'T2-B(PP5)'!$B$307"]
["pp5_bl4_10_5_rate_in",{"$f":"'T2-B(PP5)'!$E$307","v":0},"#'T2-B(PP5)'!$E$307"]
["pp5_bl4_10_5_rate_out",{"$f":"'T2-B(PP5)'!$H$307","v":0},"#'T2-B(PP5)'!$H$307"]
["pp5_bl4_10_5_total",{"$f":"'T2-B(PP5)'!$J$307","v":0},"#'T2-B(PP5)'!$J$307"]
["pp5_bl4_10_5_total_in",{"$f":"'T2-B(PP5)'!$F$307","v":0},"#'T2-B(PP5)'!$F$307"]
["pp5_bl4_10_5_total_out",{"$f":"'T2-B(PP5)'!$I$307","v":0},"#'T2-B(PP5)'!$I$307"]
["pp5_bl4_10_5_unit",{"$f":"'T2-B(PP5)'!$C$307","v":0},"#'T2-B(PP5)'!$C$307"]
["pp5_bl4_10_5_unit_in",{"$f":"'T2-B(PP5)'!$D$307","v":0},"#'T2-B(PP5)'!$D$307"]
["pp5_bl4_10_5_units_out",{"$f":"'T2-B(PP5)'!$G$307","v":0},"#'T2-B(PP5)'!$G$307"]
["pp5_bl4_10_6_name",{"$f":"'T2-B(PP5)'!$B$308","v":0},"#'T2-B(PP5)'!$B$308"]
["pp5_bl4_10_6_rate_in",{"$f":"'T2-B(PP5)'!$E$308","v":0},"#'T2-B(PP5)'!$E$308"]
["pp5_bl4_10_6_rate_out",{"$f":"'T2-B(PP5)'!$H$308","v":0},"#'T2-B(PP5)'!$H$308"]
["pp5_bl4_10_6_total",{"$f":"'T2-B(PP5)'!$J$308","v":0},"#'T2-B(PP5)'!$J$308"]
["pp5_bl4_10_6_total_in",{"$f":"'T2-B(PP5)'!$F$308","v":0},"#'T2-B(PP5)'!$F$308"]
["pp5_bl4_10_6_total_out",{"$f":"'T2-B(PP5)'!$I$308","v":0},"#'T2-B(PP5)'!$I$308"]
["pp5_bl4_10_6_unit",{"$f":"'T2-B(PP5)'!$C$308","v":0},"#'T2-B(PP5)'!$C$308"]
["pp5_bl4_10_6_unit_in",{"$f":"'T2-B(PP5)'!$D$308","v":0},"#'T2-B(PP5)'!$D$308"]
["pp5_bl4_10_6_units_out",{"$f":"'T2-B(PP5)'!$G$308","v":0},"#'T2-B(PP5)'!$G$308"]
["pp5_bl4_10_7_name",{"$f":"'T2-B(PP5)'!$B$309","v":0},"#'T2-B(PP5)'!$B$309"]
["pp5_bl4_10_7_rate_in",{"$f":"'T2-B(PP5)'!$E$309","v":0},"#'T2-B(PP5)'!$E$309"]
["pp5_bl4_10_7_rate_out",{"$f":"'T2-B(PP5)'!$H$309","v":0},"#'T2-B(PP5)'!$H$309"]
["pp5_bl4_10_7_total",{"$f":"'T2-B(PP5)'!$J$309","v":0},"#'T2-B(PP5)'!$J$309"]
["pp5_bl4_10_7_total_in",{"$f":"'T2-B(PP5)'!$F$309","v":0},"#'T2-B(PP5)'!$F$309"]
["pp5_bl4_10_7_total_out",{"$f":"'T2-B(PP5)'!$I$309","v":0},"#'T2-B(PP5)'!$I$309"]
["pp5_bl4_10_7_unit",{"$f":"'T2-B(PP5)'!$C$309","v":0},"#'T2-B(PP5)'!$C$309"]
["pp5_bl4_10_7_unit_in",{"$f":"'T2-B(PP5)'!$D$309","v":0},"#'T2-B(PP5)'!$D$309"]
["pp5_bl4_10_7_units_out",{"$f":"'T2-B(PP5)'!$G$309","v":0},"#'T2-B(PP5)'!$G$309"]
["pp5_bl4_10_8_name",{"$f":"'T2-B(PP5)'!$B$310","v":0},"#'T2-B(PP5)'!$B$310"]
["pp5_bl4_10_8_rate_in",{"$f":"'T2-B(PP5)'!$E$310","v":0},"#'T2-B(PP5)'!$E$310"]
["pp5_bl4_10_8_rate_out",{"$f":"'T2-B(PP5)'!$H$310","v":0},"#'T2-B(PP5)'!$H$310"]
["pp5_bl4_10_8_total",{"$f":"'T2-B(PP5)'!$J$310","v":0},"#'T2-B(PP5)'!$J$310"]
["pp5_bl4_10_8_total_in",{"$f":"'T2-B(PP5)'!$F$310","v":0},"#'T2-B(PP5)'!$F$310"]
["pp5_bl4_10_8_total_out",{"$f":"'T2-B(PP5)'!$I$310","v":0},"#'T2-B(PP5)'!$I$310"]
["pp5_bl4_10_8_unit",{"$f":"'T2-B(PP5)'!$C$310","v":0},"#'T2-B(PP5)'!$C$310"]
["pp5_bl4_10_8_unit_in",{"$f":"'T2-B(PP5)'!$D$310","v":0},"#'T2-B(PP5)'!$D$310"]
["pp5_bl4_10_8_units_out",{"$f":"'T2-B(PP5)'!$G$310","v":0},"#'T2-B(PP5)'!$G$310"]
["pp5_bl4_10_9_name",{"$f":"'T2-B(PP5)'!$B$311","v":0},"#'T2-B(PP5)'!$B$311"]
["pp5_bl4_10_9_rate_in",{"$f":"'T2-B(PP5)'!$E$311","v":0},"#'T2-B(PP5)'!$E$311"]
["pp5_bl4_10_9_rate_out",{"$f":"'T2-B(PP5)'!$H$311","v":0},"#'T2-B(PP5)'!$H$311"]
["pp5_bl4_10_9_total",{"$f":"'T2-B(PP5)'!$J$311","v":0},"#'T2-B(PP5)'!$J$311"]
["pp5_bl4_10_9_total_in",{"$f":"'T2-B(PP5)'!$F$311","v":0},"#'T2-B(PP5)'!$F$311"]
["pp5_bl4_10_9_total_out",{"$f":"'T2-B(PP5)'!$I$311","v":0},"#'T2-B(PP5)'!$I$311"]
["pp5_bl4_10_9_unit",{"$f":"'T2-B(PP5)'!$C$311","v":0},"#'T2-B(PP5)'!$C$311"]
["pp5_bl4_10_9_unit_in",{"$f":"'T2-B(PP5)'!$D$311","v":0},"#'T2-B(PP5)'!$D$311"]
["pp5_bl4_10_9_units_out",{"$f":"'T2-B(PP5)'!$G$311","v":0},"#'T2-B(PP5)'!$G$311"]
["pp5_bl4_10_total",{"$f":"'T2-B(PP5)'!$J$302","v":0},"#'T2-B(PP5)'!$J$302"]
["pp5_bl4_10_total_in",{"$f":"'T2-B(PP5)'!$F$302","v":0},"#'T2-B(PP5)'!$F$302"]
["pp5_bl4_10_total_out",{"$f":"'T2-B(PP5)'!$I$302","v":0},"#'T2-B(PP5)'!$I$302"]
["pp5_bl4_11_1_name",{"$f":"'T2-B(PP5)'!$B$324","v":0},"#'T2-B(PP5)'!$B$324"]
["pp5_bl4_11_1_rate_in",{"$f":"'T2-B(PP5)'!$E$324","v":0},"#'T2-B(PP5)'!$E$324"]
["pp5_bl4_11_1_rate_out",{"$f":"'T2-B(PP5)'!$H$324","v":0},"#'T2-B(PP5)'!$H$324"]
["pp5_bl4_11_1_total",{"$f":"'T2-B(PP5)'!$J$324","v":0},"#'T2-B(PP5)'!$J$324"]
["pp5_bl4_11_1_total_in",{"$f":"'T2-B(PP5)'!$F$324","v":0},"#'T2-B(PP5)'!$F$324"]
["pp5_bl4_11_1_total_out",{"$f":"'T2-B(PP5)'!$I$324","v":0},"#'T2-B(PP5)'!$I$324"]
["pp5_bl4_11_1_unit",{"$f":"'T2-B(PP5)'!$C$324","v":0},"#'T2-B(PP5)'!$C$324"]
["pp5_bl4_11_1_unit_in",{"$f":"'T2-B(PP5)'!$D$324","v":0},"#'T2-B(PP5)'!$D$324"]
["pp5_bl4_11_1_units_out",{"$f":"'T2-B(PP5)'!$G$324","v":0},"#'T2-B(PP5)'!$G$324"]
["pp5_bl4_11_10_name",{"$f":"'T2-B(PP5)'!$B$333","v":0},"#'T2-B(PP5)'!$B$333"]
["pp5_bl4_11_10_rate_in",{"$f":"'T2-B(PP5)'!$E$333","v":0},"#'T2-B(PP5)'!$E$333"]
["pp5_bl4_11_10_rate_out",{"$f":"'T2-B(PP5)'!$H$333","v":0},"#'T2-B(PP5)'!$H$333"]
["pp5_bl4_11_10_total",{"$f":"'T2-B(PP5)'!$J$333","v":0},"#'T2-B(PP5)'!$J$333"]
["pp5_bl4_11_10_total_in",{"$f":"'T2-B(PP5)'!$F$333","v":0},"#'T2-B(PP5)'!$F$333"]
["pp5_bl4_11_10_total_out",{"$f":"'T2-B(PP5)'!$I$333","v":0},"#'T2-B(PP5)'!$I$333"]
["pp5_bl4_11_10_unit",{"$f":"'T2-B(PP5)'!$C$333","v":0},"#'T2-B(PP5)'!$C$333"]
["pp5_bl4_11_10_unit_in",{"$f":"'T2-B(PP5)'!$D$333","v":0},"#'T2-B(PP5)'!$D$333"]
["pp5_bl4_11_10_units_out",{"$f":"'T2-B(PP5)'!$G$333","v":0},"#'T2-B(PP5)'!$G$333"]
["pp5_bl4_11_2_name",{"$f":"'T2-B(PP5)'!$B$325","v":0},"#'T2-B(PP5)'!$B$325"]
["pp5_bl4_11_2_rate_in",{"$f":"'T2-B(PP5)'!$E$325","v":0},"#'T2-B(PP5)'!$E$325"]
["pp5_bl4_11_2_rate_out",{"$f":"'T2-B(PP5)'!$H$325","v":0},"#'T2-B(PP5)'!$H$325"]
["pp5_bl4_11_2_total",{"$f":"'T2-B(PP5)'!$J$325","v":0},"#'T2-B(PP5)'!$J$325"]
["pp5_bl4_11_2_total_in",{"$f":"'T2-B(PP5)'!$F$325","v":0},"#'T2-B(PP5)'!$F$325"]
["pp5_bl4_11_2_total_out",{"$f":"'T2-B(PP5)'!$I$325","v":0},"#'T2-B(PP5)'!$I$325"]
["pp5_bl4_11_2_unit",{"$f":"'T2-B(PP5)'!$C$325","v":0},"#'T2-B(PP5)'!$C$325"]
["pp5_bl4_11_2_unit_in",{"$f":"'T2-B(PP5)'!$D$325","v":0},"#'T2-B(PP5)'!$D$325"]
["pp5_bl4_11_2_units_out",{"$f":"'T2-B(PP5)'!$G$325","v":0},"#'T2-B(PP5)'!$G$325"]
["pp5_bl4_11_3_name",{"$f":"'T2-B(PP5)'!$B$326","v":0},"#'T2-B(PP5)'!$B$326"]
["pp5_bl4_11_3_rate_in",{"$f":"'T2-B(PP5)'!$E$326","v":0},"#'T2-B(PP5)'!$E$326"]
["pp5_bl4_11_3_rate_out",{"$f":"'T2-B(PP5)'!$H$326","v":0},"#'T2-B(PP5)'!$H$326"]
["pp5_bl4_11_3_total",{"$f":"'T2-B(PP5)'!$J$326","v":0},"#'T2-B(PP5)'!$J$326"]
["pp5_bl4_11_3_total_in",{"$f":"'T2-B(PP5)'!$F$326","v":0},"#'T2-B(PP5)'!$F$326"]
["pp5_bl4_11_3_total_out",{"$f":"'T2-B(PP5)'!$I$326","v":0},"#'T2-B(PP5)'!$I$326"]
["pp5_bl4_11_3_unit",{"$f":"'T2-B(PP5)'!$C$326","v":0},"#'T2-B(PP5)'!$C$326"]
["pp5_bl4_11_3_unit_in",{"$f":"'T2-B(PP5)'!$D$326","v":0},"#'T2-B(PP5)'!$D$326"]
["pp5_bl4_11_3_units_out",{"$f":"'T2-B(PP5)'!$G$326","v":0},"#'T2-B(PP5)'!$G$326"]
["pp5_bl4_11_4_name",{"$f":"'T2-B(PP5)'!$B$327","v":0},"#'T2-B(PP5)'!$B$327"]
["pp5_bl4_11_4_rate_in",{"$f":"'T2-B(PP5)'!$E$327","v":0},"#'T2-B(PP5)'!$E$327"]
["pp5_bl4_11_4_rate_out",{"$f":"'T2-B(PP5)'!$H$327","v":0},"#'T2-B(PP5)'!$H$327"]
["pp5_bl4_11_4_total",{"$f":"'T2-B(PP5)'!$J$327","v":0},"#'T2-B(PP5)'!$J$327"]
["pp5_bl4_11_4_total_in",{"$f":"'T2-B(PP5)'!$F$327","v":0},"#'T2-B(PP5)'!$F$327"]
["pp5_bl4_11_4_total_out",{"$f":"'T2-B(PP5)'!$I$327","v":0},"#'T2-B(PP5)'!$I$327"]
["pp5_bl4_11_4_unit",{"$f":"'T2-B(PP5)'!$C$327","v":0},"#'T2-B(PP5)'!$C$327"]
["pp5_bl4_11_4_unit_in",{"$f":"'T2-B(PP5)'!$D$327","v":0},"#'T2-B(PP5)'!$D$327"]
["pp5_bl4_11_4_units_out",{"$f":"'T2-B(PP5)'!$G$327","v":0},"#'T2-B(PP5)'!$G$327"]
["pp5_bl4_11_5_name",{"$f":"'T2-B(PP5)'!$B$328","v":0},"#'T2-B(PP5)'!$B$328"]
["pp5_bl4_11_5_rate_in",{"$f":"'T2-B(PP5)'!$E$328","v":0},"#'T2-B(PP5)'!$E$328"]
["pp5_bl4_11_5_rate_out",{"$f":"'T2-B(PP5)'!$H$328","v":0},"#'T2-B(PP5)'!$H$328"]
["pp5_bl4_11_5_total",{"$f":"'T2-B(PP5)'!$J$328","v":0},"#'T2-B(PP5)'!$J$328"]
["pp5_bl4_11_5_total_in",{"$f":"'T2-B(PP5)'!$F$328","v":0},"#'T2-B(PP5)'!$F$328"]
["pp5_bl4_11_5_total_out",{"$f":"'T2-B(PP5)'!$I$328","v":0},"#'T2-B(PP5)'!$I$328"]
["pp5_bl4_11_5_unit",{"$f":"'T2-B(PP5)'!$C$328","v":0},"#'T2-B(PP5)'!$C$328"]
["pp5_bl4_11_5_unit_in",{"$f":"'T2-B(PP5)'!$D$328","v":0},"#'T2-B(PP5)'!$D$328"]
["pp5_bl4_11_5_units_out",{"$f":"'T2-B(PP5)'!$G$328","v":0},"#'T2-B(PP5)'!$G$328"]
["pp5_bl4_11_6_name",{"$f":"'T2-B(PP5)'!$B$329","v":0},"#'T2-B(PP5)'!$B$329"]
["pp5_bl4_11_6_rate_in",{"$f":"'T2-B(PP5)'!$E$329","v":0},"#'T2-B(PP5)'!$E$329"]
["pp5_bl4_11_6_rate_out",{"$f":"'T2-B(PP5)'!$H$329","v":0},"#'T2-B(PP5)'!$H$329"]
["pp5_bl4_11_6_total",{"$f":"'T2-B(PP5)'!$J$329","v":0},"#'T2-B(PP5)'!$J$329"]
["pp5_bl4_11_6_total_in",{"$f":"'T2-B(PP5)'!$F$329","v":0},"#'T2-B(PP5)'!$F$329"]
["pp5_bl4_11_6_total_out",{"$f":"'T2-B(PP5)'!$I$329","v":0},"#'T2-B(PP5)'!$I$329"]
["pp5_bl4_11_6_unit",{"$f":"'T2-B(PP5)'!$C$329","v":0},"#'T2-B(PP5)'!$C$329"]
["pp5_bl4_11_6_unit_in",{"$f":"'T2-B(PP5)'!$D$329","v":0},"#'T2-B(PP5)'!$D$329"]
["pp5_bl4_11_6_units_out",{"$f":"'T2-B(PP5)'!$G$329","v":0},"#'T2-B(PP5)'!$G$329"]
["pp5_bl4_11_7_name",{"$f":"'T2-B(PP5)'!$B$330","v":0},"#'T2-B(PP5)'!$B$330"]
["pp5_bl4_11_7_rate_in",{"$f":"'T2-B(PP5)'!$E$330","v":0},"#'T2-B(PP5)'!$E$330"]
["pp5_bl4_11_7_rate_out",{"$f":"'T2-B(PP5)'!$H$330","v":0},"#'T2-B(PP5)'!$H$330"]
["pp5_bl4_11_7_total",{"$f":"'T2-B(PP5)'!$J$330","v":0},"#'T2-B(PP5)'!$J$330"]
["pp5_bl4_11_7_total_in",{"$f":"'T2-B(PP5)'!$F$330","v":0},"#'T2-B(PP5)'!$F$330"]
["pp5_bl4_11_7_total_out",{"$f":"'T2-B(PP5)'!$I$330","v":0},"#'T2-B(PP5)'!$I$330"]
["pp5_bl4_11_7_unit",{"$f":"'T2-B(PP5)'!$C$330","v":0},"#'T2-B(PP5)'!$C$330"]
["pp5_bl4_11_7_unit_in",{"$f":"'T2-B(PP5)'!$D$330","v":0},"#'T2-B(PP5)'!$D$330"]
["pp5_bl4_11_7_units_out",{"$f":"'T2-B(PP5)'!$G$330","v":0},"#'T2-B(PP5)'!$G$330"]
["pp5_bl4_11_8_name",{"$f":"'T2-B(PP5)'!$B$331","v":0},"#'T2-B(PP5)'!$B$331"]
["pp5_bl4_11_8_rate_in",{"$f":"'T2-B(PP5)'!$E$331","v":0},"#'T2-B(PP5)'!$E$331"]
["pp5_bl4_11_8_rate_out",{"$f":"'T2-B(PP5)'!$H$331","v":0},"#'T2-B(PP5)'!$H$331"]
["pp5_bl4_11_8_total",{"$f":"'T2-B(PP5)'!$J$331","v":0},"#'T2-B(PP5)'!$J$331"]
["pp5_bl4_11_8_total_in",{"$f":"'T2-B(PP5)'!$F$331","v":0},"#'T2-B(PP5)'!$F$331"]
["pp5_bl4_11_8_total_out",{"$f":"'T2-B(PP5)'!$I$331","v":0},"#'T2-B(PP5)'!$I$331"]
["pp5_bl4_11_8_unit",{"$f":"'T2-B(PP5)'!$C$331","v":0},"#'T2-B(PP5)'!$C$331"]
["pp5_bl4_11_8_unit_in",{"$f":"'T2-B(PP5)'!$D$331","v":0},"#'T2-B(PP5)'!$D$331"]
["pp5_bl4_11_8_units_out",{"$f":"'T2-B(PP5)'!$G$331","v":0},"#'T2-B(PP5)'!$G$331"]
["pp5_bl4_11_9_name",{"$f":"'T2-B(PP5)'!$B$332","v":0},"#'T2-B(PP5)'!$B$332"]
["pp5_bl4_11_9_rate_in",{"$f":"'T2-B(PP5)'!$E$332","v":0},"#'T2-B(PP5)'!$E$332"]
["pp5_bl4_11_9_rate_out",{"$f":"'T2-B(PP5)'!$H$332","v":0},"#'T2-B(PP5)'!$H$332"]
["pp5_bl4_11_9_total",{"$f":"'T2-B(PP5)'!$J$332","v":0},"#'T2-B(PP5)'!$J$332"]
["pp5_bl4_11_9_total_in",{"$f":"'T2-B(PP5)'!$F$332","v":0},"#'T2-B(PP5)'!$F$332"]
["pp5_bl4_11_9_total_out",{"$f":"'T2-B(PP5)'!$I$332","v":0},"#'T2-B(PP5)'!$I$332"]
["pp5_bl4_11_9_unit",{"$f":"'T2-B(PP5)'!$C$332","v":0},"#'T2-B(PP5)'!$C$332"]
["pp5_bl4_11_9_unit_in",{"$f":"'T2-B(PP5)'!$D$332","v":0},"#'T2-B(PP5)'!$D$332"]
["pp5_bl4_11_9_units_out",{"$f":"'T2-B(PP5)'!$G$332","v":0},"#'T2-B(PP5)'!$G$332"]
["pp5_bl4_11_total",{"$f":"'T2-B(PP5)'!$J$323","v":0},"#'T2-B(PP5)'!$J$323"]
["pp5_bl4_11_total_in",{"$f":"'T2-B(PP5)'!$F$323","v":0},"#'T2-B(PP5)'!$F$323"]
["pp5_bl4_11_total_out",{"$f":"'T2-B(PP5)'!$I$323","v":0},"#'T2-B(PP5)'!$I$323"]
["pp5_bl4_12_1_name",{"$f":"'T2-B(PP5)'!$B$345","v":0},"#'T2-B(PP5)'!$B$345"]
["pp5_bl4_12_1_rate_in",{"$f":"'T2-B(PP5)'!$E$345","v":0},"#'T2-B(PP5)'!$E$345"]
["pp5_bl4_12_1_rate_out",{"$f":"'T2-B(PP5)'!$H$345","v":0},"#'T2-B(PP5)'!$H$345"]
["pp5_bl4_12_1_total",{"$f":"'T2-B(PP5)'!$J$345","v":0},"#'T2-B(PP5)'!$J$345"]
["pp5_bl4_12_1_total_in",{"$f":"'T2-B(PP5)'!$F$345","v":0},"#'T2-B(PP5)'!$F$345"]
["pp5_bl4_12_1_total_out",{"$f":"'T2-B(PP5)'!$I$345","v":0},"#'T2-B(PP5)'!$I$345"]
["pp5_bl4_12_1_unit",{"$f":"'T2-B(PP5)'!$C$345","v":0},"#'T2-B(PP5)'!$C$345"]
["pp5_bl4_12_1_unit_in",{"$f":"'T2-B(PP5)'!$D$345","v":0},"#'T2-B(PP5)'!$D$345"]
["pp5_bl4_12_1_units_out",{"$f":"'T2-B(PP5)'!$G$345","v":0},"#'T2-B(PP5)'!$G$345"]
["pp5_bl4_12_10_name",{"$f":"'T2-B(PP5)'!$B$354","v":0},"#'T2-B(PP5)'!$B$354"]
["pp5_bl4_12_10_rate_in",{"$f":"'T2-B(PP5)'!$E$354","v":0},"#'T2-B(PP5)'!$E$354"]
["pp5_bl4_12_10_rate_out",{"$f":"'T2-B(PP5)'!$H$354","v":0},"#'T2-B(PP5)'!$H$354"]
["pp5_bl4_12_10_total",{"$f":"'T2-B(PP5)'!$J$354","v":0},"#'T2-B(PP5)'!$J$354"]
["pp5_bl4_12_10_total_in",{"$f":"'T2-B(PP5)'!$F$354","v":0},"#'T2-B(PP5)'!$F$354"]
["pp5_bl4_12_10_total_out",{"$f":"'T2-B(PP5)'!$I$354","v":0},"#'T2-B(PP5)'!$I$354"]
["pp5_bl4_12_10_unit",{"$f":"'T2-B(PP5)'!$C$354","v":0},"#'T2-B(PP5)'!$C$354"]
["pp5_bl4_12_10_unit_in",{"$f":"'T2-B(PP5)'!$D$354","v":0},"#'T2-B(PP5)'!$D$354"]
["pp5_bl4_12_10_units_out",{"$f":"'T2-B(PP5)'!$G$354","v":0},"#'T2-B(PP5)'!$G$354"]
["pp5_bl4_12_2_name",{"$f":"'T2-B(PP5)'!$B$346","v":0},"#'T2-B(PP5)'!$B$346"]
["pp5_bl4_12_2_rate_in",{"$f":"'T2-B(PP5)'!$E$346","v":0},"#'T2-B(PP5)'!$E$346"]
["pp5_bl4_12_2_rate_out",{"$f":"'T2-B(PP5)'!$H$346","v":0},"#'T2-B(PP5)'!$H$346"]
["pp5_bl4_12_2_total",{"$f":"'T2-B(PP5)'!$J$346","v":0},"#'T2-B(PP5)'!$J$346"]
["pp5_bl4_12_2_total_in",{"$f":"'T2-B(PP5)'!$F$346","v":0},"#'T2-B(PP5)'!$F$346"]
["pp5_bl4_12_2_total_out",{"$f":"'T2-B(PP5)'!$I$346","v":0},"#'T2-B(PP5)'!$I$346"]
["pp5_bl4_12_2_unit",{"$f":"'T2-B(PP5)'!$C$346","v":0},"#'T2-B(PP5)'!$C$346"]
["pp5_bl4_12_2_unit_in",{"$f":"'T2-B(PP5)'!$D$346","v":0},"#'T2-B(PP5)'!$D$346"]
["pp5_bl4_12_2_units_out",{"$f":"'T2-B(PP5)'!$G$346","v":0},"#'T2-B(PP5)'!$G$346"]
["pp5_bl4_12_3_name",{"$f":"'T2-B(PP5)'!$B$347","v":0},"#'T2-B(PP5)'!$B$347"]
["pp5_bl4_12_3_rate_in",{"$f":"'T2-B(PP5)'!$E$347","v":0},"#'T2-B(PP5)'!$E$347"]
["pp5_bl4_12_3_rate_out",{"$f":"'T2-B(PP5)'!$H$347","v":0},"#'T2-B(PP5)'!$H$347"]
["pp5_bl4_12_3_total",{"$f":"'T2-B(PP5)'!$J$347","v":0},"#'T2-B(PP5)'!$J$347"]
["pp5_bl4_12_3_total_in",{"$f":"'T2-B(PP5)'!$F$347","v":0},"#'T2-B(PP5)'!$F$347"]
["pp5_bl4_12_3_total_out",{"$f":"'T2-B(PP5)'!$I$347","v":0},"#'T2-B(PP5)'!$I$347"]
["pp5_bl4_12_3_unit",{"$f":"'T2-B(PP5)'!$C$347","v":0},"#'T2-B(PP5)'!$C$347"]
["pp5_bl4_12_3_unit_in",{"$f":"'T2-B(PP5)'!$D$347","v":0},"#'T2-B(PP5)'!$D$347"]
["pp5_bl4_12_3_units_out",{"$f":"'T2-B(PP5)'!$G$347","v":0},"#'T2-B(PP5)'!$G$347"]
["pp5_bl4_12_4_name",{"$f":"'T2-B(PP5)'!$B$348","v":0},"#'T2-B(PP5)'!$B$348"]
["pp5_bl4_12_4_rate_in",{"$f":"'T2-B(PP5)'!$E$348","v":0},"#'T2-B(PP5)'!$E$348"]
["pp5_bl4_12_4_rate_out",{"$f":"'T2-B(PP5)'!$H$348","v":0},"#'T2-B(PP5)'!$H$348"]
["pp5_bl4_12_4_total",{"$f":"'T2-B(PP5)'!$J$348","v":0},"#'T2-B(PP5)'!$J$348"]
["pp5_bl4_12_4_total_in",{"$f":"'T2-B(PP5)'!$F$348","v":0},"#'T2-B(PP5)'!$F$348"]
["pp5_bl4_12_4_total_out",{"$f":"'T2-B(PP5)'!$I$348","v":0},"#'T2-B(PP5)'!$I$348"]
["pp5_bl4_12_4_unit",{"$f":"'T2-B(PP5)'!$C$348","v":0},"#'T2-B(PP5)'!$C$348"]
["pp5_bl4_12_4_unit_in",{"$f":"'T2-B(PP5)'!$D$348","v":0},"#'T2-B(PP5)'!$D$348"]
["pp5_bl4_12_4_units_out",{"$f":"'T2-B(PP5)'!$G$348","v":0},"#'T2-B(PP5)'!$G$348"]
["pp5_bl4_12_5_name",{"$f":"'T2-B(PP5)'!$B$349","v":0},"#'T2-B(PP5)'!$B$349"]
["pp5_bl4_12_5_rate_in",{"$f":"'T2-B(PP5)'!$E$349","v":0},"#'T2-B(PP5)'!$E$349"]
["pp5_bl4_12_5_rate_out",{"$f":"'T2-B(PP5)'!$H$349","v":0},"#'T2-B(PP5)'!$H$349"]
["pp5_bl4_12_5_total",{"$f":"'T2-B(PP5)'!$J$349","v":0},"#'T2-B(PP5)'!$J$349"]
["pp5_bl4_12_5_total_in",{"$f":"'T2-B(PP5)'!$F$349","v":0},"#'T2-B(PP5)'!$F$349"]
["pp5_bl4_12_5_total_out",{"$f":"'T2-B(PP5)'!$I$349","v":0},"#'T2-B(PP5)'!$I$349"]
["pp5_bl4_12_5_unit",{"$f":"'T2-B(PP5)'!$C$349","v":0},"#'T2-B(PP5)'!$C$349"]
["pp5_bl4_12_5_unit_in",{"$f":"'T2-B(PP5)'!$D$349","v":0},"#'T2-B(PP5)'!$D$349"]
["pp5_bl4_12_5_units_out",{"$f":"'T2-B(PP5)'!$G$349","v":0},"#'T2-B(PP5)'!$G$349"]
["pp5_bl4_12_6_name",{"$f":"'T2-B(PP5)'!$B$350","v":0},"#'T2-B(PP5)'!$B$350"]
["pp5_bl4_12_6_rate_in",{"$f":"'T2-B(PP5)'!$E$350","v":0},"#'T2-B(PP5)'!$E$350"]
["pp5_bl4_12_6_rate_out",{"$f":"'T2-B(PP5)'!$H$350","v":0},"#'T2-B(PP5)'!$H$350"]
["pp5_bl4_12_6_total",{"$f":"'T2-B(PP5)'!$J$350","v":0},"#'T2-B(PP5)'!$J$350"]
["pp5_bl4_12_6_total_in",{"$f":"'T2-B(PP5)'!$F$350","v":0},"#'T2-B(PP5)'!$F$350"]
["pp5_bl4_12_6_total_out",{"$f":"'T2-B(PP5)'!$I$350","v":0},"#'T2-B(PP5)'!$I$350"]
["pp5_bl4_12_6_unit",{"$f":"'T2-B(PP5)'!$C$350","v":0},"#'T2-B(PP5)'!$C$350"]
["pp5_bl4_12_6_unit_in",{"$f":"'T2-B(PP5)'!$D$350","v":0},"#'T2-B(PP5)'!$D$350"]
["pp5_bl4_12_6_units_out",{"$f":"'T2-B(PP5)'!$G$350","v":0},"#'T2-B(PP5)'!$G$350"]
["pp5_bl4_12_7_name",{"$f":"'T2-B(PP5)'!$B$351","v":0},"#'T2-B(PP5)'!$B$351"]
["pp5_bl4_12_7_rate_in",{"$f":"'T2-B(PP5)'!$E$351","v":0},"#'T2-B(PP5)'!$E$351"]
["pp5_bl4_12_7_rate_out",{"$f":"'T2-B(PP5)'!$H$351","v":0},"#'T2-B(PP5)'!$H$351"]
["pp5_bl4_12_7_total",{"$f":"'T2-B(PP5)'!$J$351","v":0},"#'T2-B(PP5)'!$J$351"]
["pp5_bl4_12_7_total_in",{"$f":"'T2-B(PP5)'!$F$351","v":0},"#'T2-B(PP5)'!$F$351"]
["pp5_bl4_12_7_total_out",{"$f":"'T2-B(PP5)'!$I$351","v":0},"#'T2-B(PP5)'!$I$351"]
["pp5_bl4_12_7_unit",{"$f":"'T2-B(PP5)'!$C$351","v":0},"#'T2-B(PP5)'!$C$351"]
["pp5_bl4_12_7_unit_in",{"$f":"'T2-B(PP5)'!$D$351","v":0},"#'T2-B(PP5)'!$D$351"]
["pp5_bl4_12_7_units_out",{"$f":"'T2-B(PP5)'!$G$351","v":0},"#'T2-B(PP5)'!$G$351"]
["pp5_bl4_12_8_name",{"$f":"'T2-B(PP5)'!$B$352","v":0},"#'T2-B(PP5)'!$B$352"]
["pp5_bl4_12_8_rate_in",{"$f":"'T2-B(PP5)'!$E$352","v":0},"#'T2-B(PP5)'!$E$352"]
["pp5_bl4_12_8_rate_out",{"$f":"'T2-B(PP5)'!$H$352","v":0},"#'T2-B(PP5)'!$H$352"]
["pp5_bl4_12_8_total",{"$f":"'T2-B(PP5)'!$J$352","v":0},"#'T2-B(PP5)'!$J$352"]
["pp5_bl4_12_8_total_in",{"$f":"'T2-B(PP5)'!$F$352","v":0},"#'T2-B(PP5)'!$F$352"]
["pp5_bl4_12_8_total_out",{"$f":"'T2-B(PP5)'!$I$352","v":0},"#'T2-B(PP5)'!$I$352"]
["pp5_bl4_12_8_unit",{"$f":"'T2-B(PP5)'!$C$352","v":0},"#'T2-B(PP5)'!$C$352"]
["pp5_bl4_12_8_unit_in",{"$f":"'T2-B(PP5)'!$D$352","v":0},"#'T2-B(PP5)'!$D$352"]
["pp5_bl4_12_8_units_out",{"$f":"'T2-B(PP5)'!$G$352","v":0},"#'T2-B(PP5)'!$G$352"]
["pp5_bl4_12_9_name",{"$f":"'T2-B(PP5)'!$B$353","v":0},"#'T2-B(PP5)'!$B$353"]
["pp5_bl4_12_9_rate_in",{"$f":"'T2-B(PP5)'!$E$353","v":0},"#'T2-B(PP5)'!$E$353"]
["pp5_bl4_12_9_rate_out",{"$f":"'T2-B(PP5)'!$H$353","v":0},"#'T2-B(PP5)'!$H$353"]
["pp5_bl4_12_9_total",{"$f":"'T2-B(PP5)'!$J$353","v":0},"#'T2-B(PP5)'!$J$353"]
["pp5_bl4_12_9_total_in",{"$f":"'T2-B(PP5)'!$F$353","v":0},"#'T2-B(PP5)'!$F$353"]
["pp5_bl4_12_9_total_out",{"$f":"'T2-B(PP5)'!$I$353","v":0},"#'T2-B(PP5)'!$I$353"]
["pp5_bl4_12_9_unit",{"$f":"'T2-B(PP5)'!$C$353","v":0},"#'T2-B(PP5)'!$C$353"]
["pp5_bl4_12_9_unit_in",{"$f":"'T2-B(PP5)'!$D$353","v":0},"#'T2-B(PP5)'!$D$353"]
["pp5_bl4_12_9_units_out",{"$f":"'T2-B(PP5)'!$G$353","v":0},"#'T2-B(PP5)'!$G$353"]
["pp5_bl4_12_total",{"$f":"'T2-B(PP5)'!$J$344","v":0},"#'T2-B(PP5)'!$J$344"]
["pp5_bl4_12_total_in",{"$f":"'T2-B(PP5)'!$F$344","v":0},"#'T2-B(PP5)'!$F$344"]
["pp5_bl4_12_total_out",{"$f":"'T2-B(PP5)'!$I$344","v":0},"#'T2-B(PP5)'!$I$344"]
["pp5_bl4_2_1_name",{"$f":"'T2-B(PP5)'!$B$135","v":0},"#'T2-B(PP5)'!$B$135"]
["pp5_bl4_2_1_rate_in",{"$f":"'T2-B(PP5)'!$E$135","v":0},"#'T2-B(PP5)'!$E$135"]
["pp5_bl4_2_1_rate_out",{"$f":"'T2-B(PP5)'!$H$135","v":0},"#'T2-B(PP5)'!$H$135"]
["pp5_bl4_2_1_total",{"$f":"'T2-B(PP5)'!$J$135","v":0},"#'T2-B(PP5)'!$J$135"]
["pp5_bl4_2_1_total_in",{"$f":"'T2-B(PP5)'!$F$135","v":0},"#'T2-B(PP5)'!$F$135"]
["pp5_bl4_2_1_total_out",{"$f":"'T2-B(PP5)'!$I$135","v":0},"#'T2-B(PP5)'!$I$135"]
["pp5_bl4_2_1_unit",{"$f":"'T2-B(PP5)'!$C$135","v":0},"#'T2-B(PP5)'!$C$135"]
["pp5_bl4_2_1_unit_in",{"$f":"'T2-B(PP5)'!$D$135","v":0},"#'T2-B(PP5)'!$D$135"]
["pp5_bl4_2_1_units_out",{"$f":"'T2-B(PP5)'!$G$135","v":0},"#'T2-B(PP5)'!$G$135"]
["pp5_bl4_2_10_name",{"$f":"'T2-B(PP5)'!$B$144","v":0},"#'T2-B(PP5)'!$B$144"]
["pp5_bl4_2_10_rate_in",{"$f":"'T2-B(PP5)'!$E$144","v":0},"#'T2-B(PP5)'!$E$144"]
["pp5_bl4_2_10_rate_out",{"$f":"'T2-B(PP5)'!$H$144","v":0},"#'T2-B(PP5)'!$H$144"]
["pp5_bl4_2_10_total",{"$f":"'T2-B(PP5)'!$J$144","v":0},"#'T2-B(PP5)'!$J$144"]
["pp5_bl4_2_10_total_in",{"$f":"'T2-B(PP5)'!$F$144","v":0},"#'T2-B(PP5)'!$F$144"]
["pp5_bl4_2_10_total_out",{"$f":"'T2-B(PP5)'!$I$144","v":0},"#'T2-B(PP5)'!$I$144"]
["pp5_bl4_2_10_unit",{"$f":"'T2-B(PP5)'!$C$144","v":0},"#'T2-B(PP5)'!$C$144"]
["pp5_bl4_2_10_unit_in",{"$f":"'T2-B(PP5)'!$D$144","v":0},"#'T2-B(PP5)'!$D$144"]
["pp5_bl4_2_10_units_out",{"$f":"'T2-B(PP5)'!$G$144","v":0},"#'T2-B(PP5)'!$G$144"]
["pp5_bl4_2_2_name",{"$f":"'T2-B(PP5)'!$B$136","v":0},"#'T2-B(PP5)'!$B$136"]
["pp5_bl4_2_2_rate_in",{"$f":"'T2-B(PP5)'!$E$136","v":0},"#'T2-B(PP5)'!$E$136"]
["pp5_bl4_2_2_rate_out",{"$f":"'T2-B(PP5)'!$H$136","v":0},"#'T2-B(PP5)'!$H$136"]
["pp5_bl4_2_2_total",{"$f":"'T2-B(PP5)'!$J$136","v":0},"#'T2-B(PP5)'!$J$136"]
["pp5_bl4_2_2_total_in",{"$f":"'T2-B(PP5)'!$F$136","v":0},"#'T2-B(PP5)'!$F$136"]
["pp5_bl4_2_2_total_out",{"$f":"'T2-B(PP5)'!$I$136","v":0},"#'T2-B(PP5)'!$I$136"]
["pp5_bl4_2_2_unit",{"$f":"'T2-B(PP5)'!$C$136","v":0},"#'T2-B(PP5)'!$C$136"]
["pp5_bl4_2_2_unit_in",{"$f":"'T2-B(PP5)'!$D$136","v":0},"#'T2-B(PP5)'!$D$136"]
["pp5_bl4_2_2_units_out",{"$f":"'T2-B(PP5)'!$G$136","v":0},"#'T2-B(PP5)'!$G$136"]
["pp5_bl4_2_3_name",{"$f":"'T2-B(PP5)'!$B$137","v":0},"#'T2-B(PP5)'!$B$137"]
["pp5_bl4_2_3_rate_in",{"$f":"'T2-B(PP5)'!$E$137","v":0},"#'T2-B(PP5)'!$E$137"]
["pp5_bl4_2_3_rate_out",{"$f":"'T2-B(PP5)'!$H$137","v":0},"#'T2-B(PP5)'!$H$137"]
["pp5_bl4_2_3_total",{"$f":"'T2-B(PP5)'!$J$137","v":0},"#'T2-B(PP5)'!$J$137"]
["pp5_bl4_2_3_total_in",{"$f":"'T2-B(PP5)'!$F$137","v":0},"#'T2-B(PP5)'!$F$137"]
["pp5_bl4_2_3_total_out",{"$f":"'T2-B(PP5)'!$I$137","v":0},"#'T2-B(PP5)'!$I$137"]
["pp5_bl4_2_3_unit",{"$f":"'T2-B(PP5)'!$C$137","v":0},"#'T2-B(PP5)'!$C$137"]
["pp5_bl4_2_3_unit_in",{"$f":"'T2-B(PP5)'!$D$137","v":0},"#'T2-B(PP5)'!$D$137"]
["pp5_bl4_2_3_units_out",{"$f":"'T2-B(PP5)'!$G$137","v":0},"#'T2-B(PP5)'!$G$137"]
["pp5_bl4_2_4_name",{"$f":"'T2-B(PP5)'!$B$138","v":0},"#'T2-B(PP5)'!$B$138"]
["pp5_bl4_2_4_rate_in",{"$f":"'T2-B(PP5)'!$E$138","v":0},"#'T2-B(PP5)'!$E$138"]
["pp5_bl4_2_4_rate_out",{"$f":"'T2-B(PP5)'!$H$138","v":0},"#'T2-B(PP5)'!$H$138"]
["pp5_bl4_2_4_total",{"$f":"'T2-B(PP5)'!$J$138","v":0},"#'T2-B(PP5)'!$J$138"]
["pp5_bl4_2_4_total_in",{"$f":"'T2-B(PP5)'!$F$138","v":0},"#'T2-B(PP5)'!$F$138"]
["pp5_bl4_2_4_total_out",{"$f":"'T2-B(PP5)'!$I$138","v":0},"#'T2-B(PP5)'!$I$138"]
["pp5_bl4_2_4_unit",{"$f":"'T2-B(PP5)'!$C$138","v":0},"#'T2-B(PP5)'!$C$138"]
["pp5_bl4_2_4_unit_in",{"$f":"'T2-B(PP5)'!$D$138","v":0},"#'T2-B(PP5)'!$D$138"]
["pp5_bl4_2_4_units_out",{"$f":"'T2-B(PP5)'!$G$138","v":0},"#'T2-B(PP5)'!$G$138"]
["pp5_bl4_2_5_name",{"$f":"'T2-B(PP5)'!$B$139","v":0},"#'T2-B(PP5)'!$B$139"]
["pp5_bl4_2_5_rate_in",{"$f":"'T2-B(PP5)'!$E$139","v":0},"#'T2-B(PP5)'!$E$139"]
["pp5_bl4_2_5_rate_out",{"$f":"'T2-B(PP5)'!$H$139","v":0},"#'T2-B(PP5)'!$H$139"]
["pp5_bl4_2_5_total",{"$f":"'T2-B(PP5)'!$J$139","v":0},"#'T2-B(PP5)'!$J$139"]
["pp5_bl4_2_5_total_in",{"$f":"'T2-B(PP5)'!$F$139","v":0},"#'T2-B(PP5)'!$F$139"]
["pp5_bl4_2_5_total_out",{"$f":"'T2-B(PP5)'!$I$139","v":0},"#'T2-B(PP5)'!$I$139"]
["pp5_bl4_2_5_unit",{"$f":"'T2-B(PP5)'!$C$139","v":0},"#'T2-B(PP5)'!$C$139"]
["pp5_bl4_2_5_unit_in",{"$f":"'T2-B(PP5)'!$D$139","v":0},"#'T2-B(PP5)'!$D$139"]
["pp5_bl4_2_5_units_out",{"$f":"'T2-B(PP5)'!$G$139","v":0},"#'T2-B(PP5)'!$G$139"]
["pp5_bl4_2_6_name",{"$f":"'T2-B(PP5)'!$B$140","v":0},"#'T2-B(PP5)'!$B$140"]
["pp5_bl4_2_6_rate_in",{"$f":"'T2-B(PP5)'!$E$140","v":0},"#'T2-B(PP5)'!$E$140"]
["pp5_bl4_2_6_rate_out",{"$f":"'T2-B(PP5)'!$H$140","v":0},"#'T2-B(PP5)'!$H$140"]
["pp5_bl4_2_6_total",{"$f":"'T2-B(PP5)'!$J$140","v":0},"#'T2-B(PP5)'!$J$140"]
["pp5_bl4_2_6_total_in",{"$f":"'T2-B(PP5)'!$F$140","v":0},"#'T2-B(PP5)'!$F$140"]
["pp5_bl4_2_6_total_out",{"$f":"'T2-B(PP5)'!$I$140","v":0},"#'T2-B(PP5)'!$I$140"]
["pp5_bl4_2_6_unit",{"$f":"'T2-B(PP5)'!$C$140","v":0},"#'T2-B(PP5)'!$C$140"]
["pp5_bl4_2_6_unit_in",{"$f":"'T2-B(PP5)'!$D$140","v":0},"#'T2-B(PP5)'!$D$140"]
["pp5_bl4_2_6_units_out",{"$f":"'T2-B(PP5)'!$G$140","v":0},"#'T2-B(PP5)'!$G$140"]
["pp5_bl4_2_7_name",{"$f":"'T2-B(PP5)'!$B$141","v":0},"#'T2-B(PP5)'!$B$141"]
["pp5_bl4_2_7_rate_in",{"$f":"'T2-B(PP5)'!$E$141","v":0},"#'T2-B(PP5)'!$E$141"]
["pp5_bl4_2_7_rate_out",{"$f":"'T2-B(PP5)'!$H$141","v":0},"#'T2-B(PP5)'!$H$141"]
["pp5_bl4_2_7_total",{"$f":"'T2-B(PP5)'!$J$141","v":0},"#'T2-B(PP5)'!$J$141"]
["pp5_bl4_2_7_total_in",{"$f":"'T2-B(PP5)'!$F$141","v":0},"#'T2-B(PP5)'!$F$141"]
["pp5_bl4_2_7_total_out",{"$f":"'T2-B(PP5)'!$I$141","v":0},"#'T2-B(PP5)'!$I$141"]
["pp5_bl4_2_7_unit",{"$f":"'T2-B(PP5)'!$C$141","v":0},"#'T2-B(PP5)'!$C$141"]
["pp5_bl4_2_7_unit_in",{"$f":"'T2-B(PP5)'!$D$141","v":0},"#'T2-B(PP5)'!$D$141"]
["pp5_bl4_2_7_units_out",{"$f":"'T2-B(PP5)'!$G$141","v":0},"#'T2-B(PP5)'!$G$141"]
["pp5_bl4_2_8_name",{"$f":"'T2-B(PP5)'!$B$142","v":0},"#'T2-B(PP5)'!$B$142"]
["pp5_bl4_2_8_rate_in",{"$f":"'T2-B(PP5)'!$E$142","v":0},"#'T2-B(PP5)'!$E$142"]
["pp5_bl4_2_8_rate_out",{"$f":"'T2-B(PP5)'!$H$142","v":0},"#'T2-B(PP5)'!$H$142"]
["pp5_bl4_2_8_total",{"$f":"'T2-B(PP5)'!$J$142","v":0},"#'T2-B(PP5)'!$J$142"]
["pp5_bl4_2_8_total_in",{"$f":"'T2-B(PP5)'!$F$142","v":0},"#'T2-B(PP5)'!$F$142"]
["pp5_bl4_2_8_total_out",{"$f":"'T2-B(PP5)'!$I$142","v":0},"#'T2-B(PP5)'!$I$142"]
["pp5_bl4_2_8_unit",{"$f":"'T2-B(PP5)'!$C$142","v":0},"#'T2-B(PP5)'!$C$142"]
["pp5_bl4_2_8_unit_in",{"$f":"'T2-B(PP5)'!$D$142","v":0},"#'T2-B(PP5)'!$D$142"]
["pp5_bl4_2_8_units_out",{"$f":"'T2-B(PP5)'!$G$142","v":0},"#'T2-B(PP5)'!$G$142"]
["pp5_bl4_2_9_name",{"$f":"'T2-B(PP5)'!$B$143","v":0},"#'T2-B(PP5)'!$B$143"]
["pp5_bl4_2_9_rate_in",{"$f":"'T2-B(PP5)'!$E$143","v":0},"#'T2-B(PP5)'!$E$143"]
["pp5_bl4_2_9_rate_out",{"$f":"'T2-B(PP5)'!$H$143","v":0},"#'T2-B(PP5)'!$H$143"]
["pp5_bl4_2_9_total",{"$f":"'T2-B(PP5)'!$J$143","v":0},"#'T2-B(PP5)'!$J$143"]
["pp5_bl4_2_9_total_in",{"$f":"'T2-B(PP5)'!$F$143","v":0},"#'T2-B(PP5)'!$F$143"]
["pp5_bl4_2_9_total_out",{"$f":"'T2-B(PP5)'!$I$143","v":0},"#'T2-B(PP5)'!$I$143"]
["pp5_bl4_2_9_unit",{"$f":"'T2-B(PP5)'!$C$143","v":0},"#'T2-B(PP5)'!$C$143"]
["pp5_bl4_2_9_unit_in",{"$f":"'T2-B(PP5)'!$D$143","v":0},"#'T2-B(PP5)'!$D$143"]
["pp5_bl4_2_9_units_out",{"$f":"'T2-B(PP5)'!$G$143","v":0},"#'T2-B(PP5)'!$G$143"]
["pp5_bl4_2_total",{"$f":"'T2-B(PP5)'!$J$134","v":0},"#'T2-B(PP5)'!$J$134"]
["pp5_bl4_2_total_in",{"$f":"'T2-B(PP5)'!$F$134","v":0},"#'T2-B(PP5)'!$F$134"]
["pp5_bl4_2_total_out",{"$f":"'T2-B(PP5)'!$I$134","v":0},"#'T2-B(PP5)'!$I$134"]
["pp5_bl4_3_1_name",{"$f":"'T2-B(PP5)'!$B$156","v":0},"#'T2-B(PP5)'!$B$156"]
["pp5_bl4_3_1_rate_in",{"$f":"'T2-B(PP5)'!$E$156","v":0},"#'T2-B(PP5)'!$E$156"]
["pp5_bl4_3_1_rate_out",{"$f":"'T2-B(PP5)'!$H$156","v":0},"#'T2-B(PP5)'!$H$156"]
["pp5_bl4_3_1_total",{"$f":"'T2-B(PP5)'!$J$156","v":0},"#'T2-B(PP5)'!$J$156"]
["pp5_bl4_3_1_total_in",{"$f":"'T2-B(PP5)'!$F$156","v":0},"#'T2-B(PP5)'!$F$156"]
["pp5_bl4_3_1_total_out",{"$f":"'T2-B(PP5)'!$I$156","v":0},"#'T2-B(PP5)'!$I$156"]
["pp5_bl4_3_1_unit",{"$f":"'T2-B(PP5)'!$C$156","v":0},"#'T2-B(PP5)'!$C$156"]
["pp5_bl4_3_1_unit_in",{"$f":"'T2-B(PP5)'!$D$156","v":0},"#'T2-B(PP5)'!$D$156"]
["pp5_bl4_3_1_units_out",{"$f":"'T2-B(PP5)'!$G$156","v":0},"#'T2-B(PP5)'!$G$156"]
["pp5_bl4_3_10_name",{"$f":"'T2-B(PP5)'!$B$165","v":0},"#'T2-B(PP5)'!$B$165"]
["pp5_bl4_3_10_rate_in",{"$f":"'T2-B(PP5)'!$E$165","v":0},"#'T2-B(PP5)'!$E$165"]
["pp5_bl4_3_10_rate_out",{"$f":"'T2-B(PP5)'!$H$165","v":0},"#'T2-B(PP5)'!$H$165"]
["pp5_bl4_3_10_total",{"$f":"'T2-B(PP5)'!$J$165","v":0},"#'T2-B(PP5)'!$J$165"]
["pp5_bl4_3_10_total_in",{"$f":"'T2-B(PP5)'!$F$165","v":0},"#'T2-B(PP5)'!$F$165"]
["pp5_bl4_3_10_total_out",{"$f":"'T2-B(PP5)'!$I$165","v":0},"#'T2-B(PP5)'!$I$165"]
["pp5_bl4_3_10_unit",{"$f":"'T2-B(PP5)'!$C$165","v":0},"#'T2-B(PP5)'!$C$165"]
["pp5_bl4_3_10_unit_in",{"$f":"'T2-B(PP5)'!$D$165","v":0},"#'T2-B(PP5)'!$D$165"]
["pp5_bl4_3_10_units_out",{"$f":"'T2-B(PP5)'!$G$165","v":0},"#'T2-B(PP5)'!$G$165"]
["pp5_bl4_3_2_name",{"$f":"'T2-B(PP5)'!$B$157","v":0},"#'T2-B(PP5)'!$B$157"]
["pp5_bl4_3_2_rate_in",{"$f":"'T2-B(PP5)'!$E$157","v":0},"#'T2-B(PP5)'!$E$157"]
["pp5_bl4_3_2_rate_out",{"$f":"'T2-B(PP5)'!$H$157","v":0},"#'T2-B(PP5)'!$H$157"]
["pp5_bl4_3_2_total",{"$f":"'T2-B(PP5)'!$J$157","v":0},"#'T2-B(PP5)'!$J$157"]
["pp5_bl4_3_2_total_in",{"$f":"'T2-B(PP5)'!$F$157","v":0},"#'T2-B(PP5)'!$F$157"]
["pp5_bl4_3_2_total_out",{"$f":"'T2-B(PP5)'!$I$157","v":0},"#'T2-B(PP5)'!$I$157"]
["pp5_bl4_3_2_unit",{"$f":"'T2-B(PP5)'!$C$157","v":0},"#'T2-B(PP5)'!$C$157"]
["pp5_bl4_3_2_unit_in",{"$f":"'T2-B(PP5)'!$D$157","v":0},"#'T2-B(PP5)'!$D$157"]
["pp5_bl4_3_2_units_out",{"$f":"'T2-B(PP5)'!$G$157","v":0},"#'T2-B(PP5)'!$G$157"]
["pp5_bl4_3_3_name",{"$f":"'T2-B(PP5)'!$B$158","v":0},"#'T2-B(PP5)'!$B$158"]
["pp5_bl4_3_3_rate_in",{"$f":"'T2-B(PP5)'!$E$158","v":0},"#'T2-B(PP5)'!$E$158"]
["pp5_bl4_3_3_rate_out",{"$f":"'T2-B(PP5)'!$H$158","v":0},"#'T2-B(PP5)'!$H$158"]
["pp5_bl4_3_3_total",{"$f":"'T2-B(PP5)'!$J$158","v":0},"#'T2-B(PP5)'!$J$158"]
["pp5_bl4_3_3_total_in",{"$f":"'T2-B(PP5)'!$F$158","v":0},"#'T2-B(PP5)'!$F$158"]
["pp5_bl4_3_3_total_out",{"$f":"'T2-B(PP5)'!$I$158","v":0},"#'T2-B(PP5)'!$I$158"]
["pp5_bl4_3_3_unit",{"$f":"'T2-B(PP5)'!$C$158","v":0},"#'T2-B(PP5)'!$C$158"]
["pp5_bl4_3_3_unit_in",{"$f":"'T2-B(PP5)'!$D$158","v":0},"#'T2-B(PP5)'!$D$158"]
["pp5_bl4_3_3_units_out",{"$f":"'T2-B(PP5)'!$G$158","v":0},"#'T2-B(PP5)'!$G$158"]
["pp5_bl4_3_4_name",{"$f":"'T2-B(PP5)'!$B$159","v":0},"#'T2-B(PP5)'!$B$159"]
["pp5_bl4_3_4_rate_in",{"$f":"'T2-B(PP5)'!$E$159","v":0},"#'T2-B(PP5)'!$E$159"]
["pp5_bl4_3_4_rate_out",{"$f":"'T2-B(PP5)'!$H$159","v":0},"#'T2-B(PP5)'!$H$159"]
["pp5_bl4_3_4_total",{"$f":"'T2-B(PP5)'!$J$159","v":0},"#'T2-B(PP5)'!$J$159"]
["pp5_bl4_3_4_total_in",{"$f":"'T2-B(PP5)'!$F$159","v":0},"#'T2-B(PP5)'!$F$159"]
["pp5_bl4_3_4_total_out",{"$f":"'T2-B(PP5)'!$I$159","v":0},"#'T2-B(PP5)'!$I$159"]
["pp5_bl4_3_4_unit",{"$f":"'T2-B(PP5)'!$C$159","v":0},"#'T2-B(PP5)'!$C$159"]
["pp5_bl4_3_4_unit_in",{"$f":"'T2-B(PP5)'!$D$159","v":0},"#'T2-B(PP5)'!$D$159"]
["pp5_bl4_3_4_units_out",{"$f":"'T2-B(PP5)'!$G$159","v":0},"#'T2-B(PP5)'!$G$159"]
["pp5_bl4_3_5_name",{"$f":"'T2-B(PP5)'!$B$160","v":0},"#'T2-B(PP5)'!$B$160"]
["pp5_bl4_3_5_rate_in",{"$f":"'T2-B(PP5)'!$E$160","v":0},"#'T2-B(PP5)'!$E$160"]
["pp5_bl4_3_5_rate_out",{"$f":"'T2-B(PP5)'!$H$160","v":0},"#'T2-B(PP5)'!$H$160"]
["pp5_bl4_3_5_total",{"$f":"'T2-B(PP5)'!$J$160","v":0},"#'T2-B(PP5)'!$J$160"]
["pp5_bl4_3_5_total_in",{"$f":"'T2-B(PP5)'!$F$160","v":0},"#'T2-B(PP5)'!$F$160"]
["pp5_bl4_3_5_total_out",{"$f":"'T2-B(PP5)'!$I$160","v":0},"#'T2-B(PP5)'!$I$160"]
["pp5_bl4_3_5_unit",{"$f":"'T2-B(PP5)'!$C$160","v":0},"#'T2-B(PP5)'!$C$160"]
["pp5_bl4_3_5_unit_in",{"$f":"'T2-B(PP5)'!$D$160","v":0},"#'T2-B(PP5)'!$D$160"]
["pp5_bl4_3_5_units_out",{"$f":"'T2-B(PP5)'!$G$160","v":0},"#'T2-B(PP5)'!$G$160"]
["pp5_bl4_3_6_name",{"$f":"'T2-B(PP5)'!$B$161","v":0},"#'T2-B(PP5)'!$B$161"]
["pp5_bl4_3_6_rate_in",{"$f":"'T2-B(PP5)'!$E$161","v":0},"#'T2-B(PP5)'!$E$161"]
["pp5_bl4_3_6_rate_out",{"$f":"'T2-B(PP5)'!$H$161","v":0},"#'T2-B(PP5)'!$H$161"]
["pp5_bl4_3_6_total",{"$f":"'T2-B(PP5)'!$J$161","v":0},"#'T2-B(PP5)'!$J$161"]
["pp5_bl4_3_6_total_in",{"$f":"'T2-B(PP5)'!$F$161","v":0},"#'T2-B(PP5)'!$F$161"]
["pp5_bl4_3_6_total_out",{"$f":"'T2-B(PP5)'!$I$161","v":0},"#'T2-B(PP5)'!$I$161"]
["pp5_bl4_3_6_unit",{"$f":"'T2-B(PP5)'!$C$161","v":0},"#'T2-B(PP5)'!$C$161"]
["pp5_bl4_3_6_unit_in",{"$f":"'T2-B(PP5)'!$D$161","v":0},"#'T2-B(PP5)'!$D$161"]
["pp5_bl4_3_6_units_out",{"$f":"'T2-B(PP5)'!$G$161","v":0},"#'T2-B(PP5)'!$G$161"]
["pp5_bl4_3_7_name",{"$f":"'T2-B(PP5)'!$B$162","v":0},"#'T2-B(PP5)'!$B$162"]
["pp5_bl4_3_7_rate_in",{"$f":"'T2-B(PP5)'!$E$162","v":0},"#'T2-B(PP5)'!$E$162"]
["pp5_bl4_3_7_rate_out",{"$f":"'T2-B(PP5)'!$H$162","v":0},"#'T2-B(PP5)'!$H$162"]
["pp5_bl4_3_7_total",{"$f":"'T2-B(PP5)'!$J$162","v":0},"#'T2-B(PP5)'!$J$162"]
["pp5_bl4_3_7_total_in",{"$f":"'T2-B(PP5)'!$F$162","v":0},"#'T2-B(PP5)'!$F$162"]
["pp5_bl4_3_7_total_out",{"$f":"'T2-B(PP5)'!$I$162","v":0},"#'T2-B(PP5)'!$I$162"]
["pp5_bl4_3_7_unit",{"$f":"'T2-B(PP5)'!$C$162","v":0},"#'T2-B(PP5)'!$C$162"]
["pp5_bl4_3_7_unit_in",{"$f":"'T2-B(PP5)'!$D$162","v":0},"#'T2-B(PP5)'!$D$162"]
["pp5_bl4_3_7_units_out",{"$f":"'T2-B(PP5)'!$G$162","v":0},"#'T2-B(PP5)'!$G$162"]
["pp5_bl4_3_8_name",{"$f":"'T2-B(PP5)'!$B$163","v":0},"#'T2-B(PP5)'!$B$163"]
["pp5_bl4_3_8_rate_in",{"$f":"'T2-B(PP5)'!$E$163","v":0},"#'T2-B(PP5)'!$E$163"]
["pp5_bl4_3_8_rate_out",{"$f":"'T2-B(PP5)'!$H$163","v":0},"#'T2-B(PP5)'!$H$163"]
["pp5_bl4_3_8_total",{"$f":"'T2-B(PP5)'!$J$163","v":0},"#'T2-B(PP5)'!$J$163"]
["pp5_bl4_3_8_total_in",{"$f":"'T2-B(PP5)'!$F$163","v":0},"#'T2-B(PP5)'!$F$163"]
["pp5_bl4_3_8_total_out",{"$f":"'T2-B(PP5)'!$I$163","v":0},"#'T2-B(PP5)'!$I$163"]
["pp5_bl4_3_8_unit",{"$f":"'T2-B(PP5)'!$C$163","v":0},"#'T2-B(PP5)'!$C$163"]
["pp5_bl4_3_8_unit_in",{"$f":"'T2-B(PP5)'!$D$163","v":0},"#'T2-B(PP5)'!$D$163"]
["pp5_bl4_3_8_units_out",{"$f":"'T2-B(PP5)'!$G$163","v":0},"#'T2-B(PP5)'!$G$163"]
["pp5_bl4_3_9_name",{"$f":"'T2-B(PP5)'!$B$164","v":0},"#'T2-B(PP5)'!$B$164"]
["pp5_bl4_3_9_rate_in",{"$f":"'T2-B(PP5)'!$E$164","v":0},"#'T2-B(PP5)'!$E$164"]
["pp5_bl4_3_9_rate_out",{"$f":"'T2-B(PP5)'!$H$164","v":0},"#'T2-B(PP5)'!$H$164"]
["pp5_bl4_3_9_total",{"$f":"'T2-B(PP5)'!$J$164","v":0},"#'T2-B(PP5)'!$J$164"]
["pp5_bl4_3_9_total_in",{"$f":"'T2-B(PP5)'!$F$164","v":0},"#'T2-B(PP5)'!$F$164"]
["pp5_bl4_3_9_total_out",{"$f":"'T2-B(PP5)'!$I$164","v":0},"#'T2-B(PP5)'!$I$164"]
["pp5_bl4_3_9_unit",{"$f":"'T2-B(PP5)'!$C$164","v":0},"#'T2-B(PP5)'!$C$164"]
["pp5_bl4_3_9_unit_in",{"$f":"'T2-B(PP5)'!$D$164","v":0},"#'T2-B(PP5)'!$D$164"]
["pp5_bl4_3_9_units_out",{"$f":"'T2-B(PP5)'!$G$164","v":0},"#'T2-B(PP5)'!$G$164"]
["pp5_bl4_3_total",{"$f":"'T2-B(PP5)'!$J$155","v":0},"#'T2-B(PP5)'!$J$155"]
["pp5_bl4_3_total_in",{"$f":"'T2-B(PP5)'!$F$155","v":0},"#'T2-B(PP5)'!$F$155"]
["pp5_bl4_3_total_out",{"$f":"'T2-B(PP5)'!$I$155","v":0},"#'T2-B(PP5)'!$I$155"]
["pp5_bl4_4_1_name",{"$f":"'T2-B(PP5)'!$B$177","v":0},"#'T2-B(PP5)'!$B$177"]
["pp5_bl4_4_1_rate_in",{"$f":"'T2-B(PP5)'!$E$177","v":0},"#'T2-B(PP5)'!$E$177"]
["pp5_bl4_4_1_rate_out",{"$f":"'T2-B(PP5)'!$H$177","v":0},"#'T2-B(PP5)'!$H$177"]
["pp5_bl4_4_1_total",{"$f":"'T2-B(PP5)'!$J$177","v":0},"#'T2-B(PP5)'!$J$177"]
["pp5_bl4_4_1_total_in",{"$f":"'T2-B(PP5)'!$F$177","v":0},"#'T2-B(PP5)'!$F$177"]
["pp5_bl4_4_1_total_out",{"$f":"'T2-B(PP5)'!$I$177","v":0},"#'T2-B(PP5)'!$I$177"]
["pp5_bl4_4_1_unit",{"$f":"'T2-B(PP5)'!$C$177","v":0},"#'T2-B(PP5)'!$C$177"]
["pp5_bl4_4_1_unit_in",{"$f":"'T2-B(PP5)'!$D$177","v":0},"#'T2-B(PP5)'!$D$177"]
["pp5_bl4_4_1_units_out",{"$f":"'T2-B(PP5)'!$G$177","v":0},"#'T2-B(PP5)'!$G$177"]
["pp5_bl4_4_10_name",{"$f":"'T2-B(PP5)'!$B$186","v":0},"#'T2-B(PP5)'!$B$186"]
["pp5_bl4_4_10_rate_in",{"$f":"'T2-B(PP5)'!$E$186","v":0},"#'T2-B(PP5)'!$E$186"]
["pp5_bl4_4_10_rate_out",{"$f":"'T2-B(PP5)'!$H$186","v":0},"#'T2-B(PP5)'!$H$186"]
["pp5_bl4_4_10_total",{"$f":"'T2-B(PP5)'!$J$186","v":0},"#'T2-B(PP5)'!$J$186"]
["pp5_bl4_4_10_total_in",{"$f":"'T2-B(PP5)'!$F$186","v":0},"#'T2-B(PP5)'!$F$186"]
["pp5_bl4_4_10_total_out",{"$f":"'T2-B(PP5)'!$I$186","v":0},"#'T2-B(PP5)'!$I$186"]
["pp5_bl4_4_10_unit",{"$f":"'T2-B(PP5)'!$C$186","v":0},"#'T2-B(PP5)'!$C$186"]
["pp5_bl4_4_10_unit_in",{"$f":"'T2-B(PP5)'!$D$186","v":0},"#'T2-B(PP5)'!$D$186"]
["pp5_bl4_4_10_units_out",{"$f":"'T2-B(PP5)'!$G$186","v":0},"#'T2-B(PP5)'!$G$186"]
["pp5_bl4_4_2_name",{"$f":"'T2-B(PP5)'!$B$178","v":0},"#'T2-B(PP5)'!$B$178"]
["pp5_bl4_4_2_rate_in",{"$f":"'T2-B(PP5)'!$E$178","v":0},"#'T2-B(PP5)'!$E$178"]
["pp5_bl4_4_2_rate_out",{"$f":"'T2-B(PP5)'!$H$178","v":0},"#'T2-B(PP5)'!$H$178"]
["pp5_bl4_4_2_total",{"$f":"'T2-B(PP5)'!$J$178","v":0},"#'T2-B(PP5)'!$J$178"]
["pp5_bl4_4_2_total_in",{"$f":"'T2-B(PP5)'!$F$178","v":0},"#'T2-B(PP5)'!$F$178"]
["pp5_bl4_4_2_total_out",{"$f":"'T2-B(PP5)'!$I$178","v":0},"#'T2-B(PP5)'!$I$178"]
["pp5_bl4_4_2_unit",{"$f":"'T2-B(PP5)'!$C$178","v":0},"#'T2-B(PP5)'!$C$178"]
["pp5_bl4_4_2_unit_in",{"$f":"'T2-B(PP5)'!$D$178","v":0},"#'T2-B(PP5)'!$D$178"]
["pp5_bl4_4_2_units_out",{"$f":"'T2-B(PP5)'!$G$178","v":0},"#'T2-B(PP5)'!$G$178"]
["pp5_bl4_4_3_name",{"$f":"'T2-B(PP5)'!$B$179","v":0},"#'T2-B(PP5)'!$B$179"]
["pp5_bl4_4_3_rate_in",{"$f":"'T2-B(PP5)'!$E$179","v":0},"#'T2-B(PP5)'!$E$179"]
["pp5_bl4_4_3_rate_out",{"$f":"'T2-B(PP5)'!$H$179","v":0},"#'T2-B(PP5)'!$H$179"]
["pp5_bl4_4_3_total",{"$f":"'T2-B(PP5)'!$J$179","v":0},"#'T2-B(PP5)'!$J$179"]
["pp5_bl4_4_3_total_in",{"$f":"'T2-B(PP5)'!$F$179","v":0},"#'T2-B(PP5)'!$F$179"]
["pp5_bl4_4_3_total_out",{"$f":"'T2-B(PP5)'!$I$179","v":0},"#'T2-B(PP5)'!$I$179"]
["pp5_bl4_4_3_unit",{"$f":"'T2-B(PP5)'!$C$179","v":0},"#'T2-B(PP5)'!$C$179"]
["pp5_bl4_4_3_unit_in",{"$f":"'T2-B(PP5)'!$D$179","v":0},"#'T2-B(PP5)'!$D$179"]
["pp5_bl4_4_3_units_out",{"$f":"'T2-B(PP5)'!$G$179","v":0},"#'T2-B(PP5)'!$G$179"]
["pp5_bl4_4_4_name",{"$f":"'T2-B(PP5)'!$B$180","v":0},"#'T2-B(PP5)'!$B$180"]
["pp5_bl4_4_4_rate_in",{"$f":"'T2-B(PP5)'!$E$180","v":0},"#'T2-B(PP5)'!$E$180"]
["pp5_bl4_4_4_rate_out",{"$f":"'T2-B(PP5)'!$H$180","v":0},"#'T2-B(PP5)'!$H$180"]
["pp5_bl4_4_4_total",{"$f":"'T2-B(PP5)'!$J$180","v":0},"#'T2-B(PP5)'!$J$180"]
["pp5_bl4_4_4_total_in",{"$f":"'T2-B(PP5)'!$F$180","v":0},"#'T2-B(PP5)'!$F$180"]
["pp5_bl4_4_4_total_out",{"$f":"'T2-B(PP5)'!$I$180","v":0},"#'T2-B(PP5)'!$I$180"]
["pp5_bl4_4_4_unit",{"$f":"'T2-B(PP5)'!$C$180","v":0},"#'T2-B(PP5)'!$C$180"]
["pp5_bl4_4_4_unit_in",{"$f":"'T2-B(PP5)'!$D$180","v":0},"#'T2-B(PP5)'!$D$180"]
["pp5_bl4_4_4_units_out",{"$f":"'T2-B(PP5)'!$G$180","v":0},"#'T2-B(PP5)'!$G$180"]
["pp5_bl4_4_5_name",{"$f":"'T2-B(PP5)'!$B$181","v":0},"#'T2-B(PP5)'!$B$181"]
["pp5_bl4_4_5_rate_in",{"$f":"'T2-B(PP5)'!$E$181","v":0},"#'T2-B(PP5)'!$E$181"]
["pp5_bl4_4_5_rate_out",{"$f":"'T2-B(PP5)'!$H$181","v":0},"#'T2-B(PP5)'!$H$181"]
["pp5_bl4_4_5_total",{"$f":"'T2-B(PP5)'!$J$181","v":0},"#'T2-B(PP5)'!$J$181"]
["pp5_bl4_4_5_total_in",{"$f":"'T2-B(PP5)'!$F$181","v":0},"#'T2-B(PP5)'!$F$181"]
["pp5_bl4_4_5_total_out",{"$f":"'T2-B(PP5)'!$I$181","v":0},"#'T2-B(PP5)'!$I$181"]
["pp5_bl4_4_5_unit",{"$f":"'T2-B(PP5)'!$C$181","v":0},"#'T2-B(PP5)'!$C$181"]
["pp5_bl4_4_5_unit_in",{"$f":"'T2-B(PP5)'!$D$181","v":0},"#'T2-B(PP5)'!$D$181"]
["pp5_bl4_4_5_units_out",{"$f":"'T2-B(PP5)'!$G$181","v":0},"#'T2-B(PP5)'!$G$181"]
["pp5_bl4_4_6_name",{"$f":"'T2-B(PP5)'!$B$182","v":0},"#'T2-B(PP5)'!$B$182"]
["pp5_bl4_4_6_rate_in",{"$f":"'T2-B(PP5)'!$E$182","v":0},"#'T2-B(PP5)'!$E$182"]
["pp5_bl4_4_6_rate_out",{"$f":"'T2-B(PP5)'!$H$182","v":0},"#'T2-B(PP5)'!$H$182"]
["pp5_bl4_4_6_total",{"$f":"'T2-B(PP5)'!$J$182","v":0},"#'T2-B(PP5)'!$J$182"]
["pp5_bl4_4_6_total_in",{"$f":"'T2-B(PP5)'!$F$182","v":0},"#'T2-B(PP5)'!$F$182"]
["pp5_bl4_4_6_total_out",{"$f":"'T2-B(PP5)'!$I$182","v":0},"#'T2-B(PP5)'!$I$182"]
["pp5_bl4_4_6_unit",{"$f":"'T2-B(PP5)'!$C$182","v":0},"#'T2-B(PP5)'!$C$182"]
["pp5_bl4_4_6_unit_in",{"$f":"'T2-B(PP5)'!$D$182","v":0},"#'T2-B(PP5)'!$D$182"]
["pp5_bl4_4_6_units_out",{"$f":"'T2-B(PP5)'!$G$182","v":0},"#'T2-B(PP5)'!$G$182"]
["pp5_bl4_4_7_name",{"$f":"'T2-B(PP5)'!$B$183","v":0},"#'T2-B(PP5)'!$B$183"]
["pp5_bl4_4_7_rate_in",{"$f":"'T2-B(PP5)'!$E$183","v":0},"#'T2-B(PP5)'!$E$183"]
["pp5_bl4_4_7_rate_out",{"$f":"'T2-B(PP5)'!$H$183","v":0},"#'T2-B(PP5)'!$H$183"]
["pp5_bl4_4_7_total",{"$f":"'T2-B(PP5)'!$J$183","v":0},"#'T2-B(PP5)'!$J$183"]
["pp5_bl4_4_7_total_in",{"$f":"'T2-B(PP5)'!$F$183","v":0},"#'T2-B(PP5)'!$F$183"]
["pp5_bl4_4_7_total_out",{"$f":"'T2-B(PP5)'!$I$183","v":0},"#'T2-B(PP5)'!$I$183"]
["pp5_bl4_4_7_unit",{"$f":"'T2-B(PP5)'!$C$183","v":0},"#'T2-B(PP5)'!$C$183"]
["pp5_bl4_4_7_unit_in",{"$f":"'T2-B(PP5)'!$D$183","v":0},"#'T2-B(PP5)'!$D$183"]
["pp5_bl4_4_7_units_out",{"$f":"'T2-B(PP5)'!$G$183","v":0},"#'T2-B(PP5)'!$G$183"]
["pp5_bl4_4_8_name",{"$f":"'T2-B(PP5)'!$B$184","v":0},"#'T2-B(PP5)'!$B$184"]
["pp5_bl4_4_8_rate_in",{"$f":"'T2-B(PP5)'!$E$184","v":0},"#'T2-B(PP5)'!$E$184"]
["pp5_bl4_4_8_rate_out",{"$f":"'T2-B(PP5)'!$H$184","v":0},"#'T2-B(PP5)'!$H$184"]
["pp5_bl4_4_8_total",{"$f":"'T2-B(PP5)'!$J$184","v":0},"#'T2-B(PP5)'!$J$184"]
["pp5_bl4_4_8_total_in",{"$f":"'T2-B(PP5)'!$F$184","v":0},"#'T2-B(PP5)'!$F$184"]
["pp5_bl4_4_8_total_out",{"$f":"'T2-B(PP5)'!$I$184","v":0},"#'T2-B(PP5)'!$I$184"]
["pp5_bl4_4_8_unit",{"$f":"'T2-B(PP5)'!$C$184","v":0},"#'T2-B(PP5)'!$C$184"]
["pp5_bl4_4_8_unit_in",{"$f":"'T2-B(PP5)'!$D$184","v":0},"#'T2-B(PP5)'!$D$184"]
["pp5_bl4_4_8_units_out",{"$f":"'T2-B(PP5)'!$G$184","v":0},"#'T2-B(PP5)'!$G$184"]
["pp5_bl4_4_9_name",{"$f":"'T2-B(PP5)'!$B$185","v":0},"#'T2-B(PP5)'!$B$185"]
["pp5_bl4_4_9_rate_in",{"$f":"'T2-B(PP5)'!$E$185","v":0},"#'T2-B(PP5)'!$E$185"]
["pp5_bl4_4_9_rate_out",{"$f":"'T2-B(PP5)'!$H$185","v":0},"#'T2-B(PP5)'!$H$185"]
["pp5_bl4_4_9_total",{"$f":"'T2-B(PP5)'!$J$185","v":0},"#'T2-B(PP5)'!$J$185"]
["pp5_bl4_4_9_total_in",{"$f":"'T2-B(PP5)'!$F$185","v":0},"#'T2-B(PP5)'!$F$185"]
["pp5_bl4_4_9_total_out",{"$f":"'T2-B(PP5)'!$I$185","v":0},"#'T2-B(PP5)'!$I$185"]
["pp5_bl4_4_9_unit",{"$f":"'T2-B(PP5)'!$C$185","v":0},"#'T2-B(PP5)'!$C$185"]
["pp5_bl4_4_9_unit_in",{"$f":"'T2-B(PP5)'!$D$185","v":0},"#'T2-B(PP5)'!$D$185"]
["pp5_bl4_4_9_units_out",{"$f":"'T2-B(PP5)'!$G$185","v":0},"#'T2-B(PP5)'!$G$185"]
["pp5_bl4_4_total",{"$f":"'T2-B(PP5)'!$J$176","v":0},"#'T2-B(PP5)'!$J$176"]
["pp5_bl4_4_total_in",{"$f":"'T2-B(PP5)'!$F$176","v":0},"#'T2-B(PP5)'!$F$176"]
["pp5_bl4_4_total_out",{"$f":"'T2-B(PP5)'!$I$176","v":0},"#'T2-B(PP5)'!$I$176"]
["pp5_bl4_5_1_name",{"$f":"'T2-B(PP5)'!$B$198","v":0},"#'T2-B(PP5)'!$B$198"]
["pp5_bl4_5_1_rate_in",{"$f":"'T2-B(PP5)'!$E$198","v":0},"#'T2-B(PP5)'!$E$198"]
["pp5_bl4_5_1_rate_out",{"$f":"'T2-B(PP5)'!$H$198","v":0},"#'T2-B(PP5)'!$H$198"]
["pp5_bl4_5_1_total",{"$f":"'T2-B(PP5)'!$J$198","v":0},"#'T2-B(PP5)'!$J$198"]
["pp5_bl4_5_1_total_in",{"$f":"'T2-B(PP5)'!$F$198","v":0},"#'T2-B(PP5)'!$F$198"]
["pp5_bl4_5_1_total_out",{"$f":"'T2-B(PP5)'!$I$198","v":0},"#'T2-B(PP5)'!$I$198"]
["pp5_bl4_5_1_unit",{"$f":"'T2-B(PP5)'!$C$198","v":0},"#'T2-B(PP5)'!$C$198"]
["pp5_bl4_5_1_unit_in",{"$f":"'T2-B(PP5)'!$D$198","v":0},"#'T2-B(PP5)'!$D$198"]
["pp5_bl4_5_1_units_out",{"$f":"'T2-B(PP5)'!$G$198","v":0},"#'T2-B(PP5)'!$G$198"]
["pp5_bl4_5_10_name",{"$f":"'T2-B(PP5)'!$B$207","v":0},"#'T2-B(PP5)'!$B$207"]
["pp5_bl4_5_10_rate_in",{"$f":"'T2-B(PP5)'!$E$207","v":0},"#'T2-B(PP5)'!$E$207"]
["pp5_bl4_5_10_rate_out",{"$f":"'T2-B(PP5)'!$H$207","v":0},"#'T2-B(PP5)'!$H$207"]
["pp5_bl4_5_10_total",{"$f":"'T2-B(PP5)'!$J$207","v":0},"#'T2-B(PP5)'!$J$207"]
["pp5_bl4_5_10_total_in",{"$f":"'T2-B(PP5)'!$F$207","v":0},"#'T2-B(PP5)'!$F$207"]
["pp5_bl4_5_10_total_out",{"$f":"'T2-B(PP5)'!$I$207","v":0},"#'T2-B(PP5)'!$I$207"]
["pp5_bl4_5_10_unit",{"$f":"'T2-B(PP5)'!$C$207","v":0},"#'T2-B(PP5)'!$C$207"]
["pp5_bl4_5_10_unit_in",{"$f":"'T2-B(PP5)'!$D$207","v":0},"#'T2-B(PP5)'!$D$207"]
["pp5_bl4_5_10_units_out",{"$f":"'T2-B(PP5)'!$G$207","v":0},"#'T2-B(PP5)'!$G$207"]
["pp5_bl4_5_2_name",{"$f":"'T2-B(PP5)'!$B$199","v":0},"#'T2-B(PP5)'!$B$199"]
["pp5_bl4_5_2_rate_in",{"$f":"'T2-B(PP5)'!$E$199","v":0},"#'T2-B(PP5)'!$E$199"]
["pp5_bl4_5_2_rate_out",{"$f":"'T2-B(PP5)'!$H$199","v":0},"#'T2-B(PP5)'!$H$199"]
["pp5_bl4_5_2_total",{"$f":"'T2-B(PP5)'!$J$199","v":0},"#'T2-B(PP5)'!$J$199"]
["pp5_bl4_5_2_total_in",{"$f":"'T2-B(PP5)'!$F$199","v":0},"#'T2-B(PP5)'!$F$199"]
["pp5_bl4_5_2_total_out",{"$f":"'T2-B(PP5)'!$I$199","v":0},"#'T2-B(PP5)'!$I$199"]
["pp5_bl4_5_2_unit",{"$f":"'T2-B(PP5)'!$C$199","v":0},"#'T2-B(PP5)'!$C$199"]
["pp5_bl4_5_2_unit_in",{"$f":"'T2-B(PP5)'!$D$199","v":0},"#'T2-B(PP5)'!$D$199"]
["pp5_bl4_5_2_units_out",{"$f":"'T2-B(PP5)'!$G$199","v":0},"#'T2-B(PP5)'!$G$199"]
["pp5_bl4_5_3_name",{"$f":"'T2-B(PP5)'!$B$200","v":0},"#'T2-B(PP5)'!$B$200"]
["pp5_bl4_5_3_rate_in",{"$f":"'T2-B(PP5)'!$E$200","v":0},"#'T2-B(PP5)'!$E$200"]
["pp5_bl4_5_3_rate_out",{"$f":"'T2-B(PP5)'!$H$200","v":0},"#'T2-B(PP5)'!$H$200"]
["pp5_bl4_5_3_total",{"$f":"'T2-B(PP5)'!$J$200","v":0},"#'T2-B(PP5)'!$J$200"]
["pp5_bl4_5_3_total_in",{"$f":"'T2-B(PP5)'!$F$200","v":0},"#'T2-B(PP5)'!$F$200"]
["pp5_bl4_5_3_total_out",{"$f":"'T2-B(PP5)'!$I$200","v":0},"#'T2-B(PP5)'!$I$200"]
["pp5_bl4_5_3_unit",{"$f":"'T2-B(PP5)'!$C$200","v":0},"#'T2-B(PP5)'!$C$200"]
["pp5_bl4_5_3_unit_in",{"$f":"'T2-B(PP5)'!$D$200","v":0},"#'T2-B(PP5)'!$D$200"]
["pp5_bl4_5_3_units_out",{"$f":"'T2-B(PP5)'!$G$200","v":0},"#'T2-B(PP5)'!$G$200"]
["pp5_bl4_5_4_name",{"$f":"'T2-B(PP5)'!$B$201","v":0},"#'T2-B(PP5)'!$B$201"]
["pp5_bl4_5_4_rate_in",{"$f":"'T2-B(PP5)'!$E$201","v":0},"#'T2-B(PP5)'!$E$201"]
["pp5_bl4_5_4_rate_out",{"$f":"'T2-B(PP5)'!$H$201","v":0},"#'T2-B(PP5)'!$H$201"]
["pp5_bl4_5_4_total",{"$f":"'T2-B(PP5)'!$J$201","v":0},"#'T2-B(PP5)'!$J$201"]
["pp5_bl4_5_4_total_in",{"$f":"'T2-B(PP5)'!$F$201","v":0},"#'T2-B(PP5)'!$F$201"]
["pp5_bl4_5_4_total_out",{"$f":"'T2-B(PP5)'!$I$201","v":0},"#'T2-B(PP5)'!$I$201"]
["pp5_bl4_5_4_unit",{"$f":"'T2-B(PP5)'!$C$201","v":0},"#'T2-B(PP5)'!$C$201"]
["pp5_bl4_5_4_unit_in",{"$f":"'T2-B(PP5)'!$D$201","v":0},"#'T2-B(PP5)'!$D$201"]
["pp5_bl4_5_4_units_out",{"$f":"'T2-B(PP5)'!$G$201","v":0},"#'T2-B(PP5)'!$G$201"]
["pp5_bl4_5_5_name",{"$f":"'T2-B(PP5)'!$B$202","v":0},"#'T2-B(PP5)'!$B$202"]
["pp5_bl4_5_5_rate_in",{"$f":"'T2-B(PP5)'!$E$202","v":0},"#'T2-B(PP5)'!$E$202"]
["pp5_bl4_5_5_rate_out",{"$f":"'T2-B(PP5)'!$H$202","v":0},"#'T2-B(PP5)'!$H$202"]
["pp5_bl4_5_5_total",{"$f":"'T2-B(PP5)'!$J$202","v":0},"#'T2-B(PP5)'!$J$202"]
["pp5_bl4_5_5_total_in",{"$f":"'T2-B(PP5)'!$F$202","v":0},"#'T2-B(PP5)'!$F$202"]
["pp5_bl4_5_5_total_out",{"$f":"'T2-B(PP5)'!$I$202","v":0},"#'T2-B(PP5)'!$I$202"]
["pp5_bl4_5_5_unit",{"$f":"'T2-B(PP5)'!$C$202","v":0},"#'T2-B(PP5)'!$C$202"]
["pp5_bl4_5_5_unit_in",{"$f":"'T2-B(PP5)'!$D$202","v":0},"#'T2-B(PP5)'!$D$202"]
["pp5_bl4_5_5_units_out",{"$f":"'T2-B(PP5)'!$G$202","v":0},"#'T2-B(PP5)'!$G$202"]
["pp5_bl4_5_6_name",{"$f":"'T2-B(PP5)'!$B$203","v":0},"#'T2-B(PP5)'!$B$203"]
["pp5_bl4_5_6_rate_in",{"$f":"'T2-B(PP5)'!$E$203","v":0},"#'T2-B(PP5)'!$E$203"]
["pp5_bl4_5_6_rate_out",{"$f":"'T2-B(PP5)'!$H$203","v":0},"#'T2-B(PP5)'!$H$203"]
["pp5_bl4_5_6_total",{"$f":"'T2-B(PP5)'!$J$203","v":0},"#'T2-B(PP5)'!$J$203"]
["pp5_bl4_5_6_total_in",{"$f":"'T2-B(PP5)'!$F$203","v":0},"#'T2-B(PP5)'!$F$203"]
["pp5_bl4_5_6_total_out",{"$f":"'T2-B(PP5)'!$I$203","v":0},"#'T2-B(PP5)'!$I$203"]
["pp5_bl4_5_6_unit",{"$f":"'T2-B(PP5)'!$C$203","v":0},"#'T2-B(PP5)'!$C$203"]
["pp5_bl4_5_6_unit_in",{"$f":"'T2-B(PP5)'!$D$203","v":0},"#'T2-B(PP5)'!$D$203"]
["pp5_bl4_5_6_units_out",{"$f":"'T2-B(PP5)'!$G$203","v":0},"#'T2-B(PP5)'!$G$203"]
["pp5_bl4_5_7_name",{"$f":"'T2-B(PP5)'!$B$204","v":0},"#'T2-B(PP5)'!$B$204"]
["pp5_bl4_5_7_rate_in",{"$f":"'T2-B(PP5)'!$E$204","v":0},"#'T2-B(PP5)'!$E$204"]
["pp5_bl4_5_7_rate_out",{"$f":"'T2-B(PP5)'!$H$204","v":0},"#'T2-B(PP5)'!$H$204"]
["pp5_bl4_5_7_total",{"$f":"'T2-B(PP5)'!$J$204","v":0},"#'T2-B(PP5)'!$J$204"]
["pp5_bl4_5_7_total_in",{"$f":"'T2-B(PP5)'!$F$204","v":0},"#'T2-B(PP5)'!$F$204"]
["pp5_bl4_5_7_total_out",{"$f":"'T2-B(PP5)'!$I$204","v":0},"#'T2-B(PP5)'!$I$204"]
["pp5_bl4_5_7_unit",{"$f":"'T2-B(PP5)'!$C$204","v":0},"#'T2-B(PP5)'!$C$204"]
["pp5_bl4_5_7_unit_in",{"$f":"'T2-B(PP5)'!$D$204","v":0},"#'T2-B(PP5)'!$D$204"]
["pp5_bl4_5_7_units_out",{"$f":"'T2-B(PP5)'!$G$204","v":0},"#'T2-B(PP5)'!$G$204"]
["pp5_bl4_5_8_name",{"$f":"'T2-B(PP5)'!$B$205","v":0},"#'T2-B(PP5)'!$B$205"]
["pp5_bl4_5_8_rate_in",{"$f":"'T2-B(PP5)'!$E$205","v":0},"#'T2-B(PP5)'!$E$205"]
["pp5_bl4_5_8_rate_out",{"$f":"'T2-B(PP5)'!$H$205","v":0},"#'T2-B(PP5)'!$H$205"]
["pp5_bl4_5_8_total",{"$f":"'T2-B(PP5)'!$J$205","v":0},"#'T2-B(PP5)'!$J$205"]
["pp5_bl4_5_8_total_in",{"$f":"'T2-B(PP5)'!$F$205","v":0},"#'T2-B(PP5)'!$F$205"]
["pp5_bl4_5_8_total_out",{"$f":"'T2-B(PP5)'!$I$205","v":0},"#'T2-B(PP5)'!$I$205"]
["pp5_bl4_5_8_unit",{"$f":"'T2-B(PP5)'!$C$205","v":0},"#'T2-B(PP5)'!$C$205"]
["pp5_bl4_5_8_unit_in",{"$f":"'T2-B(PP5)'!$D$205","v":0},"#'T2-B(PP5)'!$D$205"]
["pp5_bl4_5_8_units_out",{"$f":"'T2-B(PP5)'!$G$205","v":0},"#'T2-B(PP5)'!$G$205"]
["pp5_bl4_5_9_name",{"$f":"'T2-B(PP5)'!$B$206","v":0},"#'T2-B(PP5)'!$B$206"]
["pp5_bl4_5_9_rate_in",{"$f":"'T2-B(PP5)'!$E$206","v":0},"#'T2-B(PP5)'!$E$206"]
["pp5_bl4_5_9_rate_out",{"$f":"'T2-B(PP5)'!$H$206","v":0},"#'T2-B(PP5)'!$H$206"]
["pp5_bl4_5_9_total",{"$f":"'T2-B(PP5)'!$J$206","v":0},"#'T2-B(PP5)'!$J$206"]
["pp5_bl4_5_9_total_in",{"$f":"'T2-B(PP5)'!$F$206","v":0},"#'T2-B(PP5)'!$F$206"]
["pp5_bl4_5_9_total_out",{"$f":"'T2-B(PP5)'!$I$206","v":0},"#'T2-B(PP5)'!$I$206"]
["pp5_bl4_5_9_unit",{"$f":"'T2-B(PP5)'!$C$206","v":0},"#'T2-B(PP5)'!$C$206"]
["pp5_bl4_5_9_unit_in",{"$f":"'T2-B(PP5)'!$D$206","v":0},"#'T2-B(PP5)'!$D$206"]
["pp5_bl4_5_9_units_out",{"$f":"'T2-B(PP5)'!$G$206","v":0},"#'T2-B(PP5)'!$G$206"]
["pp5_bl4_5_total",{"$f":"'T2-B(PP5)'!$J$197","v":0},"#'T2-B(PP5)'!$J$197"]
["pp5_bl4_5_total_in",{"$f":"'T2-B(PP5)'!$F$197","v":0},"#'T2-B(PP5)'!$F$197"]
["pp5_bl4_5_total_out",{"$f":"'T2-B(PP5)'!$I$197","v":0},"#'T2-B(PP5)'!$I$197"]
["pp5_bl4_6_1_name",{"$f":"'T2-B(PP5)'!$B$219","v":0},"#'T2-B(PP5)'!$B$219"]
["pp5_bl4_6_1_rate_in",{"$f":"'T2-B(PP5)'!$E$219","v":0},"#'T2-B(PP5)'!$E$219"]
["pp5_bl4_6_1_rate_out",{"$f":"'T2-B(PP5)'!$H$219","v":0},"#'T2-B(PP5)'!$H$219"]
["pp5_bl4_6_1_total",{"$f":"'T2-B(PP5)'!$J$219","v":0},"#'T2-B(PP5)'!$J$219"]
["pp5_bl4_6_1_total_in",{"$f":"'T2-B(PP5)'!$F$219","v":0},"#'T2-B(PP5)'!$F$219"]
["pp5_bl4_6_1_total_out",{"$f":"'T2-B(PP5)'!$I$219","v":0},"#'T2-B(PP5)'!$I$219"]
["pp5_bl4_6_1_unit",{"$f":"'T2-B(PP5)'!$C$219","v":0},"#'T2-B(PP5)'!$C$219"]
["pp5_bl4_6_1_unit_in",{"$f":"'T2-B(PP5)'!$D$219","v":0},"#'T2-B(PP5)'!$D$219"]
["pp5_bl4_6_1_units_out",{"$f":"'T2-B(PP5)'!$G$219","v":0},"#'T2-B(PP5)'!$G$219"]
["pp5_bl4_6_10_name",{"$f":"'T2-B(PP5)'!$B$228","v":0},"#'T2-B(PP5)'!$B$228"]
["pp5_bl4_6_10_rate_in",{"$f":"'T2-B(PP5)'!$E$228","v":0},"#'T2-B(PP5)'!$E$228"]
["pp5_bl4_6_10_rate_out",{"$f":"'T2-B(PP5)'!$H$228","v":0},"#'T2-B(PP5)'!$H$228"]
["pp5_bl4_6_10_total",{"$f":"'T2-B(PP5)'!$J$228","v":0},"#'T2-B(PP5)'!$J$228"]
["pp5_bl4_6_10_total_in",{"$f":"'T2-B(PP5)'!$F$228","v":0},"#'T2-B(PP5)'!$F$228"]
["pp5_bl4_6_10_total_out",{"$f":"'T2-B(PP5)'!$I$228","v":0},"#'T2-B(PP5)'!$I$228"]
["pp5_bl4_6_10_unit",{"$f":"'T2-B(PP5)'!$C$228","v":0},"#'T2-B(PP5)'!$C$228"]
["pp5_bl4_6_10_unit_in",{"$f":"'T2-B(PP5)'!$D$228","v":0},"#'T2-B(PP5)'!$D$228"]
["pp5_bl4_6_10_units_out",{"$f":"'T2-B(PP5)'!$G$228","v":0},"#'T2-B(PP5)'!$G$228"]
["pp5_bl4_6_2_name",{"$f":"'T2-B(PP5)'!$B$220","v":0},"#'T2-B(PP5)'!$B$220"]
["pp5_bl4_6_2_rate_in",{"$f":"'T2-B(PP5)'!$E$220","v":0},"#'T2-B(PP5)'!$E$220"]
["pp5_bl4_6_2_rate_out",{"$f":"'T2-B(PP5)'!$H$220","v":0},"#'T2-B(PP5)'!$H$220"]
["pp5_bl4_6_2_total",{"$f":"'T2-B(PP5)'!$J$220","v":0},"#'T2-B(PP5)'!$J$220"]
["pp5_bl4_6_2_total_in",{"$f":"'T2-B(PP5)'!$F$220","v":0},"#'T2-B(PP5)'!$F$220"]
["pp5_bl4_6_2_total_out",{"$f":"'T2-B(PP5)'!$I$220","v":0},"#'T2-B(PP5)'!$I$220"]
["pp5_bl4_6_2_unit",{"$f":"'T2-B(PP5)'!$C$220","v":0},"#'T2-B(PP5)'!$C$220"]
["pp5_bl4_6_2_unit_in",{"$f":"'T2-B(PP5)'!$D$220","v":0},"#'T2-B(PP5)'!$D$220"]
["pp5_bl4_6_2_units_out",{"$f":"'T2-B(PP5)'!$G$220","v":0},"#'T2-B(PP5)'!$G$220"]
["pp5_bl4_6_3_name",{"$f":"'T2-B(PP5)'!$B$221","v":0},"#'T2-B(PP5)'!$B$221"]
["pp5_bl4_6_3_rate_in",{"$f":"'T2-B(PP5)'!$E$221","v":0},"#'T2-B(PP5)'!$E$221"]
["pp5_bl4_6_3_rate_out",{"$f":"'T2-B(PP5)'!$H$221","v":0},"#'T2-B(PP5)'!$H$221"]
["pp5_bl4_6_3_total",{"$f":"'T2-B(PP5)'!$J$221","v":0},"#'T2-B(PP5)'!$J$221"]
["pp5_bl4_6_3_total_in",{"$f":"'T2-B(PP5)'!$F$221","v":0},"#'T2-B(PP5)'!$F$221"]
["pp5_bl4_6_3_total_out",{"$f":"'T2-B(PP5)'!$I$221","v":0},"#'T2-B(PP5)'!$I$221"]
["pp5_bl4_6_3_unit",{"$f":"'T2-B(PP5)'!$C$221","v":0},"#'T2-B(PP5)'!$C$221"]
["pp5_bl4_6_3_unit_in",{"$f":"'T2-B(PP5)'!$D$221","v":0},"#'T2-B(PP5)'!$D$221"]
["pp5_bl4_6_3_units_out",{"$f":"'T2-B(PP5)'!$G$221","v":0},"#'T2-B(PP5)'!$G$221"]
["pp5_bl4_6_4_name",{"$f":"'T2-B(PP5)'!$B$222","v":0},"#'T2-B(PP5)'!$B$222"]
["pp5_bl4_6_4_rate_in",{"$f":"'T2-B(PP5)'!$E$222","v":0},"#'T2-B(PP5)'!$E$222"]
["pp5_bl4_6_4_rate_out",{"$f":"'T2-B(PP5)'!$H$222","v":0},"#'T2-B(PP5)'!$H$222"]
["pp5_bl4_6_4_total",{"$f":"'T2-B(PP5)'!$J$222","v":0},"#'T2-B(PP5)'!$J$222"]
["pp5_bl4_6_4_total_in",{"$f":"'T2-B(PP5)'!$F$222","v":0},"#'T2-B(PP5)'!$F$222"]
["pp5_bl4_6_4_total_out",{"$f":"'T2-B(PP5)'!$I$222","v":0},"#'T2-B(PP5)'!$I$222"]
["pp5_bl4_6_4_unit",{"$f":"'T2-B(PP5)'!$C$222","v":0},"#'T2-B(PP5)'!$C$222"]
["pp5_bl4_6_4_unit_in",{"$f":"'T2-B(PP5)'!$D$222","v":0},"#'T2-B(PP5)'!$D$222"]
["pp5_bl4_6_4_units_out",{"$f":"'T2-B(PP5)'!$G$222","v":0},"#'T2-B(PP5)'!$G$222"]
["pp5_bl4_6_5_name",{"$f":"'T2-B(PP5)'!$B$223","v":0},"#'T2-B(PP5)'!$B$223"]
["pp5_bl4_6_5_rate_in",{"$f":"'T2-B(PP5)'!$E$223","v":0},"#'T2-B(PP5)'!$E$223"]
["pp5_bl4_6_5_rate_out",{"$f":"'T2-B(PP5)'!$H$223","v":0},"#'T2-B(PP5)'!$H$223"]
["pp5_bl4_6_5_total",{"$f":"'T2-B(PP5)'!$J$223","v":0},"#'T2-B(PP5)'!$J$223"]
["pp5_bl4_6_5_total_in",{"$f":"'T2-B(PP5)'!$F$223","v":0},"#'T2-B(PP5)'!$F$223"]
["pp5_bl4_6_5_total_out",{"$f":"'T2-B(PP5)'!$I$223","v":0},"#'T2-B(PP5)'!$I$223"]
["pp5_bl4_6_5_unit",{"$f":"'T2-B(PP5)'!$C$223","v":0},"#'T2-B(PP5)'!$C$223"]
["pp5_bl4_6_5_unit_in",{"$f":"'T2-B(PP5)'!$D$223","v":0},"#'T2-B(PP5)'!$D$223"]
["pp5_bl4_6_5_units_out",{"$f":"'T2-B(PP5)'!$G$223","v":0},"#'T2-B(PP5)'!$G$223"]
["pp5_bl4_6_6_name",{"$f":"'T2-B(PP5)'!$B$224","v":0},"#'T2-B(PP5)'!$B$224"]
["pp5_bl4_6_6_rate_in",{"$f":"'T2-B(PP5)'!$E$224","v":0},"#'T2-B(PP5)'!$E$224"]
["pp5_bl4_6_6_rate_out",{"$f":"'T2-B(PP5)'!$H$224","v":0},"#'T2-B(PP5)'!$H$224"]
["pp5_bl4_6_6_total",{"$f":"'T2-B(PP5)'!$J$224","v":0},"#'T2-B(PP5)'!$J$224"]
["pp5_bl4_6_6_total_in",{"$f":"'T2-B(PP5)'!$F$224","v":0},"#'T2-B(PP5)'!$F$224"]
["pp5_bl4_6_6_total_out",{"$f":"'T2-B(PP5)'!$I$224","v":0},"#'T2-B(PP5)'!$I$224"]
["pp5_bl4_6_6_unit",{"$f":"'T2-B(PP5)'!$C$224","v":0},"#'T2-B(PP5)'!$C$224"]
["pp5_bl4_6_6_unit_in",{"$f":"'T2-B(PP5)'!$D$224","v":0},"#'T2-B(PP5)'!$D$224"]
["pp5_bl4_6_6_units_out",{"$f":"'T2-B(PP5)'!$G$224","v":0},"#'T2-B(PP5)'!$G$224"]
["pp5_bl4_6_7_name",{"$f":"'T2-B(PP5)'!$B$225","v":0},"#'T2-B(PP5)'!$B$225"]
["pp5_bl4_6_7_rate_in",{"$f":"'T2-B(PP5)'!$E$225","v":0},"#'T2-B(PP5)'!$E$225"]
["pp5_bl4_6_7_rate_out",{"$f":"'T2-B(PP5)'!$H$225","v":0},"#'T2-B(PP5)'!$H$225"]
["pp5_bl4_6_7_total",{"$f":"'T2-B(PP5)'!$J$225","v":0},"#'T2-B(PP5)'!$J$225"]
["pp5_bl4_6_7_total_in",{"$f":"'T2-B(PP5)'!$F$225","v":0},"#'T2-B(PP5)'!$F$225"]
["pp5_bl4_6_7_total_out",{"$f":"'T2-B(PP5)'!$I$225","v":0},"#'T2-B(PP5)'!$I$225"]
["pp5_bl4_6_7_unit",{"$f":"'T2-B(PP5)'!$C$225","v":0},"#'T2-B(PP5)'!$C$225"]
["pp5_bl4_6_7_unit_in",{"$f":"'T2-B(PP5)'!$D$225","v":0},"#'T2-B(PP5)'!$D$225"]
["pp5_bl4_6_7_units_out",{"$f":"'T2-B(PP5)'!$G$225","v":0},"#'T2-B(PP5)'!$G$225"]
["pp5_bl4_6_8_name",{"$f":"'T2-B(PP5)'!$B$226","v":0},"#'T2-B(PP5)'!$B$226"]
["pp5_bl4_6_8_rate_in",{"$f":"'T2-B(PP5)'!$E$226","v":0},"#'T2-B(PP5)'!$E$226"]
["pp5_bl4_6_8_rate_out",{"$f":"'T2-B(PP5)'!$H$226","v":0},"#'T2-B(PP5)'!$H$226"]
["pp5_bl4_6_8_total",{"$f":"'T2-B(PP5)'!$J$226","v":0},"#'T2-B(PP5)'!$J$226"]
["pp5_bl4_6_8_total_in",{"$f":"'T2-B(PP5)'!$F$226","v":0},"#'T2-B(PP5)'!$F$226"]
["pp5_bl4_6_8_total_out",{"$f":"'T2-B(PP5)'!$I$226","v":0},"#'T2-B(PP5)'!$I$226"]
["pp5_bl4_6_8_unit",{"$f":"'T2-B(PP5)'!$C$226","v":0},"#'T2-B(PP5)'!$C$226"]
["pp5_bl4_6_8_unit_in",{"$f":"'T2-B(PP5)'!$D$226","v":0},"#'T2-B(PP5)'!$D$226"]
["pp5_bl4_6_8_units_out",{"$f":"'T2-B(PP5)'!$G$226","v":0},"#'T2-B(PP5)'!$G$226"]
["pp5_bl4_6_9_name",{"$f":"'T2-B(PP5)'!$B$227","v":0},"#'T2-B(PP5)'!$B$227"]
["pp5_bl4_6_9_rate_in",{"$f":"'T2-B(PP5)'!$E$227","v":0},"#'T2-B(PP5)'!$E$227"]
["pp5_bl4_6_9_rate_out",{"$f":"'T2-B(PP5)'!$H$227","v":0},"#'T2-B(PP5)'!$H$227"]
["pp5_bl4_6_9_total",{"$f":"'T2-B(PP5)'!$J$227","v":0},"#'T2-B(PP5)'!$J$227"]
["pp5_bl4_6_9_total_in",{"$f":"'T2-B(PP5)'!$F$227","v":0},"#'T2-B(PP5)'!$F$227"]
["pp5_bl4_6_9_total_out",{"$f":"'T2-B(PP5)'!$I$227","v":0},"#'T2-B(PP5)'!$I$227"]
["pp5_bl4_6_9_unit",{"$f":"'T2-B(PP5)'!$C$227","v":0},"#'T2-B(PP5)'!$C$227"]
["pp5_bl4_6_9_unit_in",{"$f":"'T2-B(PP5)'!$D$227","v":0},"#'T2-B(PP5)'!$D$227"]
["pp5_bl4_6_9_units_out",{"$f":"'T2-B(PP5)'!$G$227","v":0},"#'T2-B(PP5)'!$G$227"]
["pp5_bl4_6_total",{"$f":"'T2-B(PP5)'!$J$218","v":0},"#'T2-B(PP5)'!$J$218"]
["pp5_bl4_6_total_in",{"$f":"'T2-B(PP5)'!$F$218","v":0},"#'T2-B(PP5)'!$F$218"]
["pp5_bl4_6_total_out",{"$f":"'T2-B(PP5)'!$I$218","v":0},"#'T2-B(PP5)'!$I$218"]
["pp5_bl4_7_1_name",{"$f":"'T2-B(PP5)'!$B$240","v":0},"#'T2-B(PP5)'!$B$240"]
["pp5_bl4_7_1_rate_in",{"$f":"'T2-B(PP5)'!$E$240","v":0},"#'T2-B(PP5)'!$E$240"]
["pp5_bl4_7_1_rate_out",{"$f":"'T2-B(PP5)'!$H$240","v":0},"#'T2-B(PP5)'!$H$240"]
["pp5_bl4_7_1_total",{"$f":"'T2-B(PP5)'!$J$240","v":0},"#'T2-B(PP5)'!$J$240"]
["pp5_bl4_7_1_total_in",{"$f":"'T2-B(PP5)'!$F$240","v":0},"#'T2-B(PP5)'!$F$240"]
["pp5_bl4_7_1_total_out",{"$f":"'T2-B(PP5)'!$I$240","v":0},"#'T2-B(PP5)'!$I$240"]
["pp5_bl4_7_1_unit",{"$f":"'T2-B(PP5)'!$C$240","v":0},"#'T2-B(PP5)'!$C$240"]
["pp5_bl4_7_1_unit_in",{"$f":"'T2-B(PP5)'!$D$240","v":0},"#'T2-B(PP5)'!$D$240"]
["pp5_bl4_7_1_units_out",{"$f":"'T2-B(PP5)'!$G$240","v":0},"#'T2-B(PP5)'!$G$240"]
["pp5_bl4_7_10_name",{"$f":"'T2-B(PP5)'!$B$249","v":0},"#'T2-B(PP5)'!$B$249"]
["pp5_bl4_7_10_rate_in",{"$f":"'T2-B(PP5)'!$E$249","v":0},"#'T2-B(PP5)'!$E$249"]
["pp5_bl4_7_10_rate_out",{"$f":"'T2-B(PP5)'!$H$249","v":0},"#'T2-B(PP5)'!$H$249"]
["pp5_bl4_7_10_total",{"$f":"'T2-B(PP5)'!$J$249","v":0},"#'T2-B(PP5)'!$J$249"]
["pp5_bl4_7_10_total_in",{"$f":"'T2-B(PP5)'!$F$249","v":0},"#'T2-B(PP5)'!$F$249"]
["pp5_bl4_7_10_total_out",{"$f":"'T2-B(PP5)'!$I$249","v":0},"#'T2-B(PP5)'!$I$249"]
["pp5_bl4_7_10_unit",{"$f":"'T2-B(PP5)'!$C$249","v":0},"#'T2-B(PP5)'!$C$249"]
["pp5_bl4_7_10_unit_in",{"$f":"'T2-B(PP5)'!$D$249","v":0},"#'T2-B(PP5)'!$D$249"]
["pp5_bl4_7_10_units_out",{"$f":"'T2-B(PP5)'!$G$249","v":0},"#'T2-B(PP5)'!$G$249"]
["pp5_bl4_7_2_name",{"$f":"'T2-B(PP5)'!$B$241","v":0},"#'T2-B(PP5)'!$B$241"]
["pp5_bl4_7_2_rate_in",{"$f":"'T2-B(PP5)'!$E$241","v":0},"#'T2-B(PP5)'!$E$241"]
["pp5_bl4_7_2_rate_out",{"$f":"'T2-B(PP5)'!$H$241","v":0},"#'T2-B(PP5)'!$H$241"]
["pp5_bl4_7_2_total",{"$f":"'T2-B(PP5)'!$J$241","v":0},"#'T2-B(PP5)'!$J$241"]
["pp5_bl4_7_2_total_in",{"$f":"'T2-B(PP5)'!$F$241","v":0},"#'T2-B(PP5)'!$F$241"]
["pp5_bl4_7_2_total_out",{"$f":"'T2-B(PP5)'!$I$241","v":0},"#'T2-B(PP5)'!$I$241"]
["pp5_bl4_7_2_unit",{"$f":"'T2-B(PP5)'!$C$241","v":0},"#'T2-B(PP5)'!$C$241"]
["pp5_bl4_7_2_unit_in",{"$f":"'T2-B(PP5)'!$D$241","v":0},"#'T2-B(PP5)'!$D$241"]
["pp5_bl4_7_2_units_out",{"$f":"'T2-B(PP5)'!$G$241","v":0},"#'T2-B(PP5)'!$G$241"]
["pp5_bl4_7_3_name",{"$f":"'T2-B(PP5)'!$B$242","v":0},"#'T2-B(PP5)'!$B$242"]
["pp5_bl4_7_3_rate_in",{"$f":"'T2-B(PP5)'!$E$242","v":0},"#'T2-B(PP5)'!$E$242"]
["pp5_bl4_7_3_rate_out",{"$f":"'T2-B(PP5)'!$H$242","v":0},"#'T2-B(PP5)'!$H$242"]
["pp5_bl4_7_3_total",{"$f":"'T2-B(PP5)'!$J$242","v":0},"#'T2-B(PP5)'!$J$242"]
["pp5_bl4_7_3_total_in",{"$f":"'T2-B(PP5)'!$F$242","v":0},"#'T2-B(PP5)'!$F$242"]
["pp5_bl4_7_3_total_out",{"$f":"'T2-B(PP5)'!$I$242","v":0},"#'T2-B(PP5)'!$I$242"]
["pp5_bl4_7_3_unit",{"$f":"'T2-B(PP5)'!$C$242","v":0},"#'T2-B(PP5)'!$C$242"]
["pp5_bl4_7_3_unit_in",{"$f":"'T2-B(PP5)'!$D$242","v":0},"#'T2-B(PP5)'!$D$242"]
["pp5_bl4_7_3_units_out",{"$f":"'T2-B(PP5)'!$G$242","v":0},"#'T2-B(PP5)'!$G$242"]
["pp5_bl4_7_4_name",{"$f":"'T2-B(PP5)'!$B$243","v":0},"#'T2-B(PP5)'!$B$243"]
["pp5_bl4_7_4_rate_in",{"$f":"'T2-B(PP5)'!$E$243","v":0},"#'T2-B(PP5)'!$E$243"]
["pp5_bl4_7_4_rate_out",{"$f":"'T2-B(PP5)'!$H$243","v":0},"#'T2-B(PP5)'!$H$243"]
["pp5_bl4_7_4_total",{"$f":"'T2-B(PP5)'!$J$243","v":0},"#'T2-B(PP5)'!$J$243"]
["pp5_bl4_7_4_total_in",{"$f":"'T2-B(PP5)'!$F$243","v":0},"#'T2-B(PP5)'!$F$243"]
["pp5_bl4_7_4_total_out",{"$f":"'T2-B(PP5)'!$I$243","v":0},"#'T2-B(PP5)'!$I$243"]
["pp5_bl4_7_4_unit",{"$f":"'T2-B(PP5)'!$C$243","v":0},"#'T2-B(PP5)'!$C$243"]
["pp5_bl4_7_4_unit_in",{"$f":"'T2-B(PP5)'!$D$243","v":0},"#'T2-B(PP5)'!$D$243"]
["pp5_bl4_7_4_units_out",{"$f":"'T2-B(PP5)'!$G$243","v":0},"#'T2-B(PP5)'!$G$243"]
["pp5_bl4_7_5_name",{"$f":"'T2-B(PP5)'!$B$244","v":0},"#'T2-B(PP5)'!$B$244"]
["pp5_bl4_7_5_rate_in",{"$f":"'T2-B(PP5)'!$E$244","v":0},"#'T2-B(PP5)'!$E$244"]
["pp5_bl4_7_5_rate_out",{"$f":"'T2-B(PP5)'!$H$244","v":0},"#'T2-B(PP5)'!$H$244"]
["pp5_bl4_7_5_total",{"$f":"'T2-B(PP5)'!$J$244","v":0},"#'T2-B(PP5)'!$J$244"]
["pp5_bl4_7_5_total_in",{"$f":"'T2-B(PP5)'!$F$244","v":0},"#'T2-B(PP5)'!$F$244"]
["pp5_bl4_7_5_total_out",{"$f":"'T2-B(PP5)'!$I$244","v":0},"#'T2-B(PP5)'!$I$244"]
["pp5_bl4_7_5_unit",{"$f":"'T2-B(PP5)'!$C$244","v":0},"#'T2-B(PP5)'!$C$244"]
["pp5_bl4_7_5_unit_in",{"$f":"'T2-B(PP5)'!$D$244","v":0},"#'T2-B(PP5)'!$D$244"]
["pp5_bl4_7_5_units_out",{"$f":"'T2-B(PP5)'!$G$244","v":0},"#'T2-B(PP5)'!$G$244"]
["pp5_bl4_7_6_name",{"$f":"'T2-B(PP5)'!$B$245","v":0},"#'T2-B(PP5)'!$B$245"]
["pp5_bl4_7_6_rate_in",{"$f":"'T2-B(PP5)'!$E$245","v":0},"#'T2-B(PP5)'!$E$245"]
["pp5_bl4_7_6_rate_out",{"$f":"'T2-B(PP5)'!$H$245","v":0},"#'T2-B(PP5)'!$H$245"]
["pp5_bl4_7_6_total",{"$f":"'T2-B(PP5)'!$J$245","v":0},"#'T2-B(PP5)'!$J$245"]
["pp5_bl4_7_6_total_in",{"$f":"'T2-B(PP5)'!$F$245","v":0},"#'T2-B(PP5)'!$F$245"]
["pp5_bl4_7_6_total_out",{"$f":"'T2-B(PP5)'!$I$245","v":0},"#'T2-B(PP5)'!$I$245"]
["pp5_bl4_7_6_unit",{"$f":"'T2-B(PP5)'!$C$245","v":0},"#'T2-B(PP5)'!$C$245"]
["pp5_bl4_7_6_unit_in",{"$f":"'T2-B(PP5)'!$D$245","v":0},"#'T2-B(PP5)'!$D$245"]
["pp5_bl4_7_6_units_out",{"$f":"'T2-B(PP5)'!$G$245","v":0},"#'T2-B(PP5)'!$G$245"]
["pp5_bl4_7_7_name",{"$f":"'T2-B(PP5)'!$B$246","v":0},"#'T2-B(PP5)'!$B$246"]
["pp5_bl4_7_7_rate_in",{"$f":"'T2-B(PP5)'!$E$246","v":0},"#'T2-B(PP5)'!$E$246"]
["pp5_bl4_7_7_rate_out",{"$f":"'T2-B(PP5)'!$H$246","v":0},"#'T2-B(PP5)'!$H$246"]
["pp5_bl4_7_7_total",{"$f":"'T2-B(PP5)'!$J$246","v":0},"#'T2-B(PP5)'!$J$246"]
["pp5_bl4_7_7_total_in",{"$f":"'T2-B(PP5)'!$F$246","v":0},"#'T2-B(PP5)'!$F$246"]
["pp5_bl4_7_7_total_out",{"$f":"'T2-B(PP5)'!$I$246","v":0},"#'T2-B(PP5)'!$I$246"]
["pp5_bl4_7_7_unit",{"$f":"'T2-B(PP5)'!$C$246","v":0},"#'T2-B(PP5)'!$C$246"]
["pp5_bl4_7_7_unit_in",{"$f":"'T2-B(PP5)'!$D$246","v":0},"#'T2-B(PP5)'!$D$246"]
["pp5_bl4_7_7_units_out",{"$f":"'T2-B(PP5)'!$G$246","v":0},"#'T2-B(PP5)'!$G$246"]
["pp5_bl4_7_8_name",{"$f":"'T2-B(PP5)'!$B$247","v":0},"#'T2-B(PP5)'!$B$247"]
["pp5_bl4_7_8_rate_in",{"$f":"'T2-B(PP5)'!$E$247","v":0},"#'T2-B(PP5)'!$E$247"]
["pp5_bl4_7_8_rate_out",{"$f":"'T2-B(PP5)'!$H$247","v":0},"#'T2-B(PP5)'!$H$247"]
["pp5_bl4_7_8_total",{"$f":"'T2-B(PP5)'!$J$247","v":0},"#'T2-B(PP5)'!$J$247"]
["pp5_bl4_7_8_total_in",{"$f":"'T2-B(PP5)'!$F$247","v":0},"#'T2-B(PP5)'!$F$247"]
["pp5_bl4_7_8_total_out",{"$f":"'T2-B(PP5)'!$I$247","v":0},"#'T2-B(PP5)'!$I$247"]
["pp5_bl4_7_8_unit",{"$f":"'T2-B(PP5)'!$C$247","v":0},"#'T2-B(PP5)'!$C$247"]
["pp5_bl4_7_8_unit_in",{"$f":"'T2-B(PP5)'!$D$247","v":0},"#'T2-B(PP5)'!$D$247"]
["pp5_bl4_7_8_units_out",{"$f":"'T2-B(PP5)'!$G$247","v":0},"#'T2-B(PP5)'!$G$247"]
["pp5_bl4_7_9_name",{"$f":"'T2-B(PP5)'!$B$248","v":0},"#'T2-B(PP5)'!$B$248"]
["pp5_bl4_7_9_rate_in",{"$f":"'T2-B(PP5)'!$E$248","v":0},"#'T2-B(PP5)'!$E$248"]
["pp5_bl4_7_9_rate_out",{"$f":"'T2-B(PP5)'!$H$248","v":0},"#'T2-B(PP5)'!$H$248"]
["pp5_bl4_7_9_total",{"$f":"'T2-B(PP5)'!$J$248","v":0},"#'T2-B(PP5)'!$J$248"]
["pp5_bl4_7_9_total_in",{"$f":"'T2-B(PP5)'!$F$248","v":0},"#'T2-B(PP5)'!$F$248"]
["pp5_bl4_7_9_total_out",{"$f":"'T2-B(PP5)'!$I$248","v":0},"#'T2-B(PP5)'!$I$248"]
["pp5_bl4_7_9_unit",{"$f":"'T2-B(PP5)'!$C$248","v":0},"#'T2-B(PP5)'!$C$248"]
["pp5_bl4_7_9_unit_in",{"$f":"'T2-B(PP5)'!$D$248","v":0},"#'T2-B(PP5)'!$D$248"]
["pp5_bl4_7_9_units_out",{"$f":"'T2-B(PP5)'!$G$248","v":0},"#'T2-B(PP5)'!$G$248"]
["pp5_bl4_7_total",{"$f":"'T2-B(PP5)'!$J$239","v":0},"#'T2-B(PP5)'!$J$239"]
["pp5_bl4_7_total_in",{"$f":"'T2-B(PP5)'!$F$239","v":0},"#'T2-B(PP5)'!$F$239"]
["pp5_bl4_7_total_out",{"$f":"'T2-B(PP5)'!$I$239","v":0},"#'T2-B(PP5)'!$I$239"]
["pp5_bl4_8_1_name",{"$f":"'T2-B(PP5)'!$B$261","v":0},"#'T2-B(PP5)'!$B$261"]
["pp5_bl4_8_1_rate_in",{"$f":"'T2-B(PP5)'!$E$261","v":0},"#'T2-B(PP5)'!$E$261"]
["pp5_bl4_8_1_rate_out",{"$f":"'T2-B(PP5)'!$H$261","v":0},"#'T2-B(PP5)'!$H$261"]
["pp5_bl4_8_1_total",{"$f":"'T2-B(PP5)'!$J$261","v":0},"#'T2-B(PP5)'!$J$261"]
["pp5_bl4_8_1_total_in",{"$f":"'T2-B(PP5)'!$F$261","v":0},"#'T2-B(PP5)'!$F$261"]
["pp5_bl4_8_1_total_out",{"$f":"'T2-B(PP5)'!$I$261","v":0},"#'T2-B(PP5)'!$I$261"]
["pp5_bl4_8_1_unit",{"$f":"'T2-B(PP5)'!$C$261","v":0},"#'T2-B(PP5)'!$C$261"]
["pp5_bl4_8_1_unit_in",{"$f":"'T2-B(PP5)'!$D$261","v":0},"#'T2-B(PP5)'!$D$261"]
["pp5_bl4_8_1_units_out",{"$f":"'T2-B(PP5)'!$G$261","v":0},"#'T2-B(PP5)'!$G$261"]
["pp5_bl4_8_10_name",{"$f":"'T2-B(PP5)'!$B$270","v":0},"#'T2-B(PP5)'!$B$270"]
["pp5_bl4_8_10_rate_in",{"$f":"'T2-B(PP5)'!$E$270","v":0},"#'T2-B(PP5)'!$E$270"]
["pp5_bl4_8_10_rate_out",{"$f":"'T2-B(PP5)'!$H$270","v":0},"#'T2-B(PP5)'!$H$270"]
["pp5_bl4_8_10_total",{"$f":"'T2-B(PP5)'!$J$270","v":0},"#'T2-B(PP5)'!$J$270"]
["pp5_bl4_8_10_total_in",{"$f":"'T2-B(PP5)'!$F$270","v":0},"#'T2-B(PP5)'!$F$270"]
["pp5_bl4_8_10_total_out",{"$f":"'T2-B(PP5)'!$I$270","v":0},"#'T2-B(PP5)'!$I$270"]
["pp5_bl4_8_10_unit",{"$f":"'T2-B(PP5)'!$C$270","v":0},"#'T2-B(PP5)'!$C$270"]
["pp5_bl4_8_10_unit_in",{"$f":"'T2-B(PP5)'!$D$270","v":0},"#'T2-B(PP5)'!$D$270"]
["pp5_bl4_8_10_units_out",{"$f":"'T2-B(PP5)'!$G$270","v":0},"#'T2-B(PP5)'!$G$270"]
["pp5_bl4_8_2_name",{"$f":"'T2-B(PP5)'!$B$262","v":0},"#'T2-B(PP5)'!$B$262"]
["pp5_bl4_8_2_rate_in",{"$f":"'T2-B(PP5)'!$E$262","v":0},"#'T2-B(PP5)'!$E$262"]
["pp5_bl4_8_2_rate_out",{"$f":"'T2-B(PP5)'!$H$262","v":0},"#'T2-B(PP5)'!$H$262"]
["pp5_bl4_8_2_total",{"$f":"'T2-B(PP5)'!$J$262","v":0},"#'T2-B(PP5)'!$J$262"]
["pp5_bl4_8_2_total_in",{"$f":"'T2-B(PP5)'!$F$262","v":0},"#'T2-B(PP5)'!$F$262"]
["pp5_bl4_8_2_total_out",{"$f":"'T2-B(PP5)'!$I$262","v":0},"#'T2-B(PP5)'!$I$262"]
["pp5_bl4_8_2_unit",{"$f":"'T2-B(PP5)'!$C$262","v":0},"#'T2-B(PP5)'!$C$262"]
["pp5_bl4_8_2_unit_in",{"$f":"'T2-B(PP5)'!$D$262","v":0},"#'T2-B(PP5)'!$D$262"]
["pp5_bl4_8_2_units_out",{"$f":"'T2-B(PP5)'!$G$262","v":0},"#'T2-B(PP5)'!$G$262"]
["pp5_bl4_8_3_name",{"$f":"'T2-B(PP5)'!$B$263","v":0},"#'T2-B(PP5)'!$B$263"]
["pp5_bl4_8_3_rate_in",{"$f":"'T2-B(PP5)'!$E$263","v":0},"#'T2-B(PP5)'!$E$263"]
["pp5_bl4_8_3_rate_out",{"$f":"'T2-B(PP5)'!$H$263","v":0},"#'T2-B(PP5)'!$H$263"]
["pp5_bl4_8_3_total",{"$f":"'T2-B(PP5)'!$J$263","v":0},"#'T2-B(PP5)'!$J$263"]
["pp5_bl4_8_3_total_in",{"$f":"'T2-B(PP5)'!$F$263","v":0},"#'T2-B(PP5)'!$F$263"]
["pp5_bl4_8_3_total_out",{"$f":"'T2-B(PP5)'!$I$263","v":0},"#'T2-B(PP5)'!$I$263"]
["pp5_bl4_8_3_unit",{"$f":"'T2-B(PP5)'!$C$263","v":0},"#'T2-B(PP5)'!$C$263"]
["pp5_bl4_8_3_unit_in",{"$f":"'T2-B(PP5)'!$D$263","v":0},"#'T2-B(PP5)'!$D$263"]
["pp5_bl4_8_3_units_out",{"$f":"'T2-B(PP5)'!$G$263","v":0},"#'T2-B(PP5)'!$G$263"]
["pp5_bl4_8_4_name",{"$f":"'T2-B(PP5)'!$B$264","v":0},"#'T2-B(PP5)'!$B$264"]
["pp5_bl4_8_4_rate_in",{"$f":"'T2-B(PP5)'!$E$264","v":0},"#'T2-B(PP5)'!$E$264"]
["pp5_bl4_8_4_rate_out",{"$f":"'T2-B(PP5)'!$H$264","v":0},"#'T2-B(PP5)'!$H$264"]
["pp5_bl4_8_4_total",{"$f":"'T2-B(PP5)'!$J$264","v":0},"#'T2-B(PP5)'!$J$264"]
["pp5_bl4_8_4_total_in",{"$f":"'T2-B(PP5)'!$F$264","v":0},"#'T2-B(PP5)'!$F$264"]
["pp5_bl4_8_4_total_out",{"$f":"'T2-B(PP5)'!$I$264","v":0},"#'T2-B(PP5)'!$I$264"]
["pp5_bl4_8_4_unit",{"$f":"'T2-B(PP5)'!$C$264","v":0},"#'T2-B(PP5)'!$C$264"]
["pp5_bl4_8_4_unit_in",{"$f":"'T2-B(PP5)'!$D$264","v":0},"#'T2-B(PP5)'!$D$264"]
["pp5_bl4_8_4_units_out",{"$f":"'T2-B(PP5)'!$G$264","v":0},"#'T2-B(PP5)'!$G$264"]
["pp5_bl4_8_5_name",{"$f":"'T2-B(PP5)'!$B$265","v":0},"#'T2-B(PP5)'!$B$265"]
["pp5_bl4_8_5_rate_in",{"$f":"'T2-B(PP5)'!$E$265","v":0},"#'T2-B(PP5)'!$E$265"]
["pp5_bl4_8_5_rate_out",{"$f":"'T2-B(PP5)'!$H$265","v":0},"#'T2-B(PP5)'!$H$265"]
["pp5_bl4_8_5_total",{"$f":"'T2-B(PP5)'!$J$265","v":0},"#'T2-B(PP5)'!$J$265"]
["pp5_bl4_8_5_total_in",{"$f":"'T2-B(PP5)'!$F$265","v":0},"#'T2-B(PP5)'!$F$265"]
["pp5_bl4_8_5_total_out",{"$f":"'T2-B(PP5)'!$I$265","v":0},"#'T2-B(PP5)'!$I$265"]
["pp5_bl4_8_5_unit",{"$f":"'T2-B(PP5)'!$C$265","v":0},"#'T2-B(PP5)'!$C$265"]
["pp5_bl4_8_5_unit_in",{"$f":"'T2-B(PP5)'!$D$265","v":0},"#'T2-B(PP5)'!$D$265"]
["pp5_bl4_8_5_units_out",{"$f":"'T2-B(PP5)'!$G$265","v":0},"#'T2-B(PP5)'!$G$265"]
["pp5_bl4_8_6_name",{"$f":"'T2-B(PP5)'!$B$266","v":0},"#'T2-B(PP5)'!$B$266"]
["pp5_bl4_8_6_rate_in",{"$f":"'T2-B(PP5)'!$E$266","v":0},"#'T2-B(PP5)'!$E$266"]
["pp5_bl4_8_6_rate_out",{"$f":"'T2-B(PP5)'!$H$266","v":0},"#'T2-B(PP5)'!$H$266"]
["pp5_bl4_8_6_total",{"$f":"'T2-B(PP5)'!$J$266","v":0},"#'T2-B(PP5)'!$J$266"]
["pp5_bl4_8_6_total_in",{"$f":"'T2-B(PP5)'!$F$266","v":0},"#'T2-B(PP5)'!$F$266"]
["pp5_bl4_8_6_total_out",{"$f":"'T2-B(PP5)'!$I$266","v":0},"#'T2-B(PP5)'!$I$266"]
["pp5_bl4_8_6_unit",{"$f":"'T2-B(PP5)'!$C$266","v":0},"#'T2-B(PP5)'!$C$266"]
["pp5_bl4_8_6_unit_in",{"$f":"'T2-B(PP5)'!$D$266","v":0},"#'T2-B(PP5)'!$D$266"]
["pp5_bl4_8_6_units_out",{"$f":"'T2-B(PP5)'!$G$266","v":0},"#'T2-B(PP5)'!$G$266"]
["pp5_bl4_8_7_name",{"$f":"'T2-B(PP5)'!$B$267","v":0},"#'T2-B(PP5)'!$B$267"]
["pp5_bl4_8_7_rate_in",{"$f":"'T2-B(PP5)'!$E$267","v":0},"#'T2-B(PP5)'!$E$267"]
["pp5_bl4_8_7_rate_out",{"$f":"'T2-B(PP5)'!$H$267","v":0},"#'T2-B(PP5)'!$H$267"]
["pp5_bl4_8_7_total",{"$f":"'T2-B(PP5)'!$J$267","v":0},"#'T2-B(PP5)'!$J$267"]
["pp5_bl4_8_7_total_in",{"$f":"'T2-B(PP5)'!$F$267","v":0},"#'T2-B(PP5)'!$F$267"]
["pp5_bl4_8_7_total_out",{"$f":"'T2-B(PP5)'!$I$267","v":0},"#'T2-B(PP5)'!$I$267"]
["pp5_bl4_8_7_unit",{"$f":"'T2-B(PP5)'!$C$267","v":0},"#'T2-B(PP5)'!$C$267"]
["pp5_bl4_8_7_unit_in",{"$f":"'T2-B(PP5)'!$D$267","v":0},"#'T2-B(PP5)'!$D$267"]
["pp5_bl4_8_7_units_out",{"$f":"'T2-B(PP5)'!$G$267","v":0},"#'T2-B(PP5)'!$G$267"]
["pp5_bl4_8_8_name",{"$f":"'T2-B(PP5)'!$B$268","v":0},"#'T2-B(PP5)'!$B$268"]
["pp5_bl4_8_8_rate_in",{"$f":"'T2-B(PP5)'!$E$268","v":0},"#'T2-B(PP5)'!$E$268"]
["pp5_bl4_8_8_rate_out",{"$f":"'T2-B(PP5)'!$H$268","v":0},"#'T2-B(PP5)'!$H$268"]
["pp5_bl4_8_8_total",{"$f":"'T2-B(PP5)'!$J$268","v":0},"#'T2-B(PP5)'!$J$268"]
["pp5_bl4_8_8_total_in",{"$f":"'T2-B(PP5)'!$F$268","v":0},"#'T2-B(PP5)'!$F$268"]
["pp5_bl4_8_8_total_out",{"$f":"'T2-B(PP5)'!$I$268","v":0},"#'T2-B(PP5)'!$I$268"]
["pp5_bl4_8_8_unit",{"$f":"'T2-B(PP5)'!$C$268","v":0},"#'T2-B(PP5)'!$C$268"]
["pp5_bl4_8_8_unit_in",{"$f":"'T2-B(PP5)'!$D$268","v":0},"#'T2-B(PP5)'!$D$268"]
["pp5_bl4_8_8_units_out",{"$f":"'T2-B(PP5)'!$G$268","v":0},"#'T2-B(PP5)'!$G$268"]
["pp5_bl4_8_9_name",{"$f":"'T2-B(PP5)'!$B$269","v":0},"#'T2-B(PP5)'!$B$269"]
["pp5_bl4_8_9_rate_in",{"$f":"'T2-B(PP5)'!$E$269","v":0},"#'T2-B(PP5)'!$E$269"]
["pp5_bl4_8_9_rate_out",{"$f":"'T2-B(PP5)'!$H$269","v":0},"#'T2-B(PP5)'!$H$269"]
["pp5_bl4_8_9_total",{"$f":"'T2-B(PP5)'!$J$269","v":0},"#'T2-B(PP5)'!$J$269"]
["pp5_bl4_8_9_total_in",{"$f":"'T2-B(PP5)'!$F$269","v":0},"#'T2-B(PP5)'!$F$269"]
["pp5_bl4_8_9_total_out",{"$f":"'T2-B(PP5)'!$I$269","v":0},"#'T2-B(PP5)'!$I$269"]
["pp5_bl4_8_9_unit",{"$f":"'T2-B(PP5)'!$C$269","v":0},"#'T2-B(PP5)'!$C$269"]
["pp5_bl4_8_9_unit_in",{"$f":"'T2-B(PP5)'!$D$269","v":0},"#'T2-B(PP5)'!$D$269"]
["pp5_bl4_8_9_units_out",{"$f":"'T2-B(PP5)'!$G$269","v":0},"#'T2-B(PP5)'!$G$269"]
["pp5_bl4_8_total",{"$f":"'T2-B(PP5)'!$J$260","v":0},"#'T2-B(PP5)'!$J$260"]
["pp5_bl4_8_total_in",{"$f":"'T2-B(PP5)'!$F$260","v":0},"#'T2-B(PP5)'!$F$260"]
["pp5_bl4_8_total_out",{"$f":"'T2-B(PP5)'!$I$260","v":0},"#'T2-B(PP5)'!$I$260"]
["pp5_bl4_9_1_name",{"$f":"'T2-B(PP5)'!$B$282","v":0},"#'T2-B(PP5)'!$B$282"]
["pp5_bl4_9_1_rate_in",{"$f":"'T2-B(PP5)'!$E$282","v":0},"#'T2-B(PP5)'!$E$282"]
["pp5_bl4_9_1_rate_out",{"$f":"'T2-B(PP5)'!$H$282","v":0},"#'T2-B(PP5)'!$H$282"]
["pp5_bl4_9_1_total",{"$f":"'T2-B(PP5)'!$J$282","v":0},"#'T2-B(PP5)'!$J$282"]
["pp5_bl4_9_1_total_in",{"$f":"'T2-B(PP5)'!$F$282","v":0},"#'T2-B(PP5)'!$F$282"]
["pp5_bl4_9_1_total_out",{"$f":"'T2-B(PP5)'!$I$282","v":0},"#'T2-B(PP5)'!$I$282"]
["pp5_bl4_9_1_unit",{"$f":"'T2-B(PP5)'!$C$282","v":0},"#'T2-B(PP5)'!$C$282"]
["pp5_bl4_9_1_unit_in",{"$f":"'T2-B(PP5)'!$D$282","v":0},"#'T2-B(PP5)'!$D$282"]
["pp5_bl4_9_1_units_out",{"$f":"'T2-B(PP5)'!$G$282","v":0},"#'T2-B(PP5)'!$G$282"]
["pp5_bl4_9_10_name",{"$f":"'T2-B(PP5)'!$B$291","v":0},"#'T2-B(PP5)'!$B$291"]
["pp5_bl4_9_10_rate_in",{"$f":"'T2-B(PP5)'!$E$291","v":0},"#'T2-B(PP5)'!$E$291"]
["pp5_bl4_9_10_rate_out",{"$f":"'T2-B(PP5)'!$H$291","v":0},"#'T2-B(PP5)'!$H$291"]
["pp5_bl4_9_10_total",{"$f":"'T2-B(PP5)'!$J$291","v":0},"#'T2-B(PP5)'!$J$291"]
["pp5_bl4_9_10_total_in",{"$f":"'T2-B(PP5)'!$F$291","v":0},"#'T2-B(PP5)'!$F$291"]
["pp5_bl4_9_10_total_out",{"$f":"'T2-B(PP5)'!$I$291","v":0},"#'T2-B(PP5)'!$I$291"]
["pp5_bl4_9_10_unit",{"$f":"'T2-B(PP5)'!$C$291","v":0},"#'T2-B(PP5)'!$C$291"]
["pp5_bl4_9_10_unit_in",{"$f":"'T2-B(PP5)'!$D$291","v":0},"#'T2-B(PP5)'!$D$291"]
["pp5_bl4_9_10_units_out",{"$f":"'T2-B(PP5)'!$G$291","v":0},"#'T2-B(PP5)'!$G$291"]
["pp5_bl4_9_2_name",{"$f":"'T2-B(PP5)'!$B$283","v":0},"#'T2-B(PP5)'!$B$283"]
["pp5_bl4_9_2_rate_in",{"$f":"'T2-B(PP5)'!$E$283","v":0},"#'T2-B(PP5)'!$E$283"]
["pp5_bl4_9_2_rate_out",{"$f":"'T2-B(PP5)'!$H$283","v":0},"#'T2-B(PP5)'!$H$283"]
["pp5_bl4_9_2_total",{"$f":"'T2-B(PP5)'!$J$283","v":0},"#'T2-B(PP5)'!$J$283"]
["pp5_bl4_9_2_total_in",{"$f":"'T2-B(PP5)'!$F$283","v":0},"#'T2-B(PP5)'!$F$283"]
["pp5_bl4_9_2_total_out",{"$f":"'T2-B(PP5)'!$I$283","v":0},"#'T2-B(PP5)'!$I$283"]
["pp5_bl4_9_2_unit",{"$f":"'T2-B(PP5)'!$C$283","v":0},"#'T2-B(PP5)'!$C$283"]
["pp5_bl4_9_2_unit_in",{"$f":"'T2-B(PP5)'!$D$283","v":0},"#'T2-B(PP5)'!$D$283"]
["pp5_bl4_9_2_units_out",{"$f":"'T2-B(PP5)'!$G$283","v":0},"#'T2-B(PP5)'!$G$283"]
["pp5_bl4_9_3_name",{"$f":"'T2-B(PP5)'!$B$284","v":0},"#'T2-B(PP5)'!$B$284"]
["pp5_bl4_9_3_rate_in",{"$f":"'T2-B(PP5)'!$E$284","v":0},"#'T2-B(PP5)'!$E$284"]
["pp5_bl4_9_3_rate_out",{"$f":"'T2-B(PP5)'!$H$284","v":0},"#'T2-B(PP5)'!$H$284"]
["pp5_bl4_9_3_total",{"$f":"'T2-B(PP5)'!$J$284","v":0},"#'T2-B(PP5)'!$J$284"]
["pp5_bl4_9_3_total_in",{"$f":"'T2-B(PP5)'!$F$284","v":0},"#'T2-B(PP5)'!$F$284"]
["pp5_bl4_9_3_total_out",{"$f":"'T2-B(PP5)'!$I$284","v":0},"#'T2-B(PP5)'!$I$284"]
["pp5_bl4_9_3_unit",{"$f":"'T2-B(PP5)'!$C$284","v":0},"#'T2-B(PP5)'!$C$284"]
["pp5_bl4_9_3_unit_in",{"$f":"'T2-B(PP5)'!$D$284","v":0},"#'T2-B(PP5)'!$D$284"]
["pp5_bl4_9_3_units_out",{"$f":"'T2-B(PP5)'!$G$284","v":0},"#'T2-B(PP5)'!$G$284"]
["pp5_bl4_9_4_name",{"$f":"'T2-B(PP5)'!$B$285","v":0},"#'T2-B(PP5)'!$B$285"]
["pp5_bl4_9_4_rate_in",{"$f":"'T2-B(PP5)'!$E$285","v":0},"#'T2-B(PP5)'!$E$285"]
["pp5_bl4_9_4_rate_out",{"$f":"'T2-B(PP5)'!$H$285","v":0},"#'T2-B(PP5)'!$H$285"]
["pp5_bl4_9_4_total",{"$f":"'T2-B(PP5)'!$J$285","v":0},"#'T2-B(PP5)'!$J$285"]
["pp5_bl4_9_4_total_in",{"$f":"'T2-B(PP5)'!$F$285","v":0},"#'T2-B(PP5)'!$F$285"]
["pp5_bl4_9_4_total_out",{"$f":"'T2-B(PP5)'!$I$285","v":0},"#'T2-B(PP5)'!$I$285"]
["pp5_bl4_9_4_unit",{"$f":"'T2-B(PP5)'!$C$285","v":0},"#'T2-B(PP5)'!$C$285"]
["pp5_bl4_9_4_unit_in",{"$f":"'T2-B(PP5)'!$D$285","v":0},"#'T2-B(PP5)'!$D$285"]
["pp5_bl4_9_4_units_out",{"$f":"'T2-B(PP5)'!$G$285","v":0},"#'T2-B(PP5)'!$G$285"]
["pp5_bl4_9_5_name",{"$f":"'T2-B(PP5)'!$B$286","v":0},"#'T2-B(PP5)'!$B$286"]
["pp5_bl4_9_5_rate_in",{"$f":"'T2-B(PP5)'!$E$286","v":0},"#'T2-B(PP5)'!$E$286"]
["pp5_bl4_9_5_rate_out",{"$f":"'T2-B(PP5)'!$H$286","v":0},"#'T2-B(PP5)'!$H$286"]
["pp5_bl4_9_5_total",{"$f":"'T2-B(PP5)'!$J$286","v":0},"#'T2-B(PP5)'!$J$286"]
["pp5_bl4_9_5_total_in",{"$f":"'T2-B(PP5)'!$F$286","v":0},"#'T2-B(PP5)'!$F$286"]
["pp5_bl4_9_5_total_out",{"$f":"'T2-B(PP5)'!$I$286","v":0},"#'T2-B(PP5)'!$I$286"]
["pp5_bl4_9_5_unit",{"$f":"'T2-B(PP5)'!$C$286","v":0},"#'T2-B(PP5)'!$C$286"]
["pp5_bl4_9_5_unit_in",{"$f":"'T2-B(PP5)'!$D$286","v":0},"#'T2-B(PP5)'!$D$286"]
["pp5_bl4_9_5_units_out",{"$f":"'T2-B(PP5)'!$G$286","v":0},"#'T2-B(PP5)'!$G$286"]
["pp5_bl4_9_6_name",{"$f":"'T2-B(PP5)'!$B$287","v":0},"#'T2-B(PP5)'!$B$287"]
["pp5_bl4_9_6_rate_in",{"$f":"'T2-B(PP5)'!$E$287","v":0},"#'T2-B(PP5)'!$E$287"]
["pp5_bl4_9_6_rate_out",{"$f":"'T2-B(PP5)'!$H$287","v":0},"#'T2-B(PP5)'!$H$287"]
["pp5_bl4_9_6_total",{"$f":"'T2-B(PP5)'!$J$287","v":0},"#'T2-B(PP5)'!$J$287"]
["pp5_bl4_9_6_total_in",{"$f":"'T2-B(PP5)'!$F$287","v":0},"#'T2-B(PP5)'!$F$287"]
["pp5_bl4_9_6_total_out",{"$f":"'T2-B(PP5)'!$I$287","v":0},"#'T2-B(PP5)'!$I$287"]
["pp5_bl4_9_6_unit",{"$f":"'T2-B(PP5)'!$C$287","v":0},"#'T2-B(PP5)'!$C$287"]
["pp5_bl4_9_6_unit_in",{"$f":"'T2-B(PP5)'!$D$287","v":0},"#'T2-B(PP5)'!$D$287"]
["pp5_bl4_9_6_units_out",{"$f":"'T2-B(PP5)'!$G$287","v":0},"#'T2-B(PP5)'!$G$287"]
["pp5_bl4_9_7_name",{"$f":"'T2-B(PP5)'!$B$288","v":0},"#'T2-B(PP5)'!$B$288"]
["pp5_bl4_9_7_rate_in",{"$f":"'T2-B(PP5)'!$E$288","v":0},"#'T2-B(PP5)'!$E$288"]
["pp5_bl4_9_7_rate_out",{"$f":"'T2-B(PP5)'!$H$288","v":0},"#'T2-B(PP5)'!$H$288"]
["pp5_bl4_9_7_total",{"$f":"'T2-B(PP5)'!$J$288","v":0},"#'T2-B(PP5)'!$J$288"]
["pp5_bl4_9_7_total_in",{"$f":"'T2-B(PP5)'!$F$288","v":0},"#'T2-B(PP5)'!$F$288"]
["pp5_bl4_9_7_total_out",{"$f":"'T2-B(PP5)'!$I$288","v":0},"#'T2-B(PP5)'!$I$288"]
["pp5_bl4_9_7_unit",{"$f":"'T2-B(PP5)'!$C$288","v":0},"#'T2-B(PP5)'!$C$288"]
["pp5_bl4_9_7_unit_in",{"$f":"'T2-B(PP5)'!$D$288","v":0},"#'T2-B(PP5)'!$D$288"]
["pp5_bl4_9_7_units_out",{"$f":"'T2-B(PP5)'!$G$288","v":0},"#'T2-B(PP5)'!$G$288"]
["pp5_bl4_9_8_name",{"$f":"'T2-B(PP5)'!$B$289","v":0},"#'T2-B(PP5)'!$B$289"]
["pp5_bl4_9_8_rate_in",{"$f":"'T2-B(PP5)'!$E$289","v":0},"#'T2-B(PP5)'!$E$289"]
["pp5_bl4_9_8_rate_out",{"$f":"'T2-B(PP5)'!$H$289","v":0},"#'T2-B(PP5)'!$H$289"]
["pp5_bl4_9_8_total",{"$f":"'T2-B(PP5)'!$J$289","v":0},"#'T2-B(PP5)'!$J$289"]
["pp5_bl4_9_8_total_in",{"$f":"'T2-B(PP5)'!$F$289","v":0},"#'T2-B(PP5)'!$F$289"]
["pp5_bl4_9_8_total_out",{"$f":"'T2-B(PP5)'!$I$289","v":0},"#'T2-B(PP5)'!$I$289"]
["pp5_bl4_9_8_unit",{"$f":"'T2-B(PP5)'!$C$289","v":0},"#'T2-B(PP5)'!$C$289"]
["pp5_bl4_9_8_unit_in",{"$f":"'T2-B(PP5)'!$D$289","v":0},"#'T2-B(PP5)'!$D$289"]
["pp5_bl4_9_8_units_out",{"$f":"'T2-B(PP5)'!$G$289","v":0},"#'T2-B(PP5)'!$G$289"]
["pp5_bl4_9_9_name",{"$f":"'T2-B(PP5)'!$B$290","v":0},"#'T2-B(PP5)'!$B$290"]
["pp5_bl4_9_9_rate_in",{"$f":"'T2-B(PP5)'!$E$290","v":0},"#'T2-B(PP5)'!$E$290"]
["pp5_bl4_9_9_rate_out",{"$f":"'T2-B(PP5)'!$H$290","v":0},"#'T2-B(PP5)'!$H$290"]
["pp5_bl4_9_9_total",{"$f":"'T2-B(PP5)'!$J$290","v":0},"#'T2-B(PP5)'!$J$290"]
["pp5_bl4_9_9_total_in",{"$f":"'T2-B(PP5)'!$F$290","v":0},"#'T2-B(PP5)'!$F$290"]
["pp5_bl4_9_9_total_out",{"$f":"'T2-B(PP5)'!$I$290","v":0},"#'T2-B(PP5)'!$I$290"]
["pp5_bl4_9_9_unit",{"$f":"'T2-B(PP5)'!$C$290","v":0},"#'T2-B(PP5)'!$C$290"]
["pp5_bl4_9_9_unit_in",{"$f":"'T2-B(PP5)'!$D$290","v":0},"#'T2-B(PP5)'!$D$290"]
["pp5_bl4_9_9_units_out",{"$f":"'T2-B(PP5)'!$G$290","v":0},"#'T2-B(PP5)'!$G$290"]
["pp5_bl4_9_total",{"$f":"'T2-B(PP5)'!$J$281","v":0},"#'T2-B(PP5)'!$J$281"]
["pp5_bl4_9_total_in",{"$f":"'T2-B(PP5)'!$F$281","v":0},"#'T2-B(PP5)'!$F$281"]
["pp5_bl4_9_total_out",{"$f":"'T2-B(PP5)'!$I$281","v":0},"#'T2-B(PP5)'!$I$281"]
["pp5_bl4_total",{"$f":"'T2-B(PP5)'!$J$365","v":0},"#'T2-B(PP5)'!$J$365"]
["pp5_bl4_total_in",{"$f":"'T2-B(PP5)'!$F$365","v":0},"#'T2-B(PP5)'!$F$365"]
["pp5_bl4_total_out",{"$f":"'T2-B(PP5)'!$I$365","v":0},"#'T2-B(PP5)'!$I$365"]
["pp5_bl5_1_1_name",{"$f":"'T2-B(PP5)'!$B$370","v":0},"#'T2-B(PP5)'!$B$370"]
["pp5_bl5_1_1_rate_in",{"$f":"'T2-B(PP5)'!$E$370","v":0},"#'T2-B(PP5)'!$E$370"]
["pp5_bl5_1_1_rate_out",{"$f":"'T2-B(PP5)'!$H$370","v":0},"#'T2-B(PP5)'!$H$370"]
["pp5_bl5_1_1_total",{"$f":"'T2-B(PP5)'!$J$370","v":0},"#'T2-B(PP5)'!$J$370"]
["pp5_bl5_1_1_total_in",{"$f":"'T2-B(PP5)'!$F$370","v":0},"#'T2-B(PP5)'!$F$370"]
["pp5_bl5_1_1_total_out",{"$f":"'T2-B(PP5)'!$I$370","v":0},"#'T2-B(PP5)'!$I$370"]
["pp5_bl5_1_1_unit",{"$f":"'T2-B(PP5)'!$C$370","v":0},"#'T2-B(PP5)'!$C$370"]
["pp5_bl5_1_1_unit_in",{"$f":"'T2-B(PP5)'!$D$370","v":0},"#'T2-B(PP5)'!$D$370"]
["pp5_bl5_1_1_units_out",{"$f":"'T2-B(PP5)'!$G$370","v":0},"#'T2-B(PP5)'!$G$370"]
["pp5_bl5_1_10_name",{"$f":"'T2-B(PP5)'!$B$379","v":0},"#'T2-B(PP5)'!$B$379"]
["pp5_bl5_1_10_rate_in",{"$f":"'T2-B(PP5)'!$E$379","v":0},"#'T2-B(PP5)'!$E$379"]
["pp5_bl5_1_10_rate_out",{"$f":"'T2-B(PP5)'!$H$379","v":0},"#'T2-B(PP5)'!$H$379"]
["pp5_bl5_1_10_total",{"$f":"'T2-B(PP5)'!$J$379","v":0},"#'T2-B(PP5)'!$J$379"]
["pp5_bl5_1_10_total_in",{"$f":"'T2-B(PP5)'!$F$379","v":0},"#'T2-B(PP5)'!$F$379"]
["pp5_bl5_1_10_total_out",{"$f":"'T2-B(PP5)'!$I$379","v":0},"#'T2-B(PP5)'!$I$379"]
["pp5_bl5_1_10_unit",{"$f":"'T2-B(PP5)'!$C$379","v":0},"#'T2-B(PP5)'!$C$379"]
["pp5_bl5_1_10_unit_in",{"$f":"'T2-B(PP5)'!$D$379","v":0},"#'T2-B(PP5)'!$D$379"]
["pp5_bl5_1_10_units_out",{"$f":"'T2-B(PP5)'!$G$379","v":0},"#'T2-B(PP5)'!$G$379"]
["pp5_bl5_1_2_name",{"$f":"'T2-B(PP5)'!$B$371","v":0},"#'T2-B(PP5)'!$B$371"]
["pp5_bl5_1_2_rate_in",{"$f":"'T2-B(PP5)'!$E$371","v":0},"#'T2-B(PP5)'!$E$371"]
["pp5_bl5_1_2_rate_out",{"$f":"'T2-B(PP5)'!$H$371","v":0},"#'T2-B(PP5)'!$H$371"]
["pp5_bl5_1_2_total",{"$f":"'T2-B(PP5)'!$J$371","v":0},"#'T2-B(PP5)'!$J$371"]
["pp5_bl5_1_2_total_in",{"$f":"'T2-B(PP5)'!$F$371","v":0},"#'T2-B(PP5)'!$F$371"]
["pp5_bl5_1_2_total_out",{"$f":"'T2-B(PP5)'!$I$371","v":0},"#'T2-B(PP5)'!$I$371"]
["pp5_bl5_1_2_unit",{"$f":"'T2-B(PP5)'!$C$371","v":0},"#'T2-B(PP5)'!$C$371"]
["pp5_bl5_1_2_unit_in",{"$f":"'T2-B(PP5)'!$D$371","v":0},"#'T2-B(PP5)'!$D$371"]
["pp5_bl5_1_2_units_out",{"$f":"'T2-B(PP5)'!$G$371","v":0},"#'T2-B(PP5)'!$G$371"]
["pp5_bl5_1_3_name",{"$f":"'T2-B(PP5)'!$B$372","v":0},"#'T2-B(PP5)'!$B$372"]
["pp5_bl5_1_3_rate_in",{"$f":"'T2-B(PP5)'!$E$372","v":0},"#'T2-B(PP5)'!$E$372"]
["pp5_bl5_1_3_rate_out",{"$f":"'T2-B(PP5)'!$H$372","v":0},"#'T2-B(PP5)'!$H$372"]
["pp5_bl5_1_3_total",{"$f":"'T2-B(PP5)'!$J$372","v":0},"#'T2-B(PP5)'!$J$372"]
["pp5_bl5_1_3_total_in",{"$f":"'T2-B(PP5)'!$F$372","v":0},"#'T2-B(PP5)'!$F$372"]
["pp5_bl5_1_3_total_out",{"$f":"'T2-B(PP5)'!$I$372","v":0},"#'T2-B(PP5)'!$I$372"]
["pp5_bl5_1_3_unit",{"$f":"'T2-B(PP5)'!$C$372","v":0},"#'T2-B(PP5)'!$C$372"]
["pp5_bl5_1_3_unit_in",{"$f":"'T2-B(PP5)'!$D$372","v":0},"#'T2-B(PP5)'!$D$372"]
["pp5_bl5_1_3_units_out",{"$f":"'T2-B(PP5)'!$G$372","v":0},"#'T2-B(PP5)'!$G$372"]
["pp5_bl5_1_4_name",{"$f":"'T2-B(PP5)'!$B$373","v":0},"#'T2-B(PP5)'!$B$373"]
["pp5_bl5_1_4_rate_in",{"$f":"'T2-B(PP5)'!$E$373","v":0},"#'T2-B(PP5)'!$E$373"]
["pp5_bl5_1_4_rate_out",{"$f":"'T2-B(PP5)'!$H$373","v":0},"#'T2-B(PP5)'!$H$373"]
["pp5_bl5_1_4_total",{"$f":"'T2-B(PP5)'!$J$373","v":0},"#'T2-B(PP5)'!$J$373"]
["pp5_bl5_1_4_total_in",{"$f":"'T2-B(PP5)'!$F$373","v":0},"#'T2-B(PP5)'!$F$373"]
["pp5_bl5_1_4_total_out",{"$f":"'T2-B(PP5)'!$I$373","v":0},"#'T2-B(PP5)'!$I$373"]
["pp5_bl5_1_4_unit",{"$f":"'T2-B(PP5)'!$C$373","v":0},"#'T2-B(PP5)'!$C$373"]
["pp5_bl5_1_4_unit_in",{"$f":"'T2-B(PP5)'!$D$373","v":0},"#'T2-B(PP5)'!$D$373"]
["pp5_bl5_1_4_units_out",{"$f":"'T2-B(PP5)'!$G$373","v":0},"#'T2-B(PP5)'!$G$373"]
["pp5_bl5_1_5_name",{"$f":"'T2-B(PP5)'!$B$374","v":0},"#'T2-B(PP5)'!$B$374"]
["pp5_bl5_1_5_rate_in",{"$f":"'T2-B(PP5)'!$E$374","v":0},"#'T2-B(PP5)'!$E$374"]
["pp5_bl5_1_5_rate_out",{"$f":"'T2-B(PP5)'!$H$374","v":0},"#'T2-B(PP5)'!$H$374"]
["pp5_bl5_1_5_total",{"$f":"'T2-B(PP5)'!$J$374","v":0},"#'T2-B(PP5)'!$J$374"]
["pp5_bl5_1_5_total_in",{"$f":"'T2-B(PP5)'!$F$374","v":0},"#'T2-B(PP5)'!$F$374"]
["pp5_bl5_1_5_total_out",{"$f":"'T2-B(PP5)'!$I$374","v":0},"#'T2-B(PP5)'!$I$374"]
["pp5_bl5_1_5_unit",{"$f":"'T2-B(PP5)'!$C$374","v":0},"#'T2-B(PP5)'!$C$374"]
["pp5_bl5_1_5_unit_in",{"$f":"'T2-B(PP5)'!$D$374","v":0},"#'T2-B(PP5)'!$D$374"]
["pp5_bl5_1_5_units_out",{"$f":"'T2-B(PP5)'!$G$374","v":0},"#'T2-B(PP5)'!$G$374"]
["pp5_bl5_1_6_name",{"$f":"'T2-B(PP5)'!$B$375","v":0},"#'T2-B(PP5)'!$B$375"]
["pp5_bl5_1_6_rate_in",{"$f":"'T2-B(PP5)'!$E$375","v":0},"#'T2-B(PP5)'!$E$375"]
["pp5_bl5_1_6_rate_out",{"$f":"'T2-B(PP5)'!$H$375","v":0},"#'T2-B(PP5)'!$H$375"]
["pp5_bl5_1_6_total",{"$f":"'T2-B(PP5)'!$J$375","v":0},"#'T2-B(PP5)'!$J$375"]
["pp5_bl5_1_6_total_in",{"$f":"'T2-B(PP5)'!$F$375","v":0},"#'T2-B(PP5)'!$F$375"]
["pp5_bl5_1_6_total_out",{"$f":"'T2-B(PP5)'!$I$375","v":0},"#'T2-B(PP5)'!$I$375"]
["pp5_bl5_1_6_unit",{"$f":"'T2-B(PP5)'!$C$375","v":0},"#'T2-B(PP5)'!$C$375"]
["pp5_bl5_1_6_unit_in",{"$f":"'T2-B(PP5)'!$D$375","v":0},"#'T2-B(PP5)'!$D$375"]
["pp5_bl5_1_6_units_out",{"$f":"'T2-B(PP5)'!$G$375","v":0},"#'T2-B(PP5)'!$G$375"]
["pp5_bl5_1_7_name",{"$f":"'T2-B(PP5)'!$B$376","v":0},"#'T2-B(PP5)'!$B$376"]
["pp5_bl5_1_7_rate_in",{"$f":"'T2-B(PP5)'!$E$376","v":0},"#'T2-B(PP5)'!$E$376"]
["pp5_bl5_1_7_rate_out",{"$f":"'T2-B(PP5)'!$H$376","v":0},"#'T2-B(PP5)'!$H$376"]
["pp5_bl5_1_7_total",{"$f":"'T2-B(PP5)'!$J$376","v":0},"#'T2-B(PP5)'!$J$376"]
["pp5_bl5_1_7_total_in",{"$f":"'T2-B(PP5)'!$F$376","v":0},"#'T2-B(PP5)'!$F$376"]
["pp5_bl5_1_7_total_out",{"$f":"'T2-B(PP5)'!$I$376","v":0},"#'T2-B(PP5)'!$I$376"]
["pp5_bl5_1_7_unit",{"$f":"'T2-B(PP5)'!$C$376","v":0},"#'T2-B(PP5)'!$C$376"]
["pp5_bl5_1_7_unit_in",{"$f":"'T2-B(PP5)'!$D$376","v":0},"#'T2-B(PP5)'!$D$376"]
["pp5_bl5_1_7_units_out",{"$f":"'T2-B(PP5)'!$G$376","v":0},"#'T2-B(PP5)'!$G$376"]
["pp5_bl5_1_8_name",{"$f":"'T2-B(PP5)'!$B$377","v":0},"#'T2-B(PP5)'!$B$377"]
["pp5_bl5_1_8_rate_in",{"$f":"'T2-B(PP5)'!$E$377","v":0},"#'T2-B(PP5)'!$E$377"]
["pp5_bl5_1_8_rate_out",{"$f":"'T2-B(PP5)'!$H$377","v":0},"#'T2-B(PP5)'!$H$377"]
["pp5_bl5_1_8_total",{"$f":"'T2-B(PP5)'!$J$377","v":0},"#'T2-B(PP5)'!$J$377"]
["pp5_bl5_1_8_total_in",{"$f":"'T2-B(PP5)'!$F$377","v":0},"#'T2-B(PP5)'!$F$377"]
["pp5_bl5_1_8_total_out",{"$f":"'T2-B(PP5)'!$I$377","v":0},"#'T2-B(PP5)'!$I$377"]
["pp5_bl5_1_8_unit",{"$f":"'T2-B(PP5)'!$C$377","v":0},"#'T2-B(PP5)'!$C$377"]
["pp5_bl5_1_8_unit_in",{"$f":"'T2-B(PP5)'!$D$377","v":0},"#'T2-B(PP5)'!$D$377"]
["pp5_bl5_1_8_units_out",{"$f":"'T2-B(PP5)'!$G$377","v":0},"#'T2-B(PP5)'!$G$377"]
["pp5_bl5_1_9_name",{"$f":"'T2-B(PP5)'!$B$378","v":0},"#'T2-B(PP5)'!$B$378"]
["pp5_bl5_1_9_rate_in",{"$f":"'T2-B(PP5)'!$E$378","v":0},"#'T2-B(PP5)'!$E$378"]
["pp5_bl5_1_9_rate_out",{"$f":"'T2-B(PP5)'!$H$378","v":0},"#'T2-B(PP5)'!$H$378"]
["pp5_bl5_1_9_total",{"$f":"'T2-B(PP5)'!$J$378","v":0},"#'T2-B(PP5)'!$J$378"]
["pp5_bl5_1_9_total_in",{"$f":"'T2-B(PP5)'!$F$378","v":0},"#'T2-B(PP5)'!$F$378"]
["pp5_bl5_1_9_total_out",{"$f":"'T2-B(PP5)'!$I$378","v":0},"#'T2-B(PP5)'!$I$378"]
["pp5_bl5_1_9_unit",{"$f":"'T2-B(PP5)'!$C$378","v":0},"#'T2-B(PP5)'!$C$378"]
["pp5_bl5_1_9_unit_in",{"$f":"'T2-B(PP5)'!$D$378","v":0},"#'T2-B(PP5)'!$D$378"]
["pp5_bl5_1_9_units_out",{"$f":"'T2-B(PP5)'!$G$378","v":0},"#'T2-B(PP5)'!$G$378"]
["pp5_bl5_1_total",{"$f":"'T2-B(PP5)'!$J$369","v":0},"#'T2-B(PP5)'!$J$369"]
["pp5_bl5_1_total_in",{"$f":"'T2-B(PP5)'!$F$369","v":0},"#'T2-B(PP5)'!$F$369"]
["pp5_bl5_1_total_out",{"$f":"'T2-B(PP5)'!$I$369","v":0},"#'T2-B(PP5)'!$I$369"]
["pp5_bl5_2_1_name",{"$f":"'T2-B(PP5)'!$B$391","v":0},"#'T2-B(PP5)'!$B$391"]
["pp5_bl5_2_1_rate_in",{"$f":"'T2-B(PP5)'!$E$391","v":0},"#'T2-B(PP5)'!$E$391"]
["pp5_bl5_2_1_rate_out",{"$f":"'T2-B(PP5)'!$H$391","v":0},"#'T2-B(PP5)'!$H$391"]
["pp5_bl5_2_1_total",{"$f":"'T2-B(PP5)'!$J$391","v":0},"#'T2-B(PP5)'!$J$391"]
["pp5_bl5_2_1_total_in",{"$f":"'T2-B(PP5)'!$F$391","v":0},"#'T2-B(PP5)'!$F$391"]
["pp5_bl5_2_1_total_out",{"$f":"'T2-B(PP5)'!$I$391","v":0},"#'T2-B(PP5)'!$I$391"]
["pp5_bl5_2_1_unit",{"$f":"'T2-B(PP5)'!$C$391","v":0},"#'T2-B(PP5)'!$C$391"]
["pp5_bl5_2_1_unit_in",{"$f":"'T2-B(PP5)'!$D$391","v":0},"#'T2-B(PP5)'!$D$391"]
["pp5_bl5_2_1_units_out",{"$f":"'T2-B(PP5)'!$G$391","v":0},"#'T2-B(PP5)'!$G$391"]
["pp5_bl5_2_10_name",{"$f":"'T2-B(PP5)'!$B$400","v":0},"#'T2-B(PP5)'!$B$400"]
["pp5_bl5_2_10_rate_in",{"$f":"'T2-B(PP5)'!$E$400","v":0},"#'T2-B(PP5)'!$E$400"]
["pp5_bl5_2_10_rate_out",{"$f":"'T2-B(PP5)'!$H$400","v":0},"#'T2-B(PP5)'!$H$400"]
["pp5_bl5_2_10_total",{"$f":"'T2-B(PP5)'!$J$400","v":0},"#'T2-B(PP5)'!$J$400"]
["pp5_bl5_2_10_total_in",{"$f":"'T2-B(PP5)'!$F$400","v":0},"#'T2-B(PP5)'!$F$400"]
["pp5_bl5_2_10_total_out",{"$f":"'T2-B(PP5)'!$I$400","v":0},"#'T2-B(PP5)'!$I$400"]
["pp5_bl5_2_10_unit",{"$f":"'T2-B(PP5)'!$C$400","v":0},"#'T2-B(PP5)'!$C$400"]
["pp5_bl5_2_10_unit_in",{"$f":"'T2-B(PP5)'!$D$400","v":0},"#'T2-B(PP5)'!$D$400"]
["pp5_bl5_2_10_units_out",{"$f":"'T2-B(PP5)'!$G$400","v":0},"#'T2-B(PP5)'!$G$400"]
["pp5_bl5_2_2_name",{"$f":"'T2-B(PP5)'!$B$392","v":0},"#'T2-B(PP5)'!$B$392"]
["pp5_bl5_2_2_rate_in",{"$f":"'T2-B(PP5)'!$E$392","v":0},"#'T2-B(PP5)'!$E$392"]
["pp5_bl5_2_2_rate_out",{"$f":"'T2-B(PP5)'!$H$392","v":0},"#'T2-B(PP5)'!$H$392"]
["pp5_bl5_2_2_total",{"$f":"'T2-B(PP5)'!$J$392","v":0},"#'T2-B(PP5)'!$J$392"]
["pp5_bl5_2_2_total_in",{"$f":"'T2-B(PP5)'!$F$392","v":0},"#'T2-B(PP5)'!$F$392"]
["pp5_bl5_2_2_total_out",{"$f":"'T2-B(PP5)'!$I$392","v":0},"#'T2-B(PP5)'!$I$392"]
["pp5_bl5_2_2_unit",{"$f":"'T2-B(PP5)'!$C$392","v":0},"#'T2-B(PP5)'!$C$392"]
["pp5_bl5_2_2_unit_in",{"$f":"'T2-B(PP5)'!$D$392","v":0},"#'T2-B(PP5)'!$D$392"]
["pp5_bl5_2_2_units_out",{"$f":"'T2-B(PP5)'!$G$392","v":0},"#'T2-B(PP5)'!$G$392"]
["pp5_bl5_2_3_name",{"$f":"'T2-B(PP5)'!$B$393","v":0},"#'T2-B(PP5)'!$B$393"]
["pp5_bl5_2_3_rate_in",{"$f":"'T2-B(PP5)'!$E$393","v":0},"#'T2-B(PP5)'!$E$393"]
["pp5_bl5_2_3_rate_out",{"$f":"'T2-B(PP5)'!$H$393","v":0},"#'T2-B(PP5)'!$H$393"]
["pp5_bl5_2_3_total",{"$f":"'T2-B(PP5)'!$J$393","v":0},"#'T2-B(PP5)'!$J$393"]
["pp5_bl5_2_3_total_in",{"$f":"'T2-B(PP5)'!$F$393","v":0},"#'T2-B(PP5)'!$F$393"]
["pp5_bl5_2_3_total_out",{"$f":"'T2-B(PP5)'!$I$393","v":0},"#'T2-B(PP5)'!$I$393"]
["pp5_bl5_2_3_unit",{"$f":"'T2-B(PP5)'!$C$393","v":0},"#'T2-B(PP5)'!$C$393"]
["pp5_bl5_2_3_unit_in",{"$f":"'T2-B(PP5)'!$D$393","v":0},"#'T2-B(PP5)'!$D$393"]
["pp5_bl5_2_3_units_out",{"$f":"'T2-B(PP5)'!$G$393","v":0},"#'T2-B(PP5)'!$G$393"]
["pp5_bl5_2_4_name",{"$f":"'T2-B(PP5)'!$B$394","v":0},"#'T2-B(PP5)'!$B$394"]
["pp5_bl5_2_4_rate_in",{"$f":"'T2-B(PP5)'!$E$394","v":0},"#'T2-B(PP5)'!$E$394"]
["pp5_bl5_2_4_rate_out",{"$f":"'T2-B(PP5)'!$H$394","v":0},"#'T2-B(PP5)'!$H$394"]
["pp5_bl5_2_4_total",{"$f":"'T2-B(PP5)'!$J$394","v":0},"#'T2-B(PP5)'!$J$394"]
["pp5_bl5_2_4_total_in",{"$f":"'T2-B(PP5)'!$F$394","v":0},"#'T2-B(PP5)'!$F$394"]
["pp5_bl5_2_4_total_out",{"$f":"'T2-B(PP5)'!$I$394","v":0},"#'T2-B(PP5)'!$I$394"]
["pp5_bl5_2_4_unit",{"$f":"'T2-B(PP5)'!$C$394","v":0},"#'T2-B(PP5)'!$C$394"]
["pp5_bl5_2_4_unit_in",{"$f":"'T2-B(PP5)'!$D$394","v":0},"#'T2-B(PP5)'!$D$394"]
["pp5_bl5_2_4_units_out",{"$f":"'T2-B(PP5)'!$G$394","v":0},"#'T2-B(PP5)'!$G$394"]
["pp5_bl5_2_5_name",{"$f":"'T2-B(PP5)'!$B$395","v":0},"#'T2-B(PP5)'!$B$395"]
["pp5_bl5_2_5_rate_in",{"$f":"'T2-B(PP5)'!$E$395","v":0},"#'T2-B(PP5)'!$E$395"]
["pp5_bl5_2_5_rate_out",{"$f":"'T2-B(PP5)'!$H$395","v":0},"#'T2-B(PP5)'!$H$395"]
["pp5_bl5_2_5_total",{"$f":"'T2-B(PP5)'!$J$395","v":0},"#'T2-B(PP5)'!$J$395"]
["pp5_bl5_2_5_total_in",{"$f":"'T2-B(PP5)'!$F$395","v":0},"#'T2-B(PP5)'!$F$395"]
["pp5_bl5_2_5_total_out",{"$f":"'T2-B(PP5)'!$I$395","v":0},"#'T2-B(PP5)'!$I$395"]
["pp5_bl5_2_5_unit",{"$f":"'T2-B(PP5)'!$C$395","v":0},"#'T2-B(PP5)'!$C$395"]
["pp5_bl5_2_5_unit_in",{"$f":"'T2-B(PP5)'!$D$395","v":0},"#'T2-B(PP5)'!$D$395"]
["pp5_bl5_2_5_units_out",{"$f":"'T2-B(PP5)'!$G$395","v":0},"#'T2-B(PP5)'!$G$395"]
["pp5_bl5_2_6_name",{"$f":"'T2-B(PP5)'!$B$396","v":0},"#'T2-B(PP5)'!$B$396"]
["pp5_bl5_2_6_rate_in",{"$f":"'T2-B(PP5)'!$E$396","v":0},"#'T2-B(PP5)'!$E$396"]
["pp5_bl5_2_6_rate_out",{"$f":"'T2-B(PP5)'!$H$396","v":0},"#'T2-B(PP5)'!$H$396"]
["pp5_bl5_2_6_total",{"$f":"'T2-B(PP5)'!$J$396","v":0},"#'T2-B(PP5)'!$J$396"]
["pp5_bl5_2_6_total_in",{"$f":"'T2-B(PP5)'!$F$396","v":0},"#'T2-B(PP5)'!$F$396"]
["pp5_bl5_2_6_total_out",{"$f":"'T2-B(PP5)'!$I$396","v":0},"#'T2-B(PP5)'!$I$396"]
["pp5_bl5_2_6_unit",{"$f":"'T2-B(PP5)'!$C$396","v":0},"#'T2-B(PP5)'!$C$396"]
["pp5_bl5_2_6_unit_in",{"$f":"'T2-B(PP5)'!$D$396","v":0},"#'T2-B(PP5)'!$D$396"]
["pp5_bl5_2_6_units_out",{"$f":"'T2-B(PP5)'!$G$396","v":0},"#'T2-B(PP5)'!$G$396"]
["pp5_bl5_2_7_name",{"$f":"'T2-B(PP5)'!$B$397","v":0},"#'T2-B(PP5)'!$B$397"]
["pp5_bl5_2_7_rate_in",{"$f":"'T2-B(PP5)'!$E$397","v":0},"#'T2-B(PP5)'!$E$397"]
["pp5_bl5_2_7_rate_out",{"$f":"'T2-B(PP5)'!$H$397","v":0},"#'T2-B(PP5)'!$H$397"]
["pp5_bl5_2_7_total",{"$f":"'T2-B(PP5)'!$J$397","v":0},"#'T2-B(PP5)'!$J$397"]
["pp5_bl5_2_7_total_in",{"$f":"'T2-B(PP5)'!$F$397","v":0},"#'T2-B(PP5)'!$F$397"]
["pp5_bl5_2_7_total_out",{"$f":"'T2-B(PP5)'!$I$397","v":0},"#'T2-B(PP5)'!$I$397"]
["pp5_bl5_2_7_unit",{"$f":"'T2-B(PP5)'!$C$397","v":0},"#'T2-B(PP5)'!$C$397"]
["pp5_bl5_2_7_unit_in",{"$f":"'T2-B(PP5)'!$D$397","v":0},"#'T2-B(PP5)'!$D$397"]
["pp5_bl5_2_7_units_out",{"$f":"'T2-B(PP5)'!$G$397","v":0},"#'T2-B(PP5)'!$G$397"]
["pp5_bl5_2_8_name",{"$f":"'T2-B(PP5)'!$B$398","v":0},"#'T2-B(PP5)'!$B$398"]
["pp5_bl5_2_8_rate_in",{"$f":"'T2-B(PP5)'!$E$398","v":0},"#'T2-B(PP5)'!$E$398"]
["pp5_bl5_2_8_rate_out",{"$f":"'T2-B(PP5)'!$H$398","v":0},"#'T2-B(PP5)'!$H$398"]
["pp5_bl5_2_8_total",{"$f":"'T2-B(PP5)'!$J$398","v":0},"#'T2-B(PP5)'!$J$398"]
["pp5_bl5_2_8_total_in",{"$f":"'T2-B(PP5)'!$F$398","v":0},"#'T2-B(PP5)'!$F$398"]
["pp5_bl5_2_8_total_out",{"$f":"'T2-B(PP5)'!$I$398","v":0},"#'T2-B(PP5)'!$I$398"]
["pp5_bl5_2_8_unit",{"$f":"'T2-B(PP5)'!$C$398","v":0},"#'T2-B(PP5)'!$C$398"]
["pp5_bl5_2_8_unit_in",{"$f":"'T2-B(PP5)'!$D$398","v":0},"#'T2-B(PP5)'!$D$398"]
["pp5_bl5_2_8_units_out",{"$f":"'T2-B(PP5)'!$G$398","v":0},"#'T2-B(PP5)'!$G$398"]
["pp5_bl5_2_9_name",{"$f":"'T2-B(PP5)'!$B$399","v":0},"#'T2-B(PP5)'!$B$399"]
["pp5_bl5_2_9_rate_in",{"$f":"'T2-B(PP5)'!$E$399","v":0},"#'T2-B(PP5)'!$E$399"]
["pp5_bl5_2_9_rate_out",{"$f":"'T2-B(PP5)'!$H$399","v":0},"#'T2-B(PP5)'!$H$399"]
["pp5_bl5_2_9_total",{"$f":"'T2-B(PP5)'!$J$399","v":0},"#'T2-B(PP5)'!$J$399"]
["pp5_bl5_2_9_total_in",{"$f":"'T2-B(PP5)'!$F$399","v":0},"#'T2-B(PP5)'!$F$399"]
["pp5_bl5_2_9_total_out",{"$f":"'T2-B(PP5)'!$I$399","v":0},"#'T2-B(PP5)'!$I$399"]
["pp5_bl5_2_9_unit",{"$f":"'T2-B(PP5)'!$C$399","v":0},"#'T2-B(PP5)'!$C$399"]
["pp5_bl5_2_9_unit_in",{"$f":"'T2-B(PP5)'!$D$399","v":0},"#'T2-B(PP5)'!$D$399"]
["pp5_bl5_2_9_units_out",{"$f":"'T2-B(PP5)'!$G$399","v":0},"#'T2-B(PP5)'!$G$399"]
["pp5_bl5_2_total",{"$f":"'T2-B(PP5)'!$J$390","v":0},"#'T2-B(PP5)'!$J$390"]
["pp5_bl5_2_total_in",{"$f":"'T2-B(PP5)'!$F$390","v":0},"#'T2-B(PP5)'!$F$390"]
["pp5_bl5_2_total_out",{"$f":"'T2-B(PP5)'!$I$390","v":0},"#'T2-B(PP5)'!$I$390"]
["pp5_bl5_total",{"$f":"'T2-B(PP5)'!$J$411","v":0},"#'T2-B(PP5)'!$J$411"]
["pp5_bl5_total_in",{"$f":"'T2-B(PP5)'!$F$411","v":0},"#'T2-B(PP5)'!$F$411"]
["pp5_bl5_total_out",{"$f":"'T2-B(PP5)'!$I$411","v":0},"#'T2-B(PP5)'!$I$411"]
["pp5_bl6_1_1_name",{"$f":"'T2-B(PP5)'!$B$416","v":0},"#'T2-B(PP5)'!$B$416"]
["pp5_bl6_1_1_rate_in",{"$f":"'T2-B(PP5)'!$E$416","v":0},"#'T2-B(PP5)'!$E$416"]
["pp5_bl6_1_1_rate_out",{"$f":"'T2-B(PP5)'!$H$416","v":0},"#'T2-B(PP5)'!$H$416"]
["pp5_bl6_1_1_total",{"$f":"'T2-B(PP5)'!$J$416","v":0},"#'T2-B(PP5)'!$J$416"]
["pp5_bl6_1_1_total_in",{"$f":"'T2-B(PP5)'!$F$416","v":0},"#'T2-B(PP5)'!$F$416"]
["pp5_bl6_1_1_total_out",{"$f":"'T2-B(PP5)'!$I$416","v":0},"#'T2-B(PP5)'!$I$416"]
["pp5_bl6_1_1_unit",{"$f":"'T2-B(PP5)'!$C$416","v":0},"#'T2-B(PP5)'!$C$416"]
["pp5_bl6_1_1_unit_in",{"$f":"'T2-B(PP5)'!$D$416","v":0},"#'T2-B(PP5)'!$D$416"]
["pp5_bl6_1_1_units_out",{"$f":"'T2-B(PP5)'!$G$416","v":0},"#'T2-B(PP5)'!$G$416"]
["pp5_bl6_1_10_name",{"$f":"'T2-B(PP5)'!$B$425","v":0},"#'T2-B(PP5)'!$B$425"]
["pp5_bl6_1_10_rate_in",{"$f":"'T2-B(PP5)'!$E$425","v":0},"#'T2-B(PP5)'!$E$425"]
["pp5_bl6_1_10_rate_out",{"$f":"'T2-B(PP5)'!$H$425","v":0},"#'T2-B(PP5)'!$H$425"]
["pp5_bl6_1_10_total",{"$f":"'T2-B(PP5)'!$J$425","v":0},"#'T2-B(PP5)'!$J$425"]
["pp5_bl6_1_10_total_in",{"$f":"'T2-B(PP5)'!$F$425","v":0},"#'T2-B(PP5)'!$F$425"]
["pp5_bl6_1_10_total_out",{"$f":"'T2-B(PP5)'!$I$425","v":0},"#'T2-B(PP5)'!$I$425"]
["pp5_bl6_1_10_unit",{"$f":"'T2-B(PP5)'!$C$425","v":0},"#'T2-B(PP5)'!$C$425"]
["pp5_bl6_1_10_unit_in",{"$f":"'T2-B(PP5)'!$D$425","v":0},"#'T2-B(PP5)'!$D$425"]
["pp5_bl6_1_10_units_out",{"$f":"'T2-B(PP5)'!$G$425","v":0},"#'T2-B(PP5)'!$G$425"]
["pp5_bl6_1_2_name",{"$f":"'T2-B(PP5)'!$B$417","v":0},"#'T2-B(PP5)'!$B$417"]
["pp5_bl6_1_2_rate_in",{"$f":"'T2-B(PP5)'!$E$417","v":0},"#'T2-B(PP5)'!$E$417"]
["pp5_bl6_1_2_rate_out",{"$f":"'T2-B(PP5)'!$H$417","v":0},"#'T2-B(PP5)'!$H$417"]
["pp5_bl6_1_2_total",{"$f":"'T2-B(PP5)'!$J$417","v":0},"#'T2-B(PP5)'!$J$417"]
["pp5_bl6_1_2_total_in",{"$f":"'T2-B(PP5)'!$F$417","v":0},"#'T2-B(PP5)'!$F$417"]
["pp5_bl6_1_2_total_out",{"$f":"'T2-B(PP5)'!$I$417","v":0},"#'T2-B(PP5)'!$I$417"]
["pp5_bl6_1_2_unit",{"$f":"'T2-B(PP5)'!$C$417","v":0},"#'T2-B(PP5)'!$C$417"]
["pp5_bl6_1_2_unit_in",{"$f":"'T2-B(PP5)'!$D$417","v":0},"#'T2-B(PP5)'!$D$417"]
["pp5_bl6_1_2_units_out",{"$f":"'T2-B(PP5)'!$G$417","v":0},"#'T2-B(PP5)'!$G$417"]
["pp5_bl6_1_3_name",{"$f":"'T2-B(PP5)'!$B$418","v":0},"#'T2-B(PP5)'!$B$418"]
["pp5_bl6_1_3_rate_in",{"$f":"'T2-B(PP5)'!$E$418","v":0},"#'T2-B(PP5)'!$E$418"]
["pp5_bl6_1_3_rate_out",{"$f":"'T2-B(PP5)'!$H$418","v":0},"#'T2-B(PP5)'!$H$418"]
["pp5_bl6_1_3_total",{"$f":"'T2-B(PP5)'!$J$418","v":0},"#'T2-B(PP5)'!$J$418"]
["pp5_bl6_1_3_total_in",{"$f":"'T2-B(PP5)'!$F$418","v":0},"#'T2-B(PP5)'!$F$418"]
["pp5_bl6_1_3_total_out",{"$f":"'T2-B(PP5)'!$I$418","v":0},"#'T2-B(PP5)'!$I$418"]
["pp5_bl6_1_3_unit",{"$f":"'T2-B(PP5)'!$C$418","v":0},"#'T2-B(PP5)'!$C$418"]
["pp5_bl6_1_3_unit_in",{"$f":"'T2-B(PP5)'!$D$418","v":0},"#'T2-B(PP5)'!$D$418"]
["pp5_bl6_1_3_units_out",{"$f":"'T2-B(PP5)'!$G$418","v":0},"#'T2-B(PP5)'!$G$418"]
["pp5_bl6_1_4_name",{"$f":"'T2-B(PP5)'!$B$419","v":0},"#'T2-B(PP5)'!$B$419"]
["pp5_bl6_1_4_rate_in",{"$f":"'T2-B(PP5)'!$E$419","v":0},"#'T2-B(PP5)'!$E$419"]
["pp5_bl6_1_4_rate_out",{"$f":"'T2-B(PP5)'!$H$419","v":0},"#'T2-B(PP5)'!$H$419"]
["pp5_bl6_1_4_total",{"$f":"'T2-B(PP5)'!$J$419","v":0},"#'T2-B(PP5)'!$J$419"]
["pp5_bl6_1_4_total_in",{"$f":"'T2-B(PP5)'!$F$419","v":0},"#'T2-B(PP5)'!$F$419"]
["pp5_bl6_1_4_total_out",{"$f":"'T2-B(PP5)'!$I$419","v":0},"#'T2-B(PP5)'!$I$419"]
["pp5_bl6_1_4_unit",{"$f":"'T2-B(PP5)'!$C$419","v":0},"#'T2-B(PP5)'!$C$419"]
["pp5_bl6_1_4_unit_in",{"$f":"'T2-B(PP5)'!$D$419","v":0},"#'T2-B(PP5)'!$D$419"]
["pp5_bl6_1_4_units_out",{"$f":"'T2-B(PP5)'!$G$419","v":0},"#'T2-B(PP5)'!$G$419"]
["pp5_bl6_1_5_name",{"$f":"'T2-B(PP5)'!$B$420","v":0},"#'T2-B(PP5)'!$B$420"]
["pp5_bl6_1_5_rate_in",{"$f":"'T2-B(PP5)'!$E$420","v":0},"#'T2-B(PP5)'!$E$420"]
["pp5_bl6_1_5_rate_out",{"$f":"'T2-B(PP5)'!$H$420","v":0},"#'T2-B(PP5)'!$H$420"]
["pp5_bl6_1_5_total",{"$f":"'T2-B(PP5)'!$J$420","v":0},"#'T2-B(PP5)'!$J$420"]
["pp5_bl6_1_5_total_in",{"$f":"'T2-B(PP5)'!$F$420","v":0},"#'T2-B(PP5)'!$F$420"]
["pp5_bl6_1_5_total_out",{"$f":"'T2-B(PP5)'!$I$420","v":0},"#'T2-B(PP5)'!$I$420"]
["pp5_bl6_1_5_unit",{"$f":"'T2-B(PP5)'!$C$420","v":0},"#'T2-B(PP5)'!$C$420"]
["pp5_bl6_1_5_unit_in",{"$f":"'T2-B(PP5)'!$D$420","v":0},"#'T2-B(PP5)'!$D$420"]
["pp5_bl6_1_5_units_out",{"$f":"'T2-B(PP5)'!$G$420","v":0},"#'T2-B(PP5)'!$G$420"]
["pp5_bl6_1_6_name",{"$f":"'T2-B(PP5)'!$B$421","v":0},"#'T2-B(PP5)'!$B$421"]
["pp5_bl6_1_6_rate_in",{"$f":"'T2-B(PP5)'!$E$421","v":0},"#'T2-B(PP5)'!$E$421"]
["pp5_bl6_1_6_rate_out",{"$f":"'T2-B(PP5)'!$H$421","v":0},"#'T2-B(PP5)'!$H$421"]
["pp5_bl6_1_6_total",{"$f":"'T2-B(PP5)'!$J$421","v":0},"#'T2-B(PP5)'!$J$421"]
["pp5_bl6_1_6_total_in",{"$f":"'T2-B(PP5)'!$F$421","v":0},"#'T2-B(PP5)'!$F$421"]
["pp5_bl6_1_6_total_out",{"$f":"'T2-B(PP5)'!$I$421","v":0},"#'T2-B(PP5)'!$I$421"]
["pp5_bl6_1_6_unit",{"$f":"'T2-B(PP5)'!$C$421","v":0},"#'T2-B(PP5)'!$C$421"]
["pp5_bl6_1_6_unit_in",{"$f":"'T2-B(PP5)'!$D$421","v":0},"#'T2-B(PP5)'!$D$421"]
["pp5_bl6_1_6_units_out",{"$f":"'T2-B(PP5)'!$G$421","v":0},"#'T2-B(PP5)'!$G$421"]
["pp5_bl6_1_7_name",{"$f":"'T2-B(PP5)'!$B$422","v":0},"#'T2-B(PP5)'!$B$422"]
["pp5_bl6_1_7_rate_in",{"$f":"'T2-B(PP5)'!$E$422","v":0},"#'T2-B(PP5)'!$E$422"]
["pp5_bl6_1_7_rate_out",{"$f":"'T2-B(PP5)'!$H$422","v":0},"#'T2-B(PP5)'!$H$422"]
["pp5_bl6_1_7_total",{"$f":"'T2-B(PP5)'!$J$422","v":0},"#'T2-B(PP5)'!$J$422"]
["pp5_bl6_1_7_total_in",{"$f":"'T2-B(PP5)'!$F$422","v":0},"#'T2-B(PP5)'!$F$422"]
["pp5_bl6_1_7_total_out",{"$f":"'T2-B(PP5)'!$I$422","v":0},"#'T2-B(PP5)'!$I$422"]
["pp5_bl6_1_7_unit",{"$f":"'T2-B(PP5)'!$C$422","v":0},"#'T2-B(PP5)'!$C$422"]
["pp5_bl6_1_7_unit_in",{"$f":"'T2-B(PP5)'!$D$422","v":0},"#'T2-B(PP5)'!$D$422"]
["pp5_bl6_1_7_units_out",{"$f":"'T2-B(PP5)'!$G$422","v":0},"#'T2-B(PP5)'!$G$422"]
["pp5_bl6_1_8_name",{"$f":"'T2-B(PP5)'!$B$423","v":0},"#'T2-B(PP5)'!$B$423"]
["pp5_bl6_1_8_rate_in",{"$f":"'T2-B(PP5)'!$E$423","v":0},"#'T2-B(PP5)'!$E$423"]
["pp5_bl6_1_8_rate_out",{"$f":"'T2-B(PP5)'!$H$423","v":0},"#'T2-B(PP5)'!$H$423"]
["pp5_bl6_1_8_total",{"$f":"'T2-B(PP5)'!$J$423","v":0},"#'T2-B(PP5)'!$J$423"]
["pp5_bl6_1_8_total_in",{"$f":"'T2-B(PP5)'!$F$423","v":0},"#'T2-B(PP5)'!$F$423"]
["pp5_bl6_1_8_total_out",{"$f":"'T2-B(PP5)'!$I$423","v":0},"#'T2-B(PP5)'!$I$423"]
["pp5_bl6_1_8_unit",{"$f":"'T2-B(PP5)'!$C$423","v":0},"#'T2-B(PP5)'!$C$423"]
["pp5_bl6_1_8_unit_in",{"$f":"'T2-B(PP5)'!$D$423","v":0},"#'T2-B(PP5)'!$D$423"]
["pp5_bl6_1_8_units_out",{"$f":"'T2-B(PP5)'!$G$423","v":0},"#'T2-B(PP5)'!$G$423"]
["pp5_bl6_1_9_name",{"$f":"'T2-B(PP5)'!$B$424","v":0},"#'T2-B(PP5)'!$B$424"]
["pp5_bl6_1_9_rate_in",{"$f":"'T2-B(PP5)'!$E$424","v":0},"#'T2-B(PP5)'!$E$424"]
["pp5_bl6_1_9_rate_out",{"$f":"'T2-B(PP5)'!$H$424","v":0},"#'T2-B(PP5)'!$H$424"]
["pp5_bl6_1_9_total",{"$f":"'T2-B(PP5)'!$J$424","v":0},"#'T2-B(PP5)'!$J$424"]
["pp5_bl6_1_9_total_in",{"$f":"'T2-B(PP5)'!$F$424","v":0},"#'T2-B(PP5)'!$F$424"]
["pp5_bl6_1_9_total_out",{"$f":"'T2-B(PP5)'!$I$424","v":0},"#'T2-B(PP5)'!$I$424"]
["pp5_bl6_1_9_unit",{"$f":"'T2-B(PP5)'!$C$424","v":0},"#'T2-B(PP5)'!$C$424"]
["pp5_bl6_1_9_unit_in",{"$f":"'T2-B(PP5)'!$D$424","v":0},"#'T2-B(PP5)'!$D$424"]
["pp5_bl6_1_9_units_out",{"$f":"'T2-B(PP5)'!$G$424","v":0},"#'T2-B(PP5)'!$G$424"]
["pp5_bl6_1_total",{"$f":"'T2-B(PP5)'!$J$415","v":0},"#'T2-B(PP5)'!$J$415"]
["pp5_bl6_1_total_in",{"$f":"'T2-B(PP5)'!$F$415","v":0},"#'T2-B(PP5)'!$F$415"]
["pp5_bl6_1_total_out",{"$f":"'T2-B(PP5)'!$I$415","v":0},"#'T2-B(PP5)'!$I$415"]
["pp5_bl6_2_1_name",{"$f":"'T2-B(PP5)'!$B$427","v":0},"#'T2-B(PP5)'!$B$427"]
["pp5_bl6_2_1_rate_in",{"$f":"'T2-B(PP5)'!$E$427","v":0},"#'T2-B(PP5)'!$E$427"]
["pp5_bl6_2_1_rate_out",{"$f":"'T2-B(PP5)'!$H$427","v":0},"#'T2-B(PP5)'!$H$427"]
["pp5_bl6_2_1_total",{"$f":"'T2-B(PP5)'!$J$427","v":0},"#'T2-B(PP5)'!$J$427"]
["pp5_bl6_2_1_total_in",{"$f":"'T2-B(PP5)'!$F$427","v":0},"#'T2-B(PP5)'!$F$427"]
["pp5_bl6_2_1_total_out",{"$f":"'T2-B(PP5)'!$I$427","v":0},"#'T2-B(PP5)'!$I$427"]
["pp5_bl6_2_1_unit",{"$f":"'T2-B(PP5)'!$C$427","v":0},"#'T2-B(PP5)'!$C$427"]
["pp5_bl6_2_1_unit_in",{"$f":"'T2-B(PP5)'!$D$427","v":0},"#'T2-B(PP5)'!$D$427"]
["pp5_bl6_2_1_units_out",{"$f":"'T2-B(PP5)'!$G$427","v":0},"#'T2-B(PP5)'!$G$427"]
["pp5_bl6_2_10_name",{"$f":"'T2-B(PP5)'!$B$436","v":0},"#'T2-B(PP5)'!$B$436"]
["pp5_bl6_2_10_rate_in",{"$f":"'T2-B(PP5)'!$E$436","v":0},"#'T2-B(PP5)'!$E$436"]
["pp5_bl6_2_10_rate_out",{"$f":"'T2-B(PP5)'!$H$436","v":0},"#'T2-B(PP5)'!$H$436"]
["pp5_bl6_2_10_total",{"$f":"'T2-B(PP5)'!$J$436","v":0},"#'T2-B(PP5)'!$J$436"]
["pp5_bl6_2_10_total_in",{"$f":"'T2-B(PP5)'!$F$436","v":0},"#'T2-B(PP5)'!$F$436"]
["pp5_bl6_2_10_total_out",{"$f":"'T2-B(PP5)'!$I$436","v":0},"#'T2-B(PP5)'!$I$436"]
["pp5_bl6_2_10_unit",{"$f":"'T2-B(PP5)'!$C$436","v":0},"#'T2-B(PP5)'!$C$436"]
["pp5_bl6_2_10_unit_in",{"$f":"'T2-B(PP5)'!$D$436","v":0},"#'T2-B(PP5)'!$D$436"]
["pp5_bl6_2_10_units_out",{"$f":"'T2-B(PP5)'!$G$436","v":0},"#'T2-B(PP5)'!$G$436"]
["pp5_bl6_2_2_name",{"$f":"'T2-B(PP5)'!$B$428","v":0},"#'T2-B(PP5)'!$B$428"]
["pp5_bl6_2_2_rate_in",{"$f":"'T2-B(PP5)'!$E$428","v":0},"#'T2-B(PP5)'!$E$428"]
["pp5_bl6_2_2_rate_out",{"$f":"'T2-B(PP5)'!$H$428","v":0},"#'T2-B(PP5)'!$H$428"]
["pp5_bl6_2_2_total",{"$f":"'T2-B(PP5)'!$J$428","v":0},"#'T2-B(PP5)'!$J$428"]
["pp5_bl6_2_2_total_in",{"$f":"'T2-B(PP5)'!$F$428","v":0},"#'T2-B(PP5)'!$F$428"]
["pp5_bl6_2_2_total_out",{"$f":"'T2-B(PP5)'!$I$428","v":0},"#'T2-B(PP5)'!$I$428"]
["pp5_bl6_2_2_unit",{"$f":"'T2-B(PP5)'!$C$428","v":0},"#'T2-B(PP5)'!$C$428"]
["pp5_bl6_2_2_unit_in",{"$f":"'T2-B(PP5)'!$D$428","v":0},"#'T2-B(PP5)'!$D$428"]
["pp5_bl6_2_2_units_out",{"$f":"'T2-B(PP5)'!$G$428","v":0},"#'T2-B(PP5)'!$G$428"]
["pp5_bl6_2_3_name",{"$f":"'T2-B(PP5)'!$B$429","v":0},"#'T2-B(PP5)'!$B$429"]
["pp5_bl6_2_3_rate_in",{"$f":"'T2-B(PP5)'!$E$429","v":0},"#'T2-B(PP5)'!$E$429"]
["pp5_bl6_2_3_rate_out",{"$f":"'T2-B(PP5)'!$H$429","v":0},"#'T2-B(PP5)'!$H$429"]
["pp5_bl6_2_3_total",{"$f":"'T2-B(PP5)'!$J$429","v":0},"#'T2-B(PP5)'!$J$429"]
["pp5_bl6_2_3_total_in",{"$f":"'T2-B(PP5)'!$F$429","v":0},"#'T2-B(PP5)'!$F$429"]
["pp5_bl6_2_3_total_out",{"$f":"'T2-B(PP5)'!$I$429","v":0},"#'T2-B(PP5)'!$I$429"]
["pp5_bl6_2_3_unit",{"$f":"'T2-B(PP5)'!$C$429","v":0},"#'T2-B(PP5)'!$C$429"]
["pp5_bl6_2_3_unit_in",{"$f":"'T2-B(PP5)'!$D$429","v":0},"#'T2-B(PP5)'!$D$429"]
["pp5_bl6_2_3_units_out",{"$f":"'T2-B(PP5)'!$G$429","v":0},"#'T2-B(PP5)'!$G$429"]
["pp5_bl6_2_4_name",{"$f":"'T2-B(PP5)'!$B$430","v":0},"#'T2-B(PP5)'!$B$430"]
["pp5_bl6_2_4_rate_in",{"$f":"'T2-B(PP5)'!$E$430","v":0},"#'T2-B(PP5)'!$E$430"]
["pp5_bl6_2_4_rate_out",{"$f":"'T2-B(PP5)'!$H$430","v":0},"#'T2-B(PP5)'!$H$430"]
["pp5_bl6_2_4_total",{"$f":"'T2-B(PP5)'!$J$430","v":0},"#'T2-B(PP5)'!$J$430"]
["pp5_bl6_2_4_total_in",{"$f":"'T2-B(PP5)'!$F$430","v":0},"#'T2-B(PP5)'!$F$430"]
["pp5_bl6_2_4_total_out",{"$f":"'T2-B(PP5)'!$I$430","v":0},"#'T2-B(PP5)'!$I$430"]
["pp5_bl6_2_4_unit",{"$f":"'T2-B(PP5)'!$C$430","v":0},"#'T2-B(PP5)'!$C$430"]
["pp5_bl6_2_4_unit_in",{"$f":"'T2-B(PP5)'!$D$430","v":0},"#'T2-B(PP5)'!$D$430"]
["pp5_bl6_2_4_units_out",{"$f":"'T2-B(PP5)'!$G$430","v":0},"#'T2-B(PP5)'!$G$430"]
["pp5_bl6_2_5_name",{"$f":"'T2-B(PP5)'!$B$431","v":0},"#'T2-B(PP5)'!$B$431"]
["pp5_bl6_2_5_rate_in",{"$f":"'T2-B(PP5)'!$E$431","v":0},"#'T2-B(PP5)'!$E$431"]
["pp5_bl6_2_5_rate_out",{"$f":"'T2-B(PP5)'!$H$431","v":0},"#'T2-B(PP5)'!$H$431"]
["pp5_bl6_2_5_total",{"$f":"'T2-B(PP5)'!$J$431","v":0},"#'T2-B(PP5)'!$J$431"]
["pp5_bl6_2_5_total_in",{"$f":"'T2-B(PP5)'!$F$431","v":0},"#'T2-B(PP5)'!$F$431"]
["pp5_bl6_2_5_total_out",{"$f":"'T2-B(PP5)'!$I$431","v":0},"#'T2-B(PP5)'!$I$431"]
["pp5_bl6_2_5_unit",{"$f":"'T2-B(PP5)'!$C$431","v":0},"#'T2-B(PP5)'!$C$431"]
["pp5_bl6_2_5_unit_in",{"$f":"'T2-B(PP5)'!$D$431","v":0},"#'T2-B(PP5)'!$D$431"]
["pp5_bl6_2_5_units_out",{"$f":"'T2-B(PP5)'!$G$431","v":0},"#'T2-B(PP5)'!$G$431"]
["pp5_bl6_2_6_name",{"$f":"'T2-B(PP5)'!$B$432","v":0},"#'T2-B(PP5)'!$B$432"]
["pp5_bl6_2_6_rate_in",{"$f":"'T2-B(PP5)'!$E$432","v":0},"#'T2-B(PP5)'!$E$432"]
["pp5_bl6_2_6_rate_out",{"$f":"'T2-B(PP5)'!$H$432","v":0},"#'T2-B(PP5)'!$H$432"]
["pp5_bl6_2_6_total",{"$f":"'T2-B(PP5)'!$J$432","v":0},"#'T2-B(PP5)'!$J$432"]
["pp5_bl6_2_6_total_in",{"$f":"'T2-B(PP5)'!$F$432","v":0},"#'T2-B(PP5)'!$F$432"]
["pp5_bl6_2_6_total_out",{"$f":"'T2-B(PP5)'!$I$432","v":0},"#'T2-B(PP5)'!$I$432"]
["pp5_bl6_2_6_unit",{"$f":"'T2-B(PP5)'!$C$432","v":0},"#'T2-B(PP5)'!$C$432"]
["pp5_bl6_2_6_unit_in",{"$f":"'T2-B(PP5)'!$D$432","v":0},"#'T2-B(PP5)'!$D$432"]
["pp5_bl6_2_6_units_out",{"$f":"'T2-B(PP5)'!$G$432","v":0},"#'T2-B(PP5)'!$G$432"]
["pp5_bl6_2_7_name",{"$f":"'T2-B(PP5)'!$B$433","v":0},"#'T2-B(PP5)'!$B$433"]
["pp5_bl6_2_7_rate_in",{"$f":"'T2-B(PP5)'!$E$433","v":0},"#'T2-B(PP5)'!$E$433"]
["pp5_bl6_2_7_rate_out",{"$f":"'T2-B(PP5)'!$H$433","v":0},"#'T2-B(PP5)'!$H$433"]
["pp5_bl6_2_7_total",{"$f":"'T2-B(PP5)'!$J$433","v":0},"#'T2-B(PP5)'!$J$433"]
["pp5_bl6_2_7_total_in",{"$f":"'T2-B(PP5)'!$F$433","v":0},"#'T2-B(PP5)'!$F$433"]
["pp5_bl6_2_7_total_out",{"$f":"'T2-B(PP5)'!$I$433","v":0},"#'T2-B(PP5)'!$I$433"]
["pp5_bl6_2_7_unit",{"$f":"'T2-B(PP5)'!$C$433","v":0},"#'T2-B(PP5)'!$C$433"]
["pp5_bl6_2_7_unit_in",{"$f":"'T2-B(PP5)'!$D$433","v":0},"#'T2-B(PP5)'!$D$433"]
["pp5_bl6_2_7_units_out",{"$f":"'T2-B(PP5)'!$G$433","v":0},"#'T2-B(PP5)'!$G$433"]
["pp5_bl6_2_8_name",{"$f":"'T2-B(PP5)'!$B$434","v":0},"#'T2-B(PP5)'!$B$434"]
["pp5_bl6_2_8_rate_in",{"$f":"'T2-B(PP5)'!$E$434","v":0},"#'T2-B(PP5)'!$E$434"]
["pp5_bl6_2_8_rate_out",{"$f":"'T2-B(PP5)'!$H$434","v":0},"#'T2-B(PP5)'!$H$434"]
["pp5_bl6_2_8_total",{"$f":"'T2-B(PP5)'!$J$434","v":0},"#'T2-B(PP5)'!$J$434"]
["pp5_bl6_2_8_total_in",{"$f":"'T2-B(PP5)'!$F$434","v":0},"#'T2-B(PP5)'!$F$434"]
["pp5_bl6_2_8_total_out",{"$f":"'T2-B(PP5)'!$I$434","v":0},"#'T2-B(PP5)'!$I$434"]
["pp5_bl6_2_8_unit",{"$f":"'T2-B(PP5)'!$C$434","v":0},"#'T2-B(PP5)'!$C$434"]
["pp5_bl6_2_8_unit_in",{"$f":"'T2-B(PP5)'!$D$434","v":0},"#'T2-B(PP5)'!$D$434"]
["pp5_bl6_2_8_units_out",{"$f":"'T2-B(PP5)'!$G$434","v":0},"#'T2-B(PP5)'!$G$434"]
["pp5_bl6_2_9_name",{"$f":"'T2-B(PP5)'!$B$435","v":0},"#'T2-B(PP5)'!$B$435"]
["pp5_bl6_2_9_rate_in",{"$f":"'T2-B(PP5)'!$E$435","v":0},"#'T2-B(PP5)'!$E$435"]
["pp5_bl6_2_9_rate_out",{"$f":"'T2-B(PP5)'!$H$435","v":0},"#'T2-B(PP5)'!$H$435"]
["pp5_bl6_2_9_total",{"$f":"'T2-B(PP5)'!$J$435","v":0},"#'T2-B(PP5)'!$J$435"]
["pp5_bl6_2_9_total_in",{"$f":"'T2-B(PP5)'!$F$435","v":0},"#'T2-B(PP5)'!$F$435"]
["pp5_bl6_2_9_total_out",{"$f":"'T2-B(PP5)'!$I$435","v":0},"#'T2-B(PP5)'!$I$435"]
["pp5_bl6_2_9_unit",{"$f":"'T2-B(PP5)'!$C$435","v":0},"#'T2-B(PP5)'!$C$435"]
["pp5_bl6_2_9_unit_in",{"$f":"'T2-B(PP5)'!$D$435","v":0},"#'T2-B(PP5)'!$D$435"]
["pp5_bl6_2_9_units_out",{"$f":"'T2-B(PP5)'!$G$435","v":0},"#'T2-B(PP5)'!$G$435"]
["pp5_bl6_2_total",{"$f":"'T2-B(PP5)'!$J$426","v":0},"#'T2-B(PP5)'!$J$426"]
["pp5_bl6_2_total_in",{"$f":"'T2-B(PP5)'!$F$426","v":0},"#'T2-B(PP5)'!$F$426"]
["pp5_bl6_2_total_out",{"$f":"'T2-B(PP5)'!$I$426","v":0},"#'T2-B(PP5)'!$I$426"]
["pp5_bl6_total",{"$f":"'T2-B(PP5)'!$J$437","v":0},"#'T2-B(PP5)'!$J$437"]
["pp5_bl6_total_in",{"$f":"'T2-B(PP5)'!$F$437","v":0},"#'T2-B(PP5)'!$F$437"]
["pp5_bl6_total_out",{"$f":"'T2-B(PP5)'!$I$437","v":0},"#'T2-B(PP5)'!$I$437"]
["pp5_bl7_1_1_name",{"$f":"'T2-B(PP5)'!$B$440","v":0},"#'T2-B(PP5)'!$B$440"]
["pp5_bl7_1_1_rate_in",{"$f":"'T2-B(PP5)'!$H$440","v":0},"#'T2-B(PP5)'!$H$440"]
["pp5_bl7_1_1_rate_out",{"$f":"'T2-B(PP5)'!$N$440","v":0},"#'T2-B(PP5)'!$N$440"]
["pp5_bl7_1_1_total",{"$f":"'T2-B(PP5)'!$I$440","v":0},"#'T2-B(PP5)'!$I$440"]
["pp5_bl7_1_1_total_in",{"$f":"'T2-B(PP5)'!$P$440","v":0},"#'T2-B(PP5)'!$P$440"]
["pp5_bl7_1_1_total_out",{"$f":"'T2-B(PP5)'!$O$440","v":0},"#'T2-B(PP5)'!$O$440"]
["pp5_bl7_1_1_unit",{"$f":"'T2-B(PP5)'!$F$440","v":0},"#'T2-B(PP5)'!$F$440"]
["pp5_bl7_1_1_unit_in",{"$f":"'T2-B(PP5)'!$G$440","v":0},"#'T2-B(PP5)'!$G$440"]
["pp5_bl7_1_1_units_out",{"$f":"'T2-B(PP5)'!$M$440","v":0},"#'T2-B(PP5)'!$M$440"]
["pp5_competence",{"$f":"'PP5'!$B$38","v":0},"#'PP5'!$B$38"]
["pp5_country",{"$f":"'PP5'!$K$14","v":2},"#'PP5'!$K$14"]
["pp5_fax",{"$f":"'PP5'!$C$29","v":0},"#'PP5'!$C$29"]
["pp5_is_bg",{"$f":"'PP5'!$D$13","v":0},"#'PP5'!$D$13"]
["pp5_is_pc",{"$f":"'PP5'!$F$13","v":0},"#'PP5'!$F$13"]
["pp5_legal_representative",{"$f":"'PP5'!$C$23","v":0},"#'PP5'!$C$23"]
["pp5_legal_representative_position",{"$f":"'PP5'!$C$25","v":0},"#'PP5'!$C$25"]
["pp5_mail",{"$f":"'PP5'!$C$31","v":0},"#'PP5'!$C$31"]
["pp5_nat_code",{"$f":"'PP5'!$C$70","v":0},"#'PP5'!$C$70"]
["pp5_nuts3",{"$f":"'PP5'!$C$15","v":0},"#'PP5'!$C$15"]
["pp5_organisation_en",{"$f":"'PP5'!$C$7","v":0},"#'PP5'!$C$7"]
["pp5_organisation_native",{"$f":"'PP5'!$C$9","v":0},"#'PP5'!$C$9"]
["pp5_pe_date1",{"$f":"'PP5'!$G$47","v":0},"#'PP5'!$G$47"]
["pp5_pe_date2",{"$f":"'PP5'!$G$55","v":0},"#'PP5'!$G$55"]
["pp5_pe_date3",{"$f":"'PP5'!$G$63","v":0},"#'PP5'!$G$63"]
["pp5_pe_ga1",{"$f":"'PP5'!$G$46","v":0},"#'PP5'!$G$46"]
["pp5_pe_ga2",{"$f":"'PP5'!$G$54","v":0},"#'PP5'!$G$54"]
["pp5_pe_ga3",{"$f":"'PP5'!$G$62","v":0},"#'PP5'!$G$62"]
["pp5_pe_ip1",{"$f":"'PP5'!$C$43","v":0},"#'PP5'!$C$43"]
["pp5_pe_ip2",{"$f":"'PP5'!$C$51","v":0},"#'PP5'!$C$51"]
["pp5_pe_ip3",{"$f":"'PP5'!$C$59","v":0},"#'PP5'!$C$59"]
["pp5_pe_or1",{"$f":"'PP5'!$C$47","v":0},"#'PP5'!$C$47"]
["pp5_pe_or2",{"$f":"'PP5'!$C$55","v":0},"#'PP5'!$C$55"]
["pp5_pe_or3",{"$f":"'PP5'!$C$63","v":0},"#'PP5'!$C$63"]
["pp5_pe_pt1",{"$f":"'PP5'!$C$44","v":0},"#'PP5'!$C$44"]
["pp5_pe_pt2",{"$f":"'PP5'!$C$52","v":0},"#'PP5'!$C$52"]
["pp5_pe_pt3",{"$f":"'PP5'!$C$60","v":0},"#'PP5'!$C$60"]
["pp5_pe_sd1",{"$f":"'PP5'!$C$45","v":0},"#'PP5'!$C$45"]
["pp5_pe_sd2",{"$f":"'PP5'!$C$53","v":0},"#'PP5'!$C$53"]
["pp5_pe_sd3",{"$f":"'PP5'!$C$61","v":0},"#'PP5'!$C$61"]
["pp5_pe_tev1",{"$f":"'PP5'!$C$46","v":0},"#'PP5'!$C$46"]
["pp5_pe_tev2",{"$f":"'PP5'!$C$54","v":0},"#'PP5'!$C$54"]
["pp5_pe_tev3",{"$f":"'PP5'!$C$62","v":0},"#'PP5'!$C$62"]
["pp5_phone",{"$f":"'PP5'!$C$27","v":0},"#'PP5'!$C$27"]
["pp5_post_code",{"$f":"'PP5'!$C$21","v":0},"#'PP5'!$C$21"]
["pp5_town",{"$f":"'PP5'!$C$17","v":0},"#'PP5'!$C$17"]
["pp5_type_org",{"$f":"'PP5'!$C$11","v":0},"#'PP5'!$C$11"]
["pp5_vat_code",{"$f":"'PP5'!$C$72","v":0},"#'PP5'!$C$72"]
["pp5_website",{"$f":"'PP5'!$C$33","v":0},"#'PP5'!$C$33"]
["Project identification'!Print_Area",{"$f":"'Project identification'!$A:$K","v":0},"#'Project identification'!$A:$K"]
["Table 5-Sources'!Print_Area",{"$f":"'Table 5-Sources'!$A$1:$H$32","v":{"$error":"#VALUE!"}},"#'Table 5-Sources'!$A$1:$H$32"]
["priority_axis",{"$f":"Cover!$C$30","v":"Environment"},"#Cover!$C$30"]
["project_activities_out",{"$f":"'Project identification'!$B$386","v":0},"#'Project identification'!$B$386"]
["project_title",{"$f":"Cover!$C$28","v":0},"#Cover!$C$28"]
["project_type",{"$f":"Cover!$C$34","v":"Investment"},"#Cover!$C$34"]
["PP2'!Region1",{"$f":"'PP2'!$L$15:$L$18","v":{"$error":"#VALUE!"}},"#'PP2'!$L$15:$L$18"]
["PP3'!Region1",{"$f":"'PP3'!$L$15:$L$18","v":{"$error":"#VALUE!"}},"#'PP3'!$L$15:$L$18"]
["PP4'!Region1",{"$f":"'PP4'!$L$15:$L$18","v":{"$error":"#VALUE!"}},"#'PP4'!$L$15:$L$18"]
["PP5'!Region1",{"$f":"'PP5'!$L$15:$L$18","v":{"$error":"#VALUE!"}},"#'PP5'!$L$15:$L$18"]
["Region1",{"$f":"'PP1(LP)'!$L$15:$L$18","v":{"$error":"#VALUE!"}},"#'PP1(LP)'!$L$15:$L$18"]
["PP2'!Region2",{"$f":"'PP2'!$M$15:$M$17","v":{"$error":"#VALUE!"}},"#'PP2'!$M$15:$M$17"]
["PP3'!Region2",{"$f":"'PP3'!$M$15:$M$17","v":{"$error":"#VALUE!"}},"#'PP3'!$M$15:$M$17"]
["PP4'!Region2",{"$f":"'PP4'!$M$15:$M$17","v":{"$error":"#VALUE!"}},"#'PP4'!$M$15:$M$17"]
["PP5'!Region2",{"$f":"'PP5'!$M$15:$M$17","v":{"$error":"#VALUE!"}},"#'PP5'!$M$15:$M$17"]
["Region2",{"$f":"'PP1(LP)'!$M$15:$M$17","v":{"$error":"#VALUE!"}},"#'PP1(LP)'!$M$15:$M$17"]
["select_partner",{"$f":"Checklist!$K$22:$K$23","v":{"$error":"#VALUE!"}},"#Checklist!$K$22:$K$23"]
["smr_duration_bg",{"$f":"Summary!$B$26","v":0},"#Summary!$B$26"]
["smr_duration_en",{"$f":"Summary!$B$8","v":0},"#Summary!$B$8"]
["smr_duration_tr",{"$f":"Summary!$B$46","v":0},"#Summary!$B$46"]
["smr_lead_partner_bg",{"$f":"Summary!$B$22","v":0},"#Summary!$B$22"]
["smr_lead_partner_en",{"$f":"Summary!$B$4","v":0},"#Summary!$B$4"]
["smr_lead_partner_tr",{"$f":"Summary!$B$41","v":0},"#Summary!$B$41"]
["smr_partners_bg",{"$f":"Summary!$B$23","v":0},"#Summary!$B$23"]
["smr_partners_en",{"$f":"Summary!$B$5","v":0},"#Summary!$B$5"]
["smr_partners_tr",{"$f":"Summary!$B$43","v":0},"#Summary!$B$43"]
["smr_priority_axis_bg",{"$f":"Summary!$B$24","v":0},"#Summary!$B$24"]
["smr_priority_axis_en",{"$f":"Summary!$B$6","v":0},"#Summary!$B$6"]
["smr_priority_axis_tr",{"$f":"Summary!$B$44","v":0},"#Summary!$B$44"]
["smr_project_activities_bg",{"$f":"Summary!$B$31","v":0},"#Summary!$B$31"]
["smr_project_activities_en",{"$f":"Summary!$B$11","v":0},"#Summary!$B$11"]
["smr_project_activities_tr",{"$f":"Summary!$B$50","v":0},"#Summary!$B$50"]
["smr_project_objectives_bg",{"$f":"Summary!$B$30","v":0},"#Summary!$B$30"]
["smr_project_objectives_en",{"$f":"Summary!$B$10","v":0},"#Summary!$B$10"]
["smr_project_objectives_tr",{"$f":"Summary!$B$49","v":0},"#Summary!$B$49"]
["smr_project_Results_bg",{"$f":"Summary!$B$32","v":0},"#Summary!$B$32"]
["smr_project_Results_en",{"$f":"Summary!$B$13","v":0},"#Summary!$B$13"]
["smr_project_Results_tr",{"$f":"Summary!$B$52","v":0},"#Summary!$B$52"]
["smr_specific_objective_bg",{"$f":"Summary!$B$25","v":0},"#Summary!$B$25"]
["smr_specific_objective_en",{"$f":"Summary!$B$7","v":0},"#Summary!$B$7"]
["smr_specific_objective_tr",{"$f":"Summary!$B$45","v":0},"#Summary!$B$45"]
["smr_target_groups_bg",{"$f":"Summary!$B$34","v":0},"#Summary!$B$34"]
["smr_target_groups_en",{"$f":"Summary!$B$15","v":0},"#Summary!$B$15"]
["smr_target_groups_tr",{"$f":"Summary!$B$54","v":0},"#Summary!$B$54"]
["smr_title_bg",{"$f":"Summary!$B$21","v":0},"#Summary!$B$21"]
["smr_title_en",{"$f":"Summary!$B$3","v":0},"#Summary!$B$3"]
["smr_title_tr",{"$f":"Summary!$B$40","v":"Bizim Ortak Tarihimiz"},"#Summary!$B$40"]
["smr_total_budget_bg",{"$f":"Summary!$B$28","v":0},"#Summary!$B$28"]
["smr_total_budget_en",{"$f":"Summary!$B$9","v":0},"#Summary!$B$9"]
["smr_total_budget_tr",{"$f":"Summary!$B$48","v":0},"#Summary!$B$48"]
["specific_objective",{"$f":"Cover!$C$32","v":"1.2. Improving the capacity for nature protection, sustainable use and management of common natural resources through cooperation initiatives in the  cross-border area"},"#Cover!$C$32"]
["t1_pp_1_proj_total",{"$f":"'T1-PPs'!$E$6","v":0},"#'T1-PPs'!$E$6"]
["t1_pp_2_proj_total",{"$f":"'T1-PPs'!$E$7","v":0},"#'T1-PPs'!$E$7"]
["t1_pp_3_proj_total",{"$f":"'T1-PPs'!$E$8","v":0},"#'T1-PPs'!$E$8"]
["t1_pp_4_proj_total",{"$f":"'T1-PPs'!$E$9","v":0},"#'T1-PPs'!$E$9"]
["t1_pp_5_proj_total",{"$f":"'T1-PPs'!$E$10","v":0},"#'T1-PPs'!$E$10"]
["t1_pp1_country",{"$f":"'T1-PPs'!$D$6","v":"BG"},"#'T1-PPs'!$D$6"]
["t1_pp1_organisation_en",{"$f":"'T1-PPs'!$C$6","v":""},"#'T1-PPs'!$C$6"]
["t1_pp2_country",{"$f":"'T1-PPs'!$D$7","v":"TR"},"#'T1-PPs'!$D$7"]
["t1_pp2_organisation_en",{"$f":"'T1-PPs'!$C$7","v":""},"#'T1-PPs'!$C$7"]
["t1_pp3_country",{"$f":"'T1-PPs'!$D$8","v":"TR"},"#'T1-PPs'!$D$8"]
["t1_pp3_organisation_en",{"$f":"'T1-PPs'!$C$8","v":""},"#'T1-PPs'!$C$8"]
["t1_pp4_country",{"$f":"'T1-PPs'!$D$9","v":"BG"},"#'T1-PPs'!$D$9"]
["t1_pp4_organisation_en",{"$f":"'T1-PPs'!$C$9","v":""},"#'T1-PPs'!$C$9"]
["t1_pp5_country",{"$f":"'T1-PPs'!$D$10","v":"TR"},"#'T1-PPs'!$D$10"]
["t1_pp5_organisation_en",{"$f":"'T1-PPs'!$C$10","v":""},"#'T1-PPs'!$C$10"]
["t1_proj_total",{"$f":"'T1-PPs'!$E$11","v":0},"#'T1-PPs'!$E$11"]
["t2_Bl1",{"$f":"'Table 2-total'!$D$4","v":0},"#'Table 2-total'!$D$4"]
["t2_Bl1_perc",{"$f":"'Table 2-total'!$E$4","v":{"$error":"#DIV/0!"}},"#'Table 2-total'!$E$4"]
["t2_Bl2",{"$f":"'Table 2-total'!$D$7","v":0},"#'Table 2-total'!$D$7"]
["t2_Bl2_perc",{"$f":"'Table 2-total'!$E$7","v":{"$error":"#DIV/0!"}},"#'Table 2-total'!$E$7"]
["t2_Bl3",{"$f":"'Table 2-total'!$D$14","v":0},"#'Table 2-total'!$D$14"]
["t2_Bl3_1",{"$f":"'Table 2-total'!$D$10","v":0},"#'Table 2-total'!$D$10"]
["t2_Bl3_1_in_area",{"$f":"'Table 2-total'!$B$10","v":0},"#'Table 2-total'!$B$10"]
["t2_Bl3_1_out_area",{"$f":"'Table 2-total'!$C$10","v":0},"#'Table 2-total'!$C$10"]
["t2_Bl3_1_perc",{"$f":"'Table 2-total'!$E$10","v":{"$error":"#DIV/0!"}},"#'Table 2-total'!$E$10"]
["t2_Bl3_2",{"$f":"'Table 2-total'!$D$11","v":0},"#'Table 2-total'!$D$11"]
["t2_Bl3_2_in_area",{"$f":"'Table 2-total'!$B$11","v":0},"#'Table 2-total'!$B$11"]
["t2_Bl3_2_out_area",{"$f":"'Table 2-total'!$C$11","v":0},"#'Table 2-total'!$C$11"]
["t2_Bl3_2_perc",{"$f":"'Table 2-total'!$E$11","v":{"$error":"#DIV/0!"}},"#'Table 2-total'!$E$11"]
["t2_Bl3_3",{"$f":"'Table 2-total'!$D$12","v":0},"#'Table 2-total'!$D$12"]
["t2_Bl3_3_in_area",{"$f":"'Table 2-total'!$B$12","v":0},"#'Table 2-total'!$B$12"]
["t2_Bl3_3_out_area",{"$f":"'Table 2-total'!$C$12","v":0},"#'Table 2-total'!$C$12"]
["t2_Bl3_3_perc",{"$f":"'Table 2-total'!$E$12","v":{"$error":"#DIV/0!"}},"#'Table 2-total'!$E$12"]
["t2_Bl3_4",{"$f":"'Table 2-total'!$D$13","v":0},"#'Table 2-total'!$D$13"]
["t2_Bl3_4_in_area",{"$f":"'Table 2-total'!$B$13","v":0},"#'Table 2-total'!$B$13"]
["t2_Bl3_4_out_area",{"$f":"'Table 2-total'!$C$13","v":0},"#'Table 2-total'!$C$13"]
["t2_Bl3_4_perc",{"$f":"'Table 2-total'!$E$13","v":{"$error":"#DIV/0!"}},"#'Table 2-total'!$E$13"]
["t2_Bl3_in_area",{"$f":"'Table 2-total'!$B$14","v":0},"#'Table 2-total'!$B$14"]
["t2_Bl3_out_area",{"$f":"'Table 2-total'!$C$14","v":0},"#'Table 2-total'!$C$14"]
["t2_Bl3_perc",{"$f":"'Table 2-total'!$E$14","v":{"$error":"#DIV/0!"}},"#'Table 2-total'!$E$14"]
["t2_Bl4",{"$f":"'Table 2-total'!$D$29","v":0},"#'Table 2-total'!$D$29"]
["t2_Bl4_1",{"$f":"'Table 2-total'!$D$17","v":0},"#'Table 2-total'!$D$17"]
["t2_Bl4_1_in_area",{"$f":"'Table 2-total'!$B$17","v":0},"#'Table 2-total'!$B$17"]
["t2_Bl4_1_out_area",{"$f":"'Table 2-total'!$C$17","v":0},"#'Table 2-total'!$C$17"]
["t2_Bl4_1_perc",{"$f":"'Table 2-total'!$E$17","v":{"$error":"#DIV/0!"}},"#'Table 2-total'!$E$17"]
["t2_Bl4_10",{"$f":"'Table 2-total'!$D$26","v":0},"#'Table 2-total'!$D$26"]
["t2_Bl4_10_in_area",{"$f":"'Table 2-total'!$B$26","v":0},"#'Table 2-total'!$B$26"]
["t2_Bl4_10_out_area",{"$f":"'Table 2-total'!$C$26","v":0},"#'Table 2-total'!$C$26"]
["t2_Bl4_10_perc",{"$f":"'Table 2-total'!$E$26","v":{"$error":"#DIV/0!"}},"#'Table 2-total'!$E$26"]
["t2_Bl4_11",{"$f":"'Table 2-total'!$D$27","v":0},"#'Table 2-total'!$D$27"]
["t2_Bl4_11_in_area",{"$f":"'Table 2-total'!$B$27","v":0},"#'Table 2-total'!$B$27"]
["t2_Bl4_11_out_area",{"$f":"'Table 2-total'!$C$27","v":0},"#'Table 2-total'!$C$27"]
["t2_Bl4_11_perc",{"$f":"'Table 2-total'!$E$27","v":{"$error":"#DIV/0!"}},"#'Table 2-total'!$E$27"]
["t2_Bl4_12",{"$f":"'Table 2-total'!$D$28","v":0},"#'Table 2-total'!$D$28"]
["t2_Bl4_12_in_area",{"$f":"'Table 2-total'!$B$28","v":0},"#'Table 2-total'!$B$28"]
["t2_Bl4_12_out_area",{"$f":"'Table 2-total'!$C$28","v":0},"#'Table 2-total'!$C$28"]
["t2_Bl4_12_perc",{"$f":"'Table 2-total'!$E$28","v":{"$error":"#DIV/0!"}},"#'Table 2-total'!$E$28"]
["t2_Bl4_13",{"$f":"'Table 2-total'!#REF!","v":{"$error":"#REF!"}},"#'Table 2-total'!#REF!"]
["t2_Bl4_13_in_area",{"$f":"'Table 2-total'!#REF!","v":{"$error":"#REF!"}},"#'Table 2-total'!#REF!"]
["t2_Bl4_13_out_area",{"$f":"'Table 2-total'!#REF!","v":{"$error":"#REF!"}},"#'Table 2-total'!#REF!"]
["t2_Bl4_13_perc",{"$f":"'Table 2-total'!#REF!","v":{"$error":"#REF!"}},"#'Table 2-total'!#REF!"]
["t2_Bl4_2",{"$f":"'Table 2-total'!$D$18","v":0},"#'Table 2-total'!$D$18"]
["t2_Bl4_2_in_area",{"$f":"'Table 2-total'!$B$18","v":0},"#'Table 2-total'!$B$18"]
["t2_Bl4_2_out_area",{"$f":"'Table 2-total'!$C$18","v":0},"#'Table 2-total'!$C$18"]
["t2_Bl4_2_perc",{"$f":"'Table 2-total'!$E$18","v":{"$error":"#DIV/0!"}},"#'Table 2-total'!$E$18"]
["t2_Bl4_3",{"$f":"'Table 2-total'!$D$19","v":0},"#'Table 2-total'!$D$19"]
["t2_Bl4_3_in_area",{"$f":"'Table 2-total'!$B$19","v":0},"#'Table 2-total'!$B$19"]
["t2_Bl4_3_out_area",{"$f":"'Table 2-total'!$C$19","v":0},"#'Table 2-total'!$C$19"]
["t2_Bl4_3_perc",{"$f":"'Table 2-total'!$E$19","v":{"$error":"#DIV/0!"}},"#'Table 2-total'!$E$19"]
["t2_Bl4_4",{"$f":"'Table 2-total'!$D$20","v":0},"#'Table 2-total'!$D$20"]
["t2_Bl4_4_in_area",{"$f":"'Table 2-total'!$B$20","v":0},"#'Table 2-total'!$B$20"]
["t2_Bl4_4_out_area",{"$f":"'Table 2-total'!$C$20","v":0},"#'Table 2-total'!$C$20"]
["t2_Bl4_4_perc",{"$f":"'Table 2-total'!$E$20","v":{"$error":"#DIV/0!"}},"#'Table 2-total'!$E$20"]
["t2_Bl4_5",{"$f":"'Table 2-total'!$D$21","v":0},"#'Table 2-total'!$D$21"]
["t2_Bl4_5_in_area",{"$f":"'Table 2-total'!$B$21","v":0},"#'Table 2-total'!$B$21"]
["t2_Bl4_5_out_area",{"$f":"'Table 2-total'!$C$21","v":0},"#'Table 2-total'!$C$21"]
["t2_Bl4_5_perc",{"$f":"'Table 2-total'!$E$21","v":{"$error":"#DIV/0!"}},"#'Table 2-total'!$E$21"]
["t2_Bl4_6",{"$f":"'Table 2-total'!$D$22","v":0},"#'Table 2-total'!$D$22"]
["t2_Bl4_6_in_area",{"$f":"'Table 2-total'!$B$22","v":0},"#'Table 2-total'!$B$22"]
["t2_Bl4_6_out_area",{"$f":"'Table 2-total'!$C$22","v":0},"#'Table 2-total'!$C$22"]
["t2_Bl4_6_perc",{"$f":"'Table 2-total'!$E$22","v":{"$error":"#DIV/0!"}},"#'Table 2-total'!$E$22"]
["t2_Bl4_7",{"$f":"'Table 2-total'!$D$23","v":0},"#'Table 2-total'!$D$23"]
["t2_Bl4_7_in_area",{"$f":"'Table 2-total'!$B$23","v":0},"#'Table 2-total'!$B$23"]
["t2_Bl4_7_out_area",{"$f":"'Table 2-total'!$C$23","v":0},"#'Table 2-total'!$C$23"]
["t2_Bl4_7_perc",{"$f":"'Table 2-total'!$E$23","v":{"$error":"#DIV/0!"}},"#'Table 2-total'!$E$23"]
["t2_Bl4_8",{"$f":"'Table 2-total'!$D$24","v":0},"#'Table 2-total'!$D$24"]
["t2_Bl4_8_in_area",{"$f":"'Table 2-total'!$B$24","v":0},"#'Table 2-total'!$B$24"]
["t2_Bl4_8_out_area",{"$f":"'Table 2-total'!$C$24","v":0},"#'Table 2-total'!$C$24"]
["t2_Bl4_8_perc",{"$f":"'Table 2-total'!$E$24","v":{"$error":"#DIV/0!"}},"#'Table 2-total'!$E$24"]
["t2_Bl4_9",{"$f":"'Table 2-total'!$D$25","v":0},"#'Table 2-total'!$D$25"]
["t2_Bl4_9_in_area",{"$f":"'Table 2-total'!$B$25","v":0},"#'Table 2-total'!$B$25"]
["t2_Bl4_9_out_area",{"$f":"'Table 2-total'!$C$25","v":0},"#'Table 2-total'!$C$25"]
["t2_Bl4_9_perc",{"$f":"'Table 2-total'!$E$25","v":{"$error":"#DIV/0!"}},"#'Table 2-total'!$E$25"]
["t2_Bl4_in_area",{"$f":"'Table 2-total'!$B$29","v":0},"#'Table 2-total'!$B$29"]
["t2_Bl4_out_area",{"$f":"'Table 2-total'!$C$29","v":0},"#'Table 2-total'!$C$29"]
["t2_Bl4_perc",{"$f":"'Table 2-total'!$E$29","v":{"$error":"#DIV/0!"}},"#'Table 2-total'!$E$29"]
["t2_Bl5",{"$f":"'Table 2-total'!$D$34","v":0},"#'Table 2-total'!$D$34"]
["t2_Bl5_1",{"$f":"'Table 2-total'!$D$32","v":0},"#'Table 2-total'!$D$32"]
["t2_Bl5_1_in_area",{"$f":"'Table 2-total'!$B$32","v":0},"#'Table 2-total'!$B$32"]
["t2_Bl5_1_out_area",{"$f":"'Table 2-total'!$C$32","v":0},"#'Table 2-total'!$C$32"]
["t2_Bl5_1_perc",{"$f":"'Table 2-total'!$E$32","v":{"$error":"#DIV/0!"}},"#'Table 2-total'!$E$32"]
["t2_Bl5_2",{"$f":"'Table 2-total'!$D$33","v":0},"#'Table 2-total'!$D$33"]
["t2_Bl5_2_in_area",{"$f":"'Table 2-total'!$B$33","v":0},"#'Table 2-total'!$B$33"]
["t2_Bl5_2_out_area",{"$f":"'Table 2-total'!$C$33","v":0},"#'Table 2-total'!$C$33"]
["t2_Bl5_2_perc",{"$f":"'Table 2-total'!$E$34","v":{"$error":"#DIV/0!"}},"#'Table 2-total'!$E$34"]
["t2_Bl5_in_area",{"$f":"'Table 2-total'!$B$34","v":0},"#'Table 2-total'!$B$34"]
["t2_Bl5_out_area",{"$f":"'Table 2-total'!$C$34","v":0},"#'Table 2-total'!$C$34"]
["t2_Bl5_perc",{"$f":"'Table 2-total'!$E$33","v":{"$error":"#DIV/0!"}},"#'Table 2-total'!$E$33"]
["t2_Bl6",{"$f":"'Table 2-total'!$D$39","v":0},"#'Table 2-total'!$D$39"]
["t2_Bl6_1",{"$f":"'Table 2-total'!$D$37","v":0},"#'Table 2-total'!$D$37"]
["t2_Bl6_1_in_area",{"$f":"'Table 2-total'!$B$37","v":0},"#'Table 2-total'!$B$37"]
["t2_Bl6_1_out_area",{"$f":"'Table 2-total'!$C$37","v":0},"#'Table 2-total'!$C$37"]
["t2_Bl6_1_perc",{"$f":"'Table 2-total'!$E$37","v":{"$error":"#DIV/0!"}},"#'Table 2-total'!$E$37"]
["t2_Bl6_2",{"$f":"'Table 2-total'!$D$38","v":0},"#'Table 2-total'!$D$38"]
["t2_Bl6_2_in_area",{"$f":"'Table 2-total'!$B$38","v":0},"#'Table 2-total'!$B$38"]
["t2_Bl6_2_out_area",{"$f":"'Table 2-total'!$C$38","v":0},"#'Table 2-total'!$C$38"]
["t2_Bl6_2_perc",{"$f":"'Table 2-total'!$E$38","v":{"$error":"#DIV/0!"}},"#'Table 2-total'!$E$38"]
["t2_Bl6_in_area",{"$f":"'Table 2-total'!$B$39","v":0},"#'Table 2-total'!$B$39"]
["t2_Bl6_out_area",{"$f":"'Table 2-total'!$C$39","v":0},"#'Table 2-total'!$C$39"]
["t2_Bl6_perc",{"$f":"'Table 2-total'!$E$39","v":{"$error":"#DIV/0!"}},"#'Table 2-total'!$E$39"]
["t2_own",{"$f":"'Table 2-total'!$D$41","v":0},"#'Table 2-total'!$D$41"]
["t2_own_in_area",{"$f":"'Table 2-total'!$B$41","v":0},"#'Table 2-total'!$B$41"]
["t2_own_perc",{"$f":"'Table 2-total'!$E$41","v":{"$error":"#DIV/0!"}},"#'Table 2-total'!$E$41"]
["t2_t2_own_out_area",{"$f":"'Table 2-total'!$C$41","v":0},"#'Table 2-total'!$C$41"]
["t2_total",{"$f":"'Table 2-total'!$D$45","v":0},"#'Table 2-total'!$D$45"]
["t2_total_direct",{"$f":"'Table 2-total'!$D$43","v":0},"#'Table 2-total'!$D$43"]
["t2_total_direct_in_area",{"$f":"'Table 2-total'!$B$43","v":0},"#'Table 2-total'!$B$43"]
["t2_total_direct_out_area",{"$f":"'Table 2-total'!$C$43","v":0},"#'Table 2-total'!$C$43"]
["t2_total_direct_perc",{"$f":"'Table 2-total'!$E$43","v":{"$error":"#DIV/0!"}},"#'Table 2-total'!$E$43"]
["t2_total_in_area",{"$f":"'Table 2-total'!$B$45","v":0},"#'Table 2-total'!$B$45"]
["t2_total_out_area",{"$f":"'Table 2-total'!$C$45","v":0},"#'Table 2-total'!$C$45"]
["t2_total_perc",{"$f":"'Table 2-total'!$E$45","v":0},"#'Table 2-total'!$E$45"]
["t3_BL1_in_area",{"$f":"'Table 3-summary'!$C$5","v":0},"#'Table 3-summary'!$C$5"]
["t3_BL1_tot",{"$f":"'Table 3-summary'!$E$5","v":0},"#'Table 3-summary'!$E$5"]
["t3_BL1_tot_perc",{"$f":"'Table 3-summary'!$F$5","v":{"$error":"#DIV/0!"}},"#'Table 3-summary'!$F$5"]
["t3_BL2_in_area",{"$f":"'Table 3-summary'!$C$6","v":0},"#'Table 3-summary'!$C$6"]
["t3_BL2_tot",{"$f":"'Table 3-summary'!$E$6","v":0},"#'Table 3-summary'!$E$6"]
["t3_BL2_tot_perc",{"$f":"'Table 3-summary'!$F$6","v":{"$error":"#DIV/0!"}},"#'Table 3-summary'!$F$6"]
["t3_BL3_in_area",{"$f":"'Table 3-summary'!$C$7","v":0},"#'Table 3-summary'!$C$7"]
["t3_BL3_out_area",{"$f":"'Table 3-summary'!$D$7","v":0},"#'Table 3-summary'!$D$7"]
["t3_BL3_tot",{"$f":"'Table 3-summary'!$E$7","v":0},"#'Table 3-summary'!$E$7"]
["t3_BL3_tot_perc",{"$f":"'Table 3-summary'!$F$7","v":{"$error":"#DIV/0!"}},"#'Table 3-summary'!$F$7"]
["t3_BL4_in_area",{"$f":"'Table 3-summary'!$C$8","v":0},"#'Table 3-summary'!$C$8"]
["t3_BL4_out_area",{"$f":"'Table 3-summary'!$D$8","v":0},"#'Table 3-summary'!$D$8"]
["t3_BL4_tot",{"$f":"'Table 3-summary'!$E$8","v":0},"#'Table 3-summary'!$E$8"]
["t3_BL4_tot_perc",{"$f":"'Table 3-summary'!$F$8","v":{"$error":"#DIV/0!"}},"#'Table 3-summary'!$F$8"]
["t3_BL5_in_area",{"$f":"'Table 3-summary'!$C$9","v":0},"#'Table 3-summary'!$C$9"]
["t3_BL5_tot",{"$f":"'Table 3-summary'!$E$9","v":0},"#'Table 3-summary'!$E$9"]
["t3_BL5_tot_perc",{"$f":"'Table 3-summary'!$F$9","v":{"$error":"#DIV/0!"}},"#'Table 3-summary'!$F$9"]
["t3_BL6_in_area",{"$f":"'Table 3-summary'!$C$10","v":0},"#'Table 3-summary'!$C$10"]
["t3_BL6_tot",{"$f":"'Table 3-summary'!$E$10","v":0},"#'Table 3-summary'!$E$10"]
["t3_BL6_tot_perc",{"$f":"'Table 3-summary'!$F$10","v":{"$error":"#DIV/0!"}},"#'Table 3-summary'!$F$10"]
["t3_own_in_area",{"$f":"'Table 3-summary'!$C$13","v":0},"#'Table 3-summary'!$C$13"]
["t3_own_out_area",{"$f":"'Table 3-summary'!$D$13","v":0},"#'Table 3-summary'!$D$13"]
["t3_own_tot",{"$f":"'Table 3-summary'!$E$13","v":0},"#'Table 3-summary'!$E$13"]
["t3_own_tot_perc",{"$f":"'Table 3-summary'!$F$13","v":0},"#'Table 3-summary'!$F$13"]
["t3_total_in_area",{"$f":"'Table 3-summary'!$C$11","v":0},"#'Table 3-summary'!$C$11"]
["t3_total_out_area",{"$f":"'Table 3-summary'!$D$11","v":0},"#'Table 3-summary'!$D$11"]
["t3_total_perc_in_area",{"$f":"'Table 3-summary'!$C$15","v":0},"#'Table 3-summary'!$C$15"]
["t3_total_perc_out_area",{"$f":"'Table 3-summary'!$D$15","v":0},"#'Table 3-summary'!$D$15"]
["t3_total_perc_tot",{"$f":"'Table 3-summary'!$E$15","v":0},"#'Table 3-summary'!$E$15"]
["t3_total_perc_tot_perc",{"$f":"'Table 3-summary'!$F$15","v":0},"#'Table 3-summary'!$F$15"]
["t3_total_tot",{"$f":"'Table 3-summary'!$E$11","v":0},"#'Table 3-summary'!$E$11"]
["t3_total_tot_perc",{"$f":"'Table 3-summary'!$F$11","v":0},"#'Table 3-summary'!$F$11"]
["t4_BL1",{"$f":"'Table 4 PP`BL'!$H$4","v":0},"#'Table 4 PP`BL'!$H$4"]
["t4_BL1_pp1",{"$f":"'Table 4 PP`BL'!$C$4","v":0},"#'Table 4 PP`BL'!$C$4"]
["t4_BL1_pp2",{"$f":"'Table 4 PP`BL'!$D$4","v":0},"#'Table 4 PP`BL'!$D$4"]
["t4_BL1_pp3",{"$f":"'Table 4 PP`BL'!$E$4","v":0},"#'Table 4 PP`BL'!$E$4"]
["t4_BL1_pp4",{"$f":"'Table 4 PP`BL'!$F$4","v":0},"#'Table 4 PP`BL'!$F$4"]
["t4_BL1_pp5",{"$f":"'Table 4 PP`BL'!$G$4","v":0},"#'Table 4 PP`BL'!$G$4"]
["t4_BL2",{"$f":"'Table 4 PP`BL'!$H$5","v":0},"#'Table 4 PP`BL'!$H$5"]
["t4_BL2_pp1",{"$f":"'Table 4 PP`BL'!$C$5","v":0},"#'Table 4 PP`BL'!$C$5"]
["t4_BL2_pp2",{"$f":"'Table 4 PP`BL'!$D$5","v":0},"#'Table 4 PP`BL'!$D$5"]
["t4_BL2_pp3",{"$f":"'Table 4 PP`BL'!$E$5","v":0},"#'Table 4 PP`BL'!$E$5"]
["t4_BL2_pp4",{"$f":"'Table 4 PP`BL'!$F$5","v":0},"#'Table 4 PP`BL'!$F$5"]
["t4_BL2_pp5",{"$f":"'Table 4 PP`BL'!$G$5","v":0},"#'Table 4 PP`BL'!$G$5"]
["t4_BL3",{"$f":"'Table 4 PP`BL'!$H$6","v":0},"#'Table 4 PP`BL'!$H$6"]
["t4_BL3_pp1",{"$f":"'Table 4 PP`BL'!$C$6","v":0},"#'Table 4 PP`BL'!$C$6"]
["t4_BL3_pp2",{"$f":"'Table 4 PP`BL'!$D$6","v":0},"#'Table 4 PP`BL'!$D$6"]
["t4_BL3_pp3",{"$f":"'Table 4 PP`BL'!$E$6","v":0},"#'Table 4 PP`BL'!$E$6"]
["t4_BL3_pp4",{"$f":"'Table 4 PP`BL'!$F$6","v":0},"#'Table 4 PP`BL'!$F$6"]
["t4_BL3_pp5",{"$f":"'Table 4 PP`BL'!$G$6","v":0},"#'Table 4 PP`BL'!$G$6"]
["t4_BL4",{"$f":"'Table 4 PP`BL'!$H$7","v":0},"#'Table 4 PP`BL'!$H$7"]
["t4_BL4_pp1",{"$f":"'Table 4 PP`BL'!$C$7","v":0},"#'Table 4 PP`BL'!$C$7"]
["t4_BL4_pp2",{"$f":"'Table 4 PP`BL'!$D$7","v":0},"#'Table 4 PP`BL'!$D$7"]
["t4_BL4_pp3",{"$f":"'Table 4 PP`BL'!$E$7","v":0},"#'Table 4 PP`BL'!$E$7"]
["t4_BL4_pp4",{"$f":"'Table 4 PP`BL'!$F$7","v":0},"#'Table 4 PP`BL'!$F$7"]
["t4_BL4_pp5",{"$f":"'Table 4 PP`BL'!$G$7","v":0},"#'Table 4 PP`BL'!$G$7"]
["t4_BL5",{"$f":"'Table 4 PP`BL'!$H$8","v":0},"#'Table 4 PP`BL'!$H$8"]
["t4_BL5_pp1",{"$f":"'Table 4 PP`BL'!$C$8","v":0},"#'Table 4 PP`BL'!$C$8"]
["t4_BL5_pp2",{"$f":"'Table 4 PP`BL'!$D$8","v":0},"#'Table 4 PP`BL'!$D$8"]
["t4_BL5_pp3",{"$f":"'Table 4 PP`BL'!$E$8","v":0},"#'Table 4 PP`BL'!$E$8"]
["t4_BL5_pp4",{"$f":"'Table 4 PP`BL'!$F$8","v":0},"#'Table 4 PP`BL'!$F$8"]
["t4_BL5_pp5",{"$f":"'Table 4 PP`BL'!$G$8","v":0},"#'Table 4 PP`BL'!$G$8"]
["t4_BL6",{"$f":"'Table 4 PP`BL'!$H$9","v":0},"#'Table 4 PP`BL'!$H$9"]
["t4_BL6_pp1",{"$f":"'Table 4 PP`BL'!$C$9","v":0},"#'Table 4 PP`BL'!$C$9"]
["t4_BL6_pp2",{"$f":"'Table 4 PP`BL'!$D$9","v":0},"#'Table 4 PP`BL'!$D$9"]
["t4_BL6_pp3",{"$f":"'Table 4 PP`BL'!$E$9","v":0},"#'Table 4 PP`BL'!$E$9"]
["t4_BL6_pp4",{"$f":"'Table 4 PP`BL'!$F$9","v":0},"#'Table 4 PP`BL'!$F$9"]
["t4_BL6_pp5",{"$f":"'Table 4 PP`BL'!$G$9","v":0},"#'Table 4 PP`BL'!$G$9"]
["t4_own",{"$f":"'Table 4 PP`BL'!$H$10","v":0},"#'Table 4 PP`BL'!$H$10"]
["t4_own_pp1",{"$f":"'Table 4 PP`BL'!$C$10","v":0},"#'Table 4 PP`BL'!$C$10"]
["t4_own_pp2",{"$f":"'Table 4 PP`BL'!$D$10","v":0},"#'Table 4 PP`BL'!$D$10"]
["t4_own_pp3",{"$f":"'Table 4 PP`BL'!$E$10","v":0},"#'Table 4 PP`BL'!$E$10"]
["t4_own_pp4",{"$f":"'Table 4 PP`BL'!$F$10","v":0},"#'Table 4 PP`BL'!$F$10"]
["t4_own_pp5",{"$f":"'Table 4 PP`BL'!$G$10","v":0},"#'Table 4 PP`BL'!$G$10"]
["t4_total",{"$f":"'Table 4 PP`BL'!$H$11","v":0},"#'Table 4 PP`BL'!$H$11"]
["t4_total_perc",{"$f":"'Table 4 PP`BL'!$H$12","v":0},"#'Table 4 PP`BL'!$H$12"]
["t4_total_perc_pp1",{"$f":"'Table 4 PP`BL'!$C$12","v":{"$error":"#DIV/0!"}},"#'Table 4 PP`BL'!$C$12"]
["t4_total_perc_pp2",{"$f":"'Table 4 PP`BL'!$D$12","v":{"$error":"#DIV/0!"}},"#'Table 4 PP`BL'!$D$12"]
["t4_total_perc_pp3",{"$f":"'Table 4 PP`BL'!$E$12","v":{"$error":"#DIV/0!"}},"#'Table 4 PP`BL'!$E$12"]
["t4_total_perc_pp4",{"$f":"'Table 4 PP`BL'!$F$12","v":{"$error":"#DIV/0!"}},"#'Table 4 PP`BL'!$F$12"]
["t4_total_perc_pp5",{"$f":"'Table 4 PP`BL'!$G$12","v":{"$error":"#DIV/0!"}},"#'Table 4 PP`BL'!$G$12"]
["t4_total_pp1",{"$f":"'Table 4 PP`BL'!$C$11","v":0},"#'Table 4 PP`BL'!$C$11"]
["t4_total_pp2",{"$f":"'Table 4 PP`BL'!$D$11","v":0},"#'Table 4 PP`BL'!$D$11"]
["t4_total_pp3",{"$f":"'Table 4 PP`BL'!$E$11","v":0},"#'Table 4 PP`BL'!$E$11"]
["t4_total_pp4",{"$f":"'Table 4 PP`BL'!$F$11","v":0},"#'Table 4 PP`BL'!$F$11"]
["t4_total_pp5",{"$f":"'Table 4 PP`BL'!$G$11","v":0},"#'Table 4 PP`BL'!$G$11"]
["t5_eu_rate",{"$f":"'Table 5-Sources'!$G$9","v":{"$error":"#DIV/0!"}},"#'Table 5-Sources'!$G$9"]
["t5_eu_rate_pp1",{"$f":"'Table 5-Sources'!$B$9","v":{"$error":"#DIV/0!"}},"#'Table 5-Sources'!$B$9"]
["t5_eu_rate_pp2",{"$f":"'Table 5-Sources'!$C$9","v":{"$error":"#DIV/0!"}},"#'Table 5-Sources'!$C$9"]
["t5_eu_rate_pp3",{"$f":"'Table 5-Sources'!$D$9","v":{"$error":"#DIV/0!"}},"#'Table 5-Sources'!$D$9"]
["t5_eu_rate_pp4",{"$f":"'Table 5-Sources'!$E$9","v":{"$error":"#DIV/0!"}},"#'Table 5-Sources'!$E$9"]
["t5_eu_rate_pp5",{"$f":"'Table 5-Sources'!$F$9","v":{"$error":"#DIV/0!"}},"#'Table 5-Sources'!$F$9"]
["t5_eu_subsidy",{"$f":"'Table 5-Sources'!$G$10","v":0},"#'Table 5-Sources'!$G$10"]
["t5_eu_subsidy_pp1",{"$f":"'Table 5-Sources'!$B$10","v":0},"#'Table 5-Sources'!$B$10"]
["t5_eu_subsidy_pp2",{"$f":"'Table 5-Sources'!$C$10","v":0},"#'Table 5-Sources'!$C$10"]
["t5_eu_subsidy_pp3",{"$f":"'Table 5-Sources'!$D$10","v":0},"#'Table 5-Sources'!$D$10"]
["t5_eu_subsidy_pp4",{"$f":"'Table 5-Sources'!$E$10","v":0},"#'Table 5-Sources'!$E$10"]
["t5_eu_subsidy_pp5",{"$f":"'Table 5-Sources'!$F$10","v":0},"#'Table 5-Sources'!$F$10"]
["t5_national",{"$f":"'Table 5-Sources'!$G$6","v":0},"#'Table 5-Sources'!$G$6"]
["t5_national_pp1",{"$f":"'Table 5-Sources'!$B$6","v":0},"#'Table 5-Sources'!$B$6"]
["t5_national_pp2",{"$f":"'Table 5-Sources'!$C$6","v":0},"#'Table 5-Sources'!$C$6"]
["t5_national_pp3",{"$f":"'Table 5-Sources'!$D$6","v":0},"#'Table 5-Sources'!$D$6"]
["t5_national_pp4",{"$f":"'Table 5-Sources'!$E$6","v":0},"#'Table 5-Sources'!$E$6"]
["t5_national_pp5",{"$f":"'Table 5-Sources'!$F$6","v":0},"#'Table 5-Sources'!$F$6"]
["t5_own",{"$f":"'Table 5-Sources'!$G$8","v":0},"#'Table 5-Sources'!$G$8"]
["t5_own_pp1",{"$f":"'Table 5-Sources'!$B$8","v":0},"#'Table 5-Sources'!$B$8"]
["t5_own_pp2",{"$f":"'Table 5-Sources'!$C$8","v":0},"#'Table 5-Sources'!$C$8"]
["t5_own_pp3",{"$f":"'Table 5-Sources'!$D$8","v":0},"#'Table 5-Sources'!$D$8"]
["t5_own_pp4",{"$f":"'Table 5-Sources'!$E$8","v":0},"#'Table 5-Sources'!$E$8"]
["t5_own_pp5",{"$f":"'Table 5-Sources'!$F$8","v":0},"#'Table 5-Sources'!$F$8"]
["t5_state",{"$f":"'Table 5-Sources'!$G$7","v":0},"#'Table 5-Sources'!$G$7"]
["t5_state_pp1",{"$f":"'Table 5-Sources'!$B$7","v":0},"#'Table 5-Sources'!$B$7"]
["t5_state_pp2",{"$f":"'Table 5-Sources'!$C$7","v":0},"#'Table 5-Sources'!$C$7"]
["t5_state_pp3",{"$f":"'Table 5-Sources'!$D$7","v":0},"#'Table 5-Sources'!$D$7"]
["t5_state_pp4",{"$f":"'Table 5-Sources'!$E$7","v":0},"#'Table 5-Sources'!$E$7"]
["t5_state_pp5",{"$f":"'Table 5-Sources'!$F$7","v":0},"#'Table 5-Sources'!$F$7"]
["t5_total",{"$f":"'Table 5-Sources'!$G$5","v":0},"#'Table 5-Sources'!$G$5"]
["t5_total_pp1",{"$f":"'Table 5-Sources'!$B$5","v":0},"#'Table 5-Sources'!$B$5"]
["t5_total_pp2",{"$f":"'Table 5-Sources'!$C$5","v":0},"#'Table 5-Sources'!$C$5"]
["t5_total_pp3",{"$f":"'Table 5-Sources'!$D$5","v":0},"#'Table 5-Sources'!$D$5"]
["t5_total_pp4",{"$f":"'Table 5-Sources'!$E$5","v":0},"#'Table 5-Sources'!$E$5"]
["t5_total_pp5",{"$f":"'Table 5-Sources'!$F$5","v":0},"#'Table 5-Sources'!$F$5"]
["Cover!Tourism",{"$f":"Cover!$P$30:$P$32","v":{"$error":"#VALUE!"}},"#Cover!$P$30:$P$32"]
["Tourism",{"$f":"'Project identification'!$P$11:$P$13","v":{"$error":"#VALUE!"}},"#'Project identification'!$P$11:$P$13"]
["Cover!Tourism1",{"$f":"Cover!$O$41:$O$46","v":{"$error":"#VALUE!"}},"#Cover!$O$41:$O$46"]
["Type1",{"$f":"'Project identification'!$O$15","v":"Soft"},"#'Project identification'!$O$15"]
["Type2",{"$f":"'Project identification'!$P$15","v":"Investment"},"#'Project identification'!$P$15"]
["Type3",{"$f":"'Project identification'!$Q$15:$Q$16","v":{"$error":"#VALUE!"}},"#'Project identification'!$Q$15:$Q$16"]